{"text_format":"1","workbook":"xlsx","n_sheets":12,"sheets":["Inicio","Base","CHART-Geral","CHART-NUTIII-DE","CHART-NUTIII-GOP","CHART-OTE-DE","Sheet6","Sheet3","Sheet4","Ajuda","EspecificacoesOTE","ClassesAnimais"],"not_rendered":{"charts":10,"images":18,"macros":1,"external_links":1,"defined_names":20,"comments":0,"pivot_tables":0},"unopened":[],"bounds":{"document_bytes":16777216,"sheet_cells":100000,"rows_first":2000,"rows_last":500,"rows_between":2000,"halvings":0,"cell_chars":16384,"cell_head_chars":4096},"cells_cut":0,"cells_raw":0,"read":"whole","date_system":"1900"}

{"sheet":"Inicio","index":0,"n_rows":25,"n_cols":14,"rows_kept":25,"cut":false,"hidden":false,"merged":[[3,0,3,16]]}
[]
[null,null,null,null,null,null,null,null,null,null,null,null,null,"Fonte: GPP a partir de dados "]
[]
["Caracterização dos Apoios a Agricultores Portugueses no âmbito do Pedido Único da PAC - 2022"]
[]
[]
[]
[]
[]
["1. ","Seleccione a variável, o tipo de classes de dimensão e o grupo de produtores a representar:"]
[]
[]
[]
[]
["2. ","Visualize os gráficos respetivos:"]
[]
[]
[]
[]
[null,"Visualize a base de dados:"]
[]
[]
[]
[]
[null,"Copie os dados obtidos para um novo ficheiro:"]

{"sheet":"Base","index":1,"n_rows":82,"n_cols":123,"rows_kept":82,"cut":false,"hidden":true,"merged":[[44,117,44,122],[81,0,81,2],[72,0,72,2],[44,3,44,32],[44,33,44,62],[44,68,44,97],[44,98,44,116],[46,121,47,121],[46,122,47,122],[49,0,56,0],[57,0,64,0],[66,0,70,0],[46,116,47,116],[46,117,47,117],[46,118,47,118],[46,119,47,119],[46,120,47,120],[46,111,47,111],[46,112,47,112],[46,113,47,113],[46,114,47,114],[46,115,47,115],[46,105,47,105],[46,106,47,106],[46,48,46,52],[46,107,47,107],[46,108,47,108],[46,109,47,109],[46,100,47,100],[46,101,47,101],[46,102,47,102],[46,103,47,103],[46,104,47,104],[46,83,46,87],[46,88,46,92],[46,93,46,97],[46,98,47,98],[46,99,47,99],[46,63,46,67],[46,13,46,17],[46,18,46,22],[46,23,46,27],[3,3,3,5],[3,15,3,16],[3,13,3,14],[4,98,4,116],[7,58,7,62],[7,33,7,37],[7,38,7,42],[7,48,7,52],[7,18,7,22],[7,23,7,27],[7,28,7,32],[7,112,8,112],[46,53,46,57],[46,58,46,62],[46,68,46,72],[46,73,46,77],[46,78,46,82],[46,28,46,32],[46,33,46,37],[46,38,46,42],[46,43,46,47],[4,117,4,122],[4,3,4,32],[4,68,4,97],[10,0,17,0],[27,0,31,0],[7,122,8,122],[7,102,8,102],[7,103,8,103],[7,104,8,104],[7,105,8,105],[7,121,8,121],[7,117,8,117],[7,118,8,118],[7,101,8,101],[7,115,8,115],[7,116,8,116],[7,73,7,77],[7,78,7,82],[7,83,7,87],[7,53,7,57],[7,93,7,97],[4,33,4,62],[7,68,7,72],[7,88,7,92],[46,110,47,110],[7,120,8,120],[7,113,8,113],[7,114,8,114],[7,108,8,108],[7,109,8,109],[7,119,8,119],[7,111,8,111],[42,0,42,2],[7,99,8,99],[7,100,8,100],[7,98,8,98],[7,106,8,106],[7,107,8,107],[33,0,33,2],[7,3,7,7],[7,43,7,47],[18,0,25,0],[7,8,7,12],[7,13,7,17],[7,63,7,67],[7,110,8,110],[46,3,46,7],[46,8,46,12]]}
[]
[]
[]
[null,null,null,"Tipo de Beneficiário:",null,null,{"$f":"INDEX(Sheet6!$P$1:$P$6,Sheet3!$A$2)","v":"Todos os Produtores do PU"},null,null,null,null,null,null,"Valor total:",null,{"$f":"+Base!$DS$34","v":173695},null,{"$f":"+\"(\" & (INDEX(Sheet6!$G$2:$G$117,Sheet3!$C$1)) & \")\"","v":"(Nº )"}]
[null,null,null,{"$f":"+INDEX(Sheet6!$D$2:$D$117,Sheet3!$C$1)&\" segundo Orientação Técnico Económica e \"&INDEX(Sheet6!$M$3:$M$6,Sheet3!$B$1)&\" e por NUTSIII em \" &Sheet6!$B$1","v":"(1) - Nº de Beneficiários segundo Orientação Técnico Económica e Classe de DE e por NUTSIII em 2021"},null,null,null,null,null,null,null,null,null,null,null,null,null,null,null,null,null,null,null,null,null,null,null,null,null,null,null,null,null,{"$f":"+D5& \" (cont.)\"","v":"(1) - Nº de Beneficiários segundo Orientação Técnico Económica e Classe de DE e por NUTSIII em 2021 (cont.)"},null,null,null,null,null,null,null,null,null,null,null,null,null,null,null,null,null,null,null,null,null,null,null,null,null,null,null,null,null,null,null,null,null,null,{"$f":"+AH5","v":"(1) - Nº de Beneficiários segundo Orientação Técnico Económica e Classe de DE e por NUTSIII em 2021 (cont.)"},null,null,null,null,null,null,null,null,null,null,null,null,null,null,null,null,null,null,null,null,null,null,null,null,null,null,null,null,null,{"$f":"+INDEX(Sheet6!$D$2:$D$117,Sheet3!$C$1)&\" segundo Orientação Técnico Económica por NUTSIII em \" &Sheet6!B1","v":"(1) - Nº de Beneficiários segundo Orientação Técnico Económica por NUTSIII em 2021"},null,null,null,null,null,null,null,null,null,null,null,null,null,null,null,null,null,null,{"$f":"+INDEX(Sheet6!$D$2:$D$117,Sheet3!$C$1)&CHAR(10)& \"segundo \"&INDEX(Sheet6!$M$3:$M$6,Sheet3!$B$1)& \" por NUTSIII em \" &Sheet6!$B$1","v":"(1) - Nº de Beneficiários\nsegundo Classe de DE por NUTSIII em 2021"}]
[]
[null,null,{"$f":"+\"Unidade: \"&INDEX(Sheet6!$G$2:$G$117,Sheet3!$C$1)","v":"Unidade: Nº "}]
[null,null,"OTE","Não classificadas",null,null,null,null,"Arvenses e Outras Cult pred. Regadio",null,null,null,null,"Arvenses e Outras Cult pred. Sequeiro",null,null,null,null,"Arroz",null,null,null,null,"Horticultura e Industriais",null,null,null,null,"Horticultura e Floricultura",null,null,null,null,"Vinhos",null,null,null,null,"Fruticultura",null,null,null,null,"Olival",null,null,null,null,"Policultura",null,null,null,null,"Bovinos Leite",null,null,null,null,"Bov. Carne semi-int. (>1 < 3CN por ha SF)",null,null,null,null,"Bov. Carne Int (>= 3CN por ha SF)",null,null,null,null,"Bov. Carne Extensivos (<1 CN por ha SF)",null,null,null,null,"Outros Ruminantes",null,null,null,null,"Mistas",null,null,null,null,"Pousio e Pastagem",null,null,null,null,"Tomate Indústria",null,null,null,null,"Plantas tuberosas",null,null,null,null,"Não classificadas","Arvenses e Outras Cult pred. Regadio","Arvenses e Outras Cult pred. Sequeiro","Arroz","Horticultura e Industriais","Horticultura e Floricultura","Vinhos","Fruticultura","Olival","Policultura","Bovinos Leite",{"$f":"+BG8","v":"Bov. Carne semi-int. (>1 < 3CN por ha SF)"},{"$f":"+BL8","v":"Bov. Carne Int (>= 3CN por ha SF)"},{"$f":"+BQ8","v":"Bov. Carne Extensivos (<1 CN por ha SF)"},"Outros Ruminantes","Mistas","Pousio e Pastagem","Tomate Indústria","Plantas tuberosas","MP","P","M","G","MG","Total"]
[null,null,{"$f":"+INDEX(Sheet6!M3:M6,Sheet3!B1)","v":"Classe de DE"},"MP","P","M","G","MG","MP","P","M","G","MG","MP","P","M","G","MG","MP","P","M","G","MG","MP","P","M","G","MG","MP","P","M","G","MG","MP","P","M","G","MG","MP","P","M","G","MG","MP","P","M","G","MG","MP","P","M","G","MG","MP","P","M","G","MG","MP","P","M","G","MG","MP","P","M","G","MG","MP","P","M","G","MG","MP","P","M","G","MG","MP","P","M","G","MG","MP","P","M","G","MG","MP","P","M","G","MG","MP","P","M","G","MG",null,"Arvenses e Outras Cult pred. Regadio"]
["NUTS II","Cód.","NUTS III",null,null,null,null,null,null,null,null,null,null,null,null,null,null,null,null,null,null,null,null,null,null,null,null,null,null,null,null,null,{"$f":"+\"Unidade: \"&INDEX(Sheet6!$G$2:$G$117,Sheet3!$C$1)","v":"Unidade: Nº "},null,null,null,null,null,null,null,null,null,null,null,null,null,null,null,null,null,null,null,null,null,null,null,null,null,null,null,null,null,{"$f":"+\"Unidade: \"&INDEX(Sheet6!$G$2:$G$117,Sheet3!$C$1)","v":"Unidade: Nº "},null,null,null,null,{"$f":"+\"Unidade: \"&INDEX(Sheet6!$G$2:$G$117,Sheet3!$C$1)","v":"Unidade: Nº "},null,null,null,null,null,null,null,null,null,null,null,null,null,null,null,null,null,null,null,null,null,null,null,null,null,null,null,null,null,{"$f":"+\"Unidade: \"&INDEX(Sheet6!$G$2:$G$117,Sheet3!$C$1)","v":"Unidade: Nº "},null,null,null,null,null,null,null,null,null,null,null,null,null,null,null,null,null,null,null,null,null,null,null,null,{"$f":"+\"Unidade: \"&INDEX(Sheet6!$G$2:$G$117,Sheet3!$C$1)","v":"Unidade: Nº "}]
["Norte ","111","Alto Minho",{"$f":"+Sheet3!D8/Sheet3!$F$1","v":0},{"$f":"+Sheet3!E8/Sheet3!$F$1","v":0},{"$f":"+Sheet3!F8/Sheet3!$F$1","v":0},{"$f":"+Sheet3!G8/Sheet3!$F$1","v":0},{"$f":"+Sheet3!H8/Sheet3!$F$1","v":0},{"$f":"+Sheet3!I8/Sheet3!$F$1","v":288},{"$f":"+Sheet3!J8/Sheet3!$F$1","v":13},{"$f":"+Sheet3!K8/Sheet3!$F$1","v":0},{"$f":"+Sheet3!L8/Sheet3!$F$1","v":0},{"$f":"+Sheet3!M8/Sheet3!$F$1","v":0},{"$f":"+Sheet3!N8/Sheet3!$F$1","v":128},{"$f":"+Sheet3!O8/Sheet3!$F$1","v":5},{"$f":"+Sheet3!P8/Sheet3!$F$1","v":0},{"$f":"+Sheet3!Q8/Sheet3!$F$1","v":0},{"$f":"+Sheet3!R8/Sheet3!$F$1","v":0},{"$f":"+Sheet3!S8/Sheet3!$F$1","v":0},{"$f":"+Sheet3!T8/Sheet3!$F$1","v":0},{"$f":"+Sheet3!U8/Sheet3!$F$1","v":0},{"$f":"+Sheet3!V8/Sheet3!$F$1","v":0},{"$f":"+Sheet3!W8/Sheet3!$F$1","v":0},{"$f":"+Sheet3!X8/Sheet3!$F$1","v":0},{"$f":"+Sheet3!Y8/Sheet3!$F$1","v":0},{"$f":"+Sheet3!Z8/Sheet3!$F$1","v":0},{"$f":"+Sheet3!AA8/Sheet3!$F$1","v":0},{"$f":"+Sheet3!AB8/Sheet3!$F$1","v":0},{"$f":"+Sheet3!AC8/Sheet3!$F$1","v":83},{"$f":"+Sheet3!AD8/Sheet3!$F$1","v":73},{"$f":"+Sheet3!AE8/Sheet3!$F$1","v":18},{"$f":"+Sheet3!AF8/Sheet3!$F$1","v":4},{"$f":"+Sheet3!AG8/Sheet3!$F$1","v":0},{"$f":"+Sheet3!AH8/Sheet3!$F$1","v":379},{"$f":"+Sheet3!AI8/Sheet3!$F$1","v":353},{"$f":"+Sheet3!AJ8/Sheet3!$F$1","v":29},{"$f":"+Sheet3!AK8/Sheet3!$F$1","v":0},{"$f":"+Sheet3!AL8/Sheet3!$F$1","v":0},{"$f":"+Sheet3!AM8/Sheet3!$F$1","v":42},{"$f":"+Sheet3!AN8/Sheet3!$F$1","v":68},{"$f":"+Sheet3!AO8/Sheet3!$F$1","v":58},{"$f":"+Sheet3!AP8/Sheet3!$F$1","v":3},{"$f":"+Sheet3!AQ8/Sheet3!$F$1","v":0},{"$f":"+Sheet3!AR8/Sheet3!$F$1","v":0},{"$f":"+Sheet3!AS8/Sheet3!$F$1","v":0},{"$f":"+Sheet3!AT8/Sheet3!$F$1","v":0},{"$f":"+Sheet3!AU8/Sheet3!$F$1","v":0},{"$f":"+Sheet3!AV8/Sheet3!$F$1","v":0},{"$f":"+Sheet3!AW8/Sheet3!$F$1","v":1935},{"$f":"+Sheet3!AX8/Sheet3!$F$1","v":332},{"$f":"+Sheet3!AY8/Sheet3!$F$1","v":8},{"$f":"+Sheet3!AZ8/Sheet3!$F$1","v":0},{"$f":"+Sheet3!BA8/Sheet3!$F$1","v":0},{"$f":"+Sheet3!BB8/Sheet3!$F$1","v":0},{"$f":"+Sheet3!BC8/Sheet3!$F$1","v":5},{"$f":"+Sheet3!BD8/Sheet3!$F$1","v":17},{"$f":"+Sheet3!BE8/Sheet3!$F$1","v":36},{"$f":"+Sheet3!BF8/Sheet3!$F$1","v":0},{"$f":"+Sheet3!BG8/Sheet3!$F$1","v":123},{"$f":"+Sheet3!BH8/Sheet3!$F$1","v":128},{"$f":"+Sheet3!BI8/Sheet3!$F$1","v":20},{"$f":"+Sheet3!BJ8/Sheet3!$F$1","v":0},{"$f":"+Sheet3!BK8/Sheet3!$F$1","v":0},{"$f":"+Sheet3!BL8/Sheet3!$F$1","v":76},{"$f":"+Sheet3!BM8/Sheet3!$F$1","v":93},{"$f":"+Sheet3!BN8/Sheet3!$F$1","v":15},{"$f":"+Sheet3!BO8/Sheet3!$F$1","v":0},{"$f":"+Sheet3!BP8/Sheet3!$F$1","v":0},{"$f":"+Sheet3!BQ8/Sheet3!$F$1","v":209},{"$f":"+Sheet3!BR8/Sheet3!$F$1","v":463},{"$f":"+Sheet3!BS8/Sheet3!$F$1","v":152},{"$f":"+Sheet3!BT8/Sheet3!$F$1","v":24},{"$f":"+Sheet3!BU8/Sheet3!$F$1","v":10},{"$f":"+Sheet3!BV8/Sheet3!$F$1","v":692},{"$f":"+Sheet3!BW8/Sheet3!$F$1","v":579},{"$f":"+Sheet3!BX8/Sheet3!$F$1","v":40},{"$f":"+Sheet3!BY8/Sheet3!$F$1","v":0},{"$f":"+Sheet3!BZ8/Sheet3!$F$1","v":0},{"$f":"+Sheet3!CA8/Sheet3!$F$1","v":746},{"$f":"+Sheet3!CB8/Sheet3!$F$1","v":320},{"$f":"+Sheet3!CC8/Sheet3!$F$1","v":5},{"$f":"+Sheet3!CD8/Sheet3!$F$1","v":0},{"$f":"+Sheet3!CE8/Sheet3!$F$1","v":0},{"$f":"+Sheet3!CF8/Sheet3!$F$1","v":312},{"$f":"+Sheet3!CG8/Sheet3!$F$1","v":27},{"$f":"+Sheet3!CH8/Sheet3!$F$1","v":3},{"$f":"+Sheet3!CI8/Sheet3!$F$1","v":0},{"$f":"+Sheet3!CJ8/Sheet3!$F$1","v":0},{"$f":"+Sheet3!CK8/Sheet3!$F$1","v":0},{"$f":"+Sheet3!CL8/Sheet3!$F$1","v":0},{"$f":"+Sheet3!CM8/Sheet3!$F$1","v":0},{"$f":"+Sheet3!CN8/Sheet3!$F$1","v":0},{"$f":"+Sheet3!CO8/Sheet3!$F$1","v":0},{"$f":"+Sheet3!CP8/Sheet3!$F$1","v":0},{"$f":"+Sheet3!CQ8/Sheet3!$F$1","v":0},{"$f":"+Sheet3!CR8/Sheet3!$F$1","v":0},{"$f":"+Sheet3!CS8/Sheet3!$F$1","v":0},{"$f":"+Sheet3!CT8/Sheet3!$F$1","v":0},{"$f":"+Sheet3!CU8/Sheet3!$F$1","v":0},{"$f":"+Sheet3!CV8/Sheet3!$F$1","v":305},{"$f":"+Sheet3!CW8/Sheet3!$F$1","v":134},{"$f":"+Sheet3!CX8/Sheet3!$F$1","v":0},{"$f":"+Sheet3!CY8/Sheet3!$F$1","v":0},{"$f":"+Sheet3!CZ8/Sheet3!$F$1","v":182},{"$f":"+Sheet3!DA8/Sheet3!$F$1","v":765},{"$f":"+Sheet3!DB8/Sheet3!$F$1","v":175},{"$f":"+Sheet3!DC8/Sheet3!$F$1","v":0},{"$f":"+Sheet3!DD8/Sheet3!$F$1","v":2279},{"$f":"+Sheet3!DE8/Sheet3!$F$1","v":61},{"$f":"+Sheet3!DF8/Sheet3!$F$1","v":272},{"$f":"+Sheet3!DG8/Sheet3!$F$1","v":186},{"$f":"+Sheet3!DH8/Sheet3!$F$1","v":860},{"$f":"+Sheet3!DI8/Sheet3!$F$1","v":1315},{"$f":"+Sheet3!DJ8/Sheet3!$F$1","v":1071},{"$f":"+Sheet3!DK8/Sheet3!$F$1","v":344},{"$f":"+Sheet3!DL8/Sheet3!$F$1","v":0},{"$f":"+Sheet3!DM8/Sheet3!$F$1","v":0},{"$f":"+Sheet3!DN8/Sheet3!$F$1","v":5020},{"$f":"+Sheet3!DO8/Sheet3!$F$1","v":2468},{"$f":"+Sheet3!DP8/Sheet3!$F$1","v":377},{"$f":"+Sheet3!DQ8/Sheet3!$F$1","v":76},{"$f":"+Sheet3!DR8/Sheet3!$F$1","v":13},{"$f":"SUM(DN11:DR11)","v":7954}]
[null,"112","Cávado",{"$f":"+Sheet3!D9/Sheet3!$F$1","v":0},{"$f":"+Sheet3!E9/Sheet3!$F$1","v":0},{"$f":"+Sheet3!F9/Sheet3!$F$1","v":0},{"$f":"+Sheet3!G9/Sheet3!$F$1","v":0},{"$f":"+Sheet3!H9/Sheet3!$F$1","v":0},{"$f":"+Sheet3!I9/Sheet3!$F$1","v":883},{"$f":"+Sheet3!J9/Sheet3!$F$1","v":113},{"$f":"+Sheet3!K9/Sheet3!$F$1","v":5},{"$f":"+Sheet3!L9/Sheet3!$F$1","v":6},{"$f":"+Sheet3!M9/Sheet3!$F$1","v":0},{"$f":"+Sheet3!N9/Sheet3!$F$1","v":283},{"$f":"+Sheet3!O9/Sheet3!$F$1","v":32},{"$f":"+Sheet3!P9/Sheet3!$F$1","v":0},{"$f":"+Sheet3!Q9/Sheet3!$F$1","v":0},{"$f":"+Sheet3!R9/Sheet3!$F$1","v":0},{"$f":"+Sheet3!S9/Sheet3!$F$1","v":0},{"$f":"+Sheet3!T9/Sheet3!$F$1","v":0},{"$f":"+Sheet3!U9/Sheet3!$F$1","v":0},{"$f":"+Sheet3!V9/Sheet3!$F$1","v":0},{"$f":"+Sheet3!W9/Sheet3!$F$1","v":0},{"$f":"+Sheet3!X9/Sheet3!$F$1","v":0},{"$f":"+Sheet3!Y9/Sheet3!$F$1","v":0},{"$f":"+Sheet3!Z9/Sheet3!$F$1","v":0},{"$f":"+Sheet3!AA9/Sheet3!$F$1","v":0},{"$f":"+Sheet3!AB9/Sheet3!$F$1","v":0},{"$f":"+Sheet3!AC9/Sheet3!$F$1","v":204},{"$f":"+Sheet3!AD9/Sheet3!$F$1","v":195},{"$f":"+Sheet3!AE9/Sheet3!$F$1","v":40},{"$f":"+Sheet3!AF9/Sheet3!$F$1","v":0},{"$f":"+Sheet3!AG9/Sheet3!$F$1","v":0},{"$f":"+Sheet3!AH9/Sheet3!$F$1","v":40},{"$f":"+Sheet3!AI9/Sheet3!$F$1","v":63},{"$f":"+Sheet3!AJ9/Sheet3!$F$1","v":16},{"$f":"+Sheet3!AK9/Sheet3!$F$1","v":0},{"$f":"+Sheet3!AL9/Sheet3!$F$1","v":0},{"$f":"+Sheet3!AM9/Sheet3!$F$1","v":29},{"$f":"+Sheet3!AN9/Sheet3!$F$1","v":112},{"$f":"+Sheet3!AO9/Sheet3!$F$1","v":98},{"$f":"+Sheet3!AP9/Sheet3!$F$1","v":6},{"$f":"+Sheet3!AQ9/Sheet3!$F$1","v":0},{"$f":"+Sheet3!AR9/Sheet3!$F$1","v":0},{"$f":"+Sheet3!AS9/Sheet3!$F$1","v":0},{"$f":"+Sheet3!AT9/Sheet3!$F$1","v":0},{"$f":"+Sheet3!AU9/Sheet3!$F$1","v":0},{"$f":"+Sheet3!AV9/Sheet3!$F$1","v":0},{"$f":"+Sheet3!AW9/Sheet3!$F$1","v":1628},{"$f":"+Sheet3!AX9/Sheet3!$F$1","v":425},{"$f":"+Sheet3!AY9/Sheet3!$F$1","v":16},{"$f":"+Sheet3!AZ9/Sheet3!$F$1","v":0},{"$f":"+Sheet3!BA9/Sheet3!$F$1","v":0},{"$f":"+Sheet3!BB9/Sheet3!$F$1","v":0},{"$f":"+Sheet3!BC9/Sheet3!$F$1","v":25},{"$f":"+Sheet3!BD9/Sheet3!$F$1","v":102},{"$f":"+Sheet3!BE9/Sheet3!$F$1","v":259},{"$f":"+Sheet3!BF9/Sheet3!$F$1","v":14},{"$f":"+Sheet3!BG9/Sheet3!$F$1","v":33},{"$f":"+Sheet3!BH9/Sheet3!$F$1","v":62},{"$f":"+Sheet3!BI9/Sheet3!$F$1","v":4},{"$f":"+Sheet3!BJ9/Sheet3!$F$1","v":0},{"$f":"+Sheet3!BK9/Sheet3!$F$1","v":0},{"$f":"+Sheet3!BL9/Sheet3!$F$1","v":150},{"$f":"+Sheet3!BM9/Sheet3!$F$1","v":421},{"$f":"+Sheet3!BN9/Sheet3!$F$1","v":85},{"$f":"+Sheet3!BO9/Sheet3!$F$1","v":4},{"$f":"+Sheet3!BP9/Sheet3!$F$1","v":0},{"$f":"+Sheet3!BQ9/Sheet3!$F$1","v":43},{"$f":"+Sheet3!BR9/Sheet3!$F$1","v":97},{"$f":"+Sheet3!BS9/Sheet3!$F$1","v":23},{"$f":"+Sheet3!BT9/Sheet3!$F$1","v":4},{"$f":"+Sheet3!BU9/Sheet3!$F$1","v":0},{"$f":"+Sheet3!BV9/Sheet3!$F$1","v":155},{"$f":"+Sheet3!BW9/Sheet3!$F$1","v":131},{"$f":"+Sheet3!BX9/Sheet3!$F$1","v":18},{"$f":"+Sheet3!BY9/Sheet3!$F$1","v":4},{"$f":"+Sheet3!BZ9/Sheet3!$F$1","v":0},{"$f":"+Sheet3!CA9/Sheet3!$F$1","v":357},{"$f":"+Sheet3!CB9/Sheet3!$F$1","v":244},{"$f":"+Sheet3!CC9/Sheet3!$F$1","v":14},{"$f":"+Sheet3!CD9/Sheet3!$F$1","v":0},{"$f":"+Sheet3!CE9/Sheet3!$F$1","v":0},{"$f":"+Sheet3!CF9/Sheet3!$F$1","v":575},{"$f":"+Sheet3!CG9/Sheet3!$F$1","v":242},{"$f":"+Sheet3!CH9/Sheet3!$F$1","v":0},{"$f":"+Sheet3!CI9/Sheet3!$F$1","v":0},{"$f":"+Sheet3!CJ9/Sheet3!$F$1","v":0},{"$f":"+Sheet3!CK9/Sheet3!$F$1","v":0},{"$f":"+Sheet3!CL9/Sheet3!$F$1","v":0},{"$f":"+Sheet3!CM9/Sheet3!$F$1","v":0},{"$f":"+Sheet3!CN9/Sheet3!$F$1","v":0},{"$f":"+Sheet3!CO9/Sheet3!$F$1","v":0},{"$f":"+Sheet3!CP9/Sheet3!$F$1","v":0},{"$f":"+Sheet3!CQ9/Sheet3!$F$1","v":0},{"$f":"+Sheet3!CR9/Sheet3!$F$1","v":0},{"$f":"+Sheet3!CS9/Sheet3!$F$1","v":0},{"$f":"+Sheet3!CT9/Sheet3!$F$1","v":0},{"$f":"+Sheet3!CU9/Sheet3!$F$1","v":0},{"$f":"+Sheet3!CV9/Sheet3!$F$1","v":1011},{"$f":"+Sheet3!CW9/Sheet3!$F$1","v":316},{"$f":"+Sheet3!CX9/Sheet3!$F$1","v":0},{"$f":"+Sheet3!CY9/Sheet3!$F$1","v":0},{"$f":"+Sheet3!CZ9/Sheet3!$F$1","v":443},{"$f":"+Sheet3!DA9/Sheet3!$F$1","v":125},{"$f":"+Sheet3!DB9/Sheet3!$F$1","v":246},{"$f":"+Sheet3!DC9/Sheet3!$F$1","v":0},{"$f":"+Sheet3!DD9/Sheet3!$F$1","v":2073},{"$f":"+Sheet3!DE9/Sheet3!$F$1","v":401},{"$f":"+Sheet3!DF9/Sheet3!$F$1","v":100},{"$f":"+Sheet3!DG9/Sheet3!$F$1","v":662},{"$f":"+Sheet3!DH9/Sheet3!$F$1","v":170},{"$f":"+Sheet3!DI9/Sheet3!$F$1","v":308},{"$f":"+Sheet3!DJ9/Sheet3!$F$1","v":615},{"$f":"+Sheet3!DK9/Sheet3!$F$1","v":821},{"$f":"+Sheet3!DL9/Sheet3!$F$1","v":0},{"$f":"+Sheet3!DM9/Sheet3!$F$1","v":0},{"$f":"+Sheet3!DN9/Sheet3!$F$1","v":4387},{"$f":"+Sheet3!DO9/Sheet3!$F$1","v":2173},{"$f":"+Sheet3!DP9/Sheet3!$F$1","v":431},{"$f":"+Sheet3!DQ9/Sheet3!$F$1","v":292},{"$f":"+Sheet3!DR9/Sheet3!$F$1","v":14},{"$f":"SUM(DN12:DR12)","v":7297}]
[null,"119","Ave",{"$f":"+Sheet3!D10/Sheet3!$F$1","v":0},{"$f":"+Sheet3!E10/Sheet3!$F$1","v":0},{"$f":"+Sheet3!F10/Sheet3!$F$1","v":0},{"$f":"+Sheet3!G10/Sheet3!$F$1","v":0},{"$f":"+Sheet3!H10/Sheet3!$F$1","v":0},{"$f":"+Sheet3!I10/Sheet3!$F$1","v":433},{"$f":"+Sheet3!J10/Sheet3!$F$1","v":30},{"$f":"+Sheet3!K10/Sheet3!$F$1","v":6},{"$f":"+Sheet3!L10/Sheet3!$F$1","v":0},{"$f":"+Sheet3!M10/Sheet3!$F$1","v":0},{"$f":"+Sheet3!N10/Sheet3!$F$1","v":133},{"$f":"+Sheet3!O10/Sheet3!$F$1","v":10},{"$f":"+Sheet3!P10/Sheet3!$F$1","v":0},{"$f":"+Sheet3!Q10/Sheet3!$F$1","v":0},{"$f":"+Sheet3!R10/Sheet3!$F$1","v":0},{"$f":"+Sheet3!S10/Sheet3!$F$1","v":0},{"$f":"+Sheet3!T10/Sheet3!$F$1","v":0},{"$f":"+Sheet3!U10/Sheet3!$F$1","v":0},{"$f":"+Sheet3!V10/Sheet3!$F$1","v":0},{"$f":"+Sheet3!W10/Sheet3!$F$1","v":0},{"$f":"+Sheet3!X10/Sheet3!$F$1","v":0},{"$f":"+Sheet3!Y10/Sheet3!$F$1","v":0},{"$f":"+Sheet3!Z10/Sheet3!$F$1","v":0},{"$f":"+Sheet3!AA10/Sheet3!$F$1","v":0},{"$f":"+Sheet3!AB10/Sheet3!$F$1","v":0},{"$f":"+Sheet3!AC10/Sheet3!$F$1","v":53},{"$f":"+Sheet3!AD10/Sheet3!$F$1","v":49},{"$f":"+Sheet3!AE10/Sheet3!$F$1","v":14},{"$f":"+Sheet3!AF10/Sheet3!$F$1","v":8},{"$f":"+Sheet3!AG10/Sheet3!$F$1","v":0},{"$f":"+Sheet3!AH10/Sheet3!$F$1","v":103},{"$f":"+Sheet3!AI10/Sheet3!$F$1","v":143},{"$f":"+Sheet3!AJ10/Sheet3!$F$1","v":30},{"$f":"+Sheet3!AK10/Sheet3!$F$1","v":0},{"$f":"+Sheet3!AL10/Sheet3!$F$1","v":0},{"$f":"+Sheet3!AM10/Sheet3!$F$1","v":14},{"$f":"+Sheet3!AN10/Sheet3!$F$1","v":77},{"$f":"+Sheet3!AO10/Sheet3!$F$1","v":90},{"$f":"+Sheet3!AP10/Sheet3!$F$1","v":14},{"$f":"+Sheet3!AQ10/Sheet3!$F$1","v":0},{"$f":"+Sheet3!AR10/Sheet3!$F$1","v":0},{"$f":"+Sheet3!AS10/Sheet3!$F$1","v":0},{"$f":"+Sheet3!AT10/Sheet3!$F$1","v":0},{"$f":"+Sheet3!AU10/Sheet3!$F$1","v":0},{"$f":"+Sheet3!AV10/Sheet3!$F$1","v":0},{"$f":"+Sheet3!AW10/Sheet3!$F$1","v":618},{"$f":"+Sheet3!AX10/Sheet3!$F$1","v":202},{"$f":"+Sheet3!AY10/Sheet3!$F$1","v":13},{"$f":"+Sheet3!AZ10/Sheet3!$F$1","v":0},{"$f":"+Sheet3!BA10/Sheet3!$F$1","v":0},{"$f":"+Sheet3!BB10/Sheet3!$F$1","v":0},{"$f":"+Sheet3!BC10/Sheet3!$F$1","v":15},{"$f":"+Sheet3!BD10/Sheet3!$F$1","v":19},{"$f":"+Sheet3!BE10/Sheet3!$F$1","v":88},{"$f":"+Sheet3!BF10/Sheet3!$F$1","v":6},{"$f":"+Sheet3!BG10/Sheet3!$F$1","v":49},{"$f":"+Sheet3!BH10/Sheet3!$F$1","v":95},{"$f":"+Sheet3!BI10/Sheet3!$F$1","v":10},{"$f":"+Sheet3!BJ10/Sheet3!$F$1","v":0},{"$f":"+Sheet3!BK10/Sheet3!$F$1","v":0},{"$f":"+Sheet3!BL10/Sheet3!$F$1","v":115},{"$f":"+Sheet3!BM10/Sheet3!$F$1","v":173},{"$f":"+Sheet3!BN10/Sheet3!$F$1","v":29},{"$f":"+Sheet3!BO10/Sheet3!$F$1","v":0},{"$f":"+Sheet3!BP10/Sheet3!$F$1","v":0},{"$f":"+Sheet3!BQ10/Sheet3!$F$1","v":62},{"$f":"+Sheet3!BR10/Sheet3!$F$1","v":339},{"$f":"+Sheet3!BS10/Sheet3!$F$1","v":43},{"$f":"+Sheet3!BT10/Sheet3!$F$1","v":0},{"$f":"+Sheet3!BU10/Sheet3!$F$1","v":0},{"$f":"+Sheet3!BV10/Sheet3!$F$1","v":243},{"$f":"+Sheet3!BW10/Sheet3!$F$1","v":511},{"$f":"+Sheet3!BX10/Sheet3!$F$1","v":73},{"$f":"+Sheet3!BY10/Sheet3!$F$1","v":0},{"$f":"+Sheet3!BZ10/Sheet3!$F$1","v":0},{"$f":"+Sheet3!CA10/Sheet3!$F$1","v":248},{"$f":"+Sheet3!CB10/Sheet3!$F$1","v":184},{"$f":"+Sheet3!CC10/Sheet3!$F$1","v":24},{"$f":"+Sheet3!CD10/Sheet3!$F$1","v":0},{"$f":"+Sheet3!CE10/Sheet3!$F$1","v":0},{"$f":"+Sheet3!CF10/Sheet3!$F$1","v":459},{"$f":"+Sheet3!CG10/Sheet3!$F$1","v":131},{"$f":"+Sheet3!CH10/Sheet3!$F$1","v":0},{"$f":"+Sheet3!CI10/Sheet3!$F$1","v":0},{"$f":"+Sheet3!CJ10/Sheet3!$F$1","v":0},{"$f":"+Sheet3!CK10/Sheet3!$F$1","v":0},{"$f":"+Sheet3!CL10/Sheet3!$F$1","v":0},{"$f":"+Sheet3!CM10/Sheet3!$F$1","v":0},{"$f":"+Sheet3!CN10/Sheet3!$F$1","v":0},{"$f":"+Sheet3!CO10/Sheet3!$F$1","v":0},{"$f":"+Sheet3!CP10/Sheet3!$F$1","v":0},{"$f":"+Sheet3!CQ10/Sheet3!$F$1","v":0},{"$f":"+Sheet3!CR10/Sheet3!$F$1","v":0},{"$f":"+Sheet3!CS10/Sheet3!$F$1","v":0},{"$f":"+Sheet3!CT10/Sheet3!$F$1","v":0},{"$f":"+Sheet3!CU10/Sheet3!$F$1","v":3},{"$f":"+Sheet3!CV10/Sheet3!$F$1","v":478},{"$f":"+Sheet3!CW10/Sheet3!$F$1","v":144},{"$f":"+Sheet3!CX10/Sheet3!$F$1","v":0},{"$f":"+Sheet3!CY10/Sheet3!$F$1","v":0},{"$f":"+Sheet3!CZ10/Sheet3!$F$1","v":129},{"$f":"+Sheet3!DA10/Sheet3!$F$1","v":278},{"$f":"+Sheet3!DB10/Sheet3!$F$1","v":198},{"$f":"+Sheet3!DC10/Sheet3!$F$1","v":4},{"$f":"+Sheet3!DD10/Sheet3!$F$1","v":838},{"$f":"+Sheet3!DE10/Sheet3!$F$1","v":133},{"$f":"+Sheet3!DF10/Sheet3!$F$1","v":155},{"$f":"+Sheet3!DG10/Sheet3!$F$1","v":320},{"$f":"+Sheet3!DH10/Sheet3!$F$1","v":445},{"$f":"+Sheet3!DI10/Sheet3!$F$1","v":833},{"$f":"+Sheet3!DJ10/Sheet3!$F$1","v":456},{"$f":"+Sheet3!DK10/Sheet3!$F$1","v":592},{"$f":"+Sheet3!DL10/Sheet3!$F$1","v":0},{"$f":"+Sheet3!DM10/Sheet3!$F$1","v":0},{"$f":"+Sheet3!DN10/Sheet3!$F$1","v":2541},{"$f":"+Sheet3!DO10/Sheet3!$F$1","v":1967},{"$f":"+Sheet3!DP10/Sheet3!$F$1","v":370},{"$f":"+Sheet3!DQ10/Sheet3!$F$1","v":124},{"$f":"+Sheet3!DR10/Sheet3!$F$1","v":6},5008]
[null,"11A","Área Metropolitana do Porto",{"$f":"+Sheet3!D11/Sheet3!$F$1","v":0},{"$f":"+Sheet3!E11/Sheet3!$F$1","v":0},{"$f":"+Sheet3!F11/Sheet3!$F$1","v":0},{"$f":"+Sheet3!G11/Sheet3!$F$1","v":0},{"$f":"+Sheet3!H11/Sheet3!$F$1","v":0},{"$f":"+Sheet3!I11/Sheet3!$F$1","v":773},{"$f":"+Sheet3!J11/Sheet3!$F$1","v":67},{"$f":"+Sheet3!K11/Sheet3!$F$1","v":5},{"$f":"+Sheet3!L11/Sheet3!$F$1","v":0},{"$f":"+Sheet3!M11/Sheet3!$F$1","v":0},{"$f":"+Sheet3!N11/Sheet3!$F$1","v":108},{"$f":"+Sheet3!O11/Sheet3!$F$1","v":3},{"$f":"+Sheet3!P11/Sheet3!$F$1","v":0},{"$f":"+Sheet3!Q11/Sheet3!$F$1","v":0},{"$f":"+Sheet3!R11/Sheet3!$F$1","v":0},{"$f":"+Sheet3!S11/Sheet3!$F$1","v":0},{"$f":"+Sheet3!T11/Sheet3!$F$1","v":0},{"$f":"+Sheet3!U11/Sheet3!$F$1","v":0},{"$f":"+Sheet3!V11/Sheet3!$F$1","v":0},{"$f":"+Sheet3!W11/Sheet3!$F$1","v":0},{"$f":"+Sheet3!X11/Sheet3!$F$1","v":0},{"$f":"+Sheet3!Y11/Sheet3!$F$1","v":0},{"$f":"+Sheet3!Z11/Sheet3!$F$1","v":0},{"$f":"+Sheet3!AA11/Sheet3!$F$1","v":0},{"$f":"+Sheet3!AB11/Sheet3!$F$1","v":0},{"$f":"+Sheet3!AC11/Sheet3!$F$1","v":54},{"$f":"+Sheet3!AD11/Sheet3!$F$1","v":124},{"$f":"+Sheet3!AE11/Sheet3!$F$1","v":48},{"$f":"+Sheet3!AF11/Sheet3!$F$1","v":4},{"$f":"+Sheet3!AG11/Sheet3!$F$1","v":0},{"$f":"+Sheet3!AH11/Sheet3!$F$1","v":35},{"$f":"+Sheet3!AI11/Sheet3!$F$1","v":52},{"$f":"+Sheet3!AJ11/Sheet3!$F$1","v":8},{"$f":"+Sheet3!AK11/Sheet3!$F$1","v":0},{"$f":"+Sheet3!AL11/Sheet3!$F$1","v":0},{"$f":"+Sheet3!AM11/Sheet3!$F$1","v":36},{"$f":"+Sheet3!AN11/Sheet3!$F$1","v":98},{"$f":"+Sheet3!AO11/Sheet3!$F$1","v":89},{"$f":"+Sheet3!AP11/Sheet3!$F$1","v":8},{"$f":"+Sheet3!AQ11/Sheet3!$F$1","v":0},{"$f":"+Sheet3!AR11/Sheet3!$F$1","v":0},{"$f":"+Sheet3!AS11/Sheet3!$F$1","v":0},{"$f":"+Sheet3!AT11/Sheet3!$F$1","v":0},{"$f":"+Sheet3!AU11/Sheet3!$F$1","v":0},{"$f":"+Sheet3!AV11/Sheet3!$F$1","v":0},{"$f":"+Sheet3!AW11/Sheet3!$F$1","v":655},{"$f":"+Sheet3!AX11/Sheet3!$F$1","v":228},{"$f":"+Sheet3!AY11/Sheet3!$F$1","v":17},{"$f":"+Sheet3!AZ11/Sheet3!$F$1","v":0},{"$f":"+Sheet3!BA11/Sheet3!$F$1","v":0},{"$f":"+Sheet3!BB11/Sheet3!$F$1","v":11},{"$f":"+Sheet3!BC11/Sheet3!$F$1","v":38},{"$f":"+Sheet3!BD11/Sheet3!$F$1","v":99},{"$f":"+Sheet3!BE11/Sheet3!$F$1","v":384},{"$f":"+Sheet3!BF11/Sheet3!$F$1","v":39},{"$f":"+Sheet3!BG11/Sheet3!$F$1","v":19},{"$f":"+Sheet3!BH11/Sheet3!$F$1","v":20},{"$f":"+Sheet3!BI11/Sheet3!$F$1","v":3},{"$f":"+Sheet3!BJ11/Sheet3!$F$1","v":0},{"$f":"+Sheet3!BK11/Sheet3!$F$1","v":0},{"$f":"+Sheet3!BL11/Sheet3!$F$1","v":109},{"$f":"+Sheet3!BM11/Sheet3!$F$1","v":279},{"$f":"+Sheet3!BN11/Sheet3!$F$1","v":100},{"$f":"+Sheet3!BO11/Sheet3!$F$1","v":5},{"$f":"+Sheet3!BP11/Sheet3!$F$1","v":0},{"$f":"+Sheet3!BQ11/Sheet3!$F$1","v":13},{"$f":"+Sheet3!BR11/Sheet3!$F$1","v":31},{"$f":"+Sheet3!BS11/Sheet3!$F$1","v":0},{"$f":"+Sheet3!BT11/Sheet3!$F$1","v":0},{"$f":"+Sheet3!BU11/Sheet3!$F$1","v":0},{"$f":"+Sheet3!BV11/Sheet3!$F$1","v":63},{"$f":"+Sheet3!BW11/Sheet3!$F$1","v":81},{"$f":"+Sheet3!BX11/Sheet3!$F$1","v":11},{"$f":"+Sheet3!BY11/Sheet3!$F$1","v":0},{"$f":"+Sheet3!BZ11/Sheet3!$F$1","v":0},{"$f":"+Sheet3!CA11/Sheet3!$F$1","v":258},{"$f":"+Sheet3!CB11/Sheet3!$F$1","v":113},{"$f":"+Sheet3!CC11/Sheet3!$F$1","v":13},{"$f":"+Sheet3!CD11/Sheet3!$F$1","v":0},{"$f":"+Sheet3!CE11/Sheet3!$F$1","v":0},{"$f":"+Sheet3!CF11/Sheet3!$F$1","v":386},{"$f":"+Sheet3!CG11/Sheet3!$F$1","v":382},{"$f":"+Sheet3!CH11/Sheet3!$F$1","v":9},{"$f":"+Sheet3!CI11/Sheet3!$F$1","v":0},{"$f":"+Sheet3!CJ11/Sheet3!$F$1","v":0},{"$f":"+Sheet3!CK11/Sheet3!$F$1","v":0},{"$f":"+Sheet3!CL11/Sheet3!$F$1","v":0},{"$f":"+Sheet3!CM11/Sheet3!$F$1","v":0},{"$f":"+Sheet3!CN11/Sheet3!$F$1","v":0},{"$f":"+Sheet3!CO11/Sheet3!$F$1","v":0},{"$f":"+Sheet3!CP11/Sheet3!$F$1","v":4},{"$f":"+Sheet3!CQ11/Sheet3!$F$1","v":0},{"$f":"+Sheet3!CR11/Sheet3!$F$1","v":0},{"$f":"+Sheet3!CS11/Sheet3!$F$1","v":0},{"$f":"+Sheet3!CT11/Sheet3!$F$1","v":0},{"$f":"+Sheet3!CU11/Sheet3!$F$1","v":0},{"$f":"+Sheet3!CV11/Sheet3!$F$1","v":852},{"$f":"+Sheet3!CW11/Sheet3!$F$1","v":112},{"$f":"+Sheet3!CX11/Sheet3!$F$1","v":0},{"$f":"+Sheet3!CY11/Sheet3!$F$1","v":0},{"$f":"+Sheet3!CZ11/Sheet3!$F$1","v":235},{"$f":"+Sheet3!DA11/Sheet3!$F$1","v":97},{"$f":"+Sheet3!DB11/Sheet3!$F$1","v":233},{"$f":"+Sheet3!DC11/Sheet3!$F$1","v":0},{"$f":"+Sheet3!DD11/Sheet3!$F$1","v":904},{"$f":"+Sheet3!DE11/Sheet3!$F$1","v":575},{"$f":"+Sheet3!DF11/Sheet3!$F$1","v":43},{"$f":"+Sheet3!DG11/Sheet3!$F$1","v":494},{"$f":"+Sheet3!DH11/Sheet3!$F$1","v":50},{"$f":"+Sheet3!DI11/Sheet3!$F$1","v":162},{"$f":"+Sheet3!DJ11/Sheet3!$F$1","v":385},{"$f":"+Sheet3!DK11/Sheet3!$F$1","v":777},{"$f":"+Sheet3!DL11/Sheet3!$F$1","v":0},{"$f":"+Sheet3!DM11/Sheet3!$F$1","v":7},{"$f":"+Sheet3!DN11/Sheet3!$F$1","v":2533},{"$f":"+Sheet3!DO11/Sheet3!$F$1","v":1531},{"$f":"+Sheet3!DP11/Sheet3!$F$1","v":416},{"$f":"+Sheet3!DQ11/Sheet3!$F$1","v":411},{"$f":"+Sheet3!DR11/Sheet3!$F$1","v":39},4930]
[null,"11B","Alto Tâmega",{"$f":"+Sheet3!D12/Sheet3!$F$1","v":0},{"$f":"+Sheet3!E12/Sheet3!$F$1","v":9},{"$f":"+Sheet3!F12/Sheet3!$F$1","v":6},{"$f":"+Sheet3!G12/Sheet3!$F$1","v":0},{"$f":"+Sheet3!H12/Sheet3!$F$1","v":0},{"$f":"+Sheet3!I12/Sheet3!$F$1","v":162},{"$f":"+Sheet3!J12/Sheet3!$F$1","v":7},{"$f":"+Sheet3!K12/Sheet3!$F$1","v":0},{"$f":"+Sheet3!L12/Sheet3!$F$1","v":0},{"$f":"+Sheet3!M12/Sheet3!$F$1","v":0},{"$f":"+Sheet3!N12/Sheet3!$F$1","v":575},{"$f":"+Sheet3!O12/Sheet3!$F$1","v":7},{"$f":"+Sheet3!P12/Sheet3!$F$1","v":0},{"$f":"+Sheet3!Q12/Sheet3!$F$1","v":4},{"$f":"+Sheet3!R12/Sheet3!$F$1","v":0},{"$f":"+Sheet3!S12/Sheet3!$F$1","v":0},{"$f":"+Sheet3!T12/Sheet3!$F$1","v":0},{"$f":"+Sheet3!U12/Sheet3!$F$1","v":0},{"$f":"+Sheet3!V12/Sheet3!$F$1","v":0},{"$f":"+Sheet3!W12/Sheet3!$F$1","v":0},{"$f":"+Sheet3!X12/Sheet3!$F$1","v":0},{"$f":"+Sheet3!Y12/Sheet3!$F$1","v":0},{"$f":"+Sheet3!Z12/Sheet3!$F$1","v":0},{"$f":"+Sheet3!AA12/Sheet3!$F$1","v":0},{"$f":"+Sheet3!AB12/Sheet3!$F$1","v":0},{"$f":"+Sheet3!AC12/Sheet3!$F$1","v":697},{"$f":"+Sheet3!AD12/Sheet3!$F$1","v":557},{"$f":"+Sheet3!AE12/Sheet3!$F$1","v":18},{"$f":"+Sheet3!AF12/Sheet3!$F$1","v":0},{"$f":"+Sheet3!AG12/Sheet3!$F$1","v":0},{"$f":"+Sheet3!AH12/Sheet3!$F$1","v":64},{"$f":"+Sheet3!AI12/Sheet3!$F$1","v":34},{"$f":"+Sheet3!AJ12/Sheet3!$F$1","v":5},{"$f":"+Sheet3!AK12/Sheet3!$F$1","v":0},{"$f":"+Sheet3!AL12/Sheet3!$F$1","v":0},{"$f":"+Sheet3!AM12/Sheet3!$F$1","v":1268},{"$f":"+Sheet3!AN12/Sheet3!$F$1","v":233},{"$f":"+Sheet3!AO12/Sheet3!$F$1","v":34},{"$f":"+Sheet3!AP12/Sheet3!$F$1","v":3},{"$f":"+Sheet3!AQ12/Sheet3!$F$1","v":0},{"$f":"+Sheet3!AR12/Sheet3!$F$1","v":267},{"$f":"+Sheet3!AS12/Sheet3!$F$1","v":7},{"$f":"+Sheet3!AT12/Sheet3!$F$1","v":3},{"$f":"+Sheet3!AU12/Sheet3!$F$1","v":0},{"$f":"+Sheet3!AV12/Sheet3!$F$1","v":0},{"$f":"+Sheet3!AW12/Sheet3!$F$1","v":3355},{"$f":"+Sheet3!AX12/Sheet3!$F$1","v":825},{"$f":"+Sheet3!AY12/Sheet3!$F$1","v":6},{"$f":"+Sheet3!AZ12/Sheet3!$F$1","v":0},{"$f":"+Sheet3!BA12/Sheet3!$F$1","v":0},{"$f":"+Sheet3!BB12/Sheet3!$F$1","v":3},{"$f":"+Sheet3!BC12/Sheet3!$F$1","v":26},{"$f":"+Sheet3!BD12/Sheet3!$F$1","v":15},{"$f":"+Sheet3!BE12/Sheet3!$F$1","v":6},{"$f":"+Sheet3!BF12/Sheet3!$F$1","v":0},{"$f":"+Sheet3!BG12/Sheet3!$F$1","v":26},{"$f":"+Sheet3!BH12/Sheet3!$F$1","v":120},{"$f":"+Sheet3!BI12/Sheet3!$F$1","v":25},{"$f":"+Sheet3!BJ12/Sheet3!$F$1","v":0},{"$f":"+Sheet3!BK12/Sheet3!$F$1","v":0},{"$f":"+Sheet3!BL12/Sheet3!$F$1","v":26},{"$f":"+Sheet3!BM12/Sheet3!$F$1","v":36},{"$f":"+Sheet3!BN12/Sheet3!$F$1","v":7},{"$f":"+Sheet3!BO12/Sheet3!$F$1","v":0},{"$f":"+Sheet3!BP12/Sheet3!$F$1","v":0},{"$f":"+Sheet3!BQ12/Sheet3!$F$1","v":218},{"$f":"+Sheet3!BR12/Sheet3!$F$1","v":1181},{"$f":"+Sheet3!BS12/Sheet3!$F$1","v":145},{"$f":"+Sheet3!BT12/Sheet3!$F$1","v":8},{"$f":"+Sheet3!BU12/Sheet3!$F$1","v":0},{"$f":"+Sheet3!BV12/Sheet3!$F$1","v":709},{"$f":"+Sheet3!BW12/Sheet3!$F$1","v":919},{"$f":"+Sheet3!BX12/Sheet3!$F$1","v":121},{"$f":"+Sheet3!BY12/Sheet3!$F$1","v":0},{"$f":"+Sheet3!BZ12/Sheet3!$F$1","v":0},{"$f":"+Sheet3!CA12/Sheet3!$F$1","v":355},{"$f":"+Sheet3!CB12/Sheet3!$F$1","v":396},{"$f":"+Sheet3!CC12/Sheet3!$F$1","v":20},{"$f":"+Sheet3!CD12/Sheet3!$F$1","v":0},{"$f":"+Sheet3!CE12/Sheet3!$F$1","v":0},{"$f":"+Sheet3!CF12/Sheet3!$F$1","v":490},{"$f":"+Sheet3!CG12/Sheet3!$F$1","v":6},{"$f":"+Sheet3!CH12/Sheet3!$F$1","v":0},{"$f":"+Sheet3!CI12/Sheet3!$F$1","v":0},{"$f":"+Sheet3!CJ12/Sheet3!$F$1","v":0},{"$f":"+Sheet3!CK12/Sheet3!$F$1","v":0},{"$f":"+Sheet3!CL12/Sheet3!$F$1","v":0},{"$f":"+Sheet3!CM12/Sheet3!$F$1","v":0},{"$f":"+Sheet3!CN12/Sheet3!$F$1","v":0},{"$f":"+Sheet3!CO12/Sheet3!$F$1","v":0},{"$f":"+Sheet3!CP12/Sheet3!$F$1","v":39},{"$f":"+Sheet3!CQ12/Sheet3!$F$1","v":0},{"$f":"+Sheet3!CR12/Sheet3!$F$1","v":0},{"$f":"+Sheet3!CS12/Sheet3!$F$1","v":0},{"$f":"+Sheet3!CT12/Sheet3!$F$1","v":0},{"$f":"+Sheet3!CU12/Sheet3!$F$1","v":19},{"$f":"+Sheet3!CV12/Sheet3!$F$1","v":172},{"$f":"+Sheet3!CW12/Sheet3!$F$1","v":591},{"$f":"+Sheet3!CX12/Sheet3!$F$1","v":0},{"$f":"+Sheet3!CY12/Sheet3!$F$1","v":0},{"$f":"+Sheet3!CZ12/Sheet3!$F$1","v":1276},{"$f":"+Sheet3!DA12/Sheet3!$F$1","v":103},{"$f":"+Sheet3!DB12/Sheet3!$F$1","v":1540},{"$f":"+Sheet3!DC12/Sheet3!$F$1","v":280},{"$f":"+Sheet3!DD12/Sheet3!$F$1","v":4186},{"$f":"+Sheet3!DE12/Sheet3!$F$1","v":54},{"$f":"+Sheet3!DF12/Sheet3!$F$1","v":175},{"$f":"+Sheet3!DG12/Sheet3!$F$1","v":72},{"$f":"+Sheet3!DH12/Sheet3!$F$1","v":1557},{"$f":"+Sheet3!DI12/Sheet3!$F$1","v":1753},{"$f":"+Sheet3!DJ12/Sheet3!$F$1","v":773},{"$f":"+Sheet3!DK12/Sheet3!$F$1","v":498},{"$f":"+Sheet3!DL12/Sheet3!$F$1","v":0},{"$f":"+Sheet3!DM12/Sheet3!$F$1","v":42},{"$f":"+Sheet3!DN12/Sheet3!$F$1","v":8263},{"$f":"+Sheet3!DO12/Sheet3!$F$1","v":4378},{"$f":"+Sheet3!DP12/Sheet3!$F$1","v":420},{"$f":"+Sheet3!DQ12/Sheet3!$F$1","v":28},{"$f":"+Sheet3!DR12/Sheet3!$F$1","v":3},13092]
[null,"11C","Tâmega e Sousa",{"$f":"+Sheet3!D13/Sheet3!$F$1","v":0},{"$f":"+Sheet3!E13/Sheet3!$F$1","v":0},{"$f":"+Sheet3!F13/Sheet3!$F$1","v":0},{"$f":"+Sheet3!G13/Sheet3!$F$1","v":0},{"$f":"+Sheet3!H13/Sheet3!$F$1","v":0},{"$f":"+Sheet3!I13/Sheet3!$F$1","v":447},{"$f":"+Sheet3!J13/Sheet3!$F$1","v":44},{"$f":"+Sheet3!K13/Sheet3!$F$1","v":0},{"$f":"+Sheet3!L13/Sheet3!$F$1","v":6},{"$f":"+Sheet3!M13/Sheet3!$F$1","v":0},{"$f":"+Sheet3!N13/Sheet3!$F$1","v":41},{"$f":"+Sheet3!O13/Sheet3!$F$1","v":4},{"$f":"+Sheet3!P13/Sheet3!$F$1","v":0},{"$f":"+Sheet3!Q13/Sheet3!$F$1","v":0},{"$f":"+Sheet3!R13/Sheet3!$F$1","v":0},{"$f":"+Sheet3!S13/Sheet3!$F$1","v":0},{"$f":"+Sheet3!T13/Sheet3!$F$1","v":0},{"$f":"+Sheet3!U13/Sheet3!$F$1","v":0},{"$f":"+Sheet3!V13/Sheet3!$F$1","v":0},{"$f":"+Sheet3!W13/Sheet3!$F$1","v":0},{"$f":"+Sheet3!X13/Sheet3!$F$1","v":0},{"$f":"+Sheet3!Y13/Sheet3!$F$1","v":0},{"$f":"+Sheet3!Z13/Sheet3!$F$1","v":0},{"$f":"+Sheet3!AA13/Sheet3!$F$1","v":0},{"$f":"+Sheet3!AB13/Sheet3!$F$1","v":0},{"$f":"+Sheet3!AC13/Sheet3!$F$1","v":192},{"$f":"+Sheet3!AD13/Sheet3!$F$1","v":244},{"$f":"+Sheet3!AE13/Sheet3!$F$1","v":26},{"$f":"+Sheet3!AF13/Sheet3!$F$1","v":0},{"$f":"+Sheet3!AG13/Sheet3!$F$1","v":0},{"$f":"+Sheet3!AH13/Sheet3!$F$1","v":330},{"$f":"+Sheet3!AI13/Sheet3!$F$1","v":502},{"$f":"+Sheet3!AJ13/Sheet3!$F$1","v":77},{"$f":"+Sheet3!AK13/Sheet3!$F$1","v":5},{"$f":"+Sheet3!AL13/Sheet3!$F$1","v":0},{"$f":"+Sheet3!AM13/Sheet3!$F$1","v":93},{"$f":"+Sheet3!AN13/Sheet3!$F$1","v":273},{"$f":"+Sheet3!AO13/Sheet3!$F$1","v":237},{"$f":"+Sheet3!AP13/Sheet3!$F$1","v":29},{"$f":"+Sheet3!AQ13/Sheet3!$F$1","v":0},{"$f":"+Sheet3!AR13/Sheet3!$F$1","v":7},{"$f":"+Sheet3!AS13/Sheet3!$F$1","v":0},{"$f":"+Sheet3!AT13/Sheet3!$F$1","v":0},{"$f":"+Sheet3!AU13/Sheet3!$F$1","v":0},{"$f":"+Sheet3!AV13/Sheet3!$F$1","v":0},{"$f":"+Sheet3!AW13/Sheet3!$F$1","v":1994},{"$f":"+Sheet3!AX13/Sheet3!$F$1","v":784},{"$f":"+Sheet3!AY13/Sheet3!$F$1","v":32},{"$f":"+Sheet3!AZ13/Sheet3!$F$1","v":0},{"$f":"+Sheet3!BA13/Sheet3!$F$1","v":0},{"$f":"+Sheet3!BB13/Sheet3!$F$1","v":0},{"$f":"+Sheet3!BC13/Sheet3!$F$1","v":7},{"$f":"+Sheet3!BD13/Sheet3!$F$1","v":6},{"$f":"+Sheet3!BE13/Sheet3!$F$1","v":13},{"$f":"+Sheet3!BF13/Sheet3!$F$1","v":0},{"$f":"+Sheet3!BG13/Sheet3!$F$1","v":67},{"$f":"+Sheet3!BH13/Sheet3!$F$1","v":60},{"$f":"+Sheet3!BI13/Sheet3!$F$1","v":4},{"$f":"+Sheet3!BJ13/Sheet3!$F$1","v":0},{"$f":"+Sheet3!BK13/Sheet3!$F$1","v":0},{"$f":"+Sheet3!BL13/Sheet3!$F$1","v":59},{"$f":"+Sheet3!BM13/Sheet3!$F$1","v":136},{"$f":"+Sheet3!BN13/Sheet3!$F$1","v":23},{"$f":"+Sheet3!BO13/Sheet3!$F$1","v":5},{"$f":"+Sheet3!BP13/Sheet3!$F$1","v":0},{"$f":"+Sheet3!BQ13/Sheet3!$F$1","v":27},{"$f":"+Sheet3!BR13/Sheet3!$F$1","v":44},{"$f":"+Sheet3!BS13/Sheet3!$F$1","v":9},{"$f":"+Sheet3!BT13/Sheet3!$F$1","v":0},{"$f":"+Sheet3!BU13/Sheet3!$F$1","v":0},{"$f":"+Sheet3!BV13/Sheet3!$F$1","v":226},{"$f":"+Sheet3!BW13/Sheet3!$F$1","v":133},{"$f":"+Sheet3!BX13/Sheet3!$F$1","v":19},{"$f":"+Sheet3!BY13/Sheet3!$F$1","v":5},{"$f":"+Sheet3!BZ13/Sheet3!$F$1","v":0},{"$f":"+Sheet3!CA13/Sheet3!$F$1","v":437},{"$f":"+Sheet3!CB13/Sheet3!$F$1","v":224},{"$f":"+Sheet3!CC13/Sheet3!$F$1","v":8},{"$f":"+Sheet3!CD13/Sheet3!$F$1","v":3},{"$f":"+Sheet3!CE13/Sheet3!$F$1","v":0},{"$f":"+Sheet3!CF13/Sheet3!$F$1","v":262},{"$f":"+Sheet3!CG13/Sheet3!$F$1","v":47},{"$f":"+Sheet3!CH13/Sheet3!$F$1","v":0},{"$f":"+Sheet3!CI13/Sheet3!$F$1","v":0},{"$f":"+Sheet3!CJ13/Sheet3!$F$1","v":0},{"$f":"+Sheet3!CK13/Sheet3!$F$1","v":0},{"$f":"+Sheet3!CL13/Sheet3!$F$1","v":0},{"$f":"+Sheet3!CM13/Sheet3!$F$1","v":0},{"$f":"+Sheet3!CN13/Sheet3!$F$1","v":0},{"$f":"+Sheet3!CO13/Sheet3!$F$1","v":0},{"$f":"+Sheet3!CP13/Sheet3!$F$1","v":0},{"$f":"+Sheet3!CQ13/Sheet3!$F$1","v":0},{"$f":"+Sheet3!CR13/Sheet3!$F$1","v":0},{"$f":"+Sheet3!CS13/Sheet3!$F$1","v":0},{"$f":"+Sheet3!CT13/Sheet3!$F$1","v":0},{"$f":"+Sheet3!CU13/Sheet3!$F$1","v":7},{"$f":"+Sheet3!CV13/Sheet3!$F$1","v":502},{"$f":"+Sheet3!CW13/Sheet3!$F$1","v":47},{"$f":"+Sheet3!CX13/Sheet3!$F$1","v":0},{"$f":"+Sheet3!CY13/Sheet3!$F$1","v":0},{"$f":"+Sheet3!CZ13/Sheet3!$F$1","v":466},{"$f":"+Sheet3!DA13/Sheet3!$F$1","v":918},{"$f":"+Sheet3!DB13/Sheet3!$F$1","v":633},{"$f":"+Sheet3!DC13/Sheet3!$F$1","v":10},{"$f":"+Sheet3!DD13/Sheet3!$F$1","v":2814},{"$f":"+Sheet3!DE13/Sheet3!$F$1","v":30},{"$f":"+Sheet3!DF13/Sheet3!$F$1","v":134},{"$f":"+Sheet3!DG13/Sheet3!$F$1","v":225},{"$f":"+Sheet3!DH13/Sheet3!$F$1","v":87},{"$f":"+Sheet3!DI13/Sheet3!$F$1","v":386},{"$f":"+Sheet3!DJ13/Sheet3!$F$1","v":672},{"$f":"+Sheet3!DK13/Sheet3!$F$1","v":313},{"$f":"+Sheet3!DL13/Sheet3!$F$1","v":0},{"$f":"+Sheet3!DM13/Sheet3!$F$1","v":0},{"$f":"+Sheet3!DN13/Sheet3!$F$1","v":4192},{"$f":"+Sheet3!DO13/Sheet3!$F$1","v":2520},{"$f":"+Sheet3!DP13/Sheet3!$F$1","v":456},{"$f":"+Sheet3!DQ13/Sheet3!$F$1","v":74},{"$f":"+Sheet3!DR13/Sheet3!$F$1","v":4},7246]
[null,"11D","Douro",{"$f":"+Sheet3!D14/Sheet3!$F$1","v":0},{"$f":"+Sheet3!E14/Sheet3!$F$1","v":0},{"$f":"+Sheet3!F14/Sheet3!$F$1","v":0},{"$f":"+Sheet3!G14/Sheet3!$F$1","v":0},{"$f":"+Sheet3!H14/Sheet3!$F$1","v":0},{"$f":"+Sheet3!I14/Sheet3!$F$1","v":13},{"$f":"+Sheet3!J14/Sheet3!$F$1","v":0},{"$f":"+Sheet3!K14/Sheet3!$F$1","v":0},{"$f":"+Sheet3!L14/Sheet3!$F$1","v":0},{"$f":"+Sheet3!M14/Sheet3!$F$1","v":0},{"$f":"+Sheet3!N14/Sheet3!$F$1","v":142},{"$f":"+Sheet3!O14/Sheet3!$F$1","v":15},{"$f":"+Sheet3!P14/Sheet3!$F$1","v":3},{"$f":"+Sheet3!Q14/Sheet3!$F$1","v":0},{"$f":"+Sheet3!R14/Sheet3!$F$1","v":0},{"$f":"+Sheet3!S14/Sheet3!$F$1","v":0},{"$f":"+Sheet3!T14/Sheet3!$F$1","v":0},{"$f":"+Sheet3!U14/Sheet3!$F$1","v":0},{"$f":"+Sheet3!V14/Sheet3!$F$1","v":0},{"$f":"+Sheet3!W14/Sheet3!$F$1","v":0},{"$f":"+Sheet3!X14/Sheet3!$F$1","v":0},{"$f":"+Sheet3!Y14/Sheet3!$F$1","v":0},{"$f":"+Sheet3!Z14/Sheet3!$F$1","v":0},{"$f":"+Sheet3!AA14/Sheet3!$F$1","v":0},{"$f":"+Sheet3!AB14/Sheet3!$F$1","v":0},{"$f":"+Sheet3!AC14/Sheet3!$F$1","v":835},{"$f":"+Sheet3!AD14/Sheet3!$F$1","v":924},{"$f":"+Sheet3!AE14/Sheet3!$F$1","v":42},{"$f":"+Sheet3!AF14/Sheet3!$F$1","v":0},{"$f":"+Sheet3!AG14/Sheet3!$F$1","v":0},{"$f":"+Sheet3!AH14/Sheet3!$F$1","v":3192},{"$f":"+Sheet3!AI14/Sheet3!$F$1","v":2278},{"$f":"+Sheet3!AJ14/Sheet3!$F$1","v":286},{"$f":"+Sheet3!AK14/Sheet3!$F$1","v":27},{"$f":"+Sheet3!AL14/Sheet3!$F$1","v":0},{"$f":"+Sheet3!AM14/Sheet3!$F$1","v":779},{"$f":"+Sheet3!AN14/Sheet3!$F$1","v":665},{"$f":"+Sheet3!AO14/Sheet3!$F$1","v":185},{"$f":"+Sheet3!AP14/Sheet3!$F$1","v":11},{"$f":"+Sheet3!AQ14/Sheet3!$F$1","v":0},{"$f":"+Sheet3!AR14/Sheet3!$F$1","v":569},{"$f":"+Sheet3!AS14/Sheet3!$F$1","v":22},{"$f":"+Sheet3!AT14/Sheet3!$F$1","v":0},{"$f":"+Sheet3!AU14/Sheet3!$F$1","v":0},{"$f":"+Sheet3!AV14/Sheet3!$F$1","v":0},{"$f":"+Sheet3!AW14/Sheet3!$F$1","v":5875},{"$f":"+Sheet3!AX14/Sheet3!$F$1","v":2529},{"$f":"+Sheet3!AY14/Sheet3!$F$1","v":102},{"$f":"+Sheet3!AZ14/Sheet3!$F$1","v":7},{"$f":"+Sheet3!BA14/Sheet3!$F$1","v":0},{"$f":"+Sheet3!BB14/Sheet3!$F$1","v":7},{"$f":"+Sheet3!BC14/Sheet3!$F$1","v":29},{"$f":"+Sheet3!BD14/Sheet3!$F$1","v":22},{"$f":"+Sheet3!BE14/Sheet3!$F$1","v":9},{"$f":"+Sheet3!BF14/Sheet3!$F$1","v":0},{"$f":"+Sheet3!BG14/Sheet3!$F$1","v":10},{"$f":"+Sheet3!BH14/Sheet3!$F$1","v":24},{"$f":"+Sheet3!BI14/Sheet3!$F$1","v":3},{"$f":"+Sheet3!BJ14/Sheet3!$F$1","v":0},{"$f":"+Sheet3!BK14/Sheet3!$F$1","v":0},{"$f":"+Sheet3!BL14/Sheet3!$F$1","v":7},{"$f":"+Sheet3!BM14/Sheet3!$F$1","v":12},{"$f":"+Sheet3!BN14/Sheet3!$F$1","v":0},{"$f":"+Sheet3!BO14/Sheet3!$F$1","v":0},{"$f":"+Sheet3!BP14/Sheet3!$F$1","v":0},{"$f":"+Sheet3!BQ14/Sheet3!$F$1","v":103},{"$f":"+Sheet3!BR14/Sheet3!$F$1","v":195},{"$f":"+Sheet3!BS14/Sheet3!$F$1","v":21},{"$f":"+Sheet3!BT14/Sheet3!$F$1","v":3},{"$f":"+Sheet3!BU14/Sheet3!$F$1","v":0},{"$f":"+Sheet3!BV14/Sheet3!$F$1","v":366},{"$f":"+Sheet3!BW14/Sheet3!$F$1","v":421},{"$f":"+Sheet3!BX14/Sheet3!$F$1","v":32},{"$f":"+Sheet3!BY14/Sheet3!$F$1","v":0},{"$f":"+Sheet3!BZ14/Sheet3!$F$1","v":0},{"$f":"+Sheet3!CA14/Sheet3!$F$1","v":267},{"$f":"+Sheet3!CB14/Sheet3!$F$1","v":214},{"$f":"+Sheet3!CC14/Sheet3!$F$1","v":8},{"$f":"+Sheet3!CD14/Sheet3!$F$1","v":0},{"$f":"+Sheet3!CE14/Sheet3!$F$1","v":0},{"$f":"+Sheet3!CF14/Sheet3!$F$1","v":115},{"$f":"+Sheet3!CG14/Sheet3!$F$1","v":6},{"$f":"+Sheet3!CH14/Sheet3!$F$1","v":0},{"$f":"+Sheet3!CI14/Sheet3!$F$1","v":0},{"$f":"+Sheet3!CJ14/Sheet3!$F$1","v":0},{"$f":"+Sheet3!CK14/Sheet3!$F$1","v":0},{"$f":"+Sheet3!CL14/Sheet3!$F$1","v":0},{"$f":"+Sheet3!CM14/Sheet3!$F$1","v":0},{"$f":"+Sheet3!CN14/Sheet3!$F$1","v":0},{"$f":"+Sheet3!CO14/Sheet3!$F$1","v":0},{"$f":"+Sheet3!CP14/Sheet3!$F$1","v":28},{"$f":"+Sheet3!CQ14/Sheet3!$F$1","v":5},{"$f":"+Sheet3!CR14/Sheet3!$F$1","v":0},{"$f":"+Sheet3!CS14/Sheet3!$F$1","v":0},{"$f":"+Sheet3!CT14/Sheet3!$F$1","v":0},{"$f":"+Sheet3!CU14/Sheet3!$F$1","v":4},{"$f":"+Sheet3!CV14/Sheet3!$F$1","v":19},{"$f":"+Sheet3!CW14/Sheet3!$F$1","v":164},{"$f":"+Sheet3!CX14/Sheet3!$F$1","v":0},{"$f":"+Sheet3!CY14/Sheet3!$F$1","v":0},{"$f":"+Sheet3!CZ14/Sheet3!$F$1","v":1803},{"$f":"+Sheet3!DA14/Sheet3!$F$1","v":5786},{"$f":"+Sheet3!DB14/Sheet3!$F$1","v":1642},{"$f":"+Sheet3!DC14/Sheet3!$F$1","v":594},{"$f":"+Sheet3!DD14/Sheet3!$F$1","v":8514},{"$f":"+Sheet3!DE14/Sheet3!$F$1","v":71},{"$f":"+Sheet3!DF14/Sheet3!$F$1","v":43},{"$f":"+Sheet3!DG14/Sheet3!$F$1","v":28},{"$f":"+Sheet3!DH14/Sheet3!$F$1","v":323},{"$f":"+Sheet3!DI14/Sheet3!$F$1","v":821},{"$f":"+Sheet3!DJ14/Sheet3!$F$1","v":489},{"$f":"+Sheet3!DK14/Sheet3!$F$1","v":121},{"$f":"+Sheet3!DL14/Sheet3!$F$1","v":0},{"$f":"+Sheet3!DM14/Sheet3!$F$1","v":33},{"$f":"+Sheet3!DN14/Sheet3!$F$1","v":12320},{"$f":"+Sheet3!DO14/Sheet3!$F$1","v":7353},{"$f":"+Sheet3!DP14/Sheet3!$F$1","v":713},{"$f":"+Sheet3!DQ14/Sheet3!$F$1","v":65},{"$f":"+Sheet3!DR14/Sheet3!$F$1","v":4},20455]
[null,"11E","Terras de Trás-os-Montes",{"$f":"+Sheet3!D15/Sheet3!$F$1","v":3},{"$f":"+Sheet3!E15/Sheet3!$F$1","v":14},{"$f":"+Sheet3!F15/Sheet3!$F$1","v":14},{"$f":"+Sheet3!G15/Sheet3!$F$1","v":5},{"$f":"+Sheet3!H15/Sheet3!$F$1","v":0},{"$f":"+Sheet3!I15/Sheet3!$F$1","v":0},{"$f":"+Sheet3!J15/Sheet3!$F$1","v":0},{"$f":"+Sheet3!K15/Sheet3!$F$1","v":0},{"$f":"+Sheet3!L15/Sheet3!$F$1","v":0},{"$f":"+Sheet3!M15/Sheet3!$F$1","v":0},{"$f":"+Sheet3!N15/Sheet3!$F$1","v":616},{"$f":"+Sheet3!O15/Sheet3!$F$1","v":101},{"$f":"+Sheet3!P15/Sheet3!$F$1","v":7},{"$f":"+Sheet3!Q15/Sheet3!$F$1","v":0},{"$f":"+Sheet3!R15/Sheet3!$F$1","v":0},{"$f":"+Sheet3!S15/Sheet3!$F$1","v":0},{"$f":"+Sheet3!T15/Sheet3!$F$1","v":0},{"$f":"+Sheet3!U15/Sheet3!$F$1","v":0},{"$f":"+Sheet3!V15/Sheet3!$F$1","v":0},{"$f":"+Sheet3!W15/Sheet3!$F$1","v":0},{"$f":"+Sheet3!X15/Sheet3!$F$1","v":0},{"$f":"+Sheet3!Y15/Sheet3!$F$1","v":3},{"$f":"+Sheet3!Z15/Sheet3!$F$1","v":0},{"$f":"+Sheet3!AA15/Sheet3!$F$1","v":0},{"$f":"+Sheet3!AB15/Sheet3!$F$1","v":0},{"$f":"+Sheet3!AC15/Sheet3!$F$1","v":1867},{"$f":"+Sheet3!AD15/Sheet3!$F$1","v":2809},{"$f":"+Sheet3!AE15/Sheet3!$F$1","v":238},{"$f":"+Sheet3!AF15/Sheet3!$F$1","v":19},{"$f":"+Sheet3!AG15/Sheet3!$F$1","v":0},{"$f":"+Sheet3!AH15/Sheet3!$F$1","v":113},{"$f":"+Sheet3!AI15/Sheet3!$F$1","v":71},{"$f":"+Sheet3!AJ15/Sheet3!$F$1","v":5},{"$f":"+Sheet3!AK15/Sheet3!$F$1","v":0},{"$f":"+Sheet3!AL15/Sheet3!$F$1","v":0},{"$f":"+Sheet3!AM15/Sheet3!$F$1","v":1639},{"$f":"+Sheet3!AN15/Sheet3!$F$1","v":773},{"$f":"+Sheet3!AO15/Sheet3!$F$1","v":62},{"$f":"+Sheet3!AP15/Sheet3!$F$1","v":6},{"$f":"+Sheet3!AQ15/Sheet3!$F$1","v":0},{"$f":"+Sheet3!AR15/Sheet3!$F$1","v":1956},{"$f":"+Sheet3!AS15/Sheet3!$F$1","v":185},{"$f":"+Sheet3!AT15/Sheet3!$F$1","v":31},{"$f":"+Sheet3!AU15/Sheet3!$F$1","v":0},{"$f":"+Sheet3!AV15/Sheet3!$F$1","v":0},{"$f":"+Sheet3!AW15/Sheet3!$F$1","v":7052},{"$f":"+Sheet3!AX15/Sheet3!$F$1","v":3869},{"$f":"+Sheet3!AY15/Sheet3!$F$1","v":138},{"$f":"+Sheet3!AZ15/Sheet3!$F$1","v":6},{"$f":"+Sheet3!BA15/Sheet3!$F$1","v":0},{"$f":"+Sheet3!BB15/Sheet3!$F$1","v":0},{"$f":"+Sheet3!BC15/Sheet3!$F$1","v":0},{"$f":"+Sheet3!BD15/Sheet3!$F$1","v":10},{"$f":"+Sheet3!BE15/Sheet3!$F$1","v":6},{"$f":"+Sheet3!BF15/Sheet3!$F$1","v":0},{"$f":"+Sheet3!BG15/Sheet3!$F$1","v":12},{"$f":"+Sheet3!BH15/Sheet3!$F$1","v":76},{"$f":"+Sheet3!BI15/Sheet3!$F$1","v":38},{"$f":"+Sheet3!BJ15/Sheet3!$F$1","v":0},{"$f":"+Sheet3!BK15/Sheet3!$F$1","v":0},{"$f":"+Sheet3!BL15/Sheet3!$F$1","v":7},{"$f":"+Sheet3!BM15/Sheet3!$F$1","v":37},{"$f":"+Sheet3!BN15/Sheet3!$F$1","v":15},{"$f":"+Sheet3!BO15/Sheet3!$F$1","v":0},{"$f":"+Sheet3!BP15/Sheet3!$F$1","v":0},{"$f":"+Sheet3!BQ15/Sheet3!$F$1","v":10},{"$f":"+Sheet3!BR15/Sheet3!$F$1","v":71},{"$f":"+Sheet3!BS15/Sheet3!$F$1","v":20},{"$f":"+Sheet3!BT15/Sheet3!$F$1","v":0},{"$f":"+Sheet3!BU15/Sheet3!$F$1","v":0},{"$f":"+Sheet3!BV15/Sheet3!$F$1","v":174},{"$f":"+Sheet3!BW15/Sheet3!$F$1","v":514},{"$f":"+Sheet3!BX15/Sheet3!$F$1","v":86},{"$f":"+Sheet3!BY15/Sheet3!$F$1","v":0},{"$f":"+Sheet3!BZ15/Sheet3!$F$1","v":0},{"$f":"+Sheet3!CA15/Sheet3!$F$1","v":197},{"$f":"+Sheet3!CB15/Sheet3!$F$1","v":739},{"$f":"+Sheet3!CC15/Sheet3!$F$1","v":131},{"$f":"+Sheet3!CD15/Sheet3!$F$1","v":3},{"$f":"+Sheet3!CE15/Sheet3!$F$1","v":0},{"$f":"+Sheet3!CF15/Sheet3!$F$1","v":295},{"$f":"+Sheet3!CG15/Sheet3!$F$1","v":6},{"$f":"+Sheet3!CH15/Sheet3!$F$1","v":0},{"$f":"+Sheet3!CI15/Sheet3!$F$1","v":4},{"$f":"+Sheet3!CJ15/Sheet3!$F$1","v":0},{"$f":"+Sheet3!CK15/Sheet3!$F$1","v":0},{"$f":"+Sheet3!CL15/Sheet3!$F$1","v":0},{"$f":"+Sheet3!CM15/Sheet3!$F$1","v":0},{"$f":"+Sheet3!CN15/Sheet3!$F$1","v":0},{"$f":"+Sheet3!CO15/Sheet3!$F$1","v":0},{"$f":"+Sheet3!CP15/Sheet3!$F$1","v":4},{"$f":"+Sheet3!CQ15/Sheet3!$F$1","v":0},{"$f":"+Sheet3!CR15/Sheet3!$F$1","v":0},{"$f":"+Sheet3!CS15/Sheet3!$F$1","v":0},{"$f":"+Sheet3!CT15/Sheet3!$F$1","v":0},{"$f":"+Sheet3!CU15/Sheet3!$F$1","v":43},{"$f":"+Sheet3!CV15/Sheet3!$F$1","v":6},{"$f":"+Sheet3!CW15/Sheet3!$F$1","v":726},{"$f":"+Sheet3!CX15/Sheet3!$F$1","v":0},{"$f":"+Sheet3!CY15/Sheet3!$F$1","v":12},{"$f":"+Sheet3!CZ15/Sheet3!$F$1","v":4936},{"$f":"+Sheet3!DA15/Sheet3!$F$1","v":192},{"$f":"+Sheet3!DB15/Sheet3!$F$1","v":2484},{"$f":"+Sheet3!DC15/Sheet3!$F$1","v":2176},{"$f":"+Sheet3!DD15/Sheet3!$F$1","v":11069},{"$f":"+Sheet3!DE15/Sheet3!$F$1","v":22},{"$f":"+Sheet3!DF15/Sheet3!$F$1","v":129},{"$f":"+Sheet3!DG15/Sheet3!$F$1","v":61},{"$f":"+Sheet3!DH15/Sheet3!$F$1","v":106},{"$f":"+Sheet3!DI15/Sheet3!$F$1","v":777},{"$f":"+Sheet3!DJ15/Sheet3!$F$1","v":1074},{"$f":"+Sheet3!DK15/Sheet3!$F$1","v":310},{"$f":"+Sheet3!DL15/Sheet3!$F$1","v":0},{"$f":"+Sheet3!DM15/Sheet3!$F$1","v":6},{"$f":"+Sheet3!DN15/Sheet3!$F$1","v":13963},{"$f":"+Sheet3!DO15/Sheet3!$F$1","v":9282},{"$f":"+Sheet3!DP15/Sheet3!$F$1","v":819},{"$f":"+Sheet3!DQ15/Sheet3!$F$1","v":62},{"$f":"+Sheet3!DR15/Sheet3!$F$1","v":3},24129]
["Centro","16B","Oeste",{"$f":"+Sheet3!D16/Sheet3!$F$1","v":0},{"$f":"+Sheet3!E16/Sheet3!$F$1","v":0},{"$f":"+Sheet3!F16/Sheet3!$F$1","v":6},{"$f":"+Sheet3!G16/Sheet3!$F$1","v":0},{"$f":"+Sheet3!H16/Sheet3!$F$1","v":15},{"$f":"+Sheet3!I16/Sheet3!$F$1","v":0},{"$f":"+Sheet3!J16/Sheet3!$F$1","v":0},{"$f":"+Sheet3!K16/Sheet3!$F$1","v":0},{"$f":"+Sheet3!L16/Sheet3!$F$1","v":0},{"$f":"+Sheet3!M16/Sheet3!$F$1","v":0},{"$f":"+Sheet3!N16/Sheet3!$F$1","v":37},{"$f":"+Sheet3!O16/Sheet3!$F$1","v":25},{"$f":"+Sheet3!P16/Sheet3!$F$1","v":5},{"$f":"+Sheet3!Q16/Sheet3!$F$1","v":0},{"$f":"+Sheet3!R16/Sheet3!$F$1","v":0},{"$f":"+Sheet3!S16/Sheet3!$F$1","v":0},{"$f":"+Sheet3!T16/Sheet3!$F$1","v":0},{"$f":"+Sheet3!U16/Sheet3!$F$1","v":0},{"$f":"+Sheet3!V16/Sheet3!$F$1","v":0},{"$f":"+Sheet3!W16/Sheet3!$F$1","v":0},{"$f":"+Sheet3!X16/Sheet3!$F$1","v":0},{"$f":"+Sheet3!Y16/Sheet3!$F$1","v":0},{"$f":"+Sheet3!Z16/Sheet3!$F$1","v":0},{"$f":"+Sheet3!AA16/Sheet3!$F$1","v":0},{"$f":"+Sheet3!AB16/Sheet3!$F$1","v":0},{"$f":"+Sheet3!AC16/Sheet3!$F$1","v":12},{"$f":"+Sheet3!AD16/Sheet3!$F$1","v":83},{"$f":"+Sheet3!AE16/Sheet3!$F$1","v":80},{"$f":"+Sheet3!AF16/Sheet3!$F$1","v":24},{"$f":"+Sheet3!AG16/Sheet3!$F$1","v":0},{"$f":"+Sheet3!AH16/Sheet3!$F$1","v":16},{"$f":"+Sheet3!AI16/Sheet3!$F$1","v":94},{"$f":"+Sheet3!AJ16/Sheet3!$F$1","v":104},{"$f":"+Sheet3!AK16/Sheet3!$F$1","v":37},{"$f":"+Sheet3!AL16/Sheet3!$F$1","v":0},{"$f":"+Sheet3!AM16/Sheet3!$F$1","v":16},{"$f":"+Sheet3!AN16/Sheet3!$F$1","v":115},{"$f":"+Sheet3!AO16/Sheet3!$F$1","v":286},{"$f":"+Sheet3!AP16/Sheet3!$F$1","v":224},{"$f":"+Sheet3!AQ16/Sheet3!$F$1","v":19},{"$f":"+Sheet3!AR16/Sheet3!$F$1","v":0},{"$f":"+Sheet3!AS16/Sheet3!$F$1","v":0},{"$f":"+Sheet3!AT16/Sheet3!$F$1","v":0},{"$f":"+Sheet3!AU16/Sheet3!$F$1","v":0},{"$f":"+Sheet3!AV16/Sheet3!$F$1","v":0},{"$f":"+Sheet3!AW16/Sheet3!$F$1","v":75},{"$f":"+Sheet3!AX16/Sheet3!$F$1","v":115},{"$f":"+Sheet3!AY16/Sheet3!$F$1","v":53},{"$f":"+Sheet3!AZ16/Sheet3!$F$1","v":20},{"$f":"+Sheet3!BA16/Sheet3!$F$1","v":0},{"$f":"+Sheet3!BB16/Sheet3!$F$1","v":0},{"$f":"+Sheet3!BC16/Sheet3!$F$1","v":0},{"$f":"+Sheet3!BD16/Sheet3!$F$1","v":0},{"$f":"+Sheet3!BE16/Sheet3!$F$1","v":0},{"$f":"+Sheet3!BF16/Sheet3!$F$1","v":4},{"$f":"+Sheet3!BG16/Sheet3!$F$1","v":3},{"$f":"+Sheet3!BH16/Sheet3!$F$1","v":5},{"$f":"+Sheet3!BI16/Sheet3!$F$1","v":4},{"$f":"+Sheet3!BJ16/Sheet3!$F$1","v":0},{"$f":"+Sheet3!BK16/Sheet3!$F$1","v":0},{"$f":"+Sheet3!BL16/Sheet3!$F$1","v":23},{"$f":"+Sheet3!BM16/Sheet3!$F$1","v":57},{"$f":"+Sheet3!BN16/Sheet3!$F$1","v":26},{"$f":"+Sheet3!BO16/Sheet3!$F$1","v":15},{"$f":"+Sheet3!BP16/Sheet3!$F$1","v":0},{"$f":"+Sheet3!BQ16/Sheet3!$F$1","v":0},{"$f":"+Sheet3!BR16/Sheet3!$F$1","v":5},{"$f":"+Sheet3!BS16/Sheet3!$F$1","v":0},{"$f":"+Sheet3!BT16/Sheet3!$F$1","v":0},{"$f":"+Sheet3!BU16/Sheet3!$F$1","v":0},{"$f":"+Sheet3!BV16/Sheet3!$F$1","v":293},{"$f":"+Sheet3!BW16/Sheet3!$F$1","v":132},{"$f":"+Sheet3!BX16/Sheet3!$F$1","v":16},{"$f":"+Sheet3!BY16/Sheet3!$F$1","v":0},{"$f":"+Sheet3!BZ16/Sheet3!$F$1","v":0},{"$f":"+Sheet3!CA16/Sheet3!$F$1","v":34},{"$f":"+Sheet3!CB16/Sheet3!$F$1","v":44},{"$f":"+Sheet3!CC16/Sheet3!$F$1","v":11},{"$f":"+Sheet3!CD16/Sheet3!$F$1","v":4},{"$f":"+Sheet3!CE16/Sheet3!$F$1","v":0},{"$f":"+Sheet3!CF16/Sheet3!$F$1","v":171},{"$f":"+Sheet3!CG16/Sheet3!$F$1","v":43},{"$f":"+Sheet3!CH16/Sheet3!$F$1","v":6},{"$f":"+Sheet3!CI16/Sheet3!$F$1","v":0},{"$f":"+Sheet3!CJ16/Sheet3!$F$1","v":0},{"$f":"+Sheet3!CK16/Sheet3!$F$1","v":0},{"$f":"+Sheet3!CL16/Sheet3!$F$1","v":0},{"$f":"+Sheet3!CM16/Sheet3!$F$1","v":0},{"$f":"+Sheet3!CN16/Sheet3!$F$1","v":0},{"$f":"+Sheet3!CO16/Sheet3!$F$1","v":0},{"$f":"+Sheet3!CP16/Sheet3!$F$1","v":0},{"$f":"+Sheet3!CQ16/Sheet3!$F$1","v":7},{"$f":"+Sheet3!CR16/Sheet3!$F$1","v":3},{"$f":"+Sheet3!CS16/Sheet3!$F$1","v":0},{"$f":"+Sheet3!CT16/Sheet3!$F$1","v":0},{"$f":"+Sheet3!CU16/Sheet3!$F$1","v":31},{"$f":"+Sheet3!CV16/Sheet3!$F$1","v":8},{"$f":"+Sheet3!CW16/Sheet3!$F$1","v":76},{"$f":"+Sheet3!CX16/Sheet3!$F$1","v":0},{"$f":"+Sheet3!CY16/Sheet3!$F$1","v":0},{"$f":"+Sheet3!CZ16/Sheet3!$F$1","v":204},{"$f":"+Sheet3!DA16/Sheet3!$F$1","v":255},{"$f":"+Sheet3!DB16/Sheet3!$F$1","v":663},{"$f":"+Sheet3!DC16/Sheet3!$F$1","v":0},{"$f":"+Sheet3!DD16/Sheet3!$F$1","v":270},{"$f":"+Sheet3!DE16/Sheet3!$F$1","v":9},{"$f":"+Sheet3!DF16/Sheet3!$F$1","v":17},{"$f":"+Sheet3!DG16/Sheet3!$F$1","v":126},{"$f":"+Sheet3!DH16/Sheet3!$F$1","v":8},{"$f":"+Sheet3!DI16/Sheet3!$F$1","v":446},{"$f":"+Sheet3!DJ16/Sheet3!$F$1","v":96},{"$f":"+Sheet3!DK16/Sheet3!$F$1","v":220},{"$f":"+Sheet3!DL16/Sheet3!$F$1","v":3},{"$f":"+Sheet3!DM16/Sheet3!$F$1","v":13},{"$f":"+Sheet3!DN16/Sheet3!$F$1","v":698},{"$f":"+Sheet3!DO16/Sheet3!$F$1","v":741},{"$f":"+Sheet3!DP16/Sheet3!$F$1","v":616},{"$f":"+Sheet3!DQ16/Sheet3!$F$1","v":348},{"$f":"+Sheet3!DR16/Sheet3!$F$1","v":47},2450]
[null,"16D","Região de Aveiro",{"$f":"+Sheet3!D17/Sheet3!$F$1","v":0},{"$f":"+Sheet3!E17/Sheet3!$F$1","v":7},{"$f":"+Sheet3!F17/Sheet3!$F$1","v":0},{"$f":"+Sheet3!G17/Sheet3!$F$1","v":0},{"$f":"+Sheet3!H17/Sheet3!$F$1","v":0},{"$f":"+Sheet3!I17/Sheet3!$F$1","v":530},{"$f":"+Sheet3!J17/Sheet3!$F$1","v":138},{"$f":"+Sheet3!K17/Sheet3!$F$1","v":9},{"$f":"+Sheet3!L17/Sheet3!$F$1","v":0},{"$f":"+Sheet3!M17/Sheet3!$F$1","v":0},{"$f":"+Sheet3!N17/Sheet3!$F$1","v":670},{"$f":"+Sheet3!O17/Sheet3!$F$1","v":101},{"$f":"+Sheet3!P17/Sheet3!$F$1","v":5},{"$f":"+Sheet3!Q17/Sheet3!$F$1","v":0},{"$f":"+Sheet3!R17/Sheet3!$F$1","v":0},{"$f":"+Sheet3!S17/Sheet3!$F$1","v":0},{"$f":"+Sheet3!T17/Sheet3!$F$1","v":0},{"$f":"+Sheet3!U17/Sheet3!$F$1","v":4},{"$f":"+Sheet3!V17/Sheet3!$F$1","v":0},{"$f":"+Sheet3!W17/Sheet3!$F$1","v":0},{"$f":"+Sheet3!X17/Sheet3!$F$1","v":0},{"$f":"+Sheet3!Y17/Sheet3!$F$1","v":0},{"$f":"+Sheet3!Z17/Sheet3!$F$1","v":0},{"$f":"+Sheet3!AA17/Sheet3!$F$1","v":0},{"$f":"+Sheet3!AB17/Sheet3!$F$1","v":0},{"$f":"+Sheet3!AC17/Sheet3!$F$1","v":143},{"$f":"+Sheet3!AD17/Sheet3!$F$1","v":114},{"$f":"+Sheet3!AE17/Sheet3!$F$1","v":21},{"$f":"+Sheet3!AF17/Sheet3!$F$1","v":5},{"$f":"+Sheet3!AG17/Sheet3!$F$1","v":0},{"$f":"+Sheet3!AH17/Sheet3!$F$1","v":23},{"$f":"+Sheet3!AI17/Sheet3!$F$1","v":37},{"$f":"+Sheet3!AJ17/Sheet3!$F$1","v":4},{"$f":"+Sheet3!AK17/Sheet3!$F$1","v":0},{"$f":"+Sheet3!AL17/Sheet3!$F$1","v":0},{"$f":"+Sheet3!AM17/Sheet3!$F$1","v":34},{"$f":"+Sheet3!AN17/Sheet3!$F$1","v":123},{"$f":"+Sheet3!AO17/Sheet3!$F$1","v":67},{"$f":"+Sheet3!AP17/Sheet3!$F$1","v":3},{"$f":"+Sheet3!AQ17/Sheet3!$F$1","v":0},{"$f":"+Sheet3!AR17/Sheet3!$F$1","v":0},{"$f":"+Sheet3!AS17/Sheet3!$F$1","v":0},{"$f":"+Sheet3!AT17/Sheet3!$F$1","v":0},{"$f":"+Sheet3!AU17/Sheet3!$F$1","v":0},{"$f":"+Sheet3!AV17/Sheet3!$F$1","v":0},{"$f":"+Sheet3!AW17/Sheet3!$F$1","v":596},{"$f":"+Sheet3!AX17/Sheet3!$F$1","v":243},{"$f":"+Sheet3!AY17/Sheet3!$F$1","v":17},{"$f":"+Sheet3!AZ17/Sheet3!$F$1","v":0},{"$f":"+Sheet3!BA17/Sheet3!$F$1","v":0},{"$f":"+Sheet3!BB17/Sheet3!$F$1","v":0},{"$f":"+Sheet3!BC17/Sheet3!$F$1","v":16},{"$f":"+Sheet3!BD17/Sheet3!$F$1","v":54},{"$f":"+Sheet3!BE17/Sheet3!$F$1","v":100},{"$f":"+Sheet3!BF17/Sheet3!$F$1","v":11},{"$f":"+Sheet3!BG17/Sheet3!$F$1","v":6},{"$f":"+Sheet3!BH17/Sheet3!$F$1","v":34},{"$f":"+Sheet3!BI17/Sheet3!$F$1","v":7},{"$f":"+Sheet3!BJ17/Sheet3!$F$1","v":0},{"$f":"+Sheet3!BK17/Sheet3!$F$1","v":0},{"$f":"+Sheet3!BL17/Sheet3!$F$1","v":42},{"$f":"+Sheet3!BM17/Sheet3!$F$1","v":140},{"$f":"+Sheet3!BN17/Sheet3!$F$1","v":39},{"$f":"+Sheet3!BO17/Sheet3!$F$1","v":4},{"$f":"+Sheet3!BP17/Sheet3!$F$1","v":0},{"$f":"+Sheet3!BQ17/Sheet3!$F$1","v":0},{"$f":"+Sheet3!BR17/Sheet3!$F$1","v":13},{"$f":"+Sheet3!BS17/Sheet3!$F$1","v":0},{"$f":"+Sheet3!BT17/Sheet3!$F$1","v":0},{"$f":"+Sheet3!BU17/Sheet3!$F$1","v":0},{"$f":"+Sheet3!BV17/Sheet3!$F$1","v":42},{"$f":"+Sheet3!BW17/Sheet3!$F$1","v":26},{"$f":"+Sheet3!BX17/Sheet3!$F$1","v":0},{"$f":"+Sheet3!BY17/Sheet3!$F$1","v":0},{"$f":"+Sheet3!BZ17/Sheet3!$F$1","v":0},{"$f":"+Sheet3!CA17/Sheet3!$F$1","v":145},{"$f":"+Sheet3!CB17/Sheet3!$F$1","v":173},{"$f":"+Sheet3!CC17/Sheet3!$F$1","v":11},{"$f":"+Sheet3!CD17/Sheet3!$F$1","v":0},{"$f":"+Sheet3!CE17/Sheet3!$F$1","v":0},{"$f":"+Sheet3!CF17/Sheet3!$F$1","v":309},{"$f":"+Sheet3!CG17/Sheet3!$F$1","v":142},{"$f":"+Sheet3!CH17/Sheet3!$F$1","v":6},{"$f":"+Sheet3!CI17/Sheet3!$F$1","v":0},{"$f":"+Sheet3!CJ17/Sheet3!$F$1","v":0},{"$f":"+Sheet3!CK17/Sheet3!$F$1","v":0},{"$f":"+Sheet3!CL17/Sheet3!$F$1","v":0},{"$f":"+Sheet3!CM17/Sheet3!$F$1","v":0},{"$f":"+Sheet3!CN17/Sheet3!$F$1","v":0},{"$f":"+Sheet3!CO17/Sheet3!$F$1","v":0},{"$f":"+Sheet3!CP17/Sheet3!$F$1","v":21},{"$f":"+Sheet3!CQ17/Sheet3!$F$1","v":8},{"$f":"+Sheet3!CR17/Sheet3!$F$1","v":0},{"$f":"+Sheet3!CS17/Sheet3!$F$1","v":0},{"$f":"+Sheet3!CT17/Sheet3!$F$1","v":0},{"$f":"+Sheet3!CU17/Sheet3!$F$1","v":13},{"$f":"+Sheet3!CV17/Sheet3!$F$1","v":683},{"$f":"+Sheet3!CW17/Sheet3!$F$1","v":780},{"$f":"+Sheet3!CX17/Sheet3!$F$1","v":6},{"$f":"+Sheet3!CY17/Sheet3!$F$1","v":0},{"$f":"+Sheet3!CZ17/Sheet3!$F$1","v":291},{"$f":"+Sheet3!DA17/Sheet3!$F$1","v":71},{"$f":"+Sheet3!DB17/Sheet3!$F$1","v":231},{"$f":"+Sheet3!DC17/Sheet3!$F$1","v":0},{"$f":"+Sheet3!DD17/Sheet3!$F$1","v":858},{"$f":"+Sheet3!DE17/Sheet3!$F$1","v":189},{"$f":"+Sheet3!DF17/Sheet3!$F$1","v":48},{"$f":"+Sheet3!DG17/Sheet3!$F$1","v":228},{"$f":"+Sheet3!DH17/Sheet3!$F$1","v":17},{"$f":"+Sheet3!DI17/Sheet3!$F$1","v":69},{"$f":"+Sheet3!DJ17/Sheet3!$F$1","v":334},{"$f":"+Sheet3!DK17/Sheet3!$F$1","v":458},{"$f":"+Sheet3!DL17/Sheet3!$F$1","v":0},{"$f":"+Sheet3!DM17/Sheet3!$F$1","v":33},{"$f":"+Sheet3!DN17/Sheet3!$F$1","v":2582},{"$f":"+Sheet3!DO17/Sheet3!$F$1","v":1333},{"$f":"+Sheet3!DP17/Sheet3!$F$1","v":257},{"$f":"+Sheet3!DQ17/Sheet3!$F$1","v":125},{"$f":"+Sheet3!DR17/Sheet3!$F$1","v":15},4312]
[null,"16E","Região de Coimbra",{"$f":"+Sheet3!D18/Sheet3!$F$1","v":9},{"$f":"+Sheet3!E18/Sheet3!$F$1","v":11},{"$f":"+Sheet3!F18/Sheet3!$F$1","v":0},{"$f":"+Sheet3!G18/Sheet3!$F$1","v":0},{"$f":"+Sheet3!H18/Sheet3!$F$1","v":0},{"$f":"+Sheet3!I18/Sheet3!$F$1","v":557},{"$f":"+Sheet3!J18/Sheet3!$F$1","v":357},{"$f":"+Sheet3!K18/Sheet3!$F$1","v":93},{"$f":"+Sheet3!L18/Sheet3!$F$1","v":11},{"$f":"+Sheet3!M18/Sheet3!$F$1","v":0},{"$f":"+Sheet3!N18/Sheet3!$F$1","v":351},{"$f":"+Sheet3!O18/Sheet3!$F$1","v":33},{"$f":"+Sheet3!P18/Sheet3!$F$1","v":4},{"$f":"+Sheet3!Q18/Sheet3!$F$1","v":0},{"$f":"+Sheet3!R18/Sheet3!$F$1","v":0},{"$f":"+Sheet3!S18/Sheet3!$F$1","v":84},{"$f":"+Sheet3!T18/Sheet3!$F$1","v":144},{"$f":"+Sheet3!U18/Sheet3!$F$1","v":55},{"$f":"+Sheet3!V18/Sheet3!$F$1","v":13},{"$f":"+Sheet3!W18/Sheet3!$F$1","v":0},{"$f":"+Sheet3!X18/Sheet3!$F$1","v":0},{"$f":"+Sheet3!Y18/Sheet3!$F$1","v":3},{"$f":"+Sheet3!Z18/Sheet3!$F$1","v":0},{"$f":"+Sheet3!AA18/Sheet3!$F$1","v":0},{"$f":"+Sheet3!AB18/Sheet3!$F$1","v":0},{"$f":"+Sheet3!AC18/Sheet3!$F$1","v":336},{"$f":"+Sheet3!AD18/Sheet3!$F$1","v":267},{"$f":"+Sheet3!AE18/Sheet3!$F$1","v":33},{"$f":"+Sheet3!AF18/Sheet3!$F$1","v":13},{"$f":"+Sheet3!AG18/Sheet3!$F$1","v":0},{"$f":"+Sheet3!AH18/Sheet3!$F$1","v":54},{"$f":"+Sheet3!AI18/Sheet3!$F$1","v":58},{"$f":"+Sheet3!AJ18/Sheet3!$F$1","v":4},{"$f":"+Sheet3!AK18/Sheet3!$F$1","v":0},{"$f":"+Sheet3!AL18/Sheet3!$F$1","v":0},{"$f":"+Sheet3!AM18/Sheet3!$F$1","v":55},{"$f":"+Sheet3!AN18/Sheet3!$F$1","v":132},{"$f":"+Sheet3!AO18/Sheet3!$F$1","v":60},{"$f":"+Sheet3!AP18/Sheet3!$F$1","v":31},{"$f":"+Sheet3!AQ18/Sheet3!$F$1","v":0},{"$f":"+Sheet3!AR18/Sheet3!$F$1","v":145},{"$f":"+Sheet3!AS18/Sheet3!$F$1","v":0},{"$f":"+Sheet3!AT18/Sheet3!$F$1","v":0},{"$f":"+Sheet3!AU18/Sheet3!$F$1","v":0},{"$f":"+Sheet3!AV18/Sheet3!$F$1","v":0},{"$f":"+Sheet3!AW18/Sheet3!$F$1","v":1528},{"$f":"+Sheet3!AX18/Sheet3!$F$1","v":455},{"$f":"+Sheet3!AY18/Sheet3!$F$1","v":29},{"$f":"+Sheet3!AZ18/Sheet3!$F$1","v":7},{"$f":"+Sheet3!BA18/Sheet3!$F$1","v":0},{"$f":"+Sheet3!BB18/Sheet3!$F$1","v":6},{"$f":"+Sheet3!BC18/Sheet3!$F$1","v":17},{"$f":"+Sheet3!BD18/Sheet3!$F$1","v":47},{"$f":"+Sheet3!BE18/Sheet3!$F$1","v":25},{"$f":"+Sheet3!BF18/Sheet3!$F$1","v":3},{"$f":"+Sheet3!BG18/Sheet3!$F$1","v":17},{"$f":"+Sheet3!BH18/Sheet3!$F$1","v":14},{"$f":"+Sheet3!BI18/Sheet3!$F$1","v":6},{"$f":"+Sheet3!BJ18/Sheet3!$F$1","v":0},{"$f":"+Sheet3!BK18/Sheet3!$F$1","v":0},{"$f":"+Sheet3!BL18/Sheet3!$F$1","v":61},{"$f":"+Sheet3!BM18/Sheet3!$F$1","v":72},{"$f":"+Sheet3!BN18/Sheet3!$F$1","v":15},{"$f":"+Sheet3!BO18/Sheet3!$F$1","v":0},{"$f":"+Sheet3!BP18/Sheet3!$F$1","v":0},{"$f":"+Sheet3!BQ18/Sheet3!$F$1","v":14},{"$f":"+Sheet3!BR18/Sheet3!$F$1","v":7},{"$f":"+Sheet3!BS18/Sheet3!$F$1","v":0},{"$f":"+Sheet3!BT18/Sheet3!$F$1","v":0},{"$f":"+Sheet3!BU18/Sheet3!$F$1","v":0},{"$f":"+Sheet3!BV18/Sheet3!$F$1","v":288},{"$f":"+Sheet3!BW18/Sheet3!$F$1","v":226},{"$f":"+Sheet3!BX18/Sheet3!$F$1","v":22},{"$f":"+Sheet3!BY18/Sheet3!$F$1","v":0},{"$f":"+Sheet3!BZ18/Sheet3!$F$1","v":0},{"$f":"+Sheet3!CA18/Sheet3!$F$1","v":270},{"$f":"+Sheet3!CB18/Sheet3!$F$1","v":227},{"$f":"+Sheet3!CC18/Sheet3!$F$1","v":9},{"$f":"+Sheet3!CD18/Sheet3!$F$1","v":0},{"$f":"+Sheet3!CE18/Sheet3!$F$1","v":0},{"$f":"+Sheet3!CF18/Sheet3!$F$1","v":352},{"$f":"+Sheet3!CG18/Sheet3!$F$1","v":34},{"$f":"+Sheet3!CH18/Sheet3!$F$1","v":0},{"$f":"+Sheet3!CI18/Sheet3!$F$1","v":0},{"$f":"+Sheet3!CJ18/Sheet3!$F$1","v":0},{"$f":"+Sheet3!CK18/Sheet3!$F$1","v":0},{"$f":"+Sheet3!CL18/Sheet3!$F$1","v":0},{"$f":"+Sheet3!CM18/Sheet3!$F$1","v":0},{"$f":"+Sheet3!CN18/Sheet3!$F$1","v":0},{"$f":"+Sheet3!CO18/Sheet3!$F$1","v":0},{"$f":"+Sheet3!CP18/Sheet3!$F$1","v":18},{"$f":"+Sheet3!CQ18/Sheet3!$F$1","v":9},{"$f":"+Sheet3!CR18/Sheet3!$F$1","v":0},{"$f":"+Sheet3!CS18/Sheet3!$F$1","v":0},{"$f":"+Sheet3!CT18/Sheet3!$F$1","v":0},{"$f":"+Sheet3!CU18/Sheet3!$F$1","v":28},{"$f":"+Sheet3!CV18/Sheet3!$F$1","v":1021},{"$f":"+Sheet3!CW18/Sheet3!$F$1","v":388},{"$f":"+Sheet3!CX18/Sheet3!$F$1","v":298},{"$f":"+Sheet3!CY18/Sheet3!$F$1","v":5},{"$f":"+Sheet3!CZ18/Sheet3!$F$1","v":657},{"$f":"+Sheet3!DA18/Sheet3!$F$1","v":117},{"$f":"+Sheet3!DB18/Sheet3!$F$1","v":281},{"$f":"+Sheet3!DC18/Sheet3!$F$1","v":149},{"$f":"+Sheet3!DD18/Sheet3!$F$1","v":2025},{"$f":"+Sheet3!DE18/Sheet3!$F$1","v":100},{"$f":"+Sheet3!DF18/Sheet3!$F$1","v":38},{"$f":"+Sheet3!DG18/Sheet3!$F$1","v":156},{"$f":"+Sheet3!DH18/Sheet3!$F$1","v":24},{"$f":"+Sheet3!DI18/Sheet3!$F$1","v":538},{"$f":"+Sheet3!DJ18/Sheet3!$F$1","v":508},{"$f":"+Sheet3!DK18/Sheet3!$F$1","v":388},{"$f":"+Sheet3!DL18/Sheet3!$F$1","v":0},{"$f":"+Sheet3!DM18/Sheet3!$F$1","v":30},{"$f":"+Sheet3!DN18/Sheet3!$F$1","v":4155},{"$f":"+Sheet3!DO18/Sheet3!$F$1","v":2084},{"$f":"+Sheet3!DP18/Sheet3!$F$1","v":391},{"$f":"+Sheet3!DQ18/Sheet3!$F$1","v":108},{"$f":"+Sheet3!DR18/Sheet3!$F$1","v":13},6751]
[null,"16F","Região de Leiria",{"$f":"+Sheet3!D19/Sheet3!$F$1","v":0},{"$f":"+Sheet3!E19/Sheet3!$F$1","v":3},{"$f":"+Sheet3!F19/Sheet3!$F$1","v":7},{"$f":"+Sheet3!G19/Sheet3!$F$1","v":0},{"$f":"+Sheet3!H19/Sheet3!$F$1","v":0},{"$f":"+Sheet3!I19/Sheet3!$F$1","v":115},{"$f":"+Sheet3!J19/Sheet3!$F$1","v":46},{"$f":"+Sheet3!K19/Sheet3!$F$1","v":5},{"$f":"+Sheet3!L19/Sheet3!$F$1","v":0},{"$f":"+Sheet3!M19/Sheet3!$F$1","v":0},{"$f":"+Sheet3!N19/Sheet3!$F$1","v":130},{"$f":"+Sheet3!O19/Sheet3!$F$1","v":22},{"$f":"+Sheet3!P19/Sheet3!$F$1","v":0},{"$f":"+Sheet3!Q19/Sheet3!$F$1","v":0},{"$f":"+Sheet3!R19/Sheet3!$F$1","v":0},{"$f":"+Sheet3!S19/Sheet3!$F$1","v":5},{"$f":"+Sheet3!T19/Sheet3!$F$1","v":11},{"$f":"+Sheet3!U19/Sheet3!$F$1","v":0},{"$f":"+Sheet3!V19/Sheet3!$F$1","v":0},{"$f":"+Sheet3!W19/Sheet3!$F$1","v":0},{"$f":"+Sheet3!X19/Sheet3!$F$1","v":0},{"$f":"+Sheet3!Y19/Sheet3!$F$1","v":0},{"$f":"+Sheet3!Z19/Sheet3!$F$1","v":0},{"$f":"+Sheet3!AA19/Sheet3!$F$1","v":0},{"$f":"+Sheet3!AB19/Sheet3!$F$1","v":0},{"$f":"+Sheet3!AC19/Sheet3!$F$1","v":185},{"$f":"+Sheet3!AD19/Sheet3!$F$1","v":157},{"$f":"+Sheet3!AE19/Sheet3!$F$1","v":16},{"$f":"+Sheet3!AF19/Sheet3!$F$1","v":5},{"$f":"+Sheet3!AG19/Sheet3!$F$1","v":0},{"$f":"+Sheet3!AH19/Sheet3!$F$1","v":6},{"$f":"+Sheet3!AI19/Sheet3!$F$1","v":0},{"$f":"+Sheet3!AJ19/Sheet3!$F$1","v":0},{"$f":"+Sheet3!AK19/Sheet3!$F$1","v":0},{"$f":"+Sheet3!AL19/Sheet3!$F$1","v":0},{"$f":"+Sheet3!AM19/Sheet3!$F$1","v":32},{"$f":"+Sheet3!AN19/Sheet3!$F$1","v":58},{"$f":"+Sheet3!AO19/Sheet3!$F$1","v":29},{"$f":"+Sheet3!AP19/Sheet3!$F$1","v":5},{"$f":"+Sheet3!AQ19/Sheet3!$F$1","v":0},{"$f":"+Sheet3!AR19/Sheet3!$F$1","v":257},{"$f":"+Sheet3!AS19/Sheet3!$F$1","v":7},{"$f":"+Sheet3!AT19/Sheet3!$F$1","v":0},{"$f":"+Sheet3!AU19/Sheet3!$F$1","v":0},{"$f":"+Sheet3!AV19/Sheet3!$F$1","v":0},{"$f":"+Sheet3!AW19/Sheet3!$F$1","v":799},{"$f":"+Sheet3!AX19/Sheet3!$F$1","v":144},{"$f":"+Sheet3!AY19/Sheet3!$F$1","v":6},{"$f":"+Sheet3!AZ19/Sheet3!$F$1","v":0},{"$f":"+Sheet3!BA19/Sheet3!$F$1","v":0},{"$f":"+Sheet3!BB19/Sheet3!$F$1","v":0},{"$f":"+Sheet3!BC19/Sheet3!$F$1","v":0},{"$f":"+Sheet3!BD19/Sheet3!$F$1","v":4},{"$f":"+Sheet3!BE19/Sheet3!$F$1","v":9},{"$f":"+Sheet3!BF19/Sheet3!$F$1","v":0},{"$f":"+Sheet3!BG19/Sheet3!$F$1","v":0},{"$f":"+Sheet3!BH19/Sheet3!$F$1","v":17},{"$f":"+Sheet3!BI19/Sheet3!$F$1","v":9},{"$f":"+Sheet3!BJ19/Sheet3!$F$1","v":0},{"$f":"+Sheet3!BK19/Sheet3!$F$1","v":0},{"$f":"+Sheet3!BL19/Sheet3!$F$1","v":30},{"$f":"+Sheet3!BM19/Sheet3!$F$1","v":68},{"$f":"+Sheet3!BN19/Sheet3!$F$1","v":17},{"$f":"+Sheet3!BO19/Sheet3!$F$1","v":0},{"$f":"+Sheet3!BP19/Sheet3!$F$1","v":0},{"$f":"+Sheet3!BQ19/Sheet3!$F$1","v":5},{"$f":"+Sheet3!BR19/Sheet3!$F$1","v":12},{"$f":"+Sheet3!BS19/Sheet3!$F$1","v":5},{"$f":"+Sheet3!BT19/Sheet3!$F$1","v":0},{"$f":"+Sheet3!BU19/Sheet3!$F$1","v":0},{"$f":"+Sheet3!BV19/Sheet3!$F$1","v":268},{"$f":"+Sheet3!BW19/Sheet3!$F$1","v":131},{"$f":"+Sheet3!BX19/Sheet3!$F$1","v":11},{"$f":"+Sheet3!BY19/Sheet3!$F$1","v":0},{"$f":"+Sheet3!BZ19/Sheet3!$F$1","v":0},{"$f":"+Sheet3!CA19/Sheet3!$F$1","v":260},{"$f":"+Sheet3!CB19/Sheet3!$F$1","v":104},{"$f":"+Sheet3!CC19/Sheet3!$F$1","v":3},{"$f":"+Sheet3!CD19/Sheet3!$F$1","v":0},{"$f":"+Sheet3!CE19/Sheet3!$F$1","v":0},{"$f":"+Sheet3!CF19/Sheet3!$F$1","v":122},{"$f":"+Sheet3!CG19/Sheet3!$F$1","v":0},{"$f":"+Sheet3!CH19/Sheet3!$F$1","v":0},{"$f":"+Sheet3!CI19/Sheet3!$F$1","v":0},{"$f":"+Sheet3!CJ19/Sheet3!$F$1","v":0},{"$f":"+Sheet3!CK19/Sheet3!$F$1","v":0},{"$f":"+Sheet3!CL19/Sheet3!$F$1","v":0},{"$f":"+Sheet3!CM19/Sheet3!$F$1","v":0},{"$f":"+Sheet3!CN19/Sheet3!$F$1","v":0},{"$f":"+Sheet3!CO19/Sheet3!$F$1","v":0},{"$f":"+Sheet3!CP19/Sheet3!$F$1","v":0},{"$f":"+Sheet3!CQ19/Sheet3!$F$1","v":0},{"$f":"+Sheet3!CR19/Sheet3!$F$1","v":0},{"$f":"+Sheet3!CS19/Sheet3!$F$1","v":0},{"$f":"+Sheet3!CT19/Sheet3!$F$1","v":0},{"$f":"+Sheet3!CU19/Sheet3!$F$1","v":18},{"$f":"+Sheet3!CV19/Sheet3!$F$1","v":167},{"$f":"+Sheet3!CW19/Sheet3!$F$1","v":154},{"$f":"+Sheet3!CX19/Sheet3!$F$1","v":22},{"$f":"+Sheet3!CY19/Sheet3!$F$1","v":0},{"$f":"+Sheet3!CZ19/Sheet3!$F$1","v":368},{"$f":"+Sheet3!DA19/Sheet3!$F$1","v":9},{"$f":"+Sheet3!DB19/Sheet3!$F$1","v":130},{"$f":"+Sheet3!DC19/Sheet3!$F$1","v":266},{"$f":"+Sheet3!DD19/Sheet3!$F$1","v":951},{"$f":"+Sheet3!DE19/Sheet3!$F$1","v":16},{"$f":"+Sheet3!DF19/Sheet3!$F$1","v":29},{"$f":"+Sheet3!DG19/Sheet3!$F$1","v":122},{"$f":"+Sheet3!DH19/Sheet3!$F$1","v":26},{"$f":"+Sheet3!DI19/Sheet3!$F$1","v":413},{"$f":"+Sheet3!DJ19/Sheet3!$F$1","v":369},{"$f":"+Sheet3!DK19/Sheet3!$F$1","v":124},{"$f":"+Sheet3!DL19/Sheet3!$F$1","v":0},{"$f":"+Sheet3!DM19/Sheet3!$F$1","v":0},{"$f":"+Sheet3!DN19/Sheet3!$F$1","v":2223},{"$f":"+Sheet3!DO19/Sheet3!$F$1","v":795},{"$f":"+Sheet3!DP19/Sheet3!$F$1","v":126},{"$f":"+Sheet3!DQ19/Sheet3!$F$1","v":37},{"$f":"+Sheet3!DR19/Sheet3!$F$1","v":7},3188]
[null,"16G","Viseu Dão Lafões",{"$f":"+Sheet3!D20/Sheet3!$F$1","v":0},{"$f":"+Sheet3!E20/Sheet3!$F$1","v":0},{"$f":"+Sheet3!F20/Sheet3!$F$1","v":0},{"$f":"+Sheet3!G20/Sheet3!$F$1","v":0},{"$f":"+Sheet3!H20/Sheet3!$F$1","v":0},{"$f":"+Sheet3!I20/Sheet3!$F$1","v":219},{"$f":"+Sheet3!J20/Sheet3!$F$1","v":20},{"$f":"+Sheet3!K20/Sheet3!$F$1","v":0},{"$f":"+Sheet3!L20/Sheet3!$F$1","v":0},{"$f":"+Sheet3!M20/Sheet3!$F$1","v":0},{"$f":"+Sheet3!N20/Sheet3!$F$1","v":216},{"$f":"+Sheet3!O20/Sheet3!$F$1","v":34},{"$f":"+Sheet3!P20/Sheet3!$F$1","v":0},{"$f":"+Sheet3!Q20/Sheet3!$F$1","v":0},{"$f":"+Sheet3!R20/Sheet3!$F$1","v":0},{"$f":"+Sheet3!S20/Sheet3!$F$1","v":0},{"$f":"+Sheet3!T20/Sheet3!$F$1","v":0},{"$f":"+Sheet3!U20/Sheet3!$F$1","v":0},{"$f":"+Sheet3!V20/Sheet3!$F$1","v":0},{"$f":"+Sheet3!W20/Sheet3!$F$1","v":0},{"$f":"+Sheet3!X20/Sheet3!$F$1","v":0},{"$f":"+Sheet3!Y20/Sheet3!$F$1","v":0},{"$f":"+Sheet3!Z20/Sheet3!$F$1","v":0},{"$f":"+Sheet3!AA20/Sheet3!$F$1","v":0},{"$f":"+Sheet3!AB20/Sheet3!$F$1","v":0},{"$f":"+Sheet3!AC20/Sheet3!$F$1","v":376},{"$f":"+Sheet3!AD20/Sheet3!$F$1","v":608},{"$f":"+Sheet3!AE20/Sheet3!$F$1","v":23},{"$f":"+Sheet3!AF20/Sheet3!$F$1","v":0},{"$f":"+Sheet3!AG20/Sheet3!$F$1","v":0},{"$f":"+Sheet3!AH20/Sheet3!$F$1","v":177},{"$f":"+Sheet3!AI20/Sheet3!$F$1","v":201},{"$f":"+Sheet3!AJ20/Sheet3!$F$1","v":29},{"$f":"+Sheet3!AK20/Sheet3!$F$1","v":0},{"$f":"+Sheet3!AL20/Sheet3!$F$1","v":0},{"$f":"+Sheet3!AM20/Sheet3!$F$1","v":104},{"$f":"+Sheet3!AN20/Sheet3!$F$1","v":164},{"$f":"+Sheet3!AO20/Sheet3!$F$1","v":244},{"$f":"+Sheet3!AP20/Sheet3!$F$1","v":32},{"$f":"+Sheet3!AQ20/Sheet3!$F$1","v":0},{"$f":"+Sheet3!AR20/Sheet3!$F$1","v":66},{"$f":"+Sheet3!AS20/Sheet3!$F$1","v":4},{"$f":"+Sheet3!AT20/Sheet3!$F$1","v":0},{"$f":"+Sheet3!AU20/Sheet3!$F$1","v":0},{"$f":"+Sheet3!AV20/Sheet3!$F$1","v":0},{"$f":"+Sheet3!AW20/Sheet3!$F$1","v":2019},{"$f":"+Sheet3!AX20/Sheet3!$F$1","v":957},{"$f":"+Sheet3!AY20/Sheet3!$F$1","v":22},{"$f":"+Sheet3!AZ20/Sheet3!$F$1","v":0},{"$f":"+Sheet3!BA20/Sheet3!$F$1","v":0},{"$f":"+Sheet3!BB20/Sheet3!$F$1","v":6},{"$f":"+Sheet3!BC20/Sheet3!$F$1","v":13},{"$f":"+Sheet3!BD20/Sheet3!$F$1","v":14},{"$f":"+Sheet3!BE20/Sheet3!$F$1","v":6},{"$f":"+Sheet3!BF20/Sheet3!$F$1","v":0},{"$f":"+Sheet3!BG20/Sheet3!$F$1","v":23},{"$f":"+Sheet3!BH20/Sheet3!$F$1","v":44},{"$f":"+Sheet3!BI20/Sheet3!$F$1","v":5},{"$f":"+Sheet3!BJ20/Sheet3!$F$1","v":0},{"$f":"+Sheet3!BK20/Sheet3!$F$1","v":0},{"$f":"+Sheet3!BL20/Sheet3!$F$1","v":35},{"$f":"+Sheet3!BM20/Sheet3!$F$1","v":57},{"$f":"+Sheet3!BN20/Sheet3!$F$1","v":7},{"$f":"+Sheet3!BO20/Sheet3!$F$1","v":0},{"$f":"+Sheet3!BP20/Sheet3!$F$1","v":0},{"$f":"+Sheet3!BQ20/Sheet3!$F$1","v":19},{"$f":"+Sheet3!BR20/Sheet3!$F$1","v":84},{"$f":"+Sheet3!BS20/Sheet3!$F$1","v":19},{"$f":"+Sheet3!BT20/Sheet3!$F$1","v":0},{"$f":"+Sheet3!BU20/Sheet3!$F$1","v":0},{"$f":"+Sheet3!BV20/Sheet3!$F$1","v":494},{"$f":"+Sheet3!BW20/Sheet3!$F$1","v":412},{"$f":"+Sheet3!BX20/Sheet3!$F$1","v":48},{"$f":"+Sheet3!BY20/Sheet3!$F$1","v":0},{"$f":"+Sheet3!BZ20/Sheet3!$F$1","v":0},{"$f":"+Sheet3!CA20/Sheet3!$F$1","v":616},{"$f":"+Sheet3!CB20/Sheet3!$F$1","v":452},{"$f":"+Sheet3!CC20/Sheet3!$F$1","v":10},{"$f":"+Sheet3!CD20/Sheet3!$F$1","v":0},{"$f":"+Sheet3!CE20/Sheet3!$F$1","v":0},{"$f":"+Sheet3!CF20/Sheet3!$F$1","v":145},{"$f":"+Sheet3!CG20/Sheet3!$F$1","v":6},{"$f":"+Sheet3!CH20/Sheet3!$F$1","v":0},{"$f":"+Sheet3!CI20/Sheet3!$F$1","v":0},{"$f":"+Sheet3!CJ20/Sheet3!$F$1","v":0},{"$f":"+Sheet3!CK20/Sheet3!$F$1","v":0},{"$f":"+Sheet3!CL20/Sheet3!$F$1","v":0},{"$f":"+Sheet3!CM20/Sheet3!$F$1","v":0},{"$f":"+Sheet3!CN20/Sheet3!$F$1","v":0},{"$f":"+Sheet3!CO20/Sheet3!$F$1","v":0},{"$f":"+Sheet3!CP20/Sheet3!$F$1","v":11},{"$f":"+Sheet3!CQ20/Sheet3!$F$1","v":0},{"$f":"+Sheet3!CR20/Sheet3!$F$1","v":0},{"$f":"+Sheet3!CS20/Sheet3!$F$1","v":0},{"$f":"+Sheet3!CT20/Sheet3!$F$1","v":0},{"$f":"+Sheet3!CU20/Sheet3!$F$1","v":12},{"$f":"+Sheet3!CV20/Sheet3!$F$1","v":240},{"$f":"+Sheet3!CW20/Sheet3!$F$1","v":255},{"$f":"+Sheet3!CX20/Sheet3!$F$1","v":0},{"$f":"+Sheet3!CY20/Sheet3!$F$1","v":0},{"$f":"+Sheet3!CZ20/Sheet3!$F$1","v":1011},{"$f":"+Sheet3!DA20/Sheet3!$F$1","v":411},{"$f":"+Sheet3!DB20/Sheet3!$F$1","v":546},{"$f":"+Sheet3!DC20/Sheet3!$F$1","v":70},{"$f":"+Sheet3!DD20/Sheet3!$F$1","v":3004},{"$f":"+Sheet3!DE20/Sheet3!$F$1","v":45},{"$f":"+Sheet3!DF20/Sheet3!$F$1","v":78},{"$f":"+Sheet3!DG20/Sheet3!$F$1","v":101},{"$f":"+Sheet3!DH20/Sheet3!$F$1","v":132},{"$f":"+Sheet3!DI20/Sheet3!$F$1","v":957},{"$f":"+Sheet3!DJ20/Sheet3!$F$1","v":1079},{"$f":"+Sheet3!DK20/Sheet3!$F$1","v":153},{"$f":"+Sheet3!DL20/Sheet3!$F$1","v":0},{"$f":"+Sheet3!DM20/Sheet3!$F$1","v":13},{"$f":"+Sheet3!DN20/Sheet3!$F$1","v":4539},{"$f":"+Sheet3!DO20/Sheet3!$F$1","v":3072},{"$f":"+Sheet3!DP20/Sheet3!$F$1","v":440},{"$f":"+Sheet3!DQ20/Sheet3!$F$1","v":53},{"$f":"+Sheet3!DR20/Sheet3!$F$1","v":4},8108]
[null,"16H","Beira Baixa",{"$f":"+Sheet3!D21/Sheet3!$F$1","v":0},{"$f":"+Sheet3!E21/Sheet3!$F$1","v":0},{"$f":"+Sheet3!F21/Sheet3!$F$1","v":0},{"$f":"+Sheet3!G21/Sheet3!$F$1","v":0},{"$f":"+Sheet3!H21/Sheet3!$F$1","v":0},{"$f":"+Sheet3!I21/Sheet3!$F$1","v":0},{"$f":"+Sheet3!J21/Sheet3!$F$1","v":6},{"$f":"+Sheet3!K21/Sheet3!$F$1","v":0},{"$f":"+Sheet3!L21/Sheet3!$F$1","v":6},{"$f":"+Sheet3!M21/Sheet3!$F$1","v":0},{"$f":"+Sheet3!N21/Sheet3!$F$1","v":110},{"$f":"+Sheet3!O21/Sheet3!$F$1","v":20},{"$f":"+Sheet3!P21/Sheet3!$F$1","v":3},{"$f":"+Sheet3!Q21/Sheet3!$F$1","v":5},{"$f":"+Sheet3!R21/Sheet3!$F$1","v":0},{"$f":"+Sheet3!S21/Sheet3!$F$1","v":0},{"$f":"+Sheet3!T21/Sheet3!$F$1","v":0},{"$f":"+Sheet3!U21/Sheet3!$F$1","v":0},{"$f":"+Sheet3!V21/Sheet3!$F$1","v":0},{"$f":"+Sheet3!W21/Sheet3!$F$1","v":0},{"$f":"+Sheet3!X21/Sheet3!$F$1","v":0},{"$f":"+Sheet3!Y21/Sheet3!$F$1","v":0},{"$f":"+Sheet3!Z21/Sheet3!$F$1","v":0},{"$f":"+Sheet3!AA21/Sheet3!$F$1","v":0},{"$f":"+Sheet3!AB21/Sheet3!$F$1","v":0},{"$f":"+Sheet3!AC21/Sheet3!$F$1","v":223},{"$f":"+Sheet3!AD21/Sheet3!$F$1","v":76},{"$f":"+Sheet3!AE21/Sheet3!$F$1","v":5},{"$f":"+Sheet3!AF21/Sheet3!$F$1","v":9},{"$f":"+Sheet3!AG21/Sheet3!$F$1","v":3},{"$f":"+Sheet3!AH21/Sheet3!$F$1","v":3},{"$f":"+Sheet3!AI21/Sheet3!$F$1","v":4},{"$f":"+Sheet3!AJ21/Sheet3!$F$1","v":0},{"$f":"+Sheet3!AK21/Sheet3!$F$1","v":0},{"$f":"+Sheet3!AL21/Sheet3!$F$1","v":0},{"$f":"+Sheet3!AM21/Sheet3!$F$1","v":100},{"$f":"+Sheet3!AN21/Sheet3!$F$1","v":122},{"$f":"+Sheet3!AO21/Sheet3!$F$1","v":77},{"$f":"+Sheet3!AP21/Sheet3!$F$1","v":48},{"$f":"+Sheet3!AQ21/Sheet3!$F$1","v":8},{"$f":"+Sheet3!AR21/Sheet3!$F$1","v":662},{"$f":"+Sheet3!AS21/Sheet3!$F$1","v":13},{"$f":"+Sheet3!AT21/Sheet3!$F$1","v":8},{"$f":"+Sheet3!AU21/Sheet3!$F$1","v":0},{"$f":"+Sheet3!AV21/Sheet3!$F$1","v":0},{"$f":"+Sheet3!AW21/Sheet3!$F$1","v":1164},{"$f":"+Sheet3!AX21/Sheet3!$F$1","v":149},{"$f":"+Sheet3!AY21/Sheet3!$F$1","v":18},{"$f":"+Sheet3!AZ21/Sheet3!$F$1","v":4},{"$f":"+Sheet3!BA21/Sheet3!$F$1","v":0},{"$f":"+Sheet3!BB21/Sheet3!$F$1","v":0},{"$f":"+Sheet3!BC21/Sheet3!$F$1","v":0},{"$f":"+Sheet3!BD21/Sheet3!$F$1","v":0},{"$f":"+Sheet3!BE21/Sheet3!$F$1","v":0},{"$f":"+Sheet3!BF21/Sheet3!$F$1","v":3},{"$f":"+Sheet3!BG21/Sheet3!$F$1","v":0},{"$f":"+Sheet3!BH21/Sheet3!$F$1","v":19},{"$f":"+Sheet3!BI21/Sheet3!$F$1","v":24},{"$f":"+Sheet3!BJ21/Sheet3!$F$1","v":9},{"$f":"+Sheet3!BK21/Sheet3!$F$1","v":0},{"$f":"+Sheet3!BL21/Sheet3!$F$1","v":0},{"$f":"+Sheet3!BM21/Sheet3!$F$1","v":18},{"$f":"+Sheet3!BN21/Sheet3!$F$1","v":6},{"$f":"+Sheet3!BO21/Sheet3!$F$1","v":0},{"$f":"+Sheet3!BP21/Sheet3!$F$1","v":0},{"$f":"+Sheet3!BQ21/Sheet3!$F$1","v":0},{"$f":"+Sheet3!BR21/Sheet3!$F$1","v":41},{"$f":"+Sheet3!BS21/Sheet3!$F$1","v":80},{"$f":"+Sheet3!BT21/Sheet3!$F$1","v":31},{"$f":"+Sheet3!BU21/Sheet3!$F$1","v":0},{"$f":"+Sheet3!BV21/Sheet3!$F$1","v":240},{"$f":"+Sheet3!BW21/Sheet3!$F$1","v":379},{"$f":"+Sheet3!BX21/Sheet3!$F$1","v":209},{"$f":"+Sheet3!BY21/Sheet3!$F$1","v":52},{"$f":"+Sheet3!BZ21/Sheet3!$F$1","v":0},{"$f":"+Sheet3!CA21/Sheet3!$F$1","v":120},{"$f":"+Sheet3!CB21/Sheet3!$F$1","v":108},{"$f":"+Sheet3!CC21/Sheet3!$F$1","v":13},{"$f":"+Sheet3!CD21/Sheet3!$F$1","v":10},{"$f":"+Sheet3!CE21/Sheet3!$F$1","v":0},{"$f":"+Sheet3!CF21/Sheet3!$F$1","v":279},{"$f":"+Sheet3!CG21/Sheet3!$F$1","v":100},{"$f":"+Sheet3!CH21/Sheet3!$F$1","v":21},{"$f":"+Sheet3!CI21/Sheet3!$F$1","v":0},{"$f":"+Sheet3!CJ21/Sheet3!$F$1","v":0},{"$f":"+Sheet3!CK21/Sheet3!$F$1","v":0},{"$f":"+Sheet3!CL21/Sheet3!$F$1","v":0},{"$f":"+Sheet3!CM21/Sheet3!$F$1","v":0},{"$f":"+Sheet3!CN21/Sheet3!$F$1","v":0},{"$f":"+Sheet3!CO21/Sheet3!$F$1","v":0},{"$f":"+Sheet3!CP21/Sheet3!$F$1","v":0},{"$f":"+Sheet3!CQ21/Sheet3!$F$1","v":0},{"$f":"+Sheet3!CR21/Sheet3!$F$1","v":0},{"$f":"+Sheet3!CS21/Sheet3!$F$1","v":0},{"$f":"+Sheet3!CT21/Sheet3!$F$1","v":0},{"$f":"+Sheet3!CU21/Sheet3!$F$1","v":12},{"$f":"+Sheet3!CV21/Sheet3!$F$1","v":18},{"$f":"+Sheet3!CW21/Sheet3!$F$1","v":142},{"$f":"+Sheet3!CX21/Sheet3!$F$1","v":0},{"$f":"+Sheet3!CY21/Sheet3!$F$1","v":0},{"$f":"+Sheet3!CZ21/Sheet3!$F$1","v":319},{"$f":"+Sheet3!DA21/Sheet3!$F$1","v":9},{"$f":"+Sheet3!DB21/Sheet3!$F$1","v":357},{"$f":"+Sheet3!DC21/Sheet3!$F$1","v":687},{"$f":"+Sheet3!DD21/Sheet3!$F$1","v":1337},{"$f":"+Sheet3!DE21/Sheet3!$F$1","v":5},{"$f":"+Sheet3!DF21/Sheet3!$F$1","v":55},{"$f":"+Sheet3!DG21/Sheet3!$F$1","v":29},{"$f":"+Sheet3!DH21/Sheet3!$F$1","v":155},{"$f":"+Sheet3!DI21/Sheet3!$F$1","v":882},{"$f":"+Sheet3!DJ21/Sheet3!$F$1","v":252},{"$f":"+Sheet3!DK21/Sheet3!$F$1","v":401},{"$f":"+Sheet3!DL21/Sheet3!$F$1","v":0},{"$f":"+Sheet3!DM21/Sheet3!$F$1","v":0},{"$f":"+Sheet3!DN21/Sheet3!$F$1","v":2915},{"$f":"+Sheet3!DO21/Sheet3!$F$1","v":1071},{"$f":"+Sheet3!DP21/Sheet3!$F$1","v":473},{"$f":"+Sheet3!DQ21/Sheet3!$F$1","v":186},{"$f":"+Sheet3!DR21/Sheet3!$F$1","v":18},4663]
[null,"16I","Médio Tejo",{"$f":"+Sheet3!D22/Sheet3!$F$1","v":0},{"$f":"+Sheet3!E22/Sheet3!$F$1","v":0},{"$f":"+Sheet3!F22/Sheet3!$F$1","v":0},{"$f":"+Sheet3!G22/Sheet3!$F$1","v":0},{"$f":"+Sheet3!H22/Sheet3!$F$1","v":0},{"$f":"+Sheet3!I22/Sheet3!$F$1","v":12},{"$f":"+Sheet3!J22/Sheet3!$F$1","v":19},{"$f":"+Sheet3!K22/Sheet3!$F$1","v":15},{"$f":"+Sheet3!L22/Sheet3!$F$1","v":13},{"$f":"+Sheet3!M22/Sheet3!$F$1","v":0},{"$f":"+Sheet3!N22/Sheet3!$F$1","v":53},{"$f":"+Sheet3!O22/Sheet3!$F$1","v":27},{"$f":"+Sheet3!P22/Sheet3!$F$1","v":8},{"$f":"+Sheet3!Q22/Sheet3!$F$1","v":0},{"$f":"+Sheet3!R22/Sheet3!$F$1","v":0},{"$f":"+Sheet3!S22/Sheet3!$F$1","v":0},{"$f":"+Sheet3!T22/Sheet3!$F$1","v":0},{"$f":"+Sheet3!U22/Sheet3!$F$1","v":0},{"$f":"+Sheet3!V22/Sheet3!$F$1","v":0},{"$f":"+Sheet3!W22/Sheet3!$F$1","v":0},{"$f":"+Sheet3!X22/Sheet3!$F$1","v":0},{"$f":"+Sheet3!Y22/Sheet3!$F$1","v":0},{"$f":"+Sheet3!Z22/Sheet3!$F$1","v":0},{"$f":"+Sheet3!AA22/Sheet3!$F$1","v":0},{"$f":"+Sheet3!AB22/Sheet3!$F$1","v":0},{"$f":"+Sheet3!AC22/Sheet3!$F$1","v":129},{"$f":"+Sheet3!AD22/Sheet3!$F$1","v":88},{"$f":"+Sheet3!AE22/Sheet3!$F$1","v":9},{"$f":"+Sheet3!AF22/Sheet3!$F$1","v":5},{"$f":"+Sheet3!AG22/Sheet3!$F$1","v":0},{"$f":"+Sheet3!AH22/Sheet3!$F$1","v":39},{"$f":"+Sheet3!AI22/Sheet3!$F$1","v":14},{"$f":"+Sheet3!AJ22/Sheet3!$F$1","v":6},{"$f":"+Sheet3!AK22/Sheet3!$F$1","v":0},{"$f":"+Sheet3!AL22/Sheet3!$F$1","v":0},{"$f":"+Sheet3!AM22/Sheet3!$F$1","v":70},{"$f":"+Sheet3!AN22/Sheet3!$F$1","v":170},{"$f":"+Sheet3!AO22/Sheet3!$F$1","v":73},{"$f":"+Sheet3!AP22/Sheet3!$F$1","v":29},{"$f":"+Sheet3!AQ22/Sheet3!$F$1","v":0},{"$f":"+Sheet3!AR22/Sheet3!$F$1","v":646},{"$f":"+Sheet3!AS22/Sheet3!$F$1","v":17},{"$f":"+Sheet3!AT22/Sheet3!$F$1","v":8},{"$f":"+Sheet3!AU22/Sheet3!$F$1","v":3},{"$f":"+Sheet3!AV22/Sheet3!$F$1","v":0},{"$f":"+Sheet3!AW22/Sheet3!$F$1","v":1348},{"$f":"+Sheet3!AX22/Sheet3!$F$1","v":276},{"$f":"+Sheet3!AY22/Sheet3!$F$1","v":24},{"$f":"+Sheet3!AZ22/Sheet3!$F$1","v":9},{"$f":"+Sheet3!BA22/Sheet3!$F$1","v":0},{"$f":"+Sheet3!BB22/Sheet3!$F$1","v":0},{"$f":"+Sheet3!BC22/Sheet3!$F$1","v":0},{"$f":"+Sheet3!BD22/Sheet3!$F$1","v":0},{"$f":"+Sheet3!BE22/Sheet3!$F$1","v":3},{"$f":"+Sheet3!BF22/Sheet3!$F$1","v":0},{"$f":"+Sheet3!BG22/Sheet3!$F$1","v":0},{"$f":"+Sheet3!BH22/Sheet3!$F$1","v":8},{"$f":"+Sheet3!BI22/Sheet3!$F$1","v":6},{"$f":"+Sheet3!BJ22/Sheet3!$F$1","v":0},{"$f":"+Sheet3!BK22/Sheet3!$F$1","v":0},{"$f":"+Sheet3!BL22/Sheet3!$F$1","v":8},{"$f":"+Sheet3!BM22/Sheet3!$F$1","v":59},{"$f":"+Sheet3!BN22/Sheet3!$F$1","v":9},{"$f":"+Sheet3!BO22/Sheet3!$F$1","v":3},{"$f":"+Sheet3!BP22/Sheet3!$F$1","v":0},{"$f":"+Sheet3!BQ22/Sheet3!$F$1","v":0},{"$f":"+Sheet3!BR22/Sheet3!$F$1","v":5},{"$f":"+Sheet3!BS22/Sheet3!$F$1","v":0},{"$f":"+Sheet3!BT22/Sheet3!$F$1","v":0},{"$f":"+Sheet3!BU22/Sheet3!$F$1","v":0},{"$f":"+Sheet3!BV22/Sheet3!$F$1","v":245},{"$f":"+Sheet3!BW22/Sheet3!$F$1","v":111},{"$f":"+Sheet3!BX22/Sheet3!$F$1","v":27},{"$f":"+Sheet3!BY22/Sheet3!$F$1","v":0},{"$f":"+Sheet3!BZ22/Sheet3!$F$1","v":0},{"$f":"+Sheet3!CA22/Sheet3!$F$1","v":213},{"$f":"+Sheet3!CB22/Sheet3!$F$1","v":110},{"$f":"+Sheet3!CC22/Sheet3!$F$1","v":17},{"$f":"+Sheet3!CD22/Sheet3!$F$1","v":5},{"$f":"+Sheet3!CE22/Sheet3!$F$1","v":0},{"$f":"+Sheet3!CF22/Sheet3!$F$1","v":113},{"$f":"+Sheet3!CG22/Sheet3!$F$1","v":55},{"$f":"+Sheet3!CH22/Sheet3!$F$1","v":0},{"$f":"+Sheet3!CI22/Sheet3!$F$1","v":0},{"$f":"+Sheet3!CJ22/Sheet3!$F$1","v":0},{"$f":"+Sheet3!CK22/Sheet3!$F$1","v":0},{"$f":"+Sheet3!CL22/Sheet3!$F$1","v":0},{"$f":"+Sheet3!CM22/Sheet3!$F$1","v":0},{"$f":"+Sheet3!CN22/Sheet3!$F$1","v":0},{"$f":"+Sheet3!CO22/Sheet3!$F$1","v":0},{"$f":"+Sheet3!CP22/Sheet3!$F$1","v":0},{"$f":"+Sheet3!CQ22/Sheet3!$F$1","v":0},{"$f":"+Sheet3!CR22/Sheet3!$F$1","v":0},{"$f":"+Sheet3!CS22/Sheet3!$F$1","v":0},{"$f":"+Sheet3!CT22/Sheet3!$F$1","v":0},{"$f":"+Sheet3!CU22/Sheet3!$F$1","v":8},{"$f":"+Sheet3!CV22/Sheet3!$F$1","v":64},{"$f":"+Sheet3!CW22/Sheet3!$F$1","v":93},{"$f":"+Sheet3!CX22/Sheet3!$F$1","v":0},{"$f":"+Sheet3!CY22/Sheet3!$F$1","v":3},{"$f":"+Sheet3!CZ22/Sheet3!$F$1","v":235},{"$f":"+Sheet3!DA22/Sheet3!$F$1","v":63},{"$f":"+Sheet3!DB22/Sheet3!$F$1","v":346},{"$f":"+Sheet3!DC22/Sheet3!$F$1","v":678},{"$f":"+Sheet3!DD22/Sheet3!$F$1","v":1659},{"$f":"+Sheet3!DE22/Sheet3!$F$1","v":8},{"$f":"+Sheet3!DF22/Sheet3!$F$1","v":21},{"$f":"+Sheet3!DG22/Sheet3!$F$1","v":83},{"$f":"+Sheet3!DH22/Sheet3!$F$1","v":9},{"$f":"+Sheet3!DI22/Sheet3!$F$1","v":386},{"$f":"+Sheet3!DJ22/Sheet3!$F$1","v":349},{"$f":"+Sheet3!DK22/Sheet3!$F$1","v":172},{"$f":"+Sheet3!DL22/Sheet3!$F$1","v":0},{"$f":"+Sheet3!DM22/Sheet3!$F$1","v":0},{"$f":"+Sheet3!DN22/Sheet3!$F$1","v":2883},{"$f":"+Sheet3!DO22/Sheet3!$F$1","v":977},{"$f":"+Sheet3!DP22/Sheet3!$F$1","v":227},{"$f":"+Sheet3!DQ22/Sheet3!$F$1","v":84},{"$f":"+Sheet3!DR22/Sheet3!$F$1","v":6},4177]
[null,"16J","Beiras e Serra da Estrela",{"$f":"+Sheet3!D23/Sheet3!$F$1","v":4},{"$f":"+Sheet3!E23/Sheet3!$F$1","v":3},{"$f":"+Sheet3!F23/Sheet3!$F$1","v":3},{"$f":"+Sheet3!G23/Sheet3!$F$1","v":6},{"$f":"+Sheet3!H23/Sheet3!$F$1","v":0},{"$f":"+Sheet3!I23/Sheet3!$F$1","v":49},{"$f":"+Sheet3!J23/Sheet3!$F$1","v":19},{"$f":"+Sheet3!K23/Sheet3!$F$1","v":4},{"$f":"+Sheet3!L23/Sheet3!$F$1","v":3},{"$f":"+Sheet3!M23/Sheet3!$F$1","v":0},{"$f":"+Sheet3!N23/Sheet3!$F$1","v":828},{"$f":"+Sheet3!O23/Sheet3!$F$1","v":109},{"$f":"+Sheet3!P23/Sheet3!$F$1","v":8},{"$f":"+Sheet3!Q23/Sheet3!$F$1","v":0},{"$f":"+Sheet3!R23/Sheet3!$F$1","v":0},{"$f":"+Sheet3!S23/Sheet3!$F$1","v":0},{"$f":"+Sheet3!T23/Sheet3!$F$1","v":0},{"$f":"+Sheet3!U23/Sheet3!$F$1","v":0},{"$f":"+Sheet3!V23/Sheet3!$F$1","v":0},{"$f":"+Sheet3!W23/Sheet3!$F$1","v":0},{"$f":"+Sheet3!X23/Sheet3!$F$1","v":0},{"$f":"+Sheet3!Y23/Sheet3!$F$1","v":0},{"$f":"+Sheet3!Z23/Sheet3!$F$1","v":0},{"$f":"+Sheet3!AA23/Sheet3!$F$1","v":0},{"$f":"+Sheet3!AB23/Sheet3!$F$1","v":0},{"$f":"+Sheet3!AC23/Sheet3!$F$1","v":1099},{"$f":"+Sheet3!AD23/Sheet3!$F$1","v":587},{"$f":"+Sheet3!AE23/Sheet3!$F$1","v":41},{"$f":"+Sheet3!AF23/Sheet3!$F$1","v":6},{"$f":"+Sheet3!AG23/Sheet3!$F$1","v":0},{"$f":"+Sheet3!AH23/Sheet3!$F$1","v":316},{"$f":"+Sheet3!AI23/Sheet3!$F$1","v":175},{"$f":"+Sheet3!AJ23/Sheet3!$F$1","v":24},{"$f":"+Sheet3!AK23/Sheet3!$F$1","v":0},{"$f":"+Sheet3!AL23/Sheet3!$F$1","v":0},{"$f":"+Sheet3!AM23/Sheet3!$F$1","v":574},{"$f":"+Sheet3!AN23/Sheet3!$F$1","v":496},{"$f":"+Sheet3!AO23/Sheet3!$F$1","v":287},{"$f":"+Sheet3!AP23/Sheet3!$F$1","v":71},{"$f":"+Sheet3!AQ23/Sheet3!$F$1","v":7},{"$f":"+Sheet3!AR23/Sheet3!$F$1","v":576},{"$f":"+Sheet3!AS23/Sheet3!$F$1","v":23},{"$f":"+Sheet3!AT23/Sheet3!$F$1","v":4},{"$f":"+Sheet3!AU23/Sheet3!$F$1","v":0},{"$f":"+Sheet3!AV23/Sheet3!$F$1","v":0},{"$f":"+Sheet3!AW23/Sheet3!$F$1","v":4186},{"$f":"+Sheet3!AX23/Sheet3!$F$1","v":1467},{"$f":"+Sheet3!AY23/Sheet3!$F$1","v":56},{"$f":"+Sheet3!AZ23/Sheet3!$F$1","v":4},{"$f":"+Sheet3!BA23/Sheet3!$F$1","v":0},{"$f":"+Sheet3!BB23/Sheet3!$F$1","v":0},{"$f":"+Sheet3!BC23/Sheet3!$F$1","v":12},{"$f":"+Sheet3!BD23/Sheet3!$F$1","v":21},{"$f":"+Sheet3!BE23/Sheet3!$F$1","v":6},{"$f":"+Sheet3!BF23/Sheet3!$F$1","v":0},{"$f":"+Sheet3!BG23/Sheet3!$F$1","v":18},{"$f":"+Sheet3!BH23/Sheet3!$F$1","v":230},{"$f":"+Sheet3!BI23/Sheet3!$F$1","v":113},{"$f":"+Sheet3!BJ23/Sheet3!$F$1","v":5},{"$f":"+Sheet3!BK23/Sheet3!$F$1","v":0},{"$f":"+Sheet3!BL23/Sheet3!$F$1","v":11},{"$f":"+Sheet3!BM23/Sheet3!$F$1","v":75},{"$f":"+Sheet3!BN23/Sheet3!$F$1","v":18},{"$f":"+Sheet3!BO23/Sheet3!$F$1","v":4},{"$f":"+Sheet3!BP23/Sheet3!$F$1","v":0},{"$f":"+Sheet3!BQ23/Sheet3!$F$1","v":30},{"$f":"+Sheet3!BR23/Sheet3!$F$1","v":272},{"$f":"+Sheet3!BS23/Sheet3!$F$1","v":126},{"$f":"+Sheet3!BT23/Sheet3!$F$1","v":3},{"$f":"+Sheet3!BU23/Sheet3!$F$1","v":0},{"$f":"+Sheet3!BV23/Sheet3!$F$1","v":499},{"$f":"+Sheet3!BW23/Sheet3!$F$1","v":1086},{"$f":"+Sheet3!BX23/Sheet3!$F$1","v":463},{"$f":"+Sheet3!BY23/Sheet3!$F$1","v":35},{"$f":"+Sheet3!BZ23/Sheet3!$F$1","v":0},{"$f":"+Sheet3!CA23/Sheet3!$F$1","v":316},{"$f":"+Sheet3!CB23/Sheet3!$F$1","v":586},{"$f":"+Sheet3!CC23/Sheet3!$F$1","v":95},{"$f":"+Sheet3!CD23/Sheet3!$F$1","v":5},{"$f":"+Sheet3!CE23/Sheet3!$F$1","v":0},{"$f":"+Sheet3!CF23/Sheet3!$F$1","v":401},{"$f":"+Sheet3!CG23/Sheet3!$F$1","v":49},{"$f":"+Sheet3!CH23/Sheet3!$F$1","v":0},{"$f":"+Sheet3!CI23/Sheet3!$F$1","v":0},{"$f":"+Sheet3!CJ23/Sheet3!$F$1","v":0},{"$f":"+Sheet3!CK23/Sheet3!$F$1","v":0},{"$f":"+Sheet3!CL23/Sheet3!$F$1","v":0},{"$f":"+Sheet3!CM23/Sheet3!$F$1","v":0},{"$f":"+Sheet3!CN23/Sheet3!$F$1","v":0},{"$f":"+Sheet3!CO23/Sheet3!$F$1","v":0},{"$f":"+Sheet3!CP23/Sheet3!$F$1","v":12},{"$f":"+Sheet3!CQ23/Sheet3!$F$1","v":0},{"$f":"+Sheet3!CR23/Sheet3!$F$1","v":0},{"$f":"+Sheet3!CS23/Sheet3!$F$1","v":0},{"$f":"+Sheet3!CT23/Sheet3!$F$1","v":0},{"$f":"+Sheet3!CU23/Sheet3!$F$1","v":21},{"$f":"+Sheet3!CV23/Sheet3!$F$1","v":80},{"$f":"+Sheet3!CW23/Sheet3!$F$1","v":946},{"$f":"+Sheet3!CX23/Sheet3!$F$1","v":0},{"$f":"+Sheet3!CY23/Sheet3!$F$1","v":4},{"$f":"+Sheet3!CZ23/Sheet3!$F$1","v":1735},{"$f":"+Sheet3!DA23/Sheet3!$F$1","v":519},{"$f":"+Sheet3!DB23/Sheet3!$F$1","v":1438},{"$f":"+Sheet3!DC23/Sheet3!$F$1","v":605},{"$f":"+Sheet3!DD23/Sheet3!$F$1","v":5718},{"$f":"+Sheet3!DE23/Sheet3!$F$1","v":41},{"$f":"+Sheet3!DF23/Sheet3!$F$1","v":367},{"$f":"+Sheet3!DG23/Sheet3!$F$1","v":115},{"$f":"+Sheet3!DH23/Sheet3!$F$1","v":441},{"$f":"+Sheet3!DI23/Sheet3!$F$1","v":2085},{"$f":"+Sheet3!DJ23/Sheet3!$F$1","v":1002},{"$f":"+Sheet3!DK23/Sheet3!$F$1","v":452},{"$f":"+Sheet3!DL23/Sheet3!$F$1","v":0},{"$f":"+Sheet3!DM23/Sheet3!$F$1","v":14},{"$f":"+Sheet3!DN23/Sheet3!$F$1","v":8933},{"$f":"+Sheet3!DO23/Sheet3!$F$1","v":5205},{"$f":"+Sheet3!DP23/Sheet3!$F$1","v":1278},{"$f":"+Sheet3!DQ23/Sheet3!$F$1","v":157},{"$f":"+Sheet3!DR23/Sheet3!$F$1","v":10},15583]
["AML","170","Área Metropolitana de Lisboa",{"$f":"+Sheet3!D24/Sheet3!$F$1","v":0},{"$f":"+Sheet3!E24/Sheet3!$F$1","v":0},{"$f":"+Sheet3!F24/Sheet3!$F$1","v":0},{"$f":"+Sheet3!G24/Sheet3!$F$1","v":0},{"$f":"+Sheet3!H24/Sheet3!$F$1","v":4},{"$f":"+Sheet3!I24/Sheet3!$F$1","v":3},{"$f":"+Sheet3!J24/Sheet3!$F$1","v":14},{"$f":"+Sheet3!K24/Sheet3!$F$1","v":15},{"$f":"+Sheet3!L24/Sheet3!$F$1","v":14},{"$f":"+Sheet3!M24/Sheet3!$F$1","v":7},{"$f":"+Sheet3!N24/Sheet3!$F$1","v":26},{"$f":"+Sheet3!O24/Sheet3!$F$1","v":12},{"$f":"+Sheet3!P24/Sheet3!$F$1","v":7},{"$f":"+Sheet3!Q24/Sheet3!$F$1","v":0},{"$f":"+Sheet3!R24/Sheet3!$F$1","v":0},{"$f":"+Sheet3!S24/Sheet3!$F$1","v":0},{"$f":"+Sheet3!T24/Sheet3!$F$1","v":0},{"$f":"+Sheet3!U24/Sheet3!$F$1","v":32},{"$f":"+Sheet3!V24/Sheet3!$F$1","v":20},{"$f":"+Sheet3!W24/Sheet3!$F$1","v":0},{"$f":"+Sheet3!X24/Sheet3!$F$1","v":0},{"$f":"+Sheet3!Y24/Sheet3!$F$1","v":0},{"$f":"+Sheet3!Z24/Sheet3!$F$1","v":0},{"$f":"+Sheet3!AA24/Sheet3!$F$1","v":0},{"$f":"+Sheet3!AB24/Sheet3!$F$1","v":0},{"$f":"+Sheet3!AC24/Sheet3!$F$1","v":4},{"$f":"+Sheet3!AD24/Sheet3!$F$1","v":37},{"$f":"+Sheet3!AE24/Sheet3!$F$1","v":23},{"$f":"+Sheet3!AF24/Sheet3!$F$1","v":12},{"$f":"+Sheet3!AG24/Sheet3!$F$1","v":4},{"$f":"+Sheet3!AH24/Sheet3!$F$1","v":3},{"$f":"+Sheet3!AI24/Sheet3!$F$1","v":62},{"$f":"+Sheet3!AJ24/Sheet3!$F$1","v":70},{"$f":"+Sheet3!AK24/Sheet3!$F$1","v":21},{"$f":"+Sheet3!AL24/Sheet3!$F$1","v":0},{"$f":"+Sheet3!AM24/Sheet3!$F$1","v":7},{"$f":"+Sheet3!AN24/Sheet3!$F$1","v":30},{"$f":"+Sheet3!AO24/Sheet3!$F$1","v":39},{"$f":"+Sheet3!AP24/Sheet3!$F$1","v":23},{"$f":"+Sheet3!AQ24/Sheet3!$F$1","v":6},{"$f":"+Sheet3!AR24/Sheet3!$F$1","v":0},{"$f":"+Sheet3!AS24/Sheet3!$F$1","v":0},{"$f":"+Sheet3!AT24/Sheet3!$F$1","v":0},{"$f":"+Sheet3!AU24/Sheet3!$F$1","v":0},{"$f":"+Sheet3!AV24/Sheet3!$F$1","v":0},{"$f":"+Sheet3!AW24/Sheet3!$F$1","v":33},{"$f":"+Sheet3!AX24/Sheet3!$F$1","v":71},{"$f":"+Sheet3!AY24/Sheet3!$F$1","v":25},{"$f":"+Sheet3!AZ24/Sheet3!$F$1","v":20},{"$f":"+Sheet3!BA24/Sheet3!$F$1","v":5},{"$f":"+Sheet3!BB24/Sheet3!$F$1","v":0},{"$f":"+Sheet3!BC24/Sheet3!$F$1","v":3},{"$f":"+Sheet3!BD24/Sheet3!$F$1","v":0},{"$f":"+Sheet3!BE24/Sheet3!$F$1","v":7},{"$f":"+Sheet3!BF24/Sheet3!$F$1","v":10},{"$f":"+Sheet3!BG24/Sheet3!$F$1","v":0},{"$f":"+Sheet3!BH24/Sheet3!$F$1","v":19},{"$f":"+Sheet3!BI24/Sheet3!$F$1","v":10},{"$f":"+Sheet3!BJ24/Sheet3!$F$1","v":8},{"$f":"+Sheet3!BK24/Sheet3!$F$1","v":0},{"$f":"+Sheet3!BL24/Sheet3!$F$1","v":11},{"$f":"+Sheet3!BM24/Sheet3!$F$1","v":53},{"$f":"+Sheet3!BN24/Sheet3!$F$1","v":25},{"$f":"+Sheet3!BO24/Sheet3!$F$1","v":15},{"$f":"+Sheet3!BP24/Sheet3!$F$1","v":3},{"$f":"+Sheet3!BQ24/Sheet3!$F$1","v":0},{"$f":"+Sheet3!BR24/Sheet3!$F$1","v":12},{"$f":"+Sheet3!BS24/Sheet3!$F$1","v":6},{"$f":"+Sheet3!BT24/Sheet3!$F$1","v":9},{"$f":"+Sheet3!BU24/Sheet3!$F$1","v":0},{"$f":"+Sheet3!BV24/Sheet3!$F$1","v":198},{"$f":"+Sheet3!BW24/Sheet3!$F$1","v":157},{"$f":"+Sheet3!BX24/Sheet3!$F$1","v":31},{"$f":"+Sheet3!BY24/Sheet3!$F$1","v":4},{"$f":"+Sheet3!BZ24/Sheet3!$F$1","v":0},{"$f":"+Sheet3!CA24/Sheet3!$F$1","v":20},{"$f":"+Sheet3!CB24/Sheet3!$F$1","v":29},{"$f":"+Sheet3!CC24/Sheet3!$F$1","v":8},{"$f":"+Sheet3!CD24/Sheet3!$F$1","v":13},{"$f":"+Sheet3!CE24/Sheet3!$F$1","v":3},{"$f":"+Sheet3!CF24/Sheet3!$F$1","v":117},{"$f":"+Sheet3!CG24/Sheet3!$F$1","v":72},{"$f":"+Sheet3!CH24/Sheet3!$F$1","v":18},{"$f":"+Sheet3!CI24/Sheet3!$F$1","v":3},{"$f":"+Sheet3!CJ24/Sheet3!$F$1","v":0},{"$f":"+Sheet3!CK24/Sheet3!$F$1","v":0},{"$f":"+Sheet3!CL24/Sheet3!$F$1","v":0},{"$f":"+Sheet3!CM24/Sheet3!$F$1","v":9},{"$f":"+Sheet3!CN24/Sheet3!$F$1","v":13},{"$f":"+Sheet3!CO24/Sheet3!$F$1","v":16},{"$f":"+Sheet3!CP24/Sheet3!$F$1","v":0},{"$f":"+Sheet3!CQ24/Sheet3!$F$1","v":3},{"$f":"+Sheet3!CR24/Sheet3!$F$1","v":6},{"$f":"+Sheet3!CS24/Sheet3!$F$1","v":3},{"$f":"+Sheet3!CT24/Sheet3!$F$1","v":0},{"$f":"+Sheet3!CU24/Sheet3!$F$1","v":11},{"$f":"+Sheet3!CV24/Sheet3!$F$1","v":55},{"$f":"+Sheet3!CW24/Sheet3!$F$1","v":50},{"$f":"+Sheet3!CX24/Sheet3!$F$1","v":55},{"$f":"+Sheet3!CY24/Sheet3!$F$1","v":0},{"$f":"+Sheet3!CZ24/Sheet3!$F$1","v":94},{"$f":"+Sheet3!DA24/Sheet3!$F$1","v":159},{"$f":"+Sheet3!DB24/Sheet3!$F$1","v":112},{"$f":"+Sheet3!DC24/Sheet3!$F$1","v":0},{"$f":"+Sheet3!DD24/Sheet3!$F$1","v":159},{"$f":"+Sheet3!DE24/Sheet3!$F$1","v":24},{"$f":"+Sheet3!DF24/Sheet3!$F$1","v":38},{"$f":"+Sheet3!DG24/Sheet3!$F$1","v":114},{"$f":"+Sheet3!DH24/Sheet3!$F$1","v":28},{"$f":"+Sheet3!DI24/Sheet3!$F$1","v":391},{"$f":"+Sheet3!DJ24/Sheet3!$F$1","v":76},{"$f":"+Sheet3!DK24/Sheet3!$F$1","v":211},{"$f":"+Sheet3!DL24/Sheet3!$F$1","v":42},{"$f":"+Sheet3!DM24/Sheet3!$F$1","v":13},{"$f":"+Sheet3!DN24/Sheet3!$F$1","v":438},{"$f":"+Sheet3!DO24/Sheet3!$F$1","v":586},{"$f":"+Sheet3!DP24/Sheet3!$F$1","v":344},{"$f":"+Sheet3!DQ24/Sheet3!$F$1","v":203},{"$f":"+Sheet3!DR24/Sheet3!$F$1","v":65},1636]
["Alentejo","181","Alentejo Litoral",{"$f":"+Sheet3!D25/Sheet3!$F$1","v":0},{"$f":"+Sheet3!E25/Sheet3!$F$1","v":4},{"$f":"+Sheet3!F25/Sheet3!$F$1","v":0},{"$f":"+Sheet3!G25/Sheet3!$F$1","v":6},{"$f":"+Sheet3!H25/Sheet3!$F$1","v":5},{"$f":"+Sheet3!I25/Sheet3!$F$1","v":0},{"$f":"+Sheet3!J25/Sheet3!$F$1","v":3},{"$f":"+Sheet3!K25/Sheet3!$F$1","v":0},{"$f":"+Sheet3!L25/Sheet3!$F$1","v":3},{"$f":"+Sheet3!M25/Sheet3!$F$1","v":0},{"$f":"+Sheet3!N25/Sheet3!$F$1","v":26},{"$f":"+Sheet3!O25/Sheet3!$F$1","v":46},{"$f":"+Sheet3!P25/Sheet3!$F$1","v":10},{"$f":"+Sheet3!Q25/Sheet3!$F$1","v":4},{"$f":"+Sheet3!R25/Sheet3!$F$1","v":0},{"$f":"+Sheet3!S25/Sheet3!$F$1","v":0},{"$f":"+Sheet3!T25/Sheet3!$F$1","v":49},{"$f":"+Sheet3!U25/Sheet3!$F$1","v":38},{"$f":"+Sheet3!V25/Sheet3!$F$1","v":18},{"$f":"+Sheet3!W25/Sheet3!$F$1","v":0},{"$f":"+Sheet3!X25/Sheet3!$F$1","v":0},{"$f":"+Sheet3!Y25/Sheet3!$F$1","v":0},{"$f":"+Sheet3!Z25/Sheet3!$F$1","v":0},{"$f":"+Sheet3!AA25/Sheet3!$F$1","v":0},{"$f":"+Sheet3!AB25/Sheet3!$F$1","v":0},{"$f":"+Sheet3!AC25/Sheet3!$F$1","v":30},{"$f":"+Sheet3!AD25/Sheet3!$F$1","v":39},{"$f":"+Sheet3!AE25/Sheet3!$F$1","v":15},{"$f":"+Sheet3!AF25/Sheet3!$F$1","v":8},{"$f":"+Sheet3!AG25/Sheet3!$F$1","v":10},{"$f":"+Sheet3!AH25/Sheet3!$F$1","v":0},{"$f":"+Sheet3!AI25/Sheet3!$F$1","v":7},{"$f":"+Sheet3!AJ25/Sheet3!$F$1","v":6},{"$f":"+Sheet3!AK25/Sheet3!$F$1","v":0},{"$f":"+Sheet3!AL25/Sheet3!$F$1","v":0},{"$f":"+Sheet3!AM25/Sheet3!$F$1","v":25},{"$f":"+Sheet3!AN25/Sheet3!$F$1","v":83},{"$f":"+Sheet3!AO25/Sheet3!$F$1","v":73},{"$f":"+Sheet3!AP25/Sheet3!$F$1","v":85},{"$f":"+Sheet3!AQ25/Sheet3!$F$1","v":31},{"$f":"+Sheet3!AR25/Sheet3!$F$1","v":45},{"$f":"+Sheet3!AS25/Sheet3!$F$1","v":4},{"$f":"+Sheet3!AT25/Sheet3!$F$1","v":6},{"$f":"+Sheet3!AU25/Sheet3!$F$1","v":5},{"$f":"+Sheet3!AV25/Sheet3!$F$1","v":0},{"$f":"+Sheet3!AW25/Sheet3!$F$1","v":125},{"$f":"+Sheet3!AX25/Sheet3!$F$1","v":140},{"$f":"+Sheet3!AY25/Sheet3!$F$1","v":61},{"$f":"+Sheet3!AZ25/Sheet3!$F$1","v":34},{"$f":"+Sheet3!BA25/Sheet3!$F$1","v":8},{"$f":"+Sheet3!BB25/Sheet3!$F$1","v":0},{"$f":"+Sheet3!BC25/Sheet3!$F$1","v":0},{"$f":"+Sheet3!BD25/Sheet3!$F$1","v":0},{"$f":"+Sheet3!BE25/Sheet3!$F$1","v":3},{"$f":"+Sheet3!BF25/Sheet3!$F$1","v":9},{"$f":"+Sheet3!BG25/Sheet3!$F$1","v":3},{"$f":"+Sheet3!BH25/Sheet3!$F$1","v":54},{"$f":"+Sheet3!BI25/Sheet3!$F$1","v":53},{"$f":"+Sheet3!BJ25/Sheet3!$F$1","v":21},{"$f":"+Sheet3!BK25/Sheet3!$F$1","v":0},{"$f":"+Sheet3!BL25/Sheet3!$F$1","v":13},{"$f":"+Sheet3!BM25/Sheet3!$F$1","v":39},{"$f":"+Sheet3!BN25/Sheet3!$F$1","v":25},{"$f":"+Sheet3!BO25/Sheet3!$F$1","v":4},{"$f":"+Sheet3!BP25/Sheet3!$F$1","v":3},{"$f":"+Sheet3!BQ25/Sheet3!$F$1","v":0},{"$f":"+Sheet3!BR25/Sheet3!$F$1","v":92},{"$f":"+Sheet3!BS25/Sheet3!$F$1","v":155},{"$f":"+Sheet3!BT25/Sheet3!$F$1","v":53},{"$f":"+Sheet3!BU25/Sheet3!$F$1","v":0},{"$f":"+Sheet3!BV25/Sheet3!$F$1","v":129},{"$f":"+Sheet3!BW25/Sheet3!$F$1","v":318},{"$f":"+Sheet3!BX25/Sheet3!$F$1","v":144},{"$f":"+Sheet3!BY25/Sheet3!$F$1","v":30},{"$f":"+Sheet3!BZ25/Sheet3!$F$1","v":0},{"$f":"+Sheet3!CA25/Sheet3!$F$1","v":34},{"$f":"+Sheet3!CB25/Sheet3!$F$1","v":84},{"$f":"+Sheet3!CC25/Sheet3!$F$1","v":49},{"$f":"+Sheet3!CD25/Sheet3!$F$1","v":44},{"$f":"+Sheet3!CE25/Sheet3!$F$1","v":6},{"$f":"+Sheet3!CF25/Sheet3!$F$1","v":519},{"$f":"+Sheet3!CG25/Sheet3!$F$1","v":308},{"$f":"+Sheet3!CH25/Sheet3!$F$1","v":41},{"$f":"+Sheet3!CI25/Sheet3!$F$1","v":4},{"$f":"+Sheet3!CJ25/Sheet3!$F$1","v":0},{"$f":"+Sheet3!CK25/Sheet3!$F$1","v":0},{"$f":"+Sheet3!CL25/Sheet3!$F$1","v":0},{"$f":"+Sheet3!CM25/Sheet3!$F$1","v":5},{"$f":"+Sheet3!CN25/Sheet3!$F$1","v":5},{"$f":"+Sheet3!CO25/Sheet3!$F$1","v":0},{"$f":"+Sheet3!CP25/Sheet3!$F$1","v":0},{"$f":"+Sheet3!CQ25/Sheet3!$F$1","v":0},{"$f":"+Sheet3!CR25/Sheet3!$F$1","v":0},{"$f":"+Sheet3!CS25/Sheet3!$F$1","v":0},{"$f":"+Sheet3!CT25/Sheet3!$F$1","v":0},{"$f":"+Sheet3!CU25/Sheet3!$F$1","v":18},{"$f":"+Sheet3!CV25/Sheet3!$F$1","v":11},{"$f":"+Sheet3!CW25/Sheet3!$F$1","v":88},{"$f":"+Sheet3!CX25/Sheet3!$F$1","v":109},{"$f":"+Sheet3!CY25/Sheet3!$F$1","v":5},{"$f":"+Sheet3!CZ25/Sheet3!$F$1","v":111},{"$f":"+Sheet3!DA25/Sheet3!$F$1","v":18},{"$f":"+Sheet3!DB25/Sheet3!$F$1","v":301},{"$f":"+Sheet3!DC25/Sheet3!$F$1","v":63},{"$f":"+Sheet3!DD25/Sheet3!$F$1","v":370},{"$f":"+Sheet3!DE25/Sheet3!$F$1","v":13},{"$f":"+Sheet3!DF25/Sheet3!$F$1","v":133},{"$f":"+Sheet3!DG25/Sheet3!$F$1","v":88},{"$f":"+Sheet3!DH25/Sheet3!$F$1","v":306},{"$f":"+Sheet3!DI25/Sheet3!$F$1","v":622},{"$f":"+Sheet3!DJ25/Sheet3!$F$1","v":219},{"$f":"+Sheet3!DK25/Sheet3!$F$1","v":872},{"$f":"+Sheet3!DL25/Sheet3!$F$1","v":11},{"$f":"+Sheet3!DM25/Sheet3!$F$1","v":0},{"$f":"+Sheet3!DN25/Sheet3!$F$1","v":958},{"$f":"+Sheet3!DO25/Sheet3!$F$1","v":1290},{"$f":"+Sheet3!DP25/Sheet3!$F$1","v":691},{"$f":"+Sheet3!DQ25/Sheet3!$F$1","v":338},{"$f":"+Sheet3!DR25/Sheet3!$F$1","v":81},3358]
[null,"184","Baixo Alentejo",{"$f":"+Sheet3!D26/Sheet3!$F$1","v":10},{"$f":"+Sheet3!E26/Sheet3!$F$1","v":6},{"$f":"+Sheet3!F26/Sheet3!$F$1","v":0},{"$f":"+Sheet3!G26/Sheet3!$F$1","v":3},{"$f":"+Sheet3!H26/Sheet3!$F$1","v":0},{"$f":"+Sheet3!I26/Sheet3!$F$1","v":0},{"$f":"+Sheet3!J26/Sheet3!$F$1","v":17},{"$f":"+Sheet3!K26/Sheet3!$F$1","v":18},{"$f":"+Sheet3!L26/Sheet3!$F$1","v":33},{"$f":"+Sheet3!M26/Sheet3!$F$1","v":5},{"$f":"+Sheet3!N26/Sheet3!$F$1","v":289},{"$f":"+Sheet3!O26/Sheet3!$F$1","v":194},{"$f":"+Sheet3!P26/Sheet3!$F$1","v":85},{"$f":"+Sheet3!Q26/Sheet3!$F$1","v":26},{"$f":"+Sheet3!R26/Sheet3!$F$1","v":6},{"$f":"+Sheet3!S26/Sheet3!$F$1","v":0},{"$f":"+Sheet3!T26/Sheet3!$F$1","v":0},{"$f":"+Sheet3!U26/Sheet3!$F$1","v":0},{"$f":"+Sheet3!V26/Sheet3!$F$1","v":0},{"$f":"+Sheet3!W26/Sheet3!$F$1","v":0},{"$f":"+Sheet3!X26/Sheet3!$F$1","v":0},{"$f":"+Sheet3!Y26/Sheet3!$F$1","v":11},{"$f":"+Sheet3!Z26/Sheet3!$F$1","v":14},{"$f":"+Sheet3!AA26/Sheet3!$F$1","v":33},{"$f":"+Sheet3!AB26/Sheet3!$F$1","v":8},{"$f":"+Sheet3!AC26/Sheet3!$F$1","v":27},{"$f":"+Sheet3!AD26/Sheet3!$F$1","v":49},{"$f":"+Sheet3!AE26/Sheet3!$F$1","v":22},{"$f":"+Sheet3!AF26/Sheet3!$F$1","v":20},{"$f":"+Sheet3!AG26/Sheet3!$F$1","v":8},{"$f":"+Sheet3!AH26/Sheet3!$F$1","v":66},{"$f":"+Sheet3!AI26/Sheet3!$F$1","v":115},{"$f":"+Sheet3!AJ26/Sheet3!$F$1","v":56},{"$f":"+Sheet3!AK26/Sheet3!$F$1","v":12},{"$f":"+Sheet3!AL26/Sheet3!$F$1","v":0},{"$f":"+Sheet3!AM26/Sheet3!$F$1","v":18},{"$f":"+Sheet3!AN26/Sheet3!$F$1","v":88},{"$f":"+Sheet3!AO26/Sheet3!$F$1","v":162},{"$f":"+Sheet3!AP26/Sheet3!$F$1","v":144},{"$f":"+Sheet3!AQ26/Sheet3!$F$1","v":53},{"$f":"+Sheet3!AR26/Sheet3!$F$1","v":1139},{"$f":"+Sheet3!AS26/Sheet3!$F$1","v":407},{"$f":"+Sheet3!AT26/Sheet3!$F$1","v":264},{"$f":"+Sheet3!AU26/Sheet3!$F$1","v":155},{"$f":"+Sheet3!AV26/Sheet3!$F$1","v":20},{"$f":"+Sheet3!AW26/Sheet3!$F$1","v":442},{"$f":"+Sheet3!AX26/Sheet3!$F$1","v":343},{"$f":"+Sheet3!AY26/Sheet3!$F$1","v":130},{"$f":"+Sheet3!AZ26/Sheet3!$F$1","v":101},{"$f":"+Sheet3!BA26/Sheet3!$F$1","v":20},{"$f":"+Sheet3!BB26/Sheet3!$F$1","v":0},{"$f":"+Sheet3!BC26/Sheet3!$F$1","v":0},{"$f":"+Sheet3!BD26/Sheet3!$F$1","v":0},{"$f":"+Sheet3!BE26/Sheet3!$F$1","v":0},{"$f":"+Sheet3!BF26/Sheet3!$F$1","v":0},{"$f":"+Sheet3!BG26/Sheet3!$F$1","v":0},{"$f":"+Sheet3!BH26/Sheet3!$F$1","v":33},{"$f":"+Sheet3!BI26/Sheet3!$F$1","v":70},{"$f":"+Sheet3!BJ26/Sheet3!$F$1","v":39},{"$f":"+Sheet3!BK26/Sheet3!$F$1","v":3},{"$f":"+Sheet3!BL26/Sheet3!$F$1","v":14},{"$f":"+Sheet3!BM26/Sheet3!$F$1","v":35},{"$f":"+Sheet3!BN26/Sheet3!$F$1","v":41},{"$f":"+Sheet3!BO26/Sheet3!$F$1","v":22},{"$f":"+Sheet3!BP26/Sheet3!$F$1","v":8},{"$f":"+Sheet3!BQ26/Sheet3!$F$1","v":6},{"$f":"+Sheet3!BR26/Sheet3!$F$1","v":55},{"$f":"+Sheet3!BS26/Sheet3!$F$1","v":206},{"$f":"+Sheet3!BT26/Sheet3!$F$1","v":128},{"$f":"+Sheet3!BU26/Sheet3!$F$1","v":0},{"$f":"+Sheet3!BV26/Sheet3!$F$1","v":347},{"$f":"+Sheet3!BW26/Sheet3!$F$1","v":671},{"$f":"+Sheet3!BX26/Sheet3!$F$1","v":395},{"$f":"+Sheet3!BY26/Sheet3!$F$1","v":119},{"$f":"+Sheet3!BZ26/Sheet3!$F$1","v":0},{"$f":"+Sheet3!CA26/Sheet3!$F$1","v":55},{"$f":"+Sheet3!CB26/Sheet3!$F$1","v":174},{"$f":"+Sheet3!CC26/Sheet3!$F$1","v":123},{"$f":"+Sheet3!CD26/Sheet3!$F$1","v":132},{"$f":"+Sheet3!CE26/Sheet3!$F$1","v":21},{"$f":"+Sheet3!CF26/Sheet3!$F$1","v":660},{"$f":"+Sheet3!CG26/Sheet3!$F$1","v":371},{"$f":"+Sheet3!CH26/Sheet3!$F$1","v":103},{"$f":"+Sheet3!CI26/Sheet3!$F$1","v":5},{"$f":"+Sheet3!CJ26/Sheet3!$F$1","v":0},{"$f":"+Sheet3!CK26/Sheet3!$F$1","v":0},{"$f":"+Sheet3!CL26/Sheet3!$F$1","v":0},{"$f":"+Sheet3!CM26/Sheet3!$F$1","v":5},{"$f":"+Sheet3!CN26/Sheet3!$F$1","v":4},{"$f":"+Sheet3!CO26/Sheet3!$F$1","v":0},{"$f":"+Sheet3!CP26/Sheet3!$F$1","v":0},{"$f":"+Sheet3!CQ26/Sheet3!$F$1","v":0},{"$f":"+Sheet3!CR26/Sheet3!$F$1","v":0},{"$f":"+Sheet3!CS26/Sheet3!$F$1","v":0},{"$f":"+Sheet3!CT26/Sheet3!$F$1","v":0},{"$f":"+Sheet3!CU26/Sheet3!$F$1","v":24},{"$f":"+Sheet3!CV26/Sheet3!$F$1","v":79},{"$f":"+Sheet3!CW26/Sheet3!$F$1","v":603},{"$f":"+Sheet3!CX26/Sheet3!$F$1","v":0},{"$f":"+Sheet3!CY26/Sheet3!$F$1","v":70},{"$f":"+Sheet3!CZ26/Sheet3!$F$1","v":129},{"$f":"+Sheet3!DA26/Sheet3!$F$1","v":253},{"$f":"+Sheet3!DB26/Sheet3!$F$1","v":472},{"$f":"+Sheet3!DC26/Sheet3!$F$1","v":1987},{"$f":"+Sheet3!DD26/Sheet3!$F$1","v":1042},{"$f":"+Sheet3!DE26/Sheet3!$F$1","v":5},{"$f":"+Sheet3!DF26/Sheet3!$F$1","v":147},{"$f":"+Sheet3!DG26/Sheet3!$F$1","v":125},{"$f":"+Sheet3!DH26/Sheet3!$F$1","v":400},{"$f":"+Sheet3!DI26/Sheet3!$F$1","v":1537},{"$f":"+Sheet3!DJ26/Sheet3!$F$1","v":507},{"$f":"+Sheet3!DK26/Sheet3!$F$1","v":1140},{"$f":"+Sheet3!DL26/Sheet3!$F$1","v":10},{"$f":"+Sheet3!DM26/Sheet3!$F$1","v":0},{"$f":"+Sheet3!DN26/Sheet3!$F$1","v":3083},{"$f":"+Sheet3!DO26/Sheet3!$F$1","v":2583},{"$f":"+Sheet3!DP26/Sheet3!$F$1","v":1710},{"$f":"+Sheet3!DQ26/Sheet3!$F$1","v":990},{"$f":"+Sheet3!DR26/Sheet3!$F$1","v":164},8530]
[null,"185","Lezíria do Tejo",{"$f":"+Sheet3!D27/Sheet3!$F$1","v":3},{"$f":"+Sheet3!E27/Sheet3!$F$1","v":0},{"$f":"+Sheet3!F27/Sheet3!$F$1","v":7},{"$f":"+Sheet3!G27/Sheet3!$F$1","v":11},{"$f":"+Sheet3!H27/Sheet3!$F$1","v":13},{"$f":"+Sheet3!I27/Sheet3!$F$1","v":22},{"$f":"+Sheet3!J27/Sheet3!$F$1","v":104},{"$f":"+Sheet3!K27/Sheet3!$F$1","v":85},{"$f":"+Sheet3!L27/Sheet3!$F$1","v":102},{"$f":"+Sheet3!M27/Sheet3!$F$1","v":18},{"$f":"+Sheet3!N27/Sheet3!$F$1","v":44},{"$f":"+Sheet3!O27/Sheet3!$F$1","v":47},{"$f":"+Sheet3!P27/Sheet3!$F$1","v":19},{"$f":"+Sheet3!Q27/Sheet3!$F$1","v":13},{"$f":"+Sheet3!R27/Sheet3!$F$1","v":0},{"$f":"+Sheet3!S27/Sheet3!$F$1","v":0},{"$f":"+Sheet3!T27/Sheet3!$F$1","v":10},{"$f":"+Sheet3!U27/Sheet3!$F$1","v":49},{"$f":"+Sheet3!V27/Sheet3!$F$1","v":53},{"$f":"+Sheet3!W27/Sheet3!$F$1","v":0},{"$f":"+Sheet3!X27/Sheet3!$F$1","v":0},{"$f":"+Sheet3!Y27/Sheet3!$F$1","v":6},{"$f":"+Sheet3!Z27/Sheet3!$F$1","v":9},{"$f":"+Sheet3!AA27/Sheet3!$F$1","v":6},{"$f":"+Sheet3!AB27/Sheet3!$F$1","v":0},{"$f":"+Sheet3!AC27/Sheet3!$F$1","v":17},{"$f":"+Sheet3!AD27/Sheet3!$F$1","v":22},{"$f":"+Sheet3!AE27/Sheet3!$F$1","v":25},{"$f":"+Sheet3!AF27/Sheet3!$F$1","v":14},{"$f":"+Sheet3!AG27/Sheet3!$F$1","v":0},{"$f":"+Sheet3!AH27/Sheet3!$F$1","v":16},{"$f":"+Sheet3!AI27/Sheet3!$F$1","v":60},{"$f":"+Sheet3!AJ27/Sheet3!$F$1","v":55},{"$f":"+Sheet3!AK27/Sheet3!$F$1","v":15},{"$f":"+Sheet3!AL27/Sheet3!$F$1","v":0},{"$f":"+Sheet3!AM27/Sheet3!$F$1","v":35},{"$f":"+Sheet3!AN27/Sheet3!$F$1","v":58},{"$f":"+Sheet3!AO27/Sheet3!$F$1","v":70},{"$f":"+Sheet3!AP27/Sheet3!$F$1","v":60},{"$f":"+Sheet3!AQ27/Sheet3!$F$1","v":13},{"$f":"+Sheet3!AR27/Sheet3!$F$1","v":177},{"$f":"+Sheet3!AS27/Sheet3!$F$1","v":14},{"$f":"+Sheet3!AT27/Sheet3!$F$1","v":10},{"$f":"+Sheet3!AU27/Sheet3!$F$1","v":0},{"$f":"+Sheet3!AV27/Sheet3!$F$1","v":0},{"$f":"+Sheet3!AW27/Sheet3!$F$1","v":270},{"$f":"+Sheet3!AX27/Sheet3!$F$1","v":145},{"$f":"+Sheet3!AY27/Sheet3!$F$1","v":74},{"$f":"+Sheet3!AZ27/Sheet3!$F$1","v":57},{"$f":"+Sheet3!BA27/Sheet3!$F$1","v":23},{"$f":"+Sheet3!BB27/Sheet3!$F$1","v":0},{"$f":"+Sheet3!BC27/Sheet3!$F$1","v":0},{"$f":"+Sheet3!BD27/Sheet3!$F$1","v":0},{"$f":"+Sheet3!BE27/Sheet3!$F$1","v":5},{"$f":"+Sheet3!BF27/Sheet3!$F$1","v":11},{"$f":"+Sheet3!BG27/Sheet3!$F$1","v":0},{"$f":"+Sheet3!BH27/Sheet3!$F$1","v":13},{"$f":"+Sheet3!BI27/Sheet3!$F$1","v":9},{"$f":"+Sheet3!BJ27/Sheet3!$F$1","v":8},{"$f":"+Sheet3!BK27/Sheet3!$F$1","v":0},{"$f":"+Sheet3!BL27/Sheet3!$F$1","v":17},{"$f":"+Sheet3!BM27/Sheet3!$F$1","v":42},{"$f":"+Sheet3!BN27/Sheet3!$F$1","v":21},{"$f":"+Sheet3!BO27/Sheet3!$F$1","v":8},{"$f":"+Sheet3!BP27/Sheet3!$F$1","v":0},{"$f":"+Sheet3!BQ27/Sheet3!$F$1","v":0},{"$f":"+Sheet3!BR27/Sheet3!$F$1","v":8},{"$f":"+Sheet3!BS27/Sheet3!$F$1","v":21},{"$f":"+Sheet3!BT27/Sheet3!$F$1","v":16},{"$f":"+Sheet3!BU27/Sheet3!$F$1","v":0},{"$f":"+Sheet3!BV27/Sheet3!$F$1","v":126},{"$f":"+Sheet3!BW27/Sheet3!$F$1","v":125},{"$f":"+Sheet3!BX27/Sheet3!$F$1","v":34},{"$f":"+Sheet3!BY27/Sheet3!$F$1","v":6},{"$f":"+Sheet3!BZ27/Sheet3!$F$1","v":0},{"$f":"+Sheet3!CA27/Sheet3!$F$1","v":34},{"$f":"+Sheet3!CB27/Sheet3!$F$1","v":35},{"$f":"+Sheet3!CC27/Sheet3!$F$1","v":23},{"$f":"+Sheet3!CD27/Sheet3!$F$1","v":36},{"$f":"+Sheet3!CE27/Sheet3!$F$1","v":9},{"$f":"+Sheet3!CF27/Sheet3!$F$1","v":300},{"$f":"+Sheet3!CG27/Sheet3!$F$1","v":166},{"$f":"+Sheet3!CH27/Sheet3!$F$1","v":32},{"$f":"+Sheet3!CI27/Sheet3!$F$1","v":6},{"$f":"+Sheet3!CJ27/Sheet3!$F$1","v":0},{"$f":"+Sheet3!CK27/Sheet3!$F$1","v":0},{"$f":"+Sheet3!CL27/Sheet3!$F$1","v":0},{"$f":"+Sheet3!CM27/Sheet3!$F$1","v":37},{"$f":"+Sheet3!CN27/Sheet3!$F$1","v":84},{"$f":"+Sheet3!CO27/Sheet3!$F$1","v":46},{"$f":"+Sheet3!CP27/Sheet3!$F$1","v":0},{"$f":"+Sheet3!CQ27/Sheet3!$F$1","v":4},{"$f":"+Sheet3!CR27/Sheet3!$F$1","v":4},{"$f":"+Sheet3!CS27/Sheet3!$F$1","v":5},{"$f":"+Sheet3!CT27/Sheet3!$F$1","v":0},{"$f":"+Sheet3!CU27/Sheet3!$F$1","v":41},{"$f":"+Sheet3!CV27/Sheet3!$F$1","v":338},{"$f":"+Sheet3!CW27/Sheet3!$F$1","v":127},{"$f":"+Sheet3!CX27/Sheet3!$F$1","v":113},{"$f":"+Sheet3!CY27/Sheet3!$F$1","v":23},{"$f":"+Sheet3!CZ27/Sheet3!$F$1","v":87},{"$f":"+Sheet3!DA27/Sheet3!$F$1","v":150},{"$f":"+Sheet3!DB27/Sheet3!$F$1","v":240},{"$f":"+Sheet3!DC27/Sheet3!$F$1","v":208},{"$f":"+Sheet3!DD27/Sheet3!$F$1","v":577},{"$f":"+Sheet3!DE27/Sheet3!$F$1","v":20},{"$f":"+Sheet3!DF27/Sheet3!$F$1","v":34},{"$f":"+Sheet3!DG27/Sheet3!$F$1","v":96},{"$f":"+Sheet3!DH27/Sheet3!$F$1","v":51},{"$f":"+Sheet3!DI27/Sheet3!$F$1","v":291},{"$f":"+Sheet3!DJ27/Sheet3!$F$1","v":140},{"$f":"+Sheet3!DK27/Sheet3!$F$1","v":505},{"$f":"+Sheet3!DL27/Sheet3!$F$1","v":173},{"$f":"+Sheet3!DM27/Sheet3!$F$1","v":14},{"$f":"+Sheet3!DN27/Sheet3!$F$1","v":1076},{"$f":"+Sheet3!DO27/Sheet3!$F$1","v":882},{"$f":"+Sheet3!DP27/Sheet3!$F$1","v":603},{"$f":"+Sheet3!DQ27/Sheet3!$F$1","v":516},{"$f":"+Sheet3!DR27/Sheet3!$F$1","v":151},3228]
[null,"186","Alto Alentejo",{"$f":"+Sheet3!D28/Sheet3!$F$1","v":0},{"$f":"+Sheet3!E28/Sheet3!$F$1","v":0},{"$f":"+Sheet3!F28/Sheet3!$F$1","v":0},{"$f":"+Sheet3!G28/Sheet3!$F$1","v":0},{"$f":"+Sheet3!H28/Sheet3!$F$1","v":0},{"$f":"+Sheet3!I28/Sheet3!$F$1","v":0},{"$f":"+Sheet3!J28/Sheet3!$F$1","v":8},{"$f":"+Sheet3!K28/Sheet3!$F$1","v":5},{"$f":"+Sheet3!L28/Sheet3!$F$1","v":6},{"$f":"+Sheet3!M28/Sheet3!$F$1","v":0},{"$f":"+Sheet3!N28/Sheet3!$F$1","v":51},{"$f":"+Sheet3!O28/Sheet3!$F$1","v":20},{"$f":"+Sheet3!P28/Sheet3!$F$1","v":13},{"$f":"+Sheet3!Q28/Sheet3!$F$1","v":8},{"$f":"+Sheet3!R28/Sheet3!$F$1","v":0},{"$f":"+Sheet3!S28/Sheet3!$F$1","v":0},{"$f":"+Sheet3!T28/Sheet3!$F$1","v":0},{"$f":"+Sheet3!U28/Sheet3!$F$1","v":0},{"$f":"+Sheet3!V28/Sheet3!$F$1","v":0},{"$f":"+Sheet3!W28/Sheet3!$F$1","v":0},{"$f":"+Sheet3!X28/Sheet3!$F$1","v":0},{"$f":"+Sheet3!Y28/Sheet3!$F$1","v":0},{"$f":"+Sheet3!Z28/Sheet3!$F$1","v":8},{"$f":"+Sheet3!AA28/Sheet3!$F$1","v":8},{"$f":"+Sheet3!AB28/Sheet3!$F$1","v":0},{"$f":"+Sheet3!AC28/Sheet3!$F$1","v":32},{"$f":"+Sheet3!AD28/Sheet3!$F$1","v":41},{"$f":"+Sheet3!AE28/Sheet3!$F$1","v":27},{"$f":"+Sheet3!AF28/Sheet3!$F$1","v":50},{"$f":"+Sheet3!AG28/Sheet3!$F$1","v":6},{"$f":"+Sheet3!AH28/Sheet3!$F$1","v":25},{"$f":"+Sheet3!AI28/Sheet3!$F$1","v":40},{"$f":"+Sheet3!AJ28/Sheet3!$F$1","v":22},{"$f":"+Sheet3!AK28/Sheet3!$F$1","v":6},{"$f":"+Sheet3!AL28/Sheet3!$F$1","v":0},{"$f":"+Sheet3!AM28/Sheet3!$F$1","v":25},{"$f":"+Sheet3!AN28/Sheet3!$F$1","v":54},{"$f":"+Sheet3!AO28/Sheet3!$F$1","v":36},{"$f":"+Sheet3!AP28/Sheet3!$F$1","v":22},{"$f":"+Sheet3!AQ28/Sheet3!$F$1","v":3},{"$f":"+Sheet3!AR28/Sheet3!$F$1","v":1031},{"$f":"+Sheet3!AS28/Sheet3!$F$1","v":143},{"$f":"+Sheet3!AT28/Sheet3!$F$1","v":64},{"$f":"+Sheet3!AU28/Sheet3!$F$1","v":33},{"$f":"+Sheet3!AV28/Sheet3!$F$1","v":3},{"$f":"+Sheet3!AW28/Sheet3!$F$1","v":592},{"$f":"+Sheet3!AX28/Sheet3!$F$1","v":211},{"$f":"+Sheet3!AY28/Sheet3!$F$1","v":65},{"$f":"+Sheet3!AZ28/Sheet3!$F$1","v":34},{"$f":"+Sheet3!BA28/Sheet3!$F$1","v":3},{"$f":"+Sheet3!BB28/Sheet3!$F$1","v":0},{"$f":"+Sheet3!BC28/Sheet3!$F$1","v":0},{"$f":"+Sheet3!BD28/Sheet3!$F$1","v":0},{"$f":"+Sheet3!BE28/Sheet3!$F$1","v":0},{"$f":"+Sheet3!BF28/Sheet3!$F$1","v":10},{"$f":"+Sheet3!BG28/Sheet3!$F$1","v":0},{"$f":"+Sheet3!BH28/Sheet3!$F$1","v":72},{"$f":"+Sheet3!BI28/Sheet3!$F$1","v":92},{"$f":"+Sheet3!BJ28/Sheet3!$F$1","v":46},{"$f":"+Sheet3!BK28/Sheet3!$F$1","v":0},{"$f":"+Sheet3!BL28/Sheet3!$F$1","v":4},{"$f":"+Sheet3!BM28/Sheet3!$F$1","v":22},{"$f":"+Sheet3!BN28/Sheet3!$F$1","v":23},{"$f":"+Sheet3!BO28/Sheet3!$F$1","v":8},{"$f":"+Sheet3!BP28/Sheet3!$F$1","v":5},{"$f":"+Sheet3!BQ28/Sheet3!$F$1","v":3},{"$f":"+Sheet3!BR28/Sheet3!$F$1","v":104},{"$f":"+Sheet3!BS28/Sheet3!$F$1","v":246},{"$f":"+Sheet3!BT28/Sheet3!$F$1","v":172},{"$f":"+Sheet3!BU28/Sheet3!$F$1","v":7},{"$f":"+Sheet3!BV28/Sheet3!$F$1","v":422},{"$f":"+Sheet3!BW28/Sheet3!$F$1","v":629},{"$f":"+Sheet3!BX28/Sheet3!$F$1","v":221},{"$f":"+Sheet3!BY28/Sheet3!$F$1","v":49},{"$f":"+Sheet3!BZ28/Sheet3!$F$1","v":0},{"$f":"+Sheet3!CA28/Sheet3!$F$1","v":158},{"$f":"+Sheet3!CB28/Sheet3!$F$1","v":166},{"$f":"+Sheet3!CC28/Sheet3!$F$1","v":75},{"$f":"+Sheet3!CD28/Sheet3!$F$1","v":79},{"$f":"+Sheet3!CE28/Sheet3!$F$1","v":15},{"$f":"+Sheet3!CF28/Sheet3!$F$1","v":275},{"$f":"+Sheet3!CG28/Sheet3!$F$1","v":158},{"$f":"+Sheet3!CH28/Sheet3!$F$1","v":25},{"$f":"+Sheet3!CI28/Sheet3!$F$1","v":5},{"$f":"+Sheet3!CJ28/Sheet3!$F$1","v":0},{"$f":"+Sheet3!CK28/Sheet3!$F$1","v":0},{"$f":"+Sheet3!CL28/Sheet3!$F$1","v":0},{"$f":"+Sheet3!CM28/Sheet3!$F$1","v":0},{"$f":"+Sheet3!CN28/Sheet3!$F$1","v":9},{"$f":"+Sheet3!CO28/Sheet3!$F$1","v":4},{"$f":"+Sheet3!CP28/Sheet3!$F$1","v":0},{"$f":"+Sheet3!CQ28/Sheet3!$F$1","v":0},{"$f":"+Sheet3!CR28/Sheet3!$F$1","v":0},{"$f":"+Sheet3!CS28/Sheet3!$F$1","v":0},{"$f":"+Sheet3!CT28/Sheet3!$F$1","v":0},{"$f":"+Sheet3!CU28/Sheet3!$F$1","v":6},{"$f":"+Sheet3!CV28/Sheet3!$F$1","v":22},{"$f":"+Sheet3!CW28/Sheet3!$F$1","v":93},{"$f":"+Sheet3!CX28/Sheet3!$F$1","v":0},{"$f":"+Sheet3!CY28/Sheet3!$F$1","v":19},{"$f":"+Sheet3!CZ28/Sheet3!$F$1","v":162},{"$f":"+Sheet3!DA28/Sheet3!$F$1","v":93},{"$f":"+Sheet3!DB28/Sheet3!$F$1","v":147},{"$f":"+Sheet3!DC28/Sheet3!$F$1","v":1278},{"$f":"+Sheet3!DD28/Sheet3!$F$1","v":907},{"$f":"+Sheet3!DE28/Sheet3!$F$1","v":11},{"$f":"+Sheet3!DF28/Sheet3!$F$1","v":214},{"$f":"+Sheet3!DG28/Sheet3!$F$1","v":66},{"$f":"+Sheet3!DH28/Sheet3!$F$1","v":537},{"$f":"+Sheet3!DI28/Sheet3!$F$1","v":1325},{"$f":"+Sheet3!DJ28/Sheet3!$F$1","v":495},{"$f":"+Sheet3!DK28/Sheet3!$F$1","v":466},{"$f":"+Sheet3!DL28/Sheet3!$F$1","v":15},{"$f":"+Sheet3!DM28/Sheet3!$F$1","v":0},{"$f":"+Sheet3!DN28/Sheet3!$F$1","v":2627},{"$f":"+Sheet3!DO28/Sheet3!$F$1","v":1685},{"$f":"+Sheet3!DP28/Sheet3!$F$1","v":944},{"$f":"+Sheet3!DQ28/Sheet3!$F$1","v":539},{"$f":"+Sheet3!DR28/Sheet3!$F$1","v":63},5858]
[null,"187","Alentejo Central",{"$f":"+Sheet3!D29/Sheet3!$F$1","v":0},{"$f":"+Sheet3!E29/Sheet3!$F$1","v":3},{"$f":"+Sheet3!F29/Sheet3!$F$1","v":5},{"$f":"+Sheet3!G29/Sheet3!$F$1","v":4},{"$f":"+Sheet3!H29/Sheet3!$F$1","v":6},{"$f":"+Sheet3!I29/Sheet3!$F$1","v":0},{"$f":"+Sheet3!J29/Sheet3!$F$1","v":3},{"$f":"+Sheet3!K29/Sheet3!$F$1","v":4},{"$f":"+Sheet3!L29/Sheet3!$F$1","v":13},{"$f":"+Sheet3!M29/Sheet3!$F$1","v":0},{"$f":"+Sheet3!N29/Sheet3!$F$1","v":159},{"$f":"+Sheet3!O29/Sheet3!$F$1","v":41},{"$f":"+Sheet3!P29/Sheet3!$F$1","v":15},{"$f":"+Sheet3!Q29/Sheet3!$F$1","v":13},{"$f":"+Sheet3!R29/Sheet3!$F$1","v":5},{"$f":"+Sheet3!S29/Sheet3!$F$1","v":0},{"$f":"+Sheet3!T29/Sheet3!$F$1","v":0},{"$f":"+Sheet3!U29/Sheet3!$F$1","v":3},{"$f":"+Sheet3!V29/Sheet3!$F$1","v":4},{"$f":"+Sheet3!W29/Sheet3!$F$1","v":0},{"$f":"+Sheet3!X29/Sheet3!$F$1","v":0},{"$f":"+Sheet3!Y29/Sheet3!$F$1","v":3},{"$f":"+Sheet3!Z29/Sheet3!$F$1","v":9},{"$f":"+Sheet3!AA29/Sheet3!$F$1","v":23},{"$f":"+Sheet3!AB29/Sheet3!$F$1","v":0},{"$f":"+Sheet3!AC29/Sheet3!$F$1","v":30},{"$f":"+Sheet3!AD29/Sheet3!$F$1","v":37},{"$f":"+Sheet3!AE29/Sheet3!$F$1","v":32},{"$f":"+Sheet3!AF29/Sheet3!$F$1","v":62},{"$f":"+Sheet3!AG29/Sheet3!$F$1","v":10},{"$f":"+Sheet3!AH29/Sheet3!$F$1","v":65},{"$f":"+Sheet3!AI29/Sheet3!$F$1","v":316},{"$f":"+Sheet3!AJ29/Sheet3!$F$1","v":196},{"$f":"+Sheet3!AK29/Sheet3!$F$1","v":62},{"$f":"+Sheet3!AL29/Sheet3!$F$1","v":5},{"$f":"+Sheet3!AM29/Sheet3!$F$1","v":42},{"$f":"+Sheet3!AN29/Sheet3!$F$1","v":55},{"$f":"+Sheet3!AO29/Sheet3!$F$1","v":68},{"$f":"+Sheet3!AP29/Sheet3!$F$1","v":47},{"$f":"+Sheet3!AQ29/Sheet3!$F$1","v":11},{"$f":"+Sheet3!AR29/Sheet3!$F$1","v":809},{"$f":"+Sheet3!AS29/Sheet3!$F$1","v":67},{"$f":"+Sheet3!AT29/Sheet3!$F$1","v":31},{"$f":"+Sheet3!AU29/Sheet3!$F$1","v":29},{"$f":"+Sheet3!AV29/Sheet3!$F$1","v":0},{"$f":"+Sheet3!AW29/Sheet3!$F$1","v":464},{"$f":"+Sheet3!AX29/Sheet3!$F$1","v":221},{"$f":"+Sheet3!AY29/Sheet3!$F$1","v":67},{"$f":"+Sheet3!AZ29/Sheet3!$F$1","v":33},{"$f":"+Sheet3!BA29/Sheet3!$F$1","v":7},{"$f":"+Sheet3!BB29/Sheet3!$F$1","v":0},{"$f":"+Sheet3!BC29/Sheet3!$F$1","v":0},{"$f":"+Sheet3!BD29/Sheet3!$F$1","v":0},{"$f":"+Sheet3!BE29/Sheet3!$F$1","v":6},{"$f":"+Sheet3!BF29/Sheet3!$F$1","v":12},{"$f":"+Sheet3!BG29/Sheet3!$F$1","v":0},{"$f":"+Sheet3!BH29/Sheet3!$F$1","v":32},{"$f":"+Sheet3!BI29/Sheet3!$F$1","v":90},{"$f":"+Sheet3!BJ29/Sheet3!$F$1","v":65},{"$f":"+Sheet3!BK29/Sheet3!$F$1","v":6},{"$f":"+Sheet3!BL29/Sheet3!$F$1","v":18},{"$f":"+Sheet3!BM29/Sheet3!$F$1","v":58},{"$f":"+Sheet3!BN29/Sheet3!$F$1","v":41},{"$f":"+Sheet3!BO29/Sheet3!$F$1","v":17},{"$f":"+Sheet3!BP29/Sheet3!$F$1","v":8},{"$f":"+Sheet3!BQ29/Sheet3!$F$1","v":0},{"$f":"+Sheet3!BR29/Sheet3!$F$1","v":70},{"$f":"+Sheet3!BS29/Sheet3!$F$1","v":286},{"$f":"+Sheet3!BT29/Sheet3!$F$1","v":218},{"$f":"+Sheet3!BU29/Sheet3!$F$1","v":9},{"$f":"+Sheet3!BV29/Sheet3!$F$1","v":471},{"$f":"+Sheet3!BW29/Sheet3!$F$1","v":621},{"$f":"+Sheet3!BX29/Sheet3!$F$1","v":216},{"$f":"+Sheet3!BY29/Sheet3!$F$1","v":69},{"$f":"+Sheet3!BZ29/Sheet3!$F$1","v":4},{"$f":"+Sheet3!CA29/Sheet3!$F$1","v":121},{"$f":"+Sheet3!CB29/Sheet3!$F$1","v":143},{"$f":"+Sheet3!CC29/Sheet3!$F$1","v":88},{"$f":"+Sheet3!CD29/Sheet3!$F$1","v":136},{"$f":"+Sheet3!CE29/Sheet3!$F$1","v":23},{"$f":"+Sheet3!CF29/Sheet3!$F$1","v":417},{"$f":"+Sheet3!CG29/Sheet3!$F$1","v":241},{"$f":"+Sheet3!CH29/Sheet3!$F$1","v":66},{"$f":"+Sheet3!CI29/Sheet3!$F$1","v":5},{"$f":"+Sheet3!CJ29/Sheet3!$F$1","v":0},{"$f":"+Sheet3!CK29/Sheet3!$F$1","v":0},{"$f":"+Sheet3!CL29/Sheet3!$F$1","v":0},{"$f":"+Sheet3!CM29/Sheet3!$F$1","v":0},{"$f":"+Sheet3!CN29/Sheet3!$F$1","v":5},{"$f":"+Sheet3!CO29/Sheet3!$F$1","v":5},{"$f":"+Sheet3!CP29/Sheet3!$F$1","v":0},{"$f":"+Sheet3!CQ29/Sheet3!$F$1","v":0},{"$f":"+Sheet3!CR29/Sheet3!$F$1","v":0},{"$f":"+Sheet3!CS29/Sheet3!$F$1","v":0},{"$f":"+Sheet3!CT29/Sheet3!$F$1","v":0},{"$f":"+Sheet3!CU29/Sheet3!$F$1","v":21},{"$f":"+Sheet3!CV29/Sheet3!$F$1","v":22},{"$f":"+Sheet3!CW29/Sheet3!$F$1","v":238},{"$f":"+Sheet3!CX29/Sheet3!$F$1","v":7},{"$f":"+Sheet3!CY29/Sheet3!$F$1","v":40},{"$f":"+Sheet3!CZ29/Sheet3!$F$1","v":176},{"$f":"+Sheet3!DA29/Sheet3!$F$1","v":647},{"$f":"+Sheet3!DB29/Sheet3!$F$1","v":226},{"$f":"+Sheet3!DC29/Sheet3!$F$1","v":942},{"$f":"+Sheet3!DD29/Sheet3!$F$1","v":798},{"$f":"+Sheet3!DE29/Sheet3!$F$1","v":21},{"$f":"+Sheet3!DF29/Sheet3!$F$1","v":197},{"$f":"+Sheet3!DG29/Sheet3!$F$1","v":148},{"$f":"+Sheet3!DH29/Sheet3!$F$1","v":592},{"$f":"+Sheet3!DI29/Sheet3!$F$1","v":1383},{"$f":"+Sheet3!DJ29/Sheet3!$F$1","v":513},{"$f":"+Sheet3!DK29/Sheet3!$F$1","v":730},{"$f":"+Sheet3!DL29/Sheet3!$F$1","v":11},{"$f":"+Sheet3!DM29/Sheet3!$F$1","v":0},{"$f":"+Sheet3!DN29/Sheet3!$F$1","v":2604},{"$f":"+Sheet3!DO29/Sheet3!$F$1","v":1931},{"$f":"+Sheet3!DP29/Sheet3!$F$1","v":1235},{"$f":"+Sheet3!DQ29/Sheet3!$F$1","v":824},{"$f":"+Sheet3!DR29/Sheet3!$F$1","v":118},6712]
["Algarve","150","Algarve",{"$f":"+Sheet3!D30/Sheet3!$F$1","v":0},{"$f":"+Sheet3!E30/Sheet3!$F$1","v":0},{"$f":"+Sheet3!F30/Sheet3!$F$1","v":0},{"$f":"+Sheet3!G30/Sheet3!$F$1","v":0},{"$f":"+Sheet3!H30/Sheet3!$F$1","v":0},{"$f":"+Sheet3!I30/Sheet3!$F$1","v":0},{"$f":"+Sheet3!J30/Sheet3!$F$1","v":0},{"$f":"+Sheet3!K30/Sheet3!$F$1","v":0},{"$f":"+Sheet3!L30/Sheet3!$F$1","v":0},{"$f":"+Sheet3!M30/Sheet3!$F$1","v":0},{"$f":"+Sheet3!N30/Sheet3!$F$1","v":63},{"$f":"+Sheet3!O30/Sheet3!$F$1","v":22},{"$f":"+Sheet3!P30/Sheet3!$F$1","v":12},{"$f":"+Sheet3!Q30/Sheet3!$F$1","v":0},{"$f":"+Sheet3!R30/Sheet3!$F$1","v":0},{"$f":"+Sheet3!S30/Sheet3!$F$1","v":0},{"$f":"+Sheet3!T30/Sheet3!$F$1","v":0},{"$f":"+Sheet3!U30/Sheet3!$F$1","v":0},{"$f":"+Sheet3!V30/Sheet3!$F$1","v":0},{"$f":"+Sheet3!W30/Sheet3!$F$1","v":0},{"$f":"+Sheet3!X30/Sheet3!$F$1","v":0},{"$f":"+Sheet3!Y30/Sheet3!$F$1","v":0},{"$f":"+Sheet3!Z30/Sheet3!$F$1","v":0},{"$f":"+Sheet3!AA30/Sheet3!$F$1","v":0},{"$f":"+Sheet3!AB30/Sheet3!$F$1","v":0},{"$f":"+Sheet3!AC30/Sheet3!$F$1","v":24},{"$f":"+Sheet3!AD30/Sheet3!$F$1","v":155},{"$f":"+Sheet3!AE30/Sheet3!$F$1","v":52},{"$f":"+Sheet3!AF30/Sheet3!$F$1","v":10},{"$f":"+Sheet3!AG30/Sheet3!$F$1","v":0},{"$f":"+Sheet3!AH30/Sheet3!$F$1","v":0},{"$f":"+Sheet3!AI30/Sheet3!$F$1","v":0},{"$f":"+Sheet3!AJ30/Sheet3!$F$1","v":5},{"$f":"+Sheet3!AK30/Sheet3!$F$1","v":0},{"$f":"+Sheet3!AL30/Sheet3!$F$1","v":0},{"$f":"+Sheet3!AM30/Sheet3!$F$1","v":181},{"$f":"+Sheet3!AN30/Sheet3!$F$1","v":556},{"$f":"+Sheet3!AO30/Sheet3!$F$1","v":388},{"$f":"+Sheet3!AP30/Sheet3!$F$1","v":279},{"$f":"+Sheet3!AQ30/Sheet3!$F$1","v":112},{"$f":"+Sheet3!AR30/Sheet3!$F$1","v":16},{"$f":"+Sheet3!AS30/Sheet3!$F$1","v":0},{"$f":"+Sheet3!AT30/Sheet3!$F$1","v":0},{"$f":"+Sheet3!AU30/Sheet3!$F$1","v":0},{"$f":"+Sheet3!AV30/Sheet3!$F$1","v":0},{"$f":"+Sheet3!AW30/Sheet3!$F$1","v":728},{"$f":"+Sheet3!AX30/Sheet3!$F$1","v":1415},{"$f":"+Sheet3!AY30/Sheet3!$F$1","v":148},{"$f":"+Sheet3!AZ30/Sheet3!$F$1","v":18},{"$f":"+Sheet3!BA30/Sheet3!$F$1","v":0},{"$f":"+Sheet3!BB30/Sheet3!$F$1","v":0},{"$f":"+Sheet3!BC30/Sheet3!$F$1","v":0},{"$f":"+Sheet3!BD30/Sheet3!$F$1","v":0},{"$f":"+Sheet3!BE30/Sheet3!$F$1","v":0},{"$f":"+Sheet3!BF30/Sheet3!$F$1","v":0},{"$f":"+Sheet3!BG30/Sheet3!$F$1","v":5},{"$f":"+Sheet3!BH30/Sheet3!$F$1","v":18},{"$f":"+Sheet3!BI30/Sheet3!$F$1","v":11},{"$f":"+Sheet3!BJ30/Sheet3!$F$1","v":0},{"$f":"+Sheet3!BK30/Sheet3!$F$1","v":0},{"$f":"+Sheet3!BL30/Sheet3!$F$1","v":17},{"$f":"+Sheet3!BM30/Sheet3!$F$1","v":25},{"$f":"+Sheet3!BN30/Sheet3!$F$1","v":8},{"$f":"+Sheet3!BO30/Sheet3!$F$1","v":0},{"$f":"+Sheet3!BP30/Sheet3!$F$1","v":0},{"$f":"+Sheet3!BQ30/Sheet3!$F$1","v":7},{"$f":"+Sheet3!BR30/Sheet3!$F$1","v":17},{"$f":"+Sheet3!BS30/Sheet3!$F$1","v":8},{"$f":"+Sheet3!BT30/Sheet3!$F$1","v":0},{"$f":"+Sheet3!BU30/Sheet3!$F$1","v":0},{"$f":"+Sheet3!BV30/Sheet3!$F$1","v":93},{"$f":"+Sheet3!BW30/Sheet3!$F$1","v":141},{"$f":"+Sheet3!BX30/Sheet3!$F$1","v":21},{"$f":"+Sheet3!BY30/Sheet3!$F$1","v":0},{"$f":"+Sheet3!BZ30/Sheet3!$F$1","v":0},{"$f":"+Sheet3!CA30/Sheet3!$F$1","v":34},{"$f":"+Sheet3!CB30/Sheet3!$F$1","v":99},{"$f":"+Sheet3!CC30/Sheet3!$F$1","v":26},{"$f":"+Sheet3!CD30/Sheet3!$F$1","v":5},{"$f":"+Sheet3!CE30/Sheet3!$F$1","v":0},{"$f":"+Sheet3!CF30/Sheet3!$F$1","v":217},{"$f":"+Sheet3!CG30/Sheet3!$F$1","v":24},{"$f":"+Sheet3!CH30/Sheet3!$F$1","v":8},{"$f":"+Sheet3!CI30/Sheet3!$F$1","v":0},{"$f":"+Sheet3!CJ30/Sheet3!$F$1","v":0},{"$f":"+Sheet3!CK30/Sheet3!$F$1","v":0},{"$f":"+Sheet3!CL30/Sheet3!$F$1","v":0},{"$f":"+Sheet3!CM30/Sheet3!$F$1","v":0},{"$f":"+Sheet3!CN30/Sheet3!$F$1","v":0},{"$f":"+Sheet3!CO30/Sheet3!$F$1","v":0},{"$f":"+Sheet3!CP30/Sheet3!$F$1","v":0},{"$f":"+Sheet3!CQ30/Sheet3!$F$1","v":0},{"$f":"+Sheet3!CR30/Sheet3!$F$1","v":0},{"$f":"+Sheet3!CS30/Sheet3!$F$1","v":0},{"$f":"+Sheet3!CT30/Sheet3!$F$1","v":0},{"$f":"+Sheet3!CU30/Sheet3!$F$1","v":10},{"$f":"+Sheet3!CV30/Sheet3!$F$1","v":6},{"$f":"+Sheet3!CW30/Sheet3!$F$1","v":102},{"$f":"+Sheet3!CX30/Sheet3!$F$1","v":0},{"$f":"+Sheet3!CY30/Sheet3!$F$1","v":3},{"$f":"+Sheet3!CZ30/Sheet3!$F$1","v":245},{"$f":"+Sheet3!DA30/Sheet3!$F$1","v":9},{"$f":"+Sheet3!DB30/Sheet3!$F$1","v":1517},{"$f":"+Sheet3!DC30/Sheet3!$F$1","v":19},{"$f":"+Sheet3!DD30/Sheet3!$F$1","v":2311},{"$f":"+Sheet3!DE30/Sheet3!$F$1","v":0},{"$f":"+Sheet3!DF30/Sheet3!$F$1","v":35},{"$f":"+Sheet3!DG30/Sheet3!$F$1","v":55},{"$f":"+Sheet3!DH30/Sheet3!$F$1","v":37},{"$f":"+Sheet3!DI30/Sheet3!$F$1","v":259},{"$f":"+Sheet3!DJ30/Sheet3!$F$1","v":168},{"$f":"+Sheet3!DK30/Sheet3!$F$1","v":251},{"$f":"+Sheet3!DL30/Sheet3!$F$1","v":0},{"$f":"+Sheet3!DM30/Sheet3!$F$1","v":0},{"$f":"+Sheet3!DN30/Sheet3!$F$1","v":1395},{"$f":"+Sheet3!DO30/Sheet3!$F$1","v":2494},{"$f":"+Sheet3!DP30/Sheet3!$F$1","v":701},{"$f":"+Sheet3!DQ30/Sheet3!$F$1","v":324},{"$f":"+Sheet3!DR30/Sheet3!$F$1","v":116},5030]
["Continente",null,null,{"$f":"+Sheet3!D31/Sheet3!$F$1","v":61},{"$f":"+Sheet3!E31/Sheet3!$F$1","v":95},{"$f":"+Sheet3!F31/Sheet3!$F$1","v":76},{"$f":"+Sheet3!G31/Sheet3!$F$1","v":66},{"$f":"+Sheet3!H31/Sheet3!$F$1","v":58},{"$f":"+Sheet3!I31/Sheet3!$F$1","v":4525},{"$f":"+Sheet3!J31/Sheet3!$F$1","v":1055},{"$f":"+Sheet3!K31/Sheet3!$F$1","v":295},{"$f":"+Sheet3!L31/Sheet3!$F$1","v":248},{"$f":"+Sheet3!M31/Sheet3!$F$1","v":36},{"$f":"+Sheet3!N31/Sheet3!$F$1","v":5081},{"$f":"+Sheet3!O31/Sheet3!$F$1","v":956},{"$f":"+Sheet3!P31/Sheet3!$F$1","v":225},{"$f":"+Sheet3!Q31/Sheet3!$F$1","v":92},{"$f":"+Sheet3!R31/Sheet3!$F$1","v":15},{"$f":"+Sheet3!S31/Sheet3!$F$1","v":95},{"$f":"+Sheet3!T31/Sheet3!$F$1","v":220},{"$f":"+Sheet3!U31/Sheet3!$F$1","v":185},{"$f":"+Sheet3!V31/Sheet3!$F$1","v":113},{"$f":"+Sheet3!W31/Sheet3!$F$1","v":2},{"$f":"+Sheet3!X31/Sheet3!$F$1","v":6},{"$f":"+Sheet3!Y31/Sheet3!$F$1","v":48},{"$f":"+Sheet3!Z31/Sheet3!$F$1","v":58},{"$f":"+Sheet3!AA31/Sheet3!$F$1","v":75},{"$f":"+Sheet3!AB31/Sheet3!$F$1","v":12},{"$f":"+Sheet3!AC31/Sheet3!$F$1","v":6661},{"$f":"+Sheet3!AD31/Sheet3!$F$1","v":7346},{"$f":"+Sheet3!AE31/Sheet3!$F$1","v":914},{"$f":"+Sheet3!AF31/Sheet3!$F$1","v":309},{"$f":"+Sheet3!AG31/Sheet3!$F$1","v":64},{"$f":"+Sheet3!AH31/Sheet3!$F$1","v":5079},{"$f":"+Sheet3!AI31/Sheet3!$F$1","v":4694},{"$f":"+Sheet3!AJ31/Sheet3!$F$1","v":1056},{"$f":"+Sheet3!AK31/Sheet3!$F$1","v":206},{"$f":"+Sheet3!AL31/Sheet3!$F$1","v":12},{"$f":"+Sheet3!AM31/Sheet3!$F$1","v":5226},{"$f":"+Sheet3!AN31/Sheet3!$F$1","v":4619},{"$f":"+Sheet3!AO31/Sheet3!$F$1","v":2824},{"$f":"+Sheet3!AP31/Sheet3!$F$1","v":1210},{"$f":"+Sheet3!AQ31/Sheet3!$F$1","v":279},{"$f":"+Sheet3!AR31/Sheet3!$F$1","v":8386},{"$f":"+Sheet3!AS31/Sheet3!$F$1","v":935},{"$f":"+Sheet3!AT31/Sheet3!$F$1","v":442},{"$f":"+Sheet3!AU31/Sheet3!$F$1","v":235},{"$f":"+Sheet3!AV31/Sheet3!$F$1","v":29},{"$f":"+Sheet3!AW31/Sheet3!$F$1","v":37499},{"$f":"+Sheet3!AX31/Sheet3!$F$1","v":15560},{"$f":"+Sheet3!AY31/Sheet3!$F$1","v":1162},{"$f":"+Sheet3!AZ31/Sheet3!$F$1","v":372},{"$f":"+Sheet3!BA31/Sheet3!$F$1","v":70},{"$f":"+Sheet3!BB31/Sheet3!$F$1","v":54},{"$f":"+Sheet3!BC31/Sheet3!$F$1","v":233},{"$f":"+Sheet3!BD31/Sheet3!$F$1","v":441},{"$f":"+Sheet3!BE31/Sheet3!$F$1","v":978},{"$f":"+Sheet3!BF31/Sheet3!$F$1","v":148},{"$f":"+Sheet3!BG31/Sheet3!$F$1","v":433},{"$f":"+Sheet3!BH31/Sheet3!$F$1","v":1222},{"$f":"+Sheet3!BI31/Sheet3!$F$1","v":623},{"$f":"+Sheet3!BJ31/Sheet3!$F$1","v":212},{"$f":"+Sheet3!BK31/Sheet3!$F$1","v":12},{"$f":"+Sheet3!BL31/Sheet3!$F$1","v":880},{"$f":"+Sheet3!BM31/Sheet3!$F$1","v":2040},{"$f":"+Sheet3!BN31/Sheet3!$F$1","v":619},{"$f":"+Sheet3!BO31/Sheet3!$F$1","v":127},{"$f":"+Sheet3!BP31/Sheet3!$F$1","v":34},{"$f":"+Sheet3!BQ31/Sheet3!$F$1","v":808},{"$f":"+Sheet3!BR31/Sheet3!$F$1","v":3243},{"$f":"+Sheet3!BS31/Sheet3!$F$1","v":1597},{"$f":"+Sheet3!BT31/Sheet3!$F$1","v":680},{"$f":"+Sheet3!BU31/Sheet3!$F$1","v":33},{"$f":"+Sheet3!BV31/Sheet3!$F$1","v":6785},{"$f":"+Sheet3!BW31/Sheet3!$F$1","v":8464},{"$f":"+Sheet3!BX31/Sheet3!$F$1","v":2287},{"$f":"+Sheet3!BY31/Sheet3!$F$1","v":392},{"$f":"+Sheet3!BZ31/Sheet3!$F$1","v":10},{"$f":"+Sheet3!CA31/Sheet3!$F$1","v":5302},{"$f":"+Sheet3!CB31/Sheet3!$F$1","v":4983},{"$f":"+Sheet3!CC31/Sheet3!$F$1","v":797},{"$f":"+Sheet3!CD31/Sheet3!$F$1","v":482},{"$f":"+Sheet3!CE31/Sheet3!$F$1","v":78},{"$f":"+Sheet3!CF31/Sheet3!$F$1","v":7291},{"$f":"+Sheet3!CG31/Sheet3!$F$1","v":2636},{"$f":"+Sheet3!CH31/Sheet3!$F$1","v":358},{"$f":"+Sheet3!CI31/Sheet3!$F$1","v":34},{"$f":"+Sheet3!CJ31/Sheet3!$F$1","v":0},{"$f":"+Sheet3!CK31/Sheet3!$F$1","v":2},{"$f":"+Sheet3!CL31/Sheet3!$F$1","v":5},{"$f":"+Sheet3!CM31/Sheet3!$F$1","v":63},{"$f":"+Sheet3!CN31/Sheet3!$F$1","v":124},{"$f":"+Sheet3!CO31/Sheet3!$F$1","v":72},{"$f":"+Sheet3!CP31/Sheet3!$F$1","v":154},{"$f":"+Sheet3!CQ31/Sheet3!$F$1","v":47},{"$f":"+Sheet3!CR31/Sheet3!$F$1","v":16},{"$f":"+Sheet3!CS31/Sheet3!$F$1","v":9},{"$f":"+Sheet3!CT31/Sheet3!$F$1","v":0},{"$f":"+Sheet3!CU31/Sheet3!$F$1","v":356},{"$f":"+Sheet3!CV31/Sheet3!$F$1","v":6159},{"$f":"+Sheet3!CW31/Sheet3!$F$1","v":6369},{"$f":"+Sheet3!CX31/Sheet3!$F$1","v":615},{"$f":"+Sheet3!CY31/Sheet3!$F$1","v":199},{"$f":"+Sheet3!CZ31/Sheet3!$F$1","v":15294},{"$f":"+Sheet3!DA31/Sheet3!$F$1","v":11047},{"$f":"+Sheet3!DB31/Sheet3!$F$1","v":14158},{"$f":"+Sheet3!DC31/Sheet3!$F$1","v":10027},{"$f":"+Sheet3!DD31/Sheet3!$F$1","v":54663},{"$f":"+Sheet3!DE31/Sheet3!$F$1","v":1854},{"$f":"+Sheet3!DF31/Sheet3!$F$1","v":2502},{"$f":"+Sheet3!DG31/Sheet3!$F$1","v":3700},{"$f":"+Sheet3!DH31/Sheet3!$F$1","v":6361},{"$f":"+Sheet3!DI31/Sheet3!$F$1","v":17939},{"$f":"+Sheet3!DJ31/Sheet3!$F$1","v":11642},{"$f":"+Sheet3!DK31/Sheet3!$F$1","v":10319},{"$f":"+Sheet3!DL31/Sheet3!$F$1","v":266},{"$f":"+Sheet3!DM31/Sheet3!$F$1","v":226},{"$f":"+Sheet3!DN31/Sheet3!$F$1","v":94328},{"$f":"+Sheet3!DO31/Sheet3!$F$1","v":58401},{"$f":"+Sheet3!DP31/Sheet3!$F$1","v":14038},{"$f":"+Sheet3!DQ31/Sheet3!$F$1","v":5964},{"$f":"+Sheet3!DR31/Sheet3!$F$1","v":964},{"$f":"SUM(DN34:DR34)","v":173695}]
[]
[]
[null,"Legenda"]
[null,"MP",{"$f":"+INDEX(Sheet6!O8:Q8,1,Sheet3!$B$1)","v":"< 4 000 € de VPP"}]
[null,"P",{"$f":"+INDEX(Sheet6!O9:Q9,1,Sheet3!$B$1)","v":">= 4 000 e < 25 000 € de VPP"}]
[null,"M",{"$f":"+INDEX(Sheet6!O10:Q10,1,Sheet3!$B$1)","v":">= 25 000 e < 100 000 € de VPP"}]
[null,"G",{"$f":"+INDEX(Sheet6!O11:Q11,1,Sheet3!$B$1)","v":">= 100 000 e < 500 000 € de VPP"}]
[null,"MG",{"$f":"+INDEX(Sheet6!O12:Q12,1,Sheet3!$B$1)","v":">= 500 000  € de VPP"}]
["Fonte: GPP a partir de dados IFAP"]
[]
[null,null,null,{"$f":"+INDEX(Sheet6!$D$2:$D$117,Sheet3!$C$1)&\" segundo Orientação Técnico Económica e \"&INDEX(Sheet6!$M$3:$M$6,Sheet3!$B$1)&\" e por NUTSIII em \" &Sheet6!$B$1","v":"(1) - Nº de Beneficiários segundo Orientação Técnico Económica e Classe de DE e por NUTSIII em 2021"},null,null,null,null,null,null,null,null,null,null,null,null,null,null,null,null,null,null,null,null,null,null,null,null,null,null,null,null,null,{"$f":"+D45& \" (cont.)\"","v":"(1) - Nº de Beneficiários segundo Orientação Técnico Económica e Classe de DE e por NUTSIII em 2021 (cont.)"},null,null,null,null,null,null,null,null,null,null,null,null,null,null,null,null,null,null,null,null,null,null,null,null,null,null,null,null,null,null,null,null,null,null,{"$f":"+AH45","v":"(1) - Nº de Beneficiários segundo Orientação Técnico Económica e Classe de DE e por NUTSIII em 2021 (cont.)"},null,null,null,null,null,null,null,null,null,null,null,null,null,null,null,null,null,null,null,null,null,null,null,null,null,null,null,null,null,{"$f":"+INDEX(Sheet6!$D$2:$D$117,Sheet3!$C$1)&\" segundo Orientação Técnico Económica por NUTSIII em \" &Sheet6!B43","v":"(1) - Nº de Beneficiários segundo Orientação Técnico Económica por NUTSIII em 42"},null,null,null,null,null,null,null,null,null,null,null,null,null,null,null,null,null,null,{"$f":"+INDEX(Sheet6!$D$2:$D$117,Sheet3!$C$1)&CHAR(10)& \"segundo \"&INDEX(Sheet6!$M$3:$M$6,Sheet3!$B$1)& \" por NUTSIII em \" &Sheet6!$B$1","v":"(1) - Nº de Beneficiários\nsegundo Classe de DE por NUTSIII em 2021"}]
[null,null,"Unidade (%)"]
[null,null,"OTE","Não classificadas",null,null,null,null,"Arvenses e Outras Cult pred. Regadio",null,null,null,null,"Arvenses e Outras Cult pred. Sequeiro",null,null,null,null,"Arroz",null,null,null,null,"Horticultura e Industriais",null,null,null,null,"Horticultura e Floricultura",null,null,null,null,"Vinhos",null,null,null,null,"Fruticultura",null,null,null,null,"Olival",null,null,null,null,"Policultura",null,null,null,null,"Bovinos Leite",null,null,null,null,{"$f":"+BG8","v":"Bov. Carne semi-int. (>1 < 3CN por ha SF)"},null,null,null,null,{"$f":"+BL8","v":"Bov. Carne Int (>= 3CN por ha SF)"},null,null,null,null,{"$f":"+BQ8","v":"Bov. Carne Extensivos (<1 CN por ha SF)"},null,null,null,null,"Outros Ruminantes",null,null,null,null,"Mistas",null,null,null,null,"Pousio e Pastagem",null,null,null,null,"Tomate Indústria",null,null,null,null,"Plantas tuberosas",null,null,null,null,"Não classificadas","Arvenses e Outras Cult pred. Regadio","Arvenses e Outras Cult pred. Sequeiro","Arroz","Horticultura e Industriais","Horticultura e Floricultura","Vinhos","Fruticultura","Olival","Policultura","Bovinos Leite",{"$f":"+DF8","v":"Bov. Carne semi-int. (>1 < 3CN por ha SF)"},{"$f":"+DG8","v":"Bov. Carne Int (>= 3CN por ha SF)"},{"$f":"+DH8","v":"Bov. Carne Extensivos (<1 CN por ha SF)"},"Outros Ruminantes","Mistas","Pousio e Pastagem","Tomate Indústria","Plantas tuberosas","MP","P","M","G","MG","Total"]
[null,null,{"$f":"+C9","v":"Classe de DE"},"MP","P","M","G","MG","MP","P","M","G","MG","MP","P","M","G","MG","MP","P","M","G","MG","MP","P","M","G","MG","MP","P","M","G","MG","MP","P","M","G","MG","MP","P","M","G","MG","MP","P","M","G","MG","MP","P","M","G","MG","MP","P","M","G","MG","MP","P","M","G","MG","MP","P","M","G","MG","MP","P","M","G","MG","MP","P","M","G","MG","MP","P","M","G","MG","MP","P","M","G","MG","MP","P","M","G","MG","MP","P","M","G","MG",null,"Arvenses e Outras Cult pred. Regadio"]
["NUTS II","Cód.","NUTS III",null,null,null,null,null,null,null,null,null,null,null,null,null,null,null,null,null,null,null,null,null,null,null,null,null,null,null,null,null,{"$f":"+\"Unidade: % \"","v":"Unidade: % "},null,null,null,null,null,null,null,null,null,null,null,null,null,null,null,null,null,null,null,null,null,null,null,null,null,null,null,null,null,{"$f":"+\"Unidade: % \"","v":"Unidade: % "},null,null,null,null,null,null,null,null,null,null,null,null,null,null,null,null,null,null,null,null,null,null,null,null,null,null,null,null,null,null,null,null,null,null,{"$f":"+\"Unidade: % \"","v":"Unidade: % "},null,null,null,null,null,null,null,null,null,null,null,null,null,null,null,null,null,null,null,null,null,null,null,null,"Unidade: % "]
["Norte ","111","Alto Minho",{"$f":"+D11/$DS$34*100","v":0},0,0,0,0,0.1658078816315956,7.4843835458706359E-3,0,0,0,7.369239183626472E-2,2.8786090561040904E-3,0,0,0,0,0,0,0,0,0,0,0,0,0,4.7784910331327902E-2,4.2027692219119721E-2,1.0362992601974725E-2,2.3028872448832725E-3,0,0.21819856645269006,0.20322979936094879,{"$f":"+AJ11/$DS$34*100","v":1.6695932525403724E-2},0,0,2.4180316071274362E-2,3.914908316301563E-2,3.3391865050807448E-2,1.7271654336624544E-3,0,0,0,0,0,0,1.1140217047122831,0.19113964132531161,4.605774489766545E-3,0,0,0,2.8786090561040904E-3,9.7872707907539075E-3,2.072598520394945E-2,0,7.0813782780160636E-2,7.369239183626472E-2,1.1514436224416362E-2,0,0,4.3754857652782177E-2,5.3542128443536077E-2,8.6358271683122708E-3,0,{"$f":"+BP11/$DS$34*100","v":0},0.12032585854515097,0.2665591985952388,8.7509715305564353E-2,1.3817323469299635E-2,5.7572181122081808E-3,0.39839949336480612,0.33334292869685367,2.3028872448832723E-2,0,0,0.4294884711707303,0.18423097959066179,2.8786090561040904E-3,0,0,0.17962520510089525,1.5544488902962089E-2,1.7271654336624544E-3,0,0,0,0,0,0,0,0,0,0,0,0,0,{"$f":"+CV11/$DS$34*100","v":0.17559515242234952},7.7146722703589618E-2,0,0,0.1047813696421889,0.44042718558392585,0.10075131696364317,0,1.3120700077722445,3.5119030484469904E-2,0.15659633265206252,0.10708425688707215,0.4951207576499036,0.75707418175537577,0.61659805981749616,0.19804830305996143,0,0,2.8901234923285068,1.4208814300929791,0.21704712283024843,4.3754857652782177E-2,7.4843835458706359E-3,{"$f":"SUM(DN50:DR50)","v":4.5792912864503865}]
[null,"112","Cávado",{"$f":"+D12/$DS$34*100","v":0},0,0,0,0,0.50836235930798235,6.5056564667952441E-2,2.8786090561040904E-3,3.4543308673249088E-3,0,0.16292927257549153,1.842309795906618E-2,0,0,0,0,0,0,0,0,0,0,0,0,0,0.11744724948904689,0.11226575318805954,2.3028872448832723E-2,0,0,2.3028872448832723E-2,3.6270474106911539E-2,{"$f":"+AJ12/$DS$34*100","v":9.21154897953309E-3},0,0,1.6695932525403724E-2,6.4480842856731627E-2,5.6420737499640175E-2,3.4543308673249088E-3,0,0,0,0,0,0,0.93727510866749197,0.2446817697688477,9.21154897953309E-3,0,0,0,1.4393045280520452E-2,5.8723624744523445E-2,0.14911194910619188,8.0601053570914533E-3,1.8998819770286998E-2,3.5694752295690718E-2,2.3028872448832725E-3,0,0,8.6358271683122725E-2,0.24237888252396442,4.8936353953769537E-2,2.3028872448832725E-3,{"$f":"+BP12/$DS$34*100","v":0},2.4756037882495179E-2,5.5845015688419354E-2,1.3241601658078818E-2,2.3028872448832725E-3,0,8.9236880739226809E-2,7.5419557269927176E-2,1.0362992601974725E-2,2.3028872448832725E-3,0,0.20553268660583207,0.14047612193787962,8.0601053570914533E-3,0,0,0.33104004145197041,0.13932467831543799,0,0,0,0,0,0,0,0,0,0,0,0,0,0,{"$f":"+CV12/$DS$34*100","v":0.5820547511442471},0.18192809234577853,0,0,0.25504476237082241,7.1965226402602264E-2,0.14162756556032127,0,1.1934713146607558,0.23086444629954803,5.757218112208181E-2,0.38112783902818159,9.7872707907539075E-2,0.17732231785601199,0.35406891390080314,0.47266760701229171,0,0,2.5256915858257289,1.2510434957828376,0.24813610063617259,0.16811076887647888,8.0601053570914533E-3,{"$f":"SUM(DN51:DR51)","v":4.2010420564783093}]
[null,"119","Ave",{"$f":"+D13/$DS$34*100","v":0},0,0,0,0,0.24928754425861424,1.7271654336624542E-2,3.4543308673249088E-3,0,0,7.6571000892368804E-2,5.7572181122081808E-3,0,0,0,0,0,0,0,0,0,0,0,0,0,3.0513255994703357E-2,2.8210368749820088E-2,8.0601053570914533E-3,4.605774489766545E-3,0,5.9299346555744266E-2,8.2328219004576986E-2,{"$f":"+AJ13/$DS$34*100","v":1.7271654336624542E-2},0,0,8.0601053570914533E-3,4.4330579464002998E-2,5.1814963009873628E-2,8.0601053570914533E-3,0,0,0,0,0,0,0.35579607933446555,0.11629580586660526,7.4843835458706359E-3,0,0,0,8.6358271683122708E-3,1.0938714413195544E-2,5.0663519387431986E-2,3.4543308673249088E-3,2.8210368749820088E-2,5.4693572065977719E-2,5.7572181122081808E-3,0,0,{"$f":"+BL13/$DS$34*100","v":6.6208008290394083E-2},9.9599873341201531E-2,1.6695932525403724E-2,0,0,3.5694752295690718E-2,0.19516969400385734,2.4756037882495179E-2,0,{"$f":"+BU13/$DS$34*100","v":0},0.13990040012665877,0.29419384553383804,4.2027692219119721E-2,0,0,0.14277900918276287,0.10593281326463054,1.3817323469299635E-2,0,0,0.26425631135035554,7.5419557269927176E-2,0,0,0,0,0,0,0,0,0,0,0,0,0,1.7271654336624544E-3,0.27519502576355104,8.29039408157978E-2,0,0,7.4268113647485534E-2,{"$f":"+DA13/$DS$34*100","v":0.16005066351938743},0.11399291862172198,2.3028872448832725E-3,0.48245487780304558,7.6571000892368804E-2,8.9236880739226809E-2,{"$f":"+DG13/$DS$34*100","v":0.18423097959066179},0.25619620599326404,0.47957626874694148,0.26252914591669307,0.34082731224272433,0,0,1.4629091223120987,1.1324448026713492,0.21301707015170271,7.1389504591381436E-2,3.4543308673249088E-3,2.883214830593857]
[null,"11A","Área Metropolitana do Porto",{"$f":"+D14/$DS$34*100","v":0},0,0,0,0,0.44503296007369242,3.8573361351794809E-2,2.8786090561040904E-3,0,0,6.2177955611848357E-2,1.7271654336624544E-3,0,0,0,0,0,0,0,0,0,0,0,0,0,3.1088977805924178E-2,7.1389504591381436E-2,2.763464693859927E-2,2.3028872448832725E-3,0,2.0150263392728632E-2,2.9937534183482543E-2,{"$f":"+AJ14/$DS$34*100","v":4.605774489766545E-3},0,0,2.072598520394945E-2,5.6420737499640175E-2,5.1239241198652807E-2,4.605774489766545E-3,0,0,0,0,0,0,0.37709778634963587,0.13126457295834654,9.7872707907539075E-3,0,0,6.3329399234289983E-3,2.1877428826391088E-2,5.6996459310860989E-2,0.22107717550879416,2.2453150637611906E-2,1.0938714413195544E-2,1.1514436224416362E-2,1.7271654336624544E-3,0,0,{"$f":"+BL14/$DS$34*100","v":6.2753677423069171E-2},0.16062638533060825,5.757218112208181E-2,2.8786090561040904E-3,0,7.4843835458706359E-3,1.7847376147845359E-2,0,0,{"$f":"+BU14/$DS$34*100","v":0},3.6270474106911539E-2,4.6633466708886268E-2,6.3329399234289983E-3,0,0,0.14853622729497107,6.5056564667952441E-2,7.4843835458706359E-3,0,0,0.22222861913123579,0.2199257318863525,5.1814963009873625E-3,0,0,0,0,0,0,0,2.3028872448832725E-3,0,0,0,0,0,0.49051498316013703,6.4480842856731627E-2,0,0,0.13529462563689224,{"$f":"+DA14/$DS$34*100","v":5.5845015688419354E-2},0.13414318201445063,0,0.52045251734361953,0.33104004145197041,2.4756037882495179E-2,{"$f":"+DG14/$DS$34*100","v":0.28440657474308412},2.8786090561040905E-2,9.3266933417772535E-2,0.22165289732001495,0.44733584731857562,0,4.0300526785457267E-3,1.4583033478223322,0.8814300929790726,0.23950027346786035,0.23662166441175622,2.2453150637611906E-2,2.8383085293186334]
[null,"11B","Alto Tâmega",{"$f":"+D15/$DS$34*100","v":0},5.1814963009873625E-3,3.4543308673249088E-3,0,0,9.3266933417772535E-2,4.0300526785457267E-3,0,0,0,0.33104004145197041,4.0300526785457267E-3,0,2.3028872448832725E-3,0,0,0,0,0,0,0,0,0,0,0,0.40127810242091028,0.32067704884999571,1.0362992601974725E-2,0,0,3.684619591813236E-2,1.9574541581507815E-2,{"$f":"+AJ15/$DS$34*100","v":2.8786090561040904E-3},0,0,0.73001525662799738,0.13414318201445063,1.9574541581507815E-2,1.7271654336624544E-3,0,0.15371772359595845,4.0300526785457267E-3,1.7271654336624544E-3,0,0,1.9315466766458449,0.47497049425717491,3.4543308673249088E-3,0,0,1.7271654336624544E-3,1.4968767091741272E-2,8.6358271683122708E-3,3.4543308673249088E-3,0,1.4968767091741272E-2,6.9086617346498166E-2,1.4393045280520452E-2,0,0,{"$f":"+BL15/$DS$34*100","v":1.4968767091741272E-2},2.072598520394945E-2,4.0300526785457267E-3,0,0,0.12550735484613834,0.6799274590517862,8.3479662627018628E-2,4.605774489766545E-3,{"$f":"+BU15/$DS$34*100","v":0},0.40818676415556004,0.52908834451193187,6.9662339157718994E-2,0,0,0.20438124298339044,0.22798583724344396,1.1514436224416362E-2,0,0,0.28210368749820086,3.4543308673249088E-3,0,0,0,0,0,0,0,0,2.2453150637611906E-2,0,0,0,0,1.0938714413195544E-2,9.9024151529980717E-2,0.34025159043150349,0,0,0.73462103111776389,{"$f":"+DA15/$DS$34*100","v":5.9299346555744266E-2},0.88661158928005979,0.16120210714182906,2.4099715017703449,3.1088977805924178E-2,0.10075131696364317,{"$f":"+DG15/$DS$34*100","v":4.14519704078989E-2},0.89639886007081382,1.0092403350700943,0.44503296007369242,0.28670946198796743,0,2.4180316071274362E-2,4.7571893261176204,2.5205100895247416,0.2418031607127436,1.6120210714182907E-2,1.7271654336624544E-3,7.5373499525029501]
[null,"11C","Tâmega e Sousa",{"$f":"+D16/$DS$34*100","v":0},0,0,0,0,0.25734764961570566,2.5331759693715993E-2,0,3.4543308673249088E-3,0,2.3604594260053544E-2,2.3028872448832725E-3,0,0,0,0,0,0,0,0,0,0,0,0,0,0.11053858775439708,0.14047612193787962,1.4968767091741272E-2,0,0,0.18998819770286995,0.28901234923285068,{"$f":"+AJ16/$DS$34*100","v":4.4330579464002998E-2},2.8786090561040904E-3,0,5.3542128443536077E-2,0.15717205446328333,0.13644606925933389,1.6695932525403724E-2,0,4.0300526785457267E-3,0,0,0,0,1.1479892915743113,0.4513658999971214,1.842309795906618E-2,0,0,0,4.0300526785457267E-3,3.4543308673249088E-3,7.4843835458706359E-3,0,3.8573361351794809E-2,3.4543308673249083E-2,2.3028872448832725E-3,0,0,{"$f":"+BL16/$DS$34*100","v":3.3967586862028269E-2},7.829816632603126E-2,1.3241601658078818E-2,2.8786090561040904E-3,0,1.5544488902962089E-2,2.5331759693715993E-2,5.1814963009873625E-3,0,{"$f":"+BU16/$DS$34*100","v":0},0.13011312933590488,7.6571000892368804E-2,1.0938714413195544E-2,2.8786090561040904E-3,0,0.25159043150349747,0.12896168571346325,4.605774489766545E-3,1.7271654336624544E-3,0,0.15083911453985435,2.7058925127378449E-2,0,0,0,0,0,0,0,0,0,0,0,0,0,4.0300526785457267E-3,0.28901234923285068,2.7058925127378449E-2,0,0,0.26828636402890127,{"$f":"+DA16/$DS$34*100","v":0.52851262270071109},0.3644319065027779,5.7572181122081808E-3,1.6200811767753822,1.7271654336624542E-2,7.7146722703589618E-2,{"$f":"+DG16/$DS$34*100","v":0.12953740752468407},5.0087797576211179E-2,0.22222861913123579,0.38688505714038979,0.18020092691211606,0,0,2.4134258326376696,1.4508189642764615,0.26252914591669307,4.2603414030340542E-2,2.3028872448832725E-3,4.1716802441060477]
[null,"11D","Douro",{"$f":"+D17/$DS$34*100","v":0},0,0,0,0,7.4843835458706359E-3,0,0,0,0,8.1752497193356172E-2,8.6358271683122708E-3,1.7271654336624544E-3,0,0,0,0,0,0,0,0,0,0,0,0,0.48072771236938305,0.53196695356803592,2.4180316071274362E-2,0,0,1.8377040214168514,1.3114942859610237,{"$f":"+AJ17/$DS$34*100","v":0.16465643800915397},1.5544488902962089E-2,0,0.4484872909410173,0.38285500446184406,0.10650853507585135,6.3329399234289983E-3,0,0.32758571058464547,1.2665879846857997E-2,0,0,0,3.3823656409223064,1.456000460577449,5.8723624744523445E-2,4.0300526785457267E-3,0,4.0300526785457267E-3,1.6695932525403724E-2,1.2665879846857997E-2,5.1814963009873625E-3,0,5.7572181122081808E-3,1.3817323469299635E-2,1.7271654336624544E-3,0,0,{"$f":"+BL17/$DS$34*100","v":4.0300526785457267E-3},6.9086617346498175E-3,0,0,0,5.9299346555744266E-2,0.11226575318805954,1.2090158035637181E-2,1.7271654336624544E-3,{"$f":"+BU17/$DS$34*100","v":0},0.21071418290681942,0.24237888252396442,1.842309795906618E-2,0,0,0.15371772359595845,0.12320446760125507,4.605774489766545E-3,0,0,6.6208008290394083E-2,3.4543308673249088E-3,0,0,0,0,0,0,0,0,1.6120210714182907E-2,2.8786090561040904E-3,0,0,0,2.3028872448832725E-3,1.0938714413195544E-2,9.4418377040214177E-2,0,0,1.0380264256311351,{"$f":"+DA17/$DS$34*100","v":3.3311263997236535},0.94533521402458343,0.34197875586516591,4.9016955007340455,4.0876248596678086E-2,2.4756037882495179E-2,{"$f":"+DG17/$DS$34*100","v":1.6120210714182907E-2},0.18595814502432426,0.47266760701229171,0.28152796568698008,6.9662339157718994E-2,0,1.8998819770286998E-2,7.0928927142404783,4.2332824779066751,0.4104896514004433,3.7421917729353174E-2,2.3028872448832725E-3,11.776389648521835]
[null,"11E","Terras de Trás-os-Montes",{"$f":"+D18/$DS$34*100","v":1.7271654336624544E-3},8.0601053570914533E-3,8.0601053570914533E-3,2.8786090561040904E-3,0,0,0,0,0,0,0.35464463571202398,5.8147902933302631E-2,4.0300526785457267E-3,0,0,0,0,0,0,0,0,1.7271654336624544E-3,0,0,0,1.0748726215492674,1.6172025677192781,0.1370217910705547,1.0938714413195544E-2,0,6.5056564667952441E-2,4.0876248596678086E-2,{"$f":"+AJ18/$DS$34*100","v":2.8786090561040904E-3},0,0,0.94360804859092084,0.44503296007369242,3.5694752295690718E-2,3.4543308673249088E-3,0,1.1261118627479203,0.10650853507585135,1.7847376147845359E-2,0,0,4.0599902127292093,2.2274676876133452,7.9449609948472888E-2,3.4543308673249088E-3,0,0,0,5.7572181122081808E-3,3.4543308673249088E-3,0,6.9086617346498175E-3,4.3754857652782177E-2,2.1877428826391088E-2,0,0,{"$f":"+BL18/$DS$34*100","v":4.0300526785457267E-3},2.1301707015170271E-2,8.6358271683122708E-3,0,0,5.7572181122081808E-3,4.0876248596678086E-2,1.1514436224416362E-2,0,{"$f":"+BU18/$DS$34*100","v":0},0.10017559515242236,0.29592101096750051,4.9512075764990358E-2,0,0,0.11341719681050118,0.42545841849218458,7.5419557269927176E-2,1.7271654336624544E-3,0,0.16983793431014135,3.4543308673249088E-3,0,2.3028872448832725E-3,0,0,0,0,0,0,2.3028872448832725E-3,0,0,0,0,2.4756037882495179E-2,3.4543308673249088E-3,0.41797403494631391,0,6.9086617346498175E-3,2.8417628601859581,{"$f":"+DA18/$DS$34*100","v":0.11053858775439708},1.4300929790725121,1.2527706612165002,6.3726647284032349,1.2665879846857997E-2,7.4268113647485534E-2,{"$f":"+DG18/$DS$34*100","v":3.5119030484469904E-2},6.1026511989406715E-2,0.44733584731857562,0.61832522525115863,0.17847376147845362,0,3.4543308673249088E-3,8.0388036500762823,5.3438498517516333,0.47151616338985003,3.5694752295690718E-2,1.7271654336624544E-3,13.891591582947118]
["Centro","16B","Oeste",{"$f":"+D19/$DS$34*100","v":0},0,3.4543308673249088E-3,0,8.6358271683122708E-3,0,0,0,0,0,2.1301707015170271E-2,1.4393045280520452E-2,2.8786090561040904E-3,0,0,0,0,0,0,0,0,0,0,0,0,6.9086617346498175E-3,4.7784910331327902E-2,4.6057744897665447E-2,1.3817323469299635E-2,0,9.21154897953309E-3,5.4117850254756898E-2,{"$f":"+AJ19/$DS$34*100","v":5.9875068366965087E-2},2.1301707015170271E-2,0,9.21154897953309E-3,6.6208008290394083E-2,0.16465643800915397,0.12896168571346325,1.0938714413195544E-2,0,0,0,0,0,4.3179135841561363E-2,6.6208008290394083E-2,3.0513255994703357E-2,1.1514436224416362E-2,0,0,0,0,0,2.3028872448832725E-3,1.7271654336624544E-3,2.8786090561040904E-3,2.3028872448832725E-3,0,0,{"$f":"+BL19/$DS$34*100","v":1.3241601658078818E-2},3.2816143239586634E-2,1.4968767091741272E-2,8.6358271683122708E-3,0,0,2.8786090561040904E-3,0,0,{"$f":"+BU19/$DS$34*100","v":0},0.1686864906876997,7.599527908114799E-2,9.21154897953309E-3,0,0,1.9574541581507815E-2,2.5331759693715993E-2,6.3329399234289983E-3,2.3028872448832725E-3,0,9.8448429718759889E-2,2.4756037882495179E-2,3.4543308673249088E-3,0,0,0,0,0,0,0,0,4.0300526785457267E-3,1.7271654336624544E-3,0,0,1.7847376147845359E-2,4.605774489766545E-3,4.3754857652782177E-2,0,0,0.11744724948904689,{"$f":"+DA19/$DS$34*100","v":0.1468090618613086},0.38170356083940238,0,0.15544488902962089,5.1814963009873625E-3,9.7872707907539075E-3,{"$f":"+DG19/$DS$34*100","v":7.2540948213823078E-2},4.605774489766545E-3,0.25677192780448488,5.526929387719854E-2,0.12665879846858,1.7271654336624544E-3,7.4843835458706359E-3,0.40185382423213101,0.42660986211462626,0.35464463571202398,0.20035119030484472,2.7058925127378449E-2,1.4105184374910045]
[null,"16D","Região de Aveiro",{"$f":"+D20/$DS$34*100","v":0},4.0300526785457267E-3,0,0,0,0.30513255994703359,7.9449609948472888E-2,5.1814963009873625E-3,0,0,0.3857336135179481,5.8147902933302631E-2,2.8786090561040904E-3,0,0,0,0,2.3028872448832725E-3,0,0,0,0,0,0,0,8.2328219004576986E-2,6.5632286479173269E-2,1.2090158035637181E-2,2.8786090561040904E-3,0,1.3241601658078818E-2,2.1301707015170271E-2,{"$f":"+AJ20/$DS$34*100","v":2.3028872448832725E-3},0,0,1.9574541581507815E-2,7.0813782780160636E-2,3.8573361351794809E-2,1.7271654336624544E-3,0,0,0,0,0,0,0.34313019948760759,0.13990040012665877,9.7872707907539075E-3,0,0,0,9.21154897953309E-3,3.1088977805924178E-2,5.757218112208181E-2,6.3329399234289983E-3,3.4543308673249088E-3,1.9574541581507815E-2,4.0300526785457267E-3,0,0,{"$f":"+BL20/$DS$34*100","v":2.4180316071274362E-2},8.060105357091453E-2,2.2453150637611906E-2,2.3028872448832725E-3,0,0,7.4843835458706359E-3,0,0,{"$f":"+BU20/$DS$34*100","v":0},2.4180316071274362E-2,1.4968767091741272E-2,0,0,0,8.3479662627018628E-2,9.9599873341201531E-2,6.3329399234289983E-3,0,0,0.17789803966723278,8.1752497193356172E-2,3.4543308673249088E-3,0,0,0,0,0,0,0,1.2090158035637181E-2,4.605774489766545E-3,0,0,0,7.4843835458706359E-3,0.39321799706381877,0.44906301275223814,3.4543308673249088E-3,0,0.16753504706525807,{"$f":"+DA20/$DS$34*100","v":4.0876248596678086E-2},0.13299173839200898,0,0.49396931402746191,0.10881142232073461,2.763464693859927E-2,{"$f":"+DG20/$DS$34*100","v":0.13126457295834654},9.7872707907539075E-3,3.9724804974236444E-2,0.19229108494775324,0.2636805895391347,0,1.8998819770286998E-2,1.4865137165721525,0.76743717435735048,0.14796050548375025,7.1965226402602264E-2,8.6358271683122708E-3,2.482512449984168]
[null,"16E","Região de Coimbra",{"$f":"+D21/$DS$34*100","v":5.1814963009873625E-3},6.3329399234289983E-3,0,0,0,0.32067704884999571,0.20553268660583207,5.3542128443536077E-2,6.3329399234289983E-3,0,0.20207835573850716,1.8998819770286998E-2,2.3028872448832725E-3,0,0,4.8360632142548723E-2,8.29039408157978E-2,3.1664699617144999E-2,7.4843835458706359E-3,0,0,1.7271654336624544E-3,0,0,0,0.19344252857019489,0.15371772359595845,1.8998819770286998E-2,7.4843835458706359E-3,0,3.1088977805924178E-2,3.3391865050807448E-2,{"$f":"+AJ21/$DS$34*100","v":2.3028872448832725E-3},0,0,3.1664699617144999E-2,7.599527908114799E-2,3.4543308673249083E-2,1.7847376147845359E-2,0,8.3479662627018628E-2,0,0,0,0,0.87970292754541002,0.26195342410547223,1.6695932525403724E-2,4.0300526785457267E-3,0,3.4543308673249088E-3,9.7872707907539075E-3,2.7058925127378449E-2,1.4393045280520452E-2,1.7271654336624544E-3,9.7872707907539075E-3,8.0601053570914533E-3,3.4543308673249088E-3,0,0,{"$f":"+BL21/$DS$34*100","v":3.5119030484469904E-2},4.14519704078989E-2,8.6358271683122708E-3,0,0,8.0601053570914533E-3,4.0300526785457267E-3,0,0,{"$f":"+BU21/$DS$34*100","v":0},0.1658078816315956,0.13011312933590488,1.2665879846857997E-2,0,0,0.15544488902962089,0.1306888511471257,5.1814963009873625E-3,0,0,0.20265407754972795,1.9574541581507815E-2,0,0,0,0,0,0,0,0,1.0362992601974725E-2,5.1814963009873625E-3,0,0,0,1.6120210714182907E-2,0.58781196925645529,0.22338006275367742,0.1715650997438038,2.8786090561040904E-3,0.37824922997207749,{"$f":"+DA21/$DS$34*100","v":6.7359451912835724E-2},0.16177782895304987,8.5782549871901898E-2,1.1658366677221568,5.757218112208181E-2,2.1877428826391088E-2,{"$f":"+DG21/$DS$34*100","v":8.9812602550447623E-2},1.3817323469299635E-2,0.30973833443680016,0.29246668010017562,0.22338006275367742,0,1.7271654336624542E-2,2.392124125622499,1.1998042545841849,0.22510722818733989,6.2177955611848357E-2,7.4843835458706359E-3,3.8866979475517431]
[null,"16F","Região de Leiria",{"$f":"+D22/$DS$34*100","v":0},1.7271654336624544E-3,4.0300526785457267E-3,0,0,6.6208008290394083E-2,2.6483203316157635E-2,2.8786090561040904E-3,0,0,7.4843835458706348E-2,1.2665879846857997E-2,0,0,0,2.8786090561040904E-3,6.3329399234289983E-3,0,0,0,0,0,0,0,0,0.10650853507585135,9.0388324361668437E-2,9.21154897953309E-3,2.8786090561040904E-3,0,3.4543308673249088E-3,0,{"$f":"+AJ22/$DS$34*100","v":0},0,0,1.842309795906618E-2,3.3391865050807448E-2,1.6695932525403724E-2,2.8786090561040904E-3,0,0.14796050548375025,4.0300526785457267E-3,0,0,0,0.46000172716543369,8.29039408157978E-2,3.4543308673249088E-3,0,0,0,0,2.3028872448832725E-3,5.1814963009873625E-3,0,0,9.7872707907539075E-3,5.1814963009873625E-3,0,0,{"$f":"+BL22/$DS$34*100","v":1.7271654336624542E-2},3.914908316301563E-2,9.7872707907539075E-3,0,0,2.8786090561040904E-3,6.9086617346498175E-3,2.8786090561040904E-3,0,{"$f":"+BU22/$DS$34*100","v":0},0.15429344540717924,7.5419557269927176E-2,6.3329399234289983E-3,0,0,0.1496876709174127,5.9875068366965087E-2,1.7271654336624544E-3,0,0,7.0238060968939808E-2,0,0,0,0,0,0,0,0,0,0,0,0,0,0,1.0362992601974725E-2,9.6145542473876619E-2,8.8661158928005995E-2,1.2665879846857997E-2,0,0.21186562652926108,{"$f":"+DA22/$DS$34*100","v":5.1814963009873625E-3},7.4843835458706348E-2,0.15314200178473761,0.54751144247099803,9.21154897953309E-3,1.6695932525403724E-2,{"$f":"+DG22/$DS$34*100","v":7.0238060968939808E-2},1.4968767091741272E-2,0.23777310803419788,0.21244134834048187,7.1389504591381436E-2,0,0,1.2798295863438787,0.45769883992055044,7.2540948213823078E-2,2.1301707015170271E-2,4.0300526785457267E-3,1.835401134171968]
[null,"16G","Viseu Dão Lafões",{"$f":"+D23/$DS$34*100","v":0},0,0,0,0,0.12608307665735916,1.1514436224416362E-2,0,0,0,0.12435591122369671,1.9574541581507815E-2,0,0,0,0,0,0,0,0,0,0,0,0,0,0.21647140101902759,0.35003886122225741,1.3241601658078818E-2,0,0,0.1019027605860848,0.11572008405538443,{"$f":"+AJ23/$DS$34*100","v":1.6695932525403724E-2},0,0,5.9875068366965087E-2,9.4418377040214177E-2,0.14047612193787962,1.842309795906618E-2,0,3.7997639540573995E-2,2.3028872448832725E-3,0,0,0,1.1623823368548316,0.55096577333832297,1.2665879846857997E-2,0,0,3.4543308673249088E-3,7.4843835458706359E-3,8.0601053570914533E-3,3.4543308673249088E-3,0,1.3241601658078818E-2,2.5331759693715993E-2,2.8786090561040904E-3,0,0,{"$f":"+BL23/$DS$34*100","v":2.0150263392728632E-2},3.2816143239586634E-2,4.0300526785457267E-3,0,0,1.0938714413195544E-2,4.8360632142548723E-2,1.0938714413195544E-2,0,{"$f":"+BU23/$DS$34*100","v":0},0.28440657474308412,0.23719738622297706,2.763464693859927E-2,0,0,0.35464463571202398,0.26022625867180976,5.7572181122081808E-3,0,0,8.3479662627018628E-2,3.4543308673249088E-3,0,0,0,0,0,0,0,0,6.3329399234289983E-3,0,0,0,0,6.9086617346498175E-3,0.13817323469299633,0.1468090618613086,0,0,0.5820547511442471,{"$f":"+DA23/$DS$34*100","v":0.23662166441175622},0.31434410892656667,4.0300526785457265E-2,1.7294683209073374,2.5907481504936814E-2,4.4906301275223812E-2,{"$f":"+DG23/$DS$34*100","v":5.8147902933302631E-2},7.599527908114799E-2,0.55096577333832297,0.62120383430726267,8.8085437116785167E-2,0,7.4843835458706359E-3,2.6132013011312933,1.7686174040703533,0.25331759693715999,3.0513255994703357E-2,2.3028872448832725E-3,4.6679524453783934]
[null,"16H","Beira Baixa",{"$f":"+D24/$DS$34*100","v":0},0,0,0,0,0,3.4543308673249088E-3,0,3.4543308673249088E-3,0,6.3329399234289999E-2,1.1514436224416362E-2,1.7271654336624544E-3,2.8786090561040904E-3,0,0,0,0,0,0,0,0,0,0,0,0.12838596390224244,4.3754857652782177E-2,2.8786090561040904E-3,5.1814963009873625E-3,1.7271654336624544E-3,1.7271654336624544E-3,2.3028872448832725E-3,{"$f":"+AJ24/$DS$34*100","v":0},0,0,5.757218112208181E-2,7.0238060968939808E-2,4.4330579464002998E-2,2.763464693859927E-2,4.605774489766545E-3,0.38112783902818159,7.4843835458706359E-3,4.605774489766545E-3,0,0,0.67014018826103228,8.5782549871901898E-2,1.0362992601974725E-2,2.3028872448832725E-3,0,0,0,0,0,1.7271654336624544E-3,0,1.0938714413195544E-2,1.3817323469299635E-2,5.1814963009873625E-3,0,{"$f":"+BL24/$DS$34*100","v":0},1.0362992601974725E-2,3.4543308673249088E-3,0,0,0,2.3604594260053544E-2,4.6057744897665447E-2,1.7847376147845359E-2,{"$f":"+BU24/$DS$34*100","v":0},0.13817323469299633,0.21819856645269006,0.12032585854515097,2.9937534183482543E-2,0,6.9086617346498166E-2,6.2177955611848357E-2,7.4843835458706359E-3,5.7572181122081808E-3,0,0.16062638533060825,5.757218112208181E-2,1.2090158035637181E-2,0,0,0,0,0,0,0,0,0,0,0,0,6.9086617346498175E-3,1.0362992601974725E-2,8.1752497193356172E-2,0,0,0.18365525777944097,{"$f":"+DA24/$DS$34*100","v":5.1814963009873625E-3},0.20553268660583207,0.39552088430870203,0.76974006160223385,2.8786090561040904E-3,3.1664699617144999E-2,{"$f":"+DG24/$DS$34*100","v":1.6695932525403724E-2},8.9236880739226809E-2,0.50778663749676156,0.14508189642764616,0.23086444629954803,0,0,1.6782290797086845,0.61659805981749616,0.27231641670744694,0.10708425688707215,1.0362992601974725E-2,2.6845908057226739]
[null,"16I","Médio Tejo",{"$f":"+D25/$DS$34*100","v":0},0,0,0,0,6.9086617346498175E-3,1.0938714413195544E-2,8.6358271683122708E-3,7.4843835458706359E-3,0,3.0513255994703357E-2,1.5544488902962089E-2,4.605774489766545E-3,0,0,0,0,0,0,0,0,0,0,0,0,7.4268113647485534E-2,5.0663519387431986E-2,5.1814963009873625E-3,2.8786090561040904E-3,0,2.2453150637611906E-2,8.0601053570914533E-3,{"$f":"+AJ25/$DS$34*100","v":3.4543308673249088E-3},0,0,4.0300526785457265E-2,9.7872707907539075E-2,4.2027692219119721E-2,1.6695932525403724E-2,0,0.37191629004864851,9.7872707907539075E-3,4.605774489766545E-3,1.7271654336624544E-3,0,0.77607300152566283,0.15889921989694578,1.3817323469299635E-2,5.1814963009873625E-3,0,0,0,0,1.7271654336624544E-3,0,0,4.605774489766545E-3,3.4543308673249088E-3,0,0,{"$f":"+BL25/$DS$34*100","v":4.605774489766545E-3},3.3967586862028269E-2,5.1814963009873625E-3,1.7271654336624544E-3,0,0,2.8786090561040904E-3,0,0,{"$f":"+BU25/$DS$34*100","v":0},0.14105184374910043,6.3905121045510799E-2,1.5544488902962089E-2,0,0,0.12262874579003426,6.3329399234289999E-2,9.7872707907539075E-3,2.8786090561040904E-3,0,6.5056564667952441E-2,3.1664699617144999E-2,0,0,0,0,0,0,0,0,0,0,0,0,0,4.605774489766545E-3,3.684619591813236E-2,5.3542128443536077E-2,0,1.7271654336624544E-3,0.13529462563689224,{"$f":"+DA25/$DS$34*100","v":3.6270474106911539E-2},0.19919974668240306,0.39033938800771467,0.95512248481533724,4.605774489766545E-3,1.2090158035637181E-2,{"$f":"+DG25/$DS$34*100","v":4.7784910331327902E-2},5.1814963009873625E-3,0.22222861913123579,0.2009269121160655,9.9024151529980717E-2,0,0,1.6598059817496187,0.56248020956273925,0.1306888511471257,4.8360632142548723E-2,3.4543308673249088E-3,2.4047900054693572]
[null,"16J","Beiras e Serra da Estrela",{"$f":"+D26/$DS$34*100","v":2.3028872448832725E-3},1.7271654336624544E-3,1.7271654336624544E-3,3.4543308673249088E-3,0,2.8210368749820088E-2,1.0938714413195544E-2,2.3028872448832725E-3,1.7271654336624544E-3,0,0.47669765969083733,6.2753677423069171E-2,4.605774489766545E-3,0,0,0,0,0,0,0,0,0,0,0,0,0.63271827053167906,0.33794870318662024,2.3604594260053544E-2,3.4543308673249088E-3,0,0.18192809234577853,0.10075131696364317,{"$f":"+AJ26/$DS$34*100","v":1.3817323469299635E-2},0,0,0.33046431964074963,0.28555801836552575,0.16523215982037481,4.0876248596678086E-2,4.0300526785457267E-3,0.3316157632631912,1.3241601658078818E-2,2.3028872448832725E-3,0,0,2.4099715017703449,0.84458389706094006,3.2240421428365813E-2,2.3028872448832725E-3,0,0,6.9086617346498175E-3,1.2090158035637181E-2,3.4543308673249088E-3,0,1.0362992601974725E-2,0.13241601658078817,6.5056564667952441E-2,2.8786090561040904E-3,0,{"$f":"+BL26/$DS$34*100","v":6.3329399234289983E-3},4.3179135841561363E-2,1.0362992601974725E-2,2.3028872448832725E-3,0,1.7271654336624542E-2,0.15659633265206252,7.2540948213823078E-2,1.7271654336624544E-3,{"$f":"+BU26/$DS$34*100","v":0},0.28728518379918827,0.62523388698580851,0.2665591985952388,2.0150263392728632E-2,0,0.18192809234577853,0.33737298137539939,5.4693572065977719E-2,2.8786090561040904E-3,0,0.23086444629954803,2.8210368749820088E-2,0,0,0,0,0,0,0,0,6.9086617346498175E-3,0,0,0,0,1.2090158035637181E-2,4.6057744897665447E-2,0.54463283341489388,0,2.3028872448832725E-3,0.99887734246811943,{"$f":"+DA26/$DS$34*100","v":0.29879962002360455},0.82788796453553637,0.34831169578859494,3.2919773165606383,2.3604594260053544E-2,0.21128990471804024,{"$f":"+DG26/$DS$34*100","v":6.6208008290394083E-2},0.25389331874838078,1.2003799763954057,0.5768732548432598,0.26022625867180976,0,8.0601053570914533E-3,5.142922939635568,2.9966320274043579,0.73577247474020557,9.0388324361668437E-2,5.7572181122081808E-3,8.9714729842540084]
["AML","170","Área Metropolitana de Lisboa",{"$f":"+D27/$DS$34*100","v":0},0,0,0,2.3028872448832725E-3,1.7271654336624544E-3,8.0601053570914533E-3,8.6358271683122708E-3,8.0601053570914533E-3,4.0300526785457267E-3,1.4968767091741272E-2,6.9086617346498175E-3,4.0300526785457267E-3,0,0,0,0,1.842309795906618E-2,1.1514436224416362E-2,0,0,0,0,0,0,2.3028872448832725E-3,2.1301707015170271E-2,1.3241601658078818E-2,6.9086617346498175E-3,2.3028872448832725E-3,1.7271654336624544E-3,3.5694752295690718E-2,{"$f":"+AJ27/$DS$34*100","v":4.0300526785457265E-2},1.2090158035637181E-2,0,4.0300526785457267E-3,1.7271654336624542E-2,2.2453150637611906E-2,1.3241601658078818E-2,3.4543308673249088E-3,0,0,0,0,0,1.8998819770286998E-2,4.0876248596678086E-2,1.4393045280520452E-2,1.1514436224416362E-2,2.8786090561040904E-3,0,1.7271654336624544E-3,0,4.0300526785457267E-3,5.7572181122081808E-3,0,1.0938714413195544E-2,5.7572181122081808E-3,4.605774489766545E-3,0,{"$f":"+BL27/$DS$34*100","v":6.3329399234289983E-3},3.0513255994703357E-2,1.4393045280520452E-2,8.6358271683122708E-3,1.7271654336624544E-3,0,6.9086617346498175E-3,3.4543308673249088E-3,5.1814963009873625E-3,{"$f":"+BU27/$DS$34*100","v":0},0.11399291862172198,9.0388324361668437E-2,1.7847376147845359E-2,2.3028872448832725E-3,0,1.1514436224416362E-2,1.6695932525403724E-2,4.605774489766545E-3,7.4843835458706359E-3,1.7271654336624544E-3,6.7359451912835724E-2,4.14519704078989E-2,1.0362992601974725E-2,1.7271654336624544E-3,0,0,0,5.1814963009873625E-3,7.4843835458706359E-3,9.21154897953309E-3,0,1.7271654336624544E-3,3.4543308673249088E-3,1.7271654336624544E-3,0,6.3329399234289983E-3,3.1664699617144999E-2,2.8786090561040905E-2,3.1664699617144999E-2,0,5.4117850254756898E-2,{"$f":"+DA27/$DS$34*100","v":9.1539767984110079E-2},6.4480842856731627E-2,0,9.1539767984110079E-2,1.3817323469299635E-2,2.1877428826391088E-2,{"$f":"+DG27/$DS$34*100","v":6.5632286479173269E-2},1.6120210714182907E-2,0.22510722818733989,4.3754857652782177E-2,0.12147730216759262,2.4180316071274362E-2,7.4843835458706359E-3,0.25216615331471831,0.33737298137539939,0.19804830305996143,0.11687152767782608,3.7421917729353174E-2,0.94188088315725849]
["Alentejo","181","Alentejo Litoral",{"$f":"+D28/$DS$34*100","v":0},2.3028872448832725E-3,0,3.4543308673249088E-3,2.8786090561040904E-3,0,1.7271654336624544E-3,0,1.7271654336624544E-3,0,1.4968767091741272E-2,2.6483203316157635E-2,5.7572181122081808E-3,2.3028872448832725E-3,0,0,2.8210368749820088E-2,2.1877428826391088E-2,1.0362992601974725E-2,0,0,0,0,0,0,1.7271654336624542E-2,2.2453150637611906E-2,8.6358271683122708E-3,4.605774489766545E-3,5.7572181122081808E-3,0,4.0300526785457267E-3,{"$f":"+AJ28/$DS$34*100","v":3.4543308673249088E-3},0,0,1.4393045280520452E-2,4.7784910331327902E-2,4.2027692219119721E-2,4.8936353953769537E-2,1.7847376147845359E-2,2.5907481504936814E-2,2.3028872448832725E-3,3.4543308673249088E-3,2.8786090561040904E-3,0,7.1965226402602264E-2,8.060105357091453E-2,3.5119030484469904E-2,1.9574541581507815E-2,4.605774489766545E-3,0,0,0,1.7271654336624544E-3,5.1814963009873625E-3,1.7271654336624544E-3,3.1088977805924178E-2,3.0513255994703357E-2,1.2090158035637181E-2,0,{"$f":"+BL28/$DS$34*100","v":7.4843835458706359E-3},2.2453150637611906E-2,1.4393045280520452E-2,2.3028872448832725E-3,1.7271654336624544E-3,0,5.296640663231527E-2,8.9236880739226809E-2,3.0513255994703357E-2,{"$f":"+BU28/$DS$34*100","v":0},7.4268113647485534E-2,0.18307953596822016,8.29039408157978E-2,1.7271654336624542E-2,0,1.9574541581507815E-2,4.8360632142548723E-2,2.8210368749820088E-2,2.5331759693715993E-2,3.4543308673249088E-3,0.29879962002360455,0.17732231785601199,2.3604594260053544E-2,2.3028872448832725E-3,0,0,0,2.8786090561040904E-3,2.8786090561040904E-3,0,0,0,0,0,0,1.0362992601974725E-2,6.3329399234289983E-3,5.0663519387431986E-2,6.2753677423069171E-2,2.8786090561040904E-3,6.3905121045510799E-2,{"$f":"+DA28/$DS$34*100","v":1.0362992601974725E-2},0.17329226517746624,3.6270474106911539E-2,0.21301707015170271,7.4843835458706359E-3,7.6571000892368804E-2,{"$f":"+DG28/$DS$34*100","v":5.0663519387431986E-2},0.17617087423357033,0.35809896657934887,0.12608307665735916,0.50202941938455337,6.3329399234289983E-3,0,0.55154149514954376,0.74268113647485534,0.39782377155358528,0.19459397219263652,4.6633466708886268E-2,1.933273842079507]
[null,"184","Baixo Alentejo",{"$f":"+D29/$DS$34*100","v":5.7572181122081808E-3},3.4543308673249088E-3,0,1.7271654336624544E-3,0,0,9.7872707907539075E-3,1.0362992601974725E-2,1.8998819770286998E-2,2.8786090561040904E-3,0.16638360344281641,0.11169003137683871,4.8936353953769537E-2,1.4968767091741272E-2,3.4543308673249088E-3,0,0,0,0,0,0,6.3329399234289983E-3,8.0601053570914533E-3,1.8998819770286998E-2,4.605774489766545E-3,1.5544488902962089E-2,2.8210368749820088E-2,1.2665879846857997E-2,1.1514436224416362E-2,4.605774489766545E-3,3.7997639540573995E-2,6.6208008290394083E-2,{"$f":"+AJ29/$DS$34*100","v":3.2240421428365813E-2},6.9086617346498175E-3,0,1.0362992601974725E-2,5.0663519387431986E-2,9.3266933417772535E-2,8.29039408157978E-2,3.0513255994703357E-2,0.65574714298051184,0.23431877716687299,0.15199055816229598,8.9236880739226809E-2,1.1514436224416362E-2,0.25446904055960162,0.19747258124874059,7.4843835458706348E-2,5.8147902933302631E-2,1.1514436224416362E-2,0,0,0,0,0,0,1.8998819770286998E-2,4.0300526785457265E-2,2.2453150637611906E-2,1.7271654336624544E-3,{"$f":"+BL29/$DS$34*100","v":8.0601053570914533E-3},2.0150263392728632E-2,2.3604594260053544E-2,1.2665879846857997E-2,4.605774489766545E-3,3.4543308673249088E-3,3.1664699617144999E-2,0.11859869311148853,7.369239183626472E-2,{"$f":"+BU29/$DS$34*100","v":0},0.19977546849362388,0.38630933532916895,0.22741011543222314,6.8510895535277352E-2,0,3.1664699617144999E-2,0.10017559515242236,7.0813782780160636E-2,7.599527908114799E-2,1.2090158035637181E-2,0.37997639540573991,0.21359279196292352,5.9299346555744266E-2,2.8786090561040904E-3,0,0,0,2.8786090561040904E-3,2.3028872448832725E-3,0,0,0,0,0,0,1.3817323469299635E-2,4.5482023086444633E-2,0.34716025216615332,0,4.0300526785457265E-2,7.4268113647485534E-2,{"$f":"+DA29/$DS$34*100","v":0.14565761823886697},0.27174069489622615,1.1439592388957656,0.59990212729209247,2.8786090561040904E-3,8.4631106249460256E-2,{"$f":"+DG29/$DS$34*100","v":7.1965226402602264E-2},0.23028872448832724,0.88488442384639743,0.29189095828895478,0.65632286479173263,5.7572181122081808E-3,0,1.7749503439937822,1.487089438383373,0.98448429718759889,0.56996459310860992,9.4418377040214177E-2,4.9109070497135781]
[null,"185","Lezíria do Tejo",{"$f":"+D30/$DS$34*100","v":1.7271654336624544E-3},0,4.0300526785457267E-3,6.3329399234289983E-3,7.4843835458706359E-3,1.2665879846857997E-2,5.9875068366965087E-2,4.8936353953769537E-2,5.8723624744523445E-2,1.0362992601974725E-2,2.5331759693715993E-2,2.7058925127378449E-2,1.0938714413195544E-2,7.4843835458706359E-3,0,0,5.7572181122081808E-3,2.8210368749820088E-2,3.0513255994703357E-2,0,0,3.4543308673249088E-3,5.1814963009873625E-3,3.4543308673249088E-3,0,9.7872707907539075E-3,1.2665879846857997E-2,1.4393045280520452E-2,8.0601053570914533E-3,0,9.21154897953309E-3,3.4543308673249083E-2,{"$f":"+AJ30/$DS$34*100","v":3.1664699617144999E-2},8.6358271683122708E-3,0,2.0150263392728632E-2,3.3391865050807448E-2,4.0300526785457265E-2,3.4543308673249083E-2,7.4843835458706359E-3,0.1019027605860848,8.0601053570914533E-3,5.7572181122081808E-3,0,0,0.15544488902962089,8.3479662627018628E-2,4.2603414030340542E-2,3.2816143239586634E-2,1.3241601658078818E-2,0,0,0,2.8786090561040904E-3,6.3329399234289983E-3,0,7.4843835458706359E-3,5.1814963009873625E-3,4.605774489766545E-3,0,{"$f":"+BL30/$DS$34*100","v":9.7872707907539075E-3},2.4180316071274362E-2,1.2090158035637181E-2,4.605774489766545E-3,0,0,4.605774489766545E-3,1.2090158035637181E-2,9.21154897953309E-3,{"$f":"+BU30/$DS$34*100","v":0},7.2540948213823078E-2,7.1965226402602264E-2,1.9574541581507815E-2,3.4543308673249088E-3,0,1.9574541581507815E-2,2.0150263392728632E-2,1.3241601658078818E-2,2.072598520394945E-2,5.1814963009873625E-3,0.17271654336624545,9.5569820662655805E-2,1.842309795906618E-2,3.4543308673249088E-3,0,0,0,2.1301707015170271E-2,4.8360632142548723E-2,2.6483203316157635E-2,0,2.3028872448832725E-3,2.3028872448832725E-3,2.8786090561040904E-3,0,2.3604594260053544E-2,0.19459397219263652,7.3116670025043906E-2,6.5056564667952441E-2,1.3241601658078818E-2,5.0087797576211179E-2,{"$f":"+DA30/$DS$34*100","v":8.6358271683122725E-2},0.13817323469299633,0.11975013673393017,0.33219148507441204,1.1514436224416362E-2,1.9574541581507815E-2,{"$f":"+DG30/$DS$34*100","v":5.526929387719854E-2},2.9361812372261722E-2,0.16753504706525807,8.060105357091453E-2,0.29073951466651315,9.9599873341201531E-2,8.0601053570914533E-3,0.61947666887360031,0.50778663749676156,0.34716025216615332,0.29707245458994214,8.6933993494343526E-2,1.8584300066208008]
[null,"186","Alto Alentejo",{"$f":"+D31/$DS$34*100","v":0},0,0,0,0,0,4.605774489766545E-3,2.8786090561040904E-3,3.4543308673249088E-3,0,2.9361812372261722E-2,1.1514436224416362E-2,7.4843835458706359E-3,4.605774489766545E-3,0,0,0,0,0,0,0,0,4.605774489766545E-3,4.605774489766545E-3,0,1.842309795906618E-2,2.3604594260053544E-2,1.5544488902962089E-2,2.8786090561040905E-2,3.4543308673249088E-3,1.4393045280520452E-2,2.3028872448832723E-2,{"$f":"+AJ31/$DS$34*100","v":1.2665879846857997E-2},3.4543308673249088E-3,0,1.4393045280520452E-2,3.1088977805924178E-2,2.072598520394945E-2,1.2665879846857997E-2,1.7271654336624544E-3,0.59356918736866338,8.2328219004576986E-2,3.684619591813236E-2,1.8998819770286998E-2,1.7271654336624544E-3,0.34082731224272433,0.12147730216759262,3.7421917729353174E-2,1.9574541581507815E-2,1.7271654336624544E-3,0,0,0,0,5.7572181122081808E-3,0,4.14519704078989E-2,5.296640663231527E-2,2.6483203316157635E-2,0,{"$f":"+BL31/$DS$34*100","v":2.3028872448832725E-3},1.2665879846857997E-2,1.3241601658078818E-2,4.605774489766545E-3,2.8786090561040904E-3,1.7271654336624544E-3,5.9875068366965087E-2,0.14162756556032127,9.9024151529980717E-2,{"$f":"+BU31/$DS$34*100","v":4.0300526785457267E-3},0.24295460433518523,0.36212901925789459,0.12723452027980081,2.8210368749820088E-2,0,9.0964046172889265E-2,9.5569820662655805E-2,4.3179135841561363E-2,4.5482023086444633E-2,8.6358271683122708E-3,0.15832349808572499,9.0964046172889265E-2,1.4393045280520452E-2,2.8786090561040904E-3,0,0,0,0,5.1814963009873625E-3,2.3028872448832725E-3,0,0,0,0,0,3.4543308673249088E-3,1.2665879846857997E-2,5.3542128443536077E-2,0,1.0938714413195544E-2,9.3266933417772535E-2,{"$f":"+DA31/$DS$34*100","v":5.3542128443536077E-2},8.4631106249460256E-2,0.73577247474020557,0.52217968277728199,6.3329399234289983E-3,0.12320446760125507,{"$f":"+DG31/$DS$34*100","v":3.7997639540573995E-2},0.30916261262557931,0.76283139986758397,0.28498229655430496,0.26828636402890127,8.6358271683122708E-3,0,1.5124211980770892,0.97009125190707857,0.54348138979245231,0.31031405624802094,3.6270474106911539E-2,3.3725783701315528]
[null,"187","Alentejo Central",{"$f":"+D32/$DS$34*100","v":0},1.7271654336624544E-3,2.8786090561040904E-3,2.3028872448832725E-3,3.4543308673249088E-3,0,1.7271654336624544E-3,2.3028872448832725E-3,7.4843835458706359E-3,0,9.1539767984110079E-2,2.3604594260053544E-2,8.6358271683122708E-3,7.4843835458706359E-3,2.8786090561040904E-3,0,0,1.7271654336624544E-3,2.3028872448832725E-3,0,0,1.7271654336624544E-3,5.1814963009873625E-3,1.3241601658078818E-2,0,1.7271654336624542E-2,2.1301707015170271E-2,1.842309795906618E-2,3.5694752295690718E-2,5.7572181122081808E-3,3.7421917729353174E-2,0.18192809234577853,{"$f":"+AJ32/$DS$34*100","v":0.11284147499928035},3.5694752295690718E-2,2.8786090561040904E-3,2.4180316071274362E-2,3.1664699617144999E-2,3.914908316301563E-2,2.7058925127378449E-2,6.3329399234289983E-3,0.46575894527764183,3.8573361351794809E-2,1.7847376147845359E-2,1.6695932525403724E-2,0,0.26713492040645959,0.12723452027980081,3.8573361351794809E-2,1.8998819770286998E-2,4.0300526785457267E-3,0,0,0,3.4543308673249088E-3,6.9086617346498175E-3,0,1.842309795906618E-2,5.1814963009873628E-2,3.7421917729353174E-2,3.4543308673249088E-3,{"$f":"+BL32/$DS$34*100","v":1.0362992601974725E-2},3.3391865050807448E-2,2.3604594260053544E-2,9.7872707907539075E-3,4.605774489766545E-3,0,4.0300526785457265E-2,0.16465643800915397,0.12550735484613834,{"$f":"+BU32/$DS$34*100","v":5.1814963009873625E-3},0.27116497308500531,0.35752324476812802,0.12435591122369671,3.9724804974236444E-2,2.3028872448832725E-3,6.9662339157718994E-2,8.2328219004576986E-2,5.0663519387431986E-2,7.829816632603126E-2,1.3241601658078818E-2,0.24007599527908116,0.13874895650421717,3.7997639540573995E-2,2.8786090561040904E-3,0,0,0,0,2.8786090561040904E-3,2.8786090561040904E-3,0,0,0,0,0,1.2090158035637181E-2,1.2665879846857997E-2,0.1370217910705547,4.0300526785457267E-3,2.3028872448832723E-2,0.10132703877486397,{"$f":"+DA32/$DS$34*100","v":0.3724920118598693},0.13011312933590488,0.54232994617001062,0.45942600535421285,1.2090158035637181E-2,0.11341719681050118,{"$f":"+DG32/$DS$34*100","v":8.5206828060681084E-2},0.34082731224272433,0.79622326491839146,0.29534528915627967,0.42027692219119717,6.3329399234289983E-3,0,1.4991795964190102,1.1117188174673998,0.71101643685771032,0.47439477244595413,6.7935173724056538E-2,3.8642447969141309]
["Algarve","150","Algarve",{"$f":"+D33/$DS$34*100","v":0},0,0,0,0,0,0,0,0,0,3.6270474106911539E-2,1.2665879846857997E-2,6.9086617346498175E-3,0,0,0,0,0,0,0,0,0,0,0,0,1.3817323469299635E-2,8.9236880739226809E-2,2.9937534183482543E-2,5.7572181122081808E-3,0,0,0,{"$f":"+AJ33/$DS$34*100","v":2.8786090561040904E-3},0,0,0.10420564783096807,0.32010132703877486,0.22338006275367742,0.16062638533060825,6.4480842856731627E-2,9.21154897953309E-3,0,0,0,0,0.41912547856875559,0.81464636287745751,8.5206828060681084E-2,1.0362992601974725E-2,0,0,0,0,0,0,2.8786090561040904E-3,1.0362992601974725E-2,6.3329399234289983E-3,0,0,{"$f":"+BL33/$DS$34*100","v":9.7872707907539075E-3},1.4393045280520452E-2,4.605774489766545E-3,0,0,4.0300526785457267E-3,9.7872707907539075E-3,4.605774489766545E-3,0,{"$f":"+BU33/$DS$34*100","v":0},5.3542128443536077E-2,8.1176775382135358E-2,1.2090158035637181E-2,0,0,1.9574541581507815E-2,5.6996459310860989E-2,1.4968767091741272E-2,2.8786090561040904E-3,0,0.12493163303491751,1.3817323469299635E-2,4.605774489766545E-3,0,0,0,0,0,0,0,0,0,0,0,0,5.7572181122081808E-3,3.4543308673249088E-3,5.8723624744523445E-2,0,1.7271654336624544E-3,0.14105184374910043,{"$f":"+DA33/$DS$34*100","v":5.1814963009873625E-3},0.87336998762198115,1.0938714413195544E-2,1.3304931057313107,0,2.0150263392728632E-2,{"$f":"+DG33/$DS$34*100","v":3.1664699617144999E-2},2.1301707015170271E-2,0.14911194910619188,9.6721264285097447E-2,0.14450617461642534,0,0,0.80313192665304123,1.4358501971847202,0.40358098966579348,0.18653386683554507,6.6783730101614897E-2,2.8958807104407147]
["Continente",null,null,{"$f":"+D34/$DS$34*100","v":3.5119030484469904E-2},5.4693572065977719E-2,4.3754857652782177E-2,3.7997639540573995E-2,3.3391865050807448E-2,2.6051411957742019,0.60738651083796313,0.16983793431014135,0.14277900918276287,2.072598520394945E-2,2.9252425228129768,0.55039005152710208,0.12953740752468407,5.296640663231527E-2,8.6358271683122708E-3,5.4693572065977719E-2,0.12665879846858,0.10650853507585135,6.5056564667952441E-2,1.1514436224416363E-3,3.4543308673249088E-3,2.763464693859927E-2,3.3391865050807448E-2,4.3179135841561363E-2,6.9086617346498175E-3,3.8348829845418693,4.2292524252281298,0.52620973545582772,0.17789803966723278,3.684619591813236E-2,2.9240910791905352,2.7024381818705203,{"$f":"+AJ34/$DS$34*100","v":0.60796223264918392},0.11859869311148853,6.9086617346498175E-3,3.0087221854399955,2.6592590460289589,1.6258383948875903,0.69662339157718989,0.16062638533060825,4.8280031088977804,0.5382998934914649,0.25446904055960162,0.13529462563689224,1.6695932525403724E-2,21.588992198969457,8.9582313825959297,0.66898874463859059,0.21416851377414431,4.0300526785457265E-2,3.1088977805924178E-2,0.13414318201445063,0.25389331874838078,0.56305593137396015,8.5206828060681084E-2,0.24928754425861424,0.70353205331183966,0.35867468839056971,0.12205302397881343,6.9086617346498175E-3,{"$f":"+BL34/$DS$34*100","v":0.50663519387431999},1.1744724948904688,0.3563718011456864,7.3116670025043906E-2,1.9574541581507815E-2,0.46518322346642105,1.8670658337891131,0.91942773251964638,0.3914908316301563,{"$f":"+BU34/$DS$34*100","v":1.8998819770286998E-2},3.9062724891332508,4.8729094101730039,1.316675782262011,0.2256829499985607,5.7572181122081808E-3,3.0524770430927775,2.8688217853133366,0.45885028354299201,0.27749791300843435,4.4906301275223812E-2,4.197587725610985,1.5176026943780765,0.20610840841705289,1.9574541581507815E-2,0,1.1514436224416363E-3,2.8786090561040904E-3,3.6270474106911539E-2,7.1389504591381436E-2,4.14519704078989E-2,8.8661158928005995E-2,2.7058925127378449E-2,9.21154897953309E-3,5.1814963009873625E-3,0,0.20495696479461123,3.545870635309019,3.6667722156653904,0.35406891390080314,0.11456864043294279,8.8050893808111912,{"$f":"+DA34/$DS$34*100","v":6.3599988485563781},8.1510694032643425,5.7727626011111433,31.470681366763582,1.0673882380033968,1.4404559716744869,{"$f":"+DG34/$DS$34*100","v":2.1301707015170273},3.6621664411756241,10.327873571490256,6.7025533262327643,5.9408733699876217,0.15314200178473761,0.13011312933590488,54.306687008837329,33.622729497106995,8.0819827859178446,3.4336048821209593,0.5549958260168687,{"$f":"SUM(DS50:DS72)","v":100}]
[]
[]
[null,"Legenda"]
[null,"MP",{"$f":"+C38","v":"< 4 000 € de VPP"}]
[null,"P",{"$f":"+C39","v":">= 4 000 e < 25 000 € de VPP"}]
[null,"M",">= 25 000 e < 100 000 € de VPP"]
[null,"G",">= 100 000 e < 500 000 € de VPP"]
[null,"MG",">= 500 000  € de VPP"]
["Fonte: GPP a partir de dados IFAP"]

{"sheet":"CHART-Geral","index":2,"n_rows":59,"n_cols":39,"rows_kept":59,"cut":false,"hidden":true,"merged":[[0,0,1,17],[4,12,4,13],[30,7,32,10],[58,0,58,2],[4,2,4,7]]}
[{"$f":"+\"Valores Globais \" & TRIM(INDEX(Sheet6!$D$2:$D$117,Sheet3!$C$1))","v":"Valores Globais (1) - Nº de Beneficiários"}]
[]
[null,"Tipo de Beneficiário:",{"$f":"INDEX(Sheet6!$P$1:$P$6,Sheet3!$A$2)","v":"Todos os Produtores do PU"},null,null,null,null,null,null,null,null,null,null,null,"Valor total:",{"$f":"+Base!$DS$34","v":173695},{"$f":"+\"(\" & (INDEX(Sheet6!$G$2:$G$117,Sheet3!$C$1)) & \")\"","v":"(Nº )"}]
[null,null,null,null,null,null,null,null,null,null,null,null,null,null,null,null,null,null,null,null,null,null,null,null,null,null,null,null,null,null,null,null,null,null,null,null,{"$f":"+Base!A11","v":"Norte "},{"$f":"+SUM(Base!DS11:DS18)","v":90111}]
[null,null,{"$f":"+\"Por \" & INDEX(Sheet6!$M$3:$M$6,Sheet3!$B$1)","v":"Por Classe de DE"},null,null,null,null,null,null,null,null,null,"Por NUTII",null,null,null,null,null,null,null,null,null,null,null,null,null,null,null,null,null,null,null,null,null,null,null,{"$f":"+Base!A19","v":"Centro"},{"$f":"+SUM(Base!DS19:DS26)","v":49232}]
[null,null,null,null,null,null,null,null,null,null,null,null,null,null,null,null,null,null,null,null,null,null,null,null,null,null,null,null,null,null,null,null,null,null,null,null,{"$f":"+Base!A27","v":"AML"},{"$f":"+SUM(Base!DS27)","v":1636}]
[null,null,null,null,null,null,null,null,null,null,null,null,null,null,null,null,null,null,null,null,null,null,null,null,null,null,null,null,null,null,null,null,null,null,null,null,{"$f":"+Base!A28","v":"Alentejo"},{"$f":"+SUM(Base!DS28:DS32)","v":27686}]
[null,null,null,null,null,null,null,null,null,null,null,null,null,null,null,null,null,null,null,null,null,null,null,null,null,null,null,null,null,null,null,null,null,null,null,null,{"$f":"+Base!A33","v":"Algarve"},{"$f":"+SUM(Base!DS33)","v":5030}]
[null,null,null,null,null,null,null,null,null,null,null,null,null,null,null,null,null,null,null,null,null,null,null,null,null,null,null,null,null,null,null,null,null,null,null,null,null,{"$f":"SUM(AL4:AL8)","v":173695},{"$f":"+AL9-Base!DS34","v":0}]
[]
[]
[]
[null,null,null,null,null,null,null,null,null,null,null,null,null,null,null,null,null,null,null,null,null,null,null,null,null,null,null,null,null,null,null,null,null,null,null,null,"Grandes Culturas (Arvenses e Industriais)",{"$f":"+SUM(Base!CV34:CY34)+Base!DL34+Base!DM34","v":13834}]
[null,null,null,null,null,null,null,null,null,null,null,null,null,null,null,null,null,null,null,null,null,null,null,null,null,null,null,null,null,null,null,null,null,null,null,null,"Horticultura Intensiva",{"$f":"+Base!CZ34","v":15294}]
[null,null,null,null,null,null,null,null,null,null,null,null,null,null,null,null,null,null,null,null,null,null,null,null,null,null,null,null,null,null,null,null,null,null,null,null,"Culturas Permanentes",{"$f":"+SUM(Base!DA34:DC34)","v":35232}]
[null,null,null,null,null,null,null,null,null,null,null,null,null,null,null,null,null,null,null,null,null,null,null,null,null,null,null,null,null,null,null,null,null,null,null,null,"Leite",{"$f":"+Base!DE34","v":1854}]
[null,null,null,null,null,null,null,null,null,null,null,null,null,null,null,null,null,null,null,null,null,null,null,null,null,null,null,null,null,null,null,null,null,null,null,null,"Outros herbívoros",{"$f":"+SUM(Base!DF34:DI34)","v":30502}]
[null,null,null,null,null,null,null,null,null,null,null,null,null,null,null,null,null,null,null,null,null,null,null,null,null,null,null,null,null,null,null,null,null,null,null,null,"Mistas",{"$f":"+Base!DD34+Base!DJ34+Base!DK34+Base!CU34","v":76980}]
[null,null,null,null,null,null,null,null,null,null,null,null,null,null,null,null,null,null,null,null,null,null,null,null,null,null,null,null,null,null,null,null,null,null,null,null,null,{"$f":"SUM(AL13:AL18)","v":173696}]
[]
[]
[]
[]
[]
["Legenda"]
["MP",{"$f":"+Base!C38","v":"< 4 000 € de VPP"}]
["P",{"$f":"+Base!C39","v":">= 4 000 e < 25 000 € de VPP"}]
["M",{"$f":"+Base!C40","v":">= 25 000 e < 100 000 € de VPP"}]
["G",{"$f":"+Base!C41","v":">= 100 000 e < 500 000 € de VPP"}]
["MG",{"$f":"+Base!C42","v":">= 500 000  € de VPP"}]
[null,null,null,null,null,null,null,"Por Grande Orientação Produtiva"]
[]
[]
[]
[]
[]
[]
[]
[]
[]
[]
[]
[]
[]
[]
[]
[]
[]
[]
[]
[]
[]
[]
[]
[]
[]
[]
[]
["Fonte: GPP a partir de dados IFAP"]

{"sheet":"CHART-NUTIII-DE","index":3,"n_rows":89,"n_cols":19,"rows_kept":89,"cut":false,"hidden":true,"merged":[[0,0,1,19],[46,0,47,19],[2,16,2,17],[88,0,88,2]]}
[{"$f":"+INDEX(Sheet6!$D$2:$D$117,Sheet3!$C$1)& \" por NUTIII e por \" & INDEX(Sheet6!$M$3:$M$6,Sheet3!$B$1)","v":"(1) - Nº de Beneficiários por NUTIII e por Classe de DE"}]
[]
[{"$f":"+Base!C7","v":"Unidade: Nº "},null,null,"Tipo de Beneficiário:",{"$f":"INDEX(Sheet6!$P$1:$P$6,Sheet3!$A$2)","v":"Todos os Produtores do PU"},null,null,null,null,null,null,null,null,null,null,"Valor total:",{"$f":"+Base!$DS$34","v":173695},null,{"$f":"+\"(\" & (INDEX(Sheet6!$G$2:$G$117,Sheet3!$C$1)) & \")\"","v":"(Nº )"}]
[]
[]
[]
[]
[]
[]
[]
[]
[]
[]
[]
[]
[]
[]
[]
[]
[]
[]
[]
[]
[]
[]
[]
[]
[]
[]
[]
[]
[]
[]
[]
[]
[]
[]
[]
[]
["Legenda"]
["MP",{"$f":"+Base!C38","v":"< 4 000 € de VPP"}]
["P",{"$f":"+Base!C39","v":">= 4 000 e < 25 000 € de VPP"}]
["M",{"$f":"+Base!C40","v":">= 25 000 e < 100 000 € de VPP"}]
["G",{"$f":"+Base!C41","v":">= 100 000 e < 500 000 € de VPP"}]
["MG",{"$f":"+Base!C42","v":">= 500 000  € de VPP"}]
[]
[{"$f":"+\"Estrutura: \"&INDEX(Sheet6!$D$2:$D$117,Sheet3!$C$1)& \", por NUTIII e por \" & INDEX(Sheet6!$M$3:$M$6,Sheet3!$B$1)","v":"Estrutura: (1) - Nº de Beneficiários, por NUTIII e por Classe de DE"}]
[]
[]
[]
[]
[]
[]
[]
[]
[]
[]
[]
[]
[]
[]
[]
[]
[]
[]
[]
[]
[]
[]
[]
[]
[]
[]
[]
[]
[]
[]
[]
[]
[]
[]
[]
[]
[]
[]
[]
[]
[]
["Fonte: GPP a partir de dados IFAP"]

{"sheet":"CHART-NUTIII-GOP","index":4,"n_rows":89,"n_cols":42,"rows_kept":89,"cut":false,"hidden":true,"merged":[[0,0,1,19],[46,0,47,19],[2,16,2,17],[88,0,88,2]]}
[{"$f":"+INDEX(Sheet6!$D$2:$D$117,Sheet3!$C$1)& \" por NUTIII e por Grande Orientação Produtiva\"","v":"(1) - Nº de Beneficiários por NUTIII e por Grande Orientação Produtiva"}]
[]
[{"$f":"+Base!C7","v":"Unidade: Nº "},null,null,"Tipo de Beneficiário:",{"$f":"INDEX(Sheet6!$P$1:$P$6,Sheet3!$A$2)","v":"Todos os Produtores do PU"},null,null,null,null,null,null,null,null,null,null,"Valor total:",{"$f":"+Base!$DS$34","v":173695},null,{"$f":"+\"(\" & (INDEX(Sheet6!$G$2:$G$117,Sheet3!$C$1)) & \")\"","v":"(Nº )"}]
[]
[null,null,null,null,null,null,null,null,null,null,null,null,null,null,null,null,null,null,null,null,null,null,null,null,null,null,null,null,null,null,null,null,null,null,null,null,"Grandes Culturas (Arvenses e Industriais)","Horticultura Intensiva","Culturas Permanentes","Leite","Outros herbívoros","Mistas"]
[null,null,null,null,null,null,null,null,null,null,null,null,null,null,null,null,null,null,null,null,null,null,null,null,null,null,null,null,null,null,null,null,null,null,null,{"$f":"Base!C11","v":"Alto Minho"},{"$f":"SUM(Base!CV11:CY11)+Base!DL11+Base!DM11","v":439},{"$f":"Base!CZ11","v":182},{"$f":"SUM(Base!DA11:DC11)","v":940},{"$f":"Base!DE11","v":61},{"$f":"SUM(Base!DF11:DI11)","v":2633},{"$f":"Base!DD11+Base!DJ11+Base!DK11+Base!CU11","v":3694}]
[null,null,null,null,null,null,null,null,null,null,null,null,null,null,null,null,null,null,null,null,null,null,null,null,null,null,null,null,null,null,null,null,null,null,null,{"$f":"Base!C12","v":"Cávado"},{"$f":"SUM(Base!CV12:CY12)+Base!DL12+Base!DM12","v":1327},{"$f":"Base!CZ12","v":443},{"$f":"SUM(Base!DA12:DC12)","v":371},{"$f":"Base!DE12","v":401},{"$f":"SUM(Base!DF12:DI12)","v":1240},{"$f":"Base!DD12+Base!DJ12+Base!DK12+Base!CU12","v":3509}]
[null,null,null,null,null,null,null,null,null,null,null,null,null,null,null,null,null,null,null,null,null,null,null,null,null,null,null,null,null,null,null,null,null,null,null,{"$f":"Base!C13","v":"Ave"},{"$f":"SUM(Base!CV13:CY13)+Base!DL13+Base!DM13","v":622},{"$f":"Base!CZ13","v":129},{"$f":"SUM(Base!DA13:DC13)","v":480},{"$f":"Base!DE13","v":133},{"$f":"SUM(Base!DF13:DI13)","v":1753},{"$f":"Base!DD13+Base!DJ13+Base!DK13+Base!CU13","v":1889}]
[null,null,null,null,null,null,null,null,null,null,null,null,null,null,null,null,null,null,null,null,null,null,null,null,null,null,null,null,null,null,null,null,null,null,null,{"$f":"Base!C14","v":"Área Metropolitana do Porto"},{"$f":"SUM(Base!CV14:CY14)+Base!DL14+Base!DM14","v":971},{"$f":"Base!CZ14","v":235},{"$f":"SUM(Base!DA14:DC14)","v":330},{"$f":"Base!DE14","v":575},{"$f":"SUM(Base!DF14:DI14)","v":749},{"$f":"Base!DD14+Base!DJ14+Base!DK14+Base!CU14","v":2066}]
[null,null,null,null,null,null,null,null,null,null,null,null,null,null,null,null,null,null,null,null,null,null,null,null,null,null,null,null,null,null,null,null,null,null,null,{"$f":"Base!C15","v":"Alto Tâmega"},{"$f":"SUM(Base!CV15:CY15)+Base!DL15+Base!DM15","v":805},{"$f":"Base!CZ15","v":1276},{"$f":"SUM(Base!DA15:DC15)","v":1923},{"$f":"Base!DE15","v":54},{"$f":"SUM(Base!DF15:DI15)","v":3557},{"$f":"Base!DD15+Base!DJ15+Base!DK15+Base!CU15","v":5476}]
[null,null,null,null,null,null,null,null,null,null,null,null,null,null,null,null,null,null,null,null,null,null,null,null,null,null,null,null,null,null,null,null,null,null,null,{"$f":"Base!C16","v":"Tâmega e Sousa"},{"$f":"SUM(Base!CV16:CY16)+Base!DL16+Base!DM16","v":549},{"$f":"Base!CZ16","v":466},{"$f":"SUM(Base!DA16:DC16)","v":1561},{"$f":"Base!DE16","v":30},{"$f":"SUM(Base!DF16:DI16)","v":832},{"$f":"Base!DD16+Base!DJ16+Base!DK16+Base!CU16","v":3806}]
[null,null,null,null,null,null,null,null,null,null,null,null,null,null,null,null,null,null,null,null,null,null,null,null,null,null,null,null,null,null,null,null,null,null,null,{"$f":"Base!C17","v":"Douro"},{"$f":"SUM(Base!CV17:CY17)+Base!DL17+Base!DM17","v":216},{"$f":"Base!CZ17","v":1803},{"$f":"SUM(Base!DA17:DC17)","v":8022},{"$f":"Base!DE17","v":71},{"$f":"SUM(Base!DF17:DI17)","v":1215},{"$f":"Base!DD17+Base!DJ17+Base!DK17+Base!CU17","v":9128}]
[null,null,null,null,null,null,null,null,null,null,null,null,null,null,null,null,null,null,null,null,null,null,null,null,null,null,null,null,null,null,null,null,null,null,null,{"$f":"Base!C18","v":"Terras de Trás-os-Montes"},{"$f":"SUM(Base!CV18:CY18)+Base!DL18+Base!DM18","v":750},{"$f":"Base!CZ18","v":4936},{"$f":"SUM(Base!DA18:DC18)","v":4852},{"$f":"Base!DE18","v":22},{"$f":"SUM(Base!DF18:DI18)","v":1073},{"$f":"Base!DD18+Base!DJ18+Base!DK18+Base!CU18","v":12496}]
[null,null,null,null,null,null,null,null,null,null,null,null,null,null,null,null,null,null,null,null,null,null,null,null,null,null,null,null,null,null,null,null,null,null,null,{"$f":"Base!C19","v":"Oeste"},{"$f":"SUM(Base!CV19:CY19)+Base!DL19+Base!DM19","v":100},{"$f":"Base!CZ19","v":204},{"$f":"SUM(Base!DA19:DC19)","v":918},{"$f":"Base!DE19","v":9},{"$f":"SUM(Base!DF19:DI19)","v":597},{"$f":"Base!DD19+Base!DJ19+Base!DK19+Base!CU19","v":617}]
[null,null,null,null,null,null,null,null,null,null,null,null,null,null,null,null,null,null,null,null,null,null,null,null,null,null,null,null,null,null,null,null,null,null,null,{"$f":"Base!C20","v":"Região de Aveiro"},{"$f":"SUM(Base!CV20:CY20)+Base!DL20+Base!DM20","v":1502},{"$f":"Base!CZ20","v":291},{"$f":"SUM(Base!DA20:DC20)","v":302},{"$f":"Base!DE20","v":189},{"$f":"SUM(Base!DF20:DI20)","v":362},{"$f":"Base!DD20+Base!DJ20+Base!DK20+Base!CU20","v":1663}]
[null,null,null,null,null,null,null,null,null,null,null,null,null,null,null,null,null,null,null,null,null,null,null,null,null,null,null,null,null,null,null,null,null,null,null,{"$f":"Base!C21","v":"Região de Coimbra"},{"$f":"SUM(Base!CV21:CY21)+Base!DL21+Base!DM21","v":1742},{"$f":"Base!CZ21","v":657},{"$f":"SUM(Base!DA21:DC21)","v":547},{"$f":"Base!DE21","v":100},{"$f":"SUM(Base!DF21:DI21)","v":756},{"$f":"Base!DD21+Base!DJ21+Base!DK21+Base!CU21","v":2949}]
[null,null,null,null,null,null,null,null,null,null,null,null,null,null,null,null,null,null,null,null,null,null,null,null,null,null,null,null,null,null,null,null,null,null,null,{"$f":"Base!C22","v":"Região de Leiria"},{"$f":"SUM(Base!CV22:CY22)+Base!DL22+Base!DM22","v":343},{"$f":"Base!CZ22","v":368},{"$f":"SUM(Base!DA22:DC22)","v":405},{"$f":"Base!DE22","v":16},{"$f":"SUM(Base!DF22:DI22)","v":590},{"$f":"Base!DD22+Base!DJ22+Base!DK22+Base!CU22","v":1462}]
[null,null,null,null,null,null,null,null,null,null,null,null,null,null,null,null,null,null,null,null,null,null,null,null,null,null,null,null,null,null,null,null,null,null,null,{"$f":"Base!C23","v":"Viseu Dão Lafões"},{"$f":"SUM(Base!CV23:CY23)+Base!DL23+Base!DM23","v":508},{"$f":"Base!CZ23","v":1011},{"$f":"SUM(Base!DA23:DC23)","v":1027},{"$f":"Base!DE23","v":45},{"$f":"SUM(Base!DF23:DI23)","v":1268},{"$f":"Base!DD23+Base!DJ23+Base!DK23+Base!CU23","v":4248}]
[null,null,null,null,null,null,null,null,null,null,null,null,null,null,null,null,null,null,null,null,null,null,null,null,null,null,null,null,null,null,null,null,null,null,null,{"$f":"Base!C24","v":"Beira Baixa"},{"$f":"SUM(Base!CV24:CY24)+Base!DL24+Base!DM24","v":160},{"$f":"Base!CZ24","v":319},{"$f":"SUM(Base!DA24:DC24)","v":1053},{"$f":"Base!DE24","v":5},{"$f":"SUM(Base!DF24:DI24)","v":1121},{"$f":"Base!DD24+Base!DJ24+Base!DK24+Base!CU24","v":2002}]
[null,null,null,null,null,null,null,null,null,null,null,null,null,null,null,null,null,null,null,null,null,null,null,null,null,null,null,null,null,null,null,null,null,null,null,{"$f":"Base!C25","v":"Médio Tejo"},{"$f":"SUM(Base!CV25:CY25)+Base!DL25+Base!DM25","v":160},{"$f":"Base!CZ25","v":235},{"$f":"SUM(Base!DA25:DC25)","v":1087},{"$f":"Base!DE25","v":8},{"$f":"SUM(Base!DF25:DI25)","v":499},{"$f":"Base!DD25+Base!DJ25+Base!DK25+Base!CU25","v":2188}]
[null,null,null,null,null,null,null,null,null,null,null,null,null,null,null,null,null,null,null,null,null,null,null,null,null,null,null,null,null,null,null,null,null,null,null,{"$f":"Base!C26","v":"Beiras e Serra da Estrela"},{"$f":"SUM(Base!CV26:CY26)+Base!DL26+Base!DM26","v":1044},{"$f":"Base!CZ26","v":1735},{"$f":"SUM(Base!DA26:DC26)","v":2562},{"$f":"Base!DE26","v":41},{"$f":"SUM(Base!DF26:DI26)","v":3008},{"$f":"Base!DD26+Base!DJ26+Base!DK26+Base!CU26","v":7193}]
[null,null,null,null,null,null,null,null,null,null,null,null,null,null,null,null,null,null,null,null,null,null,null,null,null,null,null,null,null,null,null,null,null,null,null,{"$f":"Base!C27","v":"Área Metropolitana de Lisboa"},{"$f":"SUM(Base!CV27:CY27)+Base!DL27+Base!DM27","v":215},{"$f":"Base!CZ27","v":94},{"$f":"SUM(Base!DA27:DC27)","v":271},{"$f":"Base!DE27","v":24},{"$f":"SUM(Base!DF27:DI27)","v":571},{"$f":"Base!DD27+Base!DJ27+Base!DK27+Base!CU27","v":457}]
[null,null,null,null,null,null,null,null,null,null,null,null,null,null,null,null,null,null,null,null,null,null,null,null,null,null,null,null,null,null,null,null,null,null,null,{"$f":"Base!C28","v":"Alentejo Litoral"},{"$f":"SUM(Base!CV28:CY28)+Base!DL28+Base!DM28","v":224},{"$f":"Base!CZ28","v":111},{"$f":"SUM(Base!DA28:DC28)","v":382},{"$f":"Base!DE28","v":13},{"$f":"SUM(Base!DF28:DI28)","v":1149},{"$f":"Base!DD28+Base!DJ28+Base!DK28+Base!CU28","v":1479}]
[null,null,null,null,null,null,null,null,null,null,null,null,null,null,null,null,null,null,null,null,null,null,null,null,null,null,null,null,null,null,null,null,null,null,null,{"$f":"Base!C29","v":"Baixo Alentejo"},{"$f":"SUM(Base!CV29:CY29)+Base!DL29+Base!DM29","v":762},{"$f":"Base!CZ29","v":129},{"$f":"SUM(Base!DA29:DC29)","v":2712},{"$f":"Base!DE29","v":5},{"$f":"SUM(Base!DF29:DI29)","v":2209},{"$f":"Base!DD29+Base!DJ29+Base!DK29+Base!CU29","v":2713}]
[null,null,null,null,null,null,null,null,null,null,null,null,null,null,null,null,null,null,null,null,null,null,null,null,null,null,null,null,null,null,null,null,null,null,null,{"$f":"Base!C30","v":"Lezíria do Tejo"},{"$f":"SUM(Base!CV30:CY30)+Base!DL30+Base!DM30","v":788},{"$f":"Base!CZ30","v":87},{"$f":"SUM(Base!DA30:DC30)","v":598},{"$f":"Base!DE30","v":20},{"$f":"SUM(Base!DF30:DI30)","v":472},{"$f":"Base!DD30+Base!DJ30+Base!DK30+Base!CU30","v":1263}]
[null,null,null,null,null,null,null,null,null,null,null,null,null,null,null,null,null,null,null,null,null,null,null,null,null,null,null,null,null,null,null,null,null,null,null,{"$f":"Base!C31","v":"Alto Alentejo"},{"$f":"SUM(Base!CV31:CY31)+Base!DL31+Base!DM31","v":149},{"$f":"Base!CZ31","v":162},{"$f":"SUM(Base!DA31:DC31)","v":1518},{"$f":"Base!DE31","v":11},{"$f":"SUM(Base!DF31:DI31)","v":2142},{"$f":"Base!DD31+Base!DJ31+Base!DK31+Base!CU31","v":1874}]
[null,null,null,null,null,null,null,null,null,null,null,null,null,null,null,null,null,null,null,null,null,null,null,null,null,null,null,null,null,null,null,null,null,null,null,{"$f":"Base!C32","v":"Alentejo Central"},{"$f":"SUM(Base!CV32:CY32)+Base!DL32+Base!DM32","v":318},{"$f":"Base!CZ32","v":176},{"$f":"SUM(Base!DA32:DC32)","v":1815},{"$f":"Base!DE32","v":21},{"$f":"SUM(Base!DF32:DI32)","v":2320},{"$f":"Base!DD32+Base!DJ32+Base!DK32+Base!CU32","v":2062}]
[null,null,null,null,null,null,null,null,null,null,null,null,null,null,null,null,null,null,null,null,null,null,null,null,null,null,null,null,null,null,null,null,null,null,null,{"$f":"Base!C33","v":"Algarve"},{"$f":"SUM(Base!CV33:CY33)+Base!DL33+Base!DM33","v":111},{"$f":"Base!CZ33","v":245},{"$f":"SUM(Base!DA33:DC33)","v":1545},{"$f":"Base!DE33","v":0},{"$f":"SUM(Base!DF33:DI33)","v":386},{"$f":"Base!DD33+Base!DJ33+Base!DK33+Base!CU33","v":2740}]
[null,null,null,null,null,null,null,null,null,null,null,null,null,null,null,null,null,null,null,null,null,null,null,null,null,null,null,null,null,null,null,null,null,null,null,"Continente",{"$f":"SUM(AK6:AK28)","v":13805},{"$f":"SUM(AL6:AL28)","v":15294},35221,1854,30502,76974]
[]
[]
[]
[]
[]
[]
[]
[]
[]
[]
[]
[]
[]
[]
[]
[]
[]
[{"$f":"+\"Estrutura: \"&INDEX(Sheet6!$D$2:$D$117,Sheet3!$C$1)& \", por NUTIII e por Grande Orientação Produtiva\"","v":"Estrutura: (1) - Nº de Beneficiários, por NUTIII e por Grande Orientação Produtiva"}]
[]
[]
[]
[]
[]
[]
[]
[]
[]
[]
[]
[]
[]
[]
[]
[]
[]
[]
[]
[]
[]
[]
[]
[]
[]
[]
[]
[]
[]
[]
[]
[]
[]
[]
[]
[]
[]
[]
[]
[]
[]
["Fonte: GPP a partir de dados IFAP"]

{"sheet":"CHART-OTE-DE","index":5,"n_rows":52,"n_cols":19,"rows_kept":52,"cut":false,"hidden":true,"merged":[[0,0,1,18],[2,16,2,17],[49,0,49,2],[51,0,52,6],[51,7,52,18]]}
[{"$f":"+INDEX(Sheet6!$D$2:$D$117,Sheet3!$C$1)& \" por OTE e por \" & INDEX(Sheet6!$M$3:$M$6,Sheet3!$B$1)","v":"(1) - Nº de Beneficiários por OTE e por Classe de DE"}]
[]
[{"$f":"+Base!C7","v":"Unidade: Nº "},null,null,"Tipo de Beneficiário:",{"$f":"INDEX(Sheet6!$P$1:$P$6,Sheet3!$A$2)","v":"Todos os Produtores do PU"},null,null,null,null,null,null,null,null,null,null,"Valor total:",{"$f":"+Base!$DS$34","v":173695},null,{"$f":"+\"(\" & (INDEX(Sheet6!$G$2:$G$117,Sheet3!$C$1)) & \")\"","v":"(Nº )"}]
[]
[]
[]
[]
[]
[]
[]
[]
[]
[]
[]
[]
[]
[]
[]
[]
[]
[]
[]
[]
[]
[]
[]
[]
[]
[]
[]
[]
[]
[]
[]
[]
[]
[]
[]
[]
[]
[]
[]
["Legenda"]
["MP",{"$f":"+Base!C38","v":"< 4 000 € de VPP"}]
["P",{"$f":"+Base!C39","v":">= 4 000 e < 25 000 € de VPP"}]
["M",{"$f":"+Base!C40","v":">= 25 000 e < 100 000 € de VPP"}]
["G",{"$f":"+Base!C41","v":">= 100 000 e < 500 000 € de VPP"}]
["MG",{"$f":"+Base!C42","v":">= 500 000  € de VPP"}]
[]
["Fonte: GPP a partir de dados IFAP"]
[]
[{"$f":"+INDEX(Sheet6!$D$2:$D$117,Sheet3!$C$1)& \" por \" & INDEX(Sheet6!$M$3:$M$6,Sheet3!$B$1)","v":"(1) - Nº de Beneficiários por Classe de DE"},null,null,null,null,null,null,{"$f":"+INDEX(Sheet6!$D$2:$D$117,Sheet3!$C$1)& \" por OTE\"","v":"(1) - Nº de Beneficiários por OTE"}]

{"sheet":"Sheet6","index":6,"n_rows":107,"n_cols":34,"rows_kept":107,"cut":false,"hidden":true,"merged":[]}
["Ano",2021,null,null,null,"desmultiplicador","Unidade",null,null,null,{"$f":"+INDEX(K2:K105,Sheet3!C1)","v":"Beneficiarios_PU_2019.pdf"},null,null,null,null,"Todos os Produtores do PU","<5"]
[null,1,"ContarDeGPP_ID","(1) - Nº de Beneficiários",1,1,"Nº ","Nº de Beneficiários",1,null,"Beneficiarios_PU_2019.pdf",null,null,null,null,"Beneficiários do RPA",1,null,null,null,"ContarDeGPP_ID"]
[null,2,"SomaDeVpp","(2) - Valor de Produção Padrão",2,1000,"1000 €","Valor de Produção Padrão",{"$f":"+I2+1","v":2},null,null,null,"Classe de DE",1,null,"Beneficiários do RPB",2,null,null,null,"SomaDeVpp"]
[null,3,"SomaDeSAU","(3) - Superfície Elegível (inclui Superfície Agrícola e Agro-Florestal Elegível)",3,1,"ha","Superfície Elegível (inclui Superfície Agrícola e Agro-Florestal Elegível)",{"$f":"+I3+1","v":3},null,"SPE_PU_2019.pdf",null,"Classes de Superfície Agrícola",2,null,"Apenas Pagamentos ligados e 2º Pilar",3,null,null,null,"SomaDeSAU"]
[null,4,"SumD_RPB","(3a) - Nº de Direitos de RPB","3a",1,"Nº ","Nº de Direitos de RPB",{"$f":"+E5","v":"3a"},null,null,null,"Classe de AD",3,null,"Apenas outras ajudas 2º Pilar",4]
[null,5,"SumMG_Direitos","(3b) - Montante Global dos Direitos de RPB","3b",1000,"1000 €","Montante Global dos Direitos de RPB",{"$f":"+E6","v":"3b"},null,null,null,null,null,null,null,null,null,null,null,"SomaDeSAU_IRRIG"]
[null,6,"SUmofSAU_est","(3c) - Superfície Agrícola (inc. Pastagens arbustivas)","3c",1,"ha","Superfície Agrícola (inc. Pastagens arbustivas)",{"$f":"+E7","v":"3c"},null,null,null,null,null,null,null,null,null,null,null,"SomaDeCult_Temp"]
[null,7,"SomaDeSAU_IRRIG","(4) - Superfície Agrícola de Regadio",4,1,"ha","Superfície Agrícola de Regadio",{"$f":"+E8","v":4},null,null,null,"MP","Muito Pequenas","< 4 000 € de VPP","< 5 ha","<  1250 €",null,null,null,"SomaDeSF"]
[null,8,"SomaDeCult_Temp","(5) - Culturas Temporárias",5,1,"ha","Culturas Temporárias",5,null,null,null,"P","Pequenas",">= 4 000 e < 25 000 € de VPP",">= 5  e < 25 ha",">= 1 250 e < 5 000 €",null,null,null,"SomaDePousio"]
[null,9,"SumOf_ARV_Ind_SEQ","(5a) - Culturas Arvenses e Indústriais de sequeiro","5a",1,"ha","Culturas Arvenses e Indústriais de sequeiro",{"$f":"+E10","v":"5a"},null,null,null,"MP","Médias",">= 25 000 e < 100 000 € de VPP",">= 25  e < 200 ha",">= 5 000 e < 50 000 €",null,null,null,"SomaDeCP"]
[null,10,"SumOf_ARV_Ind_Reg","(5b) - Culturas Arvenses e Indústriais de regadio","5b",1,"ha","Culturas Arvenses e Indústriais de regadio",{"$f":"+E11","v":"5b"},null,null,null,"G","Grandes",">= 100 000 e < 500 000 € de VPP",">= 200  e < 1 000 ha",">= 50 000 e < 300 000 €",null,null,null,"SomaDePP"]
[null,11,"SomaDeSF","(6) - Superfície Forrageira Temporária",6,1,"ha","Superfície Forrageira Temporária",6,null,null,null,"MG","Muito Grandes",">= 500 000  € de VPP",">= 1 000 ha",">= 300 000 €",null,null,null,"SomaDeCNH"]
[null,12,"SomaDePousio","(7) - Superfície de Pousio",7,1,"ha","Superfície de Pousio",7,null,null,null,null,null,null,null,null,null,null,null,"SomaDeCNT"]
[null,13,"SomaDeCP","(8) - Culturas Permanentes",8,1,"ha","Culturas Permanentes",8,null,null,null,null,null,null,null,null,null,null,null,"SomaDeS_RPB"]
[null,14,"SomaDePP","(9) - Superfície de Pastagens Permanentes",9,1,"ha","Superfície de Pastagens Permanentes",9,null,null,null,"MP","P","MP","G","MG",null,null,null,"SomaDeS_MAA"]
[null,15,"Sumpp_02cn","(9a) - Superfície de Pastagens com encabeçamento inferior a 0,2CN/ha de PP","9a",1,"ha","Superfície de Pastagens com encabeçamento inferior a 0,2CN/ha de PP","9a",null,null,null,"MP","P","MP","G","MG",null,null,null,"SomaDeS_MZD"]
[null,16,"SomaDeCNH","(10) - Nº de Cabeças Normais (Cn) de Herbívoros",10,1,"CN","Nº de Cabeças Normais (Cn) de Herbívoros",10,null,null,null,"Muito Pequenas","Pequenas","Médias","Grandes","Muito Grandes",null,null,null,"SomaDeAD_Totais2015"]
[null,17,"SomaDeCNT","(11) - Nº de Cabeças Normais (Cn) Totais",11,1,"CN","Nº de Cabeças Normais (Cn) Totais",11,null,null,null,"< 4000€ de VPP",">= 4000 e <25 000€ de VPP",">=25000 e <100 000€ de VPP",">= 100 000 e < 500 000 € de VPP",">= 500 000  € de VPP",null,null,null,"Ajudas_desligadas"]
[null,18,"SomaDeS_RPB","(12) - Superfície Agrícola Declarada para Activar Direitos de RPB",12,1,"ha","Superfície Agrícola Declarada para Activar Direitos de RPB",12,null,null,null,"< 5 ha",">= 5  e < 25 ha",">= 25  e < 200 ha","= 200  e < 1 000 ha",">= 1 000 ha",null,null,null,"SomaDeRPA"]
[null,19,"SomaDeS_MAA","(13) - Superfície Agrícola Declarada para Medidas Agroambientais",13,1,"ha","Superfície Agrícola Declarada para Medidas Agroambientais",13,null,null,null,{"$f":"+M$16& CHAR(10)  & M18","v":"MP\n< 4000€ de VPP"},"P\n>= 4000 e <25 000€ de VPP","MP\n>=25000 e <100 000€ de VPP","G\n>= 100 000 e < 500 000 € de VPP","MG\n>= 500 000  € de VPP",null,null,null,"RPB_Total"]
[null,20,"SomaDeS_MZD","(14) - Superfície Agrícola Declarada para MZDs",14,1,"ha","Superfície Agrícola Declarada para MZDs",14,null,null,null,"MP\n< 5 ha","P\n>= 5  e < 25 ha","MP\n>= 25  e < 200 ha","G\n= 200  e < 1 000 ha","MG\n>= 1 000 ha",null,null,null,"SomaDeRPBAJU"]
[null,21,"SomaDeAD_Totais2015","(15) - Montante Total das AD 1º Pilar (16+22)",15,1000,"1000 €","Montante Total das AD 1º Pilar (16+22)",15,null,"AD_PU_2019.pdf",null,null,null,null,null,null,null,null,null,"SomaDeRPBJOV"]
[null,22,"Ajudas_desligadas","    (16) - Total de pagamentos desligados (17+18+21+21a)",16,1000,"1000 €","Total de pagamentos desligados (17+18+21+21a)",16,"    ",null,null,null,null,null,null,null,null,null,null,"SomaDeGREEN"]
[null,23,"SomaDeRPA","        (17) - Montante Regime Pequena Agricultura",17,1000,"1000 €","Montante Regime Pequena Agricultura",17,"        "]
[null,24,"RPB_Total","        (18) - Regime Pagamento Base (RPB) [(19)+(20)]",18,1000,"1000 €","Regime Pagamento Base (RPB) [(19)+(20)]",18,"        ",null,null,null,null,null,null,null,null,null,null,"Pag_ligados"]
[null,25,"SomaDeRPBAJU","            (19) - RPB normal",19,1000,"1000 €","RPB normal",19,"            ",null,null,"MP","Muito Pequenas","< 4 000 € de VPP","< 4 ha","<  1250 €",null,null,null,"SomaDeVACAS_ALEIT"]
[null,26,"SomaDeRPBJOV","            (20) - RPB Jovens agricultores",20,1000,"1000 €","RPB Jovens agricultores",20,"            ",null,null,"P","Pequenas",">= 4 000 e < 25 000 € de VPP",">= 4  e < 25 ha",">= 1 250 e < 5 000 €",null,null,null,"SomaDePAG_OV_CAP"]
[null,27,"SomaDeGREEN","        (21) - Pagamento por Práticas Agrícolas Benéficas para o Ambiente (Greening)",21,1000,"1000 €","Pagamento por Práticas Agrícolas Benéficas para o Ambiente (Greening)",21,"        ",null,null,"MP","Médias",">= 25 000 e < 100 000 € de VPP",">= 25  e < 200 ha",">= 5 000 e < 50 000 €",null,null,null,"SomaDeVACAS_leite"]
[null,28,null,"        (21a) - Pagamento Redistributivo","21a",1000,"1000 €","Pagamento Redistributivo","21a","        ",null,null,"G","Grandes",">= 100 000 e < 500 000 € de VPP","= 200  e < 1 000 ha",">= 50 000 e < 300 000 €",null,null,null,"SomaDePAG_COMPL_Leite"]
[null,29,"Pag_ligados","    (22) - Total de pagamentos ligados (23+…..+27)",22,1000,"1000 €","Total de pagamentos ligados (23+…..+28)",22,"    ",null,null,"MG","Muito Grandes",">= 500 000  € de VPP",">= 1 000 ha",">= 300 000 €",null,null,null,"SomaDePAG_TOMATE"]
[null,30,"SomaDeVACAS_ALEIT","        (23) - Prémio às vacas em aleitamento",23,1000,"1000 €","Prémio às vacas em aleitamento",23,"        ",null,null,null,null,null,null,null,null,null,null,"SomaDePAG_ARROZ"]
[null,31,"SomaDePAG_OV_CAP","        (24) - Prémio aos ovinos e caprinos",24,1000,"1000 €","Prémio aos ovinos e caprinos",24,"        "]
[null,32,"SomaDeVACAS_leite","        (25) - Prémio à vaca leiteira",25,1000,"1000 €","Prémio à vaca leiteira",25,"        "]
[null,34,"SomaDePAG_TOMATE","        (26) - Pagamento Específico por superfície ao tomate ",26,1000,"1000 €","Pagamento Específico por superfície ao tomate ",26,"        "]
[null,35,"SomaDePAG_ARROZ","        (27) - Pagamento Específico por superfície ao arroz",27,1000,"1000 €","Pagamento Específico por superfície ao arroz",27,"        "]
[null,33,"SomaDePAG_COMPL_Leite","(28) - Medida Extraordinária Pacto",28,1000,"1000 €","Medida Extraordinária",{"$f":"+E36","v":28},"        "]
[null,36,"2_pilar","(29) - Total de Pagamentos Superfície Desenvolvimento Rural ((30)+(34))",29,1000,"1000 €","Total de Pagamentos Superfície Desenvolvimento Rural ((30)+(34))",29,null,"MAA_MZD_PU_2019.pdf"]
[null,37,"MZD","     (30) - Medida Zonas Desfavorecidas (MZD)",30,1000,"1000 €","Medida Zonas Desfavorecidas (MZD)",30,"     ","MZD_Medida Zonas desfavorecidas.pdf",null,null,null,null,"Não classificadas","Arvenses e Outras Cult pred. Regadio","Arvenses e Outras Cult pred. Sequeiro","Arroz","Horticultura e Industriais","Horticultura e Floricultura","Vinhos","Fruticultura","Olival","Policultura","Bovinos Leite","Bov. Carne semi-int. (>1 < 3CN por ha SF)","Bov. Carne Int (>= 3CN por ha SF)","Bov. Carne Extensivos (<1 CN por ha SF)","Outros Ruminantes","Mistas","Pousio e Pastagem","Tomate Indústria","Plantas tuberosas"]
[null,38,"AZDZCE","            (31) - Zona Condicionantes Específicas",31,1000,"1000 €","Zona Condicionantes Específicas",31,"            ","MZD_ZCE Zona Condicionantes Específicas.pdf"]
[null,39,"AZDZCN","            (32) - Zona Outras Condicionantes Naturais",32,1000,"1000 €","Zona Outras Condicionantes Naturais",32,"            ","MZD_ZCN Zona Outras Condicionantes Naturais.pdf"]
[null,40,"AZDZMT","            (33) - Zona De Montanha",33,1000,"1000 €","Zona De Montanha (mapa)",33,"            ","MZD_ZM Zona de Montanha.pdf"]
[null,41,"MAA","     (34) - Medidas Agroambientais",34,1000,"1000 €","Medidas Agroambientais",34,"     ","MAA_Medidas Agroambientais.pdf"]
[null,42,"MAAABC","            (35) - Maa-Agric.Biológica - Conv",35,1000,"1000 €","Maa-Agric.Biológica - Conv",35,"            ","MAAABC_Agricultura Biológica - Transitada da Produção Integrada.pdf"]
[null,43,"MAAABM","            (36) - Maa-Agric.Biológica - Manut",36,1000,"1000 €","Maa-Agric.Biológica - Manut",36,"            ","MAAABM_Agricultura Biológica – Manutenção.pdf"]
[null,44,"MAAAPI","            (37) - Apoio Agroambiental À Apicultura",37,1000,"1000 €","Apoio Agroambiental À Apicultura",37,"            ","MAAPI_apoio à Apicultura.pdf"]
[null,45,"MAACPD","            (38) - Maa - Douro Vinhateiro",38,1000,"1000 €","Maa - Douro Vinhateiro",38,"            ","MAACPD_apoio Douro Vinhateiro.pdf"]
[null,46,"MAACPT","            (39) - Culturas Permanentes Tradicionais",39,1000,"1000 €","Culturas Permanentes Tradicionais",39,"            ","MAACPT_ Culturas Permanentes Tradicionais.pdf"]
[null,47,"MAACSE","            (40) - Maa-Conservação Solo-Enr.Entr",40,1000,"1000 €","Maa-Conservação Solo-Enr.Entr",40,"            ","MAACSE_Conservação do Solo - Enrelvamento da Entrelinha de Culturas Permanentes.pdf"]
[null,48,"MAACSS","            (41) - Maa-Conservação Solo-Sem Dir",41,1000,"1000 €","Maa-Conservação Solo-Sem Dir",41,"            ","MAACSS_Conservação do Solo - Sementeira Direta ou Mobilização na Linha.pdf"]
[null,49,"MAAMAF","            (42) - Mosaico Agroflorestal",42,1000,"1000 €","Mosaico Agroflorestal",42,"            ","MAAMAF_ Mosaico AgroFlorestal.pdf"]
[null,50,"MAAMNS","            (43) - Maa - Soutos Notáveis",43,1000,"1000 €","Maa - Soutos Notáveis",43,"            ","MAAMNS_Conservação dos Soutos Notáveis da Terra Fria.pdf"]
[null,51,"MAAPDI","            (44) - Maa - Produçao Integrada",44,1000,"1000 €","Maa - Produçao Integrada",44,"            ","MAAPDI_Produção Integrada.pdf"]
[null,52,"MAAPGP","            (45) - Maa - Az Peneda/Gerês",45,1000,"1000 €","Maa - Az Peneda/Gerês",45,"            ","MAAPGP_Gestão de Pastoreio em áreas de Baldio -Peneda_Gerês.pdf"]
[null,53,"MAAPGS","            (46) - Maa - Manut. Socalcos",46,1000,"1000 €","Maa - Manut. Socalcos",46,"            ","MAAPGS_Manutenção de Socalcos - Peneda_Gerês.pdf"]
[null,54,"MAAPLR","            (47) - Maa - Lameiros De Regadio",47,1000,"1000 €","Maa - Lameiros De Regadio",47,"            ","MAAPLR_Pastoreio Extensivo - Apoio à Manutenção de Lameiros de Alto Valor Natural - Regadio.pdf"]
[null,55,"MAAPLS","            (48) - Maa - Lameiros De Sequeiro",48,1000,"1000 €","Maa - Lameiros De Sequeiro",48,"            ","MAAPLS_Pastoreio Extensivo - Apoio à Manutenção de Lameiros de Alto Valor Natural –  Sequeiro.pdf"]
[null,56,"MAAPMT","            (49) - Maa - Pastoreio Extensivo Ii",49,1000,"1000 €","Maa - Pastoreio Extensivo Ii",49,"            ","MAAPMT_Pastoreio Extensivo -Apoio à Manutenção de Sistemas Agro-silvo-pastoris sob Montado.pdf"]
[null,57,"MAAPPL","            (50) - Maa - Pastoreio Extensivo Iii",50,1000,"1000 €","Maa - Pastoreio Extensivo Iii",50,"            ","MAAPPL_Pastoreio Extensivo - Apoio à Proteção do Lobo Ibérico.pdf"]
[null,58,"MAARAE","            (51) - Maa - Rot. De Seq Iii",51,1000,"1000 €","Maa - Rot. De Seq Iii",51,"            ","MAARAE_Manutenção de Rotação de Sequeiro Cereal-Pousio - Outras Áreas Estepárias.pdf"]
[null,59,"MAARCV","            (52) - Maa - Rot. De Seq Ii",52,1000,"1000 €","Maa - Rot. De Seq Ii",52,"            ","MAARCV_Manutenção de Rotação de Sequeiro Cereal-Pousio AZ Castro Verde.pdf"]
[null,60,"MAARGN","            (53) - Raças",53,1000,"1000 €","Raças",53,"            ","MAARGN_ Recursos Genéticos – Manutenção de Raças Autóctones em risco.pdf"]
[null,61,"MAAROA","            (54) - Maa - Rot. De Seq I",54,1000,"1000 €","Maa - Rot. De Seq I",54,"            ","MAAROA_Manutenção de Rotação de Sequeiro Cereal-Pousio - AZ Montesinho_Nogueira e Douro Internacional, Sabor, Maçãs e Vale do Côa.pdf"]
[null,62,"MAAUEA","            (55) - Uso Eficiente Da Água Na Agricultura",55,1000,"1000 €","Uso Eficiente Da Água Na Agricultura",55,"            ","MAAUEA_Uso Eficiente da Água na Agricultura.pdf"]
[null,63,"PAg_Natura","            (56) - Pagamentos Natura",56,1000,"1000 €","Pagamentos Natura",56,"            ","PAgamentos_natura2018.pdf"]
[null,64,null,"(57) - Total de Pagamentos aos Produtores (15+29)",57,1000,"1000 €","Total de Pagamentos aos Produtores (15+29)",57,null,""]
[null,65,"Cereais_seq","     (58) - Superfície de Cereais De Outono-Inverno",58,1,"ha","Superfície de Cereais De Outono-Inverno",58,"     ",""]
[null,66,"Milho_grao","     (59) - Superfície de Milho Grão; ",59,1,"ha","Superfície de Milho Grão; ",59,"     ",""]
[null,67,"Arroz","     (60) - Superfície de Arroz; ",60,1,"ha","Superfície de Arroz; ",60,"     ",""]
[null,68,"Oleag_proteag","     (61) - Superfície de Oleaginosas E Proteaginosas; ",61,1,"ha","Superfície de Oleaginosas E Proteaginosas; ",61,"     ",""]
[null,69,"Horticolas","     (62) - Superfície de Hortícolas, Batata, Plantas E Flores; ",62,1,"ha","Superfície de Hortícolas, Batata, Plantas E Flores; ",62,"     ",""]
[null,70,"Forrag_prados_temp","     (63) - Superfície de Forragens E Prados Temporários; ",63,1,"ha","Superfície de Forragens E Prados Temporários; ",63,"     ",""]
[null,71,"Pousios","     (64) - Superfície de Pousios; ",64,1,"ha","Superfície de Pousios; ",64,"     ",""]
[null,72,"Pomares","     (65) - Superfície de Pomares; ",65,1,"ha","Superfície de Pomares; ",65,"     ",""]
[null,73,"Vinha","     (66) - Superfície de Vinha; ",66,1,"ha","Superfície de Vinha; ",66,"     ",""]
[null,74,"Olival","     (67) - Superfície de Olival; ",67,1,"ha","Superfície de Olival; ",{"$f":"+E75","v":67},"     ",""]
[null,75,"Past_prados_perm","     (68) - Superfície de Prados E Pastagens Permanentes; ",68,1,"ha","Superfície de Prados E Pastagens Permanentes; ",68,"     ",""]
[null,76,"Vacas_leite1","     (69) - Cabeças de Vacas Leiteiras",69,1,"Cab.","Cabeças de Vacas Leiteiras",69,"     ",""]
[null,77,"Vacas_aleit1","     (70) - Cabeças de Vacas Aleitantes",70,1,"Cab.","Cabeças de Vacas Aleitantes",70,"     ",""]
[null,78,"Outros_bov","     (71) - Cabeças de Outros Bovinos",71,1,"Cab.","Cabeças de Outros Bovinos",71,"     ",""]
[null,79,"Ovelhas","     (72) - Cabeças de Ovelhas",72,1,"Cab.","Cabeças de Ovelhas",72,"     ",""]
[null,80,"Outros_ovinos","     (73) - Cabeças de Outros Ovinos",73,1,"Cab.","Cabeças de Outros Ovinos",73,"     ",""]
[null,81,"Cabras","     (74) - Cabeças de Cabras",74,1,"Cab.","Cabeças de Cabras",74,"     ","www.gpp.pt"]
[null,82,"Outros_cap","     (75) - Cabeças de Outros Caprinos",75,1,"Cab.","Cabeças de Outros Caprinos",75,"     ",""]
[null,83,"PI_N","            (76) - Número de Produtores Maa - Produçao Integrada",76,1,"Nº ","Número de Produtores Maa - Produçao Integrada",76,"            ",""]
[null,84,"PI_SAU","            (77) - SA Declarada para Maa - Produçao Integrada",77,1,"ha","SA Declarada para Maa - Produçao Integrada",77,"            ","MAAPDI_PI_SAU.pdf"]
[null,85,"PABC_N","            (78) - Número de Produtores Maa-Agric.Biológica - Conv",78,1,"Nº ","Número de Produtores Maa-Agric.Biológica - Conv",78,"            ",""]
[null,86,"PABC_SAU","            (79) - SA Declarada para Maa-Agric.Biológica - Conv",79,1,"ha","SA Declarada para Maa-Agric.Biológica - Conv",79,"            ","MAAABC_PABC_SAU.pdf"]
[null,87,"PABM_N","            (80) - Número de Produtores Maa-Agric.Biológica - Manut",80,1,"Nº ","Número de Produtores Maa-Agric.Biológica - Manut",80,"            ",""]
[null,88,"PABM_SAU","            (81) - SA Declarada para Maa-Agric.Biológica - Manut",81,1,"ha","SA Declarada para Maa-Agric.Biológica - Manut",81,"            ","MAAABM_PABM_SAU.pdf"]
[null,89,"PUEA_N","            (82) - Número de Produtores Uso Eficiente Da Água Na Agricultura",82,1,"Nº ","Número de Produtores Uso Eficiente Da Água Na Agricultura",82,"            ",""]
[null,90,"PUEA_SAU","            (83) - SA Declarada para Uso Eficiente Da Água Na Agricultura",83,1,"ha","SA Declarada para Uso Eficiente Da Água Na Agricultura",83,"            ","MAAUEA_PUEA_SAU_Uso Eficiente da Água na Agricultura.pdf"]
[null,91,"PCPT_N","            (84) - Número de Produtores Culturas Permanentes Tradicionais",84,1,"Nº ","Número de Produtores Culturas Permanentes Tradicionais",84,"            ",""]
[null,92,"PCPT_SAU","            (85) - SA Declarada para Culturas Permanentes Tradicionais",85,1,"ha","SA Declarada para Culturas Permanentes Tradicionais",85,"            ","MAACPT_PCPT_SAU_Culturas Permanentes Tradicionais.pdf"]
[null,93,"PCSS_N","            (86) - Número de Produtores Maa-Conservação Solo-Sem Dir",86,1,"Nº ","Número de Produtores Maa-Conservação Solo-Sem Dir",86,"            ",""]
[null,94,"PCSS_SAU","            (87) - SA Declarada para Maa-Conservação Solo-Sem Dir",87,1,"ha","SA Declarada para Maa-Conservação Solo-Sem Dir",87,"            ","MAACSS_PCSS_SAU_Conservação do Solo - Sementeira Direta ou mobilização na linha.pdf"]
[null,95,"PCSE_N","            (88) - Número de Produtores Maa-Conservação Solo-Enr.Entr",88,1,"Nº ","Número de Produtores Maa-Conservação Solo-Enr.Entr",88,"            ",""]
[null,96,"PCSE_SAU","            (89) - SA Declarada para Maa-Conservação Solo-Enr.Entr",89,1,"ha","SA Declarada para Maa-Conservação Solo-Enr.Entr",89,"            ","MAACSE_PCSE_SAU_Conservação do Solo - Enrelvamento da Entrelinha de culuras permanentes.pdf"]
[null,97,"PPLS_N","            (90) - Número de Produtores Maa - Lameiros De Sequeiro",90,1,"Nº ","Número de Produtores Maa - Lameiros De Sequeiro",90,"            ",""]
[null,98,"PPLS_SAU","            (91) - SA Declarada para Maa - Lameiros De Sequeiro",91,1,"ha","SA Declarada para Maa - Lameiros De Sequeiro",91,"            ","MAAPLS_PPLS_SAU_Pastoreio Extensivo - Apoio à Manutenção de Lameiros de Alto Valor Natural –  Sequeiro.pdf"]
[null,99,"PPLR_N","            (92) - Número de Produtores Maa - Lameiros De Regadio",92,1,"Nº ","Número de Produtores Maa - Lameiros De Regadio",92,"            ",""]
[null,100,"PPLR_SAU","            (93) - SA Declarada para Maa - Lameiros De Regadio",93,1,"ha","SA Declarada para Maa - Lameiros De Regadio",93,"            ","MAAPLR_PPLR_SAU_Pastoreio Extensivo - Apoio à Manutenção de Lameiros de Alto Valor Natural –  Regadio.pdf"]
[null,101,"PPMT_N","            (94) - Número de Produtores Maa -Pastoreio Extensivo -Apoio à Manutenção de Sistemas Agro-silvo-pastoris sob Montado Ii",94,1,"Nº ","Número de Produtores Maa -Pastoreio Extensivo -Apoio à Manutenção de Sistemas Agro-silvo-pastoris sob Montado Ii",94,"            ",""]
[null,102,"PPMT_SAU","            (95) - SA Declarada para Maa - Pastoreio Extensivo -Apoio à Manutenção de Sistemas Agro-silvo-pastoris sob Montado Ii",95,1,"ha","SA Declarada para Maa - Pastoreio Extensivo -Apoio à Manutenção de Sistemas Agro-silvo-pastoris sob Montado Ii",95,"            ","MAAPPMT_PPMT_SAU_Pastoreio Extensivo -Apoio à Manutenção de Sistemas Agro-silvo-pastoris sob Montado.pdf"]
[null,103,"PPPL_N","            (96) - Número de Produtores Maa - Pastoreio Extensivo Apoio à Proteção do Lobo Ibérico",96,1,"Nº ","Número de Produtores Maa - Pastoreio Extensivo Apoio à Proteção do Lobo Ibérico",96,"            ",""]
[null,104,"PPPL_SAU","            (97) - SA Declarada para Maa - Pastoreio Extensivo Apoio à Proteção do Lobo Ibérico",97,1,"ha","SA Declarada para Maa - Pastoreio Extensivo Apoio à Proteção do Lobo Ibérico",97,"            ","MAAPPL_SAU_Pastoreio Extensivo - Apoio à Proteção do Lobo Ibérico.pdf"]
[null,105]
[null,106]

{"sheet":"Sheet3","index":7,"n_rows":31,"n_cols":122,"rows_kept":31,"cut":false,"hidden":true,"merged":[]}
[null,1,1,null,22,{"$f":"+INDEX(Sheet6!F2:F117,C1)","v":1}]
[1,{"$f":"+A2-1","v":0}]
[{"$f":"+INDEX(Sheet6!Q1:Q5,Sheet3!A2)","v":"<5"},null,{"$f":"SUM(I8:M8)","v":301},0,0,0,0,0,"1_1","1_1","1_1","1_1","1_1","1_2","1_2","1_2","1_2","1_2",2,2,2,2,2,3,3,3,3,3,4,4,4,4,4,5,5,5,5,5,6,6,6,6,6,7,7,7,7,7,8,8,8,8,8,9,9,9,9,9,"10_1","10_1","10_1","10_1","10_1","10_15","10_15","10_15","10_15","10_15","10_2","10_2","10_2","10_2","10_2",11,11,11,11,11,12,12,12,12,12,13,13,13,13,13,14,14,14,14,14,15,15,15,15,15,0,"1_1","1_2",2,3,4,5,6,7,8,9,"10_1","10_15","10_2",11,12,13,14,15,1,2,3,4,5]
[null,null,null,1,2,3,4,5,1,2,3,4,5,1,2,3,4,5,1,2,3,4,5,1,2,3,4,5,1,2,3,4,5,1,2,3,4,5,1,2,3,4,5,1,2,3,4,5,1,2,3,4,5,1,2,3,4,5,1,2,3,4,5,1,2,3,4,5,1,2,3,4,5,1,2,3,4,5,1,2,3,4,5,1,2,3,4,5,1,2,3,4,5,1,2,3,4,5,null,null,null,null,null,null,null,null,null,null,null,null,null,null,null,null,null,null,null,1,2,3,4,5]
[null,null,null,null,null,null,null,null,"Arvenses e Outras Cult pred. Regadio","Arvenses e Outras Cult pred. Regadio","Arvenses e Outras Cult pred. Regadio","Arvenses e Outras Cult pred. Regadio","Arvenses e Outras Cult pred. Regadio","Arvenses e Outras Cult pred. Sequeiro","Arvenses e Outras Cult pred. Sequeiro","Arvenses e Outras Cult pred. Sequeiro","Arvenses e Outras Cult pred. Sequeiro","Arvenses e Outras Cult pred. Sequeiro","Arroz","Arroz","Arroz","Arroz","Arroz","Horticultura e Industriais","Horticultura e Industriais","Horticultura e Industriais","Horticultura e Industriais","Horticultura e Industriais","Horticultura e Floricultura","Horticultura e Floricultura","Horticultura e Floricultura","Horticultura e Floricultura","Horticultura e Floricultura","Vinhos","Vinhos"]
[null,null,null,null,null,null,null,null,"Muito Pequenas","Pequenas","Médias","Grandes","Muito Grandes","Muito Pequenas","Pequenas","Médias","Grandes","Muito Grandes","Muito Pequenas","Pequenas","Médias","Grandes","Muito Grandes","Muito Pequenas","Pequenas","Médias","Grandes","Muito Grandes","Muito Pequenas","Pequenas","Médias","Grandes","Muito Grandes","Muito Pequenas","Pequenas"]
[null,null,"NUT'S III"]
[1,"111","Alto Minho",{"$f":"+SUMIFS(Sheet4!$DM$2:$DM$8408,Sheet4!$C$2:$C$8408,Sheet3!$B8,Sheet4!$D$2:$D$8408,Sheet3!D$3,Sheet4!$E$2:$E$8408,Sheet3!D$4,Sheet4!$A$2:$A$8408,Sheet3!$B$1,Sheet4!$B$2:$B$8408,Sheet3!$A$3)","v":0},{"$f":"+SUMIFS(Sheet4!$DM$2:$DM$8408,Sheet4!$C$2:$C$8408,Sheet3!$B8,Sheet4!$D$2:$D$8408,Sheet3!E$3,Sheet4!$E$2:$E$8408,Sheet3!E$4,Sheet4!$A$2:$A$8408,Sheet3!$B$1,Sheet4!$B$2:$B$8408,Sheet3!$A$3)","v":0},{"$f":"+SUMIFS(Sheet4!$DM$2:$DM$8408,Sheet4!$C$2:$C$8408,Sheet3!$B8,Sheet4!$D$2:$D$8408,Sheet3!F$3,Sheet4!$E$2:$E$8408,Sheet3!F$4,Sheet4!$A$2:$A$8408,Sheet3!$B$1,Sheet4!$B$2:$B$8408,Sheet3!$A$3)","v":0},{"$f":"+SUMIFS(Sheet4!$DM$2:$DM$8408,Sheet4!$C$2:$C$8408,Sheet3!$B8,Sheet4!$D$2:$D$8408,Sheet3!G$3,Sheet4!$E$2:$E$8408,Sheet3!G$4,Sheet4!$A$2:$A$8408,Sheet3!$B$1,Sheet4!$B$2:$B$8408,Sheet3!$A$3)","v":0},{"$f":"+SUMIFS(Sheet4!$DM$2:$DM$8408,Sheet4!$C$2:$C$8408,Sheet3!$B8,Sheet4!$D$2:$D$8408,Sheet3!H$3,Sheet4!$E$2:$E$8408,Sheet3!H$4,Sheet4!$A$2:$A$8408,Sheet3!$B$1,Sheet4!$B$2:$B$8408,Sheet3!$A$3)","v":0},{"$f":"+SUMIFS(Sheet4!$DM$2:$DM$8408,Sheet4!$C$2:$C$8408,Sheet3!$B8,Sheet4!$D$2:$D$8408,Sheet3!I$3,Sheet4!$E$2:$E$8408,Sheet3!I$4,Sheet4!$A$2:$A$8408,Sheet3!$B$1,Sheet4!$B$2:$B$8408,Sheet3!$A$3)","v":288},{"$f":"+SUMIFS(Sheet4!$DM$2:$DM$8408,Sheet4!$C$2:$C$8408,Sheet3!$B8,Sheet4!$D$2:$D$8408,Sheet3!J$3,Sheet4!$E$2:$E$8408,Sheet3!J$4,Sheet4!$A$2:$A$8408,Sheet3!$B$1,Sheet4!$B$2:$B$8408,Sheet3!$A$3)","v":13},{"$f":"+SUMIFS(Sheet4!$DM$2:$DM$8408,Sheet4!$C$2:$C$8408,Sheet3!$B8,Sheet4!$D$2:$D$8408,Sheet3!K$3,Sheet4!$E$2:$E$8408,Sheet3!K$4,Sheet4!$A$2:$A$8408,Sheet3!$B$1,Sheet4!$B$2:$B$8408,Sheet3!$A$3)","v":0},{"$f":"+SUMIFS(Sheet4!$DM$2:$DM$8408,Sheet4!$C$2:$C$8408,Sheet3!$B8,Sheet4!$D$2:$D$8408,Sheet3!L$3,Sheet4!$E$2:$E$8408,Sheet3!L$4,Sheet4!$A$2:$A$8408,Sheet3!$B$1,Sheet4!$B$2:$B$8408,Sheet3!$A$3)","v":0},{"$f":"+SUMIFS(Sheet4!$DM$2:$DM$8408,Sheet4!$C$2:$C$8408,Sheet3!$B8,Sheet4!$D$2:$D$8408,Sheet3!M$3,Sheet4!$E$2:$E$8408,Sheet3!M$4,Sheet4!$A$2:$A$8408,Sheet3!$B$1,Sheet4!$B$2:$B$8408,Sheet3!$A$3)","v":0},{"$f":"+SUMIFS(Sheet4!$DM$2:$DM$8408,Sheet4!$C$2:$C$8408,Sheet3!$B8,Sheet4!$D$2:$D$8408,Sheet3!N$3,Sheet4!$E$2:$E$8408,Sheet3!N$4,Sheet4!$A$2:$A$8408,Sheet3!$B$1,Sheet4!$B$2:$B$8408,Sheet3!$A$3)","v":128},{"$f":"+SUMIFS(Sheet4!$DM$2:$DM$8408,Sheet4!$C$2:$C$8408,Sheet3!$B8,Sheet4!$D$2:$D$8408,Sheet3!O$3,Sheet4!$E$2:$E$8408,Sheet3!O$4,Sheet4!$A$2:$A$8408,Sheet3!$B$1,Sheet4!$B$2:$B$8408,Sheet3!$A$3)","v":5},{"$f":"+SUMIFS(Sheet4!$DM$2:$DM$8408,Sheet4!$C$2:$C$8408,Sheet3!$B8,Sheet4!$D$2:$D$8408,Sheet3!P$3,Sheet4!$E$2:$E$8408,Sheet3!P$4,Sheet4!$A$2:$A$8408,Sheet3!$B$1,Sheet4!$B$2:$B$8408,Sheet3!$A$3)","v":0},{"$f":"+SUMIFS(Sheet4!$DM$2:$DM$8408,Sheet4!$C$2:$C$8408,Sheet3!$B8,Sheet4!$D$2:$D$8408,Sheet3!Q$3,Sheet4!$E$2:$E$8408,Sheet3!Q$4,Sheet4!$A$2:$A$8408,Sheet3!$B$1,Sheet4!$B$2:$B$8408,Sheet3!$A$3)","v":0},{"$f":"+SUMIFS(Sheet4!$DM$2:$DM$8408,Sheet4!$C$2:$C$8408,Sheet3!$B8,Sheet4!$D$2:$D$8408,Sheet3!R$3,Sheet4!$E$2:$E$8408,Sheet3!R$4,Sheet4!$A$2:$A$8408,Sheet3!$B$1,Sheet4!$B$2:$B$8408,Sheet3!$A$3)","v":0},{"$f":"+SUMIFS(Sheet4!$DM$2:$DM$8408,Sheet4!$C$2:$C$8408,Sheet3!$B8,Sheet4!$D$2:$D$8408,Sheet3!S$3,Sheet4!$E$2:$E$8408,Sheet3!S$4,Sheet4!$A$2:$A$8408,Sheet3!$B$1,Sheet4!$B$2:$B$8408,Sheet3!$A$3)","v":0},{"$f":"+SUMIFS(Sheet4!$DM$2:$DM$8408,Sheet4!$C$2:$C$8408,Sheet3!$B8,Sheet4!$D$2:$D$8408,Sheet3!T$3,Sheet4!$E$2:$E$8408,Sheet3!T$4,Sheet4!$A$2:$A$8408,Sheet3!$B$1,Sheet4!$B$2:$B$8408,Sheet3!$A$3)","v":0},{"$f":"+SUMIFS(Sheet4!$DM$2:$DM$8408,Sheet4!$C$2:$C$8408,Sheet3!$B8,Sheet4!$D$2:$D$8408,Sheet3!U$3,Sheet4!$E$2:$E$8408,Sheet3!U$4,Sheet4!$A$2:$A$8408,Sheet3!$B$1,Sheet4!$B$2:$B$8408,Sheet3!$A$3)","v":0},{"$f":"+SUMIFS(Sheet4!$DM$2:$DM$8408,Sheet4!$C$2:$C$8408,Sheet3!$B8,Sheet4!$D$2:$D$8408,Sheet3!V$3,Sheet4!$E$2:$E$8408,Sheet3!V$4,Sheet4!$A$2:$A$8408,Sheet3!$B$1,Sheet4!$B$2:$B$8408,Sheet3!$A$3)","v":0},{"$f":"+SUMIFS(Sheet4!$DM$2:$DM$8408,Sheet4!$C$2:$C$8408,Sheet3!$B8,Sheet4!$D$2:$D$8408,Sheet3!W$3,Sheet4!$E$2:$E$8408,Sheet3!W$4,Sheet4!$A$2:$A$8408,Sheet3!$B$1,Sheet4!$B$2:$B$8408,Sheet3!$A$3)","v":0},{"$f":"+SUMIFS(Sheet4!$DM$2:$DM$8408,Sheet4!$C$2:$C$8408,Sheet3!$B8,Sheet4!$D$2:$D$8408,Sheet3!X$3,Sheet4!$E$2:$E$8408,Sheet3!X$4,Sheet4!$A$2:$A$8408,Sheet3!$B$1,Sheet4!$B$2:$B$8408,Sheet3!$A$3)","v":0},{"$f":"+SUMIFS(Sheet4!$DM$2:$DM$8408,Sheet4!$C$2:$C$8408,Sheet3!$B8,Sheet4!$D$2:$D$8408,Sheet3!Y$3,Sheet4!$E$2:$E$8408,Sheet3!Y$4,Sheet4!$A$2:$A$8408,Sheet3!$B$1,Sheet4!$B$2:$B$8408,Sheet3!$A$3)","v":0},{"$f":"+SUMIFS(Sheet4!$DM$2:$DM$8408,Sheet4!$C$2:$C$8408,Sheet3!$B8,Sheet4!$D$2:$D$8408,Sheet3!Z$3,Sheet4!$E$2:$E$8408,Sheet3!Z$4,Sheet4!$A$2:$A$8408,Sheet3!$B$1,Sheet4!$B$2:$B$8408,Sheet3!$A$3)","v":0},{"$f":"+SUMIFS(Sheet4!$DM$2:$DM$8408,Sheet4!$C$2:$C$8408,Sheet3!$B8,Sheet4!$D$2:$D$8408,Sheet3!AA$3,Sheet4!$E$2:$E$8408,Sheet3!AA$4,Sheet4!$A$2:$A$8408,Sheet3!$B$1,Sheet4!$B$2:$B$8408,Sheet3!$A$3)","v":0},{"$f":"+SUMIFS(Sheet4!$DM$2:$DM$8408,Sheet4!$C$2:$C$8408,Sheet3!$B8,Sheet4!$D$2:$D$8408,Sheet3!AB$3,Sheet4!$E$2:$E$8408,Sheet3!AB$4,Sheet4!$A$2:$A$8408,Sheet3!$B$1,Sheet4!$B$2:$B$8408,Sheet3!$A$3)","v":0},{"$f":"+SUMIFS(Sheet4!$DM$2:$DM$8408,Sheet4!$C$2:$C$8408,Sheet3!$B8,Sheet4!$D$2:$D$8408,Sheet3!AC$3,Sheet4!$E$2:$E$8408,Sheet3!AC$4,Sheet4!$A$2:$A$8408,Sheet3!$B$1,Sheet4!$B$2:$B$8408,Sheet3!$A$3)","v":83},{"$f":"+SUMIFS(Sheet4!$DM$2:$DM$8408,Sheet4!$C$2:$C$8408,Sheet3!$B8,Sheet4!$D$2:$D$8408,Sheet3!AD$3,Sheet4!$E$2:$E$8408,Sheet3!AD$4,Sheet4!$A$2:$A$8408,Sheet3!$B$1,Sheet4!$B$2:$B$8408,Sheet3!$A$3)","v":73},{"$f":"+SUMIFS(Sheet4!$DM$2:$DM$8408,Sheet4!$C$2:$C$8408,Sheet3!$B8,Sheet4!$D$2:$D$8408,Sheet3!AE$3,Sheet4!$E$2:$E$8408,Sheet3!AE$4,Sheet4!$A$2:$A$8408,Sheet3!$B$1,Sheet4!$B$2:$B$8408,Sheet3!$A$3)","v":18},{"$f":"+SUMIFS(Sheet4!$DM$2:$DM$8408,Sheet4!$C$2:$C$8408,Sheet3!$B8,Sheet4!$D$2:$D$8408,Sheet3!AF$3,Sheet4!$E$2:$E$8408,Sheet3!AF$4,Sheet4!$A$2:$A$8408,Sheet3!$B$1,Sheet4!$B$2:$B$8408,Sheet3!$A$3)","v":4},{"$f":"+SUMIFS(Sheet4!$DM$2:$DM$8408,Sheet4!$C$2:$C$8408,Sheet3!$B8,Sheet4!$D$2:$D$8408,Sheet3!AG$3,Sheet4!$E$2:$E$8408,Sheet3!AG$4,Sheet4!$A$2:$A$8408,Sheet3!$B$1,Sheet4!$B$2:$B$8408,Sheet3!$A$3)","v":0},{"$f":"+SUMIFS(Sheet4!$DM$2:$DM$8408,Sheet4!$C$2:$C$8408,Sheet3!$B8,Sheet4!$D$2:$D$8408,Sheet3!AH$3,Sheet4!$E$2:$E$8408,Sheet3!AH$4,Sheet4!$A$2:$A$8408,Sheet3!$B$1,Sheet4!$B$2:$B$8408,Sheet3!$A$3)","v":379},{"$f":"+SUMIFS(Sheet4!$DM$2:$DM$8408,Sheet4!$C$2:$C$8408,Sheet3!$B8,Sheet4!$D$2:$D$8408,Sheet3!AI$3,Sheet4!$E$2:$E$8408,Sheet3!AI$4,Sheet4!$A$2:$A$8408,Sheet3!$B$1,Sheet4!$B$2:$B$8408,Sheet3!$A$3)","v":353},{"$f":"+SUMIFS(Sheet4!$DM$2:$DM$8408,Sheet4!$C$2:$C$8408,Sheet3!$B8,Sheet4!$D$2:$D$8408,Sheet3!AJ$3,Sheet4!$E$2:$E$8408,Sheet3!AJ$4,Sheet4!$A$2:$A$8408,Sheet3!$B$1,Sheet4!$B$2:$B$8408,Sheet3!$A$3)","v":29},{"$f":"+SUMIFS(Sheet4!$DM$2:$DM$8408,Sheet4!$C$2:$C$8408,Sheet3!$B8,Sheet4!$D$2:$D$8408,Sheet3!AK$3,Sheet4!$E$2:$E$8408,Sheet3!AK$4,Sheet4!$A$2:$A$8408,Sheet3!$B$1,Sheet4!$B$2:$B$8408,Sheet3!$A$3)","v":0},{"$f":"+SUMIFS(Sheet4!$DM$2:$DM$8408,Sheet4!$C$2:$C$8408,Sheet3!$B8,Sheet4!$D$2:$D$8408,Sheet3!AL$3,Sheet4!$E$2:$E$8408,Sheet3!AL$4,Sheet4!$A$2:$A$8408,Sheet3!$B$1,Sheet4!$B$2:$B$8408,Sheet3!$A$3)","v":0},{"$f":"+SUMIFS(Sheet4!$DM$2:$DM$8408,Sheet4!$C$2:$C$8408,Sheet3!$B8,Sheet4!$D$2:$D$8408,Sheet3!AM$3,Sheet4!$E$2:$E$8408,Sheet3!AM$4,Sheet4!$A$2:$A$8408,Sheet3!$B$1,Sheet4!$B$2:$B$8408,Sheet3!$A$3)","v":42},{"$f":"+SUMIFS(Sheet4!$DM$2:$DM$8408,Sheet4!$C$2:$C$8408,Sheet3!$B8,Sheet4!$D$2:$D$8408,Sheet3!AN$3,Sheet4!$E$2:$E$8408,Sheet3!AN$4,Sheet4!$A$2:$A$8408,Sheet3!$B$1,Sheet4!$B$2:$B$8408,Sheet3!$A$3)","v":68},{"$f":"+SUMIFS(Sheet4!$DM$2:$DM$8408,Sheet4!$C$2:$C$8408,Sheet3!$B8,Sheet4!$D$2:$D$8408,Sheet3!AO$3,Sheet4!$E$2:$E$8408,Sheet3!AO$4,Sheet4!$A$2:$A$8408,Sheet3!$B$1,Sheet4!$B$2:$B$8408,Sheet3!$A$3)","v":58},{"$f":"+SUMIFS(Sheet4!$DM$2:$DM$8408,Sheet4!$C$2:$C$8408,Sheet3!$B8,Sheet4!$D$2:$D$8408,Sheet3!AP$3,Sheet4!$E$2:$E$8408,Sheet3!AP$4,Sheet4!$A$2:$A$8408,Sheet3!$B$1,Sheet4!$B$2:$B$8408,Sheet3!$A$3)","v":3},{"$f":"+SUMIFS(Sheet4!$DM$2:$DM$8408,Sheet4!$C$2:$C$8408,Sheet3!$B8,Sheet4!$D$2:$D$8408,Sheet3!AQ$3,Sheet4!$E$2:$E$8408,Sheet3!AQ$4,Sheet4!$A$2:$A$8408,Sheet3!$B$1,Sheet4!$B$2:$B$8408,Sheet3!$A$3)","v":0},{"$f":"+SUMIFS(Sheet4!$DM$2:$DM$8408,Sheet4!$C$2:$C$8408,Sheet3!$B8,Sheet4!$D$2:$D$8408,Sheet3!AR$3,Sheet4!$E$2:$E$8408,Sheet3!AR$4,Sheet4!$A$2:$A$8408,Sheet3!$B$1,Sheet4!$B$2:$B$8408,Sheet3!$A$3)","v":0},{"$f":"+SUMIFS(Sheet4!$DM$2:$DM$8408,Sheet4!$C$2:$C$8408,Sheet3!$B8,Sheet4!$D$2:$D$8408,Sheet3!AS$3,Sheet4!$E$2:$E$8408,Sheet3!AS$4,Sheet4!$A$2:$A$8408,Sheet3!$B$1,Sheet4!$B$2:$B$8408,Sheet3!$A$3)","v":0},{"$f":"+SUMIFS(Sheet4!$DM$2:$DM$8408,Sheet4!$C$2:$C$8408,Sheet3!$B8,Sheet4!$D$2:$D$8408,Sheet3!AT$3,Sheet4!$E$2:$E$8408,Sheet3!AT$4,Sheet4!$A$2:$A$8408,Sheet3!$B$1,Sheet4!$B$2:$B$8408,Sheet3!$A$3)","v":0},{"$f":"+SUMIFS(Sheet4!$DM$2:$DM$8408,Sheet4!$C$2:$C$8408,Sheet3!$B8,Sheet4!$D$2:$D$8408,Sheet3!AU$3,Sheet4!$E$2:$E$8408,Sheet3!AU$4,Sheet4!$A$2:$A$8408,Sheet3!$B$1,Sheet4!$B$2:$B$8408,Sheet3!$A$3)","v":0},{"$f":"+SUMIFS(Sheet4!$DM$2:$DM$8408,Sheet4!$C$2:$C$8408,Sheet3!$B8,Sheet4!$D$2:$D$8408,Sheet3!AV$3,Sheet4!$E$2:$E$8408,Sheet3!AV$4,Sheet4!$A$2:$A$8408,Sheet3!$B$1,Sheet4!$B$2:$B$8408,Sheet3!$A$3)","v":0},{"$f":"+SUMIFS(Sheet4!$DM$2:$DM$8408,Sheet4!$C$2:$C$8408,Sheet3!$B8,Sheet4!$D$2:$D$8408,Sheet3!AW$3,Sheet4!$E$2:$E$8408,Sheet3!AW$4,Sheet4!$A$2:$A$8408,Sheet3!$B$1,Sheet4!$B$2:$B$8408,Sheet3!$A$3)","v":1935},{"$f":"+SUMIFS(Sheet4!$DM$2:$DM$8408,Sheet4!$C$2:$C$8408,Sheet3!$B8,Sheet4!$D$2:$D$8408,Sheet3!AX$3,Sheet4!$E$2:$E$8408,Sheet3!AX$4,Sheet4!$A$2:$A$8408,Sheet3!$B$1,Sheet4!$B$2:$B$8408,Sheet3!$A$3)","v":332},{"$f":"+SUMIFS(Sheet4!$DM$2:$DM$8408,Sheet4!$C$2:$C$8408,Sheet3!$B8,Sheet4!$D$2:$D$8408,Sheet3!AY$3,Sheet4!$E$2:$E$8408,Sheet3!AY$4,Sheet4!$A$2:$A$8408,Sheet3!$B$1,Sheet4!$B$2:$B$8408,Sheet3!$A$3)","v":8},{"$f":"+SUMIFS(Sheet4!$DM$2:$DM$8408,Sheet4!$C$2:$C$8408,Sheet3!$B8,Sheet4!$D$2:$D$8408,Sheet3!AZ$3,Sheet4!$E$2:$E$8408,Sheet3!AZ$4,Sheet4!$A$2:$A$8408,Sheet3!$B$1,Sheet4!$B$2:$B$8408,Sheet3!$A$3)","v":0},{"$f":"+SUMIFS(Sheet4!$DM$2:$DM$8408,Sheet4!$C$2:$C$8408,Sheet3!$B8,Sheet4!$D$2:$D$8408,Sheet3!BA$3,Sheet4!$E$2:$E$8408,Sheet3!BA$4,Sheet4!$A$2:$A$8408,Sheet3!$B$1,Sheet4!$B$2:$B$8408,Sheet3!$A$3)","v":0},{"$f":"+SUMIFS(Sheet4!$DM$2:$DM$8408,Sheet4!$C$2:$C$8408,Sheet3!$B8,Sheet4!$D$2:$D$8408,Sheet3!BB$3,Sheet4!$E$2:$E$8408,Sheet3!BB$4,Sheet4!$A$2:$A$8408,Sheet3!$B$1,Sheet4!$B$2:$B$8408,Sheet3!$A$3)","v":0},{"$f":"+SUMIFS(Sheet4!$DM$2:$DM$8408,Sheet4!$C$2:$C$8408,Sheet3!$B8,Sheet4!$D$2:$D$8408,Sheet3!BC$3,Sheet4!$E$2:$E$8408,Sheet3!BC$4,Sheet4!$A$2:$A$8408,Sheet3!$B$1,Sheet4!$B$2:$B$8408,Sheet3!$A$3)","v":5},{"$f":"+SUMIFS(Sheet4!$DM$2:$DM$8408,Sheet4!$C$2:$C$8408,Sheet3!$B8,Sheet4!$D$2:$D$8408,Sheet3!BD$3,Sheet4!$E$2:$E$8408,Sheet3!BD$4,Sheet4!$A$2:$A$8408,Sheet3!$B$1,Sheet4!$B$2:$B$8408,Sheet3!$A$3)","v":17},{"$f":"+SUMIFS(Sheet4!$DM$2:$DM$8408,Sheet4!$C$2:$C$8408,Sheet3!$B8,Sheet4!$D$2:$D$8408,Sheet3!BE$3,Sheet4!$E$2:$E$8408,Sheet3!BE$4,Sheet4!$A$2:$A$8408,Sheet3!$B$1,Sheet4!$B$2:$B$8408,Sheet3!$A$3)","v":36},{"$f":"+SUMIFS(Sheet4!$DM$2:$DM$8408,Sheet4!$C$2:$C$8408,Sheet3!$B8,Sheet4!$D$2:$D$8408,Sheet3!BF$3,Sheet4!$E$2:$E$8408,Sheet3!BF$4,Sheet4!$A$2:$A$8408,Sheet3!$B$1,Sheet4!$B$2:$B$8408,Sheet3!$A$3)","v":0},{"$f":"+SUMIFS(Sheet4!$DM$2:$DM$8408,Sheet4!$C$2:$C$8408,Sheet3!$B8,Sheet4!$D$2:$D$8408,Sheet3!BG$3,Sheet4!$E$2:$E$8408,Sheet3!BG$4,Sheet4!$A$2:$A$8408,Sheet3!$B$1,Sheet4!$B$2:$B$8408,Sheet3!$A$3)","v":123},{"$f":"+SUMIFS(Sheet4!$DM$2:$DM$8408,Sheet4!$C$2:$C$8408,Sheet3!$B8,Sheet4!$D$2:$D$8408,Sheet3!BH$3,Sheet4!$E$2:$E$8408,Sheet3!BH$4,Sheet4!$A$2:$A$8408,Sheet3!$B$1,Sheet4!$B$2:$B$8408,Sheet3!$A$3)","v":128},{"$f":"+SUMIFS(Sheet4!$DM$2:$DM$8408,Sheet4!$C$2:$C$8408,Sheet3!$B8,Sheet4!$D$2:$D$8408,Sheet3!BI$3,Sheet4!$E$2:$E$8408,Sheet3!BI$4,Sheet4!$A$2:$A$8408,Sheet3!$B$1,Sheet4!$B$2:$B$8408,Sheet3!$A$3)","v":20},{"$f":"+SUMIFS(Sheet4!$DM$2:$DM$8408,Sheet4!$C$2:$C$8408,Sheet3!$B8,Sheet4!$D$2:$D$8408,Sheet3!BJ$3,Sheet4!$E$2:$E$8408,Sheet3!BJ$4,Sheet4!$A$2:$A$8408,Sheet3!$B$1,Sheet4!$B$2:$B$8408,Sheet3!$A$3)","v":0},{"$f":"+SUMIFS(Sheet4!$DM$2:$DM$8408,Sheet4!$C$2:$C$8408,Sheet3!$B8,Sheet4!$D$2:$D$8408,Sheet3!BK$3,Sheet4!$E$2:$E$8408,Sheet3!BK$4,Sheet4!$A$2:$A$8408,Sheet3!$B$1,Sheet4!$B$2:$B$8408,Sheet3!$A$3)","v":0},{"$f":"+SUMIFS(Sheet4!$DM$2:$DM$8408,Sheet4!$C$2:$C$8408,Sheet3!$B8,Sheet4!$D$2:$D$8408,Sheet3!BL$3,Sheet4!$E$2:$E$8408,Sheet3!BL$4,Sheet4!$A$2:$A$8408,Sheet3!$B$1,Sheet4!$B$2:$B$8408,Sheet3!$A$3)","v":76},{"$f":"+SUMIFS(Sheet4!$DM$2:$DM$8408,Sheet4!$C$2:$C$8408,Sheet3!$B8,Sheet4!$D$2:$D$8408,Sheet3!BM$3,Sheet4!$E$2:$E$8408,Sheet3!BM$4,Sheet4!$A$2:$A$8408,Sheet3!$B$1,Sheet4!$B$2:$B$8408,Sheet3!$A$3)","v":93},{"$f":"+SUMIFS(Sheet4!$DM$2:$DM$8408,Sheet4!$C$2:$C$8408,Sheet3!$B8,Sheet4!$D$2:$D$8408,Sheet3!BN$3,Sheet4!$E$2:$E$8408,Sheet3!BN$4,Sheet4!$A$2:$A$8408,Sheet3!$B$1,Sheet4!$B$2:$B$8408,Sheet3!$A$3)","v":15},{"$f":"+SUMIFS(Sheet4!$DM$2:$DM$8408,Sheet4!$C$2:$C$8408,Sheet3!$B8,Sheet4!$D$2:$D$8408,Sheet3!BO$3,Sheet4!$E$2:$E$8408,Sheet3!BO$4,Sheet4!$A$2:$A$8408,Sheet3!$B$1,Sheet4!$B$2:$B$8408,Sheet3!$A$3)","v":0},{"$f":"+SUMIFS(Sheet4!$DM$2:$DM$8408,Sheet4!$C$2:$C$8408,Sheet3!$B8,Sheet4!$D$2:$D$8408,Sheet3!BP$3,Sheet4!$E$2:$E$8408,Sheet3!BP$4,Sheet4!$A$2:$A$8408,Sheet3!$B$1,Sheet4!$B$2:$B$8408,Sheet3!$A$3)","v":0},{"$f":"+SUMIFS(Sheet4!$DM$2:$DM$8408,Sheet4!$C$2:$C$8408,Sheet3!$B8,Sheet4!$D$2:$D$8408,Sheet3!BQ$3,Sheet4!$E$2:$E$8408,Sheet3!BQ$4,Sheet4!$A$2:$A$8408,Sheet3!$B$1,Sheet4!$B$2:$B$8408,Sheet3!$A$3)","v":209},{"$f":"+SUMIFS(Sheet4!$DM$2:$DM$8408,Sheet4!$C$2:$C$8408,Sheet3!$B8,Sheet4!$D$2:$D$8408,Sheet3!BR$3,Sheet4!$E$2:$E$8408,Sheet3!BR$4,Sheet4!$A$2:$A$8408,Sheet3!$B$1,Sheet4!$B$2:$B$8408,Sheet3!$A$3)","v":463},{"$f":"+SUMIFS(Sheet4!$DM$2:$DM$8408,Sheet4!$C$2:$C$8408,Sheet3!$B8,Sheet4!$D$2:$D$8408,Sheet3!BS$3,Sheet4!$E$2:$E$8408,Sheet3!BS$4,Sheet4!$A$2:$A$8408,Sheet3!$B$1,Sheet4!$B$2:$B$8408,Sheet3!$A$3)","v":152},{"$f":"+SUMIFS(Sheet4!$DM$2:$DM$8408,Sheet4!$C$2:$C$8408,Sheet3!$B8,Sheet4!$D$2:$D$8408,Sheet3!BT$3,Sheet4!$E$2:$E$8408,Sheet3!BT$4,Sheet4!$A$2:$A$8408,Sheet3!$B$1,Sheet4!$B$2:$B$8408,Sheet3!$A$3)","v":24},{"$f":"+SUMIFS(Sheet4!$DM$2:$DM$8408,Sheet4!$C$2:$C$8408,Sheet3!$B8,Sheet4!$D$2:$D$8408,Sheet3!BU$3,Sheet4!$E$2:$E$8408,Sheet3!BU$4,Sheet4!$A$2:$A$8408,Sheet3!$B$1,Sheet4!$B$2:$B$8408,Sheet3!$A$3)","v":10},{"$f":"+SUMIFS(Sheet4!$DM$2:$DM$8408,Sheet4!$C$2:$C$8408,Sheet3!$B8,Sheet4!$D$2:$D$8408,Sheet3!BV$3,Sheet4!$E$2:$E$8408,Sheet3!BV$4,Sheet4!$A$2:$A$8408,Sheet3!$B$1,Sheet4!$B$2:$B$8408,Sheet3!$A$3)","v":692},{"$f":"+SUMIFS(Sheet4!$DM$2:$DM$8408,Sheet4!$C$2:$C$8408,Sheet3!$B8,Sheet4!$D$2:$D$8408,Sheet3!BW$3,Sheet4!$E$2:$E$8408,Sheet3!BW$4,Sheet4!$A$2:$A$8408,Sheet3!$B$1,Sheet4!$B$2:$B$8408,Sheet3!$A$3)","v":579},{"$f":"+SUMIFS(Sheet4!$DM$2:$DM$8408,Sheet4!$C$2:$C$8408,Sheet3!$B8,Sheet4!$D$2:$D$8408,Sheet3!BX$3,Sheet4!$E$2:$E$8408,Sheet3!BX$4,Sheet4!$A$2:$A$8408,Sheet3!$B$1,Sheet4!$B$2:$B$8408,Sheet3!$A$3)","v":40},{"$f":"+SUMIFS(Sheet4!$DM$2:$DM$8408,Sheet4!$C$2:$C$8408,Sheet3!$B8,Sheet4!$D$2:$D$8408,Sheet3!BY$3,Sheet4!$E$2:$E$8408,Sheet3!BY$4,Sheet4!$A$2:$A$8408,Sheet3!$B$1,Sheet4!$B$2:$B$8408,Sheet3!$A$3)","v":0},{"$f":"+SUMIFS(Sheet4!$DM$2:$DM$8408,Sheet4!$C$2:$C$8408,Sheet3!$B8,Sheet4!$D$2:$D$8408,Sheet3!BZ$3,Sheet4!$E$2:$E$8408,Sheet3!BZ$4,Sheet4!$A$2:$A$8408,Sheet3!$B$1,Sheet4!$B$2:$B$8408,Sheet3!$A$3)","v":0},{"$f":"+SUMIFS(Sheet4!$DM$2:$DM$8408,Sheet4!$C$2:$C$8408,Sheet3!$B8,Sheet4!$D$2:$D$8408,Sheet3!CA$3,Sheet4!$E$2:$E$8408,Sheet3!CA$4,Sheet4!$A$2:$A$8408,Sheet3!$B$1,Sheet4!$B$2:$B$8408,Sheet3!$A$3)","v":746},{"$f":"+SUMIFS(Sheet4!$DM$2:$DM$8408,Sheet4!$C$2:$C$8408,Sheet3!$B8,Sheet4!$D$2:$D$8408,Sheet3!CB$3,Sheet4!$E$2:$E$8408,Sheet3!CB$4,Sheet4!$A$2:$A$8408,Sheet3!$B$1,Sheet4!$B$2:$B$8408,Sheet3!$A$3)","v":320},{"$f":"+SUMIFS(Sheet4!$DM$2:$DM$8408,Sheet4!$C$2:$C$8408,Sheet3!$B8,Sheet4!$D$2:$D$8408,Sheet3!CC$3,Sheet4!$E$2:$E$8408,Sheet3!CC$4,Sheet4!$A$2:$A$8408,Sheet3!$B$1,Sheet4!$B$2:$B$8408,Sheet3!$A$3)","v":5},{"$f":"+SUMIFS(Sheet4!$DM$2:$DM$8408,Sheet4!$C$2:$C$8408,Sheet3!$B8,Sheet4!$D$2:$D$8408,Sheet3!CD$3,Sheet4!$E$2:$E$8408,Sheet3!CD$4,Sheet4!$A$2:$A$8408,Sheet3!$B$1,Sheet4!$B$2:$B$8408,Sheet3!$A$3)","v":0},{"$f":"+SUMIFS(Sheet4!$DM$2:$DM$8408,Sheet4!$C$2:$C$8408,Sheet3!$B8,Sheet4!$D$2:$D$8408,Sheet3!CE$3,Sheet4!$E$2:$E$8408,Sheet3!CE$4,Sheet4!$A$2:$A$8408,Sheet3!$B$1,Sheet4!$B$2:$B$8408,Sheet3!$A$3)","v":0},{"$f":"+SUMIFS(Sheet4!$DM$2:$DM$8408,Sheet4!$C$2:$C$8408,Sheet3!$B8,Sheet4!$D$2:$D$8408,Sheet3!CF$3,Sheet4!$E$2:$E$8408,Sheet3!CF$4,Sheet4!$A$2:$A$8408,Sheet3!$B$1,Sheet4!$B$2:$B$8408,Sheet3!$A$3)","v":312},{"$f":"+SUMIFS(Sheet4!$DM$2:$DM$8408,Sheet4!$C$2:$C$8408,Sheet3!$B8,Sheet4!$D$2:$D$8408,Sheet3!CG$3,Sheet4!$E$2:$E$8408,Sheet3!CG$4,Sheet4!$A$2:$A$8408,Sheet3!$B$1,Sheet4!$B$2:$B$8408,Sheet3!$A$3)","v":27},{"$f":"+SUMIFS(Sheet4!$DM$2:$DM$8408,Sheet4!$C$2:$C$8408,Sheet3!$B8,Sheet4!$D$2:$D$8408,Sheet3!CH$3,Sheet4!$E$2:$E$8408,Sheet3!CH$4,Sheet4!$A$2:$A$8408,Sheet3!$B$1,Sheet4!$B$2:$B$8408,Sheet3!$A$3)","v":3},{"$f":"+SUMIFS(Sheet4!$DM$2:$DM$8408,Sheet4!$C$2:$C$8408,Sheet3!$B8,Sheet4!$D$2:$D$8408,Sheet3!CI$3,Sheet4!$E$2:$E$8408,Sheet3!CI$4,Sheet4!$A$2:$A$8408,Sheet3!$B$1,Sheet4!$B$2:$B$8408,Sheet3!$A$3)","v":0},{"$f":"+SUMIFS(Sheet4!$DM$2:$DM$8408,Sheet4!$C$2:$C$8408,Sheet3!$B8,Sheet4!$D$2:$D$8408,Sheet3!CJ$3,Sheet4!$E$2:$E$8408,Sheet3!CJ$4,Sheet4!$A$2:$A$8408,Sheet3!$B$1,Sheet4!$B$2:$B$8408,Sheet3!$A$3)","v":0},{"$f":"+SUMIFS(Sheet4!$DM$2:$DM$8408,Sheet4!$C$2:$C$8408,Sheet3!$B8,Sheet4!$D$2:$D$8408,Sheet3!CK$3,Sheet4!$E$2:$E$8408,Sheet3!CK$4,Sheet4!$A$2:$A$8408,Sheet3!$B$1,Sheet4!$B$2:$B$8408,Sheet3!$A$3)","v":0},{"$f":"+SUMIFS(Sheet4!$DM$2:$DM$8408,Sheet4!$C$2:$C$8408,Sheet3!$B8,Sheet4!$D$2:$D$8408,Sheet3!CL$3,Sheet4!$E$2:$E$8408,Sheet3!CL$4,Sheet4!$A$2:$A$8408,Sheet3!$B$1,Sheet4!$B$2:$B$8408,Sheet3!$A$3)","v":0},{"$f":"+SUMIFS(Sheet4!$DM$2:$DM$8408,Sheet4!$C$2:$C$8408,Sheet3!$B8,Sheet4!$D$2:$D$8408,Sheet3!CM$3,Sheet4!$E$2:$E$8408,Sheet3!CM$4,Sheet4!$A$2:$A$8408,Sheet3!$B$1,Sheet4!$B$2:$B$8408,Sheet3!$A$3)","v":0},{"$f":"+SUMIFS(Sheet4!$DM$2:$DM$8408,Sheet4!$C$2:$C$8408,Sheet3!$B8,Sheet4!$D$2:$D$8408,Sheet3!CN$3,Sheet4!$E$2:$E$8408,Sheet3!CN$4,Sheet4!$A$2:$A$8408,Sheet3!$B$1,Sheet4!$B$2:$B$8408,Sheet3!$A$3)","v":0},{"$f":"+SUMIFS(Sheet4!$DM$2:$DM$8408,Sheet4!$C$2:$C$8408,Sheet3!$B8,Sheet4!$D$2:$D$8408,Sheet3!CO$3,Sheet4!$E$2:$E$8408,Sheet3!CO$4,Sheet4!$A$2:$A$8408,Sheet3!$B$1,Sheet4!$B$2:$B$8408,Sheet3!$A$3)","v":0},{"$f":"+SUMIFS(Sheet4!$DM$2:$DM$8408,Sheet4!$C$2:$C$8408,Sheet3!$B8,Sheet4!$D$2:$D$8408,Sheet3!CP$3,Sheet4!$E$2:$E$8408,Sheet3!CP$4,Sheet4!$A$2:$A$8408,Sheet3!$B$1,Sheet4!$B$2:$B$8408,Sheet3!$A$3)","v":0},{"$f":"+SUMIFS(Sheet4!$DM$2:$DM$8408,Sheet4!$C$2:$C$8408,Sheet3!$B8,Sheet4!$D$2:$D$8408,Sheet3!CQ$3,Sheet4!$E$2:$E$8408,Sheet3!CQ$4,Sheet4!$A$2:$A$8408,Sheet3!$B$1,Sheet4!$B$2:$B$8408,Sheet3!$A$3)","v":0},{"$f":"+SUMIFS(Sheet4!$DM$2:$DM$8408,Sheet4!$C$2:$C$8408,Sheet3!$B8,Sheet4!$D$2:$D$8408,Sheet3!CR$3,Sheet4!$E$2:$E$8408,Sheet3!CR$4,Sheet4!$A$2:$A$8408,Sheet3!$B$1,Sheet4!$B$2:$B$8408,Sheet3!$A$3)","v":0},{"$f":"+SUMIFS(Sheet4!$DM$2:$DM$8408,Sheet4!$C$2:$C$8408,Sheet3!$B8,Sheet4!$D$2:$D$8408,Sheet3!CS$3,Sheet4!$E$2:$E$8408,Sheet3!CS$4,Sheet4!$A$2:$A$8408,Sheet3!$B$1,Sheet4!$B$2:$B$8408,Sheet3!$A$3)","v":0},{"$f":"+SUMIFS(Sheet4!$DM$2:$DM$8408,Sheet4!$C$2:$C$8408,Sheet3!$B8,Sheet4!$D$2:$D$8408,Sheet3!CT$3,Sheet4!$E$2:$E$8408,Sheet3!CT$4,Sheet4!$A$2:$A$8408,Sheet3!$B$1,Sheet4!$B$2:$B$8408,Sheet3!$A$3)","v":0},{"$f":"+IF(SUMIFS(Sheet4!$DN$2:$DN$8408,Sheet4!$C$2:$C$8408,Sheet3!$B8,Sheet4!$D$2:$D$8408,Sheet3!CU$3,Sheet4!$A$2:$A$8408,Sheet3!$B$1,Sheet4!$B$2:$B$8408,Sheet3!$A$3)<3,0,SUMIFS(Sheet4!$DN$2:$DN$8408,Sheet4!$C$2:$C$8408,Sheet3!$B8,Sheet4!$D$2:$D$8408,Sheet3!CU$3,Sheet4!$A$2:$A$8408,Sheet3!$B$1,Sheet4!$B$2:$B$8408,Sheet3!$A$3))","v":0},{"$f":"+IF(SUMIFS(Sheet4!$DN$2:$DN$8408,Sheet4!$C$2:$C$8408,Sheet3!$B8,Sheet4!$D$2:$D$8408,Sheet3!CV$3,Sheet4!$A$2:$A$8408,Sheet3!$B$1,Sheet4!$B$2:$B$8408,Sheet3!$A$3)<3,0,SUMIFS(Sheet4!$DN$2:$DN$8408,Sheet4!$C$2:$C$8408,Sheet3!$B8,Sheet4!$D$2:$D$8408,Sheet3!CV$3,Sheet4!$A$2:$A$8408,Sheet3!$B$1,Sheet4!$B$2:$B$8408,Sheet3!$A$3))","v":305},{"$f":"+IF(SUMIFS(Sheet4!$DN$2:$DN$8408,Sheet4!$C$2:$C$8408,Sheet3!$B8,Sheet4!$D$2:$D$8408,Sheet3!CW$3,Sheet4!$A$2:$A$8408,Sheet3!$B$1,Sheet4!$B$2:$B$8408,Sheet3!$A$3)<3,0,SUMIFS(Sheet4!$DN$2:$DN$8408,Sheet4!$C$2:$C$8408,Sheet3!$B8,Sheet4!$D$2:$D$8408,Sheet3!CW$3,Sheet4!$A$2:$A$8408,Sheet3!$B$1,Sheet4!$B$2:$B$8408,Sheet3!$A$3))","v":134},{"$f":"+IF(SUMIFS(Sheet4!$DN$2:$DN$8408,Sheet4!$C$2:$C$8408,Sheet3!$B8,Sheet4!$D$2:$D$8408,Sheet3!CX$3,Sheet4!$A$2:$A$8408,Sheet3!$B$1,Sheet4!$B$2:$B$8408,Sheet3!$A$3)<3,0,SUMIFS(Sheet4!$DN$2:$DN$8408,Sheet4!$C$2:$C$8408,Sheet3!$B8,Sheet4!$D$2:$D$8408,Sheet3!CX$3,Sheet4!$A$2:$A$8408,Sheet3!$B$1,Sheet4!$B$2:$B$8408,Sheet3!$A$3))","v":0},{"$f":"+IF(SUMIFS(Sheet4!$DN$2:$DN$8408,Sheet4!$C$2:$C$8408,Sheet3!$B8,Sheet4!$D$2:$D$8408,Sheet3!CY$3,Sheet4!$A$2:$A$8408,Sheet3!$B$1,Sheet4!$B$2:$B$8408,Sheet3!$A$3)<3,0,SUMIFS(Sheet4!$DN$2:$DN$8408,Sheet4!$C$2:$C$8408,Sheet3!$B8,Sheet4!$D$2:$D$8408,Sheet3!CY$3,Sheet4!$A$2:$A$8408,Sheet3!$B$1,Sheet4!$B$2:$B$8408,Sheet3!$A$3))","v":0},{"$f":"+IF(SUMIFS(Sheet4!$DN$2:$DN$8408,Sheet4!$C$2:$C$8408,Sheet3!$B8,Sheet4!$D$2:$D$8408,Sheet3!CZ$3,Sheet4!$A$2:$A$8408,Sheet3!$B$1,Sheet4!$B$2:$B$8408,Sheet3!$A$3)<3,0,SUMIFS(Sheet4!$DN$2:$DN$8408,Sheet4!$C$2:$C$8408,Sheet3!$B8,Sheet4!$D$2:$D$8408,Sheet3!CZ$3,Sheet4!$A$2:$A$8408,Sheet3!$B$1,Sheet4!$B$2:$B$8408,Sheet3!$A$3))","v":182},{"$f":"+IF(SUMIFS(Sheet4!$DN$2:$DN$8408,Sheet4!$C$2:$C$8408,Sheet3!$B8,Sheet4!$D$2:$D$8408,Sheet3!DA$3,Sheet4!$A$2:$A$8408,Sheet3!$B$1,Sheet4!$B$2:$B$8408,Sheet3!$A$3)<3,0,SUMIFS(Sheet4!$DN$2:$DN$8408,Sheet4!$C$2:$C$8408,Sheet3!$B8,Sheet4!$D$2:$D$8408,Sheet3!DA$3,Sheet4!$A$2:$A$8408,Sheet3!$B$1,Sheet4!$B$2:$B$8408,Sheet3!$A$3))","v":765},{"$f":"+IF(SUMIFS(Sheet4!$DN$2:$DN$8408,Sheet4!$C$2:$C$8408,Sheet3!$B8,Sheet4!$D$2:$D$8408,Sheet3!DB$3,Sheet4!$A$2:$A$8408,Sheet3!$B$1,Sheet4!$B$2:$B$8408,Sheet3!$A$3)<3,0,SUMIFS(Sheet4!$DN$2:$DN$8408,Sheet4!$C$2:$C$8408,Sheet3!$B8,Sheet4!$D$2:$D$8408,Sheet3!DB$3,Sheet4!$A$2:$A$8408,Sheet3!$B$1,Sheet4!$B$2:$B$8408,Sheet3!$A$3))","v":175},{"$f":"+IF(SUMIFS(Sheet4!$DN$2:$DN$8408,Sheet4!$C$2:$C$8408,Sheet3!$B8,Sheet4!$D$2:$D$8408,Sheet3!DC$3,Sheet4!$A$2:$A$8408,Sheet3!$B$1,Sheet4!$B$2:$B$8408,Sheet3!$A$3)<3,0,SUMIFS(Sheet4!$DN$2:$DN$8408,Sheet4!$C$2:$C$8408,Sheet3!$B8,Sheet4!$D$2:$D$8408,Sheet3!DC$3,Sheet4!$A$2:$A$8408,Sheet3!$B$1,Sheet4!$B$2:$B$8408,Sheet3!$A$3))","v":0},{"$f":"+IF(SUMIFS(Sheet4!$DN$2:$DN$8408,Sheet4!$C$2:$C$8408,Sheet3!$B8,Sheet4!$D$2:$D$8408,Sheet3!DD$3,Sheet4!$A$2:$A$8408,Sheet3!$B$1,Sheet4!$B$2:$B$8408,Sheet3!$A$3)<3,0,SUMIFS(Sheet4!$DN$2:$DN$8408,Sheet4!$C$2:$C$8408,Sheet3!$B8,Sheet4!$D$2:$D$8408,Sheet3!DD$3,Sheet4!$A$2:$A$8408,Sheet3!$B$1,Sheet4!$B$2:$B$8408,Sheet3!$A$3))","v":2279},{"$f":"+IF(SUMIFS(Sheet4!$DN$2:$DN$8408,Sheet4!$C$2:$C$8408,Sheet3!$B8,Sheet4!$D$2:$D$8408,Sheet3!DE$3,Sheet4!$A$2:$A$8408,Sheet3!$B$1,Sheet4!$B$2:$B$8408,Sheet3!$A$3)<3,0,SUMIFS(Sheet4!$DN$2:$DN$8408,Sheet4!$C$2:$C$8408,Sheet3!$B8,Sheet4!$D$2:$D$8408,Sheet3!DE$3,Sheet4!$A$2:$A$8408,Sheet3!$B$1,Sheet4!$B$2:$B$8408,Sheet3!$A$3))","v":61},{"$f":"+IF(SUMIFS(Sheet4!$DN$2:$DN$8408,Sheet4!$C$2:$C$8408,Sheet3!$B8,Sheet4!$D$2:$D$8408,Sheet3!DF$3,Sheet4!$A$2:$A$8408,Sheet3!$B$1,Sheet4!$B$2:$B$8408,Sheet3!$A$3)<3,0,SUMIFS(Sheet4!$DN$2:$DN$8408,Sheet4!$C$2:$C$8408,Sheet3!$B8,Sheet4!$D$2:$D$8408,Sheet3!DF$3,Sheet4!$A$2:$A$8408,Sheet3!$B$1,Sheet4!$B$2:$B$8408,Sheet3!$A$3))","v":272},{"$f":"+IF(SUMIFS(Sheet4!$DN$2:$DN$8408,Sheet4!$C$2:$C$8408,Sheet3!$B8,Sheet4!$D$2:$D$8408,Sheet3!DG$3,Sheet4!$A$2:$A$8408,Sheet3!$B$1,Sheet4!$B$2:$B$8408,Sheet3!$A$3)<3,0,SUMIFS(Sheet4!$DN$2:$DN$8408,Sheet4!$C$2:$C$8408,Sheet3!$B8,Sheet4!$D$2:$D$8408,Sheet3!DG$3,Sheet4!$A$2:$A$8408,Sheet3!$B$1,Sheet4!$B$2:$B$8408,Sheet3!$A$3))","v":186},{"$f":"+IF(SUMIFS(Sheet4!$DN$2:$DN$8408,Sheet4!$C$2:$C$8408,Sheet3!$B8,Sheet4!$D$2:$D$8408,Sheet3!DH$3,Sheet4!$A$2:$A$8408,Sheet3!$B$1,Sheet4!$B$2:$B$8408,Sheet3!$A$3)<3,0,SUMIFS(Sheet4!$DN$2:$DN$8408,Sheet4!$C$2:$C$8408,Sheet3!$B8,Sheet4!$D$2:$D$8408,Sheet3!DH$3,Sheet4!$A$2:$A$8408,Sheet3!$B$1,Sheet4!$B$2:$B$8408,Sheet3!$A$3))","v":860},{"$f":"+IF(SUMIFS(Sheet4!$DN$2:$DN$8408,Sheet4!$C$2:$C$8408,Sheet3!$B8,Sheet4!$D$2:$D$8408,Sheet3!DI$3,Sheet4!$A$2:$A$8408,Sheet3!$B$1,Sheet4!$B$2:$B$8408,Sheet3!$A$3)<3,0,SUMIFS(Sheet4!$DN$2:$DN$8408,Sheet4!$C$2:$C$8408,Sheet3!$B8,Sheet4!$D$2:$D$8408,Sheet3!DI$3,Sheet4!$A$2:$A$8408,Sheet3!$B$1,Sheet4!$B$2:$B$8408,Sheet3!$A$3))","v":1315},{"$f":"+IF(SUMIFS(Sheet4!$DN$2:$DN$8408,Sheet4!$C$2:$C$8408,Sheet3!$B8,Sheet4!$D$2:$D$8408,Sheet3!DJ$3,Sheet4!$A$2:$A$8408,Sheet3!$B$1,Sheet4!$B$2:$B$8408,Sheet3!$A$3)<3,0,SUMIFS(Sheet4!$DN$2:$DN$8408,Sheet4!$C$2:$C$8408,Sheet3!$B8,Sheet4!$D$2:$D$8408,Sheet3!DJ$3,Sheet4!$A$2:$A$8408,Sheet3!$B$1,Sheet4!$B$2:$B$8408,Sheet3!$A$3))","v":1071},{"$f":"+IF(SUMIFS(Sheet4!$DN$2:$DN$8408,Sheet4!$C$2:$C$8408,Sheet3!$B8,Sheet4!$D$2:$D$8408,Sheet3!DK$3,Sheet4!$A$2:$A$8408,Sheet3!$B$1,Sheet4!$B$2:$B$8408,Sheet3!$A$3)<3,0,SUMIFS(Sheet4!$DN$2:$DN$8408,Sheet4!$C$2:$C$8408,Sheet3!$B8,Sheet4!$D$2:$D$8408,Sheet3!DK$3,Sheet4!$A$2:$A$8408,Sheet3!$B$1,Sheet4!$B$2:$B$8408,Sheet3!$A$3))","v":344},{"$f":"+IF(SUMIFS(Sheet4!$DN$2:$DN$8408,Sheet4!$C$2:$C$8408,Sheet3!$B8,Sheet4!$D$2:$D$8408,Sheet3!DL$3,Sheet4!$A$2:$A$8408,Sheet3!$B$1,Sheet4!$B$2:$B$8408,Sheet3!$A$3)<3,0,SUMIFS(Sheet4!$DN$2:$DN$8408,Sheet4!$C$2:$C$8408,Sheet3!$B8,Sheet4!$D$2:$D$8408,Sheet3!DL$3,Sheet4!$A$2:$A$8408,Sheet3!$B$1,Sheet4!$B$2:$B$8408,Sheet3!$A$3))","v":0},{"$f":"+IF(SUMIFS(Sheet4!$DN$2:$DN$8408,Sheet4!$C$2:$C$8408,Sheet3!$B8,Sheet4!$D$2:$D$8408,Sheet3!DM$3,Sheet4!$A$2:$A$8408,Sheet3!$B$1,Sheet4!$B$2:$B$8408,Sheet3!$A$3)<3,0,SUMIFS(Sheet4!$DN$2:$DN$8408,Sheet4!$C$2:$C$8408,Sheet3!$B8,Sheet4!$D$2:$D$8408,Sheet3!DM$3,Sheet4!$A$2:$A$8408,Sheet3!$B$1,Sheet4!$B$2:$B$8408,Sheet3!$A$3))","v":0},{"$f":"+IF(SUMIFS(Sheet4!$DN$2:$DN$8408,Sheet4!$C$2:$C$8408,Sheet3!$B8,Sheet4!$E$2:$E$8408,Sheet3!DN$4,Sheet4!$A$2:$A$8408,Sheet3!$B$1,Sheet4!$B$2:$B$8408,Sheet3!$A$3)<3,0,SUMIFS(Sheet4!$DN$2:$DN$8408,Sheet4!$C$2:$C$8408,Sheet3!$B8,Sheet4!$E$2:$E$8408,Sheet3!DN$4,Sheet4!$A$2:$A$8408,Sheet3!$B$1,Sheet4!$B$2:$B$8408,Sheet3!$A$3))","v":5020},{"$f":"+IF(SUMIFS(Sheet4!$DN$2:$DN$8408,Sheet4!$C$2:$C$8408,Sheet3!$B8,Sheet4!$E$2:$E$8408,Sheet3!DO$4,Sheet4!$A$2:$A$8408,Sheet3!$B$1,Sheet4!$B$2:$B$8408,Sheet3!$A$3)<3,0,SUMIFS(Sheet4!$DN$2:$DN$8408,Sheet4!$C$2:$C$8408,Sheet3!$B8,Sheet4!$E$2:$E$8408,Sheet3!DO$4,Sheet4!$A$2:$A$8408,Sheet3!$B$1,Sheet4!$B$2:$B$8408,Sheet3!$A$3))","v":2468},{"$f":"+IF(SUMIFS(Sheet4!$DN$2:$DN$8408,Sheet4!$C$2:$C$8408,Sheet3!$B8,Sheet4!$E$2:$E$8408,Sheet3!DP$4,Sheet4!$A$2:$A$8408,Sheet3!$B$1,Sheet4!$B$2:$B$8408,Sheet3!$A$3)<3,0,SUMIFS(Sheet4!$DN$2:$DN$8408,Sheet4!$C$2:$C$8408,Sheet3!$B8,Sheet4!$E$2:$E$8408,Sheet3!DP$4,Sheet4!$A$2:$A$8408,Sheet3!$B$1,Sheet4!$B$2:$B$8408,Sheet3!$A$3))","v":377},{"$f":"+IF(SUMIFS(Sheet4!$DN$2:$DN$8408,Sheet4!$C$2:$C$8408,Sheet3!$B8,Sheet4!$E$2:$E$8408,Sheet3!DQ$4,Sheet4!$A$2:$A$8408,Sheet3!$B$1,Sheet4!$B$2:$B$8408,Sheet3!$A$3)<3,0,SUMIFS(Sheet4!$DN$2:$DN$8408,Sheet4!$C$2:$C$8408,Sheet3!$B8,Sheet4!$E$2:$E$8408,Sheet3!DQ$4,Sheet4!$A$2:$A$8408,Sheet3!$B$1,Sheet4!$B$2:$B$8408,Sheet3!$A$3))","v":76},{"$f":"+IF(SUMIFS(Sheet4!$DN$2:$DN$8408,Sheet4!$C$2:$C$8408,Sheet3!$B8,Sheet4!$E$2:$E$8408,Sheet3!DR$4,Sheet4!$A$2:$A$8408,Sheet3!$B$1,Sheet4!$B$2:$B$8408,Sheet3!$A$3)<3,0,SUMIFS(Sheet4!$DN$2:$DN$8408,Sheet4!$C$2:$C$8408,Sheet3!$B8,Sheet4!$E$2:$E$8408,Sheet3!DR$4,Sheet4!$A$2:$A$8408,Sheet3!$B$1,Sheet4!$B$2:$B$8408,Sheet3!$A$3))","v":13}]
[1,"112","Cávado",{"$f":"+SUMIFS(Sheet4!$DM$2:$DM$8408,Sheet4!$C$2:$C$8408,Sheet3!$B9,Sheet4!$D$2:$D$8408,Sheet3!D$3,Sheet4!$E$2:$E$8408,Sheet3!D$4,Sheet4!$A$2:$A$8408,Sheet3!$B$1,Sheet4!$B$2:$B$8408,Sheet3!$A$3)","v":0},{"$f":"+SUMIFS(Sheet4!$DM$2:$DM$8408,Sheet4!$C$2:$C$8408,Sheet3!$B9,Sheet4!$D$2:$D$8408,Sheet3!E$3,Sheet4!$E$2:$E$8408,Sheet3!E$4,Sheet4!$A$2:$A$8408,Sheet3!$B$1,Sheet4!$B$2:$B$8408,Sheet3!$A$3)","v":0},{"$f":"+SUMIFS(Sheet4!$DM$2:$DM$8408,Sheet4!$C$2:$C$8408,Sheet3!$B9,Sheet4!$D$2:$D$8408,Sheet3!F$3,Sheet4!$E$2:$E$8408,Sheet3!F$4,Sheet4!$A$2:$A$8408,Sheet3!$B$1,Sheet4!$B$2:$B$8408,Sheet3!$A$3)","v":0},{"$f":"+SUMIFS(Sheet4!$DM$2:$DM$8408,Sheet4!$C$2:$C$8408,Sheet3!$B9,Sheet4!$D$2:$D$8408,Sheet3!G$3,Sheet4!$E$2:$E$8408,Sheet3!G$4,Sheet4!$A$2:$A$8408,Sheet3!$B$1,Sheet4!$B$2:$B$8408,Sheet3!$A$3)","v":0},{"$f":"+SUMIFS(Sheet4!$DM$2:$DM$8408,Sheet4!$C$2:$C$8408,Sheet3!$B9,Sheet4!$D$2:$D$8408,Sheet3!H$3,Sheet4!$E$2:$E$8408,Sheet3!H$4,Sheet4!$A$2:$A$8408,Sheet3!$B$1,Sheet4!$B$2:$B$8408,Sheet3!$A$3)","v":0},{"$f":"+SUMIFS(Sheet4!$DM$2:$DM$8408,Sheet4!$C$2:$C$8408,Sheet3!$B9,Sheet4!$D$2:$D$8408,Sheet3!I$3,Sheet4!$E$2:$E$8408,Sheet3!I$4,Sheet4!$A$2:$A$8408,Sheet3!$B$1,Sheet4!$B$2:$B$8408,Sheet3!$A$3)","v":883},{"$f":"+SUMIFS(Sheet4!$DM$2:$DM$8408,Sheet4!$C$2:$C$8408,Sheet3!$B9,Sheet4!$D$2:$D$8408,Sheet3!J$3,Sheet4!$E$2:$E$8408,Sheet3!J$4,Sheet4!$A$2:$A$8408,Sheet3!$B$1,Sheet4!$B$2:$B$8408,Sheet3!$A$3)","v":113},{"$f":"+SUMIFS(Sheet4!$DM$2:$DM$8408,Sheet4!$C$2:$C$8408,Sheet3!$B9,Sheet4!$D$2:$D$8408,Sheet3!K$3,Sheet4!$E$2:$E$8408,Sheet3!K$4,Sheet4!$A$2:$A$8408,Sheet3!$B$1,Sheet4!$B$2:$B$8408,Sheet3!$A$3)","v":5},{"$f":"+SUMIFS(Sheet4!$DM$2:$DM$8408,Sheet4!$C$2:$C$8408,Sheet3!$B9,Sheet4!$D$2:$D$8408,Sheet3!L$3,Sheet4!$E$2:$E$8408,Sheet3!L$4,Sheet4!$A$2:$A$8408,Sheet3!$B$1,Sheet4!$B$2:$B$8408,Sheet3!$A$3)","v":6},{"$f":"+SUMIFS(Sheet4!$DM$2:$DM$8408,Sheet4!$C$2:$C$8408,Sheet3!$B9,Sheet4!$D$2:$D$8408,Sheet3!M$3,Sheet4!$E$2:$E$8408,Sheet3!M$4,Sheet4!$A$2:$A$8408,Sheet3!$B$1,Sheet4!$B$2:$B$8408,Sheet3!$A$3)","v":0},{"$f":"+SUMIFS(Sheet4!$DM$2:$DM$8408,Sheet4!$C$2:$C$8408,Sheet3!$B9,Sheet4!$D$2:$D$8408,Sheet3!N$3,Sheet4!$E$2:$E$8408,Sheet3!N$4,Sheet4!$A$2:$A$8408,Sheet3!$B$1,Sheet4!$B$2:$B$8408,Sheet3!$A$3)","v":283},{"$f":"+SUMIFS(Sheet4!$DM$2:$DM$8408,Sheet4!$C$2:$C$8408,Sheet3!$B9,Sheet4!$D$2:$D$8408,Sheet3!O$3,Sheet4!$E$2:$E$8408,Sheet3!O$4,Sheet4!$A$2:$A$8408,Sheet3!$B$1,Sheet4!$B$2:$B$8408,Sheet3!$A$3)","v":32},{"$f":"+SUMIFS(Sheet4!$DM$2:$DM$8408,Sheet4!$C$2:$C$8408,Sheet3!$B9,Sheet4!$D$2:$D$8408,Sheet3!P$3,Sheet4!$E$2:$E$8408,Sheet3!P$4,Sheet4!$A$2:$A$8408,Sheet3!$B$1,Sheet4!$B$2:$B$8408,Sheet3!$A$3)","v":0},{"$f":"+SUMIFS(Sheet4!$DM$2:$DM$8408,Sheet4!$C$2:$C$8408,Sheet3!$B9,Sheet4!$D$2:$D$8408,Sheet3!Q$3,Sheet4!$E$2:$E$8408,Sheet3!Q$4,Sheet4!$A$2:$A$8408,Sheet3!$B$1,Sheet4!$B$2:$B$8408,Sheet3!$A$3)","v":0},{"$f":"+SUMIFS(Sheet4!$DM$2:$DM$8408,Sheet4!$C$2:$C$8408,Sheet3!$B9,Sheet4!$D$2:$D$8408,Sheet3!R$3,Sheet4!$E$2:$E$8408,Sheet3!R$4,Sheet4!$A$2:$A$8408,Sheet3!$B$1,Sheet4!$B$2:$B$8408,Sheet3!$A$3)","v":0},{"$f":"+SUMIFS(Sheet4!$DM$2:$DM$8408,Sheet4!$C$2:$C$8408,Sheet3!$B9,Sheet4!$D$2:$D$8408,Sheet3!S$3,Sheet4!$E$2:$E$8408,Sheet3!S$4,Sheet4!$A$2:$A$8408,Sheet3!$B$1,Sheet4!$B$2:$B$8408,Sheet3!$A$3)","v":0},{"$f":"+SUMIFS(Sheet4!$DM$2:$DM$8408,Sheet4!$C$2:$C$8408,Sheet3!$B9,Sheet4!$D$2:$D$8408,Sheet3!T$3,Sheet4!$E$2:$E$8408,Sheet3!T$4,Sheet4!$A$2:$A$8408,Sheet3!$B$1,Sheet4!$B$2:$B$8408,Sheet3!$A$3)","v":0},{"$f":"+SUMIFS(Sheet4!$DM$2:$DM$8408,Sheet4!$C$2:$C$8408,Sheet3!$B9,Sheet4!$D$2:$D$8408,Sheet3!U$3,Sheet4!$E$2:$E$8408,Sheet3!U$4,Sheet4!$A$2:$A$8408,Sheet3!$B$1,Sheet4!$B$2:$B$8408,Sheet3!$A$3)","v":0},{"$f":"+SUMIFS(Sheet4!$DM$2:$DM$8408,Sheet4!$C$2:$C$8408,Sheet3!$B9,Sheet4!$D$2:$D$8408,Sheet3!V$3,Sheet4!$E$2:$E$8408,Sheet3!V$4,Sheet4!$A$2:$A$8408,Sheet3!$B$1,Sheet4!$B$2:$B$8408,Sheet3!$A$3)","v":0},{"$f":"+SUMIFS(Sheet4!$DM$2:$DM$8408,Sheet4!$C$2:$C$8408,Sheet3!$B9,Sheet4!$D$2:$D$8408,Sheet3!W$3,Sheet4!$E$2:$E$8408,Sheet3!W$4,Sheet4!$A$2:$A$8408,Sheet3!$B$1,Sheet4!$B$2:$B$8408,Sheet3!$A$3)","v":0},{"$f":"+SUMIFS(Sheet4!$DM$2:$DM$8408,Sheet4!$C$2:$C$8408,Sheet3!$B9,Sheet4!$D$2:$D$8408,Sheet3!X$3,Sheet4!$E$2:$E$8408,Sheet3!X$4,Sheet4!$A$2:$A$8408,Sheet3!$B$1,Sheet4!$B$2:$B$8408,Sheet3!$A$3)","v":0},{"$f":"+SUMIFS(Sheet4!$DM$2:$DM$8408,Sheet4!$C$2:$C$8408,Sheet3!$B9,Sheet4!$D$2:$D$8408,Sheet3!Y$3,Sheet4!$E$2:$E$8408,Sheet3!Y$4,Sheet4!$A$2:$A$8408,Sheet3!$B$1,Sheet4!$B$2:$B$8408,Sheet3!$A$3)","v":0},{"$f":"+SUMIFS(Sheet4!$DM$2:$DM$8408,Sheet4!$C$2:$C$8408,Sheet3!$B9,Sheet4!$D$2:$D$8408,Sheet3!Z$3,Sheet4!$E$2:$E$8408,Sheet3!Z$4,Sheet4!$A$2:$A$8408,Sheet3!$B$1,Sheet4!$B$2:$B$8408,Sheet3!$A$3)","v":0},{"$f":"+SUMIFS(Sheet4!$DM$2:$DM$8408,Sheet4!$C$2:$C$8408,Sheet3!$B9,Sheet4!$D$2:$D$8408,Sheet3!AA$3,Sheet4!$E$2:$E$8408,Sheet3!AA$4,Sheet4!$A$2:$A$8408,Sheet3!$B$1,Sheet4!$B$2:$B$8408,Sheet3!$A$3)","v":0},{"$f":"+SUMIFS(Sheet4!$DM$2:$DM$8408,Sheet4!$C$2:$C$8408,Sheet3!$B9,Sheet4!$D$2:$D$8408,Sheet3!AB$3,Sheet4!$E$2:$E$8408,Sheet3!AB$4,Sheet4!$A$2:$A$8408,Sheet3!$B$1,Sheet4!$B$2:$B$8408,Sheet3!$A$3)","v":0},{"$f":"+SUMIFS(Sheet4!$DM$2:$DM$8408,Sheet4!$C$2:$C$8408,Sheet3!$B9,Sheet4!$D$2:$D$8408,Sheet3!AC$3,Sheet4!$E$2:$E$8408,Sheet3!AC$4,Sheet4!$A$2:$A$8408,Sheet3!$B$1,Sheet4!$B$2:$B$8408,Sheet3!$A$3)","v":204},{"$f":"+SUMIFS(Sheet4!$DM$2:$DM$8408,Sheet4!$C$2:$C$8408,Sheet3!$B9,Sheet4!$D$2:$D$8408,Sheet3!AD$3,Sheet4!$E$2:$E$8408,Sheet3!AD$4,Sheet4!$A$2:$A$8408,Sheet3!$B$1,Sheet4!$B$2:$B$8408,Sheet3!$A$3)","v":195},{"$f":"+SUMIFS(Sheet4!$DM$2:$DM$8408,Sheet4!$C$2:$C$8408,Sheet3!$B9,Sheet4!$D$2:$D$8408,Sheet3!AE$3,Sheet4!$E$2:$E$8408,Sheet3!AE$4,Sheet4!$A$2:$A$8408,Sheet3!$B$1,Sheet4!$B$2:$B$8408,Sheet3!$A$3)","v":40},{"$f":"+SUMIFS(Sheet4!$DM$2:$DM$8408,Sheet4!$C$2:$C$8408,Sheet3!$B9,Sheet4!$D$2:$D$8408,Sheet3!AF$3,Sheet4!$E$2:$E$8408,Sheet3!AF$4,Sheet4!$A$2:$A$8408,Sheet3!$B$1,Sheet4!$B$2:$B$8408,Sheet3!$A$3)","v":0},{"$f":"+SUMIFS(Sheet4!$DM$2:$DM$8408,Sheet4!$C$2:$C$8408,Sheet3!$B9,Sheet4!$D$2:$D$8408,Sheet3!AG$3,Sheet4!$E$2:$E$8408,Sheet3!AG$4,Sheet4!$A$2:$A$8408,Sheet3!$B$1,Sheet4!$B$2:$B$8408,Sheet3!$A$3)","v":0},{"$f":"+SUMIFS(Sheet4!$DM$2:$DM$8408,Sheet4!$C$2:$C$8408,Sheet3!$B9,Sheet4!$D$2:$D$8408,Sheet3!AH$3,Sheet4!$E$2:$E$8408,Sheet3!AH$4,Sheet4!$A$2:$A$8408,Sheet3!$B$1,Sheet4!$B$2:$B$8408,Sheet3!$A$3)","v":40},{"$f":"+SUMIFS(Sheet4!$DM$2:$DM$8408,Sheet4!$C$2:$C$8408,Sheet3!$B9,Sheet4!$D$2:$D$8408,Sheet3!AI$3,Sheet4!$E$2:$E$8408,Sheet3!AI$4,Sheet4!$A$2:$A$8408,Sheet3!$B$1,Sheet4!$B$2:$B$8408,Sheet3!$A$3)","v":63},{"$f":"+SUMIFS(Sheet4!$DM$2:$DM$8408,Sheet4!$C$2:$C$8408,Sheet3!$B9,Sheet4!$D$2:$D$8408,Sheet3!AJ$3,Sheet4!$E$2:$E$8408,Sheet3!AJ$4,Sheet4!$A$2:$A$8408,Sheet3!$B$1,Sheet4!$B$2:$B$8408,Sheet3!$A$3)","v":16},{"$f":"+SUMIFS(Sheet4!$DM$2:$DM$8408,Sheet4!$C$2:$C$8408,Sheet3!$B9,Sheet4!$D$2:$D$8408,Sheet3!AK$3,Sheet4!$E$2:$E$8408,Sheet3!AK$4,Sheet4!$A$2:$A$8408,Sheet3!$B$1,Sheet4!$B$2:$B$8408,Sheet3!$A$3)","v":0},{"$f":"+SUMIFS(Sheet4!$DM$2:$DM$8408,Sheet4!$C$2:$C$8408,Sheet3!$B9,Sheet4!$D$2:$D$8408,Sheet3!AL$3,Sheet4!$E$2:$E$8408,Sheet3!AL$4,Sheet4!$A$2:$A$8408,Sheet3!$B$1,Sheet4!$B$2:$B$8408,Sheet3!$A$3)","v":0},{"$f":"+SUMIFS(Sheet4!$DM$2:$DM$8408,Sheet4!$C$2:$C$8408,Sheet3!$B9,Sheet4!$D$2:$D$8408,Sheet3!AM$3,Sheet4!$E$2:$E$8408,Sheet3!AM$4,Sheet4!$A$2:$A$8408,Sheet3!$B$1,Sheet4!$B$2:$B$8408,Sheet3!$A$3)","v":29},{"$f":"+SUMIFS(Sheet4!$DM$2:$DM$8408,Sheet4!$C$2:$C$8408,Sheet3!$B9,Sheet4!$D$2:$D$8408,Sheet3!AN$3,Sheet4!$E$2:$E$8408,Sheet3!AN$4,Sheet4!$A$2:$A$8408,Sheet3!$B$1,Sheet4!$B$2:$B$8408,Sheet3!$A$3)","v":112},{"$f":"+SUMIFS(Sheet4!$DM$2:$DM$8408,Sheet4!$C$2:$C$8408,Sheet3!$B9,Sheet4!$D$2:$D$8408,Sheet3!AO$3,Sheet4!$E$2:$E$8408,Sheet3!AO$4,Sheet4!$A$2:$A$8408,Sheet3!$B$1,Sheet4!$B$2:$B$8408,Sheet3!$A$3)","v":98},{"$f":"+SUMIFS(Sheet4!$DM$2:$DM$8408,Sheet4!$C$2:$C$8408,Sheet3!$B9,Sheet4!$D$2:$D$8408,Sheet3!AP$3,Sheet4!$E$2:$E$8408,Sheet3!AP$4,Sheet4!$A$2:$A$8408,Sheet3!$B$1,Sheet4!$B$2:$B$8408,Sheet3!$A$3)","v":6},{"$f":"+SUMIFS(Sheet4!$DM$2:$DM$8408,Sheet4!$C$2:$C$8408,Sheet3!$B9,Sheet4!$D$2:$D$8408,Sheet3!AQ$3,Sheet4!$E$2:$E$8408,Sheet3!AQ$4,Sheet4!$A$2:$A$8408,Sheet3!$B$1,Sheet4!$B$2:$B$8408,Sheet3!$A$3)","v":0},{"$f":"+SUMIFS(Sheet4!$DM$2:$DM$8408,Sheet4!$C$2:$C$8408,Sheet3!$B9,Sheet4!$D$2:$D$8408,Sheet3!AR$3,Sheet4!$E$2:$E$8408,Sheet3!AR$4,Sheet4!$A$2:$A$8408,Sheet3!$B$1,Sheet4!$B$2:$B$8408,Sheet3!$A$3)","v":0},{"$f":"+SUMIFS(Sheet4!$DM$2:$DM$8408,Sheet4!$C$2:$C$8408,Sheet3!$B9,Sheet4!$D$2:$D$8408,Sheet3!AS$3,Sheet4!$E$2:$E$8408,Sheet3!AS$4,Sheet4!$A$2:$A$8408,Sheet3!$B$1,Sheet4!$B$2:$B$8408,Sheet3!$A$3)","v":0},{"$f":"+SUMIFS(Sheet4!$DM$2:$DM$8408,Sheet4!$C$2:$C$8408,Sheet3!$B9,Sheet4!$D$2:$D$8408,Sheet3!AT$3,Sheet4!$E$2:$E$8408,Sheet3!AT$4,Sheet4!$A$2:$A$8408,Sheet3!$B$1,Sheet4!$B$2:$B$8408,Sheet3!$A$3)","v":0},{"$f":"+SUMIFS(Sheet4!$DM$2:$DM$8408,Sheet4!$C$2:$C$8408,Sheet3!$B9,Sheet4!$D$2:$D$8408,Sheet3!AU$3,Sheet4!$E$2:$E$8408,Sheet3!AU$4,Sheet4!$A$2:$A$8408,Sheet3!$B$1,Sheet4!$B$2:$B$8408,Sheet3!$A$3)","v":0},{"$f":"+SUMIFS(Sheet4!$DM$2:$DM$8408,Sheet4!$C$2:$C$8408,Sheet3!$B9,Sheet4!$D$2:$D$8408,Sheet3!AV$3,Sheet4!$E$2:$E$8408,Sheet3!AV$4,Sheet4!$A$2:$A$8408,Sheet3!$B$1,Sheet4!$B$2:$B$8408,Sheet3!$A$3)","v":0},{"$f":"+SUMIFS(Sheet4!$DM$2:$DM$8408,Sheet4!$C$2:$C$8408,Sheet3!$B9,Sheet4!$D$2:$D$8408,Sheet3!AW$3,Sheet4!$E$2:$E$8408,Sheet3!AW$4,Sheet4!$A$2:$A$8408,Sheet3!$B$1,Sheet4!$B$2:$B$8408,Sheet3!$A$3)","v":1628},{"$f":"+SUMIFS(Sheet4!$DM$2:$DM$8408,Sheet4!$C$2:$C$8408,Sheet3!$B9,Sheet4!$D$2:$D$8408,Sheet3!AX$3,Sheet4!$E$2:$E$8408,Sheet3!AX$4,Sheet4!$A$2:$A$8408,Sheet3!$B$1,Sheet4!$B$2:$B$8408,Sheet3!$A$3)","v":425},{"$f":"+SUMIFS(Sheet4!$DM$2:$DM$8408,Sheet4!$C$2:$C$8408,Sheet3!$B9,Sheet4!$D$2:$D$8408,Sheet3!AY$3,Sheet4!$E$2:$E$8408,Sheet3!AY$4,Sheet4!$A$2:$A$8408,Sheet3!$B$1,Sheet4!$B$2:$B$8408,Sheet3!$A$3)","v":16},{"$f":"+SUMIFS(Sheet4!$DM$2:$DM$8408,Sheet4!$C$2:$C$8408,Sheet3!$B9,Sheet4!$D$2:$D$8408,Sheet3!AZ$3,Sheet4!$E$2:$E$8408,Sheet3!AZ$4,Sheet4!$A$2:$A$8408,Sheet3!$B$1,Sheet4!$B$2:$B$8408,Sheet3!$A$3)","v":0},{"$f":"+SUMIFS(Sheet4!$DM$2:$DM$8408,Sheet4!$C$2:$C$8408,Sheet3!$B9,Sheet4!$D$2:$D$8408,Sheet3!BA$3,Sheet4!$E$2:$E$8408,Sheet3!BA$4,Sheet4!$A$2:$A$8408,Sheet3!$B$1,Sheet4!$B$2:$B$8408,Sheet3!$A$3)","v":0},{"$f":"+SUMIFS(Sheet4!$DM$2:$DM$8408,Sheet4!$C$2:$C$8408,Sheet3!$B9,Sheet4!$D$2:$D$8408,Sheet3!BB$3,Sheet4!$E$2:$E$8408,Sheet3!BB$4,Sheet4!$A$2:$A$8408,Sheet3!$B$1,Sheet4!$B$2:$B$8408,Sheet3!$A$3)","v":0},{"$f":"+SUMIFS(Sheet4!$DM$2:$DM$8408,Sheet4!$C$2:$C$8408,Sheet3!$B9,Sheet4!$D$2:$D$8408,Sheet3!BC$3,Sheet4!$E$2:$E$8408,Sheet3!BC$4,Sheet4!$A$2:$A$8408,Sheet3!$B$1,Sheet4!$B$2:$B$8408,Sheet3!$A$3)","v":25},{"$f":"+SUMIFS(Sheet4!$DM$2:$DM$8408,Sheet4!$C$2:$C$8408,Sheet3!$B9,Sheet4!$D$2:$D$8408,Sheet3!BD$3,Sheet4!$E$2:$E$8408,Sheet3!BD$4,Sheet4!$A$2:$A$8408,Sheet3!$B$1,Sheet4!$B$2:$B$8408,Sheet3!$A$3)","v":102},{"$f":"+SUMIFS(Sheet4!$DM$2:$DM$8408,Sheet4!$C$2:$C$8408,Sheet3!$B9,Sheet4!$D$2:$D$8408,Sheet3!BE$3,Sheet4!$E$2:$E$8408,Sheet3!BE$4,Sheet4!$A$2:$A$8408,Sheet3!$B$1,Sheet4!$B$2:$B$8408,Sheet3!$A$3)","v":259},{"$f":"+SUMIFS(Sheet4!$DM$2:$DM$8408,Sheet4!$C$2:$C$8408,Sheet3!$B9,Sheet4!$D$2:$D$8408,Sheet3!BF$3,Sheet4!$E$2:$E$8408,Sheet3!BF$4,Sheet4!$A$2:$A$8408,Sheet3!$B$1,Sheet4!$B$2:$B$8408,Sheet3!$A$3)","v":14},{"$f":"+SUMIFS(Sheet4!$DM$2:$DM$8408,Sheet4!$C$2:$C$8408,Sheet3!$B9,Sheet4!$D$2:$D$8408,Sheet3!BG$3,Sheet4!$E$2:$E$8408,Sheet3!BG$4,Sheet4!$A$2:$A$8408,Sheet3!$B$1,Sheet4!$B$2:$B$8408,Sheet3!$A$3)","v":33},{"$f":"+SUMIFS(Sheet4!$DM$2:$DM$8408,Sheet4!$C$2:$C$8408,Sheet3!$B9,Sheet4!$D$2:$D$8408,Sheet3!BH$3,Sheet4!$E$2:$E$8408,Sheet3!BH$4,Sheet4!$A$2:$A$8408,Sheet3!$B$1,Sheet4!$B$2:$B$8408,Sheet3!$A$3)","v":62},{"$f":"+SUMIFS(Sheet4!$DM$2:$DM$8408,Sheet4!$C$2:$C$8408,Sheet3!$B9,Sheet4!$D$2:$D$8408,Sheet3!BI$3,Sheet4!$E$2:$E$8408,Sheet3!BI$4,Sheet4!$A$2:$A$8408,Sheet3!$B$1,Sheet4!$B$2:$B$8408,Sheet3!$A$3)","v":4},{"$f":"+SUMIFS(Sheet4!$DM$2:$DM$8408,Sheet4!$C$2:$C$8408,Sheet3!$B9,Sheet4!$D$2:$D$8408,Sheet3!BJ$3,Sheet4!$E$2:$E$8408,Sheet3!BJ$4,Sheet4!$A$2:$A$8408,Sheet3!$B$1,Sheet4!$B$2:$B$8408,Sheet3!$A$3)","v":0},{"$f":"+SUMIFS(Sheet4!$DM$2:$DM$8408,Sheet4!$C$2:$C$8408,Sheet3!$B9,Sheet4!$D$2:$D$8408,Sheet3!BK$3,Sheet4!$E$2:$E$8408,Sheet3!BK$4,Sheet4!$A$2:$A$8408,Sheet3!$B$1,Sheet4!$B$2:$B$8408,Sheet3!$A$3)","v":0},{"$f":"+SUMIFS(Sheet4!$DM$2:$DM$8408,Sheet4!$C$2:$C$8408,Sheet3!$B9,Sheet4!$D$2:$D$8408,Sheet3!BL$3,Sheet4!$E$2:$E$8408,Sheet3!BL$4,Sheet4!$A$2:$A$8408,Sheet3!$B$1,Sheet4!$B$2:$B$8408,Sheet3!$A$3)","v":150},{"$f":"+SUMIFS(Sheet4!$DM$2:$DM$8408,Sheet4!$C$2:$C$8408,Sheet3!$B9,Sheet4!$D$2:$D$8408,Sheet3!BM$3,Sheet4!$E$2:$E$8408,Sheet3!BM$4,Sheet4!$A$2:$A$8408,Sheet3!$B$1,Sheet4!$B$2:$B$8408,Sheet3!$A$3)","v":421},{"$f":"+SUMIFS(Sheet4!$DM$2:$DM$8408,Sheet4!$C$2:$C$8408,Sheet3!$B9,Sheet4!$D$2:$D$8408,Sheet3!BN$3,Sheet4!$E$2:$E$8408,Sheet3!BN$4,Sheet4!$A$2:$A$8408,Sheet3!$B$1,Sheet4!$B$2:$B$8408,Sheet3!$A$3)","v":85},{"$f":"+SUMIFS(Sheet4!$DM$2:$DM$8408,Sheet4!$C$2:$C$8408,Sheet3!$B9,Sheet4!$D$2:$D$8408,Sheet3!BO$3,Sheet4!$E$2:$E$8408,Sheet3!BO$4,Sheet4!$A$2:$A$8408,Sheet3!$B$1,Sheet4!$B$2:$B$8408,Sheet3!$A$3)","v":4},{"$f":"+SUMIFS(Sheet4!$DM$2:$DM$8408,Sheet4!$C$2:$C$8408,Sheet3!$B9,Sheet4!$D$2:$D$8408,Sheet3!BP$3,Sheet4!$E$2:$E$8408,Sheet3!BP$4,Sheet4!$A$2:$A$8408,Sheet3!$B$1,Sheet4!$B$2:$B$8408,Sheet3!$A$3)","v":0},{"$f":"+SUMIFS(Sheet4!$DM$2:$DM$8408,Sheet4!$C$2:$C$8408,Sheet3!$B9,Sheet4!$D$2:$D$8408,Sheet3!BQ$3,Sheet4!$E$2:$E$8408,Sheet3!BQ$4,Sheet4!$A$2:$A$8408,Sheet3!$B$1,Sheet4!$B$2:$B$8408,Sheet3!$A$3)","v":43},{"$f":"+SUMIFS(Sheet4!$DM$2:$DM$8408,Sheet4!$C$2:$C$8408,Sheet3!$B9,Sheet4!$D$2:$D$8408,Sheet3!BR$3,Sheet4!$E$2:$E$8408,Sheet3!BR$4,Sheet4!$A$2:$A$8408,Sheet3!$B$1,Sheet4!$B$2:$B$8408,Sheet3!$A$3)","v":97},{"$f":"+SUMIFS(Sheet4!$DM$2:$DM$8408,Sheet4!$C$2:$C$8408,Sheet3!$B9,Sheet4!$D$2:$D$8408,Sheet3!BS$3,Sheet4!$E$2:$E$8408,Sheet3!BS$4,Sheet4!$A$2:$A$8408,Sheet3!$B$1,Sheet4!$B$2:$B$8408,Sheet3!$A$3)","v":23},{"$f":"+SUMIFS(Sheet4!$DM$2:$DM$8408,Sheet4!$C$2:$C$8408,Sheet3!$B9,Sheet4!$D$2:$D$8408,Sheet3!BT$3,Sheet4!$E$2:$E$8408,Sheet3!BT$4,Sheet4!$A$2:$A$8408,Sheet3!$B$1,Sheet4!$B$2:$B$8408,Sheet3!$A$3)","v":4},{"$f":"+SUMIFS(Sheet4!$DM$2:$DM$8408,Sheet4!$C$2:$C$8408,Sheet3!$B9,Sheet4!$D$2:$D$8408,Sheet3!BU$3,Sheet4!$E$2:$E$8408,Sheet3!BU$4,Sheet4!$A$2:$A$8408,Sheet3!$B$1,Sheet4!$B$2:$B$8408,Sheet3!$A$3)","v":0},{"$f":"+SUMIFS(Sheet4!$DM$2:$DM$8408,Sheet4!$C$2:$C$8408,Sheet3!$B9,Sheet4!$D$2:$D$8408,Sheet3!BV$3,Sheet4!$E$2:$E$8408,Sheet3!BV$4,Sheet4!$A$2:$A$8408,Sheet3!$B$1,Sheet4!$B$2:$B$8408,Sheet3!$A$3)","v":155},{"$f":"+SUMIFS(Sheet4!$DM$2:$DM$8408,Sheet4!$C$2:$C$8408,Sheet3!$B9,Sheet4!$D$2:$D$8408,Sheet3!BW$3,Sheet4!$E$2:$E$8408,Sheet3!BW$4,Sheet4!$A$2:$A$8408,Sheet3!$B$1,Sheet4!$B$2:$B$8408,Sheet3!$A$3)","v":131},{"$f":"+SUMIFS(Sheet4!$DM$2:$DM$8408,Sheet4!$C$2:$C$8408,Sheet3!$B9,Sheet4!$D$2:$D$8408,Sheet3!BX$3,Sheet4!$E$2:$E$8408,Sheet3!BX$4,Sheet4!$A$2:$A$8408,Sheet3!$B$1,Sheet4!$B$2:$B$8408,Sheet3!$A$3)","v":18},{"$f":"+SUMIFS(Sheet4!$DM$2:$DM$8408,Sheet4!$C$2:$C$8408,Sheet3!$B9,Sheet4!$D$2:$D$8408,Sheet3!BY$3,Sheet4!$E$2:$E$8408,Sheet3!BY$4,Sheet4!$A$2:$A$8408,Sheet3!$B$1,Sheet4!$B$2:$B$8408,Sheet3!$A$3)","v":4},{"$f":"+SUMIFS(Sheet4!$DM$2:$DM$8408,Sheet4!$C$2:$C$8408,Sheet3!$B9,Sheet4!$D$2:$D$8408,Sheet3!BZ$3,Sheet4!$E$2:$E$8408,Sheet3!BZ$4,Sheet4!$A$2:$A$8408,Sheet3!$B$1,Sheet4!$B$2:$B$8408,Sheet3!$A$3)","v":0},{"$f":"+SUMIFS(Sheet4!$DM$2:$DM$8408,Sheet4!$C$2:$C$8408,Sheet3!$B9,Sheet4!$D$2:$D$8408,Sheet3!CA$3,Sheet4!$E$2:$E$8408,Sheet3!CA$4,Sheet4!$A$2:$A$8408,Sheet3!$B$1,Sheet4!$B$2:$B$8408,Sheet3!$A$3)","v":357},{"$f":"+SUMIFS(Sheet4!$DM$2:$DM$8408,Sheet4!$C$2:$C$8408,Sheet3!$B9,Sheet4!$D$2:$D$8408,Sheet3!CB$3,Sheet4!$E$2:$E$8408,Sheet3!CB$4,Sheet4!$A$2:$A$8408,Sheet3!$B$1,Sheet4!$B$2:$B$8408,Sheet3!$A$3)","v":244},{"$f":"+SUMIFS(Sheet4!$DM$2:$DM$8408,Sheet4!$C$2:$C$8408,Sheet3!$B9,Sheet4!$D$2:$D$8408,Sheet3!CC$3,Sheet4!$E$2:$E$8408,Sheet3!CC$4,Sheet4!$A$2:$A$8408,Sheet3!$B$1,Sheet4!$B$2:$B$8408,Sheet3!$A$3)","v":14},{"$f":"+SUMIFS(Sheet4!$DM$2:$DM$8408,Sheet4!$C$2:$C$8408,Sheet3!$B9,Sheet4!$D$2:$D$8408,Sheet3!CD$3,Sheet4!$E$2:$E$8408,Sheet3!CD$4,Sheet4!$A$2:$A$8408,Sheet3!$B$1,Sheet4!$B$2:$B$8408,Sheet3!$A$3)","v":0},{"$f":"+SUMIFS(Sheet4!$DM$2:$DM$8408,Sheet4!$C$2:$C$8408,Sheet3!$B9,Sheet4!$D$2:$D$8408,Sheet3!CE$3,Sheet4!$E$2:$E$8408,Sheet3!CE$4,Sheet4!$A$2:$A$8408,Sheet3!$B$1,Sheet4!$B$2:$B$8408,Sheet3!$A$3)","v":0},{"$f":"+SUMIFS(Sheet4!$DM$2:$DM$8408,Sheet4!$C$2:$C$8408,Sheet3!$B9,Sheet4!$D$2:$D$8408,Sheet3!CF$3,Sheet4!$E$2:$E$8408,Sheet3!CF$4,Sheet4!$A$2:$A$8408,Sheet3!$B$1,Sheet4!$B$2:$B$8408,Sheet3!$A$3)","v":575},{"$f":"+SUMIFS(Sheet4!$DM$2:$DM$8408,Sheet4!$C$2:$C$8408,Sheet3!$B9,Sheet4!$D$2:$D$8408,Sheet3!CG$3,Sheet4!$E$2:$E$8408,Sheet3!CG$4,Sheet4!$A$2:$A$8408,Sheet3!$B$1,Sheet4!$B$2:$B$8408,Sheet3!$A$3)","v":242},{"$f":"+SUMIFS(Sheet4!$DM$2:$DM$8408,Sheet4!$C$2:$C$8408,Sheet3!$B9,Sheet4!$D$2:$D$8408,Sheet3!CH$3,Sheet4!$E$2:$E$8408,Sheet3!CH$4,Sheet4!$A$2:$A$8408,Sheet3!$B$1,Sheet4!$B$2:$B$8408,Sheet3!$A$3)","v":0},{"$f":"+SUMIFS(Sheet4!$DM$2:$DM$8408,Sheet4!$C$2:$C$8408,Sheet3!$B9,Sheet4!$D$2:$D$8408,Sheet3!CI$3,Sheet4!$E$2:$E$8408,Sheet3!CI$4,Sheet4!$A$2:$A$8408,Sheet3!$B$1,Sheet4!$B$2:$B$8408,Sheet3!$A$3)","v":0},{"$f":"+SUMIFS(Sheet4!$DM$2:$DM$8408,Sheet4!$C$2:$C$8408,Sheet3!$B9,Sheet4!$D$2:$D$8408,Sheet3!CJ$3,Sheet4!$E$2:$E$8408,Sheet3!CJ$4,Sheet4!$A$2:$A$8408,Sheet3!$B$1,Sheet4!$B$2:$B$8408,Sheet3!$A$3)","v":0},{"$f":"+SUMIFS(Sheet4!$DM$2:$DM$8408,Sheet4!$C$2:$C$8408,Sheet3!$B9,Sheet4!$D$2:$D$8408,Sheet3!CK$3,Sheet4!$E$2:$E$8408,Sheet3!CK$4,Sheet4!$A$2:$A$8408,Sheet3!$B$1,Sheet4!$B$2:$B$8408,Sheet3!$A$3)","v":0},{"$f":"+SUMIFS(Sheet4!$DM$2:$DM$8408,Sheet4!$C$2:$C$8408,Sheet3!$B9,Sheet4!$D$2:$D$8408,Sheet3!CL$3,Sheet4!$E$2:$E$8408,Sheet3!CL$4,Sheet4!$A$2:$A$8408,Sheet3!$B$1,Sheet4!$B$2:$B$8408,Sheet3!$A$3)","v":0},{"$f":"+SUMIFS(Sheet4!$DM$2:$DM$8408,Sheet4!$C$2:$C$8408,Sheet3!$B9,Sheet4!$D$2:$D$8408,Sheet3!CM$3,Sheet4!$E$2:$E$8408,Sheet3!CM$4,Sheet4!$A$2:$A$8408,Sheet3!$B$1,Sheet4!$B$2:$B$8408,Sheet3!$A$3)","v":0},{"$f":"+SUMIFS(Sheet4!$DM$2:$DM$8408,Sheet4!$C$2:$C$8408,Sheet3!$B9,Sheet4!$D$2:$D$8408,Sheet3!CN$3,Sheet4!$E$2:$E$8408,Sheet3!CN$4,Sheet4!$A$2:$A$8408,Sheet3!$B$1,Sheet4!$B$2:$B$8408,Sheet3!$A$3)","v":0},{"$f":"+SUMIFS(Sheet4!$DM$2:$DM$8408,Sheet4!$C$2:$C$8408,Sheet3!$B9,Sheet4!$D$2:$D$8408,Sheet3!CO$3,Sheet4!$E$2:$E$8408,Sheet3!CO$4,Sheet4!$A$2:$A$8408,Sheet3!$B$1,Sheet4!$B$2:$B$8408,Sheet3!$A$3)","v":0},{"$f":"+SUMIFS(Sheet4!$DM$2:$DM$8408,Sheet4!$C$2:$C$8408,Sheet3!$B9,Sheet4!$D$2:$D$8408,Sheet3!CP$3,Sheet4!$E$2:$E$8408,Sheet3!CP$4,Sheet4!$A$2:$A$8408,Sheet3!$B$1,Sheet4!$B$2:$B$8408,Sheet3!$A$3)","v":0},{"$f":"+SUMIFS(Sheet4!$DM$2:$DM$8408,Sheet4!$C$2:$C$8408,Sheet3!$B9,Sheet4!$D$2:$D$8408,Sheet3!CQ$3,Sheet4!$E$2:$E$8408,Sheet3!CQ$4,Sheet4!$A$2:$A$8408,Sheet3!$B$1,Sheet4!$B$2:$B$8408,Sheet3!$A$3)","v":0},{"$f":"+SUMIFS(Sheet4!$DM$2:$DM$8408,Sheet4!$C$2:$C$8408,Sheet3!$B9,Sheet4!$D$2:$D$8408,Sheet3!CR$3,Sheet4!$E$2:$E$8408,Sheet3!CR$4,Sheet4!$A$2:$A$8408,Sheet3!$B$1,Sheet4!$B$2:$B$8408,Sheet3!$A$3)","v":0},{"$f":"+SUMIFS(Sheet4!$DM$2:$DM$8408,Sheet4!$C$2:$C$8408,Sheet3!$B9,Sheet4!$D$2:$D$8408,Sheet3!CS$3,Sheet4!$E$2:$E$8408,Sheet3!CS$4,Sheet4!$A$2:$A$8408,Sheet3!$B$1,Sheet4!$B$2:$B$8408,Sheet3!$A$3)","v":0},{"$f":"+SUMIFS(Sheet4!$DM$2:$DM$8408,Sheet4!$C$2:$C$8408,Sheet3!$B9,Sheet4!$D$2:$D$8408,Sheet3!CT$3,Sheet4!$E$2:$E$8408,Sheet3!CT$4,Sheet4!$A$2:$A$8408,Sheet3!$B$1,Sheet4!$B$2:$B$8408,Sheet3!$A$3)","v":0},{"$f":"+IF(SUMIFS(Sheet4!$DN$2:$DN$8408,Sheet4!$C$2:$C$8408,Sheet3!$B9,Sheet4!$D$2:$D$8408,Sheet3!CU$3,Sheet4!$A$2:$A$8408,Sheet3!$B$1,Sheet4!$B$2:$B$8408,Sheet3!$A$3)<3,0,SUMIFS(Sheet4!$DN$2:$DN$8408,Sheet4!$C$2:$C$8408,Sheet3!$B9,Sheet4!$D$2:$D$8408,Sheet3!CU$3,Sheet4!$A$2:$A$8408,Sheet3!$B$1,Sheet4!$B$2:$B$8408,Sheet3!$A$3))","v":0},{"$f":"+IF(SUMIFS(Sheet4!$DN$2:$DN$8408,Sheet4!$C$2:$C$8408,Sheet3!$B9,Sheet4!$D$2:$D$8408,Sheet3!CV$3,Sheet4!$A$2:$A$8408,Sheet3!$B$1,Sheet4!$B$2:$B$8408,Sheet3!$A$3)<3,0,SUMIFS(Sheet4!$DN$2:$DN$8408,Sheet4!$C$2:$C$8408,Sheet3!$B9,Sheet4!$D$2:$D$8408,Sheet3!CV$3,Sheet4!$A$2:$A$8408,Sheet3!$B$1,Sheet4!$B$2:$B$8408,Sheet3!$A$3))","v":1011},{"$f":"+IF(SUMIFS(Sheet4!$DN$2:$DN$8408,Sheet4!$C$2:$C$8408,Sheet3!$B9,Sheet4!$D$2:$D$8408,Sheet3!CW$3,Sheet4!$A$2:$A$8408,Sheet3!$B$1,Sheet4!$B$2:$B$8408,Sheet3!$A$3)<3,0,SUMIFS(Sheet4!$DN$2:$DN$8408,Sheet4!$C$2:$C$8408,Sheet3!$B9,Sheet4!$D$2:$D$8408,Sheet3!CW$3,Sheet4!$A$2:$A$8408,Sheet3!$B$1,Sheet4!$B$2:$B$8408,Sheet3!$A$3))","v":316},{"$f":"+IF(SUMIFS(Sheet4!$DN$2:$DN$8408,Sheet4!$C$2:$C$8408,Sheet3!$B9,Sheet4!$D$2:$D$8408,Sheet3!CX$3,Sheet4!$A$2:$A$8408,Sheet3!$B$1,Sheet4!$B$2:$B$8408,Sheet3!$A$3)<3,0,SUMIFS(Sheet4!$DN$2:$DN$8408,Sheet4!$C$2:$C$8408,Sheet3!$B9,Sheet4!$D$2:$D$8408,Sheet3!CX$3,Sheet4!$A$2:$A$8408,Sheet3!$B$1,Sheet4!$B$2:$B$8408,Sheet3!$A$3))","v":0},{"$f":"+IF(SUMIFS(Sheet4!$DN$2:$DN$8408,Sheet4!$C$2:$C$8408,Sheet3!$B9,Sheet4!$D$2:$D$8408,Sheet3!CY$3,Sheet4!$A$2:$A$8408,Sheet3!$B$1,Sheet4!$B$2:$B$8408,Sheet3!$A$3)<3,0,SUMIFS(Sheet4!$DN$2:$DN$8408,Sheet4!$C$2:$C$8408,Sheet3!$B9,Sheet4!$D$2:$D$8408,Sheet3!CY$3,Sheet4!$A$2:$A$8408,Sheet3!$B$1,Sheet4!$B$2:$B$8408,Sheet3!$A$3))","v":0},{"$f":"+IF(SUMIFS(Sheet4!$DN$2:$DN$8408,Sheet4!$C$2:$C$8408,Sheet3!$B9,Sheet4!$D$2:$D$8408,Sheet3!CZ$3,Sheet4!$A$2:$A$8408,Sheet3!$B$1,Sheet4!$B$2:$B$8408,Sheet3!$A$3)<3,0,SUMIFS(Sheet4!$DN$2:$DN$8408,Sheet4!$C$2:$C$8408,Sheet3!$B9,Sheet4!$D$2:$D$8408,Sheet3!CZ$3,Sheet4!$A$2:$A$8408,Sheet3!$B$1,Sheet4!$B$2:$B$8408,Sheet3!$A$3))","v":443},{"$f":"+IF(SUMIFS(Sheet4!$DN$2:$DN$8408,Sheet4!$C$2:$C$8408,Sheet3!$B9,Sheet4!$D$2:$D$8408,Sheet3!DA$3,Sheet4!$A$2:$A$8408,Sheet3!$B$1,Sheet4!$B$2:$B$8408,Sheet3!$A$3)<3,0,SUMIFS(Sheet4!$DN$2:$DN$8408,Sheet4!$C$2:$C$8408,Sheet3!$B9,Sheet4!$D$2:$D$8408,Sheet3!DA$3,Sheet4!$A$2:$A$8408,Sheet3!$B$1,Sheet4!$B$2:$B$8408,Sheet3!$A$3))","v":125},{"$f":"+IF(SUMIFS(Sheet4!$DN$2:$DN$8408,Sheet4!$C$2:$C$8408,Sheet3!$B9,Sheet4!$D$2:$D$8408,Sheet3!DB$3,Sheet4!$A$2:$A$8408,Sheet3!$B$1,Sheet4!$B$2:$B$8408,Sheet3!$A$3)<3,0,SUMIFS(Sheet4!$DN$2:$DN$8408,Sheet4!$C$2:$C$8408,Sheet3!$B9,Sheet4!$D$2:$D$8408,Sheet3!DB$3,Sheet4!$A$2:$A$8408,Sheet3!$B$1,Sheet4!$B$2:$B$8408,Sheet3!$A$3))","v":246},{"$f":"+IF(SUMIFS(Sheet4!$DN$2:$DN$8408,Sheet4!$C$2:$C$8408,Sheet3!$B9,Sheet4!$D$2:$D$8408,Sheet3!DC$3,Sheet4!$A$2:$A$8408,Sheet3!$B$1,Sheet4!$B$2:$B$8408,Sheet3!$A$3)<3,0,SUMIFS(Sheet4!$DN$2:$DN$8408,Sheet4!$C$2:$C$8408,Sheet3!$B9,Sheet4!$D$2:$D$8408,Sheet3!DC$3,Sheet4!$A$2:$A$8408,Sheet3!$B$1,Sheet4!$B$2:$B$8408,Sheet3!$A$3))","v":0},{"$f":"+IF(SUMIFS(Sheet4!$DN$2:$DN$8408,Sheet4!$C$2:$C$8408,Sheet3!$B9,Sheet4!$D$2:$D$8408,Sheet3!DD$3,Sheet4!$A$2:$A$8408,Sheet3!$B$1,Sheet4!$B$2:$B$8408,Sheet3!$A$3)<3,0,SUMIFS(Sheet4!$DN$2:$DN$8408,Sheet4!$C$2:$C$8408,Sheet3!$B9,Sheet4!$D$2:$D$8408,Sheet3!DD$3,Sheet4!$A$2:$A$8408,Sheet3!$B$1,Sheet4!$B$2:$B$8408,Sheet3!$A$3))","v":2073},{"$f":"+IF(SUMIFS(Sheet4!$DN$2:$DN$8408,Sheet4!$C$2:$C$8408,Sheet3!$B9,Sheet4!$D$2:$D$8408,Sheet3!DE$3,Sheet4!$A$2:$A$8408,Sheet3!$B$1,Sheet4!$B$2:$B$8408,Sheet3!$A$3)<3,0,SUMIFS(Sheet4!$DN$2:$DN$8408,Sheet4!$C$2:$C$8408,Sheet3!$B9,Sheet4!$D$2:$D$8408,Sheet3!DE$3,Sheet4!$A$2:$A$8408,Sheet3!$B$1,Sheet4!$B$2:$B$8408,Sheet3!$A$3))","v":401},{"$f":"+IF(SUMIFS(Sheet4!$DN$2:$DN$8408,Sheet4!$C$2:$C$8408,Sheet3!$B9,Sheet4!$D$2:$D$8408,Sheet3!DF$3,Sheet4!$A$2:$A$8408,Sheet3!$B$1,Sheet4!$B$2:$B$8408,Sheet3!$A$3)<3,0,SUMIFS(Sheet4!$DN$2:$DN$8408,Sheet4!$C$2:$C$8408,Sheet3!$B9,Sheet4!$D$2:$D$8408,Sheet3!DF$3,Sheet4!$A$2:$A$8408,Sheet3!$B$1,Sheet4!$B$2:$B$8408,Sheet3!$A$3))","v":100},{"$f":"+IF(SUMIFS(Sheet4!$DN$2:$DN$8408,Sheet4!$C$2:$C$8408,Sheet3!$B9,Sheet4!$D$2:$D$8408,Sheet3!DG$3,Sheet4!$A$2:$A$8408,Sheet3!$B$1,Sheet4!$B$2:$B$8408,Sheet3!$A$3)<3,0,SUMIFS(Sheet4!$DN$2:$DN$8408,Sheet4!$C$2:$C$8408,Sheet3!$B9,Sheet4!$D$2:$D$8408,Sheet3!DG$3,Sheet4!$A$2:$A$8408,Sheet3!$B$1,Sheet4!$B$2:$B$8408,Sheet3!$A$3))","v":662},{"$f":"+IF(SUMIFS(Sheet4!$DN$2:$DN$8408,Sheet4!$C$2:$C$8408,Sheet3!$B9,Sheet4!$D$2:$D$8408,Sheet3!DH$3,Sheet4!$A$2:$A$8408,Sheet3!$B$1,Sheet4!$B$2:$B$8408,Sheet3!$A$3)<3,0,SUMIFS(Sheet4!$DN$2:$DN$8408,Sheet4!$C$2:$C$8408,Sheet3!$B9,Sheet4!$D$2:$D$8408,Sheet3!DH$3,Sheet4!$A$2:$A$8408,Sheet3!$B$1,Sheet4!$B$2:$B$8408,Sheet3!$A$3))","v":170},{"$f":"+IF(SUMIFS(Sheet4!$DN$2:$DN$8408,Sheet4!$C$2:$C$8408,Sheet3!$B9,Sheet4!$D$2:$D$8408,Sheet3!DI$3,Sheet4!$A$2:$A$8408,Sheet3!$B$1,Sheet4!$B$2:$B$8408,Sheet3!$A$3)<3,0,SUMIFS(Sheet4!$DN$2:$DN$8408,Sheet4!$C$2:$C$8408,Sheet3!$B9,Sheet4!$D$2:$D$8408,Sheet3!DI$3,Sheet4!$A$2:$A$8408,Sheet3!$B$1,Sheet4!$B$2:$B$8408,Sheet3!$A$3))","v":308},{"$f":"+IF(SUMIFS(Sheet4!$DN$2:$DN$8408,Sheet4!$C$2:$C$8408,Sheet3!$B9,Sheet4!$D$2:$D$8408,Sheet3!DJ$3,Sheet4!$A$2:$A$8408,Sheet3!$B$1,Sheet4!$B$2:$B$8408,Sheet3!$A$3)<3,0,SUMIFS(Sheet4!$DN$2:$DN$8408,Sheet4!$C$2:$C$8408,Sheet3!$B9,Sheet4!$D$2:$D$8408,Sheet3!DJ$3,Sheet4!$A$2:$A$8408,Sheet3!$B$1,Sheet4!$B$2:$B$8408,Sheet3!$A$3))","v":615},{"$f":"+IF(SUMIFS(Sheet4!$DN$2:$DN$8408,Sheet4!$C$2:$C$8408,Sheet3!$B9,Sheet4!$D$2:$D$8408,Sheet3!DK$3,Sheet4!$A$2:$A$8408,Sheet3!$B$1,Sheet4!$B$2:$B$8408,Sheet3!$A$3)<3,0,SUMIFS(Sheet4!$DN$2:$DN$8408,Sheet4!$C$2:$C$8408,Sheet3!$B9,Sheet4!$D$2:$D$8408,Sheet3!DK$3,Sheet4!$A$2:$A$8408,Sheet3!$B$1,Sheet4!$B$2:$B$8408,Sheet3!$A$3))","v":821},{"$f":"+IF(SUMIFS(Sheet4!$DN$2:$DN$8408,Sheet4!$C$2:$C$8408,Sheet3!$B9,Sheet4!$D$2:$D$8408,Sheet3!DL$3,Sheet4!$A$2:$A$8408,Sheet3!$B$1,Sheet4!$B$2:$B$8408,Sheet3!$A$3)<3,0,SUMIFS(Sheet4!$DN$2:$DN$8408,Sheet4!$C$2:$C$8408,Sheet3!$B9,Sheet4!$D$2:$D$8408,Sheet3!DL$3,Sheet4!$A$2:$A$8408,Sheet3!$B$1,Sheet4!$B$2:$B$8408,Sheet3!$A$3))","v":0},{"$f":"+IF(SUMIFS(Sheet4!$DN$2:$DN$8408,Sheet4!$C$2:$C$8408,Sheet3!$B9,Sheet4!$D$2:$D$8408,Sheet3!DM$3,Sheet4!$A$2:$A$8408,Sheet3!$B$1,Sheet4!$B$2:$B$8408,Sheet3!$A$3)<3,0,SUMIFS(Sheet4!$DN$2:$DN$8408,Sheet4!$C$2:$C$8408,Sheet3!$B9,Sheet4!$D$2:$D$8408,Sheet3!DM$3,Sheet4!$A$2:$A$8408,Sheet3!$B$1,Sheet4!$B$2:$B$8408,Sheet3!$A$3))","v":0},{"$f":"+IF(SUMIFS(Sheet4!$DN$2:$DN$8408,Sheet4!$C$2:$C$8408,Sheet3!$B9,Sheet4!$E$2:$E$8408,Sheet3!DN$4,Sheet4!$A$2:$A$8408,Sheet3!$B$1,Sheet4!$B$2:$B$8408,Sheet3!$A$3)<3,0,SUMIFS(Sheet4!$DN$2:$DN$8408,Sheet4!$C$2:$C$8408,Sheet3!$B9,Sheet4!$E$2:$E$8408,Sheet3!DN$4,Sheet4!$A$2:$A$8408,Sheet3!$B$1,Sheet4!$B$2:$B$8408,Sheet3!$A$3))","v":4387},{"$f":"+IF(SUMIFS(Sheet4!$DN$2:$DN$8408,Sheet4!$C$2:$C$8408,Sheet3!$B9,Sheet4!$E$2:$E$8408,Sheet3!DO$4,Sheet4!$A$2:$A$8408,Sheet3!$B$1,Sheet4!$B$2:$B$8408,Sheet3!$A$3)<3,0,SUMIFS(Sheet4!$DN$2:$DN$8408,Sheet4!$C$2:$C$8408,Sheet3!$B9,Sheet4!$E$2:$E$8408,Sheet3!DO$4,Sheet4!$A$2:$A$8408,Sheet3!$B$1,Sheet4!$B$2:$B$8408,Sheet3!$A$3))","v":2173},{"$f":"+IF(SUMIFS(Sheet4!$DN$2:$DN$8408,Sheet4!$C$2:$C$8408,Sheet3!$B9,Sheet4!$E$2:$E$8408,Sheet3!DP$4,Sheet4!$A$2:$A$8408,Sheet3!$B$1,Sheet4!$B$2:$B$8408,Sheet3!$A$3)<3,0,SUMIFS(Sheet4!$DN$2:$DN$8408,Sheet4!$C$2:$C$8408,Sheet3!$B9,Sheet4!$E$2:$E$8408,Sheet3!DP$4,Sheet4!$A$2:$A$8408,Sheet3!$B$1,Sheet4!$B$2:$B$8408,Sheet3!$A$3))","v":431},{"$f":"+IF(SUMIFS(Sheet4!$DN$2:$DN$8408,Sheet4!$C$2:$C$8408,Sheet3!$B9,Sheet4!$E$2:$E$8408,Sheet3!DQ$4,Sheet4!$A$2:$A$8408,Sheet3!$B$1,Sheet4!$B$2:$B$8408,Sheet3!$A$3)<3,0,SUMIFS(Sheet4!$DN$2:$DN$8408,Sheet4!$C$2:$C$8408,Sheet3!$B9,Sheet4!$E$2:$E$8408,Sheet3!DQ$4,Sheet4!$A$2:$A$8408,Sheet3!$B$1,Sheet4!$B$2:$B$8408,Sheet3!$A$3))","v":292},{"$f":"+IF(SUMIFS(Sheet4!$DN$2:$DN$8408,Sheet4!$C$2:$C$8408,Sheet3!$B9,Sheet4!$E$2:$E$8408,Sheet3!DR$4,Sheet4!$A$2:$A$8408,Sheet3!$B$1,Sheet4!$B$2:$B$8408,Sheet3!$A$3)<3,0,SUMIFS(Sheet4!$DN$2:$DN$8408,Sheet4!$C$2:$C$8408,Sheet3!$B9,Sheet4!$E$2:$E$8408,Sheet3!DR$4,Sheet4!$A$2:$A$8408,Sheet3!$B$1,Sheet4!$B$2:$B$8408,Sheet3!$A$3))","v":14}]
[1,"119","Ave",{"$f":"+SUMIFS(Sheet4!$DM$2:$DM$8408,Sheet4!$C$2:$C$8408,Sheet3!$B10,Sheet4!$D$2:$D$8408,Sheet3!D$3,Sheet4!$E$2:$E$8408,Sheet3!D$4,Sheet4!$A$2:$A$8408,Sheet3!$B$1,Sheet4!$B$2:$B$8408,Sheet3!$A$3)","v":0},{"$f":"+SUMIFS(Sheet4!$DM$2:$DM$8408,Sheet4!$C$2:$C$8408,Sheet3!$B10,Sheet4!$D$2:$D$8408,Sheet3!E$3,Sheet4!$E$2:$E$8408,Sheet3!E$4,Sheet4!$A$2:$A$8408,Sheet3!$B$1,Sheet4!$B$2:$B$8408,Sheet3!$A$3)","v":0},{"$f":"+SUMIFS(Sheet4!$DM$2:$DM$8408,Sheet4!$C$2:$C$8408,Sheet3!$B10,Sheet4!$D$2:$D$8408,Sheet3!F$3,Sheet4!$E$2:$E$8408,Sheet3!F$4,Sheet4!$A$2:$A$8408,Sheet3!$B$1,Sheet4!$B$2:$B$8408,Sheet3!$A$3)","v":0},{"$f":"+SUMIFS(Sheet4!$DM$2:$DM$8408,Sheet4!$C$2:$C$8408,Sheet3!$B10,Sheet4!$D$2:$D$8408,Sheet3!G$3,Sheet4!$E$2:$E$8408,Sheet3!G$4,Sheet4!$A$2:$A$8408,Sheet3!$B$1,Sheet4!$B$2:$B$8408,Sheet3!$A$3)","v":0},{"$f":"+SUMIFS(Sheet4!$DM$2:$DM$8408,Sheet4!$C$2:$C$8408,Sheet3!$B10,Sheet4!$D$2:$D$8408,Sheet3!H$3,Sheet4!$E$2:$E$8408,Sheet3!H$4,Sheet4!$A$2:$A$8408,Sheet3!$B$1,Sheet4!$B$2:$B$8408,Sheet3!$A$3)","v":0},{"$f":"+SUMIFS(Sheet4!$DM$2:$DM$8408,Sheet4!$C$2:$C$8408,Sheet3!$B10,Sheet4!$D$2:$D$8408,Sheet3!I$3,Sheet4!$E$2:$E$8408,Sheet3!I$4,Sheet4!$A$2:$A$8408,Sheet3!$B$1,Sheet4!$B$2:$B$8408,Sheet3!$A$3)","v":433},{"$f":"+SUMIFS(Sheet4!$DM$2:$DM$8408,Sheet4!$C$2:$C$8408,Sheet3!$B10,Sheet4!$D$2:$D$8408,Sheet3!J$3,Sheet4!$E$2:$E$8408,Sheet3!J$4,Sheet4!$A$2:$A$8408,Sheet3!$B$1,Sheet4!$B$2:$B$8408,Sheet3!$A$3)","v":30},{"$f":"+SUMIFS(Sheet4!$DM$2:$DM$8408,Sheet4!$C$2:$C$8408,Sheet3!$B10,Sheet4!$D$2:$D$8408,Sheet3!K$3,Sheet4!$E$2:$E$8408,Sheet3!K$4,Sheet4!$A$2:$A$8408,Sheet3!$B$1,Sheet4!$B$2:$B$8408,Sheet3!$A$3)","v":6},{"$f":"+SUMIFS(Sheet4!$DM$2:$DM$8408,Sheet4!$C$2:$C$8408,Sheet3!$B10,Sheet4!$D$2:$D$8408,Sheet3!L$3,Sheet4!$E$2:$E$8408,Sheet3!L$4,Sheet4!$A$2:$A$8408,Sheet3!$B$1,Sheet4!$B$2:$B$8408,Sheet3!$A$3)","v":0},{"$f":"+SUMIFS(Sheet4!$DM$2:$DM$8408,Sheet4!$C$2:$C$8408,Sheet3!$B10,Sheet4!$D$2:$D$8408,Sheet3!M$3,Sheet4!$E$2:$E$8408,Sheet3!M$4,Sheet4!$A$2:$A$8408,Sheet3!$B$1,Sheet4!$B$2:$B$8408,Sheet3!$A$3)","v":0},{"$f":"+SUMIFS(Sheet4!$DM$2:$DM$8408,Sheet4!$C$2:$C$8408,Sheet3!$B10,Sheet4!$D$2:$D$8408,Sheet3!N$3,Sheet4!$E$2:$E$8408,Sheet3!N$4,Sheet4!$A$2:$A$8408,Sheet3!$B$1,Sheet4!$B$2:$B$8408,Sheet3!$A$3)","v":133},{"$f":"+SUMIFS(Sheet4!$DM$2:$DM$8408,Sheet4!$C$2:$C$8408,Sheet3!$B10,Sheet4!$D$2:$D$8408,Sheet3!O$3,Sheet4!$E$2:$E$8408,Sheet3!O$4,Sheet4!$A$2:$A$8408,Sheet3!$B$1,Sheet4!$B$2:$B$8408,Sheet3!$A$3)","v":10},{"$f":"+SUMIFS(Sheet4!$DM$2:$DM$8408,Sheet4!$C$2:$C$8408,Sheet3!$B10,Sheet4!$D$2:$D$8408,Sheet3!P$3,Sheet4!$E$2:$E$8408,Sheet3!P$4,Sheet4!$A$2:$A$8408,Sheet3!$B$1,Sheet4!$B$2:$B$8408,Sheet3!$A$3)","v":0},{"$f":"+SUMIFS(Sheet4!$DM$2:$DM$8408,Sheet4!$C$2:$C$8408,Sheet3!$B10,Sheet4!$D$2:$D$8408,Sheet3!Q$3,Sheet4!$E$2:$E$8408,Sheet3!Q$4,Sheet4!$A$2:$A$8408,Sheet3!$B$1,Sheet4!$B$2:$B$8408,Sheet3!$A$3)","v":0},{"$f":"+SUMIFS(Sheet4!$DM$2:$DM$8408,Sheet4!$C$2:$C$8408,Sheet3!$B10,Sheet4!$D$2:$D$8408,Sheet3!R$3,Sheet4!$E$2:$E$8408,Sheet3!R$4,Sheet4!$A$2:$A$8408,Sheet3!$B$1,Sheet4!$B$2:$B$8408,Sheet3!$A$3)","v":0},{"$f":"+SUMIFS(Sheet4!$DM$2:$DM$8408,Sheet4!$C$2:$C$8408,Sheet3!$B10,Sheet4!$D$2:$D$8408,Sheet3!S$3,Sheet4!$E$2:$E$8408,Sheet3!S$4,Sheet4!$A$2:$A$8408,Sheet3!$B$1,Sheet4!$B$2:$B$8408,Sheet3!$A$3)","v":0},{"$f":"+SUMIFS(Sheet4!$DM$2:$DM$8408,Sheet4!$C$2:$C$8408,Sheet3!$B10,Sheet4!$D$2:$D$8408,Sheet3!T$3,Sheet4!$E$2:$E$8408,Sheet3!T$4,Sheet4!$A$2:$A$8408,Sheet3!$B$1,Sheet4!$B$2:$B$8408,Sheet3!$A$3)","v":0},{"$f":"+SUMIFS(Sheet4!$DM$2:$DM$8408,Sheet4!$C$2:$C$8408,Sheet3!$B10,Sheet4!$D$2:$D$8408,Sheet3!U$3,Sheet4!$E$2:$E$8408,Sheet3!U$4,Sheet4!$A$2:$A$8408,Sheet3!$B$1,Sheet4!$B$2:$B$8408,Sheet3!$A$3)","v":0},{"$f":"+SUMIFS(Sheet4!$DM$2:$DM$8408,Sheet4!$C$2:$C$8408,Sheet3!$B10,Sheet4!$D$2:$D$8408,Sheet3!V$3,Sheet4!$E$2:$E$8408,Sheet3!V$4,Sheet4!$A$2:$A$8408,Sheet3!$B$1,Sheet4!$B$2:$B$8408,Sheet3!$A$3)","v":0},{"$f":"+SUMIFS(Sheet4!$DM$2:$DM$8408,Sheet4!$C$2:$C$8408,Sheet3!$B10,Sheet4!$D$2:$D$8408,Sheet3!W$3,Sheet4!$E$2:$E$8408,Sheet3!W$4,Sheet4!$A$2:$A$8408,Sheet3!$B$1,Sheet4!$B$2:$B$8408,Sheet3!$A$3)","v":0},{"$f":"+SUMIFS(Sheet4!$DM$2:$DM$8408,Sheet4!$C$2:$C$8408,Sheet3!$B10,Sheet4!$D$2:$D$8408,Sheet3!X$3,Sheet4!$E$2:$E$8408,Sheet3!X$4,Sheet4!$A$2:$A$8408,Sheet3!$B$1,Sheet4!$B$2:$B$8408,Sheet3!$A$3)","v":0},{"$f":"+SUMIFS(Sheet4!$DM$2:$DM$8408,Sheet4!$C$2:$C$8408,Sheet3!$B10,Sheet4!$D$2:$D$8408,Sheet3!Y$3,Sheet4!$E$2:$E$8408,Sheet3!Y$4,Sheet4!$A$2:$A$8408,Sheet3!$B$1,Sheet4!$B$2:$B$8408,Sheet3!$A$3)","v":0},{"$f":"+SUMIFS(Sheet4!$DM$2:$DM$8408,Sheet4!$C$2:$C$8408,Sheet3!$B10,Sheet4!$D$2:$D$8408,Sheet3!Z$3,Sheet4!$E$2:$E$8408,Sheet3!Z$4,Sheet4!$A$2:$A$8408,Sheet3!$B$1,Sheet4!$B$2:$B$8408,Sheet3!$A$3)","v":0},{"$f":"+SUMIFS(Sheet4!$DM$2:$DM$8408,Sheet4!$C$2:$C$8408,Sheet3!$B10,Sheet4!$D$2:$D$8408,Sheet3!AA$3,Sheet4!$E$2:$E$8408,Sheet3!AA$4,Sheet4!$A$2:$A$8408,Sheet3!$B$1,Sheet4!$B$2:$B$8408,Sheet3!$A$3)","v":0},{"$f":"+SUMIFS(Sheet4!$DM$2:$DM$8408,Sheet4!$C$2:$C$8408,Sheet3!$B10,Sheet4!$D$2:$D$8408,Sheet3!AB$3,Sheet4!$E$2:$E$8408,Sheet3!AB$4,Sheet4!$A$2:$A$8408,Sheet3!$B$1,Sheet4!$B$2:$B$8408,Sheet3!$A$3)","v":0},{"$f":"+SUMIFS(Sheet4!$DM$2:$DM$8408,Sheet4!$C$2:$C$8408,Sheet3!$B10,Sheet4!$D$2:$D$8408,Sheet3!AC$3,Sheet4!$E$2:$E$8408,Sheet3!AC$4,Sheet4!$A$2:$A$8408,Sheet3!$B$1,Sheet4!$B$2:$B$8408,Sheet3!$A$3)","v":53},{"$f":"+SUMIFS(Sheet4!$DM$2:$DM$8408,Sheet4!$C$2:$C$8408,Sheet3!$B10,Sheet4!$D$2:$D$8408,Sheet3!AD$3,Sheet4!$E$2:$E$8408,Sheet3!AD$4,Sheet4!$A$2:$A$8408,Sheet3!$B$1,Sheet4!$B$2:$B$8408,Sheet3!$A$3)","v":49},{"$f":"+SUMIFS(Sheet4!$DM$2:$DM$8408,Sheet4!$C$2:$C$8408,Sheet3!$B10,Sheet4!$D$2:$D$8408,Sheet3!AE$3,Sheet4!$E$2:$E$8408,Sheet3!AE$4,Sheet4!$A$2:$A$8408,Sheet3!$B$1,Sheet4!$B$2:$B$8408,Sheet3!$A$3)","v":14},{"$f":"+SUMIFS(Sheet4!$DM$2:$DM$8408,Sheet4!$C$2:$C$8408,Sheet3!$B10,Sheet4!$D$2:$D$8408,Sheet3!AF$3,Sheet4!$E$2:$E$8408,Sheet3!AF$4,Sheet4!$A$2:$A$8408,Sheet3!$B$1,Sheet4!$B$2:$B$8408,Sheet3!$A$3)","v":8},{"$f":"+SUMIFS(Sheet4!$DM$2:$DM$8408,Sheet4!$C$2:$C$8408,Sheet3!$B10,Sheet4!$D$2:$D$8408,Sheet3!AG$3,Sheet4!$E$2:$E$8408,Sheet3!AG$4,Sheet4!$A$2:$A$8408,Sheet3!$B$1,Sheet4!$B$2:$B$8408,Sheet3!$A$3)","v":0},{"$f":"+SUMIFS(Sheet4!$DM$2:$DM$8408,Sheet4!$C$2:$C$8408,Sheet3!$B10,Sheet4!$D$2:$D$8408,Sheet3!AH$3,Sheet4!$E$2:$E$8408,Sheet3!AH$4,Sheet4!$A$2:$A$8408,Sheet3!$B$1,Sheet4!$B$2:$B$8408,Sheet3!$A$3)","v":103},{"$f":"+SUMIFS(Sheet4!$DM$2:$DM$8408,Sheet4!$C$2:$C$8408,Sheet3!$B10,Sheet4!$D$2:$D$8408,Sheet3!AI$3,Sheet4!$E$2:$E$8408,Sheet3!AI$4,Sheet4!$A$2:$A$8408,Sheet3!$B$1,Sheet4!$B$2:$B$8408,Sheet3!$A$3)","v":143},{"$f":"+SUMIFS(Sheet4!$DM$2:$DM$8408,Sheet4!$C$2:$C$8408,Sheet3!$B10,Sheet4!$D$2:$D$8408,Sheet3!AJ$3,Sheet4!$E$2:$E$8408,Sheet3!AJ$4,Sheet4!$A$2:$A$8408,Sheet3!$B$1,Sheet4!$B$2:$B$8408,Sheet3!$A$3)","v":30},{"$f":"+SUMIFS(Sheet4!$DM$2:$DM$8408,Sheet4!$C$2:$C$8408,Sheet3!$B10,Sheet4!$D$2:$D$8408,Sheet3!AK$3,Sheet4!$E$2:$E$8408,Sheet3!AK$4,Sheet4!$A$2:$A$8408,Sheet3!$B$1,Sheet4!$B$2:$B$8408,Sheet3!$A$3)","v":0},{"$f":"+SUMIFS(Sheet4!$DM$2:$DM$8408,Sheet4!$C$2:$C$8408,Sheet3!$B10,Sheet4!$D$2:$D$8408,Sheet3!AL$3,Sheet4!$E$2:$E$8408,Sheet3!AL$4,Sheet4!$A$2:$A$8408,Sheet3!$B$1,Sheet4!$B$2:$B$8408,Sheet3!$A$3)","v":0},{"$f":"+SUMIFS(Sheet4!$DM$2:$DM$8408,Sheet4!$C$2:$C$8408,Sheet3!$B10,Sheet4!$D$2:$D$8408,Sheet3!AM$3,Sheet4!$E$2:$E$8408,Sheet3!AM$4,Sheet4!$A$2:$A$8408,Sheet3!$B$1,Sheet4!$B$2:$B$8408,Sheet3!$A$3)","v":14},{"$f":"+SUMIFS(Sheet4!$DM$2:$DM$8408,Sheet4!$C$2:$C$8408,Sheet3!$B10,Sheet4!$D$2:$D$8408,Sheet3!AN$3,Sheet4!$E$2:$E$8408,Sheet3!AN$4,Sheet4!$A$2:$A$8408,Sheet3!$B$1,Sheet4!$B$2:$B$8408,Sheet3!$A$3)","v":77},{"$f":"+SUMIFS(Sheet4!$DM$2:$DM$8408,Sheet4!$C$2:$C$8408,Sheet3!$B10,Sheet4!$D$2:$D$8408,Sheet3!AO$3,Sheet4!$E$2:$E$8408,Sheet3!AO$4,Sheet4!$A$2:$A$8408,Sheet3!$B$1,Sheet4!$B$2:$B$8408,Sheet3!$A$3)","v":90},{"$f":"+SUMIFS(Sheet4!$DM$2:$DM$8408,Sheet4!$C$2:$C$8408,Sheet3!$B10,Sheet4!$D$2:$D$8408,Sheet3!AP$3,Sheet4!$E$2:$E$8408,Sheet3!AP$4,Sheet4!$A$2:$A$8408,Sheet3!$B$1,Sheet4!$B$2:$B$8408,Sheet3!$A$3)","v":14},{"$f":"+SUMIFS(Sheet4!$DM$2:$DM$8408,Sheet4!$C$2:$C$8408,Sheet3!$B10,Sheet4!$D$2:$D$8408,Sheet3!AQ$3,Sheet4!$E$2:$E$8408,Sheet3!AQ$4,Sheet4!$A$2:$A$8408,Sheet3!$B$1,Sheet4!$B$2:$B$8408,Sheet3!$A$3)","v":0},{"$f":"+SUMIFS(Sheet4!$DM$2:$DM$8408,Sheet4!$C$2:$C$8408,Sheet3!$B10,Sheet4!$D$2:$D$8408,Sheet3!AR$3,Sheet4!$E$2:$E$8408,Sheet3!AR$4,Sheet4!$A$2:$A$8408,Sheet3!$B$1,Sheet4!$B$2:$B$8408,Sheet3!$A$3)","v":0},{"$f":"+SUMIFS(Sheet4!$DM$2:$DM$8408,Sheet4!$C$2:$C$8408,Sheet3!$B10,Sheet4!$D$2:$D$8408,Sheet3!AS$3,Sheet4!$E$2:$E$8408,Sheet3!AS$4,Sheet4!$A$2:$A$8408,Sheet3!$B$1,Sheet4!$B$2:$B$8408,Sheet3!$A$3)","v":0},{"$f":"+SUMIFS(Sheet4!$DM$2:$DM$8408,Sheet4!$C$2:$C$8408,Sheet3!$B10,Sheet4!$D$2:$D$8408,Sheet3!AT$3,Sheet4!$E$2:$E$8408,Sheet3!AT$4,Sheet4!$A$2:$A$8408,Sheet3!$B$1,Sheet4!$B$2:$B$8408,Sheet3!$A$3)","v":0},{"$f":"+SUMIFS(Sheet4!$DM$2:$DM$8408,Sheet4!$C$2:$C$8408,Sheet3!$B10,Sheet4!$D$2:$D$8408,Sheet3!AU$3,Sheet4!$E$2:$E$8408,Sheet3!AU$4,Sheet4!$A$2:$A$8408,Sheet3!$B$1,Sheet4!$B$2:$B$8408,Sheet3!$A$3)","v":0},{"$f":"+SUMIFS(Sheet4!$DM$2:$DM$8408,Sheet4!$C$2:$C$8408,Sheet3!$B10,Sheet4!$D$2:$D$8408,Sheet3!AV$3,Sheet4!$E$2:$E$8408,Sheet3!AV$4,Sheet4!$A$2:$A$8408,Sheet3!$B$1,Sheet4!$B$2:$B$8408,Sheet3!$A$3)","v":0},{"$f":"+SUMIFS(Sheet4!$DM$2:$DM$8408,Sheet4!$C$2:$C$8408,Sheet3!$B10,Sheet4!$D$2:$D$8408,Sheet3!AW$3,Sheet4!$E$2:$E$8408,Sheet3!AW$4,Sheet4!$A$2:$A$8408,Sheet3!$B$1,Sheet4!$B$2:$B$8408,Sheet3!$A$3)","v":618},{"$f":"+SUMIFS(Sheet4!$DM$2:$DM$8408,Sheet4!$C$2:$C$8408,Sheet3!$B10,Sheet4!$D$2:$D$8408,Sheet3!AX$3,Sheet4!$E$2:$E$8408,Sheet3!AX$4,Sheet4!$A$2:$A$8408,Sheet3!$B$1,Sheet4!$B$2:$B$8408,Sheet3!$A$3)","v":202},{"$f":"+SUMIFS(Sheet4!$DM$2:$DM$8408,Sheet4!$C$2:$C$8408,Sheet3!$B10,Sheet4!$D$2:$D$8408,Sheet3!AY$3,Sheet4!$E$2:$E$8408,Sheet3!AY$4,Sheet4!$A$2:$A$8408,Sheet3!$B$1,Sheet4!$B$2:$B$8408,Sheet3!$A$3)","v":13},{"$f":"+SUMIFS(Sheet4!$DM$2:$DM$8408,Sheet4!$C$2:$C$8408,Sheet3!$B10,Sheet4!$D$2:$D$8408,Sheet3!AZ$3,Sheet4!$E$2:$E$8408,Sheet3!AZ$4,Sheet4!$A$2:$A$8408,Sheet3!$B$1,Sheet4!$B$2:$B$8408,Sheet3!$A$3)","v":0},{"$f":"+SUMIFS(Sheet4!$DM$2:$DM$8408,Sheet4!$C$2:$C$8408,Sheet3!$B10,Sheet4!$D$2:$D$8408,Sheet3!BA$3,Sheet4!$E$2:$E$8408,Sheet3!BA$4,Sheet4!$A$2:$A$8408,Sheet3!$B$1,Sheet4!$B$2:$B$8408,Sheet3!$A$3)","v":0},{"$f":"+SUMIFS(Sheet4!$DM$2:$DM$8408,Sheet4!$C$2:$C$8408,Sheet3!$B10,Sheet4!$D$2:$D$8408,Sheet3!BB$3,Sheet4!$E$2:$E$8408,Sheet3!BB$4,Sheet4!$A$2:$A$8408,Sheet3!$B$1,Sheet4!$B$2:$B$8408,Sheet3!$A$3)","v":0},{"$f":"+SUMIFS(Sheet4!$DM$2:$DM$8408,Sheet4!$C$2:$C$8408,Sheet3!$B10,Sheet4!$D$2:$D$8408,Sheet3!BC$3,Sheet4!$E$2:$E$8408,Sheet3!BC$4,Sheet4!$A$2:$A$8408,Sheet3!$B$1,Sheet4!$B$2:$B$8408,Sheet3!$A$3)","v":15},{"$f":"+SUMIFS(Sheet4!$DM$2:$DM$8408,Sheet4!$C$2:$C$8408,Sheet3!$B10,Sheet4!$D$2:$D$8408,Sheet3!BD$3,Sheet4!$E$2:$E$8408,Sheet3!BD$4,Sheet4!$A$2:$A$8408,Sheet3!$B$1,Sheet4!$B$2:$B$8408,Sheet3!$A$3)","v":19},{"$f":"+SUMIFS(Sheet4!$DM$2:$DM$8408,Sheet4!$C$2:$C$8408,Sheet3!$B10,Sheet4!$D$2:$D$8408,Sheet3!BE$3,Sheet4!$E$2:$E$8408,Sheet3!BE$4,Sheet4!$A$2:$A$8408,Sheet3!$B$1,Sheet4!$B$2:$B$8408,Sheet3!$A$3)","v":88},{"$f":"+SUMIFS(Sheet4!$DM$2:$DM$8408,Sheet4!$C$2:$C$8408,Sheet3!$B10,Sheet4!$D$2:$D$8408,Sheet3!BF$3,Sheet4!$E$2:$E$8408,Sheet3!BF$4,Sheet4!$A$2:$A$8408,Sheet3!$B$1,Sheet4!$B$2:$B$8408,Sheet3!$A$3)","v":6},{"$f":"+SUMIFS(Sheet4!$DM$2:$DM$8408,Sheet4!$C$2:$C$8408,Sheet3!$B10,Sheet4!$D$2:$D$8408,Sheet3!BG$3,Sheet4!$E$2:$E$8408,Sheet3!BG$4,Sheet4!$A$2:$A$8408,Sheet3!$B$1,Sheet4!$B$2:$B$8408,Sheet3!$A$3)","v":49},{"$f":"+SUMIFS(Sheet4!$DM$2:$DM$8408,Sheet4!$C$2:$C$8408,Sheet3!$B10,Sheet4!$D$2:$D$8408,Sheet3!BH$3,Sheet4!$E$2:$E$8408,Sheet3!BH$4,Sheet4!$A$2:$A$8408,Sheet3!$B$1,Sheet4!$B$2:$B$8408,Sheet3!$A$3)","v":95},{"$f":"+SUMIFS(Sheet4!$DM$2:$DM$8408,Sheet4!$C$2:$C$8408,Sheet3!$B10,Sheet4!$D$2:$D$8408,Sheet3!BI$3,Sheet4!$E$2:$E$8408,Sheet3!BI$4,Sheet4!$A$2:$A$8408,Sheet3!$B$1,Sheet4!$B$2:$B$8408,Sheet3!$A$3)","v":10},{"$f":"+SUMIFS(Sheet4!$DM$2:$DM$8408,Sheet4!$C$2:$C$8408,Sheet3!$B10,Sheet4!$D$2:$D$8408,Sheet3!BJ$3,Sheet4!$E$2:$E$8408,Sheet3!BJ$4,Sheet4!$A$2:$A$8408,Sheet3!$B$1,Sheet4!$B$2:$B$8408,Sheet3!$A$3)","v":0},{"$f":"+SUMIFS(Sheet4!$DM$2:$DM$8408,Sheet4!$C$2:$C$8408,Sheet3!$B10,Sheet4!$D$2:$D$8408,Sheet3!BK$3,Sheet4!$E$2:$E$8408,Sheet3!BK$4,Sheet4!$A$2:$A$8408,Sheet3!$B$1,Sheet4!$B$2:$B$8408,Sheet3!$A$3)","v":0},{"$f":"+SUMIFS(Sheet4!$DM$2:$DM$8408,Sheet4!$C$2:$C$8408,Sheet3!$B10,Sheet4!$D$2:$D$8408,Sheet3!BL$3,Sheet4!$E$2:$E$8408,Sheet3!BL$4,Sheet4!$A$2:$A$8408,Sheet3!$B$1,Sheet4!$B$2:$B$8408,Sheet3!$A$3)","v":115},{"$f":"+SUMIFS(Sheet4!$DM$2:$DM$8408,Sheet4!$C$2:$C$8408,Sheet3!$B10,Sheet4!$D$2:$D$8408,Sheet3!BM$3,Sheet4!$E$2:$E$8408,Sheet3!BM$4,Sheet4!$A$2:$A$8408,Sheet3!$B$1,Sheet4!$B$2:$B$8408,Sheet3!$A$3)","v":173},{"$f":"+SUMIFS(Sheet4!$DM$2:$DM$8408,Sheet4!$C$2:$C$8408,Sheet3!$B10,Sheet4!$D$2:$D$8408,Sheet3!BN$3,Sheet4!$E$2:$E$8408,Sheet3!BN$4,Sheet4!$A$2:$A$8408,Sheet3!$B$1,Sheet4!$B$2:$B$8408,Sheet3!$A$3)","v":29},{"$f":"+SUMIFS(Sheet4!$DM$2:$DM$8408,Sheet4!$C$2:$C$8408,Sheet3!$B10,Sheet4!$D$2:$D$8408,Sheet3!BO$3,Sheet4!$E$2:$E$8408,Sheet3!BO$4,Sheet4!$A$2:$A$8408,Sheet3!$B$1,Sheet4!$B$2:$B$8408,Sheet3!$A$3)","v":0},{"$f":"+SUMIFS(Sheet4!$DM$2:$DM$8408,Sheet4!$C$2:$C$8408,Sheet3!$B10,Sheet4!$D$2:$D$8408,Sheet3!BP$3,Sheet4!$E$2:$E$8408,Sheet3!BP$4,Sheet4!$A$2:$A$8408,Sheet3!$B$1,Sheet4!$B$2:$B$8408,Sheet3!$A$3)","v":0},{"$f":"+SUMIFS(Sheet4!$DM$2:$DM$8408,Sheet4!$C$2:$C$8408,Sheet3!$B10,Sheet4!$D$2:$D$8408,Sheet3!BQ$3,Sheet4!$E$2:$E$8408,Sheet3!BQ$4,Sheet4!$A$2:$A$8408,Sheet3!$B$1,Sheet4!$B$2:$B$8408,Sheet3!$A$3)","v":62},{"$f":"+SUMIFS(Sheet4!$DM$2:$DM$8408,Sheet4!$C$2:$C$8408,Sheet3!$B10,Sheet4!$D$2:$D$8408,Sheet3!BR$3,Sheet4!$E$2:$E$8408,Sheet3!BR$4,Sheet4!$A$2:$A$8408,Sheet3!$B$1,Sheet4!$B$2:$B$8408,Sheet3!$A$3)","v":339},{"$f":"+SUMIFS(Sheet4!$DM$2:$DM$8408,Sheet4!$C$2:$C$8408,Sheet3!$B10,Sheet4!$D$2:$D$8408,Sheet3!BS$3,Sheet4!$E$2:$E$8408,Sheet3!BS$4,Sheet4!$A$2:$A$8408,Sheet3!$B$1,Sheet4!$B$2:$B$8408,Sheet3!$A$3)","v":43},{"$f":"+SUMIFS(Sheet4!$DM$2:$DM$8408,Sheet4!$C$2:$C$8408,Sheet3!$B10,Sheet4!$D$2:$D$8408,Sheet3!BT$3,Sheet4!$E$2:$E$8408,Sheet3!BT$4,Sheet4!$A$2:$A$8408,Sheet3!$B$1,Sheet4!$B$2:$B$8408,Sheet3!$A$3)","v":0},{"$f":"+SUMIFS(Sheet4!$DM$2:$DM$8408,Sheet4!$C$2:$C$8408,Sheet3!$B10,Sheet4!$D$2:$D$8408,Sheet3!BU$3,Sheet4!$E$2:$E$8408,Sheet3!BU$4,Sheet4!$A$2:$A$8408,Sheet3!$B$1,Sheet4!$B$2:$B$8408,Sheet3!$A$3)","v":0},{"$f":"+SUMIFS(Sheet4!$DM$2:$DM$8408,Sheet4!$C$2:$C$8408,Sheet3!$B10,Sheet4!$D$2:$D$8408,Sheet3!BV$3,Sheet4!$E$2:$E$8408,Sheet3!BV$4,Sheet4!$A$2:$A$8408,Sheet3!$B$1,Sheet4!$B$2:$B$8408,Sheet3!$A$3)","v":243},{"$f":"+SUMIFS(Sheet4!$DM$2:$DM$8408,Sheet4!$C$2:$C$8408,Sheet3!$B10,Sheet4!$D$2:$D$8408,Sheet3!BW$3,Sheet4!$E$2:$E$8408,Sheet3!BW$4,Sheet4!$A$2:$A$8408,Sheet3!$B$1,Sheet4!$B$2:$B$8408,Sheet3!$A$3)","v":511},{"$f":"+SUMIFS(Sheet4!$DM$2:$DM$8408,Sheet4!$C$2:$C$8408,Sheet3!$B10,Sheet4!$D$2:$D$8408,Sheet3!BX$3,Sheet4!$E$2:$E$8408,Sheet3!BX$4,Sheet4!$A$2:$A$8408,Sheet3!$B$1,Sheet4!$B$2:$B$8408,Sheet3!$A$3)","v":73},{"$f":"+SUMIFS(Sheet4!$DM$2:$DM$8408,Sheet4!$C$2:$C$8408,Sheet3!$B10,Sheet4!$D$2:$D$8408,Sheet3!BY$3,Sheet4!$E$2:$E$8408,Sheet3!BY$4,Sheet4!$A$2:$A$8408,Sheet3!$B$1,Sheet4!$B$2:$B$8408,Sheet3!$A$3)","v":0},{"$f":"+SUMIFS(Sheet4!$DM$2:$DM$8408,Sheet4!$C$2:$C$8408,Sheet3!$B10,Sheet4!$D$2:$D$8408,Sheet3!BZ$3,Sheet4!$E$2:$E$8408,Sheet3!BZ$4,Sheet4!$A$2:$A$8408,Sheet3!$B$1,Sheet4!$B$2:$B$8408,Sheet3!$A$3)","v":0},{"$f":"+SUMIFS(Sheet4!$DM$2:$DM$8408,Sheet4!$C$2:$C$8408,Sheet3!$B10,Sheet4!$D$2:$D$8408,Sheet3!CA$3,Sheet4!$E$2:$E$8408,Sheet3!CA$4,Sheet4!$A$2:$A$8408,Sheet3!$B$1,Sheet4!$B$2:$B$8408,Sheet3!$A$3)","v":248},{"$f":"+SUMIFS(Sheet4!$DM$2:$DM$8408,Sheet4!$C$2:$C$8408,Sheet3!$B10,Sheet4!$D$2:$D$8408,Sheet3!CB$3,Sheet4!$E$2:$E$8408,Sheet3!CB$4,Sheet4!$A$2:$A$8408,Sheet3!$B$1,Sheet4!$B$2:$B$8408,Sheet3!$A$3)","v":184},{"$f":"+SUMIFS(Sheet4!$DM$2:$DM$8408,Sheet4!$C$2:$C$8408,Sheet3!$B10,Sheet4!$D$2:$D$8408,Sheet3!CC$3,Sheet4!$E$2:$E$8408,Sheet3!CC$4,Sheet4!$A$2:$A$8408,Sheet3!$B$1,Sheet4!$B$2:$B$8408,Sheet3!$A$3)","v":24},{"$f":"+SUMIFS(Sheet4!$DM$2:$DM$8408,Sheet4!$C$2:$C$8408,Sheet3!$B10,Sheet4!$D$2:$D$8408,Sheet3!CD$3,Sheet4!$E$2:$E$8408,Sheet3!CD$4,Sheet4!$A$2:$A$8408,Sheet3!$B$1,Sheet4!$B$2:$B$8408,Sheet3!$A$3)","v":0},{"$f":"+SUMIFS(Sheet4!$DM$2:$DM$8408,Sheet4!$C$2:$C$8408,Sheet3!$B10,Sheet4!$D$2:$D$8408,Sheet3!CE$3,Sheet4!$E$2:$E$8408,Sheet3!CE$4,Sheet4!$A$2:$A$8408,Sheet3!$B$1,Sheet4!$B$2:$B$8408,Sheet3!$A$3)","v":0},{"$f":"+SUMIFS(Sheet4!$DM$2:$DM$8408,Sheet4!$C$2:$C$8408,Sheet3!$B10,Sheet4!$D$2:$D$8408,Sheet3!CF$3,Sheet4!$E$2:$E$8408,Sheet3!CF$4,Sheet4!$A$2:$A$8408,Sheet3!$B$1,Sheet4!$B$2:$B$8408,Sheet3!$A$3)","v":459},{"$f":"+SUMIFS(Sheet4!$DM$2:$DM$8408,Sheet4!$C$2:$C$8408,Sheet3!$B10,Sheet4!$D$2:$D$8408,Sheet3!CG$3,Sheet4!$E$2:$E$8408,Sheet3!CG$4,Sheet4!$A$2:$A$8408,Sheet3!$B$1,Sheet4!$B$2:$B$8408,Sheet3!$A$3)","v":131},{"$f":"+SUMIFS(Sheet4!$DM$2:$DM$8408,Sheet4!$C$2:$C$8408,Sheet3!$B10,Sheet4!$D$2:$D$8408,Sheet3!CH$3,Sheet4!$E$2:$E$8408,Sheet3!CH$4,Sheet4!$A$2:$A$8408,Sheet3!$B$1,Sheet4!$B$2:$B$8408,Sheet3!$A$3)","v":0},{"$f":"+SUMIFS(Sheet4!$DM$2:$DM$8408,Sheet4!$C$2:$C$8408,Sheet3!$B10,Sheet4!$D$2:$D$8408,Sheet3!CI$3,Sheet4!$E$2:$E$8408,Sheet3!CI$4,Sheet4!$A$2:$A$8408,Sheet3!$B$1,Sheet4!$B$2:$B$8408,Sheet3!$A$3)","v":0},{"$f":"+SUMIFS(Sheet4!$DM$2:$DM$8408,Sheet4!$C$2:$C$8408,Sheet3!$B10,Sheet4!$D$2:$D$8408,Sheet3!CJ$3,Sheet4!$E$2:$E$8408,Sheet3!CJ$4,Sheet4!$A$2:$A$8408,Sheet3!$B$1,Sheet4!$B$2:$B$8408,Sheet3!$A$3)","v":0},{"$f":"+SUMIFS(Sheet4!$DM$2:$DM$8408,Sheet4!$C$2:$C$8408,Sheet3!$B10,Sheet4!$D$2:$D$8408,Sheet3!CK$3,Sheet4!$E$2:$E$8408,Sheet3!CK$4,Sheet4!$A$2:$A$8408,Sheet3!$B$1,Sheet4!$B$2:$B$8408,Sheet3!$A$3)","v":0},{"$f":"+SUMIFS(Sheet4!$DM$2:$DM$8408,Sheet4!$C$2:$C$8408,Sheet3!$B10,Sheet4!$D$2:$D$8408,Sheet3!CL$3,Sheet4!$E$2:$E$8408,Sheet3!CL$4,Sheet4!$A$2:$A$8408,Sheet3!$B$1,Sheet4!$B$2:$B$8408,Sheet3!$A$3)","v":0},{"$f":"+SUMIFS(Sheet4!$DM$2:$DM$8408,Sheet4!$C$2:$C$8408,Sheet3!$B10,Sheet4!$D$2:$D$8408,Sheet3!CM$3,Sheet4!$E$2:$E$8408,Sheet3!CM$4,Sheet4!$A$2:$A$8408,Sheet3!$B$1,Sheet4!$B$2:$B$8408,Sheet3!$A$3)","v":0},{"$f":"+SUMIFS(Sheet4!$DM$2:$DM$8408,Sheet4!$C$2:$C$8408,Sheet3!$B10,Sheet4!$D$2:$D$8408,Sheet3!CN$3,Sheet4!$E$2:$E$8408,Sheet3!CN$4,Sheet4!$A$2:$A$8408,Sheet3!$B$1,Sheet4!$B$2:$B$8408,Sheet3!$A$3)","v":0},{"$f":"+SUMIFS(Sheet4!$DM$2:$DM$8408,Sheet4!$C$2:$C$8408,Sheet3!$B10,Sheet4!$D$2:$D$8408,Sheet3!CO$3,Sheet4!$E$2:$E$8408,Sheet3!CO$4,Sheet4!$A$2:$A$8408,Sheet3!$B$1,Sheet4!$B$2:$B$8408,Sheet3!$A$3)","v":0},{"$f":"+SUMIFS(Sheet4!$DM$2:$DM$8408,Sheet4!$C$2:$C$8408,Sheet3!$B10,Sheet4!$D$2:$D$8408,Sheet3!CP$3,Sheet4!$E$2:$E$8408,Sheet3!CP$4,Sheet4!$A$2:$A$8408,Sheet3!$B$1,Sheet4!$B$2:$B$8408,Sheet3!$A$3)","v":0},{"$f":"+SUMIFS(Sheet4!$DM$2:$DM$8408,Sheet4!$C$2:$C$8408,Sheet3!$B10,Sheet4!$D$2:$D$8408,Sheet3!CQ$3,Sheet4!$E$2:$E$8408,Sheet3!CQ$4,Sheet4!$A$2:$A$8408,Sheet3!$B$1,Sheet4!$B$2:$B$8408,Sheet3!$A$3)","v":0},{"$f":"+SUMIFS(Sheet4!$DM$2:$DM$8408,Sheet4!$C$2:$C$8408,Sheet3!$B10,Sheet4!$D$2:$D$8408,Sheet3!CR$3,Sheet4!$E$2:$E$8408,Sheet3!CR$4,Sheet4!$A$2:$A$8408,Sheet3!$B$1,Sheet4!$B$2:$B$8408,Sheet3!$A$3)","v":0},{"$f":"+SUMIFS(Sheet4!$DM$2:$DM$8408,Sheet4!$C$2:$C$8408,Sheet3!$B10,Sheet4!$D$2:$D$8408,Sheet3!CS$3,Sheet4!$E$2:$E$8408,Sheet3!CS$4,Sheet4!$A$2:$A$8408,Sheet3!$B$1,Sheet4!$B$2:$B$8408,Sheet3!$A$3)","v":0},{"$f":"+SUMIFS(Sheet4!$DM$2:$DM$8408,Sheet4!$C$2:$C$8408,Sheet3!$B10,Sheet4!$D$2:$D$8408,Sheet3!CT$3,Sheet4!$E$2:$E$8408,Sheet3!CT$4,Sheet4!$A$2:$A$8408,Sheet3!$B$1,Sheet4!$B$2:$B$8408,Sheet3!$A$3)","v":0},{"$f":"+IF(SUMIFS(Sheet4!$DN$2:$DN$8408,Sheet4!$C$2:$C$8408,Sheet3!$B10,Sheet4!$D$2:$D$8408,Sheet3!CU$3,Sheet4!$A$2:$A$8408,Sheet3!$B$1,Sheet4!$B$2:$B$8408,Sheet3!$A$3)<3,0,SUMIFS(Sheet4!$DN$2:$DN$8408,Sheet4!$C$2:$C$8408,Sheet3!$B10,Sheet4!$D$2:$D$8408,Sheet3!CU$3,Sheet4!$A$2:$A$8408,Sheet3!$B$1,Sheet4!$B$2:$B$8408,Sheet3!$A$3))","v":3},{"$f":"+IF(SUMIFS(Sheet4!$DN$2:$DN$8408,Sheet4!$C$2:$C$8408,Sheet3!$B10,Sheet4!$D$2:$D$8408,Sheet3!CV$3,Sheet4!$A$2:$A$8408,Sheet3!$B$1,Sheet4!$B$2:$B$8408,Sheet3!$A$3)<3,0,SUMIFS(Sheet4!$DN$2:$DN$8408,Sheet4!$C$2:$C$8408,Sheet3!$B10,Sheet4!$D$2:$D$8408,Sheet3!CV$3,Sheet4!$A$2:$A$8408,Sheet3!$B$1,Sheet4!$B$2:$B$8408,Sheet3!$A$3))","v":478},{"$f":"+IF(SUMIFS(Sheet4!$DN$2:$DN$8408,Sheet4!$C$2:$C$8408,Sheet3!$B10,Sheet4!$D$2:$D$8408,Sheet3!CW$3,Sheet4!$A$2:$A$8408,Sheet3!$B$1,Sheet4!$B$2:$B$8408,Sheet3!$A$3)<3,0,SUMIFS(Sheet4!$DN$2:$DN$8408,Sheet4!$C$2:$C$8408,Sheet3!$B10,Sheet4!$D$2:$D$8408,Sheet3!CW$3,Sheet4!$A$2:$A$8408,Sheet3!$B$1,Sheet4!$B$2:$B$8408,Sheet3!$A$3))","v":144},{"$f":"+IF(SUMIFS(Sheet4!$DN$2:$DN$8408,Sheet4!$C$2:$C$8408,Sheet3!$B10,Sheet4!$D$2:$D$8408,Sheet3!CX$3,Sheet4!$A$2:$A$8408,Sheet3!$B$1,Sheet4!$B$2:$B$8408,Sheet3!$A$3)<3,0,SUMIFS(Sheet4!$DN$2:$DN$8408,Sheet4!$C$2:$C$8408,Sheet3!$B10,Sheet4!$D$2:$D$8408,Sheet3!CX$3,Sheet4!$A$2:$A$8408,Sheet3!$B$1,Sheet4!$B$2:$B$8408,Sheet3!$A$3))","v":0},{"$f":"+IF(SUMIFS(Sheet4!$DN$2:$DN$8408,Sheet4!$C$2:$C$8408,Sheet3!$B10,Sheet4!$D$2:$D$8408,Sheet3!CY$3,Sheet4!$A$2:$A$8408,Sheet3!$B$1,Sheet4!$B$2:$B$8408,Sheet3!$A$3)<3,0,SUMIFS(Sheet4!$DN$2:$DN$8408,Sheet4!$C$2:$C$8408,Sheet3!$B10,Sheet4!$D$2:$D$8408,Sheet3!CY$3,Sheet4!$A$2:$A$8408,Sheet3!$B$1,Sheet4!$B$2:$B$8408,Sheet3!$A$3))","v":0},{"$f":"+IF(SUMIFS(Sheet4!$DN$2:$DN$8408,Sheet4!$C$2:$C$8408,Sheet3!$B10,Sheet4!$D$2:$D$8408,Sheet3!CZ$3,Sheet4!$A$2:$A$8408,Sheet3!$B$1,Sheet4!$B$2:$B$8408,Sheet3!$A$3)<3,0,SUMIFS(Sheet4!$DN$2:$DN$8408,Sheet4!$C$2:$C$8408,Sheet3!$B10,Sheet4!$D$2:$D$8408,Sheet3!CZ$3,Sheet4!$A$2:$A$8408,Sheet3!$B$1,Sheet4!$B$2:$B$8408,Sheet3!$A$3))","v":129},{"$f":"+IF(SUMIFS(Sheet4!$DN$2:$DN$8408,Sheet4!$C$2:$C$8408,Sheet3!$B10,Sheet4!$D$2:$D$8408,Sheet3!DA$3,Sheet4!$A$2:$A$8408,Sheet3!$B$1,Sheet4!$B$2:$B$8408,Sheet3!$A$3)<3,0,SUMIFS(Sheet4!$DN$2:$DN$8408,Sheet4!$C$2:$C$8408,Sheet3!$B10,Sheet4!$D$2:$D$8408,Sheet3!DA$3,Sheet4!$A$2:$A$8408,Sheet3!$B$1,Sheet4!$B$2:$B$8408,Sheet3!$A$3))","v":278},{"$f":"+IF(SUMIFS(Sheet4!$DN$2:$DN$8408,Sheet4!$C$2:$C$8408,Sheet3!$B10,Sheet4!$D$2:$D$8408,Sheet3!DB$3,Sheet4!$A$2:$A$8408,Sheet3!$B$1,Sheet4!$B$2:$B$8408,Sheet3!$A$3)<3,0,SUMIFS(Sheet4!$DN$2:$DN$8408,Sheet4!$C$2:$C$8408,Sheet3!$B10,Sheet4!$D$2:$D$8408,Sheet3!DB$3,Sheet4!$A$2:$A$8408,Sheet3!$B$1,Sheet4!$B$2:$B$8408,Sheet3!$A$3))","v":198},{"$f":"+IF(SUMIFS(Sheet4!$DN$2:$DN$8408,Sheet4!$C$2:$C$8408,Sheet3!$B10,Sheet4!$D$2:$D$8408,Sheet3!DC$3,Sheet4!$A$2:$A$8408,Sheet3!$B$1,Sheet4!$B$2:$B$8408,Sheet3!$A$3)<3,0,SUMIFS(Sheet4!$DN$2:$DN$8408,Sheet4!$C$2:$C$8408,Sheet3!$B10,Sheet4!$D$2:$D$8408,Sheet3!DC$3,Sheet4!$A$2:$A$8408,Sheet3!$B$1,Sheet4!$B$2:$B$8408,Sheet3!$A$3))","v":4},{"$f":"+IF(SUMIFS(Sheet4!$DN$2:$DN$8408,Sheet4!$C$2:$C$8408,Sheet3!$B10,Sheet4!$D$2:$D$8408,Sheet3!DD$3,Sheet4!$A$2:$A$8408,Sheet3!$B$1,Sheet4!$B$2:$B$8408,Sheet3!$A$3)<3,0,SUMIFS(Sheet4!$DN$2:$DN$8408,Sheet4!$C$2:$C$8408,Sheet3!$B10,Sheet4!$D$2:$D$8408,Sheet3!DD$3,Sheet4!$A$2:$A$8408,Sheet3!$B$1,Sheet4!$B$2:$B$8408,Sheet3!$A$3))","v":838},{"$f":"+IF(SUMIFS(Sheet4!$DN$2:$DN$8408,Sheet4!$C$2:$C$8408,Sheet3!$B10,Sheet4!$D$2:$D$8408,Sheet3!DE$3,Sheet4!$A$2:$A$8408,Sheet3!$B$1,Sheet4!$B$2:$B$8408,Sheet3!$A$3)<3,0,SUMIFS(Sheet4!$DN$2:$DN$8408,Sheet4!$C$2:$C$8408,Sheet3!$B10,Sheet4!$D$2:$D$8408,Sheet3!DE$3,Sheet4!$A$2:$A$8408,Sheet3!$B$1,Sheet4!$B$2:$B$8408,Sheet3!$A$3))","v":133},{"$f":"+IF(SUMIFS(Sheet4!$DN$2:$DN$8408,Sheet4!$C$2:$C$8408,Sheet3!$B10,Sheet4!$D$2:$D$8408,Sheet3!DF$3,Sheet4!$A$2:$A$8408,Sheet3!$B$1,Sheet4!$B$2:$B$8408,Sheet3!$A$3)<3,0,SUMIFS(Sheet4!$DN$2:$DN$8408,Sheet4!$C$2:$C$8408,Sheet3!$B10,Sheet4!$D$2:$D$8408,Sheet3!DF$3,Sheet4!$A$2:$A$8408,Sheet3!$B$1,Sheet4!$B$2:$B$8408,Sheet3!$A$3))","v":155},{"$f":"+IF(SUMIFS(Sheet4!$DN$2:$DN$8408,Sheet4!$C$2:$C$8408,Sheet3!$B10,Sheet4!$D$2:$D$8408,Sheet3!DG$3,Sheet4!$A$2:$A$8408,Sheet3!$B$1,Sheet4!$B$2:$B$8408,Sheet3!$A$3)<3,0,SUMIFS(Sheet4!$DN$2:$DN$8408,Sheet4!$C$2:$C$8408,Sheet3!$B10,Sheet4!$D$2:$D$8408,Sheet3!DG$3,Sheet4!$A$2:$A$8408,Sheet3!$B$1,Sheet4!$B$2:$B$8408,Sheet3!$A$3))","v":320},{"$f":"+IF(SUMIFS(Sheet4!$DN$2:$DN$8408,Sheet4!$C$2:$C$8408,Sheet3!$B10,Sheet4!$D$2:$D$8408,Sheet3!DH$3,Sheet4!$A$2:$A$8408,Sheet3!$B$1,Sheet4!$B$2:$B$8408,Sheet3!$A$3)<3,0,SUMIFS(Sheet4!$DN$2:$DN$8408,Sheet4!$C$2:$C$8408,Sheet3!$B10,Sheet4!$D$2:$D$8408,Sheet3!DH$3,Sheet4!$A$2:$A$8408,Sheet3!$B$1,Sheet4!$B$2:$B$8408,Sheet3!$A$3))","v":445},{"$f":"+IF(SUMIFS(Sheet4!$DN$2:$DN$8408,Sheet4!$C$2:$C$8408,Sheet3!$B10,Sheet4!$D$2:$D$8408,Sheet3!DI$3,Sheet4!$A$2:$A$8408,Sheet3!$B$1,Sheet4!$B$2:$B$8408,Sheet3!$A$3)<3,0,SUMIFS(Sheet4!$DN$2:$DN$8408,Sheet4!$C$2:$C$8408,Sheet3!$B10,Sheet4!$D$2:$D$8408,Sheet3!DI$3,Sheet4!$A$2:$A$8408,Sheet3!$B$1,Sheet4!$B$2:$B$8408,Sheet3!$A$3))","v":833},{"$f":"+IF(SUMIFS(Sheet4!$DN$2:$DN$8408,Sheet4!$C$2:$C$8408,Sheet3!$B10,Sheet4!$D$2:$D$8408,Sheet3!DJ$3,Sheet4!$A$2:$A$8408,Sheet3!$B$1,Sheet4!$B$2:$B$8408,Sheet3!$A$3)<3,0,SUMIFS(Sheet4!$DN$2:$DN$8408,Sheet4!$C$2:$C$8408,Sheet3!$B10,Sheet4!$D$2:$D$8408,Sheet3!DJ$3,Sheet4!$A$2:$A$8408,Sheet3!$B$1,Sheet4!$B$2:$B$8408,Sheet3!$A$3))","v":456},{"$f":"+IF(SUMIFS(Sheet4!$DN$2:$DN$8408,Sheet4!$C$2:$C$8408,Sheet3!$B10,Sheet4!$D$2:$D$8408,Sheet3!DK$3,Sheet4!$A$2:$A$8408,Sheet3!$B$1,Sheet4!$B$2:$B$8408,Sheet3!$A$3)<3,0,SUMIFS(Sheet4!$DN$2:$DN$8408,Sheet4!$C$2:$C$8408,Sheet3!$B10,Sheet4!$D$2:$D$8408,Sheet3!DK$3,Sheet4!$A$2:$A$8408,Sheet3!$B$1,Sheet4!$B$2:$B$8408,Sheet3!$A$3))","v":592},{"$f":"+IF(SUMIFS(Sheet4!$DN$2:$DN$8408,Sheet4!$C$2:$C$8408,Sheet3!$B10,Sheet4!$D$2:$D$8408,Sheet3!DL$3,Sheet4!$A$2:$A$8408,Sheet3!$B$1,Sheet4!$B$2:$B$8408,Sheet3!$A$3)<3,0,SUMIFS(Sheet4!$DN$2:$DN$8408,Sheet4!$C$2:$C$8408,Sheet3!$B10,Sheet4!$D$2:$D$8408,Sheet3!DL$3,Sheet4!$A$2:$A$8408,Sheet3!$B$1,Sheet4!$B$2:$B$8408,Sheet3!$A$3))","v":0},{"$f":"+IF(SUMIFS(Sheet4!$DN$2:$DN$8408,Sheet4!$C$2:$C$8408,Sheet3!$B10,Sheet4!$D$2:$D$8408,Sheet3!DM$3,Sheet4!$A$2:$A$8408,Sheet3!$B$1,Sheet4!$B$2:$B$8408,Sheet3!$A$3)<3,0,SUMIFS(Sheet4!$DN$2:$DN$8408,Sheet4!$C$2:$C$8408,Sheet3!$B10,Sheet4!$D$2:$D$8408,Sheet3!DM$3,Sheet4!$A$2:$A$8408,Sheet3!$B$1,Sheet4!$B$2:$B$8408,Sheet3!$A$3))","v":0},{"$f":"+IF(SUMIFS(Sheet4!$DN$2:$DN$8408,Sheet4!$C$2:$C$8408,Sheet3!$B10,Sheet4!$E$2:$E$8408,Sheet3!DN$4,Sheet4!$A$2:$A$8408,Sheet3!$B$1,Sheet4!$B$2:$B$8408,Sheet3!$A$3)<3,0,SUMIFS(Sheet4!$DN$2:$DN$8408,Sheet4!$C$2:$C$8408,Sheet3!$B10,Sheet4!$E$2:$E$8408,Sheet3!DN$4,Sheet4!$A$2:$A$8408,Sheet3!$B$1,Sheet4!$B$2:$B$8408,Sheet3!$A$3))","v":2541},{"$f":"+IF(SUMIFS(Sheet4!$DN$2:$DN$8408,Sheet4!$C$2:$C$8408,Sheet3!$B10,Sheet4!$E$2:$E$8408,Sheet3!DO$4,Sheet4!$A$2:$A$8408,Sheet3!$B$1,Sheet4!$B$2:$B$8408,Sheet3!$A$3)<3,0,SUMIFS(Sheet4!$DN$2:$DN$8408,Sheet4!$C$2:$C$8408,Sheet3!$B10,Sheet4!$E$2:$E$8408,Sheet3!DO$4,Sheet4!$A$2:$A$8408,Sheet3!$B$1,Sheet4!$B$2:$B$8408,Sheet3!$A$3))","v":1967},{"$f":"+IF(SUMIFS(Sheet4!$DN$2:$DN$8408,Sheet4!$C$2:$C$8408,Sheet3!$B10,Sheet4!$E$2:$E$8408,Sheet3!DP$4,Sheet4!$A$2:$A$8408,Sheet3!$B$1,Sheet4!$B$2:$B$8408,Sheet3!$A$3)<3,0,SUMIFS(Sheet4!$DN$2:$DN$8408,Sheet4!$C$2:$C$8408,Sheet3!$B10,Sheet4!$E$2:$E$8408,Sheet3!DP$4,Sheet4!$A$2:$A$8408,Sheet3!$B$1,Sheet4!$B$2:$B$8408,Sheet3!$A$3))","v":370},{"$f":"+IF(SUMIFS(Sheet4!$DN$2:$DN$8408,Sheet4!$C$2:$C$8408,Sheet3!$B10,Sheet4!$E$2:$E$8408,Sheet3!DQ$4,Sheet4!$A$2:$A$8408,Sheet3!$B$1,Sheet4!$B$2:$B$8408,Sheet3!$A$3)<3,0,SUMIFS(Sheet4!$DN$2:$DN$8408,Sheet4!$C$2:$C$8408,Sheet3!$B10,Sheet4!$E$2:$E$8408,Sheet3!DQ$4,Sheet4!$A$2:$A$8408,Sheet3!$B$1,Sheet4!$B$2:$B$8408,Sheet3!$A$3))","v":124},{"$f":"+IF(SUMIFS(Sheet4!$DN$2:$DN$8408,Sheet4!$C$2:$C$8408,Sheet3!$B10,Sheet4!$E$2:$E$8408,Sheet3!DR$4,Sheet4!$A$2:$A$8408,Sheet3!$B$1,Sheet4!$B$2:$B$8408,Sheet3!$A$3)<3,0,SUMIFS(Sheet4!$DN$2:$DN$8408,Sheet4!$C$2:$C$8408,Sheet3!$B10,Sheet4!$E$2:$E$8408,Sheet3!DR$4,Sheet4!$A$2:$A$8408,Sheet3!$B$1,Sheet4!$B$2:$B$8408,Sheet3!$A$3))","v":6}]
[1,"11A","Área Metropolitana do Porto",{"$f":"+SUMIFS(Sheet4!$DM$2:$DM$8408,Sheet4!$C$2:$C$8408,Sheet3!$B11,Sheet4!$D$2:$D$8408,Sheet3!D$3,Sheet4!$E$2:$E$8408,Sheet3!D$4,Sheet4!$A$2:$A$8408,Sheet3!$B$1,Sheet4!$B$2:$B$8408,Sheet3!$A$3)","v":0},{"$f":"+SUMIFS(Sheet4!$DM$2:$DM$8408,Sheet4!$C$2:$C$8408,Sheet3!$B11,Sheet4!$D$2:$D$8408,Sheet3!E$3,Sheet4!$E$2:$E$8408,Sheet3!E$4,Sheet4!$A$2:$A$8408,Sheet3!$B$1,Sheet4!$B$2:$B$8408,Sheet3!$A$3)","v":0},{"$f":"+SUMIFS(Sheet4!$DM$2:$DM$8408,Sheet4!$C$2:$C$8408,Sheet3!$B11,Sheet4!$D$2:$D$8408,Sheet3!F$3,Sheet4!$E$2:$E$8408,Sheet3!F$4,Sheet4!$A$2:$A$8408,Sheet3!$B$1,Sheet4!$B$2:$B$8408,Sheet3!$A$3)","v":0},{"$f":"+SUMIFS(Sheet4!$DM$2:$DM$8408,Sheet4!$C$2:$C$8408,Sheet3!$B11,Sheet4!$D$2:$D$8408,Sheet3!G$3,Sheet4!$E$2:$E$8408,Sheet3!G$4,Sheet4!$A$2:$A$8408,Sheet3!$B$1,Sheet4!$B$2:$B$8408,Sheet3!$A$3)","v":0},{"$f":"+SUMIFS(Sheet4!$DM$2:$DM$8408,Sheet4!$C$2:$C$8408,Sheet3!$B11,Sheet4!$D$2:$D$8408,Sheet3!H$3,Sheet4!$E$2:$E$8408,Sheet3!H$4,Sheet4!$A$2:$A$8408,Sheet3!$B$1,Sheet4!$B$2:$B$8408,Sheet3!$A$3)","v":0},{"$f":"+SUMIFS(Sheet4!$DM$2:$DM$8408,Sheet4!$C$2:$C$8408,Sheet3!$B11,Sheet4!$D$2:$D$8408,Sheet3!I$3,Sheet4!$E$2:$E$8408,Sheet3!I$4,Sheet4!$A$2:$A$8408,Sheet3!$B$1,Sheet4!$B$2:$B$8408,Sheet3!$A$3)","v":773},{"$f":"+SUMIFS(Sheet4!$DM$2:$DM$8408,Sheet4!$C$2:$C$8408,Sheet3!$B11,Sheet4!$D$2:$D$8408,Sheet3!J$3,Sheet4!$E$2:$E$8408,Sheet3!J$4,Sheet4!$A$2:$A$8408,Sheet3!$B$1,Sheet4!$B$2:$B$8408,Sheet3!$A$3)","v":67},{"$f":"+SUMIFS(Sheet4!$DM$2:$DM$8408,Sheet4!$C$2:$C$8408,Sheet3!$B11,Sheet4!$D$2:$D$8408,Sheet3!K$3,Sheet4!$E$2:$E$8408,Sheet3!K$4,Sheet4!$A$2:$A$8408,Sheet3!$B$1,Sheet4!$B$2:$B$8408,Sheet3!$A$3)","v":5},{"$f":"+SUMIFS(Sheet4!$DM$2:$DM$8408,Sheet4!$C$2:$C$8408,Sheet3!$B11,Sheet4!$D$2:$D$8408,Sheet3!L$3,Sheet4!$E$2:$E$8408,Sheet3!L$4,Sheet4!$A$2:$A$8408,Sheet3!$B$1,Sheet4!$B$2:$B$8408,Sheet3!$A$3)","v":0},{"$f":"+SUMIFS(Sheet4!$DM$2:$DM$8408,Sheet4!$C$2:$C$8408,Sheet3!$B11,Sheet4!$D$2:$D$8408,Sheet3!M$3,Sheet4!$E$2:$E$8408,Sheet3!M$4,Sheet4!$A$2:$A$8408,Sheet3!$B$1,Sheet4!$B$2:$B$8408,Sheet3!$A$3)","v":0},{"$f":"+SUMIFS(Sheet4!$DM$2:$DM$8408,Sheet4!$C$2:$C$8408,Sheet3!$B11,Sheet4!$D$2:$D$8408,Sheet3!N$3,Sheet4!$E$2:$E$8408,Sheet3!N$4,Sheet4!$A$2:$A$8408,Sheet3!$B$1,Sheet4!$B$2:$B$8408,Sheet3!$A$3)","v":108},{"$f":"+SUMIFS(Sheet4!$DM$2:$DM$8408,Sheet4!$C$2:$C$8408,Sheet3!$B11,Sheet4!$D$2:$D$8408,Sheet3!O$3,Sheet4!$E$2:$E$8408,Sheet3!O$4,Sheet4!$A$2:$A$8408,Sheet3!$B$1,Sheet4!$B$2:$B$8408,Sheet3!$A$3)","v":3},{"$f":"+SUMIFS(Sheet4!$DM$2:$DM$8408,Sheet4!$C$2:$C$8408,Sheet3!$B11,Sheet4!$D$2:$D$8408,Sheet3!P$3,Sheet4!$E$2:$E$8408,Sheet3!P$4,Sheet4!$A$2:$A$8408,Sheet3!$B$1,Sheet4!$B$2:$B$8408,Sheet3!$A$3)","v":0},{"$f":"+SUMIFS(Sheet4!$DM$2:$DM$8408,Sheet4!$C$2:$C$8408,Sheet3!$B11,Sheet4!$D$2:$D$8408,Sheet3!Q$3,Sheet4!$E$2:$E$8408,Sheet3!Q$4,Sheet4!$A$2:$A$8408,Sheet3!$B$1,Sheet4!$B$2:$B$8408,Sheet3!$A$3)","v":0},{"$f":"+SUMIFS(Sheet4!$DM$2:$DM$8408,Sheet4!$C$2:$C$8408,Sheet3!$B11,Sheet4!$D$2:$D$8408,Sheet3!R$3,Sheet4!$E$2:$E$8408,Sheet3!R$4,Sheet4!$A$2:$A$8408,Sheet3!$B$1,Sheet4!$B$2:$B$8408,Sheet3!$A$3)","v":0},{"$f":"+SUMIFS(Sheet4!$DM$2:$DM$8408,Sheet4!$C$2:$C$8408,Sheet3!$B11,Sheet4!$D$2:$D$8408,Sheet3!S$3,Sheet4!$E$2:$E$8408,Sheet3!S$4,Sheet4!$A$2:$A$8408,Sheet3!$B$1,Sheet4!$B$2:$B$8408,Sheet3!$A$3)","v":0},{"$f":"+SUMIFS(Sheet4!$DM$2:$DM$8408,Sheet4!$C$2:$C$8408,Sheet3!$B11,Sheet4!$D$2:$D$8408,Sheet3!T$3,Sheet4!$E$2:$E$8408,Sheet3!T$4,Sheet4!$A$2:$A$8408,Sheet3!$B$1,Sheet4!$B$2:$B$8408,Sheet3!$A$3)","v":0},{"$f":"+SUMIFS(Sheet4!$DM$2:$DM$8408,Sheet4!$C$2:$C$8408,Sheet3!$B11,Sheet4!$D$2:$D$8408,Sheet3!U$3,Sheet4!$E$2:$E$8408,Sheet3!U$4,Sheet4!$A$2:$A$8408,Sheet3!$B$1,Sheet4!$B$2:$B$8408,Sheet3!$A$3)","v":0},{"$f":"+SUMIFS(Sheet4!$DM$2:$DM$8408,Sheet4!$C$2:$C$8408,Sheet3!$B11,Sheet4!$D$2:$D$8408,Sheet3!V$3,Sheet4!$E$2:$E$8408,Sheet3!V$4,Sheet4!$A$2:$A$8408,Sheet3!$B$1,Sheet4!$B$2:$B$8408,Sheet3!$A$3)","v":0},{"$f":"+SUMIFS(Sheet4!$DM$2:$DM$8408,Sheet4!$C$2:$C$8408,Sheet3!$B11,Sheet4!$D$2:$D$8408,Sheet3!W$3,Sheet4!$E$2:$E$8408,Sheet3!W$4,Sheet4!$A$2:$A$8408,Sheet3!$B$1,Sheet4!$B$2:$B$8408,Sheet3!$A$3)","v":0},{"$f":"+SUMIFS(Sheet4!$DM$2:$DM$8408,Sheet4!$C$2:$C$8408,Sheet3!$B11,Sheet4!$D$2:$D$8408,Sheet3!X$3,Sheet4!$E$2:$E$8408,Sheet3!X$4,Sheet4!$A$2:$A$8408,Sheet3!$B$1,Sheet4!$B$2:$B$8408,Sheet3!$A$3)","v":0},{"$f":"+SUMIFS(Sheet4!$DM$2:$DM$8408,Sheet4!$C$2:$C$8408,Sheet3!$B11,Sheet4!$D$2:$D$8408,Sheet3!Y$3,Sheet4!$E$2:$E$8408,Sheet3!Y$4,Sheet4!$A$2:$A$8408,Sheet3!$B$1,Sheet4!$B$2:$B$8408,Sheet3!$A$3)","v":0},{"$f":"+SUMIFS(Sheet4!$DM$2:$DM$8408,Sheet4!$C$2:$C$8408,Sheet3!$B11,Sheet4!$D$2:$D$8408,Sheet3!Z$3,Sheet4!$E$2:$E$8408,Sheet3!Z$4,Sheet4!$A$2:$A$8408,Sheet3!$B$1,Sheet4!$B$2:$B$8408,Sheet3!$A$3)","v":0},{"$f":"+SUMIFS(Sheet4!$DM$2:$DM$8408,Sheet4!$C$2:$C$8408,Sheet3!$B11,Sheet4!$D$2:$D$8408,Sheet3!AA$3,Sheet4!$E$2:$E$8408,Sheet3!AA$4,Sheet4!$A$2:$A$8408,Sheet3!$B$1,Sheet4!$B$2:$B$8408,Sheet3!$A$3)","v":0},{"$f":"+SUMIFS(Sheet4!$DM$2:$DM$8408,Sheet4!$C$2:$C$8408,Sheet3!$B11,Sheet4!$D$2:$D$8408,Sheet3!AB$3,Sheet4!$E$2:$E$8408,Sheet3!AB$4,Sheet4!$A$2:$A$8408,Sheet3!$B$1,Sheet4!$B$2:$B$8408,Sheet3!$A$3)","v":0},{"$f":"+SUMIFS(Sheet4!$DM$2:$DM$8408,Sheet4!$C$2:$C$8408,Sheet3!$B11,Sheet4!$D$2:$D$8408,Sheet3!AC$3,Sheet4!$E$2:$E$8408,Sheet3!AC$4,Sheet4!$A$2:$A$8408,Sheet3!$B$1,Sheet4!$B$2:$B$8408,Sheet3!$A$3)","v":54},{"$f":"+SUMIFS(Sheet4!$DM$2:$DM$8408,Sheet4!$C$2:$C$8408,Sheet3!$B11,Sheet4!$D$2:$D$8408,Sheet3!AD$3,Sheet4!$E$2:$E$8408,Sheet3!AD$4,Sheet4!$A$2:$A$8408,Sheet3!$B$1,Sheet4!$B$2:$B$8408,Sheet3!$A$3)","v":124},{"$f":"+SUMIFS(Sheet4!$DM$2:$DM$8408,Sheet4!$C$2:$C$8408,Sheet3!$B11,Sheet4!$D$2:$D$8408,Sheet3!AE$3,Sheet4!$E$2:$E$8408,Sheet3!AE$4,Sheet4!$A$2:$A$8408,Sheet3!$B$1,Sheet4!$B$2:$B$8408,Sheet3!$A$3)","v":48},{"$f":"+SUMIFS(Sheet4!$DM$2:$DM$8408,Sheet4!$C$2:$C$8408,Sheet3!$B11,Sheet4!$D$2:$D$8408,Sheet3!AF$3,Sheet4!$E$2:$E$8408,Sheet3!AF$4,Sheet4!$A$2:$A$8408,Sheet3!$B$1,Sheet4!$B$2:$B$8408,Sheet3!$A$3)","v":4},{"$f":"+SUMIFS(Sheet4!$DM$2:$DM$8408,Sheet4!$C$2:$C$8408,Sheet3!$B11,Sheet4!$D$2:$D$8408,Sheet3!AG$3,Sheet4!$E$2:$E$8408,Sheet3!AG$4,Sheet4!$A$2:$A$8408,Sheet3!$B$1,Sheet4!$B$2:$B$8408,Sheet3!$A$3)","v":0},{"$f":"+SUMIFS(Sheet4!$DM$2:$DM$8408,Sheet4!$C$2:$C$8408,Sheet3!$B11,Sheet4!$D$2:$D$8408,Sheet3!AH$3,Sheet4!$E$2:$E$8408,Sheet3!AH$4,Sheet4!$A$2:$A$8408,Sheet3!$B$1,Sheet4!$B$2:$B$8408,Sheet3!$A$3)","v":35},{"$f":"+SUMIFS(Sheet4!$DM$2:$DM$8408,Sheet4!$C$2:$C$8408,Sheet3!$B11,Sheet4!$D$2:$D$8408,Sheet3!AI$3,Sheet4!$E$2:$E$8408,Sheet3!AI$4,Sheet4!$A$2:$A$8408,Sheet3!$B$1,Sheet4!$B$2:$B$8408,Sheet3!$A$3)","v":52},{"$f":"+SUMIFS(Sheet4!$DM$2:$DM$8408,Sheet4!$C$2:$C$8408,Sheet3!$B11,Sheet4!$D$2:$D$8408,Sheet3!AJ$3,Sheet4!$E$2:$E$8408,Sheet3!AJ$4,Sheet4!$A$2:$A$8408,Sheet3!$B$1,Sheet4!$B$2:$B$8408,Sheet3!$A$3)","v":8},{"$f":"+SUMIFS(Sheet4!$DM$2:$DM$8408,Sheet4!$C$2:$C$8408,Sheet3!$B11,Sheet4!$D$2:$D$8408,Sheet3!AK$3,Sheet4!$E$2:$E$8408,Sheet3!AK$4,Sheet4!$A$2:$A$8408,Sheet3!$B$1,Sheet4!$B$2:$B$8408,Sheet3!$A$3)","v":0},{"$f":"+SUMIFS(Sheet4!$DM$2:$DM$8408,Sheet4!$C$2:$C$8408,Sheet3!$B11,Sheet4!$D$2:$D$8408,Sheet3!AL$3,Sheet4!$E$2:$E$8408,Sheet3!AL$4,Sheet4!$A$2:$A$8408,Sheet3!$B$1,Sheet4!$B$2:$B$8408,Sheet3!$A$3)","v":0},{"$f":"+SUMIFS(Sheet4!$DM$2:$DM$8408,Sheet4!$C$2:$C$8408,Sheet3!$B11,Sheet4!$D$2:$D$8408,Sheet3!AM$3,Sheet4!$E$2:$E$8408,Sheet3!AM$4,Sheet4!$A$2:$A$8408,Sheet3!$B$1,Sheet4!$B$2:$B$8408,Sheet3!$A$3)","v":36},{"$f":"+SUMIFS(Sheet4!$DM$2:$DM$8408,Sheet4!$C$2:$C$8408,Sheet3!$B11,Sheet4!$D$2:$D$8408,Sheet3!AN$3,Sheet4!$E$2:$E$8408,Sheet3!AN$4,Sheet4!$A$2:$A$8408,Sheet3!$B$1,Sheet4!$B$2:$B$8408,Sheet3!$A$3)","v":98},{"$f":"+SUMIFS(Sheet4!$DM$2:$DM$8408,Sheet4!$C$2:$C$8408,Sheet3!$B11,Sheet4!$D$2:$D$8408,Sheet3!AO$3,Sheet4!$E$2:$E$8408,Sheet3!AO$4,Sheet4!$A$2:$A$8408,Sheet3!$B$1,Sheet4!$B$2:$B$8408,Sheet3!$A$3)","v":89},{"$f":"+SUMIFS(Sheet4!$DM$2:$DM$8408,Sheet4!$C$2:$C$8408,Sheet3!$B11,Sheet4!$D$2:$D$8408,Sheet3!AP$3,Sheet4!$E$2:$E$8408,Sheet3!AP$4,Sheet4!$A$2:$A$8408,Sheet3!$B$1,Sheet4!$B$2:$B$8408,Sheet3!$A$3)","v":8},{"$f":"+SUMIFS(Sheet4!$DM$2:$DM$8408,Sheet4!$C$2:$C$8408,Sheet3!$B11,Sheet4!$D$2:$D$8408,Sheet3!AQ$3,Sheet4!$E$2:$E$8408,Sheet3!AQ$4,Sheet4!$A$2:$A$8408,Sheet3!$B$1,Sheet4!$B$2:$B$8408,Sheet3!$A$3)","v":0},{"$f":"+SUMIFS(Sheet4!$DM$2:$DM$8408,Sheet4!$C$2:$C$8408,Sheet3!$B11,Sheet4!$D$2:$D$8408,Sheet3!AR$3,Sheet4!$E$2:$E$8408,Sheet3!AR$4,Sheet4!$A$2:$A$8408,Sheet3!$B$1,Sheet4!$B$2:$B$8408,Sheet3!$A$3)","v":0},{"$f":"+SUMIFS(Sheet4!$DM$2:$DM$8408,Sheet4!$C$2:$C$8408,Sheet3!$B11,Sheet4!$D$2:$D$8408,Sheet3!AS$3,Sheet4!$E$2:$E$8408,Sheet3!AS$4,Sheet4!$A$2:$A$8408,Sheet3!$B$1,Sheet4!$B$2:$B$8408,Sheet3!$A$3)","v":0},{"$f":"+SUMIFS(Sheet4!$DM$2:$DM$8408,Sheet4!$C$2:$C$8408,Sheet3!$B11,Sheet4!$D$2:$D$8408,Sheet3!AT$3,Sheet4!$E$2:$E$8408,Sheet3!AT$4,Sheet4!$A$2:$A$8408,Sheet3!$B$1,Sheet4!$B$2:$B$8408,Sheet3!$A$3)","v":0},{"$f":"+SUMIFS(Sheet4!$DM$2:$DM$8408,Sheet4!$C$2:$C$8408,Sheet3!$B11,Sheet4!$D$2:$D$8408,Sheet3!AU$3,Sheet4!$E$2:$E$8408,Sheet3!AU$4,Sheet4!$A$2:$A$8408,Sheet3!$B$1,Sheet4!$B$2:$B$8408,Sheet3!$A$3)","v":0},{"$f":"+SUMIFS(Sheet4!$DM$2:$DM$8408,Sheet4!$C$2:$C$8408,Sheet3!$B11,Sheet4!$D$2:$D$8408,Sheet3!AV$3,Sheet4!$E$2:$E$8408,Sheet3!AV$4,Sheet4!$A$2:$A$8408,Sheet3!$B$1,Sheet4!$B$2:$B$8408,Sheet3!$A$3)","v":0},{"$f":"+SUMIFS(Sheet4!$DM$2:$DM$8408,Sheet4!$C$2:$C$8408,Sheet3!$B11,Sheet4!$D$2:$D$8408,Sheet3!AW$3,Sheet4!$E$2:$E$8408,Sheet3!AW$4,Sheet4!$A$2:$A$8408,Sheet3!$B$1,Sheet4!$B$2:$B$8408,Sheet3!$A$3)","v":655},{"$f":"+SUMIFS(Sheet4!$DM$2:$DM$8408,Sheet4!$C$2:$C$8408,Sheet3!$B11,Sheet4!$D$2:$D$8408,Sheet3!AX$3,Sheet4!$E$2:$E$8408,Sheet3!AX$4,Sheet4!$A$2:$A$8408,Sheet3!$B$1,Sheet4!$B$2:$B$8408,Sheet3!$A$3)","v":228},{"$f":"+SUMIFS(Sheet4!$DM$2:$DM$8408,Sheet4!$C$2:$C$8408,Sheet3!$B11,Sheet4!$D$2:$D$8408,Sheet3!AY$3,Sheet4!$E$2:$E$8408,Sheet3!AY$4,Sheet4!$A$2:$A$8408,Sheet3!$B$1,Sheet4!$B$2:$B$8408,Sheet3!$A$3)","v":17},{"$f":"+SUMIFS(Sheet4!$DM$2:$DM$8408,Sheet4!$C$2:$C$8408,Sheet3!$B11,Sheet4!$D$2:$D$8408,Sheet3!AZ$3,Sheet4!$E$2:$E$8408,Sheet3!AZ$4,Sheet4!$A$2:$A$8408,Sheet3!$B$1,Sheet4!$B$2:$B$8408,Sheet3!$A$3)","v":0},{"$f":"+SUMIFS(Sheet4!$DM$2:$DM$8408,Sheet4!$C$2:$C$8408,Sheet3!$B11,Sheet4!$D$2:$D$8408,Sheet3!BA$3,Sheet4!$E$2:$E$8408,Sheet3!BA$4,Sheet4!$A$2:$A$8408,Sheet3!$B$1,Sheet4!$B$2:$B$8408,Sheet3!$A$3)","v":0},{"$f":"+SUMIFS(Sheet4!$DM$2:$DM$8408,Sheet4!$C$2:$C$8408,Sheet3!$B11,Sheet4!$D$2:$D$8408,Sheet3!BB$3,Sheet4!$E$2:$E$8408,Sheet3!BB$4,Sheet4!$A$2:$A$8408,Sheet3!$B$1,Sheet4!$B$2:$B$8408,Sheet3!$A$3)","v":11},{"$f":"+SUMIFS(Sheet4!$DM$2:$DM$8408,Sheet4!$C$2:$C$8408,Sheet3!$B11,Sheet4!$D$2:$D$8408,Sheet3!BC$3,Sheet4!$E$2:$E$8408,Sheet3!BC$4,Sheet4!$A$2:$A$8408,Sheet3!$B$1,Sheet4!$B$2:$B$8408,Sheet3!$A$3)","v":38},{"$f":"+SUMIFS(Sheet4!$DM$2:$DM$8408,Sheet4!$C$2:$C$8408,Sheet3!$B11,Sheet4!$D$2:$D$8408,Sheet3!BD$3,Sheet4!$E$2:$E$8408,Sheet3!BD$4,Sheet4!$A$2:$A$8408,Sheet3!$B$1,Sheet4!$B$2:$B$8408,Sheet3!$A$3)","v":99},{"$f":"+SUMIFS(Sheet4!$DM$2:$DM$8408,Sheet4!$C$2:$C$8408,Sheet3!$B11,Sheet4!$D$2:$D$8408,Sheet3!BE$3,Sheet4!$E$2:$E$8408,Sheet3!BE$4,Sheet4!$A$2:$A$8408,Sheet3!$B$1,Sheet4!$B$2:$B$8408,Sheet3!$A$3)","v":384},{"$f":"+SUMIFS(Sheet4!$DM$2:$DM$8408,Sheet4!$C$2:$C$8408,Sheet3!$B11,Sheet4!$D$2:$D$8408,Sheet3!BF$3,Sheet4!$E$2:$E$8408,Sheet3!BF$4,Sheet4!$A$2:$A$8408,Sheet3!$B$1,Sheet4!$B$2:$B$8408,Sheet3!$A$3)","v":39},{"$f":"+SUMIFS(Sheet4!$DM$2:$DM$8408,Sheet4!$C$2:$C$8408,Sheet3!$B11,Sheet4!$D$2:$D$8408,Sheet3!BG$3,Sheet4!$E$2:$E$8408,Sheet3!BG$4,Sheet4!$A$2:$A$8408,Sheet3!$B$1,Sheet4!$B$2:$B$8408,Sheet3!$A$3)","v":19},{"$f":"+SUMIFS(Sheet4!$DM$2:$DM$8408,Sheet4!$C$2:$C$8408,Sheet3!$B11,Sheet4!$D$2:$D$8408,Sheet3!BH$3,Sheet4!$E$2:$E$8408,Sheet3!BH$4,Sheet4!$A$2:$A$8408,Sheet3!$B$1,Sheet4!$B$2:$B$8408,Sheet3!$A$3)","v":20},{"$f":"+SUMIFS(Sheet4!$DM$2:$DM$8408,Sheet4!$C$2:$C$8408,Sheet3!$B11,Sheet4!$D$2:$D$8408,Sheet3!BI$3,Sheet4!$E$2:$E$8408,Sheet3!BI$4,Sheet4!$A$2:$A$8408,Sheet3!$B$1,Sheet4!$B$2:$B$8408,Sheet3!$A$3)","v":3},{"$f":"+SUMIFS(Sheet4!$DM$2:$DM$8408,Sheet4!$C$2:$C$8408,Sheet3!$B11,Sheet4!$D$2:$D$8408,Sheet3!BJ$3,Sheet4!$E$2:$E$8408,Sheet3!BJ$4,Sheet4!$A$2:$A$8408,Sheet3!$B$1,Sheet4!$B$2:$B$8408,Sheet3!$A$3)","v":0},{"$f":"+SUMIFS(Sheet4!$DM$2:$DM$8408,Sheet4!$C$2:$C$8408,Sheet3!$B11,Sheet4!$D$2:$D$8408,Sheet3!BK$3,Sheet4!$E$2:$E$8408,Sheet3!BK$4,Sheet4!$A$2:$A$8408,Sheet3!$B$1,Sheet4!$B$2:$B$8408,Sheet3!$A$3)","v":0},{"$f":"+SUMIFS(Sheet4!$DM$2:$DM$8408,Sheet4!$C$2:$C$8408,Sheet3!$B11,Sheet4!$D$2:$D$8408,Sheet3!BL$3,Sheet4!$E$2:$E$8408,Sheet3!BL$4,Sheet4!$A$2:$A$8408,Sheet3!$B$1,Sheet4!$B$2:$B$8408,Sheet3!$A$3)","v":109},{"$f":"+SUMIFS(Sheet4!$DM$2:$DM$8408,Sheet4!$C$2:$C$8408,Sheet3!$B11,Sheet4!$D$2:$D$8408,Sheet3!BM$3,Sheet4!$E$2:$E$8408,Sheet3!BM$4,Sheet4!$A$2:$A$8408,Sheet3!$B$1,Sheet4!$B$2:$B$8408,Sheet3!$A$3)","v":279},{"$f":"+SUMIFS(Sheet4!$DM$2:$DM$8408,Sheet4!$C$2:$C$8408,Sheet3!$B11,Sheet4!$D$2:$D$8408,Sheet3!BN$3,Sheet4!$E$2:$E$8408,Sheet3!BN$4,Sheet4!$A$2:$A$8408,Sheet3!$B$1,Sheet4!$B$2:$B$8408,Sheet3!$A$3)","v":100},{"$f":"+SUMIFS(Sheet4!$DM$2:$DM$8408,Sheet4!$C$2:$C$8408,Sheet3!$B11,Sheet4!$D$2:$D$8408,Sheet3!BO$3,Sheet4!$E$2:$E$8408,Sheet3!BO$4,Sheet4!$A$2:$A$8408,Sheet3!$B$1,Sheet4!$B$2:$B$8408,Sheet3!$A$3)","v":5},{"$f":"+SUMIFS(Sheet4!$DM$2:$DM$8408,Sheet4!$C$2:$C$8408,Sheet3!$B11,Sheet4!$D$2:$D$8408,Sheet3!BP$3,Sheet4!$E$2:$E$8408,Sheet3!BP$4,Sheet4!$A$2:$A$8408,Sheet3!$B$1,Sheet4!$B$2:$B$8408,Sheet3!$A$3)","v":0},{"$f":"+SUMIFS(Sheet4!$DM$2:$DM$8408,Sheet4!$C$2:$C$8408,Sheet3!$B11,Sheet4!$D$2:$D$8408,Sheet3!BQ$3,Sheet4!$E$2:$E$8408,Sheet3!BQ$4,Sheet4!$A$2:$A$8408,Sheet3!$B$1,Sheet4!$B$2:$B$8408,Sheet3!$A$3)","v":13},{"$f":"+SUMIFS(Sheet4!$DM$2:$DM$8408,Sheet4!$C$2:$C$8408,Sheet3!$B11,Sheet4!$D$2:$D$8408,Sheet3!BR$3,Sheet4!$E$2:$E$8408,Sheet3!BR$4,Sheet4!$A$2:$A$8408,Sheet3!$B$1,Sheet4!$B$2:$B$8408,Sheet3!$A$3)","v":31},{"$f":"+SUMIFS(Sheet4!$DM$2:$DM$8408,Sheet4!$C$2:$C$8408,Sheet3!$B11,Sheet4!$D$2:$D$8408,Sheet3!BS$3,Sheet4!$E$2:$E$8408,Sheet3!BS$4,Sheet4!$A$2:$A$8408,Sheet3!$B$1,Sheet4!$B$2:$B$8408,Sheet3!$A$3)","v":0},{"$f":"+SUMIFS(Sheet4!$DM$2:$DM$8408,Sheet4!$C$2:$C$8408,Sheet3!$B11,Sheet4!$D$2:$D$8408,Sheet3!BT$3,Sheet4!$E$2:$E$8408,Sheet3!BT$4,Sheet4!$A$2:$A$8408,Sheet3!$B$1,Sheet4!$B$2:$B$8408,Sheet3!$A$3)","v":0},{"$f":"+SUMIFS(Sheet4!$DM$2:$DM$8408,Sheet4!$C$2:$C$8408,Sheet3!$B11,Sheet4!$D$2:$D$8408,Sheet3!BU$3,Sheet4!$E$2:$E$8408,Sheet3!BU$4,Sheet4!$A$2:$A$8408,Sheet3!$B$1,Sheet4!$B$2:$B$8408,Sheet3!$A$3)","v":0},{"$f":"+SUMIFS(Sheet4!$DM$2:$DM$8408,Sheet4!$C$2:$C$8408,Sheet3!$B11,Sheet4!$D$2:$D$8408,Sheet3!BV$3,Sheet4!$E$2:$E$8408,Sheet3!BV$4,Sheet4!$A$2:$A$8408,Sheet3!$B$1,Sheet4!$B$2:$B$8408,Sheet3!$A$3)","v":63},{"$f":"+SUMIFS(Sheet4!$DM$2:$DM$8408,Sheet4!$C$2:$C$8408,Sheet3!$B11,Sheet4!$D$2:$D$8408,Sheet3!BW$3,Sheet4!$E$2:$E$8408,Sheet3!BW$4,Sheet4!$A$2:$A$8408,Sheet3!$B$1,Sheet4!$B$2:$B$8408,Sheet3!$A$3)","v":81},{"$f":"+SUMIFS(Sheet4!$DM$2:$DM$8408,Sheet4!$C$2:$C$8408,Sheet3!$B11,Sheet4!$D$2:$D$8408,Sheet3!BX$3,Sheet4!$E$2:$E$8408,Sheet3!BX$4,Sheet4!$A$2:$A$8408,Sheet3!$B$1,Sheet4!$B$2:$B$8408,Sheet3!$A$3)","v":11},{"$f":"+SUMIFS(Sheet4!$DM$2:$DM$8408,Sheet4!$C$2:$C$8408,Sheet3!$B11,Sheet4!$D$2:$D$8408,Sheet3!BY$3,Sheet4!$E$2:$E$8408,Sheet3!BY$4,Sheet4!$A$2:$A$8408,Sheet3!$B$1,Sheet4!$B$2:$B$8408,Sheet3!$A$3)","v":0},{"$f":"+SUMIFS(Sheet4!$DM$2:$DM$8408,Sheet4!$C$2:$C$8408,Sheet3!$B11,Sheet4!$D$2:$D$8408,Sheet3!BZ$3,Sheet4!$E$2:$E$8408,Sheet3!BZ$4,Sheet4!$A$2:$A$8408,Sheet3!$B$1,Sheet4!$B$2:$B$8408,Sheet3!$A$3)","v":0},{"$f":"+SUMIFS(Sheet4!$DM$2:$DM$8408,Sheet4!$C$2:$C$8408,Sheet3!$B11,Sheet4!$D$2:$D$8408,Sheet3!CA$3,Sheet4!$E$2:$E$8408,Sheet3!CA$4,Sheet4!$A$2:$A$8408,Sheet3!$B$1,Sheet4!$B$2:$B$8408,Sheet3!$A$3)","v":258},{"$f":"+SUMIFS(Sheet4!$DM$2:$DM$8408,Sheet4!$C$2:$C$8408,Sheet3!$B11,Sheet4!$D$2:$D$8408,Sheet3!CB$3,Sheet4!$E$2:$E$8408,Sheet3!CB$4,Sheet4!$A$2:$A$8408,Sheet3!$B$1,Sheet4!$B$2:$B$8408,Sheet3!$A$3)","v":113},{"$f":"+SUMIFS(Sheet4!$DM$2:$DM$8408,Sheet4!$C$2:$C$8408,Sheet3!$B11,Sheet4!$D$2:$D$8408,Sheet3!CC$3,Sheet4!$E$2:$E$8408,Sheet3!CC$4,Sheet4!$A$2:$A$8408,Sheet3!$B$1,Sheet4!$B$2:$B$8408,Sheet3!$A$3)","v":13},{"$f":"+SUMIFS(Sheet4!$DM$2:$DM$8408,Sheet4!$C$2:$C$8408,Sheet3!$B11,Sheet4!$D$2:$D$8408,Sheet3!CD$3,Sheet4!$E$2:$E$8408,Sheet3!CD$4,Sheet4!$A$2:$A$8408,Sheet3!$B$1,Sheet4!$B$2:$B$8408,Sheet3!$A$3)","v":0},{"$f":"+SUMIFS(Sheet4!$DM$2:$DM$8408,Sheet4!$C$2:$C$8408,Sheet3!$B11,Sheet4!$D$2:$D$8408,Sheet3!CE$3,Sheet4!$E$2:$E$8408,Sheet3!CE$4,Sheet4!$A$2:$A$8408,Sheet3!$B$1,Sheet4!$B$2:$B$8408,Sheet3!$A$3)","v":0},{"$f":"+SUMIFS(Sheet4!$DM$2:$DM$8408,Sheet4!$C$2:$C$8408,Sheet3!$B11,Sheet4!$D$2:$D$8408,Sheet3!CF$3,Sheet4!$E$2:$E$8408,Sheet3!CF$4,Sheet4!$A$2:$A$8408,Sheet3!$B$1,Sheet4!$B$2:$B$8408,Sheet3!$A$3)","v":386},{"$f":"+SUMIFS(Sheet4!$DM$2:$DM$8408,Sheet4!$C$2:$C$8408,Sheet3!$B11,Sheet4!$D$2:$D$8408,Sheet3!CG$3,Sheet4!$E$2:$E$8408,Sheet3!CG$4,Sheet4!$A$2:$A$8408,Sheet3!$B$1,Sheet4!$B$2:$B$8408,Sheet3!$A$3)","v":382},{"$f":"+SUMIFS(Sheet4!$DM$2:$DM$8408,Sheet4!$C$2:$C$8408,Sheet3!$B11,Sheet4!$D$2:$D$8408,Sheet3!CH$3,Sheet4!$E$2:$E$8408,Sheet3!CH$4,Sheet4!$A$2:$A$8408,Sheet3!$B$1,Sheet4!$B$2:$B$8408,Sheet3!$A$3)","v":9},{"$f":"+SUMIFS(Sheet4!$DM$2:$DM$8408,Sheet4!$C$2:$C$8408,Sheet3!$B11,Sheet4!$D$2:$D$8408,Sheet3!CI$3,Sheet4!$E$2:$E$8408,Sheet3!CI$4,Sheet4!$A$2:$A$8408,Sheet3!$B$1,Sheet4!$B$2:$B$8408,Sheet3!$A$3)","v":0},{"$f":"+SUMIFS(Sheet4!$DM$2:$DM$8408,Sheet4!$C$2:$C$8408,Sheet3!$B11,Sheet4!$D$2:$D$8408,Sheet3!CJ$3,Sheet4!$E$2:$E$8408,Sheet3!CJ$4,Sheet4!$A$2:$A$8408,Sheet3!$B$1,Sheet4!$B$2:$B$8408,Sheet3!$A$3)","v":0},{"$f":"+SUMIFS(Sheet4!$DM$2:$DM$8408,Sheet4!$C$2:$C$8408,Sheet3!$B11,Sheet4!$D$2:$D$8408,Sheet3!CK$3,Sheet4!$E$2:$E$8408,Sheet3!CK$4,Sheet4!$A$2:$A$8408,Sheet3!$B$1,Sheet4!$B$2:$B$8408,Sheet3!$A$3)","v":0},{"$f":"+SUMIFS(Sheet4!$DM$2:$DM$8408,Sheet4!$C$2:$C$8408,Sheet3!$B11,Sheet4!$D$2:$D$8408,Sheet3!CL$3,Sheet4!$E$2:$E$8408,Sheet3!CL$4,Sheet4!$A$2:$A$8408,Sheet3!$B$1,Sheet4!$B$2:$B$8408,Sheet3!$A$3)","v":0},{"$f":"+SUMIFS(Sheet4!$DM$2:$DM$8408,Sheet4!$C$2:$C$8408,Sheet3!$B11,Sheet4!$D$2:$D$8408,Sheet3!CM$3,Sheet4!$E$2:$E$8408,Sheet3!CM$4,Sheet4!$A$2:$A$8408,Sheet3!$B$1,Sheet4!$B$2:$B$8408,Sheet3!$A$3)","v":0},{"$f":"+SUMIFS(Sheet4!$DM$2:$DM$8408,Sheet4!$C$2:$C$8408,Sheet3!$B11,Sheet4!$D$2:$D$8408,Sheet3!CN$3,Sheet4!$E$2:$E$8408,Sheet3!CN$4,Sheet4!$A$2:$A$8408,Sheet3!$B$1,Sheet4!$B$2:$B$8408,Sheet3!$A$3)","v":0},{"$f":"+SUMIFS(Sheet4!$DM$2:$DM$8408,Sheet4!$C$2:$C$8408,Sheet3!$B11,Sheet4!$D$2:$D$8408,Sheet3!CO$3,Sheet4!$E$2:$E$8408,Sheet3!CO$4,Sheet4!$A$2:$A$8408,Sheet3!$B$1,Sheet4!$B$2:$B$8408,Sheet3!$A$3)","v":0},{"$f":"+SUMIFS(Sheet4!$DM$2:$DM$8408,Sheet4!$C$2:$C$8408,Sheet3!$B11,Sheet4!$D$2:$D$8408,Sheet3!CP$3,Sheet4!$E$2:$E$8408,Sheet3!CP$4,Sheet4!$A$2:$A$8408,Sheet3!$B$1,Sheet4!$B$2:$B$8408,Sheet3!$A$3)","v":4},{"$f":"+SUMIFS(Sheet4!$DM$2:$DM$8408,Sheet4!$C$2:$C$8408,Sheet3!$B11,Sheet4!$D$2:$D$8408,Sheet3!CQ$3,Sheet4!$E$2:$E$8408,Sheet3!CQ$4,Sheet4!$A$2:$A$8408,Sheet3!$B$1,Sheet4!$B$2:$B$8408,Sheet3!$A$3)","v":0},{"$f":"+SUMIFS(Sheet4!$DM$2:$DM$8408,Sheet4!$C$2:$C$8408,Sheet3!$B11,Sheet4!$D$2:$D$8408,Sheet3!CR$3,Sheet4!$E$2:$E$8408,Sheet3!CR$4,Sheet4!$A$2:$A$8408,Sheet3!$B$1,Sheet4!$B$2:$B$8408,Sheet3!$A$3)","v":0},{"$f":"+SUMIFS(Sheet4!$DM$2:$DM$8408,Sheet4!$C$2:$C$8408,Sheet3!$B11,Sheet4!$D$2:$D$8408,Sheet3!CS$3,Sheet4!$E$2:$E$8408,Sheet3!CS$4,Sheet4!$A$2:$A$8408,Sheet3!$B$1,Sheet4!$B$2:$B$8408,Sheet3!$A$3)","v":0},{"$f":"+SUMIFS(Sheet4!$DM$2:$DM$8408,Sheet4!$C$2:$C$8408,Sheet3!$B11,Sheet4!$D$2:$D$8408,Sheet3!CT$3,Sheet4!$E$2:$E$8408,Sheet3!CT$4,Sheet4!$A$2:$A$8408,Sheet3!$B$1,Sheet4!$B$2:$B$8408,Sheet3!$A$3)","v":0},{"$f":"+IF(SUMIFS(Sheet4!$DN$2:$DN$8408,Sheet4!$C$2:$C$8408,Sheet3!$B11,Sheet4!$D$2:$D$8408,Sheet3!CU$3,Sheet4!$A$2:$A$8408,Sheet3!$B$1,Sheet4!$B$2:$B$8408,Sheet3!$A$3)<3,0,SUMIFS(Sheet4!$DN$2:$DN$8408,Sheet4!$C$2:$C$8408,Sheet3!$B11,Sheet4!$D$2:$D$8408,Sheet3!CU$3,Sheet4!$A$2:$A$8408,Sheet3!$B$1,Sheet4!$B$2:$B$8408,Sheet3!$A$3))","v":0},{"$f":"+IF(SUMIFS(Sheet4!$DN$2:$DN$8408,Sheet4!$C$2:$C$8408,Sheet3!$B11,Sheet4!$D$2:$D$8408,Sheet3!CV$3,Sheet4!$A$2:$A$8408,Sheet3!$B$1,Sheet4!$B$2:$B$8408,Sheet3!$A$3)<3,0,SUMIFS(Sheet4!$DN$2:$DN$8408,Sheet4!$C$2:$C$8408,Sheet3!$B11,Sheet4!$D$2:$D$8408,Sheet3!CV$3,Sheet4!$A$2:$A$8408,Sheet3!$B$1,Sheet4!$B$2:$B$8408,Sheet3!$A$3))","v":852},{"$f":"+IF(SUMIFS(Sheet4!$DN$2:$DN$8408,Sheet4!$C$2:$C$8408,Sheet3!$B11,Sheet4!$D$2:$D$8408,Sheet3!CW$3,Sheet4!$A$2:$A$8408,Sheet3!$B$1,Sheet4!$B$2:$B$8408,Sheet3!$A$3)<3,0,SUMIFS(Sheet4!$DN$2:$DN$8408,Sheet4!$C$2:$C$8408,Sheet3!$B11,Sheet4!$D$2:$D$8408,Sheet3!CW$3,Sheet4!$A$2:$A$8408,Sheet3!$B$1,Sheet4!$B$2:$B$8408,Sheet3!$A$3))","v":112},{"$f":"+IF(SUMIFS(Sheet4!$DN$2:$DN$8408,Sheet4!$C$2:$C$8408,Sheet3!$B11,Sheet4!$D$2:$D$8408,Sheet3!CX$3,Sheet4!$A$2:$A$8408,Sheet3!$B$1,Sheet4!$B$2:$B$8408,Sheet3!$A$3)<3,0,SUMIFS(Sheet4!$DN$2:$DN$8408,Sheet4!$C$2:$C$8408,Sheet3!$B11,Sheet4!$D$2:$D$8408,Sheet3!CX$3,Sheet4!$A$2:$A$8408,Sheet3!$B$1,Sheet4!$B$2:$B$8408,Sheet3!$A$3))","v":0},{"$f":"+IF(SUMIFS(Sheet4!$DN$2:$DN$8408,Sheet4!$C$2:$C$8408,Sheet3!$B11,Sheet4!$D$2:$D$8408,Sheet3!CY$3,Sheet4!$A$2:$A$8408,Sheet3!$B$1,Sheet4!$B$2:$B$8408,Sheet3!$A$3)<3,0,SUMIFS(Sheet4!$DN$2:$DN$8408,Sheet4!$C$2:$C$8408,Sheet3!$B11,Sheet4!$D$2:$D$8408,Sheet3!CY$3,Sheet4!$A$2:$A$8408,Sheet3!$B$1,Sheet4!$B$2:$B$8408,Sheet3!$A$3))","v":0},{"$f":"+IF(SUMIFS(Sheet4!$DN$2:$DN$8408,Sheet4!$C$2:$C$8408,Sheet3!$B11,Sheet4!$D$2:$D$8408,Sheet3!CZ$3,Sheet4!$A$2:$A$8408,Sheet3!$B$1,Sheet4!$B$2:$B$8408,Sheet3!$A$3)<3,0,SUMIFS(Sheet4!$DN$2:$DN$8408,Sheet4!$C$2:$C$8408,Sheet3!$B11,Sheet4!$D$2:$D$8408,Sheet3!CZ$3,Sheet4!$A$2:$A$8408,Sheet3!$B$1,Sheet4!$B$2:$B$8408,Sheet3!$A$3))","v":235},{"$f":"+IF(SUMIFS(Sheet4!$DN$2:$DN$8408,Sheet4!$C$2:$C$8408,Sheet3!$B11,Sheet4!$D$2:$D$8408,Sheet3!DA$3,Sheet4!$A$2:$A$8408,Sheet3!$B$1,Sheet4!$B$2:$B$8408,Sheet3!$A$3)<3,0,SUMIFS(Sheet4!$DN$2:$DN$8408,Sheet4!$C$2:$C$8408,Sheet3!$B11,Sheet4!$D$2:$D$8408,Sheet3!DA$3,Sheet4!$A$2:$A$8408,Sheet3!$B$1,Sheet4!$B$2:$B$8408,Sheet3!$A$3))","v":97},{"$f":"+IF(SUMIFS(Sheet4!$DN$2:$DN$8408,Sheet4!$C$2:$C$8408,Sheet3!$B11,Sheet4!$D$2:$D$8408,Sheet3!DB$3,Sheet4!$A$2:$A$8408,Sheet3!$B$1,Sheet4!$B$2:$B$8408,Sheet3!$A$3)<3,0,SUMIFS(Sheet4!$DN$2:$DN$8408,Sheet4!$C$2:$C$8408,Sheet3!$B11,Sheet4!$D$2:$D$8408,Sheet3!DB$3,Sheet4!$A$2:$A$8408,Sheet3!$B$1,Sheet4!$B$2:$B$8408,Sheet3!$A$3))","v":233},{"$f":"+IF(SUMIFS(Sheet4!$DN$2:$DN$8408,Sheet4!$C$2:$C$8408,Sheet3!$B11,Sheet4!$D$2:$D$8408,Sheet3!DC$3,Sheet4!$A$2:$A$8408,Sheet3!$B$1,Sheet4!$B$2:$B$8408,Sheet3!$A$3)<3,0,SUMIFS(Sheet4!$DN$2:$DN$8408,Sheet4!$C$2:$C$8408,Sheet3!$B11,Sheet4!$D$2:$D$8408,Sheet3!DC$3,Sheet4!$A$2:$A$8408,Sheet3!$B$1,Sheet4!$B$2:$B$8408,Sheet3!$A$3))","v":0},{"$f":"+IF(SUMIFS(Sheet4!$DN$2:$DN$8408,Sheet4!$C$2:$C$8408,Sheet3!$B11,Sheet4!$D$2:$D$8408,Sheet3!DD$3,Sheet4!$A$2:$A$8408,Sheet3!$B$1,Sheet4!$B$2:$B$8408,Sheet3!$A$3)<3,0,SUMIFS(Sheet4!$DN$2:$DN$8408,Sheet4!$C$2:$C$8408,Sheet3!$B11,Sheet4!$D$2:$D$8408,Sheet3!DD$3,Sheet4!$A$2:$A$8408,Sheet3!$B$1,Sheet4!$B$2:$B$8408,Sheet3!$A$3))","v":904},{"$f":"+IF(SUMIFS(Sheet4!$DN$2:$DN$8408,Sheet4!$C$2:$C$8408,Sheet3!$B11,Sheet4!$D$2:$D$8408,Sheet3!DE$3,Sheet4!$A$2:$A$8408,Sheet3!$B$1,Sheet4!$B$2:$B$8408,Sheet3!$A$3)<3,0,SUMIFS(Sheet4!$DN$2:$DN$8408,Sheet4!$C$2:$C$8408,Sheet3!$B11,Sheet4!$D$2:$D$8408,Sheet3!DE$3,Sheet4!$A$2:$A$8408,Sheet3!$B$1,Sheet4!$B$2:$B$8408,Sheet3!$A$3))","v":575},{"$f":"+IF(SUMIFS(Sheet4!$DN$2:$DN$8408,Sheet4!$C$2:$C$8408,Sheet3!$B11,Sheet4!$D$2:$D$8408,Sheet3!DF$3,Sheet4!$A$2:$A$8408,Sheet3!$B$1,Sheet4!$B$2:$B$8408,Sheet3!$A$3)<3,0,SUMIFS(Sheet4!$DN$2:$DN$8408,Sheet4!$C$2:$C$8408,Sheet3!$B11,Sheet4!$D$2:$D$8408,Sheet3!DF$3,Sheet4!$A$2:$A$8408,Sheet3!$B$1,Sheet4!$B$2:$B$8408,Sheet3!$A$3))","v":43},{"$f":"+IF(SUMIFS(Sheet4!$DN$2:$DN$8408,Sheet4!$C$2:$C$8408,Sheet3!$B11,Sheet4!$D$2:$D$8408,Sheet3!DG$3,Sheet4!$A$2:$A$8408,Sheet3!$B$1,Sheet4!$B$2:$B$8408,Sheet3!$A$3)<3,0,SUMIFS(Sheet4!$DN$2:$DN$8408,Sheet4!$C$2:$C$8408,Sheet3!$B11,Sheet4!$D$2:$D$8408,Sheet3!DG$3,Sheet4!$A$2:$A$8408,Sheet3!$B$1,Sheet4!$B$2:$B$8408,Sheet3!$A$3))","v":494},{"$f":"+IF(SUMIFS(Sheet4!$DN$2:$DN$8408,Sheet4!$C$2:$C$8408,Sheet3!$B11,Sheet4!$D$2:$D$8408,Sheet3!DH$3,Sheet4!$A$2:$A$8408,Sheet3!$B$1,Sheet4!$B$2:$B$8408,Sheet3!$A$3)<3,0,SUMIFS(Sheet4!$DN$2:$DN$8408,Sheet4!$C$2:$C$8408,Sheet3!$B11,Sheet4!$D$2:$D$8408,Sheet3!DH$3,Sheet4!$A$2:$A$8408,Sheet3!$B$1,Sheet4!$B$2:$B$8408,Sheet3!$A$3))","v":50},{"$f":"+IF(SUMIFS(Sheet4!$DN$2:$DN$8408,Sheet4!$C$2:$C$8408,Sheet3!$B11,Sheet4!$D$2:$D$8408,Sheet3!DI$3,Sheet4!$A$2:$A$8408,Sheet3!$B$1,Sheet4!$B$2:$B$8408,Sheet3!$A$3)<3,0,SUMIFS(Sheet4!$DN$2:$DN$8408,Sheet4!$C$2:$C$8408,Sheet3!$B11,Sheet4!$D$2:$D$8408,Sheet3!DI$3,Sheet4!$A$2:$A$8408,Sheet3!$B$1,Sheet4!$B$2:$B$8408,Sheet3!$A$3))","v":162},{"$f":"+IF(SUMIFS(Sheet4!$DN$2:$DN$8408,Sheet4!$C$2:$C$8408,Sheet3!$B11,Sheet4!$D$2:$D$8408,Sheet3!DJ$3,Sheet4!$A$2:$A$8408,Sheet3!$B$1,Sheet4!$B$2:$B$8408,Sheet3!$A$3)<3,0,SUMIFS(Sheet4!$DN$2:$DN$8408,Sheet4!$C$2:$C$8408,Sheet3!$B11,Sheet4!$D$2:$D$8408,Sheet3!DJ$3,Sheet4!$A$2:$A$8408,Sheet3!$B$1,Sheet4!$B$2:$B$8408,Sheet3!$A$3))","v":385},{"$f":"+IF(SUMIFS(Sheet4!$DN$2:$DN$8408,Sheet4!$C$2:$C$8408,Sheet3!$B11,Sheet4!$D$2:$D$8408,Sheet3!DK$3,Sheet4!$A$2:$A$8408,Sheet3!$B$1,Sheet4!$B$2:$B$8408,Sheet3!$A$3)<3,0,SUMIFS(Sheet4!$DN$2:$DN$8408,Sheet4!$C$2:$C$8408,Sheet3!$B11,Sheet4!$D$2:$D$8408,Sheet3!DK$3,Sheet4!$A$2:$A$8408,Sheet3!$B$1,Sheet4!$B$2:$B$8408,Sheet3!$A$3))","v":777},{"$f":"+IF(SUMIFS(Sheet4!$DN$2:$DN$8408,Sheet4!$C$2:$C$8408,Sheet3!$B11,Sheet4!$D$2:$D$8408,Sheet3!DL$3,Sheet4!$A$2:$A$8408,Sheet3!$B$1,Sheet4!$B$2:$B$8408,Sheet3!$A$3)<3,0,SUMIFS(Sheet4!$DN$2:$DN$8408,Sheet4!$C$2:$C$8408,Sheet3!$B11,Sheet4!$D$2:$D$8408,Sheet3!DL$3,Sheet4!$A$2:$A$8408,Sheet3!$B$1,Sheet4!$B$2:$B$8408,Sheet3!$A$3))","v":0},{"$f":"+IF(SUMIFS(Sheet4!$DN$2:$DN$8408,Sheet4!$C$2:$C$8408,Sheet3!$B11,Sheet4!$D$2:$D$8408,Sheet3!DM$3,Sheet4!$A$2:$A$8408,Sheet3!$B$1,Sheet4!$B$2:$B$8408,Sheet3!$A$3)<3,0,SUMIFS(Sheet4!$DN$2:$DN$8408,Sheet4!$C$2:$C$8408,Sheet3!$B11,Sheet4!$D$2:$D$8408,Sheet3!DM$3,Sheet4!$A$2:$A$8408,Sheet3!$B$1,Sheet4!$B$2:$B$8408,Sheet3!$A$3))","v":7},{"$f":"+IF(SUMIFS(Sheet4!$DN$2:$DN$8408,Sheet4!$C$2:$C$8408,Sheet3!$B11,Sheet4!$E$2:$E$8408,Sheet3!DN$4,Sheet4!$A$2:$A$8408,Sheet3!$B$1,Sheet4!$B$2:$B$8408,Sheet3!$A$3)<3,0,SUMIFS(Sheet4!$DN$2:$DN$8408,Sheet4!$C$2:$C$8408,Sheet3!$B11,Sheet4!$E$2:$E$8408,Sheet3!DN$4,Sheet4!$A$2:$A$8408,Sheet3!$B$1,Sheet4!$B$2:$B$8408,Sheet3!$A$3))","v":2533},{"$f":"+IF(SUMIFS(Sheet4!$DN$2:$DN$8408,Sheet4!$C$2:$C$8408,Sheet3!$B11,Sheet4!$E$2:$E$8408,Sheet3!DO$4,Sheet4!$A$2:$A$8408,Sheet3!$B$1,Sheet4!$B$2:$B$8408,Sheet3!$A$3)<3,0,SUMIFS(Sheet4!$DN$2:$DN$8408,Sheet4!$C$2:$C$8408,Sheet3!$B11,Sheet4!$E$2:$E$8408,Sheet3!DO$4,Sheet4!$A$2:$A$8408,Sheet3!$B$1,Sheet4!$B$2:$B$8408,Sheet3!$A$3))","v":1531},{"$f":"+IF(SUMIFS(Sheet4!$DN$2:$DN$8408,Sheet4!$C$2:$C$8408,Sheet3!$B11,Sheet4!$E$2:$E$8408,Sheet3!DP$4,Sheet4!$A$2:$A$8408,Sheet3!$B$1,Sheet4!$B$2:$B$8408,Sheet3!$A$3)<3,0,SUMIFS(Sheet4!$DN$2:$DN$8408,Sheet4!$C$2:$C$8408,Sheet3!$B11,Sheet4!$E$2:$E$8408,Sheet3!DP$4,Sheet4!$A$2:$A$8408,Sheet3!$B$1,Sheet4!$B$2:$B$8408,Sheet3!$A$3))","v":416},{"$f":"+IF(SUMIFS(Sheet4!$DN$2:$DN$8408,Sheet4!$C$2:$C$8408,Sheet3!$B11,Sheet4!$E$2:$E$8408,Sheet3!DQ$4,Sheet4!$A$2:$A$8408,Sheet3!$B$1,Sheet4!$B$2:$B$8408,Sheet3!$A$3)<3,0,SUMIFS(Sheet4!$DN$2:$DN$8408,Sheet4!$C$2:$C$8408,Sheet3!$B11,Sheet4!$E$2:$E$8408,Sheet3!DQ$4,Sheet4!$A$2:$A$8408,Sheet3!$B$1,Sheet4!$B$2:$B$8408,Sheet3!$A$3))","v":411},{"$f":"+IF(SUMIFS(Sheet4!$DN$2:$DN$8408,Sheet4!$C$2:$C$8408,Sheet3!$B11,Sheet4!$E$2:$E$8408,Sheet3!DR$4,Sheet4!$A$2:$A$8408,Sheet3!$B$1,Sheet4!$B$2:$B$8408,Sheet3!$A$3)<3,0,SUMIFS(Sheet4!$DN$2:$DN$8408,Sheet4!$C$2:$C$8408,Sheet3!$B11,Sheet4!$E$2:$E$8408,Sheet3!DR$4,Sheet4!$A$2:$A$8408,Sheet3!$B$1,Sheet4!$B$2:$B$8408,Sheet3!$A$3))","v":39}]
[1,"11B","Alto Tâmega",{"$f":"+SUMIFS(Sheet4!$DM$2:$DM$8408,Sheet4!$C$2:$C$8408,Sheet3!$B12,Sheet4!$D$2:$D$8408,Sheet3!D$3,Sheet4!$E$2:$E$8408,Sheet3!D$4,Sheet4!$A$2:$A$8408,Sheet3!$B$1,Sheet4!$B$2:$B$8408,Sheet3!$A$3)","v":0},{"$f":"+SUMIFS(Sheet4!$DM$2:$DM$8408,Sheet4!$C$2:$C$8408,Sheet3!$B12,Sheet4!$D$2:$D$8408,Sheet3!E$3,Sheet4!$E$2:$E$8408,Sheet3!E$4,Sheet4!$A$2:$A$8408,Sheet3!$B$1,Sheet4!$B$2:$B$8408,Sheet3!$A$3)","v":9},{"$f":"+SUMIFS(Sheet4!$DM$2:$DM$8408,Sheet4!$C$2:$C$8408,Sheet3!$B12,Sheet4!$D$2:$D$8408,Sheet3!F$3,Sheet4!$E$2:$E$8408,Sheet3!F$4,Sheet4!$A$2:$A$8408,Sheet3!$B$1,Sheet4!$B$2:$B$8408,Sheet3!$A$3)","v":6},{"$f":"+SUMIFS(Sheet4!$DM$2:$DM$8408,Sheet4!$C$2:$C$8408,Sheet3!$B12,Sheet4!$D$2:$D$8408,Sheet3!G$3,Sheet4!$E$2:$E$8408,Sheet3!G$4,Sheet4!$A$2:$A$8408,Sheet3!$B$1,Sheet4!$B$2:$B$8408,Sheet3!$A$3)","v":0},{"$f":"+SUMIFS(Sheet4!$DM$2:$DM$8408,Sheet4!$C$2:$C$8408,Sheet3!$B12,Sheet4!$D$2:$D$8408,Sheet3!H$3,Sheet4!$E$2:$E$8408,Sheet3!H$4,Sheet4!$A$2:$A$8408,Sheet3!$B$1,Sheet4!$B$2:$B$8408,Sheet3!$A$3)","v":0},{"$f":"+SUMIFS(Sheet4!$DM$2:$DM$8408,Sheet4!$C$2:$C$8408,Sheet3!$B12,Sheet4!$D$2:$D$8408,Sheet3!I$3,Sheet4!$E$2:$E$8408,Sheet3!I$4,Sheet4!$A$2:$A$8408,Sheet3!$B$1,Sheet4!$B$2:$B$8408,Sheet3!$A$3)","v":162},{"$f":"+SUMIFS(Sheet4!$DM$2:$DM$8408,Sheet4!$C$2:$C$8408,Sheet3!$B12,Sheet4!$D$2:$D$8408,Sheet3!J$3,Sheet4!$E$2:$E$8408,Sheet3!J$4,Sheet4!$A$2:$A$8408,Sheet3!$B$1,Sheet4!$B$2:$B$8408,Sheet3!$A$3)","v":7},{"$f":"+SUMIFS(Sheet4!$DM$2:$DM$8408,Sheet4!$C$2:$C$8408,Sheet3!$B12,Sheet4!$D$2:$D$8408,Sheet3!K$3,Sheet4!$E$2:$E$8408,Sheet3!K$4,Sheet4!$A$2:$A$8408,Sheet3!$B$1,Sheet4!$B$2:$B$8408,Sheet3!$A$3)","v":0},{"$f":"+SUMIFS(Sheet4!$DM$2:$DM$8408,Sheet4!$C$2:$C$8408,Sheet3!$B12,Sheet4!$D$2:$D$8408,Sheet3!L$3,Sheet4!$E$2:$E$8408,Sheet3!L$4,Sheet4!$A$2:$A$8408,Sheet3!$B$1,Sheet4!$B$2:$B$8408,Sheet3!$A$3)","v":0},{"$f":"+SUMIFS(Sheet4!$DM$2:$DM$8408,Sheet4!$C$2:$C$8408,Sheet3!$B12,Sheet4!$D$2:$D$8408,Sheet3!M$3,Sheet4!$E$2:$E$8408,Sheet3!M$4,Sheet4!$A$2:$A$8408,Sheet3!$B$1,Sheet4!$B$2:$B$8408,Sheet3!$A$3)","v":0},{"$f":"+SUMIFS(Sheet4!$DM$2:$DM$8408,Sheet4!$C$2:$C$8408,Sheet3!$B12,Sheet4!$D$2:$D$8408,Sheet3!N$3,Sheet4!$E$2:$E$8408,Sheet3!N$4,Sheet4!$A$2:$A$8408,Sheet3!$B$1,Sheet4!$B$2:$B$8408,Sheet3!$A$3)","v":575},{"$f":"+SUMIFS(Sheet4!$DM$2:$DM$8408,Sheet4!$C$2:$C$8408,Sheet3!$B12,Sheet4!$D$2:$D$8408,Sheet3!O$3,Sheet4!$E$2:$E$8408,Sheet3!O$4,Sheet4!$A$2:$A$8408,Sheet3!$B$1,Sheet4!$B$2:$B$8408,Sheet3!$A$3)","v":7},{"$f":"+SUMIFS(Sheet4!$DM$2:$DM$8408,Sheet4!$C$2:$C$8408,Sheet3!$B12,Sheet4!$D$2:$D$8408,Sheet3!P$3,Sheet4!$E$2:$E$8408,Sheet3!P$4,Sheet4!$A$2:$A$8408,Sheet3!$B$1,Sheet4!$B$2:$B$8408,Sheet3!$A$3)","v":0},{"$f":"+SUMIFS(Sheet4!$DM$2:$DM$8408,Sheet4!$C$2:$C$8408,Sheet3!$B12,Sheet4!$D$2:$D$8408,Sheet3!Q$3,Sheet4!$E$2:$E$8408,Sheet3!Q$4,Sheet4!$A$2:$A$8408,Sheet3!$B$1,Sheet4!$B$2:$B$8408,Sheet3!$A$3)","v":4},{"$f":"+SUMIFS(Sheet4!$DM$2:$DM$8408,Sheet4!$C$2:$C$8408,Sheet3!$B12,Sheet4!$D$2:$D$8408,Sheet3!R$3,Sheet4!$E$2:$E$8408,Sheet3!R$4,Sheet4!$A$2:$A$8408,Sheet3!$B$1,Sheet4!$B$2:$B$8408,Sheet3!$A$3)","v":0},{"$f":"+SUMIFS(Sheet4!$DM$2:$DM$8408,Sheet4!$C$2:$C$8408,Sheet3!$B12,Sheet4!$D$2:$D$8408,Sheet3!S$3,Sheet4!$E$2:$E$8408,Sheet3!S$4,Sheet4!$A$2:$A$8408,Sheet3!$B$1,Sheet4!$B$2:$B$8408,Sheet3!$A$3)","v":0},{"$f":"+SUMIFS(Sheet4!$DM$2:$DM$8408,Sheet4!$C$2:$C$8408,Sheet3!$B12,Sheet4!$D$2:$D$8408,Sheet3!T$3,Sheet4!$E$2:$E$8408,Sheet3!T$4,Sheet4!$A$2:$A$8408,Sheet3!$B$1,Sheet4!$B$2:$B$8408,Sheet3!$A$3)","v":0},{"$f":"+SUMIFS(Sheet4!$DM$2:$DM$8408,Sheet4!$C$2:$C$8408,Sheet3!$B12,Sheet4!$D$2:$D$8408,Sheet3!U$3,Sheet4!$E$2:$E$8408,Sheet3!U$4,Sheet4!$A$2:$A$8408,Sheet3!$B$1,Sheet4!$B$2:$B$8408,Sheet3!$A$3)","v":0},{"$f":"+SUMIFS(Sheet4!$DM$2:$DM$8408,Sheet4!$C$2:$C$8408,Sheet3!$B12,Sheet4!$D$2:$D$8408,Sheet3!V$3,Sheet4!$E$2:$E$8408,Sheet3!V$4,Sheet4!$A$2:$A$8408,Sheet3!$B$1,Sheet4!$B$2:$B$8408,Sheet3!$A$3)","v":0},{"$f":"+SUMIFS(Sheet4!$DM$2:$DM$8408,Sheet4!$C$2:$C$8408,Sheet3!$B12,Sheet4!$D$2:$D$8408,Sheet3!W$3,Sheet4!$E$2:$E$8408,Sheet3!W$4,Sheet4!$A$2:$A$8408,Sheet3!$B$1,Sheet4!$B$2:$B$8408,Sheet3!$A$3)","v":0},{"$f":"+SUMIFS(Sheet4!$DM$2:$DM$8408,Sheet4!$C$2:$C$8408,Sheet3!$B12,Sheet4!$D$2:$D$8408,Sheet3!X$3,Sheet4!$E$2:$E$8408,Sheet3!X$4,Sheet4!$A$2:$A$8408,Sheet3!$B$1,Sheet4!$B$2:$B$8408,Sheet3!$A$3)","v":0},{"$f":"+SUMIFS(Sheet4!$DM$2:$DM$8408,Sheet4!$C$2:$C$8408,Sheet3!$B12,Sheet4!$D$2:$D$8408,Sheet3!Y$3,Sheet4!$E$2:$E$8408,Sheet3!Y$4,Sheet4!$A$2:$A$8408,Sheet3!$B$1,Sheet4!$B$2:$B$8408,Sheet3!$A$3)","v":0},{"$f":"+SUMIFS(Sheet4!$DM$2:$DM$8408,Sheet4!$C$2:$C$8408,Sheet3!$B12,Sheet4!$D$2:$D$8408,Sheet3!Z$3,Sheet4!$E$2:$E$8408,Sheet3!Z$4,Sheet4!$A$2:$A$8408,Sheet3!$B$1,Sheet4!$B$2:$B$8408,Sheet3!$A$3)","v":0},{"$f":"+SUMIFS(Sheet4!$DM$2:$DM$8408,Sheet4!$C$2:$C$8408,Sheet3!$B12,Sheet4!$D$2:$D$8408,Sheet3!AA$3,Sheet4!$E$2:$E$8408,Sheet3!AA$4,Sheet4!$A$2:$A$8408,Sheet3!$B$1,Sheet4!$B$2:$B$8408,Sheet3!$A$3)","v":0},{"$f":"+SUMIFS(Sheet4!$DM$2:$DM$8408,Sheet4!$C$2:$C$8408,Sheet3!$B12,Sheet4!$D$2:$D$8408,Sheet3!AB$3,Sheet4!$E$2:$E$8408,Sheet3!AB$4,Sheet4!$A$2:$A$8408,Sheet3!$B$1,Sheet4!$B$2:$B$8408,Sheet3!$A$3)","v":0},{"$f":"+SUMIFS(Sheet4!$DM$2:$DM$8408,Sheet4!$C$2:$C$8408,Sheet3!$B12,Sheet4!$D$2:$D$8408,Sheet3!AC$3,Sheet4!$E$2:$E$8408,Sheet3!AC$4,Sheet4!$A$2:$A$8408,Sheet3!$B$1,Sheet4!$B$2:$B$8408,Sheet3!$A$3)","v":697},{"$f":"+SUMIFS(Sheet4!$DM$2:$DM$8408,Sheet4!$C$2:$C$8408,Sheet3!$B12,Sheet4!$D$2:$D$8408,Sheet3!AD$3,Sheet4!$E$2:$E$8408,Sheet3!AD$4,Sheet4!$A$2:$A$8408,Sheet3!$B$1,Sheet4!$B$2:$B$8408,Sheet3!$A$3)","v":557},{"$f":"+SUMIFS(Sheet4!$DM$2:$DM$8408,Sheet4!$C$2:$C$8408,Sheet3!$B12,Sheet4!$D$2:$D$8408,Sheet3!AE$3,Sheet4!$E$2:$E$8408,Sheet3!AE$4,Sheet4!$A$2:$A$8408,Sheet3!$B$1,Sheet4!$B$2:$B$8408,Sheet3!$A$3)","v":18},{"$f":"+SUMIFS(Sheet4!$DM$2:$DM$8408,Sheet4!$C$2:$C$8408,Sheet3!$B12,Sheet4!$D$2:$D$8408,Sheet3!AF$3,Sheet4!$E$2:$E$8408,Sheet3!AF$4,Sheet4!$A$2:$A$8408,Sheet3!$B$1,Sheet4!$B$2:$B$8408,Sheet3!$A$3)","v":0},{"$f":"+SUMIFS(Sheet4!$DM$2:$DM$8408,Sheet4!$C$2:$C$8408,Sheet3!$B12,Sheet4!$D$2:$D$8408,Sheet3!AG$3,Sheet4!$E$2:$E$8408,Sheet3!AG$4,Sheet4!$A$2:$A$8408,Sheet3!$B$1,Sheet4!$B$2:$B$8408,Sheet3!$A$3)","v":0},{"$f":"+SUMIFS(Sheet4!$DM$2:$DM$8408,Sheet4!$C$2:$C$8408,Sheet3!$B12,Sheet4!$D$2:$D$8408,Sheet3!AH$3,Sheet4!$E$2:$E$8408,Sheet3!AH$4,Sheet4!$A$2:$A$8408,Sheet3!$B$1,Sheet4!$B$2:$B$8408,Sheet3!$A$3)","v":64},{"$f":"+SUMIFS(Sheet4!$DM$2:$DM$8408,Sheet4!$C$2:$C$8408,Sheet3!$B12,Sheet4!$D$2:$D$8408,Sheet3!AI$3,Sheet4!$E$2:$E$8408,Sheet3!AI$4,Sheet4!$A$2:$A$8408,Sheet3!$B$1,Sheet4!$B$2:$B$8408,Sheet3!$A$3)","v":34},{"$f":"+SUMIFS(Sheet4!$DM$2:$DM$8408,Sheet4!$C$2:$C$8408,Sheet3!$B12,Sheet4!$D$2:$D$8408,Sheet3!AJ$3,Sheet4!$E$2:$E$8408,Sheet3!AJ$4,Sheet4!$A$2:$A$8408,Sheet3!$B$1,Sheet4!$B$2:$B$8408,Sheet3!$A$3)","v":5},{"$f":"+SUMIFS(Sheet4!$DM$2:$DM$8408,Sheet4!$C$2:$C$8408,Sheet3!$B12,Sheet4!$D$2:$D$8408,Sheet3!AK$3,Sheet4!$E$2:$E$8408,Sheet3!AK$4,Sheet4!$A$2:$A$8408,Sheet3!$B$1,Sheet4!$B$2:$B$8408,Sheet3!$A$3)","v":0},{"$f":"+SUMIFS(Sheet4!$DM$2:$DM$8408,Sheet4!$C$2:$C$8408,Sheet3!$B12,Sheet4!$D$2:$D$8408,Sheet3!AL$3,Sheet4!$E$2:$E$8408,Sheet3!AL$4,Sheet4!$A$2:$A$8408,Sheet3!$B$1,Sheet4!$B$2:$B$8408,Sheet3!$A$3)","v":0},{"$f":"+SUMIFS(Sheet4!$DM$2:$DM$8408,Sheet4!$C$2:$C$8408,Sheet3!$B12,Sheet4!$D$2:$D$8408,Sheet3!AM$3,Sheet4!$E$2:$E$8408,Sheet3!AM$4,Sheet4!$A$2:$A$8408,Sheet3!$B$1,Sheet4!$B$2:$B$8408,Sheet3!$A$3)","v":1268},{"$f":"+SUMIFS(Sheet4!$DM$2:$DM$8408,Sheet4!$C$2:$C$8408,Sheet3!$B12,Sheet4!$D$2:$D$8408,Sheet3!AN$3,Sheet4!$E$2:$E$8408,Sheet3!AN$4,Sheet4!$A$2:$A$8408,Sheet3!$B$1,Sheet4!$B$2:$B$8408,Sheet3!$A$3)","v":233},{"$f":"+SUMIFS(Sheet4!$DM$2:$DM$8408,Sheet4!$C$2:$C$8408,Sheet3!$B12,Sheet4!$D$2:$D$8408,Sheet3!AO$3,Sheet4!$E$2:$E$8408,Sheet3!AO$4,Sheet4!$A$2:$A$8408,Sheet3!$B$1,Sheet4!$B$2:$B$8408,Sheet3!$A$3)","v":34},{"$f":"+SUMIFS(Sheet4!$DM$2:$DM$8408,Sheet4!$C$2:$C$8408,Sheet3!$B12,Sheet4!$D$2:$D$8408,Sheet3!AP$3,Sheet4!$E$2:$E$8408,Sheet3!AP$4,Sheet4!$A$2:$A$8408,Sheet3!$B$1,Sheet4!$B$2:$B$8408,Sheet3!$A$3)","v":3},{"$f":"+SUMIFS(Sheet4!$DM$2:$DM$8408,Sheet4!$C$2:$C$8408,Sheet3!$B12,Sheet4!$D$2:$D$8408,Sheet3!AQ$3,Sheet4!$E$2:$E$8408,Sheet3!AQ$4,Sheet4!$A$2:$A$8408,Sheet3!$B$1,Sheet4!$B$2:$B$8408,Sheet3!$A$3)","v":0},{"$f":"+SUMIFS(Sheet4!$DM$2:$DM$8408,Sheet4!$C$2:$C$8408,Sheet3!$B12,Sheet4!$D$2:$D$8408,Sheet3!AR$3,Sheet4!$E$2:$E$8408,Sheet3!AR$4,Sheet4!$A$2:$A$8408,Sheet3!$B$1,Sheet4!$B$2:$B$8408,Sheet3!$A$3)","v":267},{"$f":"+SUMIFS(Sheet4!$DM$2:$DM$8408,Sheet4!$C$2:$C$8408,Sheet3!$B12,Sheet4!$D$2:$D$8408,Sheet3!AS$3,Sheet4!$E$2:$E$8408,Sheet3!AS$4,Sheet4!$A$2:$A$8408,Sheet3!$B$1,Sheet4!$B$2:$B$8408,Sheet3!$A$3)","v":7},{"$f":"+SUMIFS(Sheet4!$DM$2:$DM$8408,Sheet4!$C$2:$C$8408,Sheet3!$B12,Sheet4!$D$2:$D$8408,Sheet3!AT$3,Sheet4!$E$2:$E$8408,Sheet3!AT$4,Sheet4!$A$2:$A$8408,Sheet3!$B$1,Sheet4!$B$2:$B$8408,Sheet3!$A$3)","v":3},{"$f":"+SUMIFS(Sheet4!$DM$2:$DM$8408,Sheet4!$C$2:$C$8408,Sheet3!$B12,Sheet4!$D$2:$D$8408,Sheet3!AU$3,Sheet4!$E$2:$E$8408,Sheet3!AU$4,Sheet4!$A$2:$A$8408,Sheet3!$B$1,Sheet4!$B$2:$B$8408,Sheet3!$A$3)","v":0},{"$f":"+SUMIFS(Sheet4!$DM$2:$DM$8408,Sheet4!$C$2:$C$8408,Sheet3!$B12,Sheet4!$D$2:$D$8408,Sheet3!AV$3,Sheet4!$E$2:$E$8408,Sheet3!AV$4,Sheet4!$A$2:$A$8408,Sheet3!$B$1,Sheet4!$B$2:$B$8408,Sheet3!$A$3)","v":0},{"$f":"+SUMIFS(Sheet4!$DM$2:$DM$8408,Sheet4!$C$2:$C$8408,Sheet3!$B12,Sheet4!$D$2:$D$8408,Sheet3!AW$3,Sheet4!$E$2:$E$8408,Sheet3!AW$4,Sheet4!$A$2:$A$8408,Sheet3!$B$1,Sheet4!$B$2:$B$8408,Sheet3!$A$3)","v":3355},{"$f":"+SUMIFS(Sheet4!$DM$2:$DM$8408,Sheet4!$C$2:$C$8408,Sheet3!$B12,Sheet4!$D$2:$D$8408,Sheet3!AX$3,Sheet4!$E$2:$E$8408,Sheet3!AX$4,Sheet4!$A$2:$A$8408,Sheet3!$B$1,Sheet4!$B$2:$B$8408,Sheet3!$A$3)","v":825},{"$f":"+SUMIFS(Sheet4!$DM$2:$DM$8408,Sheet4!$C$2:$C$8408,Sheet3!$B12,Sheet4!$D$2:$D$8408,Sheet3!AY$3,Sheet4!$E$2:$E$8408,Sheet3!AY$4,Sheet4!$A$2:$A$8408,Sheet3!$B$1,Sheet4!$B$2:$B$8408,Sheet3!$A$3)","v":6},{"$f":"+SUMIFS(Sheet4!$DM$2:$DM$8408,Sheet4!$C$2:$C$8408,Sheet3!$B12,Sheet4!$D$2:$D$8408,Sheet3!AZ$3,Sheet4!$E$2:$E$8408,Sheet3!AZ$4,Sheet4!$A$2:$A$8408,Sheet3!$B$1,Sheet4!$B$2:$B$8408,Sheet3!$A$3)","v":0},{"$f":"+SUMIFS(Sheet4!$DM$2:$DM$8408,Sheet4!$C$2:$C$8408,Sheet3!$B12,Sheet4!$D$2:$D$8408,Sheet3!BA$3,Sheet4!$E$2:$E$8408,Sheet3!BA$4,Sheet4!$A$2:$A$8408,Sheet3!$B$1,Sheet4!$B$2:$B$8408,Sheet3!$A$3)","v":0},{"$f":"+SUMIFS(Sheet4!$DM$2:$DM$8408,Sheet4!$C$2:$C$8408,Sheet3!$B12,Sheet4!$D$2:$D$8408,Sheet3!BB$3,Sheet4!$E$2:$E$8408,Sheet3!BB$4,Sheet4!$A$2:$A$8408,Sheet3!$B$1,Sheet4!$B$2:$B$8408,Sheet3!$A$3)","v":3},{"$f":"+SUMIFS(Sheet4!$DM$2:$DM$8408,Sheet4!$C$2:$C$8408,Sheet3!$B12,Sheet4!$D$2:$D$8408,Sheet3!BC$3,Sheet4!$E$2:$E$8408,Sheet3!BC$4,Sheet4!$A$2:$A$8408,Sheet3!$B$1,Sheet4!$B$2:$B$8408,Sheet3!$A$3)","v":26},{"$f":"+SUMIFS(Sheet4!$DM$2:$DM$8408,Sheet4!$C$2:$C$8408,Sheet3!$B12,Sheet4!$D$2:$D$8408,Sheet3!BD$3,Sheet4!$E$2:$E$8408,Sheet3!BD$4,Sheet4!$A$2:$A$8408,Sheet3!$B$1,Sheet4!$B$2:$B$8408,Sheet3!$A$3)","v":15},{"$f":"+SUMIFS(Sheet4!$DM$2:$DM$8408,Sheet4!$C$2:$C$8408,Sheet3!$B12,Sheet4!$D$2:$D$8408,Sheet3!BE$3,Sheet4!$E$2:$E$8408,Sheet3!BE$4,Sheet4!$A$2:$A$8408,Sheet3!$B$1,Sheet4!$B$2:$B$8408,Sheet3!$A$3)","v":6},{"$f":"+SUMIFS(Sheet4!$DM$2:$DM$8408,Sheet4!$C$2:$C$8408,Sheet3!$B12,Sheet4!$D$2:$D$8408,Sheet3!BF$3,Sheet4!$E$2:$E$8408,Sheet3!BF$4,Sheet4!$A$2:$A$8408,Sheet3!$B$1,Sheet4!$B$2:$B$8408,Sheet3!$A$3)","v":0},{"$f":"+SUMIFS(Sheet4!$DM$2:$DM$8408,Sheet4!$C$2:$C$8408,Sheet3!$B12,Sheet4!$D$2:$D$8408,Sheet3!BG$3,Sheet4!$E$2:$E$8408,Sheet3!BG$4,Sheet4!$A$2:$A$8408,Sheet3!$B$1,Sheet4!$B$2:$B$8408,Sheet3!$A$3)","v":26},{"$f":"+SUMIFS(Sheet4!$DM$2:$DM$8408,Sheet4!$C$2:$C$8408,Sheet3!$B12,Sheet4!$D$2:$D$8408,Sheet3!BH$3,Sheet4!$E$2:$E$8408,Sheet3!BH$4,Sheet4!$A$2:$A$8408,Sheet3!$B$1,Sheet4!$B$2:$B$8408,Sheet3!$A$3)","v":120},{"$f":"+SUMIFS(Sheet4!$DM$2:$DM$8408,Sheet4!$C$2:$C$8408,Sheet3!$B12,Sheet4!$D$2:$D$8408,Sheet3!BI$3,Sheet4!$E$2:$E$8408,Sheet3!BI$4,Sheet4!$A$2:$A$8408,Sheet3!$B$1,Sheet4!$B$2:$B$8408,Sheet3!$A$3)","v":25},{"$f":"+SUMIFS(Sheet4!$DM$2:$DM$8408,Sheet4!$C$2:$C$8408,Sheet3!$B12,Sheet4!$D$2:$D$8408,Sheet3!BJ$3,Sheet4!$E$2:$E$8408,Sheet3!BJ$4,Sheet4!$A$2:$A$8408,Sheet3!$B$1,Sheet4!$B$2:$B$8408,Sheet3!$A$3)","v":0},{"$f":"+SUMIFS(Sheet4!$DM$2:$DM$8408,Sheet4!$C$2:$C$8408,Sheet3!$B12,Sheet4!$D$2:$D$8408,Sheet3!BK$3,Sheet4!$E$2:$E$8408,Sheet3!BK$4,Sheet4!$A$2:$A$8408,Sheet3!$B$1,Sheet4!$B$2:$B$8408,Sheet3!$A$3)","v":0},{"$f":"+SUMIFS(Sheet4!$DM$2:$DM$8408,Sheet4!$C$2:$C$8408,Sheet3!$B12,Sheet4!$D$2:$D$8408,Sheet3!BL$3,Sheet4!$E$2:$E$8408,Sheet3!BL$4,Sheet4!$A$2:$A$8408,Sheet3!$B$1,Sheet4!$B$2:$B$8408,Sheet3!$A$3)","v":26},{"$f":"+SUMIFS(Sheet4!$DM$2:$DM$8408,Sheet4!$C$2:$C$8408,Sheet3!$B12,Sheet4!$D$2:$D$8408,Sheet3!BM$3,Sheet4!$E$2:$E$8408,Sheet3!BM$4,Sheet4!$A$2:$A$8408,Sheet3!$B$1,Sheet4!$B$2:$B$8408,Sheet3!$A$3)","v":36},{"$f":"+SUMIFS(Sheet4!$DM$2:$DM$8408,Sheet4!$C$2:$C$8408,Sheet3!$B12,Sheet4!$D$2:$D$8408,Sheet3!BN$3,Sheet4!$E$2:$E$8408,Sheet3!BN$4,Sheet4!$A$2:$A$8408,Sheet3!$B$1,Sheet4!$B$2:$B$8408,Sheet3!$A$3)","v":7},{"$f":"+SUMIFS(Sheet4!$DM$2:$DM$8408,Sheet4!$C$2:$C$8408,Sheet3!$B12,Sheet4!$D$2:$D$8408,Sheet3!BO$3,Sheet4!$E$2:$E$8408,Sheet3!BO$4,Sheet4!$A$2:$A$8408,Sheet3!$B$1,Sheet4!$B$2:$B$8408,Sheet3!$A$3)","v":0},{"$f":"+SUMIFS(Sheet4!$DM$2:$DM$8408,Sheet4!$C$2:$C$8408,Sheet3!$B12,Sheet4!$D$2:$D$8408,Sheet3!BP$3,Sheet4!$E$2:$E$8408,Sheet3!BP$4,Sheet4!$A$2:$A$8408,Sheet3!$B$1,Sheet4!$B$2:$B$8408,Sheet3!$A$3)","v":0},{"$f":"+SUMIFS(Sheet4!$DM$2:$DM$8408,Sheet4!$C$2:$C$8408,Sheet3!$B12,Sheet4!$D$2:$D$8408,Sheet3!BQ$3,Sheet4!$E$2:$E$8408,Sheet3!BQ$4,Sheet4!$A$2:$A$8408,Sheet3!$B$1,Sheet4!$B$2:$B$8408,Sheet3!$A$3)","v":218},{"$f":"+SUMIFS(Sheet4!$DM$2:$DM$8408,Sheet4!$C$2:$C$8408,Sheet3!$B12,Sheet4!$D$2:$D$8408,Sheet3!BR$3,Sheet4!$E$2:$E$8408,Sheet3!BR$4,Sheet4!$A$2:$A$8408,Sheet3!$B$1,Sheet4!$B$2:$B$8408,Sheet3!$A$3)","v":1181},{"$f":"+SUMIFS(Sheet4!$DM$2:$DM$8408,Sheet4!$C$2:$C$8408,Sheet3!$B12,Sheet4!$D$2:$D$8408,Sheet3!BS$3,Sheet4!$E$2:$E$8408,Sheet3!BS$4,Sheet4!$A$2:$A$8408,Sheet3!$B$1,Sheet4!$B$2:$B$8408,Sheet3!$A$3)","v":145},{"$f":"+SUMIFS(Sheet4!$DM$2:$DM$8408,Sheet4!$C$2:$C$8408,Sheet3!$B12,Sheet4!$D$2:$D$8408,Sheet3!BT$3,Sheet4!$E$2:$E$8408,Sheet3!BT$4,Sheet4!$A$2:$A$8408,Sheet3!$B$1,Sheet4!$B$2:$B$8408,Sheet3!$A$3)","v":8},{"$f":"+SUMIFS(Sheet4!$DM$2:$DM$8408,Sheet4!$C$2:$C$8408,Sheet3!$B12,Sheet4!$D$2:$D$8408,Sheet3!BU$3,Sheet4!$E$2:$E$8408,Sheet3!BU$4,Sheet4!$A$2:$A$8408,Sheet3!$B$1,Sheet4!$B$2:$B$8408,Sheet3!$A$3)","v":0},{"$f":"+SUMIFS(Sheet4!$DM$2:$DM$8408,Sheet4!$C$2:$C$8408,Sheet3!$B12,Sheet4!$D$2:$D$8408,Sheet3!BV$3,Sheet4!$E$2:$E$8408,Sheet3!BV$4,Sheet4!$A$2:$A$8408,Sheet3!$B$1,Sheet4!$B$2:$B$8408,Sheet3!$A$3)","v":709},{"$f":"+SUMIFS(Sheet4!$DM$2:$DM$8408,Sheet4!$C$2:$C$8408,Sheet3!$B12,Sheet4!$D$2:$D$8408,Sheet3!BW$3,Sheet4!$E$2:$E$8408,Sheet3!BW$4,Sheet4!$A$2:$A$8408,Sheet3!$B$1,Sheet4!$B$2:$B$8408,Sheet3!$A$3)","v":919},{"$f":"+SUMIFS(Sheet4!$DM$2:$DM$8408,Sheet4!$C$2:$C$8408,Sheet3!$B12,Sheet4!$D$2:$D$8408,Sheet3!BX$3,Sheet4!$E$2:$E$8408,Sheet3!BX$4,Sheet4!$A$2:$A$8408,Sheet3!$B$1,Sheet4!$B$2:$B$8408,Sheet3!$A$3)","v":121},{"$f":"+SUMIFS(Sheet4!$DM$2:$DM$8408,Sheet4!$C$2:$C$8408,Sheet3!$B12,Sheet4!$D$2:$D$8408,Sheet3!BY$3,Sheet4!$E$2:$E$8408,Sheet3!BY$4,Sheet4!$A$2:$A$8408,Sheet3!$B$1,Sheet4!$B$2:$B$8408,Sheet3!$A$3)","v":0},{"$f":"+SUMIFS(Sheet4!$DM$2:$DM$8408,Sheet4!$C$2:$C$8408,Sheet3!$B12,Sheet4!$D$2:$D$8408,Sheet3!BZ$3,Sheet4!$E$2:$E$8408,Sheet3!BZ$4,Sheet4!$A$2:$A$8408,Sheet3!$B$1,Sheet4!$B$2:$B$8408,Sheet3!$A$3)","v":0},{"$f":"+SUMIFS(Sheet4!$DM$2:$DM$8408,Sheet4!$C$2:$C$8408,Sheet3!$B12,Sheet4!$D$2:$D$8408,Sheet3!CA$3,Sheet4!$E$2:$E$8408,Sheet3!CA$4,Sheet4!$A$2:$A$8408,Sheet3!$B$1,Sheet4!$B$2:$B$8408,Sheet3!$A$3)","v":355},{"$f":"+SUMIFS(Sheet4!$DM$2:$DM$8408,Sheet4!$C$2:$C$8408,Sheet3!$B12,Sheet4!$D$2:$D$8408,Sheet3!CB$3,Sheet4!$E$2:$E$8408,Sheet3!CB$4,Sheet4!$A$2:$A$8408,Sheet3!$B$1,Sheet4!$B$2:$B$8408,Sheet3!$A$3)","v":396},{"$f":"+SUMIFS(Sheet4!$DM$2:$DM$8408,Sheet4!$C$2:$C$8408,Sheet3!$B12,Sheet4!$D$2:$D$8408,Sheet3!CC$3,Sheet4!$E$2:$E$8408,Sheet3!CC$4,Sheet4!$A$2:$A$8408,Sheet3!$B$1,Sheet4!$B$2:$B$8408,Sheet3!$A$3)","v":20},{"$f":"+SUMIFS(Sheet4!$DM$2:$DM$8408,Sheet4!$C$2:$C$8408,Sheet3!$B12,Sheet4!$D$2:$D$8408,Sheet3!CD$3,Sheet4!$E$2:$E$8408,Sheet3!CD$4,Sheet4!$A$2:$A$8408,Sheet3!$B$1,Sheet4!$B$2:$B$8408,Sheet3!$A$3)","v":0},{"$f":"+SUMIFS(Sheet4!$DM$2:$DM$8408,Sheet4!$C$2:$C$8408,Sheet3!$B12,Sheet4!$D$2:$D$8408,Sheet3!CE$3,Sheet4!$E$2:$E$8408,Sheet3!CE$4,Sheet4!$A$2:$A$8408,Sheet3!$B$1,Sheet4!$B$2:$B$8408,Sheet3!$A$3)","v":0},{"$f":"+SUMIFS(Sheet4!$DM$2:$DM$8408,Sheet4!$C$2:$C$8408,Sheet3!$B12,Sheet4!$D$2:$D$8408,Sheet3!CF$3,Sheet4!$E$2:$E$8408,Sheet3!CF$4,Sheet4!$A$2:$A$8408,Sheet3!$B$1,Sheet4!$B$2:$B$8408,Sheet3!$A$3)","v":490},{"$f":"+SUMIFS(Sheet4!$DM$2:$DM$8408,Sheet4!$C$2:$C$8408,Sheet3!$B12,Sheet4!$D$2:$D$8408,Sheet3!CG$3,Sheet4!$E$2:$E$8408,Sheet3!CG$4,Sheet4!$A$2:$A$8408,Sheet3!$B$1,Sheet4!$B$2:$B$8408,Sheet3!$A$3)","v":6},{"$f":"+SUMIFS(Sheet4!$DM$2:$DM$8408,Sheet4!$C$2:$C$8408,Sheet3!$B12,Sheet4!$D$2:$D$8408,Sheet3!CH$3,Sheet4!$E$2:$E$8408,Sheet3!CH$4,Sheet4!$A$2:$A$8408,Sheet3!$B$1,Sheet4!$B$2:$B$8408,Sheet3!$A$3)","v":0},{"$f":"+SUMIFS(Sheet4!$DM$2:$DM$8408,Sheet4!$C$2:$C$8408,Sheet3!$B12,Sheet4!$D$2:$D$8408,Sheet3!CI$3,Sheet4!$E$2:$E$8408,Sheet3!CI$4,Sheet4!$A$2:$A$8408,Sheet3!$B$1,Sheet4!$B$2:$B$8408,Sheet3!$A$3)","v":0},{"$f":"+SUMIFS(Sheet4!$DM$2:$DM$8408,Sheet4!$C$2:$C$8408,Sheet3!$B12,Sheet4!$D$2:$D$8408,Sheet3!CJ$3,Sheet4!$E$2:$E$8408,Sheet3!CJ$4,Sheet4!$A$2:$A$8408,Sheet3!$B$1,Sheet4!$B$2:$B$8408,Sheet3!$A$3)","v":0},{"$f":"+SUMIFS(Sheet4!$DM$2:$DM$8408,Sheet4!$C$2:$C$8408,Sheet3!$B12,Sheet4!$D$2:$D$8408,Sheet3!CK$3,Sheet4!$E$2:$E$8408,Sheet3!CK$4,Sheet4!$A$2:$A$8408,Sheet3!$B$1,Sheet4!$B$2:$B$8408,Sheet3!$A$3)","v":0},{"$f":"+SUMIFS(Sheet4!$DM$2:$DM$8408,Sheet4!$C$2:$C$8408,Sheet3!$B12,Sheet4!$D$2:$D$8408,Sheet3!CL$3,Sheet4!$E$2:$E$8408,Sheet3!CL$4,Sheet4!$A$2:$A$8408,Sheet3!$B$1,Sheet4!$B$2:$B$8408,Sheet3!$A$3)","v":0},{"$f":"+SUMIFS(Sheet4!$DM$2:$DM$8408,Sheet4!$C$2:$C$8408,Sheet3!$B12,Sheet4!$D$2:$D$8408,Sheet3!CM$3,Sheet4!$E$2:$E$8408,Sheet3!CM$4,Sheet4!$A$2:$A$8408,Sheet3!$B$1,Sheet4!$B$2:$B$8408,Sheet3!$A$3)","v":0},{"$f":"+SUMIFS(Sheet4!$DM$2:$DM$8408,Sheet4!$C$2:$C$8408,Sheet3!$B12,Sheet4!$D$2:$D$8408,Sheet3!CN$3,Sheet4!$E$2:$E$8408,Sheet3!CN$4,Sheet4!$A$2:$A$8408,Sheet3!$B$1,Sheet4!$B$2:$B$8408,Sheet3!$A$3)","v":0},{"$f":"+SUMIFS(Sheet4!$DM$2:$DM$8408,Sheet4!$C$2:$C$8408,Sheet3!$B12,Sheet4!$D$2:$D$8408,Sheet3!CO$3,Sheet4!$E$2:$E$8408,Sheet3!CO$4,Sheet4!$A$2:$A$8408,Sheet3!$B$1,Sheet4!$B$2:$B$8408,Sheet3!$A$3)","v":0},{"$f":"+SUMIFS(Sheet4!$DM$2:$DM$8408,Sheet4!$C$2:$C$8408,Sheet3!$B12,Sheet4!$D$2:$D$8408,Sheet3!CP$3,Sheet4!$E$2:$E$8408,Sheet3!CP$4,Sheet4!$A$2:$A$8408,Sheet3!$B$1,Sheet4!$B$2:$B$8408,Sheet3!$A$3)","v":39},{"$f":"+SUMIFS(Sheet4!$DM$2:$DM$8408,Sheet4!$C$2:$C$8408,Sheet3!$B12,Sheet4!$D$2:$D$8408,Sheet3!CQ$3,Sheet4!$E$2:$E$8408,Sheet3!CQ$4,Sheet4!$A$2:$A$8408,Sheet3!$B$1,Sheet4!$B$2:$B$8408,Sheet3!$A$3)","v":0},{"$f":"+SUMIFS(Sheet4!$DM$2:$DM$8408,Sheet4!$C$2:$C$8408,Sheet3!$B12,Sheet4!$D$2:$D$8408,Sheet3!CR$3,Sheet4!$E$2:$E$8408,Sheet3!CR$4,Sheet4!$A$2:$A$8408,Sheet3!$B$1,Sheet4!$B$2:$B$8408,Sheet3!$A$3)","v":0},{"$f":"+SUMIFS(Sheet4!$DM$2:$DM$8408,Sheet4!$C$2:$C$8408,Sheet3!$B12,Sheet4!$D$2:$D$8408,Sheet3!CS$3,Sheet4!$E$2:$E$8408,Sheet3!CS$4,Sheet4!$A$2:$A$8408,Sheet3!$B$1,Sheet4!$B$2:$B$8408,Sheet3!$A$3)","v":0},{"$f":"+SUMIFS(Sheet4!$DM$2:$DM$8408,Sheet4!$C$2:$C$8408,Sheet3!$B12,Sheet4!$D$2:$D$8408,Sheet3!CT$3,Sheet4!$E$2:$E$8408,Sheet3!CT$4,Sheet4!$A$2:$A$8408,Sheet3!$B$1,Sheet4!$B$2:$B$8408,Sheet3!$A$3)","v":0},{"$f":"+IF(SUMIFS(Sheet4!$DN$2:$DN$8408,Sheet4!$C$2:$C$8408,Sheet3!$B12,Sheet4!$D$2:$D$8408,Sheet3!CU$3,Sheet4!$A$2:$A$8408,Sheet3!$B$1,Sheet4!$B$2:$B$8408,Sheet3!$A$3)<3,0,SUMIFS(Sheet4!$DN$2:$DN$8408,Sheet4!$C$2:$C$8408,Sheet3!$B12,Sheet4!$D$2:$D$8408,Sheet3!CU$3,Sheet4!$A$2:$A$8408,Sheet3!$B$1,Sheet4!$B$2:$B$8408,Sheet3!$A$3))","v":19},{"$f":"+IF(SUMIFS(Sheet4!$DN$2:$DN$8408,Sheet4!$C$2:$C$8408,Sheet3!$B12,Sheet4!$D$2:$D$8408,Sheet3!CV$3,Sheet4!$A$2:$A$8408,Sheet3!$B$1,Sheet4!$B$2:$B$8408,Sheet3!$A$3)<3,0,SUMIFS(Sheet4!$DN$2:$DN$8408,Sheet4!$C$2:$C$8408,Sheet3!$B12,Sheet4!$D$2:$D$8408,Sheet3!CV$3,Sheet4!$A$2:$A$8408,Sheet3!$B$1,Sheet4!$B$2:$B$8408,Sheet3!$A$3))","v":172},{"$f":"+IF(SUMIFS(Sheet4!$DN$2:$DN$8408,Sheet4!$C$2:$C$8408,Sheet3!$B12,Sheet4!$D$2:$D$8408,Sheet3!CW$3,Sheet4!$A$2:$A$8408,Sheet3!$B$1,Sheet4!$B$2:$B$8408,Sheet3!$A$3)<3,0,SUMIFS(Sheet4!$DN$2:$DN$8408,Sheet4!$C$2:$C$8408,Sheet3!$B12,Sheet4!$D$2:$D$8408,Sheet3!CW$3,Sheet4!$A$2:$A$8408,Sheet3!$B$1,Sheet4!$B$2:$B$8408,Sheet3!$A$3))","v":591},{"$f":"+IF(SUMIFS(Sheet4!$DN$2:$DN$8408,Sheet4!$C$2:$C$8408,Sheet3!$B12,Sheet4!$D$2:$D$8408,Sheet3!CX$3,Sheet4!$A$2:$A$8408,Sheet3!$B$1,Sheet4!$B$2:$B$8408,Sheet3!$A$3)<3,0,SUMIFS(Sheet4!$DN$2:$DN$8408,Sheet4!$C$2:$C$8408,Sheet3!$B12,Sheet4!$D$2:$D$8408,Sheet3!CX$3,Sheet4!$A$2:$A$8408,Sheet3!$B$1,Sheet4!$B$2:$B$8408,Sheet3!$A$3))","v":0},{"$f":"+IF(SUMIFS(Sheet4!$DN$2:$DN$8408,Sheet4!$C$2:$C$8408,Sheet3!$B12,Sheet4!$D$2:$D$8408,Sheet3!CY$3,Sheet4!$A$2:$A$8408,Sheet3!$B$1,Sheet4!$B$2:$B$8408,Sheet3!$A$3)<3,0,SUMIFS(Sheet4!$DN$2:$DN$8408,Sheet4!$C$2:$C$8408,Sheet3!$B12,Sheet4!$D$2:$D$8408,Sheet3!CY$3,Sheet4!$A$2:$A$8408,Sheet3!$B$1,Sheet4!$B$2:$B$8408,Sheet3!$A$3))","v":0},{"$f":"+IF(SUMIFS(Sheet4!$DN$2:$DN$8408,Sheet4!$C$2:$C$8408,Sheet3!$B12,Sheet4!$D$2:$D$8408,Sheet3!CZ$3,Sheet4!$A$2:$A$8408,Sheet3!$B$1,Sheet4!$B$2:$B$8408,Sheet3!$A$3)<3,0,SUMIFS(Sheet4!$DN$2:$DN$8408,Sheet4!$C$2:$C$8408,Sheet3!$B12,Sheet4!$D$2:$D$8408,Sheet3!CZ$3,Sheet4!$A$2:$A$8408,Sheet3!$B$1,Sheet4!$B$2:$B$8408,Sheet3!$A$3))","v":1276},{"$f":"+IF(SUMIFS(Sheet4!$DN$2:$DN$8408,Sheet4!$C$2:$C$8408,Sheet3!$B12,Sheet4!$D$2:$D$8408,Sheet3!DA$3,Sheet4!$A$2:$A$8408,Sheet3!$B$1,Sheet4!$B$2:$B$8408,Sheet3!$A$3)<3,0,SUMIFS(Sheet4!$DN$2:$DN$8408,Sheet4!$C$2:$C$8408,Sheet3!$B12,Sheet4!$D$2:$D$8408,Sheet3!DA$3,Sheet4!$A$2:$A$8408,Sheet3!$B$1,Sheet4!$B$2:$B$8408,Sheet3!$A$3))","v":103},{"$f":"+IF(SUMIFS(Sheet4!$DN$2:$DN$8408,Sheet4!$C$2:$C$8408,Sheet3!$B12,Sheet4!$D$2:$D$8408,Sheet3!DB$3,Sheet4!$A$2:$A$8408,Sheet3!$B$1,Sheet4!$B$2:$B$8408,Sheet3!$A$3)<3,0,SUMIFS(Sheet4!$DN$2:$DN$8408,Sheet4!$C$2:$C$8408,Sheet3!$B12,Sheet4!$D$2:$D$8408,Sheet3!DB$3,Sheet4!$A$2:$A$8408,Sheet3!$B$1,Sheet4!$B$2:$B$8408,Sheet3!$A$3))","v":1540},{"$f":"+IF(SUMIFS(Sheet4!$DN$2:$DN$8408,Sheet4!$C$2:$C$8408,Sheet3!$B12,Sheet4!$D$2:$D$8408,Sheet3!DC$3,Sheet4!$A$2:$A$8408,Sheet3!$B$1,Sheet4!$B$2:$B$8408,Sheet3!$A$3)<3,0,SUMIFS(Sheet4!$DN$2:$DN$8408,Sheet4!$C$2:$C$8408,Sheet3!$B12,Sheet4!$D$2:$D$8408,Sheet3!DC$3,Sheet4!$A$2:$A$8408,Sheet3!$B$1,Sheet4!$B$2:$B$8408,Sheet3!$A$3))","v":280},{"$f":"+IF(SUMIFS(Sheet4!$DN$2:$DN$8408,Sheet4!$C$2:$C$8408,Sheet3!$B12,Sheet4!$D$2:$D$8408,Sheet3!DD$3,Sheet4!$A$2:$A$8408,Sheet3!$B$1,Sheet4!$B$2:$B$8408,Sheet3!$A$3)<3,0,SUMIFS(Sheet4!$DN$2:$DN$8408,Sheet4!$C$2:$C$8408,Sheet3!$B12,Sheet4!$D$2:$D$8408,Sheet3!DD$3,Sheet4!$A$2:$A$8408,Sheet3!$B$1,Sheet4!$B$2:$B$8408,Sheet3!$A$3))","v":4186},{"$f":"+IF(SUMIFS(Sheet4!$DN$2:$DN$8408,Sheet4!$C$2:$C$8408,Sheet3!$B12,Sheet4!$D$2:$D$8408,Sheet3!DE$3,Sheet4!$A$2:$A$8408,Sheet3!$B$1,Sheet4!$B$2:$B$8408,Sheet3!$A$3)<3,0,SUMIFS(Sheet4!$DN$2:$DN$8408,Sheet4!$C$2:$C$8408,Sheet3!$B12,Sheet4!$D$2:$D$8408,Sheet3!DE$3,Sheet4!$A$2:$A$8408,Sheet3!$B$1,Sheet4!$B$2:$B$8408,Sheet3!$A$3))","v":54},{"$f":"+IF(SUMIFS(Sheet4!$DN$2:$DN$8408,Sheet4!$C$2:$C$8408,Sheet3!$B12,Sheet4!$D$2:$D$8408,Sheet3!DF$3,Sheet4!$A$2:$A$8408,Sheet3!$B$1,Sheet4!$B$2:$B$8408,Sheet3!$A$3)<3,0,SUMIFS(Sheet4!$DN$2:$DN$8408,Sheet4!$C$2:$C$8408,Sheet3!$B12,Sheet4!$D$2:$D$8408,Sheet3!DF$3,Sheet4!$A$2:$A$8408,Sheet3!$B$1,Sheet4!$B$2:$B$8408,Sheet3!$A$3))","v":175},{"$f":"+IF(SUMIFS(Sheet4!$DN$2:$DN$8408,Sheet4!$C$2:$C$8408,Sheet3!$B12,Sheet4!$D$2:$D$8408,Sheet3!DG$3,Sheet4!$A$2:$A$8408,Sheet3!$B$1,Sheet4!$B$2:$B$8408,Sheet3!$A$3)<3,0,SUMIFS(Sheet4!$DN$2:$DN$8408,Sheet4!$C$2:$C$8408,Sheet3!$B12,Sheet4!$D$2:$D$8408,Sheet3!DG$3,Sheet4!$A$2:$A$8408,Sheet3!$B$1,Sheet4!$B$2:$B$8408,Sheet3!$A$3))","v":72},{"$f":"+IF(SUMIFS(Sheet4!$DN$2:$DN$8408,Sheet4!$C$2:$C$8408,Sheet3!$B12,Sheet4!$D$2:$D$8408,Sheet3!DH$3,Sheet4!$A$2:$A$8408,Sheet3!$B$1,Sheet4!$B$2:$B$8408,Sheet3!$A$3)<3,0,SUMIFS(Sheet4!$DN$2:$DN$8408,Sheet4!$C$2:$C$8408,Sheet3!$B12,Sheet4!$D$2:$D$8408,Sheet3!DH$3,Sheet4!$A$2:$A$8408,Sheet3!$B$1,Sheet4!$B$2:$B$8408,Sheet3!$A$3))","v":1557},{"$f":"+IF(SUMIFS(Sheet4!$DN$2:$DN$8408,Sheet4!$C$2:$C$8408,Sheet3!$B12,Sheet4!$D$2:$D$8408,Sheet3!DI$3,Sheet4!$A$2:$A$8408,Sheet3!$B$1,Sheet4!$B$2:$B$8408,Sheet3!$A$3)<3,0,SUMIFS(Sheet4!$DN$2:$DN$8408,Sheet4!$C$2:$C$8408,Sheet3!$B12,Sheet4!$D$2:$D$8408,Sheet3!DI$3,Sheet4!$A$2:$A$8408,Sheet3!$B$1,Sheet4!$B$2:$B$8408,Sheet3!$A$3))","v":1753},{"$f":"+IF(SUMIFS(Sheet4!$DN$2:$DN$8408,Sheet4!$C$2:$C$8408,Sheet3!$B12,Sheet4!$D$2:$D$8408,Sheet3!DJ$3,Sheet4!$A$2:$A$8408,Sheet3!$B$1,Sheet4!$B$2:$B$8408,Sheet3!$A$3)<3,0,SUMIFS(Sheet4!$DN$2:$DN$8408,Sheet4!$C$2:$C$8408,Sheet3!$B12,Sheet4!$D$2:$D$8408,Sheet3!DJ$3,Sheet4!$A$2:$A$8408,Sheet3!$B$1,Sheet4!$B$2:$B$8408,Sheet3!$A$3))","v":773},{"$f":"+IF(SUMIFS(Sheet4!$DN$2:$DN$8408,Sheet4!$C$2:$C$8408,Sheet3!$B12,Sheet4!$D$2:$D$8408,Sheet3!DK$3,Sheet4!$A$2:$A$8408,Sheet3!$B$1,Sheet4!$B$2:$B$8408,Sheet3!$A$3)<3,0,SUMIFS(Sheet4!$DN$2:$DN$8408,Sheet4!$C$2:$C$8408,Sheet3!$B12,Sheet4!$D$2:$D$8408,Sheet3!DK$3,Sheet4!$A$2:$A$8408,Sheet3!$B$1,Sheet4!$B$2:$B$8408,Sheet3!$A$3))","v":498},{"$f":"+IF(SUMIFS(Sheet4!$DN$2:$DN$8408,Sheet4!$C$2:$C$8408,Sheet3!$B12,Sheet4!$D$2:$D$8408,Sheet3!DL$3,Sheet4!$A$2:$A$8408,Sheet3!$B$1,Sheet4!$B$2:$B$8408,Sheet3!$A$3)<3,0,SUMIFS(Sheet4!$DN$2:$DN$8408,Sheet4!$C$2:$C$8408,Sheet3!$B12,Sheet4!$D$2:$D$8408,Sheet3!DL$3,Sheet4!$A$2:$A$8408,Sheet3!$B$1,Sheet4!$B$2:$B$8408,Sheet3!$A$3))","v":0},{"$f":"+IF(SUMIFS(Sheet4!$DN$2:$DN$8408,Sheet4!$C$2:$C$8408,Sheet3!$B12,Sheet4!$D$2:$D$8408,Sheet3!DM$3,Sheet4!$A$2:$A$8408,Sheet3!$B$1,Sheet4!$B$2:$B$8408,Sheet3!$A$3)<3,0,SUMIFS(Sheet4!$DN$2:$DN$8408,Sheet4!$C$2:$C$8408,Sheet3!$B12,Sheet4!$D$2:$D$8408,Sheet3!DM$3,Sheet4!$A$2:$A$8408,Sheet3!$B$1,Sheet4!$B$2:$B$8408,Sheet3!$A$3))","v":42},{"$f":"+IF(SUMIFS(Sheet4!$DN$2:$DN$8408,Sheet4!$C$2:$C$8408,Sheet3!$B12,Sheet4!$E$2:$E$8408,Sheet3!DN$4,Sheet4!$A$2:$A$8408,Sheet3!$B$1,Sheet4!$B$2:$B$8408,Sheet3!$A$3)<3,0,SUMIFS(Sheet4!$DN$2:$DN$8408,Sheet4!$C$2:$C$8408,Sheet3!$B12,Sheet4!$E$2:$E$8408,Sheet3!DN$4,Sheet4!$A$2:$A$8408,Sheet3!$B$1,Sheet4!$B$2:$B$8408,Sheet3!$A$3))","v":8263},{"$f":"+IF(SUMIFS(Sheet4!$DN$2:$DN$8408,Sheet4!$C$2:$C$8408,Sheet3!$B12,Sheet4!$E$2:$E$8408,Sheet3!DO$4,Sheet4!$A$2:$A$8408,Sheet3!$B$1,Sheet4!$B$2:$B$8408,Sheet3!$A$3)<3,0,SUMIFS(Sheet4!$DN$2:$DN$8408,Sheet4!$C$2:$C$8408,Sheet3!$B12,Sheet4!$E$2:$E$8408,Sheet3!DO$4,Sheet4!$A$2:$A$8408,Sheet3!$B$1,Sheet4!$B$2:$B$8408,Sheet3!$A$3))","v":4378},{"$f":"+IF(SUMIFS(Sheet4!$DN$2:$DN$8408,Sheet4!$C$2:$C$8408,Sheet3!$B12,Sheet4!$E$2:$E$8408,Sheet3!DP$4,Sheet4!$A$2:$A$8408,Sheet3!$B$1,Sheet4!$B$2:$B$8408,Sheet3!$A$3)<3,0,SUMIFS(Sheet4!$DN$2:$DN$8408,Sheet4!$C$2:$C$8408,Sheet3!$B12,Sheet4!$E$2:$E$8408,Sheet3!DP$4,Sheet4!$A$2:$A$8408,Sheet3!$B$1,Sheet4!$B$2:$B$8408,Sheet3!$A$3))","v":420},{"$f":"+IF(SUMIFS(Sheet4!$DN$2:$DN$8408,Sheet4!$C$2:$C$8408,Sheet3!$B12,Sheet4!$E$2:$E$8408,Sheet3!DQ$4,Sheet4!$A$2:$A$8408,Sheet3!$B$1,Sheet4!$B$2:$B$8408,Sheet3!$A$3)<3,0,SUMIFS(Sheet4!$DN$2:$DN$8408,Sheet4!$C$2:$C$8408,Sheet3!$B12,Sheet4!$E$2:$E$8408,Sheet3!DQ$4,Sheet4!$A$2:$A$8408,Sheet3!$B$1,Sheet4!$B$2:$B$8408,Sheet3!$A$3))","v":28},{"$f":"+IF(SUMIFS(Sheet4!$DN$2:$DN$8408,Sheet4!$C$2:$C$8408,Sheet3!$B12,Sheet4!$E$2:$E$8408,Sheet3!DR$4,Sheet4!$A$2:$A$8408,Sheet3!$B$1,Sheet4!$B$2:$B$8408,Sheet3!$A$3)<3,0,SUMIFS(Sheet4!$DN$2:$DN$8408,Sheet4!$C$2:$C$8408,Sheet3!$B12,Sheet4!$E$2:$E$8408,Sheet3!DR$4,Sheet4!$A$2:$A$8408,Sheet3!$B$1,Sheet4!$B$2:$B$8408,Sheet3!$A$3))","v":3}]
[1,"11C","Tâmega e Sousa",{"$f":"+SUMIFS(Sheet4!$DM$2:$DM$8408,Sheet4!$C$2:$C$8408,Sheet3!$B13,Sheet4!$D$2:$D$8408,Sheet3!D$3,Sheet4!$E$2:$E$8408,Sheet3!D$4,Sheet4!$A$2:$A$8408,Sheet3!$B$1,Sheet4!$B$2:$B$8408,Sheet3!$A$3)","v":0},{"$f":"+SUMIFS(Sheet4!$DM$2:$DM$8408,Sheet4!$C$2:$C$8408,Sheet3!$B13,Sheet4!$D$2:$D$8408,Sheet3!E$3,Sheet4!$E$2:$E$8408,Sheet3!E$4,Sheet4!$A$2:$A$8408,Sheet3!$B$1,Sheet4!$B$2:$B$8408,Sheet3!$A$3)","v":0},{"$f":"+SUMIFS(Sheet4!$DM$2:$DM$8408,Sheet4!$C$2:$C$8408,Sheet3!$B13,Sheet4!$D$2:$D$8408,Sheet3!F$3,Sheet4!$E$2:$E$8408,Sheet3!F$4,Sheet4!$A$2:$A$8408,Sheet3!$B$1,Sheet4!$B$2:$B$8408,Sheet3!$A$3)","v":0},{"$f":"+SUMIFS(Sheet4!$DM$2:$DM$8408,Sheet4!$C$2:$C$8408,Sheet3!$B13,Sheet4!$D$2:$D$8408,Sheet3!G$3,Sheet4!$E$2:$E$8408,Sheet3!G$4,Sheet4!$A$2:$A$8408,Sheet3!$B$1,Sheet4!$B$2:$B$8408,Sheet3!$A$3)","v":0},{"$f":"+SUMIFS(Sheet4!$DM$2:$DM$8408,Sheet4!$C$2:$C$8408,Sheet3!$B13,Sheet4!$D$2:$D$8408,Sheet3!H$3,Sheet4!$E$2:$E$8408,Sheet3!H$4,Sheet4!$A$2:$A$8408,Sheet3!$B$1,Sheet4!$B$2:$B$8408,Sheet3!$A$3)","v":0},{"$f":"+SUMIFS(Sheet4!$DM$2:$DM$8408,Sheet4!$C$2:$C$8408,Sheet3!$B13,Sheet4!$D$2:$D$8408,Sheet3!I$3,Sheet4!$E$2:$E$8408,Sheet3!I$4,Sheet4!$A$2:$A$8408,Sheet3!$B$1,Sheet4!$B$2:$B$8408,Sheet3!$A$3)","v":447},{"$f":"+SUMIFS(Sheet4!$DM$2:$DM$8408,Sheet4!$C$2:$C$8408,Sheet3!$B13,Sheet4!$D$2:$D$8408,Sheet3!J$3,Sheet4!$E$2:$E$8408,Sheet3!J$4,Sheet4!$A$2:$A$8408,Sheet3!$B$1,Sheet4!$B$2:$B$8408,Sheet3!$A$3)","v":44},{"$f":"+SUMIFS(Sheet4!$DM$2:$DM$8408,Sheet4!$C$2:$C$8408,Sheet3!$B13,Sheet4!$D$2:$D$8408,Sheet3!K$3,Sheet4!$E$2:$E$8408,Sheet3!K$4,Sheet4!$A$2:$A$8408,Sheet3!$B$1,Sheet4!$B$2:$B$8408,Sheet3!$A$3)","v":0},{"$f":"+SUMIFS(Sheet4!$DM$2:$DM$8408,Sheet4!$C$2:$C$8408,Sheet3!$B13,Sheet4!$D$2:$D$8408,Sheet3!L$3,Sheet4!$E$2:$E$8408,Sheet3!L$4,Sheet4!$A$2:$A$8408,Sheet3!$B$1,Sheet4!$B$2:$B$8408,Sheet3!$A$3)","v":6},{"$f":"+SUMIFS(Sheet4!$DM$2:$DM$8408,Sheet4!$C$2:$C$8408,Sheet3!$B13,Sheet4!$D$2:$D$8408,Sheet3!M$3,Sheet4!$E$2:$E$8408,Sheet3!M$4,Sheet4!$A$2:$A$8408,Sheet3!$B$1,Sheet4!$B$2:$B$8408,Sheet3!$A$3)","v":0},{"$f":"+SUMIFS(Sheet4!$DM$2:$DM$8408,Sheet4!$C$2:$C$8408,Sheet3!$B13,Sheet4!$D$2:$D$8408,Sheet3!N$3,Sheet4!$E$2:$E$8408,Sheet3!N$4,Sheet4!$A$2:$A$8408,Sheet3!$B$1,Sheet4!$B$2:$B$8408,Sheet3!$A$3)","v":41},{"$f":"+SUMIFS(Sheet4!$DM$2:$DM$8408,Sheet4!$C$2:$C$8408,Sheet3!$B13,Sheet4!$D$2:$D$8408,Sheet3!O$3,Sheet4!$E$2:$E$8408,Sheet3!O$4,Sheet4!$A$2:$A$8408,Sheet3!$B$1,Sheet4!$B$2:$B$8408,Sheet3!$A$3)","v":4},{"$f":"+SUMIFS(Sheet4!$DM$2:$DM$8408,Sheet4!$C$2:$C$8408,Sheet3!$B13,Sheet4!$D$2:$D$8408,Sheet3!P$3,Sheet4!$E$2:$E$8408,Sheet3!P$4,Sheet4!$A$2:$A$8408,Sheet3!$B$1,Sheet4!$B$2:$B$8408,Sheet3!$A$3)","v":0},{"$f":"+SUMIFS(Sheet4!$DM$2:$DM$8408,Sheet4!$C$2:$C$8408,Sheet3!$B13,Sheet4!$D$2:$D$8408,Sheet3!Q$3,Sheet4!$E$2:$E$8408,Sheet3!Q$4,Sheet4!$A$2:$A$8408,Sheet3!$B$1,Sheet4!$B$2:$B$8408,Sheet3!$A$3)","v":0},{"$f":"+SUMIFS(Sheet4!$DM$2:$DM$8408,Sheet4!$C$2:$C$8408,Sheet3!$B13,Sheet4!$D$2:$D$8408,Sheet3!R$3,Sheet4!$E$2:$E$8408,Sheet3!R$4,Sheet4!$A$2:$A$8408,Sheet3!$B$1,Sheet4!$B$2:$B$8408,Sheet3!$A$3)","v":0},{"$f":"+SUMIFS(Sheet4!$DM$2:$DM$8408,Sheet4!$C$2:$C$8408,Sheet3!$B13,Sheet4!$D$2:$D$8408,Sheet3!S$3,Sheet4!$E$2:$E$8408,Sheet3!S$4,Sheet4!$A$2:$A$8408,Sheet3!$B$1,Sheet4!$B$2:$B$8408,Sheet3!$A$3)","v":0},{"$f":"+SUMIFS(Sheet4!$DM$2:$DM$8408,Sheet4!$C$2:$C$8408,Sheet3!$B13,Sheet4!$D$2:$D$8408,Sheet3!T$3,Sheet4!$E$2:$E$8408,Sheet3!T$4,Sheet4!$A$2:$A$8408,Sheet3!$B$1,Sheet4!$B$2:$B$8408,Sheet3!$A$3)","v":0},{"$f":"+SUMIFS(Sheet4!$DM$2:$DM$8408,Sheet4!$C$2:$C$8408,Sheet3!$B13,Sheet4!$D$2:$D$8408,Sheet3!U$3,Sheet4!$E$2:$E$8408,Sheet3!U$4,Sheet4!$A$2:$A$8408,Sheet3!$B$1,Sheet4!$B$2:$B$8408,Sheet3!$A$3)","v":0},{"$f":"+SUMIFS(Sheet4!$DM$2:$DM$8408,Sheet4!$C$2:$C$8408,Sheet3!$B13,Sheet4!$D$2:$D$8408,Sheet3!V$3,Sheet4!$E$2:$E$8408,Sheet3!V$4,Sheet4!$A$2:$A$8408,Sheet3!$B$1,Sheet4!$B$2:$B$8408,Sheet3!$A$3)","v":0},{"$f":"+SUMIFS(Sheet4!$DM$2:$DM$8408,Sheet4!$C$2:$C$8408,Sheet3!$B13,Sheet4!$D$2:$D$8408,Sheet3!W$3,Sheet4!$E$2:$E$8408,Sheet3!W$4,Sheet4!$A$2:$A$8408,Sheet3!$B$1,Sheet4!$B$2:$B$8408,Sheet3!$A$3)","v":0},{"$f":"+SUMIFS(Sheet4!$DM$2:$DM$8408,Sheet4!$C$2:$C$8408,Sheet3!$B13,Sheet4!$D$2:$D$8408,Sheet3!X$3,Sheet4!$E$2:$E$8408,Sheet3!X$4,Sheet4!$A$2:$A$8408,Sheet3!$B$1,Sheet4!$B$2:$B$8408,Sheet3!$A$3)","v":0},{"$f":"+SUMIFS(Sheet4!$DM$2:$DM$8408,Sheet4!$C$2:$C$8408,Sheet3!$B13,Sheet4!$D$2:$D$8408,Sheet3!Y$3,Sheet4!$E$2:$E$8408,Sheet3!Y$4,Sheet4!$A$2:$A$8408,Sheet3!$B$1,Sheet4!$B$2:$B$8408,Sheet3!$A$3)","v":0},{"$f":"+SUMIFS(Sheet4!$DM$2:$DM$8408,Sheet4!$C$2:$C$8408,Sheet3!$B13,Sheet4!$D$2:$D$8408,Sheet3!Z$3,Sheet4!$E$2:$E$8408,Sheet3!Z$4,Sheet4!$A$2:$A$8408,Sheet3!$B$1,Sheet4!$B$2:$B$8408,Sheet3!$A$3)","v":0},{"$f":"+SUMIFS(Sheet4!$DM$2:$DM$8408,Sheet4!$C$2:$C$8408,Sheet3!$B13,Sheet4!$D$2:$D$8408,Sheet3!AA$3,Sheet4!$E$2:$E$8408,Sheet3!AA$4,Sheet4!$A$2:$A$8408,Sheet3!$B$1,Sheet4!$B$2:$B$8408,Sheet3!$A$3)","v":0},{"$f":"+SUMIFS(Sheet4!$DM$2:$DM$8408,Sheet4!$C$2:$C$8408,Sheet3!$B13,Sheet4!$D$2:$D$8408,Sheet3!AB$3,Sheet4!$E$2:$E$8408,Sheet3!AB$4,Sheet4!$A$2:$A$8408,Sheet3!$B$1,Sheet4!$B$2:$B$8408,Sheet3!$A$3)","v":0},{"$f":"+SUMIFS(Sheet4!$DM$2:$DM$8408,Sheet4!$C$2:$C$8408,Sheet3!$B13,Sheet4!$D$2:$D$8408,Sheet3!AC$3,Sheet4!$E$2:$E$8408,Sheet3!AC$4,Sheet4!$A$2:$A$8408,Sheet3!$B$1,Sheet4!$B$2:$B$8408,Sheet3!$A$3)","v":192},{"$f":"+SUMIFS(Sheet4!$DM$2:$DM$8408,Sheet4!$C$2:$C$8408,Sheet3!$B13,Sheet4!$D$2:$D$8408,Sheet3!AD$3,Sheet4!$E$2:$E$8408,Sheet3!AD$4,Sheet4!$A$2:$A$8408,Sheet3!$B$1,Sheet4!$B$2:$B$8408,Sheet3!$A$3)","v":244},{"$f":"+SUMIFS(Sheet4!$DM$2:$DM$8408,Sheet4!$C$2:$C$8408,Sheet3!$B13,Sheet4!$D$2:$D$8408,Sheet3!AE$3,Sheet4!$E$2:$E$8408,Sheet3!AE$4,Sheet4!$A$2:$A$8408,Sheet3!$B$1,Sheet4!$B$2:$B$8408,Sheet3!$A$3)","v":26},{"$f":"+SUMIFS(Sheet4!$DM$2:$DM$8408,Sheet4!$C$2:$C$8408,Sheet3!$B13,Sheet4!$D$2:$D$8408,Sheet3!AF$3,Sheet4!$E$2:$E$8408,Sheet3!AF$4,Sheet4!$A$2:$A$8408,Sheet3!$B$1,Sheet4!$B$2:$B$8408,Sheet3!$A$3)","v":0},{"$f":"+SUMIFS(Sheet4!$DM$2:$DM$8408,Sheet4!$C$2:$C$8408,Sheet3!$B13,Sheet4!$D$2:$D$8408,Sheet3!AG$3,Sheet4!$E$2:$E$8408,Sheet3!AG$4,Sheet4!$A$2:$A$8408,Sheet3!$B$1,Sheet4!$B$2:$B$8408,Sheet3!$A$3)","v":0},{"$f":"+SUMIFS(Sheet4!$DM$2:$DM$8408,Sheet4!$C$2:$C$8408,Sheet3!$B13,Sheet4!$D$2:$D$8408,Sheet3!AH$3,Sheet4!$E$2:$E$8408,Sheet3!AH$4,Sheet4!$A$2:$A$8408,Sheet3!$B$1,Sheet4!$B$2:$B$8408,Sheet3!$A$3)","v":330},{"$f":"+SUMIFS(Sheet4!$DM$2:$DM$8408,Sheet4!$C$2:$C$8408,Sheet3!$B13,Sheet4!$D$2:$D$8408,Sheet3!AI$3,Sheet4!$E$2:$E$8408,Sheet3!AI$4,Sheet4!$A$2:$A$8408,Sheet3!$B$1,Sheet4!$B$2:$B$8408,Sheet3!$A$3)","v":502},{"$f":"+SUMIFS(Sheet4!$DM$2:$DM$8408,Sheet4!$C$2:$C$8408,Sheet3!$B13,Sheet4!$D$2:$D$8408,Sheet3!AJ$3,Sheet4!$E$2:$E$8408,Sheet3!AJ$4,Sheet4!$A$2:$A$8408,Sheet3!$B$1,Sheet4!$B$2:$B$8408,Sheet3!$A$3)","v":77},{"$f":"+SUMIFS(Sheet4!$DM$2:$DM$8408,Sheet4!$C$2:$C$8408,Sheet3!$B13,Sheet4!$D$2:$D$8408,Sheet3!AK$3,Sheet4!$E$2:$E$8408,Sheet3!AK$4,Sheet4!$A$2:$A$8408,Sheet3!$B$1,Sheet4!$B$2:$B$8408,Sheet3!$A$3)","v":5},{"$f":"+SUMIFS(Sheet4!$DM$2:$DM$8408,Sheet4!$C$2:$C$8408,Sheet3!$B13,Sheet4!$D$2:$D$8408,Sheet3!AL$3,Sheet4!$E$2:$E$8408,Sheet3!AL$4,Sheet4!$A$2:$A$8408,Sheet3!$B$1,Sheet4!$B$2:$B$8408,Sheet3!$A$3)","v":0},{"$f":"+SUMIFS(Sheet4!$DM$2:$DM$8408,Sheet4!$C$2:$C$8408,Sheet3!$B13,Sheet4!$D$2:$D$8408,Sheet3!AM$3,Sheet4!$E$2:$E$8408,Sheet3!AM$4,Sheet4!$A$2:$A$8408,Sheet3!$B$1,Sheet4!$B$2:$B$8408,Sheet3!$A$3)","v":93},{"$f":"+SUMIFS(Sheet4!$DM$2:$DM$8408,Sheet4!$C$2:$C$8408,Sheet3!$B13,Sheet4!$D$2:$D$8408,Sheet3!AN$3,Sheet4!$E$2:$E$8408,Sheet3!AN$4,Sheet4!$A$2:$A$8408,Sheet3!$B$1,Sheet4!$B$2:$B$8408,Sheet3!$A$3)","v":273},{"$f":"+SUMIFS(Sheet4!$DM$2:$DM$8408,Sheet4!$C$2:$C$8408,Sheet3!$B13,Sheet4!$D$2:$D$8408,Sheet3!AO$3,Sheet4!$E$2:$E$8408,Sheet3!AO$4,Sheet4!$A$2:$A$8408,Sheet3!$B$1,Sheet4!$B$2:$B$8408,Sheet3!$A$3)","v":237},{"$f":"+SUMIFS(Sheet4!$DM$2:$DM$8408,Sheet4!$C$2:$C$8408,Sheet3!$B13,Sheet4!$D$2:$D$8408,Sheet3!AP$3,Sheet4!$E$2:$E$8408,Sheet3!AP$4,Sheet4!$A$2:$A$8408,Sheet3!$B$1,Sheet4!$B$2:$B$8408,Sheet3!$A$3)","v":29},{"$f":"+SUMIFS(Sheet4!$DM$2:$DM$8408,Sheet4!$C$2:$C$8408,Sheet3!$B13,Sheet4!$D$2:$D$8408,Sheet3!AQ$3,Sheet4!$E$2:$E$8408,Sheet3!AQ$4,Sheet4!$A$2:$A$8408,Sheet3!$B$1,Sheet4!$B$2:$B$8408,Sheet3!$A$3)","v":0},{"$f":"+SUMIFS(Sheet4!$DM$2:$DM$8408,Sheet4!$C$2:$C$8408,Sheet3!$B13,Sheet4!$D$2:$D$8408,Sheet3!AR$3,Sheet4!$E$2:$E$8408,Sheet3!AR$4,Sheet4!$A$2:$A$8408,Sheet3!$B$1,Sheet4!$B$2:$B$8408,Sheet3!$A$3)","v":7},{"$f":"+SUMIFS(Sheet4!$DM$2:$DM$8408,Sheet4!$C$2:$C$8408,Sheet3!$B13,Sheet4!$D$2:$D$8408,Sheet3!AS$3,Sheet4!$E$2:$E$8408,Sheet3!AS$4,Sheet4!$A$2:$A$8408,Sheet3!$B$1,Sheet4!$B$2:$B$8408,Sheet3!$A$3)","v":0},{"$f":"+SUMIFS(Sheet4!$DM$2:$DM$8408,Sheet4!$C$2:$C$8408,Sheet3!$B13,Sheet4!$D$2:$D$8408,Sheet3!AT$3,Sheet4!$E$2:$E$8408,Sheet3!AT$4,Sheet4!$A$2:$A$8408,Sheet3!$B$1,Sheet4!$B$2:$B$8408,Sheet3!$A$3)","v":0},{"$f":"+SUMIFS(Sheet4!$DM$2:$DM$8408,Sheet4!$C$2:$C$8408,Sheet3!$B13,Sheet4!$D$2:$D$8408,Sheet3!AU$3,Sheet4!$E$2:$E$8408,Sheet3!AU$4,Sheet4!$A$2:$A$8408,Sheet3!$B$1,Sheet4!$B$2:$B$8408,Sheet3!$A$3)","v":0},{"$f":"+SUMIFS(Sheet4!$DM$2:$DM$8408,Sheet4!$C$2:$C$8408,Sheet3!$B13,Sheet4!$D$2:$D$8408,Sheet3!AV$3,Sheet4!$E$2:$E$8408,Sheet3!AV$4,Sheet4!$A$2:$A$8408,Sheet3!$B$1,Sheet4!$B$2:$B$8408,Sheet3!$A$3)","v":0},{"$f":"+SUMIFS(Sheet4!$DM$2:$DM$8408,Sheet4!$C$2:$C$8408,Sheet3!$B13,Sheet4!$D$2:$D$8408,Sheet3!AW$3,Sheet4!$E$2:$E$8408,Sheet3!AW$4,Sheet4!$A$2:$A$8408,Sheet3!$B$1,Sheet4!$B$2:$B$8408,Sheet3!$A$3)","v":1994},{"$f":"+SUMIFS(Sheet4!$DM$2:$DM$8408,Sheet4!$C$2:$C$8408,Sheet3!$B13,Sheet4!$D$2:$D$8408,Sheet3!AX$3,Sheet4!$E$2:$E$8408,Sheet3!AX$4,Sheet4!$A$2:$A$8408,Sheet3!$B$1,Sheet4!$B$2:$B$8408,Sheet3!$A$3)","v":784},{"$f":"+SUMIFS(Sheet4!$DM$2:$DM$8408,Sheet4!$C$2:$C$8408,Sheet3!$B13,Sheet4!$D$2:$D$8408,Sheet3!AY$3,Sheet4!$E$2:$E$8408,Sheet3!AY$4,Sheet4!$A$2:$A$8408,Sheet3!$B$1,Sheet4!$B$2:$B$8408,Sheet3!$A$3)","v":32},{"$f":"+SUMIFS(Sheet4!$DM$2:$DM$8408,Sheet4!$C$2:$C$8408,Sheet3!$B13,Sheet4!$D$2:$D$8408,Sheet3!AZ$3,Sheet4!$E$2:$E$8408,Sheet3!AZ$4,Sheet4!$A$2:$A$8408,Sheet3!$B$1,Sheet4!$B$2:$B$8408,Sheet3!$A$3)","v":0},{"$f":"+SUMIFS(Sheet4!$DM$2:$DM$8408,Sheet4!$C$2:$C$8408,Sheet3!$B13,Sheet4!$D$2:$D$8408,Sheet3!BA$3,Sheet4!$E$2:$E$8408,Sheet3!BA$4,Sheet4!$A$2:$A$8408,Sheet3!$B$1,Sheet4!$B$2:$B$8408,Sheet3!$A$3)","v":0},{"$f":"+SUMIFS(Sheet4!$DM$2:$DM$8408,Sheet4!$C$2:$C$8408,Sheet3!$B13,Sheet4!$D$2:$D$8408,Sheet3!BB$3,Sheet4!$E$2:$E$8408,Sheet3!BB$4,Sheet4!$A$2:$A$8408,Sheet3!$B$1,Sheet4!$B$2:$B$8408,Sheet3!$A$3)","v":0},{"$f":"+SUMIFS(Sheet4!$DM$2:$DM$8408,Sheet4!$C$2:$C$8408,Sheet3!$B13,Sheet4!$D$2:$D$8408,Sheet3!BC$3,Sheet4!$E$2:$E$8408,Sheet3!BC$4,Sheet4!$A$2:$A$8408,Sheet3!$B$1,Sheet4!$B$2:$B$8408,Sheet3!$A$3)","v":7},{"$f":"+SUMIFS(Sheet4!$DM$2:$DM$8408,Sheet4!$C$2:$C$8408,Sheet3!$B13,Sheet4!$D$2:$D$8408,Sheet3!BD$3,Sheet4!$E$2:$E$8408,Sheet3!BD$4,Sheet4!$A$2:$A$8408,Sheet3!$B$1,Sheet4!$B$2:$B$8408,Sheet3!$A$3)","v":6},{"$f":"+SUMIFS(Sheet4!$DM$2:$DM$8408,Sheet4!$C$2:$C$8408,Sheet3!$B13,Sheet4!$D$2:$D$8408,Sheet3!BE$3,Sheet4!$E$2:$E$8408,Sheet3!BE$4,Sheet4!$A$2:$A$8408,Sheet3!$B$1,Sheet4!$B$2:$B$8408,Sheet3!$A$3)","v":13},{"$f":"+SUMIFS(Sheet4!$DM$2:$DM$8408,Sheet4!$C$2:$C$8408,Sheet3!$B13,Sheet4!$D$2:$D$8408,Sheet3!BF$3,Sheet4!$E$2:$E$8408,Sheet3!BF$4,Sheet4!$A$2:$A$8408,Sheet3!$B$1,Sheet4!$B$2:$B$8408,Sheet3!$A$3)","v":0},{"$f":"+SUMIFS(Sheet4!$DM$2:$DM$8408,Sheet4!$C$2:$C$8408,Sheet3!$B13,Sheet4!$D$2:$D$8408,Sheet3!BG$3,Sheet4!$E$2:$E$8408,Sheet3!BG$4,Sheet4!$A$2:$A$8408,Sheet3!$B$1,Sheet4!$B$2:$B$8408,Sheet3!$A$3)","v":67},{"$f":"+SUMIFS(Sheet4!$DM$2:$DM$8408,Sheet4!$C$2:$C$8408,Sheet3!$B13,Sheet4!$D$2:$D$8408,Sheet3!BH$3,Sheet4!$E$2:$E$8408,Sheet3!BH$4,Sheet4!$A$2:$A$8408,Sheet3!$B$1,Sheet4!$B$2:$B$8408,Sheet3!$A$3)","v":60},{"$f":"+SUMIFS(Sheet4!$DM$2:$DM$8408,Sheet4!$C$2:$C$8408,Sheet3!$B13,Sheet4!$D$2:$D$8408,Sheet3!BI$3,Sheet4!$E$2:$E$8408,Sheet3!BI$4,Sheet4!$A$2:$A$8408,Sheet3!$B$1,Sheet4!$B$2:$B$8408,Sheet3!$A$3)","v":4},{"$f":"+SUMIFS(Sheet4!$DM$2:$DM$8408,Sheet4!$C$2:$C$8408,Sheet3!$B13,Sheet4!$D$2:$D$8408,Sheet3!BJ$3,Sheet4!$E$2:$E$8408,Sheet3!BJ$4,Sheet4!$A$2:$A$8408,Sheet3!$B$1,Sheet4!$B$2:$B$8408,Sheet3!$A$3)","v":0},{"$f":"+SUMIFS(Sheet4!$DM$2:$DM$8408,Sheet4!$C$2:$C$8408,Sheet3!$B13,Sheet4!$D$2:$D$8408,Sheet3!BK$3,Sheet4!$E$2:$E$8408,Sheet3!BK$4,Sheet4!$A$2:$A$8408,Sheet3!$B$1,Sheet4!$B$2:$B$8408,Sheet3!$A$3)","v":0},{"$f":"+SUMIFS(Sheet4!$DM$2:$DM$8408,Sheet4!$C$2:$C$8408,Sheet3!$B13,Sheet4!$D$2:$D$8408,Sheet3!BL$3,Sheet4!$E$2:$E$8408,Sheet3!BL$4,Sheet4!$A$2:$A$8408,Sheet3!$B$1,Sheet4!$B$2:$B$8408,Sheet3!$A$3)","v":59},{"$f":"+SUMIFS(Sheet4!$DM$2:$DM$8408,Sheet4!$C$2:$C$8408,Sheet3!$B13,Sheet4!$D$2:$D$8408,Sheet3!BM$3,Sheet4!$E$2:$E$8408,Sheet3!BM$4,Sheet4!$A$2:$A$8408,Sheet3!$B$1,Sheet4!$B$2:$B$8408,Sheet3!$A$3)","v":136},{"$f":"+SUMIFS(Sheet4!$DM$2:$DM$8408,Sheet4!$C$2:$C$8408,Sheet3!$B13,Sheet4!$D$2:$D$8408,Sheet3!BN$3,Sheet4!$E$2:$E$8408,Sheet3!BN$4,Sheet4!$A$2:$A$8408,Sheet3!$B$1,Sheet4!$B$2:$B$8408,Sheet3!$A$3)","v":23},{"$f":"+SUMIFS(Sheet4!$DM$2:$DM$8408,Sheet4!$C$2:$C$8408,Sheet3!$B13,Sheet4!$D$2:$D$8408,Sheet3!BO$3,Sheet4!$E$2:$E$8408,Sheet3!BO$4,Sheet4!$A$2:$A$8408,Sheet3!$B$1,Sheet4!$B$2:$B$8408,Sheet3!$A$3)","v":5},{"$f":"+SUMIFS(Sheet4!$DM$2:$DM$8408,Sheet4!$C$2:$C$8408,Sheet3!$B13,Sheet4!$D$2:$D$8408,Sheet3!BP$3,Sheet4!$E$2:$E$8408,Sheet3!BP$4,Sheet4!$A$2:$A$8408,Sheet3!$B$1,Sheet4!$B$2:$B$8408,Sheet3!$A$3)","v":0},{"$f":"+SUMIFS(Sheet4!$DM$2:$DM$8408,Sheet4!$C$2:$C$8408,Sheet3!$B13,Sheet4!$D$2:$D$8408,Sheet3!BQ$3,Sheet4!$E$2:$E$8408,Sheet3!BQ$4,Sheet4!$A$2:$A$8408,Sheet3!$B$1,Sheet4!$B$2:$B$8408,Sheet3!$A$3)","v":27},{"$f":"+SUMIFS(Sheet4!$DM$2:$DM$8408,Sheet4!$C$2:$C$8408,Sheet3!$B13,Sheet4!$D$2:$D$8408,Sheet3!BR$3,Sheet4!$E$2:$E$8408,Sheet3!BR$4,Sheet4!$A$2:$A$8408,Sheet3!$B$1,Sheet4!$B$2:$B$8408,Sheet3!$A$3)","v":44},{"$f":"+SUMIFS(Sheet4!$DM$2:$DM$8408,Sheet4!$C$2:$C$8408,Sheet3!$B13,Sheet4!$D$2:$D$8408,Sheet3!BS$3,Sheet4!$E$2:$E$8408,Sheet3!BS$4,Sheet4!$A$2:$A$8408,Sheet3!$B$1,Sheet4!$B$2:$B$8408,Sheet3!$A$3)","v":9},{"$f":"+SUMIFS(Sheet4!$DM$2:$DM$8408,Sheet4!$C$2:$C$8408,Sheet3!$B13,Sheet4!$D$2:$D$8408,Sheet3!BT$3,Sheet4!$E$2:$E$8408,Sheet3!BT$4,Sheet4!$A$2:$A$8408,Sheet3!$B$1,Sheet4!$B$2:$B$8408,Sheet3!$A$3)","v":0},{"$f":"+SUMIFS(Sheet4!$DM$2:$DM$8408,Sheet4!$C$2:$C$8408,Sheet3!$B13,Sheet4!$D$2:$D$8408,Sheet3!BU$3,Sheet4!$E$2:$E$8408,Sheet3!BU$4,Sheet4!$A$2:$A$8408,Sheet3!$B$1,Sheet4!$B$2:$B$8408,Sheet3!$A$3)","v":0},{"$f":"+SUMIFS(Sheet4!$DM$2:$DM$8408,Sheet4!$C$2:$C$8408,Sheet3!$B13,Sheet4!$D$2:$D$8408,Sheet3!BV$3,Sheet4!$E$2:$E$8408,Sheet3!BV$4,Sheet4!$A$2:$A$8408,Sheet3!$B$1,Sheet4!$B$2:$B$8408,Sheet3!$A$3)","v":226},{"$f":"+SUMIFS(Sheet4!$DM$2:$DM$8408,Sheet4!$C$2:$C$8408,Sheet3!$B13,Sheet4!$D$2:$D$8408,Sheet3!BW$3,Sheet4!$E$2:$E$8408,Sheet3!BW$4,Sheet4!$A$2:$A$8408,Sheet3!$B$1,Sheet4!$B$2:$B$8408,Sheet3!$A$3)","v":133},{"$f":"+SUMIFS(Sheet4!$DM$2:$DM$8408,Sheet4!$C$2:$C$8408,Sheet3!$B13,Sheet4!$D$2:$D$8408,Sheet3!BX$3,Sheet4!$E$2:$E$8408,Sheet3!BX$4,Sheet4!$A$2:$A$8408,Sheet3!$B$1,Sheet4!$B$2:$B$8408,Sheet3!$A$3)","v":19},{"$f":"+SUMIFS(Sheet4!$DM$2:$DM$8408,Sheet4!$C$2:$C$8408,Sheet3!$B13,Sheet4!$D$2:$D$8408,Sheet3!BY$3,Sheet4!$E$2:$E$8408,Sheet3!BY$4,Sheet4!$A$2:$A$8408,Sheet3!$B$1,Sheet4!$B$2:$B$8408,Sheet3!$A$3)","v":5},{"$f":"+SUMIFS(Sheet4!$DM$2:$DM$8408,Sheet4!$C$2:$C$8408,Sheet3!$B13,Sheet4!$D$2:$D$8408,Sheet3!BZ$3,Sheet4!$E$2:$E$8408,Sheet3!BZ$4,Sheet4!$A$2:$A$8408,Sheet3!$B$1,Sheet4!$B$2:$B$8408,Sheet3!$A$3)","v":0},{"$f":"+SUMIFS(Sheet4!$DM$2:$DM$8408,Sheet4!$C$2:$C$8408,Sheet3!$B13,Sheet4!$D$2:$D$8408,Sheet3!CA$3,Sheet4!$E$2:$E$8408,Sheet3!CA$4,Sheet4!$A$2:$A$8408,Sheet3!$B$1,Sheet4!$B$2:$B$8408,Sheet3!$A$3)","v":437},{"$f":"+SUMIFS(Sheet4!$DM$2:$DM$8408,Sheet4!$C$2:$C$8408,Sheet3!$B13,Sheet4!$D$2:$D$8408,Sheet3!CB$3,Sheet4!$E$2:$E$8408,Sheet3!CB$4,Sheet4!$A$2:$A$8408,Sheet3!$B$1,Sheet4!$B$2:$B$8408,Sheet3!$A$3)","v":224},{"$f":"+SUMIFS(Sheet4!$DM$2:$DM$8408,Sheet4!$C$2:$C$8408,Sheet3!$B13,Sheet4!$D$2:$D$8408,Sheet3!CC$3,Sheet4!$E$2:$E$8408,Sheet3!CC$4,Sheet4!$A$2:$A$8408,Sheet3!$B$1,Sheet4!$B$2:$B$8408,Sheet3!$A$3)","v":8},{"$f":"+SUMIFS(Sheet4!$DM$2:$DM$8408,Sheet4!$C$2:$C$8408,Sheet3!$B13,Sheet4!$D$2:$D$8408,Sheet3!CD$3,Sheet4!$E$2:$E$8408,Sheet3!CD$4,Sheet4!$A$2:$A$8408,Sheet3!$B$1,Sheet4!$B$2:$B$8408,Sheet3!$A$3)","v":3},{"$f":"+SUMIFS(Sheet4!$DM$2:$DM$8408,Sheet4!$C$2:$C$8408,Sheet3!$B13,Sheet4!$D$2:$D$8408,Sheet3!CE$3,Sheet4!$E$2:$E$8408,Sheet3!CE$4,Sheet4!$A$2:$A$8408,Sheet3!$B$1,Sheet4!$B$2:$B$8408,Sheet3!$A$3)","v":0},{"$f":"+SUMIFS(Sheet4!$DM$2:$DM$8408,Sheet4!$C$2:$C$8408,Sheet3!$B13,Sheet4!$D$2:$D$8408,Sheet3!CF$3,Sheet4!$E$2:$E$8408,Sheet3!CF$4,Sheet4!$A$2:$A$8408,Sheet3!$B$1,Sheet4!$B$2:$B$8408,Sheet3!$A$3)","v":262},{"$f":"+SUMIFS(Sheet4!$DM$2:$DM$8408,Sheet4!$C$2:$C$8408,Sheet3!$B13,Sheet4!$D$2:$D$8408,Sheet3!CG$3,Sheet4!$E$2:$E$8408,Sheet3!CG$4,Sheet4!$A$2:$A$8408,Sheet3!$B$1,Sheet4!$B$2:$B$8408,Sheet3!$A$3)","v":47},{"$f":"+SUMIFS(Sheet4!$DM$2:$DM$8408,Sheet4!$C$2:$C$8408,Sheet3!$B13,Sheet4!$D$2:$D$8408,Sheet3!CH$3,Sheet4!$E$2:$E$8408,Sheet3!CH$4,Sheet4!$A$2:$A$8408,Sheet3!$B$1,Sheet4!$B$2:$B$8408,Sheet3!$A$3)","v":0},{"$f":"+SUMIFS(Sheet4!$DM$2:$DM$8408,Sheet4!$C$2:$C$8408,Sheet3!$B13,Sheet4!$D$2:$D$8408,Sheet3!CI$3,Sheet4!$E$2:$E$8408,Sheet3!CI$4,Sheet4!$A$2:$A$8408,Sheet3!$B$1,Sheet4!$B$2:$B$8408,Sheet3!$A$3)","v":0},{"$f":"+SUMIFS(Sheet4!$DM$2:$DM$8408,Sheet4!$C$2:$C$8408,Sheet3!$B13,Sheet4!$D$2:$D$8408,Sheet3!CJ$3,Sheet4!$E$2:$E$8408,Sheet3!CJ$4,Sheet4!$A$2:$A$8408,Sheet3!$B$1,Sheet4!$B$2:$B$8408,Sheet3!$A$3)","v":0},{"$f":"+SUMIFS(Sheet4!$DM$2:$DM$8408,Sheet4!$C$2:$C$8408,Sheet3!$B13,Sheet4!$D$2:$D$8408,Sheet3!CK$3,Sheet4!$E$2:$E$8408,Sheet3!CK$4,Sheet4!$A$2:$A$8408,Sheet3!$B$1,Sheet4!$B$2:$B$8408,Sheet3!$A$3)","v":0},{"$f":"+SUMIFS(Sheet4!$DM$2:$DM$8408,Sheet4!$C$2:$C$8408,Sheet3!$B13,Sheet4!$D$2:$D$8408,Sheet3!CL$3,Sheet4!$E$2:$E$8408,Sheet3!CL$4,Sheet4!$A$2:$A$8408,Sheet3!$B$1,Sheet4!$B$2:$B$8408,Sheet3!$A$3)","v":0},{"$f":"+SUMIFS(Sheet4!$DM$2:$DM$8408,Sheet4!$C$2:$C$8408,Sheet3!$B13,Sheet4!$D$2:$D$8408,Sheet3!CM$3,Sheet4!$E$2:$E$8408,Sheet3!CM$4,Sheet4!$A$2:$A$8408,Sheet3!$B$1,Sheet4!$B$2:$B$8408,Sheet3!$A$3)","v":0},{"$f":"+SUMIFS(Sheet4!$DM$2:$DM$8408,Sheet4!$C$2:$C$8408,Sheet3!$B13,Sheet4!$D$2:$D$8408,Sheet3!CN$3,Sheet4!$E$2:$E$8408,Sheet3!CN$4,Sheet4!$A$2:$A$8408,Sheet3!$B$1,Sheet4!$B$2:$B$8408,Sheet3!$A$3)","v":0},{"$f":"+SUMIFS(Sheet4!$DM$2:$DM$8408,Sheet4!$C$2:$C$8408,Sheet3!$B13,Sheet4!$D$2:$D$8408,Sheet3!CO$3,Sheet4!$E$2:$E$8408,Sheet3!CO$4,Sheet4!$A$2:$A$8408,Sheet3!$B$1,Sheet4!$B$2:$B$8408,Sheet3!$A$3)","v":0},{"$f":"+SUMIFS(Sheet4!$DM$2:$DM$8408,Sheet4!$C$2:$C$8408,Sheet3!$B13,Sheet4!$D$2:$D$8408,Sheet3!CP$3,Sheet4!$E$2:$E$8408,Sheet3!CP$4,Sheet4!$A$2:$A$8408,Sheet3!$B$1,Sheet4!$B$2:$B$8408,Sheet3!$A$3)","v":0},{"$f":"+SUMIFS(Sheet4!$DM$2:$DM$8408,Sheet4!$C$2:$C$8408,Sheet3!$B13,Sheet4!$D$2:$D$8408,Sheet3!CQ$3,Sheet4!$E$2:$E$8408,Sheet3!CQ$4,Sheet4!$A$2:$A$8408,Sheet3!$B$1,Sheet4!$B$2:$B$8408,Sheet3!$A$3)","v":0},{"$f":"+SUMIFS(Sheet4!$DM$2:$DM$8408,Sheet4!$C$2:$C$8408,Sheet3!$B13,Sheet4!$D$2:$D$8408,Sheet3!CR$3,Sheet4!$E$2:$E$8408,Sheet3!CR$4,Sheet4!$A$2:$A$8408,Sheet3!$B$1,Sheet4!$B$2:$B$8408,Sheet3!$A$3)","v":0},{"$f":"+SUMIFS(Sheet4!$DM$2:$DM$8408,Sheet4!$C$2:$C$8408,Sheet3!$B13,Sheet4!$D$2:$D$8408,Sheet3!CS$3,Sheet4!$E$2:$E$8408,Sheet3!CS$4,Sheet4!$A$2:$A$8408,Sheet3!$B$1,Sheet4!$B$2:$B$8408,Sheet3!$A$3)","v":0},{"$f":"+SUMIFS(Sheet4!$DM$2:$DM$8408,Sheet4!$C$2:$C$8408,Sheet3!$B13,Sheet4!$D$2:$D$8408,Sheet3!CT$3,Sheet4!$E$2:$E$8408,Sheet3!CT$4,Sheet4!$A$2:$A$8408,Sheet3!$B$1,Sheet4!$B$2:$B$8408,Sheet3!$A$3)","v":0},{"$f":"+IF(SUMIFS(Sheet4!$DN$2:$DN$8408,Sheet4!$C$2:$C$8408,Sheet3!$B13,Sheet4!$D$2:$D$8408,Sheet3!CU$3,Sheet4!$A$2:$A$8408,Sheet3!$B$1,Sheet4!$B$2:$B$8408,Sheet3!$A$3)<3,0,SUMIFS(Sheet4!$DN$2:$DN$8408,Sheet4!$C$2:$C$8408,Sheet3!$B13,Sheet4!$D$2:$D$8408,Sheet3!CU$3,Sheet4!$A$2:$A$8408,Sheet3!$B$1,Sheet4!$B$2:$B$8408,Sheet3!$A$3))","v":7},{"$f":"+IF(SUMIFS(Sheet4!$DN$2:$DN$8408,Sheet4!$C$2:$C$8408,Sheet3!$B13,Sheet4!$D$2:$D$8408,Sheet3!CV$3,Sheet4!$A$2:$A$8408,Sheet3!$B$1,Sheet4!$B$2:$B$8408,Sheet3!$A$3)<3,0,SUMIFS(Sheet4!$DN$2:$DN$8408,Sheet4!$C$2:$C$8408,Sheet3!$B13,Sheet4!$D$2:$D$8408,Sheet3!CV$3,Sheet4!$A$2:$A$8408,Sheet3!$B$1,Sheet4!$B$2:$B$8408,Sheet3!$A$3))","v":502},{"$f":"+IF(SUMIFS(Sheet4!$DN$2:$DN$8408,Sheet4!$C$2:$C$8408,Sheet3!$B13,Sheet4!$D$2:$D$8408,Sheet3!CW$3,Sheet4!$A$2:$A$8408,Sheet3!$B$1,Sheet4!$B$2:$B$8408,Sheet3!$A$3)<3,0,SUMIFS(Sheet4!$DN$2:$DN$8408,Sheet4!$C$2:$C$8408,Sheet3!$B13,Sheet4!$D$2:$D$8408,Sheet3!CW$3,Sheet4!$A$2:$A$8408,Sheet3!$B$1,Sheet4!$B$2:$B$8408,Sheet3!$A$3))","v":47},{"$f":"+IF(SUMIFS(Sheet4!$DN$2:$DN$8408,Sheet4!$C$2:$C$8408,Sheet3!$B13,Sheet4!$D$2:$D$8408,Sheet3!CX$3,Sheet4!$A$2:$A$8408,Sheet3!$B$1,Sheet4!$B$2:$B$8408,Sheet3!$A$3)<3,0,SUMIFS(Sheet4!$DN$2:$DN$8408,Sheet4!$C$2:$C$8408,Sheet3!$B13,Sheet4!$D$2:$D$8408,Sheet3!CX$3,Sheet4!$A$2:$A$8408,Sheet3!$B$1,Sheet4!$B$2:$B$8408,Sheet3!$A$3))","v":0},{"$f":"+IF(SUMIFS(Sheet4!$DN$2:$DN$8408,Sheet4!$C$2:$C$8408,Sheet3!$B13,Sheet4!$D$2:$D$8408,Sheet3!CY$3,Sheet4!$A$2:$A$8408,Sheet3!$B$1,Sheet4!$B$2:$B$8408,Sheet3!$A$3)<3,0,SUMIFS(Sheet4!$DN$2:$DN$8408,Sheet4!$C$2:$C$8408,Sheet3!$B13,Sheet4!$D$2:$D$8408,Sheet3!CY$3,Sheet4!$A$2:$A$8408,Sheet3!$B$1,Sheet4!$B$2:$B$8408,Sheet3!$A$3))","v":0},{"$f":"+IF(SUMIFS(Sheet4!$DN$2:$DN$8408,Sheet4!$C$2:$C$8408,Sheet3!$B13,Sheet4!$D$2:$D$8408,Sheet3!CZ$3,Sheet4!$A$2:$A$8408,Sheet3!$B$1,Sheet4!$B$2:$B$8408,Sheet3!$A$3)<3,0,SUMIFS(Sheet4!$DN$2:$DN$8408,Sheet4!$C$2:$C$8408,Sheet3!$B13,Sheet4!$D$2:$D$8408,Sheet3!CZ$3,Sheet4!$A$2:$A$8408,Sheet3!$B$1,Sheet4!$B$2:$B$8408,Sheet3!$A$3))","v":466},{"$f":"+IF(SUMIFS(Sheet4!$DN$2:$DN$8408,Sheet4!$C$2:$C$8408,Sheet3!$B13,Sheet4!$D$2:$D$8408,Sheet3!DA$3,Sheet4!$A$2:$A$8408,Sheet3!$B$1,Sheet4!$B$2:$B$8408,Sheet3!$A$3)<3,0,SUMIFS(Sheet4!$DN$2:$DN$8408,Sheet4!$C$2:$C$8408,Sheet3!$B13,Sheet4!$D$2:$D$8408,Sheet3!DA$3,Sheet4!$A$2:$A$8408,Sheet3!$B$1,Sheet4!$B$2:$B$8408,Sheet3!$A$3))","v":918},{"$f":"+IF(SUMIFS(Sheet4!$DN$2:$DN$8408,Sheet4!$C$2:$C$8408,Sheet3!$B13,Sheet4!$D$2:$D$8408,Sheet3!DB$3,Sheet4!$A$2:$A$8408,Sheet3!$B$1,Sheet4!$B$2:$B$8408,Sheet3!$A$3)<3,0,SUMIFS(Sheet4!$DN$2:$DN$8408,Sheet4!$C$2:$C$8408,Sheet3!$B13,Sheet4!$D$2:$D$8408,Sheet3!DB$3,Sheet4!$A$2:$A$8408,Sheet3!$B$1,Sheet4!$B$2:$B$8408,Sheet3!$A$3))","v":633},{"$f":"+IF(SUMIFS(Sheet4!$DN$2:$DN$8408,Sheet4!$C$2:$C$8408,Sheet3!$B13,Sheet4!$D$2:$D$8408,Sheet3!DC$3,Sheet4!$A$2:$A$8408,Sheet3!$B$1,Sheet4!$B$2:$B$8408,Sheet3!$A$3)<3,0,SUMIFS(Sheet4!$DN$2:$DN$8408,Sheet4!$C$2:$C$8408,Sheet3!$B13,Sheet4!$D$2:$D$8408,Sheet3!DC$3,Sheet4!$A$2:$A$8408,Sheet3!$B$1,Sheet4!$B$2:$B$8408,Sheet3!$A$3))","v":10},{"$f":"+IF(SUMIFS(Sheet4!$DN$2:$DN$8408,Sheet4!$C$2:$C$8408,Sheet3!$B13,Sheet4!$D$2:$D$8408,Sheet3!DD$3,Sheet4!$A$2:$A$8408,Sheet3!$B$1,Sheet4!$B$2:$B$8408,Sheet3!$A$3)<3,0,SUMIFS(Sheet4!$DN$2:$DN$8408,Sheet4!$C$2:$C$8408,Sheet3!$B13,Sheet4!$D$2:$D$8408,Sheet3!DD$3,Sheet4!$A$2:$A$8408,Sheet3!$B$1,Sheet4!$B$2:$B$8408,Sheet3!$A$3))","v":2814},{"$f":"+IF(SUMIFS(Sheet4!$DN$2:$DN$8408,Sheet4!$C$2:$C$8408,Sheet3!$B13,Sheet4!$D$2:$D$8408,Sheet3!DE$3,Sheet4!$A$2:$A$8408,Sheet3!$B$1,Sheet4!$B$2:$B$8408,Sheet3!$A$3)<3,0,SUMIFS(Sheet4!$DN$2:$DN$8408,Sheet4!$C$2:$C$8408,Sheet3!$B13,Sheet4!$D$2:$D$8408,Sheet3!DE$3,Sheet4!$A$2:$A$8408,Sheet3!$B$1,Sheet4!$B$2:$B$8408,Sheet3!$A$3))","v":30},{"$f":"+IF(SUMIFS(Sheet4!$DN$2:$DN$8408,Sheet4!$C$2:$C$8408,Sheet3!$B13,Sheet4!$D$2:$D$8408,Sheet3!DF$3,Sheet4!$A$2:$A$8408,Sheet3!$B$1,Sheet4!$B$2:$B$8408,Sheet3!$A$3)<3,0,SUMIFS(Sheet4!$DN$2:$DN$8408,Sheet4!$C$2:$C$8408,Sheet3!$B13,Sheet4!$D$2:$D$8408,Sheet3!DF$3,Sheet4!$A$2:$A$8408,Sheet3!$B$1,Sheet4!$B$2:$B$8408,Sheet3!$A$3))","v":134},{"$f":"+IF(SUMIFS(Sheet4!$DN$2:$DN$8408,Sheet4!$C$2:$C$8408,Sheet3!$B13,Sheet4!$D$2:$D$8408,Sheet3!DG$3,Sheet4!$A$2:$A$8408,Sheet3!$B$1,Sheet4!$B$2:$B$8408,Sheet3!$A$3)<3,0,SUMIFS(Sheet4!$DN$2:$DN$8408,Sheet4!$C$2:$C$8408,Sheet3!$B13,Sheet4!$D$2:$D$8408,Sheet3!DG$3,Sheet4!$A$2:$A$8408,Sheet3!$B$1,Sheet4!$B$2:$B$8408,Sheet3!$A$3))","v":225},{"$f":"+IF(SUMIFS(Sheet4!$DN$2:$DN$8408,Sheet4!$C$2:$C$8408,Sheet3!$B13,Sheet4!$D$2:$D$8408,Sheet3!DH$3,Sheet4!$A$2:$A$8408,Sheet3!$B$1,Sheet4!$B$2:$B$8408,Sheet3!$A$3)<3,0,SUMIFS(Sheet4!$DN$2:$DN$8408,Sheet4!$C$2:$C$8408,Sheet3!$B13,Sheet4!$D$2:$D$8408,Sheet3!DH$3,Sheet4!$A$2:$A$8408,Sheet3!$B$1,Sheet4!$B$2:$B$8408,Sheet3!$A$3))","v":87},{"$f":"+IF(SUMIFS(Sheet4!$DN$2:$DN$8408,Sheet4!$C$2:$C$8408,Sheet3!$B13,Sheet4!$D$2:$D$8408,Sheet3!DI$3,Sheet4!$A$2:$A$8408,Sheet3!$B$1,Sheet4!$B$2:$B$8408,Sheet3!$A$3)<3,0,SUMIFS(Sheet4!$DN$2:$DN$8408,Sheet4!$C$2:$C$8408,Sheet3!$B13,Sheet4!$D$2:$D$8408,Sheet3!DI$3,Sheet4!$A$2:$A$8408,Sheet3!$B$1,Sheet4!$B$2:$B$8408,Sheet3!$A$3))","v":386},{"$f":"+IF(SUMIFS(Sheet4!$DN$2:$DN$8408,Sheet4!$C$2:$C$8408,Sheet3!$B13,Sheet4!$D$2:$D$8408,Sheet3!DJ$3,Sheet4!$A$2:$A$8408,Sheet3!$B$1,Sheet4!$B$2:$B$8408,Sheet3!$A$3)<3,0,SUMIFS(Sheet4!$DN$2:$DN$8408,Sheet4!$C$2:$C$8408,Sheet3!$B13,Sheet4!$D$2:$D$8408,Sheet3!DJ$3,Sheet4!$A$2:$A$8408,Sheet3!$B$1,Sheet4!$B$2:$B$8408,Sheet3!$A$3))","v":672},{"$f":"+IF(SUMIFS(Sheet4!$DN$2:$DN$8408,Sheet4!$C$2:$C$8408,Sheet3!$B13,Sheet4!$D$2:$D$8408,Sheet3!DK$3,Sheet4!$A$2:$A$8408,Sheet3!$B$1,Sheet4!$B$2:$B$8408,Sheet3!$A$3)<3,0,SUMIFS(Sheet4!$DN$2:$DN$8408,Sheet4!$C$2:$C$8408,Sheet3!$B13,Sheet4!$D$2:$D$8408,Sheet3!DK$3,Sheet4!$A$2:$A$8408,Sheet3!$B$1,Sheet4!$B$2:$B$8408,Sheet3!$A$3))","v":313},{"$f":"+IF(SUMIFS(Sheet4!$DN$2:$DN$8408,Sheet4!$C$2:$C$8408,Sheet3!$B13,Sheet4!$D$2:$D$8408,Sheet3!DL$3,Sheet4!$A$2:$A$8408,Sheet3!$B$1,Sheet4!$B$2:$B$8408,Sheet3!$A$3)<3,0,SUMIFS(Sheet4!$DN$2:$DN$8408,Sheet4!$C$2:$C$8408,Sheet3!$B13,Sheet4!$D$2:$D$8408,Sheet3!DL$3,Sheet4!$A$2:$A$8408,Sheet3!$B$1,Sheet4!$B$2:$B$8408,Sheet3!$A$3))","v":0},{"$f":"+IF(SUMIFS(Sheet4!$DN$2:$DN$8408,Sheet4!$C$2:$C$8408,Sheet3!$B13,Sheet4!$D$2:$D$8408,Sheet3!DM$3,Sheet4!$A$2:$A$8408,Sheet3!$B$1,Sheet4!$B$2:$B$8408,Sheet3!$A$3)<3,0,SUMIFS(Sheet4!$DN$2:$DN$8408,Sheet4!$C$2:$C$8408,Sheet3!$B13,Sheet4!$D$2:$D$8408,Sheet3!DM$3,Sheet4!$A$2:$A$8408,Sheet3!$B$1,Sheet4!$B$2:$B$8408,Sheet3!$A$3))","v":0},{"$f":"+IF(SUMIFS(Sheet4!$DN$2:$DN$8408,Sheet4!$C$2:$C$8408,Sheet3!$B13,Sheet4!$E$2:$E$8408,Sheet3!DN$4,Sheet4!$A$2:$A$8408,Sheet3!$B$1,Sheet4!$B$2:$B$8408,Sheet3!$A$3)<3,0,SUMIFS(Sheet4!$DN$2:$DN$8408,Sheet4!$C$2:$C$8408,Sheet3!$B13,Sheet4!$E$2:$E$8408,Sheet3!DN$4,Sheet4!$A$2:$A$8408,Sheet3!$B$1,Sheet4!$B$2:$B$8408,Sheet3!$A$3))","v":4192},{"$f":"+IF(SUMIFS(Sheet4!$DN$2:$DN$8408,Sheet4!$C$2:$C$8408,Sheet3!$B13,Sheet4!$E$2:$E$8408,Sheet3!DO$4,Sheet4!$A$2:$A$8408,Sheet3!$B$1,Sheet4!$B$2:$B$8408,Sheet3!$A$3)<3,0,SUMIFS(Sheet4!$DN$2:$DN$8408,Sheet4!$C$2:$C$8408,Sheet3!$B13,Sheet4!$E$2:$E$8408,Sheet3!DO$4,Sheet4!$A$2:$A$8408,Sheet3!$B$1,Sheet4!$B$2:$B$8408,Sheet3!$A$3))","v":2520},{"$f":"+IF(SUMIFS(Sheet4!$DN$2:$DN$8408,Sheet4!$C$2:$C$8408,Sheet3!$B13,Sheet4!$E$2:$E$8408,Sheet3!DP$4,Sheet4!$A$2:$A$8408,Sheet3!$B$1,Sheet4!$B$2:$B$8408,Sheet3!$A$3)<3,0,SUMIFS(Sheet4!$DN$2:$DN$8408,Sheet4!$C$2:$C$8408,Sheet3!$B13,Sheet4!$E$2:$E$8408,Sheet3!DP$4,Sheet4!$A$2:$A$8408,Sheet3!$B$1,Sheet4!$B$2:$B$8408,Sheet3!$A$3))","v":456},{"$f":"+IF(SUMIFS(Sheet4!$DN$2:$DN$8408,Sheet4!$C$2:$C$8408,Sheet3!$B13,Sheet4!$E$2:$E$8408,Sheet3!DQ$4,Sheet4!$A$2:$A$8408,Sheet3!$B$1,Sheet4!$B$2:$B$8408,Sheet3!$A$3)<3,0,SUMIFS(Sheet4!$DN$2:$DN$8408,Sheet4!$C$2:$C$8408,Sheet3!$B13,Sheet4!$E$2:$E$8408,Sheet3!DQ$4,Sheet4!$A$2:$A$8408,Sheet3!$B$1,Sheet4!$B$2:$B$8408,Sheet3!$A$3))","v":74},{"$f":"+IF(SUMIFS(Sheet4!$DN$2:$DN$8408,Sheet4!$C$2:$C$8408,Sheet3!$B13,Sheet4!$E$2:$E$8408,Sheet3!DR$4,Sheet4!$A$2:$A$8408,Sheet3!$B$1,Sheet4!$B$2:$B$8408,Sheet3!$A$3)<3,0,SUMIFS(Sheet4!$DN$2:$DN$8408,Sheet4!$C$2:$C$8408,Sheet3!$B13,Sheet4!$E$2:$E$8408,Sheet3!DR$4,Sheet4!$A$2:$A$8408,Sheet3!$B$1,Sheet4!$B$2:$B$8408,Sheet3!$A$3))","v":4}]
[3,"11D","Douro",{"$f":"+SUMIFS(Sheet4!$DM$2:$DM$8408,Sheet4!$C$2:$C$8408,Sheet3!$B14,Sheet4!$D$2:$D$8408,Sheet3!D$3,Sheet4!$E$2:$E$8408,Sheet3!D$4,Sheet4!$A$2:$A$8408,Sheet3!$B$1,Sheet4!$B$2:$B$8408,Sheet3!$A$3)","v":0},{"$f":"+SUMIFS(Sheet4!$DM$2:$DM$8408,Sheet4!$C$2:$C$8408,Sheet3!$B14,Sheet4!$D$2:$D$8408,Sheet3!E$3,Sheet4!$E$2:$E$8408,Sheet3!E$4,Sheet4!$A$2:$A$8408,Sheet3!$B$1,Sheet4!$B$2:$B$8408,Sheet3!$A$3)","v":0},{"$f":"+SUMIFS(Sheet4!$DM$2:$DM$8408,Sheet4!$C$2:$C$8408,Sheet3!$B14,Sheet4!$D$2:$D$8408,Sheet3!F$3,Sheet4!$E$2:$E$8408,Sheet3!F$4,Sheet4!$A$2:$A$8408,Sheet3!$B$1,Sheet4!$B$2:$B$8408,Sheet3!$A$3)","v":0},{"$f":"+SUMIFS(Sheet4!$DM$2:$DM$8408,Sheet4!$C$2:$C$8408,Sheet3!$B14,Sheet4!$D$2:$D$8408,Sheet3!G$3,Sheet4!$E$2:$E$8408,Sheet3!G$4,Sheet4!$A$2:$A$8408,Sheet3!$B$1,Sheet4!$B$2:$B$8408,Sheet3!$A$3)","v":0},{"$f":"+SUMIFS(Sheet4!$DM$2:$DM$8408,Sheet4!$C$2:$C$8408,Sheet3!$B14,Sheet4!$D$2:$D$8408,Sheet3!H$3,Sheet4!$E$2:$E$8408,Sheet3!H$4,Sheet4!$A$2:$A$8408,Sheet3!$B$1,Sheet4!$B$2:$B$8408,Sheet3!$A$3)","v":0},{"$f":"+SUMIFS(Sheet4!$DM$2:$DM$8408,Sheet4!$C$2:$C$8408,Sheet3!$B14,Sheet4!$D$2:$D$8408,Sheet3!I$3,Sheet4!$E$2:$E$8408,Sheet3!I$4,Sheet4!$A$2:$A$8408,Sheet3!$B$1,Sheet4!$B$2:$B$8408,Sheet3!$A$3)","v":13},{"$f":"+SUMIFS(Sheet4!$DM$2:$DM$8408,Sheet4!$C$2:$C$8408,Sheet3!$B14,Sheet4!$D$2:$D$8408,Sheet3!J$3,Sheet4!$E$2:$E$8408,Sheet3!J$4,Sheet4!$A$2:$A$8408,Sheet3!$B$1,Sheet4!$B$2:$B$8408,Sheet3!$A$3)","v":0},{"$f":"+SUMIFS(Sheet4!$DM$2:$DM$8408,Sheet4!$C$2:$C$8408,Sheet3!$B14,Sheet4!$D$2:$D$8408,Sheet3!K$3,Sheet4!$E$2:$E$8408,Sheet3!K$4,Sheet4!$A$2:$A$8408,Sheet3!$B$1,Sheet4!$B$2:$B$8408,Sheet3!$A$3)","v":0},{"$f":"+SUMIFS(Sheet4!$DM$2:$DM$8408,Sheet4!$C$2:$C$8408,Sheet3!$B14,Sheet4!$D$2:$D$8408,Sheet3!L$3,Sheet4!$E$2:$E$8408,Sheet3!L$4,Sheet4!$A$2:$A$8408,Sheet3!$B$1,Sheet4!$B$2:$B$8408,Sheet3!$A$3)","v":0},{"$f":"+SUMIFS(Sheet4!$DM$2:$DM$8408,Sheet4!$C$2:$C$8408,Sheet3!$B14,Sheet4!$D$2:$D$8408,Sheet3!M$3,Sheet4!$E$2:$E$8408,Sheet3!M$4,Sheet4!$A$2:$A$8408,Sheet3!$B$1,Sheet4!$B$2:$B$8408,Sheet3!$A$3)","v":0},{"$f":"+SUMIFS(Sheet4!$DM$2:$DM$8408,Sheet4!$C$2:$C$8408,Sheet3!$B14,Sheet4!$D$2:$D$8408,Sheet3!N$3,Sheet4!$E$2:$E$8408,Sheet3!N$4,Sheet4!$A$2:$A$8408,Sheet3!$B$1,Sheet4!$B$2:$B$8408,Sheet3!$A$3)","v":142},{"$f":"+SUMIFS(Sheet4!$DM$2:$DM$8408,Sheet4!$C$2:$C$8408,Sheet3!$B14,Sheet4!$D$2:$D$8408,Sheet3!O$3,Sheet4!$E$2:$E$8408,Sheet3!O$4,Sheet4!$A$2:$A$8408,Sheet3!$B$1,Sheet4!$B$2:$B$8408,Sheet3!$A$3)","v":15},{"$f":"+SUMIFS(Sheet4!$DM$2:$DM$8408,Sheet4!$C$2:$C$8408,Sheet3!$B14,Sheet4!$D$2:$D$8408,Sheet3!P$3,Sheet4!$E$2:$E$8408,Sheet3!P$4,Sheet4!$A$2:$A$8408,Sheet3!$B$1,Sheet4!$B$2:$B$8408,Sheet3!$A$3)","v":3},{"$f":"+SUMIFS(Sheet4!$DM$2:$DM$8408,Sheet4!$C$2:$C$8408,Sheet3!$B14,Sheet4!$D$2:$D$8408,Sheet3!Q$3,Sheet4!$E$2:$E$8408,Sheet3!Q$4,Sheet4!$A$2:$A$8408,Sheet3!$B$1,Sheet4!$B$2:$B$8408,Sheet3!$A$3)","v":0},{"$f":"+SUMIFS(Sheet4!$DM$2:$DM$8408,Sheet4!$C$2:$C$8408,Sheet3!$B14,Sheet4!$D$2:$D$8408,Sheet3!R$3,Sheet4!$E$2:$E$8408,Sheet3!R$4,Sheet4!$A$2:$A$8408,Sheet3!$B$1,Sheet4!$B$2:$B$8408,Sheet3!$A$3)","v":0},{"$f":"+SUMIFS(Sheet4!$DM$2:$DM$8408,Sheet4!$C$2:$C$8408,Sheet3!$B14,Sheet4!$D$2:$D$8408,Sheet3!S$3,Sheet4!$E$2:$E$8408,Sheet3!S$4,Sheet4!$A$2:$A$8408,Sheet3!$B$1,Sheet4!$B$2:$B$8408,Sheet3!$A$3)","v":0},{"$f":"+SUMIFS(Sheet4!$DM$2:$DM$8408,Sheet4!$C$2:$C$8408,Sheet3!$B14,Sheet4!$D$2:$D$8408,Sheet3!T$3,Sheet4!$E$2:$E$8408,Sheet3!T$4,Sheet4!$A$2:$A$8408,Sheet3!$B$1,Sheet4!$B$2:$B$8408,Sheet3!$A$3)","v":0},{"$f":"+SUMIFS(Sheet4!$DM$2:$DM$8408,Sheet4!$C$2:$C$8408,Sheet3!$B14,Sheet4!$D$2:$D$8408,Sheet3!U$3,Sheet4!$E$2:$E$8408,Sheet3!U$4,Sheet4!$A$2:$A$8408,Sheet3!$B$1,Sheet4!$B$2:$B$8408,Sheet3!$A$3)","v":0},{"$f":"+SUMIFS(Sheet4!$DM$2:$DM$8408,Sheet4!$C$2:$C$8408,Sheet3!$B14,Sheet4!$D$2:$D$8408,Sheet3!V$3,Sheet4!$E$2:$E$8408,Sheet3!V$4,Sheet4!$A$2:$A$8408,Sheet3!$B$1,Sheet4!$B$2:$B$8408,Sheet3!$A$3)","v":0},{"$f":"+SUMIFS(Sheet4!$DM$2:$DM$8408,Sheet4!$C$2:$C$8408,Sheet3!$B14,Sheet4!$D$2:$D$8408,Sheet3!W$3,Sheet4!$E$2:$E$8408,Sheet3!W$4,Sheet4!$A$2:$A$8408,Sheet3!$B$1,Sheet4!$B$2:$B$8408,Sheet3!$A$3)","v":0},{"$f":"+SUMIFS(Sheet4!$DM$2:$DM$8408,Sheet4!$C$2:$C$8408,Sheet3!$B14,Sheet4!$D$2:$D$8408,Sheet3!X$3,Sheet4!$E$2:$E$8408,Sheet3!X$4,Sheet4!$A$2:$A$8408,Sheet3!$B$1,Sheet4!$B$2:$B$8408,Sheet3!$A$3)","v":0},{"$f":"+SUMIFS(Sheet4!$DM$2:$DM$8408,Sheet4!$C$2:$C$8408,Sheet3!$B14,Sheet4!$D$2:$D$8408,Sheet3!Y$3,Sheet4!$E$2:$E$8408,Sheet3!Y$4,Sheet4!$A$2:$A$8408,Sheet3!$B$1,Sheet4!$B$2:$B$8408,Sheet3!$A$3)","v":0},{"$f":"+SUMIFS(Sheet4!$DM$2:$DM$8408,Sheet4!$C$2:$C$8408,Sheet3!$B14,Sheet4!$D$2:$D$8408,Sheet3!Z$3,Sheet4!$E$2:$E$8408,Sheet3!Z$4,Sheet4!$A$2:$A$8408,Sheet3!$B$1,Sheet4!$B$2:$B$8408,Sheet3!$A$3)","v":0},{"$f":"+SUMIFS(Sheet4!$DM$2:$DM$8408,Sheet4!$C$2:$C$8408,Sheet3!$B14,Sheet4!$D$2:$D$8408,Sheet3!AA$3,Sheet4!$E$2:$E$8408,Sheet3!AA$4,Sheet4!$A$2:$A$8408,Sheet3!$B$1,Sheet4!$B$2:$B$8408,Sheet3!$A$3)","v":0},{"$f":"+SUMIFS(Sheet4!$DM$2:$DM$8408,Sheet4!$C$2:$C$8408,Sheet3!$B14,Sheet4!$D$2:$D$8408,Sheet3!AB$3,Sheet4!$E$2:$E$8408,Sheet3!AB$4,Sheet4!$A$2:$A$8408,Sheet3!$B$1,Sheet4!$B$2:$B$8408,Sheet3!$A$3)","v":0},{"$f":"+SUMIFS(Sheet4!$DM$2:$DM$8408,Sheet4!$C$2:$C$8408,Sheet3!$B14,Sheet4!$D$2:$D$8408,Sheet3!AC$3,Sheet4!$E$2:$E$8408,Sheet3!AC$4,Sheet4!$A$2:$A$8408,Sheet3!$B$1,Sheet4!$B$2:$B$8408,Sheet3!$A$3)","v":835},{"$f":"+SUMIFS(Sheet4!$DM$2:$DM$8408,Sheet4!$C$2:$C$8408,Sheet3!$B14,Sheet4!$D$2:$D$8408,Sheet3!AD$3,Sheet4!$E$2:$E$8408,Sheet3!AD$4,Sheet4!$A$2:$A$8408,Sheet3!$B$1,Sheet4!$B$2:$B$8408,Sheet3!$A$3)","v":924},{"$f":"+SUMIFS(Sheet4!$DM$2:$DM$8408,Sheet4!$C$2:$C$8408,Sheet3!$B14,Sheet4!$D$2:$D$8408,Sheet3!AE$3,Sheet4!$E$2:$E$8408,Sheet3!AE$4,Sheet4!$A$2:$A$8408,Sheet3!$B$1,Sheet4!$B$2:$B$8408,Sheet3!$A$3)","v":42},{"$f":"+SUMIFS(Sheet4!$DM$2:$DM$8408,Sheet4!$C$2:$C$8408,Sheet3!$B14,Sheet4!$D$2:$D$8408,Sheet3!AF$3,Sheet4!$E$2:$E$8408,Sheet3!AF$4,Sheet4!$A$2:$A$8408,Sheet3!$B$1,Sheet4!$B$2:$B$8408,Sheet3!$A$3)","v":0},{"$f":"+SUMIFS(Sheet4!$DM$2:$DM$8408,Sheet4!$C$2:$C$8408,Sheet3!$B14,Sheet4!$D$2:$D$8408,Sheet3!AG$3,Sheet4!$E$2:$E$8408,Sheet3!AG$4,Sheet4!$A$2:$A$8408,Sheet3!$B$1,Sheet4!$B$2:$B$8408,Sheet3!$A$3)","v":0},{"$f":"+SUMIFS(Sheet4!$DM$2:$DM$8408,Sheet4!$C$2:$C$8408,Sheet3!$B14,Sheet4!$D$2:$D$8408,Sheet3!AH$3,Sheet4!$E$2:$E$8408,Sheet3!AH$4,Sheet4!$A$2:$A$8408,Sheet3!$B$1,Sheet4!$B$2:$B$8408,Sheet3!$A$3)","v":3192},{"$f":"+SUMIFS(Sheet4!$DM$2:$DM$8408,Sheet4!$C$2:$C$8408,Sheet3!$B14,Sheet4!$D$2:$D$8408,Sheet3!AI$3,Sheet4!$E$2:$E$8408,Sheet3!AI$4,Sheet4!$A$2:$A$8408,Sheet3!$B$1,Sheet4!$B$2:$B$8408,Sheet3!$A$3)","v":2278},{"$f":"+SUMIFS(Sheet4!$DM$2:$DM$8408,Sheet4!$C$2:$C$8408,Sheet3!$B14,Sheet4!$D$2:$D$8408,Sheet3!AJ$3,Sheet4!$E$2:$E$8408,Sheet3!AJ$4,Sheet4!$A$2:$A$8408,Sheet3!$B$1,Sheet4!$B$2:$B$8408,Sheet3!$A$3)","v":286},{"$f":"+SUMIFS(Sheet4!$DM$2:$DM$8408,Sheet4!$C$2:$C$8408,Sheet3!$B14,Sheet4!$D$2:$D$8408,Sheet3!AK$3,Sheet4!$E$2:$E$8408,Sheet3!AK$4,Sheet4!$A$2:$A$8408,Sheet3!$B$1,Sheet4!$B$2:$B$8408,Sheet3!$A$3)","v":27},{"$f":"+SUMIFS(Sheet4!$DM$2:$DM$8408,Sheet4!$C$2:$C$8408,Sheet3!$B14,Sheet4!$D$2:$D$8408,Sheet3!AL$3,Sheet4!$E$2:$E$8408,Sheet3!AL$4,Sheet4!$A$2:$A$8408,Sheet3!$B$1,Sheet4!$B$2:$B$8408,Sheet3!$A$3)","v":0},{"$f":"+SUMIFS(Sheet4!$DM$2:$DM$8408,Sheet4!$C$2:$C$8408,Sheet3!$B14,Sheet4!$D$2:$D$8408,Sheet3!AM$3,Sheet4!$E$2:$E$8408,Sheet3!AM$4,Sheet4!$A$2:$A$8408,Sheet3!$B$1,Sheet4!$B$2:$B$8408,Sheet3!$A$3)","v":779},{"$f":"+SUMIFS(Sheet4!$DM$2:$DM$8408,Sheet4!$C$2:$C$8408,Sheet3!$B14,Sheet4!$D$2:$D$8408,Sheet3!AN$3,Sheet4!$E$2:$E$8408,Sheet3!AN$4,Sheet4!$A$2:$A$8408,Sheet3!$B$1,Sheet4!$B$2:$B$8408,Sheet3!$A$3)","v":665},{"$f":"+SUMIFS(Sheet4!$DM$2:$DM$8408,Sheet4!$C$2:$C$8408,Sheet3!$B14,Sheet4!$D$2:$D$8408,Sheet3!AO$3,Sheet4!$E$2:$E$8408,Sheet3!AO$4,Sheet4!$A$2:$A$8408,Sheet3!$B$1,Sheet4!$B$2:$B$8408,Sheet3!$A$3)","v":185},{"$f":"+SUMIFS(Sheet4!$DM$2:$DM$8408,Sheet4!$C$2:$C$8408,Sheet3!$B14,Sheet4!$D$2:$D$8408,Sheet3!AP$3,Sheet4!$E$2:$E$8408,Sheet3!AP$4,Sheet4!$A$2:$A$8408,Sheet3!$B$1,Sheet4!$B$2:$B$8408,Sheet3!$A$3)","v":11},{"$f":"+SUMIFS(Sheet4!$DM$2:$DM$8408,Sheet4!$C$2:$C$8408,Sheet3!$B14,Sheet4!$D$2:$D$8408,Sheet3!AQ$3,Sheet4!$E$2:$E$8408,Sheet3!AQ$4,Sheet4!$A$2:$A$8408,Sheet3!$B$1,Sheet4!$B$2:$B$8408,Sheet3!$A$3)","v":0},{"$f":"+SUMIFS(Sheet4!$DM$2:$DM$8408,Sheet4!$C$2:$C$8408,Sheet3!$B14,Sheet4!$D$2:$D$8408,Sheet3!AR$3,Sheet4!$E$2:$E$8408,Sheet3!AR$4,Sheet4!$A$2:$A$8408,Sheet3!$B$1,Sheet4!$B$2:$B$8408,Sheet3!$A$3)","v":569},{"$f":"+SUMIFS(Sheet4!$DM$2:$DM$8408,Sheet4!$C$2:$C$8408,Sheet3!$B14,Sheet4!$D$2:$D$8408,Sheet3!AS$3,Sheet4!$E$2:$E$8408,Sheet3!AS$4,Sheet4!$A$2:$A$8408,Sheet3!$B$1,Sheet4!$B$2:$B$8408,Sheet3!$A$3)","v":22},{"$f":"+SUMIFS(Sheet4!$DM$2:$DM$8408,Sheet4!$C$2:$C$8408,Sheet3!$B14,Sheet4!$D$2:$D$8408,Sheet3!AT$3,Sheet4!$E$2:$E$8408,Sheet3!AT$4,Sheet4!$A$2:$A$8408,Sheet3!$B$1,Sheet4!$B$2:$B$8408,Sheet3!$A$3)","v":0},{"$f":"+SUMIFS(Sheet4!$DM$2:$DM$8408,Sheet4!$C$2:$C$8408,Sheet3!$B14,Sheet4!$D$2:$D$8408,Sheet3!AU$3,Sheet4!$E$2:$E$8408,Sheet3!AU$4,Sheet4!$A$2:$A$8408,Sheet3!$B$1,Sheet4!$B$2:$B$8408,Sheet3!$A$3)","v":0},{"$f":"+SUMIFS(Sheet4!$DM$2:$DM$8408,Sheet4!$C$2:$C$8408,Sheet3!$B14,Sheet4!$D$2:$D$8408,Sheet3!AV$3,Sheet4!$E$2:$E$8408,Sheet3!AV$4,Sheet4!$A$2:$A$8408,Sheet3!$B$1,Sheet4!$B$2:$B$8408,Sheet3!$A$3)","v":0},{"$f":"+SUMIFS(Sheet4!$DM$2:$DM$8408,Sheet4!$C$2:$C$8408,Sheet3!$B14,Sheet4!$D$2:$D$8408,Sheet3!AW$3,Sheet4!$E$2:$E$8408,Sheet3!AW$4,Sheet4!$A$2:$A$8408,Sheet3!$B$1,Sheet4!$B$2:$B$8408,Sheet3!$A$3)","v":5875},{"$f":"+SUMIFS(Sheet4!$DM$2:$DM$8408,Sheet4!$C$2:$C$8408,Sheet3!$B14,Sheet4!$D$2:$D$8408,Sheet3!AX$3,Sheet4!$E$2:$E$8408,Sheet3!AX$4,Sheet4!$A$2:$A$8408,Sheet3!$B$1,Sheet4!$B$2:$B$8408,Sheet3!$A$3)","v":2529},{"$f":"+SUMIFS(Sheet4!$DM$2:$DM$8408,Sheet4!$C$2:$C$8408,Sheet3!$B14,Sheet4!$D$2:$D$8408,Sheet3!AY$3,Sheet4!$E$2:$E$8408,Sheet3!AY$4,Sheet4!$A$2:$A$8408,Sheet3!$B$1,Sheet4!$B$2:$B$8408,Sheet3!$A$3)","v":102},{"$f":"+SUMIFS(Sheet4!$DM$2:$DM$8408,Sheet4!$C$2:$C$8408,Sheet3!$B14,Sheet4!$D$2:$D$8408,Sheet3!AZ$3,Sheet4!$E$2:$E$8408,Sheet3!AZ$4,Sheet4!$A$2:$A$8408,Sheet3!$B$1,Sheet4!$B$2:$B$8408,Sheet3!$A$3)","v":7},{"$f":"+SUMIFS(Sheet4!$DM$2:$DM$8408,Sheet4!$C$2:$C$8408,Sheet3!$B14,Sheet4!$D$2:$D$8408,Sheet3!BA$3,Sheet4!$E$2:$E$8408,Sheet3!BA$4,Sheet4!$A$2:$A$8408,Sheet3!$B$1,Sheet4!$B$2:$B$8408,Sheet3!$A$3)","v":0},{"$f":"+SUMIFS(Sheet4!$DM$2:$DM$8408,Sheet4!$C$2:$C$8408,Sheet3!$B14,Sheet4!$D$2:$D$8408,Sheet3!BB$3,Sheet4!$E$2:$E$8408,Sheet3!BB$4,Sheet4!$A$2:$A$8408,Sheet3!$B$1,Sheet4!$B$2:$B$8408,Sheet3!$A$3)","v":7},{"$f":"+SUMIFS(Sheet4!$DM$2:$DM$8408,Sheet4!$C$2:$C$8408,Sheet3!$B14,Sheet4!$D$2:$D$8408,Sheet3!BC$3,Sheet4!$E$2:$E$8408,Sheet3!BC$4,Sheet4!$A$2:$A$8408,Sheet3!$B$1,Sheet4!$B$2:$B$8408,Sheet3!$A$3)","v":29},{"$f":"+SUMIFS(Sheet4!$DM$2:$DM$8408,Sheet4!$C$2:$C$8408,Sheet3!$B14,Sheet4!$D$2:$D$8408,Sheet3!BD$3,Sheet4!$E$2:$E$8408,Sheet3!BD$4,Sheet4!$A$2:$A$8408,Sheet3!$B$1,Sheet4!$B$2:$B$8408,Sheet3!$A$3)","v":22},{"$f":"+SUMIFS(Sheet4!$DM$2:$DM$8408,Sheet4!$C$2:$C$8408,Sheet3!$B14,Sheet4!$D$2:$D$8408,Sheet3!BE$3,Sheet4!$E$2:$E$8408,Sheet3!BE$4,Sheet4!$A$2:$A$8408,Sheet3!$B$1,Sheet4!$B$2:$B$8408,Sheet3!$A$3)","v":9},{"$f":"+SUMIFS(Sheet4!$DM$2:$DM$8408,Sheet4!$C$2:$C$8408,Sheet3!$B14,Sheet4!$D$2:$D$8408,Sheet3!BF$3,Sheet4!$E$2:$E$8408,Sheet3!BF$4,Sheet4!$A$2:$A$8408,Sheet3!$B$1,Sheet4!$B$2:$B$8408,Sheet3!$A$3)","v":0},{"$f":"+SUMIFS(Sheet4!$DM$2:$DM$8408,Sheet4!$C$2:$C$8408,Sheet3!$B14,Sheet4!$D$2:$D$8408,Sheet3!BG$3,Sheet4!$E$2:$E$8408,Sheet3!BG$4,Sheet4!$A$2:$A$8408,Sheet3!$B$1,Sheet4!$B$2:$B$8408,Sheet3!$A$3)","v":10},{"$f":"+SUMIFS(Sheet4!$DM$2:$DM$8408,Sheet4!$C$2:$C$8408,Sheet3!$B14,Sheet4!$D$2:$D$8408,Sheet3!BH$3,Sheet4!$E$2:$E$8408,Sheet3!BH$4,Sheet4!$A$2:$A$8408,Sheet3!$B$1,Sheet4!$B$2:$B$8408,Sheet3!$A$3)","v":24},{"$f":"+SUMIFS(Sheet4!$DM$2:$DM$8408,Sheet4!$C$2:$C$8408,Sheet3!$B14,Sheet4!$D$2:$D$8408,Sheet3!BI$3,Sheet4!$E$2:$E$8408,Sheet3!BI$4,Sheet4!$A$2:$A$8408,Sheet3!$B$1,Sheet4!$B$2:$B$8408,Sheet3!$A$3)","v":3},{"$f":"+SUMIFS(Sheet4!$DM$2:$DM$8408,Sheet4!$C$2:$C$8408,Sheet3!$B14,Sheet4!$D$2:$D$8408,Sheet3!BJ$3,Sheet4!$E$2:$E$8408,Sheet3!BJ$4,Sheet4!$A$2:$A$8408,Sheet3!$B$1,Sheet4!$B$2:$B$8408,Sheet3!$A$3)","v":0},{"$f":"+SUMIFS(Sheet4!$DM$2:$DM$8408,Sheet4!$C$2:$C$8408,Sheet3!$B14,Sheet4!$D$2:$D$8408,Sheet3!BK$3,Sheet4!$E$2:$E$8408,Sheet3!BK$4,Sheet4!$A$2:$A$8408,Sheet3!$B$1,Sheet4!$B$2:$B$8408,Sheet3!$A$3)","v":0},{"$f":"+SUMIFS(Sheet4!$DM$2:$DM$8408,Sheet4!$C$2:$C$8408,Sheet3!$B14,Sheet4!$D$2:$D$8408,Sheet3!BL$3,Sheet4!$E$2:$E$8408,Sheet3!BL$4,Sheet4!$A$2:$A$8408,Sheet3!$B$1,Sheet4!$B$2:$B$8408,Sheet3!$A$3)","v":7},{"$f":"+SUMIFS(Sheet4!$DM$2:$DM$8408,Sheet4!$C$2:$C$8408,Sheet3!$B14,Sheet4!$D$2:$D$8408,Sheet3!BM$3,Sheet4!$E$2:$E$8408,Sheet3!BM$4,Sheet4!$A$2:$A$8408,Sheet3!$B$1,Sheet4!$B$2:$B$8408,Sheet3!$A$3)","v":12},{"$f":"+SUMIFS(Sheet4!$DM$2:$DM$8408,Sheet4!$C$2:$C$8408,Sheet3!$B14,Sheet4!$D$2:$D$8408,Sheet3!BN$3,Sheet4!$E$2:$E$8408,Sheet3!BN$4,Sheet4!$A$2:$A$8408,Sheet3!$B$1,Sheet4!$B$2:$B$8408,Sheet3!$A$3)","v":0},{"$f":"+SUMIFS(Sheet4!$DM$2:$DM$8408,Sheet4!$C$2:$C$8408,Sheet3!$B14,Sheet4!$D$2:$D$8408,Sheet3!BO$3,Sheet4!$E$2:$E$8408,Sheet3!BO$4,Sheet4!$A$2:$A$8408,Sheet3!$B$1,Sheet4!$B$2:$B$8408,Sheet3!$A$3)","v":0},{"$f":"+SUMIFS(Sheet4!$DM$2:$DM$8408,Sheet4!$C$2:$C$8408,Sheet3!$B14,Sheet4!$D$2:$D$8408,Sheet3!BP$3,Sheet4!$E$2:$E$8408,Sheet3!BP$4,Sheet4!$A$2:$A$8408,Sheet3!$B$1,Sheet4!$B$2:$B$8408,Sheet3!$A$3)","v":0},{"$f":"+SUMIFS(Sheet4!$DM$2:$DM$8408,Sheet4!$C$2:$C$8408,Sheet3!$B14,Sheet4!$D$2:$D$8408,Sheet3!BQ$3,Sheet4!$E$2:$E$8408,Sheet3!BQ$4,Sheet4!$A$2:$A$8408,Sheet3!$B$1,Sheet4!$B$2:$B$8408,Sheet3!$A$3)","v":103},{"$f":"+SUMIFS(Sheet4!$DM$2:$DM$8408,Sheet4!$C$2:$C$8408,Sheet3!$B14,Sheet4!$D$2:$D$8408,Sheet3!BR$3,Sheet4!$E$2:$E$8408,Sheet3!BR$4,Sheet4!$A$2:$A$8408,Sheet3!$B$1,Sheet4!$B$2:$B$8408,Sheet3!$A$3)","v":195},{"$f":"+SUMIFS(Sheet4!$DM$2:$DM$8408,Sheet4!$C$2:$C$8408,Sheet3!$B14,Sheet4!$D$2:$D$8408,Sheet3!BS$3,Sheet4!$E$2:$E$8408,Sheet3!BS$4,Sheet4!$A$2:$A$8408,Sheet3!$B$1,Sheet4!$B$2:$B$8408,Sheet3!$A$3)","v":21},{"$f":"+SUMIFS(Sheet4!$DM$2:$DM$8408,Sheet4!$C$2:$C$8408,Sheet3!$B14,Sheet4!$D$2:$D$8408,Sheet3!BT$3,Sheet4!$E$2:$E$8408,Sheet3!BT$4,Sheet4!$A$2:$A$8408,Sheet3!$B$1,Sheet4!$B$2:$B$8408,Sheet3!$A$3)","v":3},{"$f":"+SUMIFS(Sheet4!$DM$2:$DM$8408,Sheet4!$C$2:$C$8408,Sheet3!$B14,Sheet4!$D$2:$D$8408,Sheet3!BU$3,Sheet4!$E$2:$E$8408,Sheet3!BU$4,Sheet4!$A$2:$A$8408,Sheet3!$B$1,Sheet4!$B$2:$B$8408,Sheet3!$A$3)","v":0},{"$f":"+SUMIFS(Sheet4!$DM$2:$DM$8408,Sheet4!$C$2:$C$8408,Sheet3!$B14,Sheet4!$D$2:$D$8408,Sheet3!BV$3,Sheet4!$E$2:$E$8408,Sheet3!BV$4,Sheet4!$A$2:$A$8408,Sheet3!$B$1,Sheet4!$B$2:$B$8408,Sheet3!$A$3)","v":366},{"$f":"+SUMIFS(Sheet4!$DM$2:$DM$8408,Sheet4!$C$2:$C$8408,Sheet3!$B14,Sheet4!$D$2:$D$8408,Sheet3!BW$3,Sheet4!$E$2:$E$8408,Sheet3!BW$4,Sheet4!$A$2:$A$8408,Sheet3!$B$1,Sheet4!$B$2:$B$8408,Sheet3!$A$3)","v":421},{"$f":"+SUMIFS(Sheet4!$DM$2:$DM$8408,Sheet4!$C$2:$C$8408,Sheet3!$B14,Sheet4!$D$2:$D$8408,Sheet3!BX$3,Sheet4!$E$2:$E$8408,Sheet3!BX$4,Sheet4!$A$2:$A$8408,Sheet3!$B$1,Sheet4!$B$2:$B$8408,Sheet3!$A$3)","v":32},{"$f":"+SUMIFS(Sheet4!$DM$2:$DM$8408,Sheet4!$C$2:$C$8408,Sheet3!$B14,Sheet4!$D$2:$D$8408,Sheet3!BY$3,Sheet4!$E$2:$E$8408,Sheet3!BY$4,Sheet4!$A$2:$A$8408,Sheet3!$B$1,Sheet4!$B$2:$B$8408,Sheet3!$A$3)","v":0},{"$f":"+SUMIFS(Sheet4!$DM$2:$DM$8408,Sheet4!$C$2:$C$8408,Sheet3!$B14,Sheet4!$D$2:$D$8408,Sheet3!BZ$3,Sheet4!$E$2:$E$8408,Sheet3!BZ$4,Sheet4!$A$2:$A$8408,Sheet3!$B$1,Sheet4!$B$2:$B$8408,Sheet3!$A$3)","v":0},{"$f":"+SUMIFS(Sheet4!$DM$2:$DM$8408,Sheet4!$C$2:$C$8408,Sheet3!$B14,Sheet4!$D$2:$D$8408,Sheet3!CA$3,Sheet4!$E$2:$E$8408,Sheet3!CA$4,Sheet4!$A$2:$A$8408,Sheet3!$B$1,Sheet4!$B$2:$B$8408,Sheet3!$A$3)","v":267},{"$f":"+SUMIFS(Sheet4!$DM$2:$DM$8408,Sheet4!$C$2:$C$8408,Sheet3!$B14,Sheet4!$D$2:$D$8408,Sheet3!CB$3,Sheet4!$E$2:$E$8408,Sheet3!CB$4,Sheet4!$A$2:$A$8408,Sheet3!$B$1,Sheet4!$B$2:$B$8408,Sheet3!$A$3)","v":214},{"$f":"+SUMIFS(Sheet4!$DM$2:$DM$8408,Sheet4!$C$2:$C$8408,Sheet3!$B14,Sheet4!$D$2:$D$8408,Sheet3!CC$3,Sheet4!$E$2:$E$8408,Sheet3!CC$4,Sheet4!$A$2:$A$8408,Sheet3!$B$1,Sheet4!$B$2:$B$8408,Sheet3!$A$3)","v":8},{"$f":"+SUMIFS(Sheet4!$DM$2:$DM$8408,Sheet4!$C$2:$C$8408,Sheet3!$B14,Sheet4!$D$2:$D$8408,Sheet3!CD$3,Sheet4!$E$2:$E$8408,Sheet3!CD$4,Sheet4!$A$2:$A$8408,Sheet3!$B$1,Sheet4!$B$2:$B$8408,Sheet3!$A$3)","v":0},{"$f":"+SUMIFS(Sheet4!$DM$2:$DM$8408,Sheet4!$C$2:$C$8408,Sheet3!$B14,Sheet4!$D$2:$D$8408,Sheet3!CE$3,Sheet4!$E$2:$E$8408,Sheet3!CE$4,Sheet4!$A$2:$A$8408,Sheet3!$B$1,Sheet4!$B$2:$B$8408,Sheet3!$A$3)","v":0},{"$f":"+SUMIFS(Sheet4!$DM$2:$DM$8408,Sheet4!$C$2:$C$8408,Sheet3!$B14,Sheet4!$D$2:$D$8408,Sheet3!CF$3,Sheet4!$E$2:$E$8408,Sheet3!CF$4,Sheet4!$A$2:$A$8408,Sheet3!$B$1,Sheet4!$B$2:$B$8408,Sheet3!$A$3)","v":115},{"$f":"+SUMIFS(Sheet4!$DM$2:$DM$8408,Sheet4!$C$2:$C$8408,Sheet3!$B14,Sheet4!$D$2:$D$8408,Sheet3!CG$3,Sheet4!$E$2:$E$8408,Sheet3!CG$4,Sheet4!$A$2:$A$8408,Sheet3!$B$1,Sheet4!$B$2:$B$8408,Sheet3!$A$3)","v":6},{"$f":"+SUMIFS(Sheet4!$DM$2:$DM$8408,Sheet4!$C$2:$C$8408,Sheet3!$B14,Sheet4!$D$2:$D$8408,Sheet3!CH$3,Sheet4!$E$2:$E$8408,Sheet3!CH$4,Sheet4!$A$2:$A$8408,Sheet3!$B$1,Sheet4!$B$2:$B$8408,Sheet3!$A$3)","v":0},{"$f":"+SUMIFS(Sheet4!$DM$2:$DM$8408,Sheet4!$C$2:$C$8408,Sheet3!$B14,Sheet4!$D$2:$D$8408,Sheet3!CI$3,Sheet4!$E$2:$E$8408,Sheet3!CI$4,Sheet4!$A$2:$A$8408,Sheet3!$B$1,Sheet4!$B$2:$B$8408,Sheet3!$A$3)","v":0},{"$f":"+SUMIFS(Sheet4!$DM$2:$DM$8408,Sheet4!$C$2:$C$8408,Sheet3!$B14,Sheet4!$D$2:$D$8408,Sheet3!CJ$3,Sheet4!$E$2:$E$8408,Sheet3!CJ$4,Sheet4!$A$2:$A$8408,Sheet3!$B$1,Sheet4!$B$2:$B$8408,Sheet3!$A$3)","v":0},{"$f":"+SUMIFS(Sheet4!$DM$2:$DM$8408,Sheet4!$C$2:$C$8408,Sheet3!$B14,Sheet4!$D$2:$D$8408,Sheet3!CK$3,Sheet4!$E$2:$E$8408,Sheet3!CK$4,Sheet4!$A$2:$A$8408,Sheet3!$B$1,Sheet4!$B$2:$B$8408,Sheet3!$A$3)","v":0},{"$f":"+SUMIFS(Sheet4!$DM$2:$DM$8408,Sheet4!$C$2:$C$8408,Sheet3!$B14,Sheet4!$D$2:$D$8408,Sheet3!CL$3,Sheet4!$E$2:$E$8408,Sheet3!CL$4,Sheet4!$A$2:$A$8408,Sheet3!$B$1,Sheet4!$B$2:$B$8408,Sheet3!$A$3)","v":0},{"$f":"+SUMIFS(Sheet4!$DM$2:$DM$8408,Sheet4!$C$2:$C$8408,Sheet3!$B14,Sheet4!$D$2:$D$8408,Sheet3!CM$3,Sheet4!$E$2:$E$8408,Sheet3!CM$4,Sheet4!$A$2:$A$8408,Sheet3!$B$1,Sheet4!$B$2:$B$8408,Sheet3!$A$3)","v":0},{"$f":"+SUMIFS(Sheet4!$DM$2:$DM$8408,Sheet4!$C$2:$C$8408,Sheet3!$B14,Sheet4!$D$2:$D$8408,Sheet3!CN$3,Sheet4!$E$2:$E$8408,Sheet3!CN$4,Sheet4!$A$2:$A$8408,Sheet3!$B$1,Sheet4!$B$2:$B$8408,Sheet3!$A$3)","v":0},{"$f":"+SUMIFS(Sheet4!$DM$2:$DM$8408,Sheet4!$C$2:$C$8408,Sheet3!$B14,Sheet4!$D$2:$D$8408,Sheet3!CO$3,Sheet4!$E$2:$E$8408,Sheet3!CO$4,Sheet4!$A$2:$A$8408,Sheet3!$B$1,Sheet4!$B$2:$B$8408,Sheet3!$A$3)","v":0},{"$f":"+SUMIFS(Sheet4!$DM$2:$DM$8408,Sheet4!$C$2:$C$8408,Sheet3!$B14,Sheet4!$D$2:$D$8408,Sheet3!CP$3,Sheet4!$E$2:$E$8408,Sheet3!CP$4,Sheet4!$A$2:$A$8408,Sheet3!$B$1,Sheet4!$B$2:$B$8408,Sheet3!$A$3)","v":28},{"$f":"+SUMIFS(Sheet4!$DM$2:$DM$8408,Sheet4!$C$2:$C$8408,Sheet3!$B14,Sheet4!$D$2:$D$8408,Sheet3!CQ$3,Sheet4!$E$2:$E$8408,Sheet3!CQ$4,Sheet4!$A$2:$A$8408,Sheet3!$B$1,Sheet4!$B$2:$B$8408,Sheet3!$A$3)","v":5},{"$f":"+SUMIFS(Sheet4!$DM$2:$DM$8408,Sheet4!$C$2:$C$8408,Sheet3!$B14,Sheet4!$D$2:$D$8408,Sheet3!CR$3,Sheet4!$E$2:$E$8408,Sheet3!CR$4,Sheet4!$A$2:$A$8408,Sheet3!$B$1,Sheet4!$B$2:$B$8408,Sheet3!$A$3)","v":0},{"$f":"+SUMIFS(Sheet4!$DM$2:$DM$8408,Sheet4!$C$2:$C$8408,Sheet3!$B14,Sheet4!$D$2:$D$8408,Sheet3!CS$3,Sheet4!$E$2:$E$8408,Sheet3!CS$4,Sheet4!$A$2:$A$8408,Sheet3!$B$1,Sheet4!$B$2:$B$8408,Sheet3!$A$3)","v":0},{"$f":"+SUMIFS(Sheet4!$DM$2:$DM$8408,Sheet4!$C$2:$C$8408,Sheet3!$B14,Sheet4!$D$2:$D$8408,Sheet3!CT$3,Sheet4!$E$2:$E$8408,Sheet3!CT$4,Sheet4!$A$2:$A$8408,Sheet3!$B$1,Sheet4!$B$2:$B$8408,Sheet3!$A$3)","v":0},{"$f":"+IF(SUMIFS(Sheet4!$DN$2:$DN$8408,Sheet4!$C$2:$C$8408,Sheet3!$B14,Sheet4!$D$2:$D$8408,Sheet3!CU$3,Sheet4!$A$2:$A$8408,Sheet3!$B$1,Sheet4!$B$2:$B$8408,Sheet3!$A$3)<3,0,SUMIFS(Sheet4!$DN$2:$DN$8408,Sheet4!$C$2:$C$8408,Sheet3!$B14,Sheet4!$D$2:$D$8408,Sheet3!CU$3,Sheet4!$A$2:$A$8408,Sheet3!$B$1,Sheet4!$B$2:$B$8408,Sheet3!$A$3))","v":4},{"$f":"+IF(SUMIFS(Sheet4!$DN$2:$DN$8408,Sheet4!$C$2:$C$8408,Sheet3!$B14,Sheet4!$D$2:$D$8408,Sheet3!CV$3,Sheet4!$A$2:$A$8408,Sheet3!$B$1,Sheet4!$B$2:$B$8408,Sheet3!$A$3)<3,0,SUMIFS(Sheet4!$DN$2:$DN$8408,Sheet4!$C$2:$C$8408,Sheet3!$B14,Sheet4!$D$2:$D$8408,Sheet3!CV$3,Sheet4!$A$2:$A$8408,Sheet3!$B$1,Sheet4!$B$2:$B$8408,Sheet3!$A$3))","v":19},{"$f":"+IF(SUMIFS(Sheet4!$DN$2:$DN$8408,Sheet4!$C$2:$C$8408,Sheet3!$B14,Sheet4!$D$2:$D$8408,Sheet3!CW$3,Sheet4!$A$2:$A$8408,Sheet3!$B$1,Sheet4!$B$2:$B$8408,Sheet3!$A$3)<3,0,SUMIFS(Sheet4!$DN$2:$DN$8408,Sheet4!$C$2:$C$8408,Sheet3!$B14,Sheet4!$D$2:$D$8408,Sheet3!CW$3,Sheet4!$A$2:$A$8408,Sheet3!$B$1,Sheet4!$B$2:$B$8408,Sheet3!$A$3))","v":164},{"$f":"+IF(SUMIFS(Sheet4!$DN$2:$DN$8408,Sheet4!$C$2:$C$8408,Sheet3!$B14,Sheet4!$D$2:$D$8408,Sheet3!CX$3,Sheet4!$A$2:$A$8408,Sheet3!$B$1,Sheet4!$B$2:$B$8408,Sheet3!$A$3)<3,0,SUMIFS(Sheet4!$DN$2:$DN$8408,Sheet4!$C$2:$C$8408,Sheet3!$B14,Sheet4!$D$2:$D$8408,Sheet3!CX$3,Sheet4!$A$2:$A$8408,Sheet3!$B$1,Sheet4!$B$2:$B$8408,Sheet3!$A$3))","v":0},{"$f":"+IF(SUMIFS(Sheet4!$DN$2:$DN$8408,Sheet4!$C$2:$C$8408,Sheet3!$B14,Sheet4!$D$2:$D$8408,Sheet3!CY$3,Sheet4!$A$2:$A$8408,Sheet3!$B$1,Sheet4!$B$2:$B$8408,Sheet3!$A$3)<3,0,SUMIFS(Sheet4!$DN$2:$DN$8408,Sheet4!$C$2:$C$8408,Sheet3!$B14,Sheet4!$D$2:$D$8408,Sheet3!CY$3,Sheet4!$A$2:$A$8408,Sheet3!$B$1,Sheet4!$B$2:$B$8408,Sheet3!$A$3))","v":0},{"$f":"+IF(SUMIFS(Sheet4!$DN$2:$DN$8408,Sheet4!$C$2:$C$8408,Sheet3!$B14,Sheet4!$D$2:$D$8408,Sheet3!CZ$3,Sheet4!$A$2:$A$8408,Sheet3!$B$1,Sheet4!$B$2:$B$8408,Sheet3!$A$3)<3,0,SUMIFS(Sheet4!$DN$2:$DN$8408,Sheet4!$C$2:$C$8408,Sheet3!$B14,Sheet4!$D$2:$D$8408,Sheet3!CZ$3,Sheet4!$A$2:$A$8408,Sheet3!$B$1,Sheet4!$B$2:$B$8408,Sheet3!$A$3))","v":1803},{"$f":"+IF(SUMIFS(Sheet4!$DN$2:$DN$8408,Sheet4!$C$2:$C$8408,Sheet3!$B14,Sheet4!$D$2:$D$8408,Sheet3!DA$3,Sheet4!$A$2:$A$8408,Sheet3!$B$1,Sheet4!$B$2:$B$8408,Sheet3!$A$3)<3,0,SUMIFS(Sheet4!$DN$2:$DN$8408,Sheet4!$C$2:$C$8408,Sheet3!$B14,Sheet4!$D$2:$D$8408,Sheet3!DA$3,Sheet4!$A$2:$A$8408,Sheet3!$B$1,Sheet4!$B$2:$B$8408,Sheet3!$A$3))","v":5786},{"$f":"+IF(SUMIFS(Sheet4!$DN$2:$DN$8408,Sheet4!$C$2:$C$8408,Sheet3!$B14,Sheet4!$D$2:$D$8408,Sheet3!DB$3,Sheet4!$A$2:$A$8408,Sheet3!$B$1,Sheet4!$B$2:$B$8408,Sheet3!$A$3)<3,0,SUMIFS(Sheet4!$DN$2:$DN$8408,Sheet4!$C$2:$C$8408,Sheet3!$B14,Sheet4!$D$2:$D$8408,Sheet3!DB$3,Sheet4!$A$2:$A$8408,Sheet3!$B$1,Sheet4!$B$2:$B$8408,Sheet3!$A$3))","v":1642},{"$f":"+IF(SUMIFS(Sheet4!$DN$2:$DN$8408,Sheet4!$C$2:$C$8408,Sheet3!$B14,Sheet4!$D$2:$D$8408,Sheet3!DC$3,Sheet4!$A$2:$A$8408,Sheet3!$B$1,Sheet4!$B$2:$B$8408,Sheet3!$A$3)<3,0,SUMIFS(Sheet4!$DN$2:$DN$8408,Sheet4!$C$2:$C$8408,Sheet3!$B14,Sheet4!$D$2:$D$8408,Sheet3!DC$3,Sheet4!$A$2:$A$8408,Sheet3!$B$1,Sheet4!$B$2:$B$8408,Sheet3!$A$3))","v":594},{"$f":"+IF(SUMIFS(Sheet4!$DN$2:$DN$8408,Sheet4!$C$2:$C$8408,Sheet3!$B14,Sheet4!$D$2:$D$8408,Sheet3!DD$3,Sheet4!$A$2:$A$8408,Sheet3!$B$1,Sheet4!$B$2:$B$8408,Sheet3!$A$3)<3,0,SUMIFS(Sheet4!$DN$2:$DN$8408,Sheet4!$C$2:$C$8408,Sheet3!$B14,Sheet4!$D$2:$D$8408,Sheet3!DD$3,Sheet4!$A$2:$A$8408,Sheet3!$B$1,Sheet4!$B$2:$B$8408,Sheet3!$A$3))","v":8514},{"$f":"+IF(SUMIFS(Sheet4!$DN$2:$DN$8408,Sheet4!$C$2:$C$8408,Sheet3!$B14,Sheet4!$D$2:$D$8408,Sheet3!DE$3,Sheet4!$A$2:$A$8408,Sheet3!$B$1,Sheet4!$B$2:$B$8408,Sheet3!$A$3)<3,0,SUMIFS(Sheet4!$DN$2:$DN$8408,Sheet4!$C$2:$C$8408,Sheet3!$B14,Sheet4!$D$2:$D$8408,Sheet3!DE$3,Sheet4!$A$2:$A$8408,Sheet3!$B$1,Sheet4!$B$2:$B$8408,Sheet3!$A$3))","v":71},{"$f":"+IF(SUMIFS(Sheet4!$DN$2:$DN$8408,Sheet4!$C$2:$C$8408,Sheet3!$B14,Sheet4!$D$2:$D$8408,Sheet3!DF$3,Sheet4!$A$2:$A$8408,Sheet3!$B$1,Sheet4!$B$2:$B$8408,Sheet3!$A$3)<3,0,SUMIFS(Sheet4!$DN$2:$DN$8408,Sheet4!$C$2:$C$8408,Sheet3!$B14,Sheet4!$D$2:$D$8408,Sheet3!DF$3,Sheet4!$A$2:$A$8408,Sheet3!$B$1,Sheet4!$B$2:$B$8408,Sheet3!$A$3))","v":43},{"$f":"+IF(SUMIFS(Sheet4!$DN$2:$DN$8408,Sheet4!$C$2:$C$8408,Sheet3!$B14,Sheet4!$D$2:$D$8408,Sheet3!DG$3,Sheet4!$A$2:$A$8408,Sheet3!$B$1,Sheet4!$B$2:$B$8408,Sheet3!$A$3)<3,0,SUMIFS(Sheet4!$DN$2:$DN$8408,Sheet4!$C$2:$C$8408,Sheet3!$B14,Sheet4!$D$2:$D$8408,Sheet3!DG$3,Sheet4!$A$2:$A$8408,Sheet3!$B$1,Sheet4!$B$2:$B$8408,Sheet3!$A$3))","v":28},{"$f":"+IF(SUMIFS(Sheet4!$DN$2:$DN$8408,Sheet4!$C$2:$C$8408,Sheet3!$B14,Sheet4!$D$2:$D$8408,Sheet3!DH$3,Sheet4!$A$2:$A$8408,Sheet3!$B$1,Sheet4!$B$2:$B$8408,Sheet3!$A$3)<3,0,SUMIFS(Sheet4!$DN$2:$DN$8408,Sheet4!$C$2:$C$8408,Sheet3!$B14,Sheet4!$D$2:$D$8408,Sheet3!DH$3,Sheet4!$A$2:$A$8408,Sheet3!$B$1,Sheet4!$B$2:$B$8408,Sheet3!$A$3))","v":323},{"$f":"+IF(SUMIFS(Sheet4!$DN$2:$DN$8408,Sheet4!$C$2:$C$8408,Sheet3!$B14,Sheet4!$D$2:$D$8408,Sheet3!DI$3,Sheet4!$A$2:$A$8408,Sheet3!$B$1,Sheet4!$B$2:$B$8408,Sheet3!$A$3)<3,0,SUMIFS(Sheet4!$DN$2:$DN$8408,Sheet4!$C$2:$C$8408,Sheet3!$B14,Sheet4!$D$2:$D$8408,Sheet3!DI$3,Sheet4!$A$2:$A$8408,Sheet3!$B$1,Sheet4!$B$2:$B$8408,Sheet3!$A$3))","v":821},{"$f":"+IF(SUMIFS(Sheet4!$DN$2:$DN$8408,Sheet4!$C$2:$C$8408,Sheet3!$B14,Sheet4!$D$2:$D$8408,Sheet3!DJ$3,Sheet4!$A$2:$A$8408,Sheet3!$B$1,Sheet4!$B$2:$B$8408,Sheet3!$A$3)<3,0,SUMIFS(Sheet4!$DN$2:$DN$8408,Sheet4!$C$2:$C$8408,Sheet3!$B14,Sheet4!$D$2:$D$8408,Sheet3!DJ$3,Sheet4!$A$2:$A$8408,Sheet3!$B$1,Sheet4!$B$2:$B$8408,Sheet3!$A$3))","v":489},{"$f":"+IF(SUMIFS(Sheet4!$DN$2:$DN$8408,Sheet4!$C$2:$C$8408,Sheet3!$B14,Sheet4!$D$2:$D$8408,Sheet3!DK$3,Sheet4!$A$2:$A$8408,Sheet3!$B$1,Sheet4!$B$2:$B$8408,Sheet3!$A$3)<3,0,SUMIFS(Sheet4!$DN$2:$DN$8408,Sheet4!$C$2:$C$8408,Sheet3!$B14,Sheet4!$D$2:$D$8408,Sheet3!DK$3,Sheet4!$A$2:$A$8408,Sheet3!$B$1,Sheet4!$B$2:$B$8408,Sheet3!$A$3))","v":121},{"$f":"+IF(SUMIFS(Sheet4!$DN$2:$DN$8408,Sheet4!$C$2:$C$8408,Sheet3!$B14,Sheet4!$D$2:$D$8408,Sheet3!DL$3,Sheet4!$A$2:$A$8408,Sheet3!$B$1,Sheet4!$B$2:$B$8408,Sheet3!$A$3)<3,0,SUMIFS(Sheet4!$DN$2:$DN$8408,Sheet4!$C$2:$C$8408,Sheet3!$B14,Sheet4!$D$2:$D$8408,Sheet3!DL$3,Sheet4!$A$2:$A$8408,Sheet3!$B$1,Sheet4!$B$2:$B$8408,Sheet3!$A$3))","v":0},{"$f":"+IF(SUMIFS(Sheet4!$DN$2:$DN$8408,Sheet4!$C$2:$C$8408,Sheet3!$B14,Sheet4!$D$2:$D$8408,Sheet3!DM$3,Sheet4!$A$2:$A$8408,Sheet3!$B$1,Sheet4!$B$2:$B$8408,Sheet3!$A$3)<3,0,SUMIFS(Sheet4!$DN$2:$DN$8408,Sheet4!$C$2:$C$8408,Sheet3!$B14,Sheet4!$D$2:$D$8408,Sheet3!DM$3,Sheet4!$A$2:$A$8408,Sheet3!$B$1,Sheet4!$B$2:$B$8408,Sheet3!$A$3))","v":33},{"$f":"+IF(SUMIFS(Sheet4!$DN$2:$DN$8408,Sheet4!$C$2:$C$8408,Sheet3!$B14,Sheet4!$E$2:$E$8408,Sheet3!DN$4,Sheet4!$A$2:$A$8408,Sheet3!$B$1,Sheet4!$B$2:$B$8408,Sheet3!$A$3)<3,0,SUMIFS(Sheet4!$DN$2:$DN$8408,Sheet4!$C$2:$C$8408,Sheet3!$B14,Sheet4!$E$2:$E$8408,Sheet3!DN$4,Sheet4!$A$2:$A$8408,Sheet3!$B$1,Sheet4!$B$2:$B$8408,Sheet3!$A$3))","v":12320},{"$f":"+IF(SUMIFS(Sheet4!$DN$2:$DN$8408,Sheet4!$C$2:$C$8408,Sheet3!$B14,Sheet4!$E$2:$E$8408,Sheet3!DO$4,Sheet4!$A$2:$A$8408,Sheet3!$B$1,Sheet4!$B$2:$B$8408,Sheet3!$A$3)<3,0,SUMIFS(Sheet4!$DN$2:$DN$8408,Sheet4!$C$2:$C$8408,Sheet3!$B14,Sheet4!$E$2:$E$8408,Sheet3!DO$4,Sheet4!$A$2:$A$8408,Sheet3!$B$1,Sheet4!$B$2:$B$8408,Sheet3!$A$3))","v":7353},{"$f":"+IF(SUMIFS(Sheet4!$DN$2:$DN$8408,Sheet4!$C$2:$C$8408,Sheet3!$B14,Sheet4!$E$2:$E$8408,Sheet3!DP$4,Sheet4!$A$2:$A$8408,Sheet3!$B$1,Sheet4!$B$2:$B$8408,Sheet3!$A$3)<3,0,SUMIFS(Sheet4!$DN$2:$DN$8408,Sheet4!$C$2:$C$8408,Sheet3!$B14,Sheet4!$E$2:$E$8408,Sheet3!DP$4,Sheet4!$A$2:$A$8408,Sheet3!$B$1,Sheet4!$B$2:$B$8408,Sheet3!$A$3))","v":713},{"$f":"+IF(SUMIFS(Sheet4!$DN$2:$DN$8408,Sheet4!$C$2:$C$8408,Sheet3!$B14,Sheet4!$E$2:$E$8408,Sheet3!DQ$4,Sheet4!$A$2:$A$8408,Sheet3!$B$1,Sheet4!$B$2:$B$8408,Sheet3!$A$3)<3,0,SUMIFS(Sheet4!$DN$2:$DN$8408,Sheet4!$C$2:$C$8408,Sheet3!$B14,Sheet4!$E$2:$E$8408,Sheet3!DQ$4,Sheet4!$A$2:$A$8408,Sheet3!$B$1,Sheet4!$B$2:$B$8408,Sheet3!$A$3))","v":65},{"$f":"+IF(SUMIFS(Sheet4!$DN$2:$DN$8408,Sheet4!$C$2:$C$8408,Sheet3!$B14,Sheet4!$E$2:$E$8408,Sheet3!DR$4,Sheet4!$A$2:$A$8408,Sheet3!$B$1,Sheet4!$B$2:$B$8408,Sheet3!$A$3)<3,0,SUMIFS(Sheet4!$DN$2:$DN$8408,Sheet4!$C$2:$C$8408,Sheet3!$B14,Sheet4!$E$2:$E$8408,Sheet3!DR$4,Sheet4!$A$2:$A$8408,Sheet3!$B$1,Sheet4!$B$2:$B$8408,Sheet3!$A$3))","v":4}]
[3,"11E","Terras de Trás-os-Montes",{"$f":"+SUMIFS(Sheet4!$DM$2:$DM$8408,Sheet4!$C$2:$C$8408,Sheet3!$B15,Sheet4!$D$2:$D$8408,Sheet3!D$3,Sheet4!$E$2:$E$8408,Sheet3!D$4,Sheet4!$A$2:$A$8408,Sheet3!$B$1,Sheet4!$B$2:$B$8408,Sheet3!$A$3)","v":3},{"$f":"+SUMIFS(Sheet4!$DM$2:$DM$8408,Sheet4!$C$2:$C$8408,Sheet3!$B15,Sheet4!$D$2:$D$8408,Sheet3!E$3,Sheet4!$E$2:$E$8408,Sheet3!E$4,Sheet4!$A$2:$A$8408,Sheet3!$B$1,Sheet4!$B$2:$B$8408,Sheet3!$A$3)","v":14},{"$f":"+SUMIFS(Sheet4!$DM$2:$DM$8408,Sheet4!$C$2:$C$8408,Sheet3!$B15,Sheet4!$D$2:$D$8408,Sheet3!F$3,Sheet4!$E$2:$E$8408,Sheet3!F$4,Sheet4!$A$2:$A$8408,Sheet3!$B$1,Sheet4!$B$2:$B$8408,Sheet3!$A$3)","v":14},{"$f":"+SUMIFS(Sheet4!$DM$2:$DM$8408,Sheet4!$C$2:$C$8408,Sheet3!$B15,Sheet4!$D$2:$D$8408,Sheet3!G$3,Sheet4!$E$2:$E$8408,Sheet3!G$4,Sheet4!$A$2:$A$8408,Sheet3!$B$1,Sheet4!$B$2:$B$8408,Sheet3!$A$3)","v":5},{"$f":"+SUMIFS(Sheet4!$DM$2:$DM$8408,Sheet4!$C$2:$C$8408,Sheet3!$B15,Sheet4!$D$2:$D$8408,Sheet3!H$3,Sheet4!$E$2:$E$8408,Sheet3!H$4,Sheet4!$A$2:$A$8408,Sheet3!$B$1,Sheet4!$B$2:$B$8408,Sheet3!$A$3)","v":0},{"$f":"+SUMIFS(Sheet4!$DM$2:$DM$8408,Sheet4!$C$2:$C$8408,Sheet3!$B15,Sheet4!$D$2:$D$8408,Sheet3!I$3,Sheet4!$E$2:$E$8408,Sheet3!I$4,Sheet4!$A$2:$A$8408,Sheet3!$B$1,Sheet4!$B$2:$B$8408,Sheet3!$A$3)","v":0},{"$f":"+SUMIFS(Sheet4!$DM$2:$DM$8408,Sheet4!$C$2:$C$8408,Sheet3!$B15,Sheet4!$D$2:$D$8408,Sheet3!J$3,Sheet4!$E$2:$E$8408,Sheet3!J$4,Sheet4!$A$2:$A$8408,Sheet3!$B$1,Sheet4!$B$2:$B$8408,Sheet3!$A$3)","v":0},{"$f":"+SUMIFS(Sheet4!$DM$2:$DM$8408,Sheet4!$C$2:$C$8408,Sheet3!$B15,Sheet4!$D$2:$D$8408,Sheet3!K$3,Sheet4!$E$2:$E$8408,Sheet3!K$4,Sheet4!$A$2:$A$8408,Sheet3!$B$1,Sheet4!$B$2:$B$8408,Sheet3!$A$3)","v":0},{"$f":"+SUMIFS(Sheet4!$DM$2:$DM$8408,Sheet4!$C$2:$C$8408,Sheet3!$B15,Sheet4!$D$2:$D$8408,Sheet3!L$3,Sheet4!$E$2:$E$8408,Sheet3!L$4,Sheet4!$A$2:$A$8408,Sheet3!$B$1,Sheet4!$B$2:$B$8408,Sheet3!$A$3)","v":0},{"$f":"+SUMIFS(Sheet4!$DM$2:$DM$8408,Sheet4!$C$2:$C$8408,Sheet3!$B15,Sheet4!$D$2:$D$8408,Sheet3!M$3,Sheet4!$E$2:$E$8408,Sheet3!M$4,Sheet4!$A$2:$A$8408,Sheet3!$B$1,Sheet4!$B$2:$B$8408,Sheet3!$A$3)","v":0},{"$f":"+SUMIFS(Sheet4!$DM$2:$DM$8408,Sheet4!$C$2:$C$8408,Sheet3!$B15,Sheet4!$D$2:$D$8408,Sheet3!N$3,Sheet4!$E$2:$E$8408,Sheet3!N$4,Sheet4!$A$2:$A$8408,Sheet3!$B$1,Sheet4!$B$2:$B$8408,Sheet3!$A$3)","v":616},{"$f":"+SUMIFS(Sheet4!$DM$2:$DM$8408,Sheet4!$C$2:$C$8408,Sheet3!$B15,Sheet4!$D$2:$D$8408,Sheet3!O$3,Sheet4!$E$2:$E$8408,Sheet3!O$4,Sheet4!$A$2:$A$8408,Sheet3!$B$1,Sheet4!$B$2:$B$8408,Sheet3!$A$3)","v":101},{"$f":"+SUMIFS(Sheet4!$DM$2:$DM$8408,Sheet4!$C$2:$C$8408,Sheet3!$B15,Sheet4!$D$2:$D$8408,Sheet3!P$3,Sheet4!$E$2:$E$8408,Sheet3!P$4,Sheet4!$A$2:$A$8408,Sheet3!$B$1,Sheet4!$B$2:$B$8408,Sheet3!$A$3)","v":7},{"$f":"+SUMIFS(Sheet4!$DM$2:$DM$8408,Sheet4!$C$2:$C$8408,Sheet3!$B15,Sheet4!$D$2:$D$8408,Sheet3!Q$3,Sheet4!$E$2:$E$8408,Sheet3!Q$4,Sheet4!$A$2:$A$8408,Sheet3!$B$1,Sheet4!$B$2:$B$8408,Sheet3!$A$3)","v":0},{"$f":"+SUMIFS(Sheet4!$DM$2:$DM$8408,Sheet4!$C$2:$C$8408,Sheet3!$B15,Sheet4!$D$2:$D$8408,Sheet3!R$3,Sheet4!$E$2:$E$8408,Sheet3!R$4,Sheet4!$A$2:$A$8408,Sheet3!$B$1,Sheet4!$B$2:$B$8408,Sheet3!$A$3)","v":0},{"$f":"+SUMIFS(Sheet4!$DM$2:$DM$8408,Sheet4!$C$2:$C$8408,Sheet3!$B15,Sheet4!$D$2:$D$8408,Sheet3!S$3,Sheet4!$E$2:$E$8408,Sheet3!S$4,Sheet4!$A$2:$A$8408,Sheet3!$B$1,Sheet4!$B$2:$B$8408,Sheet3!$A$3)","v":0},{"$f":"+SUMIFS(Sheet4!$DM$2:$DM$8408,Sheet4!$C$2:$C$8408,Sheet3!$B15,Sheet4!$D$2:$D$8408,Sheet3!T$3,Sheet4!$E$2:$E$8408,Sheet3!T$4,Sheet4!$A$2:$A$8408,Sheet3!$B$1,Sheet4!$B$2:$B$8408,Sheet3!$A$3)","v":0},{"$f":"+SUMIFS(Sheet4!$DM$2:$DM$8408,Sheet4!$C$2:$C$8408,Sheet3!$B15,Sheet4!$D$2:$D$8408,Sheet3!U$3,Sheet4!$E$2:$E$8408,Sheet3!U$4,Sheet4!$A$2:$A$8408,Sheet3!$B$1,Sheet4!$B$2:$B$8408,Sheet3!$A$3)","v":0},{"$f":"+SUMIFS(Sheet4!$DM$2:$DM$8408,Sheet4!$C$2:$C$8408,Sheet3!$B15,Sheet4!$D$2:$D$8408,Sheet3!V$3,Sheet4!$E$2:$E$8408,Sheet3!V$4,Sheet4!$A$2:$A$8408,Sheet3!$B$1,Sheet4!$B$2:$B$8408,Sheet3!$A$3)","v":0},{"$f":"+SUMIFS(Sheet4!$DM$2:$DM$8408,Sheet4!$C$2:$C$8408,Sheet3!$B15,Sheet4!$D$2:$D$8408,Sheet3!W$3,Sheet4!$E$2:$E$8408,Sheet3!W$4,Sheet4!$A$2:$A$8408,Sheet3!$B$1,Sheet4!$B$2:$B$8408,Sheet3!$A$3)","v":0},{"$f":"+SUMIFS(Sheet4!$DM$2:$DM$8408,Sheet4!$C$2:$C$8408,Sheet3!$B15,Sheet4!$D$2:$D$8408,Sheet3!X$3,Sheet4!$E$2:$E$8408,Sheet3!X$4,Sheet4!$A$2:$A$8408,Sheet3!$B$1,Sheet4!$B$2:$B$8408,Sheet3!$A$3)","v":0},{"$f":"+SUMIFS(Sheet4!$DM$2:$DM$8408,Sheet4!$C$2:$C$8408,Sheet3!$B15,Sheet4!$D$2:$D$8408,Sheet3!Y$3,Sheet4!$E$2:$E$8408,Sheet3!Y$4,Sheet4!$A$2:$A$8408,Sheet3!$B$1,Sheet4!$B$2:$B$8408,Sheet3!$A$3)","v":3},{"$f":"+SUMIFS(Sheet4!$DM$2:$DM$8408,Sheet4!$C$2:$C$8408,Sheet3!$B15,Sheet4!$D$2:$D$8408,Sheet3!Z$3,Sheet4!$E$2:$E$8408,Sheet3!Z$4,Sheet4!$A$2:$A$8408,Sheet3!$B$1,Sheet4!$B$2:$B$8408,Sheet3!$A$3)","v":0},{"$f":"+SUMIFS(Sheet4!$DM$2:$DM$8408,Sheet4!$C$2:$C$8408,Sheet3!$B15,Sheet4!$D$2:$D$8408,Sheet3!AA$3,Sheet4!$E$2:$E$8408,Sheet3!AA$4,Sheet4!$A$2:$A$8408,Sheet3!$B$1,Sheet4!$B$2:$B$8408,Sheet3!$A$3)","v":0},{"$f":"+SUMIFS(Sheet4!$DM$2:$DM$8408,Sheet4!$C$2:$C$8408,Sheet3!$B15,Sheet4!$D$2:$D$8408,Sheet3!AB$3,Sheet4!$E$2:$E$8408,Sheet3!AB$4,Sheet4!$A$2:$A$8408,Sheet3!$B$1,Sheet4!$B$2:$B$8408,Sheet3!$A$3)","v":0},{"$f":"+SUMIFS(Sheet4!$DM$2:$DM$8408,Sheet4!$C$2:$C$8408,Sheet3!$B15,Sheet4!$D$2:$D$8408,Sheet3!AC$3,Sheet4!$E$2:$E$8408,Sheet3!AC$4,Sheet4!$A$2:$A$8408,Sheet3!$B$1,Sheet4!$B$2:$B$8408,Sheet3!$A$3)","v":1867},{"$f":"+SUMIFS(Sheet4!$DM$2:$DM$8408,Sheet4!$C$2:$C$8408,Sheet3!$B15,Sheet4!$D$2:$D$8408,Sheet3!AD$3,Sheet4!$E$2:$E$8408,Sheet3!AD$4,Sheet4!$A$2:$A$8408,Sheet3!$B$1,Sheet4!$B$2:$B$8408,Sheet3!$A$3)","v":2809},{"$f":"+SUMIFS(Sheet4!$DM$2:$DM$8408,Sheet4!$C$2:$C$8408,Sheet3!$B15,Sheet4!$D$2:$D$8408,Sheet3!AE$3,Sheet4!$E$2:$E$8408,Sheet3!AE$4,Sheet4!$A$2:$A$8408,Sheet3!$B$1,Sheet4!$B$2:$B$8408,Sheet3!$A$3)","v":238},{"$f":"+SUMIFS(Sheet4!$DM$2:$DM$8408,Sheet4!$C$2:$C$8408,Sheet3!$B15,Sheet4!$D$2:$D$8408,Sheet3!AF$3,Sheet4!$E$2:$E$8408,Sheet3!AF$4,Sheet4!$A$2:$A$8408,Sheet3!$B$1,Sheet4!$B$2:$B$8408,Sheet3!$A$3)","v":19},{"$f":"+SUMIFS(Sheet4!$DM$2:$DM$8408,Sheet4!$C$2:$C$8408,Sheet3!$B15,Sheet4!$D$2:$D$8408,Sheet3!AG$3,Sheet4!$E$2:$E$8408,Sheet3!AG$4,Sheet4!$A$2:$A$8408,Sheet3!$B$1,Sheet4!$B$2:$B$8408,Sheet3!$A$3)","v":0},{"$f":"+SUMIFS(Sheet4!$DM$2:$DM$8408,Sheet4!$C$2:$C$8408,Sheet3!$B15,Sheet4!$D$2:$D$8408,Sheet3!AH$3,Sheet4!$E$2:$E$8408,Sheet3!AH$4,Sheet4!$A$2:$A$8408,Sheet3!$B$1,Sheet4!$B$2:$B$8408,Sheet3!$A$3)","v":113},{"$f":"+SUMIFS(Sheet4!$DM$2:$DM$8408,Sheet4!$C$2:$C$8408,Sheet3!$B15,Sheet4!$D$2:$D$8408,Sheet3!AI$3,Sheet4!$E$2:$E$8408,Sheet3!AI$4,Sheet4!$A$2:$A$8408,Sheet3!$B$1,Sheet4!$B$2:$B$8408,Sheet3!$A$3)","v":71},{"$f":"+SUMIFS(Sheet4!$DM$2:$DM$8408,Sheet4!$C$2:$C$8408,Sheet3!$B15,Sheet4!$D$2:$D$8408,Sheet3!AJ$3,Sheet4!$E$2:$E$8408,Sheet3!AJ$4,Sheet4!$A$2:$A$8408,Sheet3!$B$1,Sheet4!$B$2:$B$8408,Sheet3!$A$3)","v":5},{"$f":"+SUMIFS(Sheet4!$DM$2:$DM$8408,Sheet4!$C$2:$C$8408,Sheet3!$B15,Sheet4!$D$2:$D$8408,Sheet3!AK$3,Sheet4!$E$2:$E$8408,Sheet3!AK$4,Sheet4!$A$2:$A$8408,Sheet3!$B$1,Sheet4!$B$2:$B$8408,Sheet3!$A$3)","v":0},{"$f":"+SUMIFS(Sheet4!$DM$2:$DM$8408,Sheet4!$C$2:$C$8408,Sheet3!$B15,Sheet4!$D$2:$D$8408,Sheet3!AL$3,Sheet4!$E$2:$E$8408,Sheet3!AL$4,Sheet4!$A$2:$A$8408,Sheet3!$B$1,Sheet4!$B$2:$B$8408,Sheet3!$A$3)","v":0},{"$f":"+SUMIFS(Sheet4!$DM$2:$DM$8408,Sheet4!$C$2:$C$8408,Sheet3!$B15,Sheet4!$D$2:$D$8408,Sheet3!AM$3,Sheet4!$E$2:$E$8408,Sheet3!AM$4,Sheet4!$A$2:$A$8408,Sheet3!$B$1,Sheet4!$B$2:$B$8408,Sheet3!$A$3)","v":1639},{"$f":"+SUMIFS(Sheet4!$DM$2:$DM$8408,Sheet4!$C$2:$C$8408,Sheet3!$B15,Sheet4!$D$2:$D$8408,Sheet3!AN$3,Sheet4!$E$2:$E$8408,Sheet3!AN$4,Sheet4!$A$2:$A$8408,Sheet3!$B$1,Sheet4!$B$2:$B$8408,Sheet3!$A$3)","v":773},{"$f":"+SUMIFS(Sheet4!$DM$2:$DM$8408,Sheet4!$C$2:$C$8408,Sheet3!$B15,Sheet4!$D$2:$D$8408,Sheet3!AO$3,Sheet4!$E$2:$E$8408,Sheet3!AO$4,Sheet4!$A$2:$A$8408,Sheet3!$B$1,Sheet4!$B$2:$B$8408,Sheet3!$A$3)","v":62},{"$f":"+SUMIFS(Sheet4!$DM$2:$DM$8408,Sheet4!$C$2:$C$8408,Sheet3!$B15,Sheet4!$D$2:$D$8408,Sheet3!AP$3,Sheet4!$E$2:$E$8408,Sheet3!AP$4,Sheet4!$A$2:$A$8408,Sheet3!$B$1,Sheet4!$B$2:$B$8408,Sheet3!$A$3)","v":6},{"$f":"+SUMIFS(Sheet4!$DM$2:$DM$8408,Sheet4!$C$2:$C$8408,Sheet3!$B15,Sheet4!$D$2:$D$8408,Sheet3!AQ$3,Sheet4!$E$2:$E$8408,Sheet3!AQ$4,Sheet4!$A$2:$A$8408,Sheet3!$B$1,Sheet4!$B$2:$B$8408,Sheet3!$A$3)","v":0},{"$f":"+SUMIFS(Sheet4!$DM$2:$DM$8408,Sheet4!$C$2:$C$8408,Sheet3!$B15,Sheet4!$D$2:$D$8408,Sheet3!AR$3,Sheet4!$E$2:$E$8408,Sheet3!AR$4,Sheet4!$A$2:$A$8408,Sheet3!$B$1,Sheet4!$B$2:$B$8408,Sheet3!$A$3)","v":1956},{"$f":"+SUMIFS(Sheet4!$DM$2:$DM$8408,Sheet4!$C$2:$C$8408,Sheet3!$B15,Sheet4!$D$2:$D$8408,Sheet3!AS$3,Sheet4!$E$2:$E$8408,Sheet3!AS$4,Sheet4!$A$2:$A$8408,Sheet3!$B$1,Sheet4!$B$2:$B$8408,Sheet3!$A$3)","v":185},{"$f":"+SUMIFS(Sheet4!$DM$2:$DM$8408,Sheet4!$C$2:$C$8408,Sheet3!$B15,Sheet4!$D$2:$D$8408,Sheet3!AT$3,Sheet4!$E$2:$E$8408,Sheet3!AT$4,Sheet4!$A$2:$A$8408,Sheet3!$B$1,Sheet4!$B$2:$B$8408,Sheet3!$A$3)","v":31},{"$f":"+SUMIFS(Sheet4!$DM$2:$DM$8408,Sheet4!$C$2:$C$8408,Sheet3!$B15,Sheet4!$D$2:$D$8408,Sheet3!AU$3,Sheet4!$E$2:$E$8408,Sheet3!AU$4,Sheet4!$A$2:$A$8408,Sheet3!$B$1,Sheet4!$B$2:$B$8408,Sheet3!$A$3)","v":0},{"$f":"+SUMIFS(Sheet4!$DM$2:$DM$8408,Sheet4!$C$2:$C$8408,Sheet3!$B15,Sheet4!$D$2:$D$8408,Sheet3!AV$3,Sheet4!$E$2:$E$8408,Sheet3!AV$4,Sheet4!$A$2:$A$8408,Sheet3!$B$1,Sheet4!$B$2:$B$8408,Sheet3!$A$3)","v":0},{"$f":"+SUMIFS(Sheet4!$DM$2:$DM$8408,Sheet4!$C$2:$C$8408,Sheet3!$B15,Sheet4!$D$2:$D$8408,Sheet3!AW$3,Sheet4!$E$2:$E$8408,Sheet3!AW$4,Sheet4!$A$2:$A$8408,Sheet3!$B$1,Sheet4!$B$2:$B$8408,Sheet3!$A$3)","v":7052},{"$f":"+SUMIFS(Sheet4!$DM$2:$DM$8408,Sheet4!$C$2:$C$8408,Sheet3!$B15,Sheet4!$D$2:$D$8408,Sheet3!AX$3,Sheet4!$E$2:$E$8408,Sheet3!AX$4,Sheet4!$A$2:$A$8408,Sheet3!$B$1,Sheet4!$B$2:$B$8408,Sheet3!$A$3)","v":3869},{"$f":"+SUMIFS(Sheet4!$DM$2:$DM$8408,Sheet4!$C$2:$C$8408,Sheet3!$B15,Sheet4!$D$2:$D$8408,Sheet3!AY$3,Sheet4!$E$2:$E$8408,Sheet3!AY$4,Sheet4!$A$2:$A$8408,Sheet3!$B$1,Sheet4!$B$2:$B$8408,Sheet3!$A$3)","v":138},{"$f":"+SUMIFS(Sheet4!$DM$2:$DM$8408,Sheet4!$C$2:$C$8408,Sheet3!$B15,Sheet4!$D$2:$D$8408,Sheet3!AZ$3,Sheet4!$E$2:$E$8408,Sheet3!AZ$4,Sheet4!$A$2:$A$8408,Sheet3!$B$1,Sheet4!$B$2:$B$8408,Sheet3!$A$3)","v":6},{"$f":"+SUMIFS(Sheet4!$DM$2:$DM$8408,Sheet4!$C$2:$C$8408,Sheet3!$B15,Sheet4!$D$2:$D$8408,Sheet3!BA$3,Sheet4!$E$2:$E$8408,Sheet3!BA$4,Sheet4!$A$2:$A$8408,Sheet3!$B$1,Sheet4!$B$2:$B$8408,Sheet3!$A$3)","v":0},{"$f":"+SUMIFS(Sheet4!$DM$2:$DM$8408,Sheet4!$C$2:$C$8408,Sheet3!$B15,Sheet4!$D$2:$D$8408,Sheet3!BB$3,Sheet4!$E$2:$E$8408,Sheet3!BB$4,Sheet4!$A$2:$A$8408,Sheet3!$B$1,Sheet4!$B$2:$B$8408,Sheet3!$A$3)","v":0},{"$f":"+SUMIFS(Sheet4!$DM$2:$DM$8408,Sheet4!$C$2:$C$8408,Sheet3!$B15,Sheet4!$D$2:$D$8408,Sheet3!BC$3,Sheet4!$E$2:$E$8408,Sheet3!BC$4,Sheet4!$A$2:$A$8408,Sheet3!$B$1,Sheet4!$B$2:$B$8408,Sheet3!$A$3)","v":0},{"$f":"+SUMIFS(Sheet4!$DM$2:$DM$8408,Sheet4!$C$2:$C$8408,Sheet3!$B15,Sheet4!$D$2:$D$8408,Sheet3!BD$3,Sheet4!$E$2:$E$8408,Sheet3!BD$4,Sheet4!$A$2:$A$8408,Sheet3!$B$1,Sheet4!$B$2:$B$8408,Sheet3!$A$3)","v":10},{"$f":"+SUMIFS(Sheet4!$DM$2:$DM$8408,Sheet4!$C$2:$C$8408,Sheet3!$B15,Sheet4!$D$2:$D$8408,Sheet3!BE$3,Sheet4!$E$2:$E$8408,Sheet3!BE$4,Sheet4!$A$2:$A$8408,Sheet3!$B$1,Sheet4!$B$2:$B$8408,Sheet3!$A$3)","v":6},{"$f":"+SUMIFS(Sheet4!$DM$2:$DM$8408,Sheet4!$C$2:$C$8408,Sheet3!$B15,Sheet4!$D$2:$D$8408,Sheet3!BF$3,Sheet4!$E$2:$E$8408,Sheet3!BF$4,Sheet4!$A$2:$A$8408,Sheet3!$B$1,Sheet4!$B$2:$B$8408,Sheet3!$A$3)","v":0},{"$f":"+SUMIFS(Sheet4!$DM$2:$DM$8408,Sheet4!$C$2:$C$8408,Sheet3!$B15,Sheet4!$D$2:$D$8408,Sheet3!BG$3,Sheet4!$E$2:$E$8408,Sheet3!BG$4,Sheet4!$A$2:$A$8408,Sheet3!$B$1,Sheet4!$B$2:$B$8408,Sheet3!$A$3)","v":12},{"$f":"+SUMIFS(Sheet4!$DM$2:$DM$8408,Sheet4!$C$2:$C$8408,Sheet3!$B15,Sheet4!$D$2:$D$8408,Sheet3!BH$3,Sheet4!$E$2:$E$8408,Sheet3!BH$4,Sheet4!$A$2:$A$8408,Sheet3!$B$1,Sheet4!$B$2:$B$8408,Sheet3!$A$3)","v":76},{"$f":"+SUMIFS(Sheet4!$DM$2:$DM$8408,Sheet4!$C$2:$C$8408,Sheet3!$B15,Sheet4!$D$2:$D$8408,Sheet3!BI$3,Sheet4!$E$2:$E$8408,Sheet3!BI$4,Sheet4!$A$2:$A$8408,Sheet3!$B$1,Sheet4!$B$2:$B$8408,Sheet3!$A$3)","v":38},{"$f":"+SUMIFS(Sheet4!$DM$2:$DM$8408,Sheet4!$C$2:$C$8408,Sheet3!$B15,Sheet4!$D$2:$D$8408,Sheet3!BJ$3,Sheet4!$E$2:$E$8408,Sheet3!BJ$4,Sheet4!$A$2:$A$8408,Sheet3!$B$1,Sheet4!$B$2:$B$8408,Sheet3!$A$3)","v":0},{"$f":"+SUMIFS(Sheet4!$DM$2:$DM$8408,Sheet4!$C$2:$C$8408,Sheet3!$B15,Sheet4!$D$2:$D$8408,Sheet3!BK$3,Sheet4!$E$2:$E$8408,Sheet3!BK$4,Sheet4!$A$2:$A$8408,Sheet3!$B$1,Sheet4!$B$2:$B$8408,Sheet3!$A$3)","v":0},{"$f":"+SUMIFS(Sheet4!$DM$2:$DM$8408,Sheet4!$C$2:$C$8408,Sheet3!$B15,Sheet4!$D$2:$D$8408,Sheet3!BL$3,Sheet4!$E$2:$E$8408,Sheet3!BL$4,Sheet4!$A$2:$A$8408,Sheet3!$B$1,Sheet4!$B$2:$B$8408,Sheet3!$A$3)","v":7},{"$f":"+SUMIFS(Sheet4!$DM$2:$DM$8408,Sheet4!$C$2:$C$8408,Sheet3!$B15,Sheet4!$D$2:$D$8408,Sheet3!BM$3,Sheet4!$E$2:$E$8408,Sheet3!BM$4,Sheet4!$A$2:$A$8408,Sheet3!$B$1,Sheet4!$B$2:$B$8408,Sheet3!$A$3)","v":37},{"$f":"+SUMIFS(Sheet4!$DM$2:$DM$8408,Sheet4!$C$2:$C$8408,Sheet3!$B15,Sheet4!$D$2:$D$8408,Sheet3!BN$3,Sheet4!$E$2:$E$8408,Sheet3!BN$4,Sheet4!$A$2:$A$8408,Sheet3!$B$1,Sheet4!$B$2:$B$8408,Sheet3!$A$3)","v":15},{"$f":"+SUMIFS(Sheet4!$DM$2:$DM$8408,Sheet4!$C$2:$C$8408,Sheet3!$B15,Sheet4!$D$2:$D$8408,Sheet3!BO$3,Sheet4!$E$2:$E$8408,Sheet3!BO$4,Sheet4!$A$2:$A$8408,Sheet3!$B$1,Sheet4!$B$2:$B$8408,Sheet3!$A$3)","v":0},{"$f":"+SUMIFS(Sheet4!$DM$2:$DM$8408,Sheet4!$C$2:$C$8408,Sheet3!$B15,Sheet4!$D$2:$D$8408,Sheet3!BP$3,Sheet4!$E$2:$E$8408,Sheet3!BP$4,Sheet4!$A$2:$A$8408,Sheet3!$B$1,Sheet4!$B$2:$B$8408,Sheet3!$A$3)","v":0},{"$f":"+SUMIFS(Sheet4!$DM$2:$DM$8408,Sheet4!$C$2:$C$8408,Sheet3!$B15,Sheet4!$D$2:$D$8408,Sheet3!BQ$3,Sheet4!$E$2:$E$8408,Sheet3!BQ$4,Sheet4!$A$2:$A$8408,Sheet3!$B$1,Sheet4!$B$2:$B$8408,Sheet3!$A$3)","v":10},{"$f":"+SUMIFS(Sheet4!$DM$2:$DM$8408,Sheet4!$C$2:$C$8408,Sheet3!$B15,Sheet4!$D$2:$D$8408,Sheet3!BR$3,Sheet4!$E$2:$E$8408,Sheet3!BR$4,Sheet4!$A$2:$A$8408,Sheet3!$B$1,Sheet4!$B$2:$B$8408,Sheet3!$A$3)","v":71},{"$f":"+SUMIFS(Sheet4!$DM$2:$DM$8408,Sheet4!$C$2:$C$8408,Sheet3!$B15,Sheet4!$D$2:$D$8408,Sheet3!BS$3,Sheet4!$E$2:$E$8408,Sheet3!BS$4,Sheet4!$A$2:$A$8408,Sheet3!$B$1,Sheet4!$B$2:$B$8408,Sheet3!$A$3)","v":20},{"$f":"+SUMIFS(Sheet4!$DM$2:$DM$8408,Sheet4!$C$2:$C$8408,Sheet3!$B15,Sheet4!$D$2:$D$8408,Sheet3!BT$3,Sheet4!$E$2:$E$8408,Sheet3!BT$4,Sheet4!$A$2:$A$8408,Sheet3!$B$1,Sheet4!$B$2:$B$8408,Sheet3!$A$3)","v":0},{"$f":"+SUMIFS(Sheet4!$DM$2:$DM$8408,Sheet4!$C$2:$C$8408,Sheet3!$B15,Sheet4!$D$2:$D$8408,Sheet3!BU$3,Sheet4!$E$2:$E$8408,Sheet3!BU$4,Sheet4!$A$2:$A$8408,Sheet3!$B$1,Sheet4!$B$2:$B$8408,Sheet3!$A$3)","v":0},{"$f":"+SUMIFS(Sheet4!$DM$2:$DM$8408,Sheet4!$C$2:$C$8408,Sheet3!$B15,Sheet4!$D$2:$D$8408,Sheet3!BV$3,Sheet4!$E$2:$E$8408,Sheet3!BV$4,Sheet4!$A$2:$A$8408,Sheet3!$B$1,Sheet4!$B$2:$B$8408,Sheet3!$A$3)","v":174},{"$f":"+SUMIFS(Sheet4!$DM$2:$DM$8408,Sheet4!$C$2:$C$8408,Sheet3!$B15,Sheet4!$D$2:$D$8408,Sheet3!BW$3,Sheet4!$E$2:$E$8408,Sheet3!BW$4,Sheet4!$A$2:$A$8408,Sheet3!$B$1,Sheet4!$B$2:$B$8408,Sheet3!$A$3)","v":514},{"$f":"+SUMIFS(Sheet4!$DM$2:$DM$8408,Sheet4!$C$2:$C$8408,Sheet3!$B15,Sheet4!$D$2:$D$8408,Sheet3!BX$3,Sheet4!$E$2:$E$8408,Sheet3!BX$4,Sheet4!$A$2:$A$8408,Sheet3!$B$1,Sheet4!$B$2:$B$8408,Sheet3!$A$3)","v":86},{"$f":"+SUMIFS(Sheet4!$DM$2:$DM$8408,Sheet4!$C$2:$C$8408,Sheet3!$B15,Sheet4!$D$2:$D$8408,Sheet3!BY$3,Sheet4!$E$2:$E$8408,Sheet3!BY$4,Sheet4!$A$2:$A$8408,Sheet3!$B$1,Sheet4!$B$2:$B$8408,Sheet3!$A$3)","v":0},{"$f":"+SUMIFS(Sheet4!$DM$2:$DM$8408,Sheet4!$C$2:$C$8408,Sheet3!$B15,Sheet4!$D$2:$D$8408,Sheet3!BZ$3,Sheet4!$E$2:$E$8408,Sheet3!BZ$4,Sheet4!$A$2:$A$8408,Sheet3!$B$1,Sheet4!$B$2:$B$8408,Sheet3!$A$3)","v":0},{"$f":"+SUMIFS(Sheet4!$DM$2:$DM$8408,Sheet4!$C$2:$C$8408,Sheet3!$B15,Sheet4!$D$2:$D$8408,Sheet3!CA$3,Sheet4!$E$2:$E$8408,Sheet3!CA$4,Sheet4!$A$2:$A$8408,Sheet3!$B$1,Sheet4!$B$2:$B$8408,Sheet3!$A$3)","v":197},{"$f":"+SUMIFS(Sheet4!$DM$2:$DM$8408,Sheet4!$C$2:$C$8408,Sheet3!$B15,Sheet4!$D$2:$D$8408,Sheet3!CB$3,Sheet4!$E$2:$E$8408,Sheet3!CB$4,Sheet4!$A$2:$A$8408,Sheet3!$B$1,Sheet4!$B$2:$B$8408,Sheet3!$A$3)","v":739},{"$f":"+SUMIFS(Sheet4!$DM$2:$DM$8408,Sheet4!$C$2:$C$8408,Sheet3!$B15,Sheet4!$D$2:$D$8408,Sheet3!CC$3,Sheet4!$E$2:$E$8408,Sheet3!CC$4,Sheet4!$A$2:$A$8408,Sheet3!$B$1,Sheet4!$B$2:$B$8408,Sheet3!$A$3)","v":131},{"$f":"+SUMIFS(Sheet4!$DM$2:$DM$8408,Sheet4!$C$2:$C$8408,Sheet3!$B15,Sheet4!$D$2:$D$8408,Sheet3!CD$3,Sheet4!$E$2:$E$8408,Sheet3!CD$4,Sheet4!$A$2:$A$8408,Sheet3!$B$1,Sheet4!$B$2:$B$8408,Sheet3!$A$3)","v":3},{"$f":"+SUMIFS(Sheet4!$DM$2:$DM$8408,Sheet4!$C$2:$C$8408,Sheet3!$B15,Sheet4!$D$2:$D$8408,Sheet3!CE$3,Sheet4!$E$2:$E$8408,Sheet3!CE$4,Sheet4!$A$2:$A$8408,Sheet3!$B$1,Sheet4!$B$2:$B$8408,Sheet3!$A$3)","v":0},{"$f":"+SUMIFS(Sheet4!$DM$2:$DM$8408,Sheet4!$C$2:$C$8408,Sheet3!$B15,Sheet4!$D$2:$D$8408,Sheet3!CF$3,Sheet4!$E$2:$E$8408,Sheet3!CF$4,Sheet4!$A$2:$A$8408,Sheet3!$B$1,Sheet4!$B$2:$B$8408,Sheet3!$A$3)","v":295},{"$f":"+SUMIFS(Sheet4!$DM$2:$DM$8408,Sheet4!$C$2:$C$8408,Sheet3!$B15,Sheet4!$D$2:$D$8408,Sheet3!CG$3,Sheet4!$E$2:$E$8408,Sheet3!CG$4,Sheet4!$A$2:$A$8408,Sheet3!$B$1,Sheet4!$B$2:$B$8408,Sheet3!$A$3)","v":6},{"$f":"+SUMIFS(Sheet4!$DM$2:$DM$8408,Sheet4!$C$2:$C$8408,Sheet3!$B15,Sheet4!$D$2:$D$8408,Sheet3!CH$3,Sheet4!$E$2:$E$8408,Sheet3!CH$4,Sheet4!$A$2:$A$8408,Sheet3!$B$1,Sheet4!$B$2:$B$8408,Sheet3!$A$3)","v":0},{"$f":"+SUMIFS(Sheet4!$DM$2:$DM$8408,Sheet4!$C$2:$C$8408,Sheet3!$B15,Sheet4!$D$2:$D$8408,Sheet3!CI$3,Sheet4!$E$2:$E$8408,Sheet3!CI$4,Sheet4!$A$2:$A$8408,Sheet3!$B$1,Sheet4!$B$2:$B$8408,Sheet3!$A$3)","v":4},{"$f":"+SUMIFS(Sheet4!$DM$2:$DM$8408,Sheet4!$C$2:$C$8408,Sheet3!$B15,Sheet4!$D$2:$D$8408,Sheet3!CJ$3,Sheet4!$E$2:$E$8408,Sheet3!CJ$4,Sheet4!$A$2:$A$8408,Sheet3!$B$1,Sheet4!$B$2:$B$8408,Sheet3!$A$3)","v":0},{"$f":"+SUMIFS(Sheet4!$DM$2:$DM$8408,Sheet4!$C$2:$C$8408,Sheet3!$B15,Sheet4!$D$2:$D$8408,Sheet3!CK$3,Sheet4!$E$2:$E$8408,Sheet3!CK$4,Sheet4!$A$2:$A$8408,Sheet3!$B$1,Sheet4!$B$2:$B$8408,Sheet3!$A$3)","v":0},{"$f":"+SUMIFS(Sheet4!$DM$2:$DM$8408,Sheet4!$C$2:$C$8408,Sheet3!$B15,Sheet4!$D$2:$D$8408,Sheet3!CL$3,Sheet4!$E$2:$E$8408,Sheet3!CL$4,Sheet4!$A$2:$A$8408,Sheet3!$B$1,Sheet4!$B$2:$B$8408,Sheet3!$A$3)","v":0},{"$f":"+SUMIFS(Sheet4!$DM$2:$DM$8408,Sheet4!$C$2:$C$8408,Sheet3!$B15,Sheet4!$D$2:$D$8408,Sheet3!CM$3,Sheet4!$E$2:$E$8408,Sheet3!CM$4,Sheet4!$A$2:$A$8408,Sheet3!$B$1,Sheet4!$B$2:$B$8408,Sheet3!$A$3)","v":0},{"$f":"+SUMIFS(Sheet4!$DM$2:$DM$8408,Sheet4!$C$2:$C$8408,Sheet3!$B15,Sheet4!$D$2:$D$8408,Sheet3!CN$3,Sheet4!$E$2:$E$8408,Sheet3!CN$4,Sheet4!$A$2:$A$8408,Sheet3!$B$1,Sheet4!$B$2:$B$8408,Sheet3!$A$3)","v":0},{"$f":"+SUMIFS(Sheet4!$DM$2:$DM$8408,Sheet4!$C$2:$C$8408,Sheet3!$B15,Sheet4!$D$2:$D$8408,Sheet3!CO$3,Sheet4!$E$2:$E$8408,Sheet3!CO$4,Sheet4!$A$2:$A$8408,Sheet3!$B$1,Sheet4!$B$2:$B$8408,Sheet3!$A$3)","v":0},{"$f":"+SUMIFS(Sheet4!$DM$2:$DM$8408,Sheet4!$C$2:$C$8408,Sheet3!$B15,Sheet4!$D$2:$D$8408,Sheet3!CP$3,Sheet4!$E$2:$E$8408,Sheet3!CP$4,Sheet4!$A$2:$A$8408,Sheet3!$B$1,Sheet4!$B$2:$B$8408,Sheet3!$A$3)","v":4},{"$f":"+SUMIFS(Sheet4!$DM$2:$DM$8408,Sheet4!$C$2:$C$8408,Sheet3!$B15,Sheet4!$D$2:$D$8408,Sheet3!CQ$3,Sheet4!$E$2:$E$8408,Sheet3!CQ$4,Sheet4!$A$2:$A$8408,Sheet3!$B$1,Sheet4!$B$2:$B$8408,Sheet3!$A$3)","v":0},{"$f":"+SUMIFS(Sheet4!$DM$2:$DM$8408,Sheet4!$C$2:$C$8408,Sheet3!$B15,Sheet4!$D$2:$D$8408,Sheet3!CR$3,Sheet4!$E$2:$E$8408,Sheet3!CR$4,Sheet4!$A$2:$A$8408,Sheet3!$B$1,Sheet4!$B$2:$B$8408,Sheet3!$A$3)","v":0},{"$f":"+SUMIFS(Sheet4!$DM$2:$DM$8408,Sheet4!$C$2:$C$8408,Sheet3!$B15,Sheet4!$D$2:$D$8408,Sheet3!CS$3,Sheet4!$E$2:$E$8408,Sheet3!CS$4,Sheet4!$A$2:$A$8408,Sheet3!$B$1,Sheet4!$B$2:$B$8408,Sheet3!$A$3)","v":0},{"$f":"+SUMIFS(Sheet4!$DM$2:$DM$8408,Sheet4!$C$2:$C$8408,Sheet3!$B15,Sheet4!$D$2:$D$8408,Sheet3!CT$3,Sheet4!$E$2:$E$8408,Sheet3!CT$4,Sheet4!$A$2:$A$8408,Sheet3!$B$1,Sheet4!$B$2:$B$8408,Sheet3!$A$3)","v":0},{"$f":"+IF(SUMIFS(Sheet4!$DN$2:$DN$8408,Sheet4!$C$2:$C$8408,Sheet3!$B15,Sheet4!$D$2:$D$8408,Sheet3!CU$3,Sheet4!$A$2:$A$8408,Sheet3!$B$1,Sheet4!$B$2:$B$8408,Sheet3!$A$3)<3,0,SUMIFS(Sheet4!$DN$2:$DN$8408,Sheet4!$C$2:$C$8408,Sheet3!$B15,Sheet4!$D$2:$D$8408,Sheet3!CU$3,Sheet4!$A$2:$A$8408,Sheet3!$B$1,Sheet4!$B$2:$B$8408,Sheet3!$A$3))","v":43},{"$f":"+IF(SUMIFS(Sheet4!$DN$2:$DN$8408,Sheet4!$C$2:$C$8408,Sheet3!$B15,Sheet4!$D$2:$D$8408,Sheet3!CV$3,Sheet4!$A$2:$A$8408,Sheet3!$B$1,Sheet4!$B$2:$B$8408,Sheet3!$A$3)<3,0,SUMIFS(Sheet4!$DN$2:$DN$8408,Sheet4!$C$2:$C$8408,Sheet3!$B15,Sheet4!$D$2:$D$8408,Sheet3!CV$3,Sheet4!$A$2:$A$8408,Sheet3!$B$1,Sheet4!$B$2:$B$8408,Sheet3!$A$3))","v":6},{"$f":"+IF(SUMIFS(Sheet4!$DN$2:$DN$8408,Sheet4!$C$2:$C$8408,Sheet3!$B15,Sheet4!$D$2:$D$8408,Sheet3!CW$3,Sheet4!$A$2:$A$8408,Sheet3!$B$1,Sheet4!$B$2:$B$8408,Sheet3!$A$3)<3,0,SUMIFS(Sheet4!$DN$2:$DN$8408,Sheet4!$C$2:$C$8408,Sheet3!$B15,Sheet4!$D$2:$D$8408,Sheet3!CW$3,Sheet4!$A$2:$A$8408,Sheet3!$B$1,Sheet4!$B$2:$B$8408,Sheet3!$A$3))","v":726},{"$f":"+IF(SUMIFS(Sheet4!$DN$2:$DN$8408,Sheet4!$C$2:$C$8408,Sheet3!$B15,Sheet4!$D$2:$D$8408,Sheet3!CX$3,Sheet4!$A$2:$A$8408,Sheet3!$B$1,Sheet4!$B$2:$B$8408,Sheet3!$A$3)<3,0,SUMIFS(Sheet4!$DN$2:$DN$8408,Sheet4!$C$2:$C$8408,Sheet3!$B15,Sheet4!$D$2:$D$8408,Sheet3!CX$3,Sheet4!$A$2:$A$8408,Sheet3!$B$1,Sheet4!$B$2:$B$8408,Sheet3!$A$3))","v":0},{"$f":"+IF(SUMIFS(Sheet4!$DN$2:$DN$8408,Sheet4!$C$2:$C$8408,Sheet3!$B15,Sheet4!$D$2:$D$8408,Sheet3!CY$3,Sheet4!$A$2:$A$8408,Sheet3!$B$1,Sheet4!$B$2:$B$8408,Sheet3!$A$3)<3,0,SUMIFS(Sheet4!$DN$2:$DN$8408,Sheet4!$C$2:$C$8408,Sheet3!$B15,Sheet4!$D$2:$D$8408,Sheet3!CY$3,Sheet4!$A$2:$A$8408,Sheet3!$B$1,Sheet4!$B$2:$B$8408,Sheet3!$A$3))","v":12},{"$f":"+IF(SUMIFS(Sheet4!$DN$2:$DN$8408,Sheet4!$C$2:$C$8408,Sheet3!$B15,Sheet4!$D$2:$D$8408,Sheet3!CZ$3,Sheet4!$A$2:$A$8408,Sheet3!$B$1,Sheet4!$B$2:$B$8408,Sheet3!$A$3)<3,0,SUMIFS(Sheet4!$DN$2:$DN$8408,Sheet4!$C$2:$C$8408,Sheet3!$B15,Sheet4!$D$2:$D$8408,Sheet3!CZ$3,Sheet4!$A$2:$A$8408,Sheet3!$B$1,Sheet4!$B$2:$B$8408,Sheet3!$A$3))","v":4936},{"$f":"+IF(SUMIFS(Sheet4!$DN$2:$DN$8408,Sheet4!$C$2:$C$8408,Sheet3!$B15,Sheet4!$D$2:$D$8408,Sheet3!DA$3,Sheet4!$A$2:$A$8408,Sheet3!$B$1,Sheet4!$B$2:$B$8408,Sheet3!$A$3)<3,0,SUMIFS(Sheet4!$DN$2:$DN$8408,Sheet4!$C$2:$C$8408,Sheet3!$B15,Sheet4!$D$2:$D$8408,Sheet3!DA$3,Sheet4!$A$2:$A$8408,Sheet3!$B$1,Sheet4!$B$2:$B$8408,Sheet3!$A$3))","v":192},{"$f":"+IF(SUMIFS(Sheet4!$DN$2:$DN$8408,Sheet4!$C$2:$C$8408,Sheet3!$B15,Sheet4!$D$2:$D$8408,Sheet3!DB$3,Sheet4!$A$2:$A$8408,Sheet3!$B$1,Sheet4!$B$2:$B$8408,Sheet3!$A$3)<3,0,SUMIFS(Sheet4!$DN$2:$DN$8408,Sheet4!$C$2:$C$8408,Sheet3!$B15,Sheet4!$D$2:$D$8408,Sheet3!DB$3,Sheet4!$A$2:$A$8408,Sheet3!$B$1,Sheet4!$B$2:$B$8408,Sheet3!$A$3))","v":2484},{"$f":"+IF(SUMIFS(Sheet4!$DN$2:$DN$8408,Sheet4!$C$2:$C$8408,Sheet3!$B15,Sheet4!$D$2:$D$8408,Sheet3!DC$3,Sheet4!$A$2:$A$8408,Sheet3!$B$1,Sheet4!$B$2:$B$8408,Sheet3!$A$3)<3,0,SUMIFS(Sheet4!$DN$2:$DN$8408,Sheet4!$C$2:$C$8408,Sheet3!$B15,Sheet4!$D$2:$D$8408,Sheet3!DC$3,Sheet4!$A$2:$A$8408,Sheet3!$B$1,Sheet4!$B$2:$B$8408,Sheet3!$A$3))","v":2176},{"$f":"+IF(SUMIFS(Sheet4!$DN$2:$DN$8408,Sheet4!$C$2:$C$8408,Sheet3!$B15,Sheet4!$D$2:$D$8408,Sheet3!DD$3,Sheet4!$A$2:$A$8408,Sheet3!$B$1,Sheet4!$B$2:$B$8408,Sheet3!$A$3)<3,0,SUMIFS(Sheet4!$DN$2:$DN$8408,Sheet4!$C$2:$C$8408,Sheet3!$B15,Sheet4!$D$2:$D$8408,Sheet3!DD$3,Sheet4!$A$2:$A$8408,Sheet3!$B$1,Sheet4!$B$2:$B$8408,Sheet3!$A$3))","v":11069},{"$f":"+IF(SUMIFS(Sheet4!$DN$2:$DN$8408,Sheet4!$C$2:$C$8408,Sheet3!$B15,Sheet4!$D$2:$D$8408,Sheet3!DE$3,Sheet4!$A$2:$A$8408,Sheet3!$B$1,Sheet4!$B$2:$B$8408,Sheet3!$A$3)<3,0,SUMIFS(Sheet4!$DN$2:$DN$8408,Sheet4!$C$2:$C$8408,Sheet3!$B15,Sheet4!$D$2:$D$8408,Sheet3!DE$3,Sheet4!$A$2:$A$8408,Sheet3!$B$1,Sheet4!$B$2:$B$8408,Sheet3!$A$3))","v":22},{"$f":"+IF(SUMIFS(Sheet4!$DN$2:$DN$8408,Sheet4!$C$2:$C$8408,Sheet3!$B15,Sheet4!$D$2:$D$8408,Sheet3!DF$3,Sheet4!$A$2:$A$8408,Sheet3!$B$1,Sheet4!$B$2:$B$8408,Sheet3!$A$3)<3,0,SUMIFS(Sheet4!$DN$2:$DN$8408,Sheet4!$C$2:$C$8408,Sheet3!$B15,Sheet4!$D$2:$D$8408,Sheet3!DF$3,Sheet4!$A$2:$A$8408,Sheet3!$B$1,Sheet4!$B$2:$B$8408,Sheet3!$A$3))","v":129},{"$f":"+IF(SUMIFS(Sheet4!$DN$2:$DN$8408,Sheet4!$C$2:$C$8408,Sheet3!$B15,Sheet4!$D$2:$D$8408,Sheet3!DG$3,Sheet4!$A$2:$A$8408,Sheet3!$B$1,Sheet4!$B$2:$B$8408,Sheet3!$A$3)<3,0,SUMIFS(Sheet4!$DN$2:$DN$8408,Sheet4!$C$2:$C$8408,Sheet3!$B15,Sheet4!$D$2:$D$8408,Sheet3!DG$3,Sheet4!$A$2:$A$8408,Sheet3!$B$1,Sheet4!$B$2:$B$8408,Sheet3!$A$3))","v":61},{"$f":"+IF(SUMIFS(Sheet4!$DN$2:$DN$8408,Sheet4!$C$2:$C$8408,Sheet3!$B15,Sheet4!$D$2:$D$8408,Sheet3!DH$3,Sheet4!$A$2:$A$8408,Sheet3!$B$1,Sheet4!$B$2:$B$8408,Sheet3!$A$3)<3,0,SUMIFS(Sheet4!$DN$2:$DN$8408,Sheet4!$C$2:$C$8408,Sheet3!$B15,Sheet4!$D$2:$D$8408,Sheet3!DH$3,Sheet4!$A$2:$A$8408,Sheet3!$B$1,Sheet4!$B$2:$B$8408,Sheet3!$A$3))","v":106},{"$f":"+IF(SUMIFS(Sheet4!$DN$2:$DN$8408,Sheet4!$C$2:$C$8408,Sheet3!$B15,Sheet4!$D$2:$D$8408,Sheet3!DI$3,Sheet4!$A$2:$A$8408,Sheet3!$B$1,Sheet4!$B$2:$B$8408,Sheet3!$A$3)<3,0,SUMIFS(Sheet4!$DN$2:$DN$8408,Sheet4!$C$2:$C$8408,Sheet3!$B15,Sheet4!$D$2:$D$8408,Sheet3!DI$3,Sheet4!$A$2:$A$8408,Sheet3!$B$1,Sheet4!$B$2:$B$8408,Sheet3!$A$3))","v":777},{"$f":"+IF(SUMIFS(Sheet4!$DN$2:$DN$8408,Sheet4!$C$2:$C$8408,Sheet3!$B15,Sheet4!$D$2:$D$8408,Sheet3!DJ$3,Sheet4!$A$2:$A$8408,Sheet3!$B$1,Sheet4!$B$2:$B$8408,Sheet3!$A$3)<3,0,SUMIFS(Sheet4!$DN$2:$DN$8408,Sheet4!$C$2:$C$8408,Sheet3!$B15,Sheet4!$D$2:$D$8408,Sheet3!DJ$3,Sheet4!$A$2:$A$8408,Sheet3!$B$1,Sheet4!$B$2:$B$8408,Sheet3!$A$3))","v":1074},{"$f":"+IF(SUMIFS(Sheet4!$DN$2:$DN$8408,Sheet4!$C$2:$C$8408,Sheet3!$B15,Sheet4!$D$2:$D$8408,Sheet3!DK$3,Sheet4!$A$2:$A$8408,Sheet3!$B$1,Sheet4!$B$2:$B$8408,Sheet3!$A$3)<3,0,SUMIFS(Sheet4!$DN$2:$DN$8408,Sheet4!$C$2:$C$8408,Sheet3!$B15,Sheet4!$D$2:$D$8408,Sheet3!DK$3,Sheet4!$A$2:$A$8408,Sheet3!$B$1,Sheet4!$B$2:$B$8408,Sheet3!$A$3))","v":310},{"$f":"+IF(SUMIFS(Sheet4!$DN$2:$DN$8408,Sheet4!$C$2:$C$8408,Sheet3!$B15,Sheet4!$D$2:$D$8408,Sheet3!DL$3,Sheet4!$A$2:$A$8408,Sheet3!$B$1,Sheet4!$B$2:$B$8408,Sheet3!$A$3)<3,0,SUMIFS(Sheet4!$DN$2:$DN$8408,Sheet4!$C$2:$C$8408,Sheet3!$B15,Sheet4!$D$2:$D$8408,Sheet3!DL$3,Sheet4!$A$2:$A$8408,Sheet3!$B$1,Sheet4!$B$2:$B$8408,Sheet3!$A$3))","v":0},{"$f":"+IF(SUMIFS(Sheet4!$DN$2:$DN$8408,Sheet4!$C$2:$C$8408,Sheet3!$B15,Sheet4!$D$2:$D$8408,Sheet3!DM$3,Sheet4!$A$2:$A$8408,Sheet3!$B$1,Sheet4!$B$2:$B$8408,Sheet3!$A$3)<3,0,SUMIFS(Sheet4!$DN$2:$DN$8408,Sheet4!$C$2:$C$8408,Sheet3!$B15,Sheet4!$D$2:$D$8408,Sheet3!DM$3,Sheet4!$A$2:$A$8408,Sheet3!$B$1,Sheet4!$B$2:$B$8408,Sheet3!$A$3))","v":6},{"$f":"+IF(SUMIFS(Sheet4!$DN$2:$DN$8408,Sheet4!$C$2:$C$8408,Sheet3!$B15,Sheet4!$E$2:$E$8408,Sheet3!DN$4,Sheet4!$A$2:$A$8408,Sheet3!$B$1,Sheet4!$B$2:$B$8408,Sheet3!$A$3)<3,0,SUMIFS(Sheet4!$DN$2:$DN$8408,Sheet4!$C$2:$C$8408,Sheet3!$B15,Sheet4!$E$2:$E$8408,Sheet3!DN$4,Sheet4!$A$2:$A$8408,Sheet3!$B$1,Sheet4!$B$2:$B$8408,Sheet3!$A$3))","v":13963},{"$f":"+IF(SUMIFS(Sheet4!$DN$2:$DN$8408,Sheet4!$C$2:$C$8408,Sheet3!$B15,Sheet4!$E$2:$E$8408,Sheet3!DO$4,Sheet4!$A$2:$A$8408,Sheet3!$B$1,Sheet4!$B$2:$B$8408,Sheet3!$A$3)<3,0,SUMIFS(Sheet4!$DN$2:$DN$8408,Sheet4!$C$2:$C$8408,Sheet3!$B15,Sheet4!$E$2:$E$8408,Sheet3!DO$4,Sheet4!$A$2:$A$8408,Sheet3!$B$1,Sheet4!$B$2:$B$8408,Sheet3!$A$3))","v":9282},{"$f":"+IF(SUMIFS(Sheet4!$DN$2:$DN$8408,Sheet4!$C$2:$C$8408,Sheet3!$B15,Sheet4!$E$2:$E$8408,Sheet3!DP$4,Sheet4!$A$2:$A$8408,Sheet3!$B$1,Sheet4!$B$2:$B$8408,Sheet3!$A$3)<3,0,SUMIFS(Sheet4!$DN$2:$DN$8408,Sheet4!$C$2:$C$8408,Sheet3!$B15,Sheet4!$E$2:$E$8408,Sheet3!DP$4,Sheet4!$A$2:$A$8408,Sheet3!$B$1,Sheet4!$B$2:$B$8408,Sheet3!$A$3))","v":819},{"$f":"+IF(SUMIFS(Sheet4!$DN$2:$DN$8408,Sheet4!$C$2:$C$8408,Sheet3!$B15,Sheet4!$E$2:$E$8408,Sheet3!DQ$4,Sheet4!$A$2:$A$8408,Sheet3!$B$1,Sheet4!$B$2:$B$8408,Sheet3!$A$3)<3,0,SUMIFS(Sheet4!$DN$2:$DN$8408,Sheet4!$C$2:$C$8408,Sheet3!$B15,Sheet4!$E$2:$E$8408,Sheet3!DQ$4,Sheet4!$A$2:$A$8408,Sheet3!$B$1,Sheet4!$B$2:$B$8408,Sheet3!$A$3))","v":62},{"$f":"+IF(SUMIFS(Sheet4!$DN$2:$DN$8408,Sheet4!$C$2:$C$8408,Sheet3!$B15,Sheet4!$E$2:$E$8408,Sheet3!DR$4,Sheet4!$A$2:$A$8408,Sheet3!$B$1,Sheet4!$B$2:$B$8408,Sheet3!$A$3)<3,0,SUMIFS(Sheet4!$DN$2:$DN$8408,Sheet4!$C$2:$C$8408,Sheet3!$B15,Sheet4!$E$2:$E$8408,Sheet3!DR$4,Sheet4!$A$2:$A$8408,Sheet3!$B$1,Sheet4!$B$2:$B$8408,Sheet3!$A$3))","v":3}]
[3,"16B","Oeste",{"$f":"+SUMIFS(Sheet4!$DM$2:$DM$8408,Sheet4!$C$2:$C$8408,Sheet3!$B16,Sheet4!$D$2:$D$8408,Sheet3!D$3,Sheet4!$E$2:$E$8408,Sheet3!D$4,Sheet4!$A$2:$A$8408,Sheet3!$B$1,Sheet4!$B$2:$B$8408,Sheet3!$A$3)","v":0},{"$f":"+SUMIFS(Sheet4!$DM$2:$DM$8408,Sheet4!$C$2:$C$8408,Sheet3!$B16,Sheet4!$D$2:$D$8408,Sheet3!E$3,Sheet4!$E$2:$E$8408,Sheet3!E$4,Sheet4!$A$2:$A$8408,Sheet3!$B$1,Sheet4!$B$2:$B$8408,Sheet3!$A$3)","v":0},{"$f":"+SUMIFS(Sheet4!$DM$2:$DM$8408,Sheet4!$C$2:$C$8408,Sheet3!$B16,Sheet4!$D$2:$D$8408,Sheet3!F$3,Sheet4!$E$2:$E$8408,Sheet3!F$4,Sheet4!$A$2:$A$8408,Sheet3!$B$1,Sheet4!$B$2:$B$8408,Sheet3!$A$3)","v":6},{"$f":"+SUMIFS(Sheet4!$DM$2:$DM$8408,Sheet4!$C$2:$C$8408,Sheet3!$B16,Sheet4!$D$2:$D$8408,Sheet3!G$3,Sheet4!$E$2:$E$8408,Sheet3!G$4,Sheet4!$A$2:$A$8408,Sheet3!$B$1,Sheet4!$B$2:$B$8408,Sheet3!$A$3)","v":0},{"$f":"+SUMIFS(Sheet4!$DM$2:$DM$8408,Sheet4!$C$2:$C$8408,Sheet3!$B16,Sheet4!$D$2:$D$8408,Sheet3!H$3,Sheet4!$E$2:$E$8408,Sheet3!H$4,Sheet4!$A$2:$A$8408,Sheet3!$B$1,Sheet4!$B$2:$B$8408,Sheet3!$A$3)","v":15},{"$f":"+SUMIFS(Sheet4!$DM$2:$DM$8408,Sheet4!$C$2:$C$8408,Sheet3!$B16,Sheet4!$D$2:$D$8408,Sheet3!I$3,Sheet4!$E$2:$E$8408,Sheet3!I$4,Sheet4!$A$2:$A$8408,Sheet3!$B$1,Sheet4!$B$2:$B$8408,Sheet3!$A$3)","v":0},{"$f":"+SUMIFS(Sheet4!$DM$2:$DM$8408,Sheet4!$C$2:$C$8408,Sheet3!$B16,Sheet4!$D$2:$D$8408,Sheet3!J$3,Sheet4!$E$2:$E$8408,Sheet3!J$4,Sheet4!$A$2:$A$8408,Sheet3!$B$1,Sheet4!$B$2:$B$8408,Sheet3!$A$3)","v":0},{"$f":"+SUMIFS(Sheet4!$DM$2:$DM$8408,Sheet4!$C$2:$C$8408,Sheet3!$B16,Sheet4!$D$2:$D$8408,Sheet3!K$3,Sheet4!$E$2:$E$8408,Sheet3!K$4,Sheet4!$A$2:$A$8408,Sheet3!$B$1,Sheet4!$B$2:$B$8408,Sheet3!$A$3)","v":0},{"$f":"+SUMIFS(Sheet4!$DM$2:$DM$8408,Sheet4!$C$2:$C$8408,Sheet3!$B16,Sheet4!$D$2:$D$8408,Sheet3!L$3,Sheet4!$E$2:$E$8408,Sheet3!L$4,Sheet4!$A$2:$A$8408,Sheet3!$B$1,Sheet4!$B$2:$B$8408,Sheet3!$A$3)","v":0},{"$f":"+SUMIFS(Sheet4!$DM$2:$DM$8408,Sheet4!$C$2:$C$8408,Sheet3!$B16,Sheet4!$D$2:$D$8408,Sheet3!M$3,Sheet4!$E$2:$E$8408,Sheet3!M$4,Sheet4!$A$2:$A$8408,Sheet3!$B$1,Sheet4!$B$2:$B$8408,Sheet3!$A$3)","v":0},{"$f":"+SUMIFS(Sheet4!$DM$2:$DM$8408,Sheet4!$C$2:$C$8408,Sheet3!$B16,Sheet4!$D$2:$D$8408,Sheet3!N$3,Sheet4!$E$2:$E$8408,Sheet3!N$4,Sheet4!$A$2:$A$8408,Sheet3!$B$1,Sheet4!$B$2:$B$8408,Sheet3!$A$3)","v":37},{"$f":"+SUMIFS(Sheet4!$DM$2:$DM$8408,Sheet4!$C$2:$C$8408,Sheet3!$B16,Sheet4!$D$2:$D$8408,Sheet3!O$3,Sheet4!$E$2:$E$8408,Sheet3!O$4,Sheet4!$A$2:$A$8408,Sheet3!$B$1,Sheet4!$B$2:$B$8408,Sheet3!$A$3)","v":25},{"$f":"+SUMIFS(Sheet4!$DM$2:$DM$8408,Sheet4!$C$2:$C$8408,Sheet3!$B16,Sheet4!$D$2:$D$8408,Sheet3!P$3,Sheet4!$E$2:$E$8408,Sheet3!P$4,Sheet4!$A$2:$A$8408,Sheet3!$B$1,Sheet4!$B$2:$B$8408,Sheet3!$A$3)","v":5},{"$f":"+SUMIFS(Sheet4!$DM$2:$DM$8408,Sheet4!$C$2:$C$8408,Sheet3!$B16,Sheet4!$D$2:$D$8408,Sheet3!Q$3,Sheet4!$E$2:$E$8408,Sheet3!Q$4,Sheet4!$A$2:$A$8408,Sheet3!$B$1,Sheet4!$B$2:$B$8408,Sheet3!$A$3)","v":0},{"$f":"+SUMIFS(Sheet4!$DM$2:$DM$8408,Sheet4!$C$2:$C$8408,Sheet3!$B16,Sheet4!$D$2:$D$8408,Sheet3!R$3,Sheet4!$E$2:$E$8408,Sheet3!R$4,Sheet4!$A$2:$A$8408,Sheet3!$B$1,Sheet4!$B$2:$B$8408,Sheet3!$A$3)","v":0},{"$f":"+SUMIFS(Sheet4!$DM$2:$DM$8408,Sheet4!$C$2:$C$8408,Sheet3!$B16,Sheet4!$D$2:$D$8408,Sheet3!S$3,Sheet4!$E$2:$E$8408,Sheet3!S$4,Sheet4!$A$2:$A$8408,Sheet3!$B$1,Sheet4!$B$2:$B$8408,Sheet3!$A$3)","v":0},{"$f":"+SUMIFS(Sheet4!$DM$2:$DM$8408,Sheet4!$C$2:$C$8408,Sheet3!$B16,Sheet4!$D$2:$D$8408,Sheet3!T$3,Sheet4!$E$2:$E$8408,Sheet3!T$4,Sheet4!$A$2:$A$8408,Sheet3!$B$1,Sheet4!$B$2:$B$8408,Sheet3!$A$3)","v":0},{"$f":"+SUMIFS(Sheet4!$DM$2:$DM$8408,Sheet4!$C$2:$C$8408,Sheet3!$B16,Sheet4!$D$2:$D$8408,Sheet3!U$3,Sheet4!$E$2:$E$8408,Sheet3!U$4,Sheet4!$A$2:$A$8408,Sheet3!$B$1,Sheet4!$B$2:$B$8408,Sheet3!$A$3)","v":0},{"$f":"+SUMIFS(Sheet4!$DM$2:$DM$8408,Sheet4!$C$2:$C$8408,Sheet3!$B16,Sheet4!$D$2:$D$8408,Sheet3!V$3,Sheet4!$E$2:$E$8408,Sheet3!V$4,Sheet4!$A$2:$A$8408,Sheet3!$B$1,Sheet4!$B$2:$B$8408,Sheet3!$A$3)","v":0},{"$f":"+SUMIFS(Sheet4!$DM$2:$DM$8408,Sheet4!$C$2:$C$8408,Sheet3!$B16,Sheet4!$D$2:$D$8408,Sheet3!W$3,Sheet4!$E$2:$E$8408,Sheet3!W$4,Sheet4!$A$2:$A$8408,Sheet3!$B$1,Sheet4!$B$2:$B$8408,Sheet3!$A$3)","v":0},{"$f":"+SUMIFS(Sheet4!$DM$2:$DM$8408,Sheet4!$C$2:$C$8408,Sheet3!$B16,Sheet4!$D$2:$D$8408,Sheet3!X$3,Sheet4!$E$2:$E$8408,Sheet3!X$4,Sheet4!$A$2:$A$8408,Sheet3!$B$1,Sheet4!$B$2:$B$8408,Sheet3!$A$3)","v":0},{"$f":"+SUMIFS(Sheet4!$DM$2:$DM$8408,Sheet4!$C$2:$C$8408,Sheet3!$B16,Sheet4!$D$2:$D$8408,Sheet3!Y$3,Sheet4!$E$2:$E$8408,Sheet3!Y$4,Sheet4!$A$2:$A$8408,Sheet3!$B$1,Sheet4!$B$2:$B$8408,Sheet3!$A$3)","v":0},{"$f":"+SUMIFS(Sheet4!$DM$2:$DM$8408,Sheet4!$C$2:$C$8408,Sheet3!$B16,Sheet4!$D$2:$D$8408,Sheet3!Z$3,Sheet4!$E$2:$E$8408,Sheet3!Z$4,Sheet4!$A$2:$A$8408,Sheet3!$B$1,Sheet4!$B$2:$B$8408,Sheet3!$A$3)","v":0},{"$f":"+SUMIFS(Sheet4!$DM$2:$DM$8408,Sheet4!$C$2:$C$8408,Sheet3!$B16,Sheet4!$D$2:$D$8408,Sheet3!AA$3,Sheet4!$E$2:$E$8408,Sheet3!AA$4,Sheet4!$A$2:$A$8408,Sheet3!$B$1,Sheet4!$B$2:$B$8408,Sheet3!$A$3)","v":0},{"$f":"+SUMIFS(Sheet4!$DM$2:$DM$8408,Sheet4!$C$2:$C$8408,Sheet3!$B16,Sheet4!$D$2:$D$8408,Sheet3!AB$3,Sheet4!$E$2:$E$8408,Sheet3!AB$4,Sheet4!$A$2:$A$8408,Sheet3!$B$1,Sheet4!$B$2:$B$8408,Sheet3!$A$3)","v":0},{"$f":"+SUMIFS(Sheet4!$DM$2:$DM$8408,Sheet4!$C$2:$C$8408,Sheet3!$B16,Sheet4!$D$2:$D$8408,Sheet3!AC$3,Sheet4!$E$2:$E$8408,Sheet3!AC$4,Sheet4!$A$2:$A$8408,Sheet3!$B$1,Sheet4!$B$2:$B$8408,Sheet3!$A$3)","v":12},{"$f":"+SUMIFS(Sheet4!$DM$2:$DM$8408,Sheet4!$C$2:$C$8408,Sheet3!$B16,Sheet4!$D$2:$D$8408,Sheet3!AD$3,Sheet4!$E$2:$E$8408,Sheet3!AD$4,Sheet4!$A$2:$A$8408,Sheet3!$B$1,Sheet4!$B$2:$B$8408,Sheet3!$A$3)","v":83},{"$f":"+SUMIFS(Sheet4!$DM$2:$DM$8408,Sheet4!$C$2:$C$8408,Sheet3!$B16,Sheet4!$D$2:$D$8408,Sheet3!AE$3,Sheet4!$E$2:$E$8408,Sheet3!AE$4,Sheet4!$A$2:$A$8408,Sheet3!$B$1,Sheet4!$B$2:$B$8408,Sheet3!$A$3)","v":80},{"$f":"+SUMIFS(Sheet4!$DM$2:$DM$8408,Sheet4!$C$2:$C$8408,Sheet3!$B16,Sheet4!$D$2:$D$8408,Sheet3!AF$3,Sheet4!$E$2:$E$8408,Sheet3!AF$4,Sheet4!$A$2:$A$8408,Sheet3!$B$1,Sheet4!$B$2:$B$8408,Sheet3!$A$3)","v":24},{"$f":"+SUMIFS(Sheet4!$DM$2:$DM$8408,Sheet4!$C$2:$C$8408,Sheet3!$B16,Sheet4!$D$2:$D$8408,Sheet3!AG$3,Sheet4!$E$2:$E$8408,Sheet3!AG$4,Sheet4!$A$2:$A$8408,Sheet3!$B$1,Sheet4!$B$2:$B$8408,Sheet3!$A$3)","v":0},{"$f":"+SUMIFS(Sheet4!$DM$2:$DM$8408,Sheet4!$C$2:$C$8408,Sheet3!$B16,Sheet4!$D$2:$D$8408,Sheet3!AH$3,Sheet4!$E$2:$E$8408,Sheet3!AH$4,Sheet4!$A$2:$A$8408,Sheet3!$B$1,Sheet4!$B$2:$B$8408,Sheet3!$A$3)","v":16},{"$f":"+SUMIFS(Sheet4!$DM$2:$DM$8408,Sheet4!$C$2:$C$8408,Sheet3!$B16,Sheet4!$D$2:$D$8408,Sheet3!AI$3,Sheet4!$E$2:$E$8408,Sheet3!AI$4,Sheet4!$A$2:$A$8408,Sheet3!$B$1,Sheet4!$B$2:$B$8408,Sheet3!$A$3)","v":94},{"$f":"+SUMIFS(Sheet4!$DM$2:$DM$8408,Sheet4!$C$2:$C$8408,Sheet3!$B16,Sheet4!$D$2:$D$8408,Sheet3!AJ$3,Sheet4!$E$2:$E$8408,Sheet3!AJ$4,Sheet4!$A$2:$A$8408,Sheet3!$B$1,Sheet4!$B$2:$B$8408,Sheet3!$A$3)","v":104},{"$f":"+SUMIFS(Sheet4!$DM$2:$DM$8408,Sheet4!$C$2:$C$8408,Sheet3!$B16,Sheet4!$D$2:$D$8408,Sheet3!AK$3,Sheet4!$E$2:$E$8408,Sheet3!AK$4,Sheet4!$A$2:$A$8408,Sheet3!$B$1,Sheet4!$B$2:$B$8408,Sheet3!$A$3)","v":37},{"$f":"+SUMIFS(Sheet4!$DM$2:$DM$8408,Sheet4!$C$2:$C$8408,Sheet3!$B16,Sheet4!$D$2:$D$8408,Sheet3!AL$3,Sheet4!$E$2:$E$8408,Sheet3!AL$4,Sheet4!$A$2:$A$8408,Sheet3!$B$1,Sheet4!$B$2:$B$8408,Sheet3!$A$3)","v":0},{"$f":"+SUMIFS(Sheet4!$DM$2:$DM$8408,Sheet4!$C$2:$C$8408,Sheet3!$B16,Sheet4!$D$2:$D$8408,Sheet3!AM$3,Sheet4!$E$2:$E$8408,Sheet3!AM$4,Sheet4!$A$2:$A$8408,Sheet3!$B$1,Sheet4!$B$2:$B$8408,Sheet3!$A$3)","v":16},{"$f":"+SUMIFS(Sheet4!$DM$2:$DM$8408,Sheet4!$C$2:$C$8408,Sheet3!$B16,Sheet4!$D$2:$D$8408,Sheet3!AN$3,Sheet4!$E$2:$E$8408,Sheet3!AN$4,Sheet4!$A$2:$A$8408,Sheet3!$B$1,Sheet4!$B$2:$B$8408,Sheet3!$A$3)","v":115},{"$f":"+SUMIFS(Sheet4!$DM$2:$DM$8408,Sheet4!$C$2:$C$8408,Sheet3!$B16,Sheet4!$D$2:$D$8408,Sheet3!AO$3,Sheet4!$E$2:$E$8408,Sheet3!AO$4,Sheet4!$A$2:$A$8408,Sheet3!$B$1,Sheet4!$B$2:$B$8408,Sheet3!$A$3)","v":286},{"$f":"+SUMIFS(Sheet4!$DM$2:$DM$8408,Sheet4!$C$2:$C$8408,Sheet3!$B16,Sheet4!$D$2:$D$8408,Sheet3!AP$3,Sheet4!$E$2:$E$8408,Sheet3!AP$4,Sheet4!$A$2:$A$8408,Sheet3!$B$1,Sheet4!$B$2:$B$8408,Sheet3!$A$3)","v":224},{"$f":"+SUMIFS(Sheet4!$DM$2:$DM$8408,Sheet4!$C$2:$C$8408,Sheet3!$B16,Sheet4!$D$2:$D$8408,Sheet3!AQ$3,Sheet4!$E$2:$E$8408,Sheet3!AQ$4,Sheet4!$A$2:$A$8408,Sheet3!$B$1,Sheet4!$B$2:$B$8408,Sheet3!$A$3)","v":19},{"$f":"+SUMIFS(Sheet4!$DM$2:$DM$8408,Sheet4!$C$2:$C$8408,Sheet3!$B16,Sheet4!$D$2:$D$8408,Sheet3!AR$3,Sheet4!$E$2:$E$8408,Sheet3!AR$4,Sheet4!$A$2:$A$8408,Sheet3!$B$1,Sheet4!$B$2:$B$8408,Sheet3!$A$3)","v":0},{"$f":"+SUMIFS(Sheet4!$DM$2:$DM$8408,Sheet4!$C$2:$C$8408,Sheet3!$B16,Sheet4!$D$2:$D$8408,Sheet3!AS$3,Sheet4!$E$2:$E$8408,Sheet3!AS$4,Sheet4!$A$2:$A$8408,Sheet3!$B$1,Sheet4!$B$2:$B$8408,Sheet3!$A$3)","v":0},{"$f":"+SUMIFS(Sheet4!$DM$2:$DM$8408,Sheet4!$C$2:$C$8408,Sheet3!$B16,Sheet4!$D$2:$D$8408,Sheet3!AT$3,Sheet4!$E$2:$E$8408,Sheet3!AT$4,Sheet4!$A$2:$A$8408,Sheet3!$B$1,Sheet4!$B$2:$B$8408,Sheet3!$A$3)","v":0},{"$f":"+SUMIFS(Sheet4!$DM$2:$DM$8408,Sheet4!$C$2:$C$8408,Sheet3!$B16,Sheet4!$D$2:$D$8408,Sheet3!AU$3,Sheet4!$E$2:$E$8408,Sheet3!AU$4,Sheet4!$A$2:$A$8408,Sheet3!$B$1,Sheet4!$B$2:$B$8408,Sheet3!$A$3)","v":0},{"$f":"+SUMIFS(Sheet4!$DM$2:$DM$8408,Sheet4!$C$2:$C$8408,Sheet3!$B16,Sheet4!$D$2:$D$8408,Sheet3!AV$3,Sheet4!$E$2:$E$8408,Sheet3!AV$4,Sheet4!$A$2:$A$8408,Sheet3!$B$1,Sheet4!$B$2:$B$8408,Sheet3!$A$3)","v":0},{"$f":"+SUMIFS(Sheet4!$DM$2:$DM$8408,Sheet4!$C$2:$C$8408,Sheet3!$B16,Sheet4!$D$2:$D$8408,Sheet3!AW$3,Sheet4!$E$2:$E$8408,Sheet3!AW$4,Sheet4!$A$2:$A$8408,Sheet3!$B$1,Sheet4!$B$2:$B$8408,Sheet3!$A$3)","v":75},{"$f":"+SUMIFS(Sheet4!$DM$2:$DM$8408,Sheet4!$C$2:$C$8408,Sheet3!$B16,Sheet4!$D$2:$D$8408,Sheet3!AX$3,Sheet4!$E$2:$E$8408,Sheet3!AX$4,Sheet4!$A$2:$A$8408,Sheet3!$B$1,Sheet4!$B$2:$B$8408,Sheet3!$A$3)","v":115},{"$f":"+SUMIFS(Sheet4!$DM$2:$DM$8408,Sheet4!$C$2:$C$8408,Sheet3!$B16,Sheet4!$D$2:$D$8408,Sheet3!AY$3,Sheet4!$E$2:$E$8408,Sheet3!AY$4,Sheet4!$A$2:$A$8408,Sheet3!$B$1,Sheet4!$B$2:$B$8408,Sheet3!$A$3)","v":53},{"$f":"+SUMIFS(Sheet4!$DM$2:$DM$8408,Sheet4!$C$2:$C$8408,Sheet3!$B16,Sheet4!$D$2:$D$8408,Sheet3!AZ$3,Sheet4!$E$2:$E$8408,Sheet3!AZ$4,Sheet4!$A$2:$A$8408,Sheet3!$B$1,Sheet4!$B$2:$B$8408,Sheet3!$A$3)","v":20},{"$f":"+SUMIFS(Sheet4!$DM$2:$DM$8408,Sheet4!$C$2:$C$8408,Sheet3!$B16,Sheet4!$D$2:$D$8408,Sheet3!BA$3,Sheet4!$E$2:$E$8408,Sheet3!BA$4,Sheet4!$A$2:$A$8408,Sheet3!$B$1,Sheet4!$B$2:$B$8408,Sheet3!$A$3)","v":0},{"$f":"+SUMIFS(Sheet4!$DM$2:$DM$8408,Sheet4!$C$2:$C$8408,Sheet3!$B16,Sheet4!$D$2:$D$8408,Sheet3!BB$3,Sheet4!$E$2:$E$8408,Sheet3!BB$4,Sheet4!$A$2:$A$8408,Sheet3!$B$1,Sheet4!$B$2:$B$8408,Sheet3!$A$3)","v":0},{"$f":"+SUMIFS(Sheet4!$DM$2:$DM$8408,Sheet4!$C$2:$C$8408,Sheet3!$B16,Sheet4!$D$2:$D$8408,Sheet3!BC$3,Sheet4!$E$2:$E$8408,Sheet3!BC$4,Sheet4!$A$2:$A$8408,Sheet3!$B$1,Sheet4!$B$2:$B$8408,Sheet3!$A$3)","v":0},{"$f":"+SUMIFS(Sheet4!$DM$2:$DM$8408,Sheet4!$C$2:$C$8408,Sheet3!$B16,Sheet4!$D$2:$D$8408,Sheet3!BD$3,Sheet4!$E$2:$E$8408,Sheet3!BD$4,Sheet4!$A$2:$A$8408,Sheet3!$B$1,Sheet4!$B$2:$B$8408,Sheet3!$A$3)","v":0},{"$f":"+SUMIFS(Sheet4!$DM$2:$DM$8408,Sheet4!$C$2:$C$8408,Sheet3!$B16,Sheet4!$D$2:$D$8408,Sheet3!BE$3,Sheet4!$E$2:$E$8408,Sheet3!BE$4,Sheet4!$A$2:$A$8408,Sheet3!$B$1,Sheet4!$B$2:$B$8408,Sheet3!$A$3)","v":0},{"$f":"+SUMIFS(Sheet4!$DM$2:$DM$8408,Sheet4!$C$2:$C$8408,Sheet3!$B16,Sheet4!$D$2:$D$8408,Sheet3!BF$3,Sheet4!$E$2:$E$8408,Sheet3!BF$4,Sheet4!$A$2:$A$8408,Sheet3!$B$1,Sheet4!$B$2:$B$8408,Sheet3!$A$3)","v":4},{"$f":"+SUMIFS(Sheet4!$DM$2:$DM$8408,Sheet4!$C$2:$C$8408,Sheet3!$B16,Sheet4!$D$2:$D$8408,Sheet3!BG$3,Sheet4!$E$2:$E$8408,Sheet3!BG$4,Sheet4!$A$2:$A$8408,Sheet3!$B$1,Sheet4!$B$2:$B$8408,Sheet3!$A$3)","v":3},{"$f":"+SUMIFS(Sheet4!$DM$2:$DM$8408,Sheet4!$C$2:$C$8408,Sheet3!$B16,Sheet4!$D$2:$D$8408,Sheet3!BH$3,Sheet4!$E$2:$E$8408,Sheet3!BH$4,Sheet4!$A$2:$A$8408,Sheet3!$B$1,Sheet4!$B$2:$B$8408,Sheet3!$A$3)","v":5},{"$f":"+SUMIFS(Sheet4!$DM$2:$DM$8408,Sheet4!$C$2:$C$8408,Sheet3!$B16,Sheet4!$D$2:$D$8408,Sheet3!BI$3,Sheet4!$E$2:$E$8408,Sheet3!BI$4,Sheet4!$A$2:$A$8408,Sheet3!$B$1,Sheet4!$B$2:$B$8408,Sheet3!$A$3)","v":4},{"$f":"+SUMIFS(Sheet4!$DM$2:$DM$8408,Sheet4!$C$2:$C$8408,Sheet3!$B16,Sheet4!$D$2:$D$8408,Sheet3!BJ$3,Sheet4!$E$2:$E$8408,Sheet3!BJ$4,Sheet4!$A$2:$A$8408,Sheet3!$B$1,Sheet4!$B$2:$B$8408,Sheet3!$A$3)","v":0},{"$f":"+SUMIFS(Sheet4!$DM$2:$DM$8408,Sheet4!$C$2:$C$8408,Sheet3!$B16,Sheet4!$D$2:$D$8408,Sheet3!BK$3,Sheet4!$E$2:$E$8408,Sheet3!BK$4,Sheet4!$A$2:$A$8408,Sheet3!$B$1,Sheet4!$B$2:$B$8408,Sheet3!$A$3)","v":0},{"$f":"+SUMIFS(Sheet4!$DM$2:$DM$8408,Sheet4!$C$2:$C$8408,Sheet3!$B16,Sheet4!$D$2:$D$8408,Sheet3!BL$3,Sheet4!$E$2:$E$8408,Sheet3!BL$4,Sheet4!$A$2:$A$8408,Sheet3!$B$1,Sheet4!$B$2:$B$8408,Sheet3!$A$3)","v":23},{"$f":"+SUMIFS(Sheet4!$DM$2:$DM$8408,Sheet4!$C$2:$C$8408,Sheet3!$B16,Sheet4!$D$2:$D$8408,Sheet3!BM$3,Sheet4!$E$2:$E$8408,Sheet3!BM$4,Sheet4!$A$2:$A$8408,Sheet3!$B$1,Sheet4!$B$2:$B$8408,Sheet3!$A$3)","v":57},{"$f":"+SUMIFS(Sheet4!$DM$2:$DM$8408,Sheet4!$C$2:$C$8408,Sheet3!$B16,Sheet4!$D$2:$D$8408,Sheet3!BN$3,Sheet4!$E$2:$E$8408,Sheet3!BN$4,Sheet4!$A$2:$A$8408,Sheet3!$B$1,Sheet4!$B$2:$B$8408,Sheet3!$A$3)","v":26},{"$f":"+SUMIFS(Sheet4!$DM$2:$DM$8408,Sheet4!$C$2:$C$8408,Sheet3!$B16,Sheet4!$D$2:$D$8408,Sheet3!BO$3,Sheet4!$E$2:$E$8408,Sheet3!BO$4,Sheet4!$A$2:$A$8408,Sheet3!$B$1,Sheet4!$B$2:$B$8408,Sheet3!$A$3)","v":15},{"$f":"+SUMIFS(Sheet4!$DM$2:$DM$8408,Sheet4!$C$2:$C$8408,Sheet3!$B16,Sheet4!$D$2:$D$8408,Sheet3!BP$3,Sheet4!$E$2:$E$8408,Sheet3!BP$4,Sheet4!$A$2:$A$8408,Sheet3!$B$1,Sheet4!$B$2:$B$8408,Sheet3!$A$3)","v":0},{"$f":"+SUMIFS(Sheet4!$DM$2:$DM$8408,Sheet4!$C$2:$C$8408,Sheet3!$B16,Sheet4!$D$2:$D$8408,Sheet3!BQ$3,Sheet4!$E$2:$E$8408,Sheet3!BQ$4,Sheet4!$A$2:$A$8408,Sheet3!$B$1,Sheet4!$B$2:$B$8408,Sheet3!$A$3)","v":0},{"$f":"+SUMIFS(Sheet4!$DM$2:$DM$8408,Sheet4!$C$2:$C$8408,Sheet3!$B16,Sheet4!$D$2:$D$8408,Sheet3!BR$3,Sheet4!$E$2:$E$8408,Sheet3!BR$4,Sheet4!$A$2:$A$8408,Sheet3!$B$1,Sheet4!$B$2:$B$8408,Sheet3!$A$3)","v":5},{"$f":"+SUMIFS(Sheet4!$DM$2:$DM$8408,Sheet4!$C$2:$C$8408,Sheet3!$B16,Sheet4!$D$2:$D$8408,Sheet3!BS$3,Sheet4!$E$2:$E$8408,Sheet3!BS$4,Sheet4!$A$2:$A$8408,Sheet3!$B$1,Sheet4!$B$2:$B$8408,Sheet3!$A$3)","v":0},{"$f":"+SUMIFS(Sheet4!$DM$2:$DM$8408,Sheet4!$C$2:$C$8408,Sheet3!$B16,Sheet4!$D$2:$D$8408,Sheet3!BT$3,Sheet4!$E$2:$E$8408,Sheet3!BT$4,Sheet4!$A$2:$A$8408,Sheet3!$B$1,Sheet4!$B$2:$B$8408,Sheet3!$A$3)","v":0},{"$f":"+SUMIFS(Sheet4!$DM$2:$DM$8408,Sheet4!$C$2:$C$8408,Sheet3!$B16,Sheet4!$D$2:$D$8408,Sheet3!BU$3,Sheet4!$E$2:$E$8408,Sheet3!BU$4,Sheet4!$A$2:$A$8408,Sheet3!$B$1,Sheet4!$B$2:$B$8408,Sheet3!$A$3)","v":0},{"$f":"+SUMIFS(Sheet4!$DM$2:$DM$8408,Sheet4!$C$2:$C$8408,Sheet3!$B16,Sheet4!$D$2:$D$8408,Sheet3!BV$3,Sheet4!$E$2:$E$8408,Sheet3!BV$4,Sheet4!$A$2:$A$8408,Sheet3!$B$1,Sheet4!$B$2:$B$8408,Sheet3!$A$3)","v":293},{"$f":"+SUMIFS(Sheet4!$DM$2:$DM$8408,Sheet4!$C$2:$C$8408,Sheet3!$B16,Sheet4!$D$2:$D$8408,Sheet3!BW$3,Sheet4!$E$2:$E$8408,Sheet3!BW$4,Sheet4!$A$2:$A$8408,Sheet3!$B$1,Sheet4!$B$2:$B$8408,Sheet3!$A$3)","v":132},{"$f":"+SUMIFS(Sheet4!$DM$2:$DM$8408,Sheet4!$C$2:$C$8408,Sheet3!$B16,Sheet4!$D$2:$D$8408,Sheet3!BX$3,Sheet4!$E$2:$E$8408,Sheet3!BX$4,Sheet4!$A$2:$A$8408,Sheet3!$B$1,Sheet4!$B$2:$B$8408,Sheet3!$A$3)","v":16},{"$f":"+SUMIFS(Sheet4!$DM$2:$DM$8408,Sheet4!$C$2:$C$8408,Sheet3!$B16,Sheet4!$D$2:$D$8408,Sheet3!BY$3,Sheet4!$E$2:$E$8408,Sheet3!BY$4,Sheet4!$A$2:$A$8408,Sheet3!$B$1,Sheet4!$B$2:$B$8408,Sheet3!$A$3)","v":0},{"$f":"+SUMIFS(Sheet4!$DM$2:$DM$8408,Sheet4!$C$2:$C$8408,Sheet3!$B16,Sheet4!$D$2:$D$8408,Sheet3!BZ$3,Sheet4!$E$2:$E$8408,Sheet3!BZ$4,Sheet4!$A$2:$A$8408,Sheet3!$B$1,Sheet4!$B$2:$B$8408,Sheet3!$A$3)","v":0},{"$f":"+SUMIFS(Sheet4!$DM$2:$DM$8408,Sheet4!$C$2:$C$8408,Sheet3!$B16,Sheet4!$D$2:$D$8408,Sheet3!CA$3,Sheet4!$E$2:$E$8408,Sheet3!CA$4,Sheet4!$A$2:$A$8408,Sheet3!$B$1,Sheet4!$B$2:$B$8408,Sheet3!$A$3)","v":34},{"$f":"+SUMIFS(Sheet4!$DM$2:$DM$8408,Sheet4!$C$2:$C$8408,Sheet3!$B16,Sheet4!$D$2:$D$8408,Sheet3!CB$3,Sheet4!$E$2:$E$8408,Sheet3!CB$4,Sheet4!$A$2:$A$8408,Sheet3!$B$1,Sheet4!$B$2:$B$8408,Sheet3!$A$3)","v":44},{"$f":"+SUMIFS(Sheet4!$DM$2:$DM$8408,Sheet4!$C$2:$C$8408,Sheet3!$B16,Sheet4!$D$2:$D$8408,Sheet3!CC$3,Sheet4!$E$2:$E$8408,Sheet3!CC$4,Sheet4!$A$2:$A$8408,Sheet3!$B$1,Sheet4!$B$2:$B$8408,Sheet3!$A$3)","v":11},{"$f":"+SUMIFS(Sheet4!$DM$2:$DM$8408,Sheet4!$C$2:$C$8408,Sheet3!$B16,Sheet4!$D$2:$D$8408,Sheet3!CD$3,Sheet4!$E$2:$E$8408,Sheet3!CD$4,Sheet4!$A$2:$A$8408,Sheet3!$B$1,Sheet4!$B$2:$B$8408,Sheet3!$A$3)","v":4},{"$f":"+SUMIFS(Sheet4!$DM$2:$DM$8408,Sheet4!$C$2:$C$8408,Sheet3!$B16,Sheet4!$D$2:$D$8408,Sheet3!CE$3,Sheet4!$E$2:$E$8408,Sheet3!CE$4,Sheet4!$A$2:$A$8408,Sheet3!$B$1,Sheet4!$B$2:$B$8408,Sheet3!$A$3)","v":0},{"$f":"+SUMIFS(Sheet4!$DM$2:$DM$8408,Sheet4!$C$2:$C$8408,Sheet3!$B16,Sheet4!$D$2:$D$8408,Sheet3!CF$3,Sheet4!$E$2:$E$8408,Sheet3!CF$4,Sheet4!$A$2:$A$8408,Sheet3!$B$1,Sheet4!$B$2:$B$8408,Sheet3!$A$3)","v":171},{"$f":"+SUMIFS(Sheet4!$DM$2:$DM$8408,Sheet4!$C$2:$C$8408,Sheet3!$B16,Sheet4!$D$2:$D$8408,Sheet3!CG$3,Sheet4!$E$2:$E$8408,Sheet3!CG$4,Sheet4!$A$2:$A$8408,Sheet3!$B$1,Sheet4!$B$2:$B$8408,Sheet3!$A$3)","v":43},{"$f":"+SUMIFS(Sheet4!$DM$2:$DM$8408,Sheet4!$C$2:$C$8408,Sheet3!$B16,Sheet4!$D$2:$D$8408,Sheet3!CH$3,Sheet4!$E$2:$E$8408,Sheet3!CH$4,Sheet4!$A$2:$A$8408,Sheet3!$B$1,Sheet4!$B$2:$B$8408,Sheet3!$A$3)","v":6},{"$f":"+SUMIFS(Sheet4!$DM$2:$DM$8408,Sheet4!$C$2:$C$8408,Sheet3!$B16,Sheet4!$D$2:$D$8408,Sheet3!CI$3,Sheet4!$E$2:$E$8408,Sheet3!CI$4,Sheet4!$A$2:$A$8408,Sheet3!$B$1,Sheet4!$B$2:$B$8408,Sheet3!$A$3)","v":0},{"$f":"+SUMIFS(Sheet4!$DM$2:$DM$8408,Sheet4!$C$2:$C$8408,Sheet3!$B16,Sheet4!$D$2:$D$8408,Sheet3!CJ$3,Sheet4!$E$2:$E$8408,Sheet3!CJ$4,Sheet4!$A$2:$A$8408,Sheet3!$B$1,Sheet4!$B$2:$B$8408,Sheet3!$A$3)","v":0},{"$f":"+SUMIFS(Sheet4!$DM$2:$DM$8408,Sheet4!$C$2:$C$8408,Sheet3!$B16,Sheet4!$D$2:$D$8408,Sheet3!CK$3,Sheet4!$E$2:$E$8408,Sheet3!CK$4,Sheet4!$A$2:$A$8408,Sheet3!$B$1,Sheet4!$B$2:$B$8408,Sheet3!$A$3)","v":0},{"$f":"+SUMIFS(Sheet4!$DM$2:$DM$8408,Sheet4!$C$2:$C$8408,Sheet3!$B16,Sheet4!$D$2:$D$8408,Sheet3!CL$3,Sheet4!$E$2:$E$8408,Sheet3!CL$4,Sheet4!$A$2:$A$8408,Sheet3!$B$1,Sheet4!$B$2:$B$8408,Sheet3!$A$3)","v":0},{"$f":"+SUMIFS(Sheet4!$DM$2:$DM$8408,Sheet4!$C$2:$C$8408,Sheet3!$B16,Sheet4!$D$2:$D$8408,Sheet3!CM$3,Sheet4!$E$2:$E$8408,Sheet3!CM$4,Sheet4!$A$2:$A$8408,Sheet3!$B$1,Sheet4!$B$2:$B$8408,Sheet3!$A$3)","v":0},{"$f":"+SUMIFS(Sheet4!$DM$2:$DM$8408,Sheet4!$C$2:$C$8408,Sheet3!$B16,Sheet4!$D$2:$D$8408,Sheet3!CN$3,Sheet4!$E$2:$E$8408,Sheet3!CN$4,Sheet4!$A$2:$A$8408,Sheet3!$B$1,Sheet4!$B$2:$B$8408,Sheet3!$A$3)","v":0},{"$f":"+SUMIFS(Sheet4!$DM$2:$DM$8408,Sheet4!$C$2:$C$8408,Sheet3!$B16,Sheet4!$D$2:$D$8408,Sheet3!CO$3,Sheet4!$E$2:$E$8408,Sheet3!CO$4,Sheet4!$A$2:$A$8408,Sheet3!$B$1,Sheet4!$B$2:$B$8408,Sheet3!$A$3)","v":0},{"$f":"+SUMIFS(Sheet4!$DM$2:$DM$8408,Sheet4!$C$2:$C$8408,Sheet3!$B16,Sheet4!$D$2:$D$8408,Sheet3!CP$3,Sheet4!$E$2:$E$8408,Sheet3!CP$4,Sheet4!$A$2:$A$8408,Sheet3!$B$1,Sheet4!$B$2:$B$8408,Sheet3!$A$3)","v":0},{"$f":"+SUMIFS(Sheet4!$DM$2:$DM$8408,Sheet4!$C$2:$C$8408,Sheet3!$B16,Sheet4!$D$2:$D$8408,Sheet3!CQ$3,Sheet4!$E$2:$E$8408,Sheet3!CQ$4,Sheet4!$A$2:$A$8408,Sheet3!$B$1,Sheet4!$B$2:$B$8408,Sheet3!$A$3)","v":7},{"$f":"+SUMIFS(Sheet4!$DM$2:$DM$8408,Sheet4!$C$2:$C$8408,Sheet3!$B16,Sheet4!$D$2:$D$8408,Sheet3!CR$3,Sheet4!$E$2:$E$8408,Sheet3!CR$4,Sheet4!$A$2:$A$8408,Sheet3!$B$1,Sheet4!$B$2:$B$8408,Sheet3!$A$3)","v":3},{"$f":"+SUMIFS(Sheet4!$DM$2:$DM$8408,Sheet4!$C$2:$C$8408,Sheet3!$B16,Sheet4!$D$2:$D$8408,Sheet3!CS$3,Sheet4!$E$2:$E$8408,Sheet3!CS$4,Sheet4!$A$2:$A$8408,Sheet3!$B$1,Sheet4!$B$2:$B$8408,Sheet3!$A$3)","v":0},{"$f":"+SUMIFS(Sheet4!$DM$2:$DM$8408,Sheet4!$C$2:$C$8408,Sheet3!$B16,Sheet4!$D$2:$D$8408,Sheet3!CT$3,Sheet4!$E$2:$E$8408,Sheet3!CT$4,Sheet4!$A$2:$A$8408,Sheet3!$B$1,Sheet4!$B$2:$B$8408,Sheet3!$A$3)","v":0},{"$f":"+IF(SUMIFS(Sheet4!$DN$2:$DN$8408,Sheet4!$C$2:$C$8408,Sheet3!$B16,Sheet4!$D$2:$D$8408,Sheet3!CU$3,Sheet4!$A$2:$A$8408,Sheet3!$B$1,Sheet4!$B$2:$B$8408,Sheet3!$A$3)<3,0,SUMIFS(Sheet4!$DN$2:$DN$8408,Sheet4!$C$2:$C$8408,Sheet3!$B16,Sheet4!$D$2:$D$8408,Sheet3!CU$3,Sheet4!$A$2:$A$8408,Sheet3!$B$1,Sheet4!$B$2:$B$8408,Sheet3!$A$3))","v":31},{"$f":"+IF(SUMIFS(Sheet4!$DN$2:$DN$8408,Sheet4!$C$2:$C$8408,Sheet3!$B16,Sheet4!$D$2:$D$8408,Sheet3!CV$3,Sheet4!$A$2:$A$8408,Sheet3!$B$1,Sheet4!$B$2:$B$8408,Sheet3!$A$3)<3,0,SUMIFS(Sheet4!$DN$2:$DN$8408,Sheet4!$C$2:$C$8408,Sheet3!$B16,Sheet4!$D$2:$D$8408,Sheet3!CV$3,Sheet4!$A$2:$A$8408,Sheet3!$B$1,Sheet4!$B$2:$B$8408,Sheet3!$A$3))","v":8},{"$f":"+IF(SUMIFS(Sheet4!$DN$2:$DN$8408,Sheet4!$C$2:$C$8408,Sheet3!$B16,Sheet4!$D$2:$D$8408,Sheet3!CW$3,Sheet4!$A$2:$A$8408,Sheet3!$B$1,Sheet4!$B$2:$B$8408,Sheet3!$A$3)<3,0,SUMIFS(Sheet4!$DN$2:$DN$8408,Sheet4!$C$2:$C$8408,Sheet3!$B16,Sheet4!$D$2:$D$8408,Sheet3!CW$3,Sheet4!$A$2:$A$8408,Sheet3!$B$1,Sheet4!$B$2:$B$8408,Sheet3!$A$3))","v":76},{"$f":"+IF(SUMIFS(Sheet4!$DN$2:$DN$8408,Sheet4!$C$2:$C$8408,Sheet3!$B16,Sheet4!$D$2:$D$8408,Sheet3!CX$3,Sheet4!$A$2:$A$8408,Sheet3!$B$1,Sheet4!$B$2:$B$8408,Sheet3!$A$3)<3,0,SUMIFS(Sheet4!$DN$2:$DN$8408,Sheet4!$C$2:$C$8408,Sheet3!$B16,Sheet4!$D$2:$D$8408,Sheet3!CX$3,Sheet4!$A$2:$A$8408,Sheet3!$B$1,Sheet4!$B$2:$B$8408,Sheet3!$A$3))","v":0},{"$f":"+IF(SUMIFS(Sheet4!$DN$2:$DN$8408,Sheet4!$C$2:$C$8408,Sheet3!$B16,Sheet4!$D$2:$D$8408,Sheet3!CY$3,Sheet4!$A$2:$A$8408,Sheet3!$B$1,Sheet4!$B$2:$B$8408,Sheet3!$A$3)<3,0,SUMIFS(Sheet4!$DN$2:$DN$8408,Sheet4!$C$2:$C$8408,Sheet3!$B16,Sheet4!$D$2:$D$8408,Sheet3!CY$3,Sheet4!$A$2:$A$8408,Sheet3!$B$1,Sheet4!$B$2:$B$8408,Sheet3!$A$3))","v":0},{"$f":"+IF(SUMIFS(Sheet4!$DN$2:$DN$8408,Sheet4!$C$2:$C$8408,Sheet3!$B16,Sheet4!$D$2:$D$8408,Sheet3!CZ$3,Sheet4!$A$2:$A$8408,Sheet3!$B$1,Sheet4!$B$2:$B$8408,Sheet3!$A$3)<3,0,SUMIFS(Sheet4!$DN$2:$DN$8408,Sheet4!$C$2:$C$8408,Sheet3!$B16,Sheet4!$D$2:$D$8408,Sheet3!CZ$3,Sheet4!$A$2:$A$8408,Sheet3!$B$1,Sheet4!$B$2:$B$8408,Sheet3!$A$3))","v":204},{"$f":"+IF(SUMIFS(Sheet4!$DN$2:$DN$8408,Sheet4!$C$2:$C$8408,Sheet3!$B16,Sheet4!$D$2:$D$8408,Sheet3!DA$3,Sheet4!$A$2:$A$8408,Sheet3!$B$1,Sheet4!$B$2:$B$8408,Sheet3!$A$3)<3,0,SUMIFS(Sheet4!$DN$2:$DN$8408,Sheet4!$C$2:$C$8408,Sheet3!$B16,Sheet4!$D$2:$D$8408,Sheet3!DA$3,Sheet4!$A$2:$A$8408,Sheet3!$B$1,Sheet4!$B$2:$B$8408,Sheet3!$A$3))","v":255},{"$f":"+IF(SUMIFS(Sheet4!$DN$2:$DN$8408,Sheet4!$C$2:$C$8408,Sheet3!$B16,Sheet4!$D$2:$D$8408,Sheet3!DB$3,Sheet4!$A$2:$A$8408,Sheet3!$B$1,Sheet4!$B$2:$B$8408,Sheet3!$A$3)<3,0,SUMIFS(Sheet4!$DN$2:$DN$8408,Sheet4!$C$2:$C$8408,Sheet3!$B16,Sheet4!$D$2:$D$8408,Sheet3!DB$3,Sheet4!$A$2:$A$8408,Sheet3!$B$1,Sheet4!$B$2:$B$8408,Sheet3!$A$3))","v":663},{"$f":"+IF(SUMIFS(Sheet4!$DN$2:$DN$8408,Sheet4!$C$2:$C$8408,Sheet3!$B16,Sheet4!$D$2:$D$8408,Sheet3!DC$3,Sheet4!$A$2:$A$8408,Sheet3!$B$1,Sheet4!$B$2:$B$8408,Sheet3!$A$3)<3,0,SUMIFS(Sheet4!$DN$2:$DN$8408,Sheet4!$C$2:$C$8408,Sheet3!$B16,Sheet4!$D$2:$D$8408,Sheet3!DC$3,Sheet4!$A$2:$A$8408,Sheet3!$B$1,Sheet4!$B$2:$B$8408,Sheet3!$A$3))","v":0},{"$f":"+IF(SUMIFS(Sheet4!$DN$2:$DN$8408,Sheet4!$C$2:$C$8408,Sheet3!$B16,Sheet4!$D$2:$D$8408,Sheet3!DD$3,Sheet4!$A$2:$A$8408,Sheet3!$B$1,Sheet4!$B$2:$B$8408,Sheet3!$A$3)<3,0,SUMIFS(Sheet4!$DN$2:$DN$8408,Sheet4!$C$2:$C$8408,Sheet3!$B16,Sheet4!$D$2:$D$8408,Sheet3!DD$3,Sheet4!$A$2:$A$8408,Sheet3!$B$1,Sheet4!$B$2:$B$8408,Sheet3!$A$3))","v":270},{"$f":"+IF(SUMIFS(Sheet4!$DN$2:$DN$8408,Sheet4!$C$2:$C$8408,Sheet3!$B16,Sheet4!$D$2:$D$8408,Sheet3!DE$3,Sheet4!$A$2:$A$8408,Sheet3!$B$1,Sheet4!$B$2:$B$8408,Sheet3!$A$3)<3,0,SUMIFS(Sheet4!$DN$2:$DN$8408,Sheet4!$C$2:$C$8408,Sheet3!$B16,Sheet4!$D$2:$D$8408,Sheet3!DE$3,Sheet4!$A$2:$A$8408,Sheet3!$B$1,Sheet4!$B$2:$B$8408,Sheet3!$A$3))","v":9},{"$f":"+IF(SUMIFS(Sheet4!$DN$2:$DN$8408,Sheet4!$C$2:$C$8408,Sheet3!$B16,Sheet4!$D$2:$D$8408,Sheet3!DF$3,Sheet4!$A$2:$A$8408,Sheet3!$B$1,Sheet4!$B$2:$B$8408,Sheet3!$A$3)<3,0,SUMIFS(Sheet4!$DN$2:$DN$8408,Sheet4!$C$2:$C$8408,Sheet3!$B16,Sheet4!$D$2:$D$8408,Sheet3!DF$3,Sheet4!$A$2:$A$8408,Sheet3!$B$1,Sheet4!$B$2:$B$8408,Sheet3!$A$3))","v":17},{"$f":"+IF(SUMIFS(Sheet4!$DN$2:$DN$8408,Sheet4!$C$2:$C$8408,Sheet3!$B16,Sheet4!$D$2:$D$8408,Sheet3!DG$3,Sheet4!$A$2:$A$8408,Sheet3!$B$1,Sheet4!$B$2:$B$8408,Sheet3!$A$3)<3,0,SUMIFS(Sheet4!$DN$2:$DN$8408,Sheet4!$C$2:$C$8408,Sheet3!$B16,Sheet4!$D$2:$D$8408,Sheet3!DG$3,Sheet4!$A$2:$A$8408,Sheet3!$B$1,Sheet4!$B$2:$B$8408,Sheet3!$A$3))","v":126},{"$f":"+IF(SUMIFS(Sheet4!$DN$2:$DN$8408,Sheet4!$C$2:$C$8408,Sheet3!$B16,Sheet4!$D$2:$D$8408,Sheet3!DH$3,Sheet4!$A$2:$A$8408,Sheet3!$B$1,Sheet4!$B$2:$B$8408,Sheet3!$A$3)<3,0,SUMIFS(Sheet4!$DN$2:$DN$8408,Sheet4!$C$2:$C$8408,Sheet3!$B16,Sheet4!$D$2:$D$8408,Sheet3!DH$3,Sheet4!$A$2:$A$8408,Sheet3!$B$1,Sheet4!$B$2:$B$8408,Sheet3!$A$3))","v":8},{"$f":"+IF(SUMIFS(Sheet4!$DN$2:$DN$8408,Sheet4!$C$2:$C$8408,Sheet3!$B16,Sheet4!$D$2:$D$8408,Sheet3!DI$3,Sheet4!$A$2:$A$8408,Sheet3!$B$1,Sheet4!$B$2:$B$8408,Sheet3!$A$3)<3,0,SUMIFS(Sheet4!$DN$2:$DN$8408,Sheet4!$C$2:$C$8408,Sheet3!$B16,Sheet4!$D$2:$D$8408,Sheet3!DI$3,Sheet4!$A$2:$A$8408,Sheet3!$B$1,Sheet4!$B$2:$B$8408,Sheet3!$A$3))","v":446},{"$f":"+IF(SUMIFS(Sheet4!$DN$2:$DN$8408,Sheet4!$C$2:$C$8408,Sheet3!$B16,Sheet4!$D$2:$D$8408,Sheet3!DJ$3,Sheet4!$A$2:$A$8408,Sheet3!$B$1,Sheet4!$B$2:$B$8408,Sheet3!$A$3)<3,0,SUMIFS(Sheet4!$DN$2:$DN$8408,Sheet4!$C$2:$C$8408,Sheet3!$B16,Sheet4!$D$2:$D$8408,Sheet3!DJ$3,Sheet4!$A$2:$A$8408,Sheet3!$B$1,Sheet4!$B$2:$B$8408,Sheet3!$A$3))","v":96},{"$f":"+IF(SUMIFS(Sheet4!$DN$2:$DN$8408,Sheet4!$C$2:$C$8408,Sheet3!$B16,Sheet4!$D$2:$D$8408,Sheet3!DK$3,Sheet4!$A$2:$A$8408,Sheet3!$B$1,Sheet4!$B$2:$B$8408,Sheet3!$A$3)<3,0,SUMIFS(Sheet4!$DN$2:$DN$8408,Sheet4!$C$2:$C$8408,Sheet3!$B16,Sheet4!$D$2:$D$8408,Sheet3!DK$3,Sheet4!$A$2:$A$8408,Sheet3!$B$1,Sheet4!$B$2:$B$8408,Sheet3!$A$3))","v":220},{"$f":"+IF(SUMIFS(Sheet4!$DN$2:$DN$8408,Sheet4!$C$2:$C$8408,Sheet3!$B16,Sheet4!$D$2:$D$8408,Sheet3!DL$3,Sheet4!$A$2:$A$8408,Sheet3!$B$1,Sheet4!$B$2:$B$8408,Sheet3!$A$3)<3,0,SUMIFS(Sheet4!$DN$2:$DN$8408,Sheet4!$C$2:$C$8408,Sheet3!$B16,Sheet4!$D$2:$D$8408,Sheet3!DL$3,Sheet4!$A$2:$A$8408,Sheet3!$B$1,Sheet4!$B$2:$B$8408,Sheet3!$A$3))","v":3},{"$f":"+IF(SUMIFS(Sheet4!$DN$2:$DN$8408,Sheet4!$C$2:$C$8408,Sheet3!$B16,Sheet4!$D$2:$D$8408,Sheet3!DM$3,Sheet4!$A$2:$A$8408,Sheet3!$B$1,Sheet4!$B$2:$B$8408,Sheet3!$A$3)<3,0,SUMIFS(Sheet4!$DN$2:$DN$8408,Sheet4!$C$2:$C$8408,Sheet3!$B16,Sheet4!$D$2:$D$8408,Sheet3!DM$3,Sheet4!$A$2:$A$8408,Sheet3!$B$1,Sheet4!$B$2:$B$8408,Sheet3!$A$3))","v":13},{"$f":"+IF(SUMIFS(Sheet4!$DN$2:$DN$8408,Sheet4!$C$2:$C$8408,Sheet3!$B16,Sheet4!$E$2:$E$8408,Sheet3!DN$4,Sheet4!$A$2:$A$8408,Sheet3!$B$1,Sheet4!$B$2:$B$8408,Sheet3!$A$3)<3,0,SUMIFS(Sheet4!$DN$2:$DN$8408,Sheet4!$C$2:$C$8408,Sheet3!$B16,Sheet4!$E$2:$E$8408,Sheet3!DN$4,Sheet4!$A$2:$A$8408,Sheet3!$B$1,Sheet4!$B$2:$B$8408,Sheet3!$A$3))","v":698},{"$f":"+IF(SUMIFS(Sheet4!$DN$2:$DN$8408,Sheet4!$C$2:$C$8408,Sheet3!$B16,Sheet4!$E$2:$E$8408,Sheet3!DO$4,Sheet4!$A$2:$A$8408,Sheet3!$B$1,Sheet4!$B$2:$B$8408,Sheet3!$A$3)<3,0,SUMIFS(Sheet4!$DN$2:$DN$8408,Sheet4!$C$2:$C$8408,Sheet3!$B16,Sheet4!$E$2:$E$8408,Sheet3!DO$4,Sheet4!$A$2:$A$8408,Sheet3!$B$1,Sheet4!$B$2:$B$8408,Sheet3!$A$3))","v":741},{"$f":"+IF(SUMIFS(Sheet4!$DN$2:$DN$8408,Sheet4!$C$2:$C$8408,Sheet3!$B16,Sheet4!$E$2:$E$8408,Sheet3!DP$4,Sheet4!$A$2:$A$8408,Sheet3!$B$1,Sheet4!$B$2:$B$8408,Sheet3!$A$3)<3,0,SUMIFS(Sheet4!$DN$2:$DN$8408,Sheet4!$C$2:$C$8408,Sheet3!$B16,Sheet4!$E$2:$E$8408,Sheet3!DP$4,Sheet4!$A$2:$A$8408,Sheet3!$B$1,Sheet4!$B$2:$B$8408,Sheet3!$A$3))","v":616},{"$f":"+IF(SUMIFS(Sheet4!$DN$2:$DN$8408,Sheet4!$C$2:$C$8408,Sheet3!$B16,Sheet4!$E$2:$E$8408,Sheet3!DQ$4,Sheet4!$A$2:$A$8408,Sheet3!$B$1,Sheet4!$B$2:$B$8408,Sheet3!$A$3)<3,0,SUMIFS(Sheet4!$DN$2:$DN$8408,Sheet4!$C$2:$C$8408,Sheet3!$B16,Sheet4!$E$2:$E$8408,Sheet3!DQ$4,Sheet4!$A$2:$A$8408,Sheet3!$B$1,Sheet4!$B$2:$B$8408,Sheet3!$A$3))","v":348},{"$f":"+IF(SUMIFS(Sheet4!$DN$2:$DN$8408,Sheet4!$C$2:$C$8408,Sheet3!$B16,Sheet4!$E$2:$E$8408,Sheet3!DR$4,Sheet4!$A$2:$A$8408,Sheet3!$B$1,Sheet4!$B$2:$B$8408,Sheet3!$A$3)<3,0,SUMIFS(Sheet4!$DN$2:$DN$8408,Sheet4!$C$2:$C$8408,Sheet3!$B16,Sheet4!$E$2:$E$8408,Sheet3!DR$4,Sheet4!$A$2:$A$8408,Sheet3!$B$1,Sheet4!$B$2:$B$8408,Sheet3!$A$3))","v":47}]
[3,"16D","Região de Aveiro",{"$f":"+SUMIFS(Sheet4!$DM$2:$DM$8408,Sheet4!$C$2:$C$8408,Sheet3!$B17,Sheet4!$D$2:$D$8408,Sheet3!D$3,Sheet4!$E$2:$E$8408,Sheet3!D$4,Sheet4!$A$2:$A$8408,Sheet3!$B$1,Sheet4!$B$2:$B$8408,Sheet3!$A$3)","v":0},{"$f":"+SUMIFS(Sheet4!$DM$2:$DM$8408,Sheet4!$C$2:$C$8408,Sheet3!$B17,Sheet4!$D$2:$D$8408,Sheet3!E$3,Sheet4!$E$2:$E$8408,Sheet3!E$4,Sheet4!$A$2:$A$8408,Sheet3!$B$1,Sheet4!$B$2:$B$8408,Sheet3!$A$3)","v":7},{"$f":"+SUMIFS(Sheet4!$DM$2:$DM$8408,Sheet4!$C$2:$C$8408,Sheet3!$B17,Sheet4!$D$2:$D$8408,Sheet3!F$3,Sheet4!$E$2:$E$8408,Sheet3!F$4,Sheet4!$A$2:$A$8408,Sheet3!$B$1,Sheet4!$B$2:$B$8408,Sheet3!$A$3)","v":0},{"$f":"+SUMIFS(Sheet4!$DM$2:$DM$8408,Sheet4!$C$2:$C$8408,Sheet3!$B17,Sheet4!$D$2:$D$8408,Sheet3!G$3,Sheet4!$E$2:$E$8408,Sheet3!G$4,Sheet4!$A$2:$A$8408,Sheet3!$B$1,Sheet4!$B$2:$B$8408,Sheet3!$A$3)","v":0},{"$f":"+SUMIFS(Sheet4!$DM$2:$DM$8408,Sheet4!$C$2:$C$8408,Sheet3!$B17,Sheet4!$D$2:$D$8408,Sheet3!H$3,Sheet4!$E$2:$E$8408,Sheet3!H$4,Sheet4!$A$2:$A$8408,Sheet3!$B$1,Sheet4!$B$2:$B$8408,Sheet3!$A$3)","v":0},{"$f":"+SUMIFS(Sheet4!$DM$2:$DM$8408,Sheet4!$C$2:$C$8408,Sheet3!$B17,Sheet4!$D$2:$D$8408,Sheet3!I$3,Sheet4!$E$2:$E$8408,Sheet3!I$4,Sheet4!$A$2:$A$8408,Sheet3!$B$1,Sheet4!$B$2:$B$8408,Sheet3!$A$3)","v":530},{"$f":"+SUMIFS(Sheet4!$DM$2:$DM$8408,Sheet4!$C$2:$C$8408,Sheet3!$B17,Sheet4!$D$2:$D$8408,Sheet3!J$3,Sheet4!$E$2:$E$8408,Sheet3!J$4,Sheet4!$A$2:$A$8408,Sheet3!$B$1,Sheet4!$B$2:$B$8408,Sheet3!$A$3)","v":138},{"$f":"+SUMIFS(Sheet4!$DM$2:$DM$8408,Sheet4!$C$2:$C$8408,Sheet3!$B17,Sheet4!$D$2:$D$8408,Sheet3!K$3,Sheet4!$E$2:$E$8408,Sheet3!K$4,Sheet4!$A$2:$A$8408,Sheet3!$B$1,Sheet4!$B$2:$B$8408,Sheet3!$A$3)","v":9},{"$f":"+SUMIFS(Sheet4!$DM$2:$DM$8408,Sheet4!$C$2:$C$8408,Sheet3!$B17,Sheet4!$D$2:$D$8408,Sheet3!L$3,Sheet4!$E$2:$E$8408,Sheet3!L$4,Sheet4!$A$2:$A$8408,Sheet3!$B$1,Sheet4!$B$2:$B$8408,Sheet3!$A$3)","v":0},{"$f":"+SUMIFS(Sheet4!$DM$2:$DM$8408,Sheet4!$C$2:$C$8408,Sheet3!$B17,Sheet4!$D$2:$D$8408,Sheet3!M$3,Sheet4!$E$2:$E$8408,Sheet3!M$4,Sheet4!$A$2:$A$8408,Sheet3!$B$1,Sheet4!$B$2:$B$8408,Sheet3!$A$3)","v":0},{"$f":"+SUMIFS(Sheet4!$DM$2:$DM$8408,Sheet4!$C$2:$C$8408,Sheet3!$B17,Sheet4!$D$2:$D$8408,Sheet3!N$3,Sheet4!$E$2:$E$8408,Sheet3!N$4,Sheet4!$A$2:$A$8408,Sheet3!$B$1,Sheet4!$B$2:$B$8408,Sheet3!$A$3)","v":670},{"$f":"+SUMIFS(Sheet4!$DM$2:$DM$8408,Sheet4!$C$2:$C$8408,Sheet3!$B17,Sheet4!$D$2:$D$8408,Sheet3!O$3,Sheet4!$E$2:$E$8408,Sheet3!O$4,Sheet4!$A$2:$A$8408,Sheet3!$B$1,Sheet4!$B$2:$B$8408,Sheet3!$A$3)","v":101},{"$f":"+SUMIFS(Sheet4!$DM$2:$DM$8408,Sheet4!$C$2:$C$8408,Sheet3!$B17,Sheet4!$D$2:$D$8408,Sheet3!P$3,Sheet4!$E$2:$E$8408,Sheet3!P$4,Sheet4!$A$2:$A$8408,Sheet3!$B$1,Sheet4!$B$2:$B$8408,Sheet3!$A$3)","v":5},{"$f":"+SUMIFS(Sheet4!$DM$2:$DM$8408,Sheet4!$C$2:$C$8408,Sheet3!$B17,Sheet4!$D$2:$D$8408,Sheet3!Q$3,Sheet4!$E$2:$E$8408,Sheet3!Q$4,Sheet4!$A$2:$A$8408,Sheet3!$B$1,Sheet4!$B$2:$B$8408,Sheet3!$A$3)","v":0},{"$f":"+SUMIFS(Sheet4!$DM$2:$DM$8408,Sheet4!$C$2:$C$8408,Sheet3!$B17,Sheet4!$D$2:$D$8408,Sheet3!R$3,Sheet4!$E$2:$E$8408,Sheet3!R$4,Sheet4!$A$2:$A$8408,Sheet3!$B$1,Sheet4!$B$2:$B$8408,Sheet3!$A$3)","v":0},{"$f":"+SUMIFS(Sheet4!$DM$2:$DM$8408,Sheet4!$C$2:$C$8408,Sheet3!$B17,Sheet4!$D$2:$D$8408,Sheet3!S$3,Sheet4!$E$2:$E$8408,Sheet3!S$4,Sheet4!$A$2:$A$8408,Sheet3!$B$1,Sheet4!$B$2:$B$8408,Sheet3!$A$3)","v":0},{"$f":"+SUMIFS(Sheet4!$DM$2:$DM$8408,Sheet4!$C$2:$C$8408,Sheet3!$B17,Sheet4!$D$2:$D$8408,Sheet3!T$3,Sheet4!$E$2:$E$8408,Sheet3!T$4,Sheet4!$A$2:$A$8408,Sheet3!$B$1,Sheet4!$B$2:$B$8408,Sheet3!$A$3)","v":0},{"$f":"+SUMIFS(Sheet4!$DM$2:$DM$8408,Sheet4!$C$2:$C$8408,Sheet3!$B17,Sheet4!$D$2:$D$8408,Sheet3!U$3,Sheet4!$E$2:$E$8408,Sheet3!U$4,Sheet4!$A$2:$A$8408,Sheet3!$B$1,Sheet4!$B$2:$B$8408,Sheet3!$A$3)","v":4},{"$f":"+SUMIFS(Sheet4!$DM$2:$DM$8408,Sheet4!$C$2:$C$8408,Sheet3!$B17,Sheet4!$D$2:$D$8408,Sheet3!V$3,Sheet4!$E$2:$E$8408,Sheet3!V$4,Sheet4!$A$2:$A$8408,Sheet3!$B$1,Sheet4!$B$2:$B$8408,Sheet3!$A$3)","v":0},{"$f":"+SUMIFS(Sheet4!$DM$2:$DM$8408,Sheet4!$C$2:$C$8408,Sheet3!$B17,Sheet4!$D$2:$D$8408,Sheet3!W$3,Sheet4!$E$2:$E$8408,Sheet3!W$4,Sheet4!$A$2:$A$8408,Sheet3!$B$1,Sheet4!$B$2:$B$8408,Sheet3!$A$3)","v":0},{"$f":"+SUMIFS(Sheet4!$DM$2:$DM$8408,Sheet4!$C$2:$C$8408,Sheet3!$B17,Sheet4!$D$2:$D$8408,Sheet3!X$3,Sheet4!$E$2:$E$8408,Sheet3!X$4,Sheet4!$A$2:$A$8408,Sheet3!$B$1,Sheet4!$B$2:$B$8408,Sheet3!$A$3)","v":0},{"$f":"+SUMIFS(Sheet4!$DM$2:$DM$8408,Sheet4!$C$2:$C$8408,Sheet3!$B17,Sheet4!$D$2:$D$8408,Sheet3!Y$3,Sheet4!$E$2:$E$8408,Sheet3!Y$4,Sheet4!$A$2:$A$8408,Sheet3!$B$1,Sheet4!$B$2:$B$8408,Sheet3!$A$3)","v":0},{"$f":"+SUMIFS(Sheet4!$DM$2:$DM$8408,Sheet4!$C$2:$C$8408,Sheet3!$B17,Sheet4!$D$2:$D$8408,Sheet3!Z$3,Sheet4!$E$2:$E$8408,Sheet3!Z$4,Sheet4!$A$2:$A$8408,Sheet3!$B$1,Sheet4!$B$2:$B$8408,Sheet3!$A$3)","v":0},{"$f":"+SUMIFS(Sheet4!$DM$2:$DM$8408,Sheet4!$C$2:$C$8408,Sheet3!$B17,Sheet4!$D$2:$D$8408,Sheet3!AA$3,Sheet4!$E$2:$E$8408,Sheet3!AA$4,Sheet4!$A$2:$A$8408,Sheet3!$B$1,Sheet4!$B$2:$B$8408,Sheet3!$A$3)","v":0},{"$f":"+SUMIFS(Sheet4!$DM$2:$DM$8408,Sheet4!$C$2:$C$8408,Sheet3!$B17,Sheet4!$D$2:$D$8408,Sheet3!AB$3,Sheet4!$E$2:$E$8408,Sheet3!AB$4,Sheet4!$A$2:$A$8408,Sheet3!$B$1,Sheet4!$B$2:$B$8408,Sheet3!$A$3)","v":0},{"$f":"+SUMIFS(Sheet4!$DM$2:$DM$8408,Sheet4!$C$2:$C$8408,Sheet3!$B17,Sheet4!$D$2:$D$8408,Sheet3!AC$3,Sheet4!$E$2:$E$8408,Sheet3!AC$4,Sheet4!$A$2:$A$8408,Sheet3!$B$1,Sheet4!$B$2:$B$8408,Sheet3!$A$3)","v":143},{"$f":"+SUMIFS(Sheet4!$DM$2:$DM$8408,Sheet4!$C$2:$C$8408,Sheet3!$B17,Sheet4!$D$2:$D$8408,Sheet3!AD$3,Sheet4!$E$2:$E$8408,Sheet3!AD$4,Sheet4!$A$2:$A$8408,Sheet3!$B$1,Sheet4!$B$2:$B$8408,Sheet3!$A$3)","v":114},{"$f":"+SUMIFS(Sheet4!$DM$2:$DM$8408,Sheet4!$C$2:$C$8408,Sheet3!$B17,Sheet4!$D$2:$D$8408,Sheet3!AE$3,Sheet4!$E$2:$E$8408,Sheet3!AE$4,Sheet4!$A$2:$A$8408,Sheet3!$B$1,Sheet4!$B$2:$B$8408,Sheet3!$A$3)","v":21},{"$f":"+SUMIFS(Sheet4!$DM$2:$DM$8408,Sheet4!$C$2:$C$8408,Sheet3!$B17,Sheet4!$D$2:$D$8408,Sheet3!AF$3,Sheet4!$E$2:$E$8408,Sheet3!AF$4,Sheet4!$A$2:$A$8408,Sheet3!$B$1,Sheet4!$B$2:$B$8408,Sheet3!$A$3)","v":5},{"$f":"+SUMIFS(Sheet4!$DM$2:$DM$8408,Sheet4!$C$2:$C$8408,Sheet3!$B17,Sheet4!$D$2:$D$8408,Sheet3!AG$3,Sheet4!$E$2:$E$8408,Sheet3!AG$4,Sheet4!$A$2:$A$8408,Sheet3!$B$1,Sheet4!$B$2:$B$8408,Sheet3!$A$3)","v":0},{"$f":"+SUMIFS(Sheet4!$DM$2:$DM$8408,Sheet4!$C$2:$C$8408,Sheet3!$B17,Sheet4!$D$2:$D$8408,Sheet3!AH$3,Sheet4!$E$2:$E$8408,Sheet3!AH$4,Sheet4!$A$2:$A$8408,Sheet3!$B$1,Sheet4!$B$2:$B$8408,Sheet3!$A$3)","v":23},{"$f":"+SUMIFS(Sheet4!$DM$2:$DM$8408,Sheet4!$C$2:$C$8408,Sheet3!$B17,Sheet4!$D$2:$D$8408,Sheet3!AI$3,Sheet4!$E$2:$E$8408,Sheet3!AI$4,Sheet4!$A$2:$A$8408,Sheet3!$B$1,Sheet4!$B$2:$B$8408,Sheet3!$A$3)","v":37},{"$f":"+SUMIFS(Sheet4!$DM$2:$DM$8408,Sheet4!$C$2:$C$8408,Sheet3!$B17,Sheet4!$D$2:$D$8408,Sheet3!AJ$3,Sheet4!$E$2:$E$8408,Sheet3!AJ$4,Sheet4!$A$2:$A$8408,Sheet3!$B$1,Sheet4!$B$2:$B$8408,Sheet3!$A$3)","v":4},{"$f":"+SUMIFS(Sheet4!$DM$2:$DM$8408,Sheet4!$C$2:$C$8408,Sheet3!$B17,Sheet4!$D$2:$D$8408,Sheet3!AK$3,Sheet4!$E$2:$E$8408,Sheet3!AK$4,Sheet4!$A$2:$A$8408,Sheet3!$B$1,Sheet4!$B$2:$B$8408,Sheet3!$A$3)","v":0},{"$f":"+SUMIFS(Sheet4!$DM$2:$DM$8408,Sheet4!$C$2:$C$8408,Sheet3!$B17,Sheet4!$D$2:$D$8408,Sheet3!AL$3,Sheet4!$E$2:$E$8408,Sheet3!AL$4,Sheet4!$A$2:$A$8408,Sheet3!$B$1,Sheet4!$B$2:$B$8408,Sheet3!$A$3)","v":0},{"$f":"+SUMIFS(Sheet4!$DM$2:$DM$8408,Sheet4!$C$2:$C$8408,Sheet3!$B17,Sheet4!$D$2:$D$8408,Sheet3!AM$3,Sheet4!$E$2:$E$8408,Sheet3!AM$4,Sheet4!$A$2:$A$8408,Sheet3!$B$1,Sheet4!$B$2:$B$8408,Sheet3!$A$3)","v":34},{"$f":"+SUMIFS(Sheet4!$DM$2:$DM$8408,Sheet4!$C$2:$C$8408,Sheet3!$B17,Sheet4!$D$2:$D$8408,Sheet3!AN$3,Sheet4!$E$2:$E$8408,Sheet3!AN$4,Sheet4!$A$2:$A$8408,Sheet3!$B$1,Sheet4!$B$2:$B$8408,Sheet3!$A$3)","v":123},{"$f":"+SUMIFS(Sheet4!$DM$2:$DM$8408,Sheet4!$C$2:$C$8408,Sheet3!$B17,Sheet4!$D$2:$D$8408,Sheet3!AO$3,Sheet4!$E$2:$E$8408,Sheet3!AO$4,Sheet4!$A$2:$A$8408,Sheet3!$B$1,Sheet4!$B$2:$B$8408,Sheet3!$A$3)","v":67},{"$f":"+SUMIFS(Sheet4!$DM$2:$DM$8408,Sheet4!$C$2:$C$8408,Sheet3!$B17,Sheet4!$D$2:$D$8408,Sheet3!AP$3,Sheet4!$E$2:$E$8408,Sheet3!AP$4,Sheet4!$A$2:$A$8408,Sheet3!$B$1,Sheet4!$B$2:$B$8408,Sheet3!$A$3)","v":3},{"$f":"+SUMIFS(Sheet4!$DM$2:$DM$8408,Sheet4!$C$2:$C$8408,Sheet3!$B17,Sheet4!$D$2:$D$8408,Sheet3!AQ$3,Sheet4!$E$2:$E$8408,Sheet3!AQ$4,Sheet4!$A$2:$A$8408,Sheet3!$B$1,Sheet4!$B$2:$B$8408,Sheet3!$A$3)","v":0},{"$f":"+SUMIFS(Sheet4!$DM$2:$DM$8408,Sheet4!$C$2:$C$8408,Sheet3!$B17,Sheet4!$D$2:$D$8408,Sheet3!AR$3,Sheet4!$E$2:$E$8408,Sheet3!AR$4,Sheet4!$A$2:$A$8408,Sheet3!$B$1,Sheet4!$B$2:$B$8408,Sheet3!$A$3)","v":0},{"$f":"+SUMIFS(Sheet4!$DM$2:$DM$8408,Sheet4!$C$2:$C$8408,Sheet3!$B17,Sheet4!$D$2:$D$8408,Sheet3!AS$3,Sheet4!$E$2:$E$8408,Sheet3!AS$4,Sheet4!$A$2:$A$8408,Sheet3!$B$1,Sheet4!$B$2:$B$8408,Sheet3!$A$3)","v":0},{"$f":"+SUMIFS(Sheet4!$DM$2:$DM$8408,Sheet4!$C$2:$C$8408,Sheet3!$B17,Sheet4!$D$2:$D$8408,Sheet3!AT$3,Sheet4!$E$2:$E$8408,Sheet3!AT$4,Sheet4!$A$2:$A$8408,Sheet3!$B$1,Sheet4!$B$2:$B$8408,Sheet3!$A$3)","v":0},{"$f":"+SUMIFS(Sheet4!$DM$2:$DM$8408,Sheet4!$C$2:$C$8408,Sheet3!$B17,Sheet4!$D$2:$D$8408,Sheet3!AU$3,Sheet4!$E$2:$E$8408,Sheet3!AU$4,Sheet4!$A$2:$A$8408,Sheet3!$B$1,Sheet4!$B$2:$B$8408,Sheet3!$A$3)","v":0},{"$f":"+SUMIFS(Sheet4!$DM$2:$DM$8408,Sheet4!$C$2:$C$8408,Sheet3!$B17,Sheet4!$D$2:$D$8408,Sheet3!AV$3,Sheet4!$E$2:$E$8408,Sheet3!AV$4,Sheet4!$A$2:$A$8408,Sheet3!$B$1,Sheet4!$B$2:$B$8408,Sheet3!$A$3)","v":0},{"$f":"+SUMIFS(Sheet4!$DM$2:$DM$8408,Sheet4!$C$2:$C$8408,Sheet3!$B17,Sheet4!$D$2:$D$8408,Sheet3!AW$3,Sheet4!$E$2:$E$8408,Sheet3!AW$4,Sheet4!$A$2:$A$8408,Sheet3!$B$1,Sheet4!$B$2:$B$8408,Sheet3!$A$3)","v":596},{"$f":"+SUMIFS(Sheet4!$DM$2:$DM$8408,Sheet4!$C$2:$C$8408,Sheet3!$B17,Sheet4!$D$2:$D$8408,Sheet3!AX$3,Sheet4!$E$2:$E$8408,Sheet3!AX$4,Sheet4!$A$2:$A$8408,Sheet3!$B$1,Sheet4!$B$2:$B$8408,Sheet3!$A$3)","v":243},{"$f":"+SUMIFS(Sheet4!$DM$2:$DM$8408,Sheet4!$C$2:$C$8408,Sheet3!$B17,Sheet4!$D$2:$D$8408,Sheet3!AY$3,Sheet4!$E$2:$E$8408,Sheet3!AY$4,Sheet4!$A$2:$A$8408,Sheet3!$B$1,Sheet4!$B$2:$B$8408,Sheet3!$A$3)","v":17},{"$f":"+SUMIFS(Sheet4!$DM$2:$DM$8408,Sheet4!$C$2:$C$8408,Sheet3!$B17,Sheet4!$D$2:$D$8408,Sheet3!AZ$3,Sheet4!$E$2:$E$8408,Sheet3!AZ$4,Sheet4!$A$2:$A$8408,Sheet3!$B$1,Sheet4!$B$2:$B$8408,Sheet3!$A$3)","v":0},{"$f":"+SUMIFS(Sheet4!$DM$2:$DM$8408,Sheet4!$C$2:$C$8408,Sheet3!$B17,Sheet4!$D$2:$D$8408,Sheet3!BA$3,Sheet4!$E$2:$E$8408,Sheet3!BA$4,Sheet4!$A$2:$A$8408,Sheet3!$B$1,Sheet4!$B$2:$B$8408,Sheet3!$A$3)","v":0},{"$f":"+SUMIFS(Sheet4!$DM$2:$DM$8408,Sheet4!$C$2:$C$8408,Sheet3!$B17,Sheet4!$D$2:$D$8408,Sheet3!BB$3,Sheet4!$E$2:$E$8408,Sheet3!BB$4,Sheet4!$A$2:$A$8408,Sheet3!$B$1,Sheet4!$B$2:$B$8408,Sheet3!$A$3)","v":0},{"$f":"+SUMIFS(Sheet4!$DM$2:$DM$8408,Sheet4!$C$2:$C$8408,Sheet3!$B17,Sheet4!$D$2:$D$8408,Sheet3!BC$3,Sheet4!$E$2:$E$8408,Sheet3!BC$4,Sheet4!$A$2:$A$8408,Sheet3!$B$1,Sheet4!$B$2:$B$8408,Sheet3!$A$3)","v":16},{"$f":"+SUMIFS(Sheet4!$DM$2:$DM$8408,Sheet4!$C$2:$C$8408,Sheet3!$B17,Sheet4!$D$2:$D$8408,Sheet3!BD$3,Sheet4!$E$2:$E$8408,Sheet3!BD$4,Sheet4!$A$2:$A$8408,Sheet3!$B$1,Sheet4!$B$2:$B$8408,Sheet3!$A$3)","v":54},{"$f":"+SUMIFS(Sheet4!$DM$2:$DM$8408,Sheet4!$C$2:$C$8408,Sheet3!$B17,Sheet4!$D$2:$D$8408,Sheet3!BE$3,Sheet4!$E$2:$E$8408,Sheet3!BE$4,Sheet4!$A$2:$A$8408,Sheet3!$B$1,Sheet4!$B$2:$B$8408,Sheet3!$A$3)","v":100},{"$f":"+SUMIFS(Sheet4!$DM$2:$DM$8408,Sheet4!$C$2:$C$8408,Sheet3!$B17,Sheet4!$D$2:$D$8408,Sheet3!BF$3,Sheet4!$E$2:$E$8408,Sheet3!BF$4,Sheet4!$A$2:$A$8408,Sheet3!$B$1,Sheet4!$B$2:$B$8408,Sheet3!$A$3)","v":11},{"$f":"+SUMIFS(Sheet4!$DM$2:$DM$8408,Sheet4!$C$2:$C$8408,Sheet3!$B17,Sheet4!$D$2:$D$8408,Sheet3!BG$3,Sheet4!$E$2:$E$8408,Sheet3!BG$4,Sheet4!$A$2:$A$8408,Sheet3!$B$1,Sheet4!$B$2:$B$8408,Sheet3!$A$3)","v":6},{"$f":"+SUMIFS(Sheet4!$DM$2:$DM$8408,Sheet4!$C$2:$C$8408,Sheet3!$B17,Sheet4!$D$2:$D$8408,Sheet3!BH$3,Sheet4!$E$2:$E$8408,Sheet3!BH$4,Sheet4!$A$2:$A$8408,Sheet3!$B$1,Sheet4!$B$2:$B$8408,Sheet3!$A$3)","v":34},{"$f":"+SUMIFS(Sheet4!$DM$2:$DM$8408,Sheet4!$C$2:$C$8408,Sheet3!$B17,Sheet4!$D$2:$D$8408,Sheet3!BI$3,Sheet4!$E$2:$E$8408,Sheet3!BI$4,Sheet4!$A$2:$A$8408,Sheet3!$B$1,Sheet4!$B$2:$B$8408,Sheet3!$A$3)","v":7},{"$f":"+SUMIFS(Sheet4!$DM$2:$DM$8408,Sheet4!$C$2:$C$8408,Sheet3!$B17,Sheet4!$D$2:$D$8408,Sheet3!BJ$3,Sheet4!$E$2:$E$8408,Sheet3!BJ$4,Sheet4!$A$2:$A$8408,Sheet3!$B$1,Sheet4!$B$2:$B$8408,Sheet3!$A$3)","v":0},{"$f":"+SUMIFS(Sheet4!$DM$2:$DM$8408,Sheet4!$C$2:$C$8408,Sheet3!$B17,Sheet4!$D$2:$D$8408,Sheet3!BK$3,Sheet4!$E$2:$E$8408,Sheet3!BK$4,Sheet4!$A$2:$A$8408,Sheet3!$B$1,Sheet4!$B$2:$B$8408,Sheet3!$A$3)","v":0},{"$f":"+SUMIFS(Sheet4!$DM$2:$DM$8408,Sheet4!$C$2:$C$8408,Sheet3!$B17,Sheet4!$D$2:$D$8408,Sheet3!BL$3,Sheet4!$E$2:$E$8408,Sheet3!BL$4,Sheet4!$A$2:$A$8408,Sheet3!$B$1,Sheet4!$B$2:$B$8408,Sheet3!$A$3)","v":42},{"$f":"+SUMIFS(Sheet4!$DM$2:$DM$8408,Sheet4!$C$2:$C$8408,Sheet3!$B17,Sheet4!$D$2:$D$8408,Sheet3!BM$3,Sheet4!$E$2:$E$8408,Sheet3!BM$4,Sheet4!$A$2:$A$8408,Sheet3!$B$1,Sheet4!$B$2:$B$8408,Sheet3!$A$3)","v":140},{"$f":"+SUMIFS(Sheet4!$DM$2:$DM$8408,Sheet4!$C$2:$C$8408,Sheet3!$B17,Sheet4!$D$2:$D$8408,Sheet3!BN$3,Sheet4!$E$2:$E$8408,Sheet3!BN$4,Sheet4!$A$2:$A$8408,Sheet3!$B$1,Sheet4!$B$2:$B$8408,Sheet3!$A$3)","v":39},{"$f":"+SUMIFS(Sheet4!$DM$2:$DM$8408,Sheet4!$C$2:$C$8408,Sheet3!$B17,Sheet4!$D$2:$D$8408,Sheet3!BO$3,Sheet4!$E$2:$E$8408,Sheet3!BO$4,Sheet4!$A$2:$A$8408,Sheet3!$B$1,Sheet4!$B$2:$B$8408,Sheet3!$A$3)","v":4},{"$f":"+SUMIFS(Sheet4!$DM$2:$DM$8408,Sheet4!$C$2:$C$8408,Sheet3!$B17,Sheet4!$D$2:$D$8408,Sheet3!BP$3,Sheet4!$E$2:$E$8408,Sheet3!BP$4,Sheet4!$A$2:$A$8408,Sheet3!$B$1,Sheet4!$B$2:$B$8408,Sheet3!$A$3)","v":0},{"$f":"+SUMIFS(Sheet4!$DM$2:$DM$8408,Sheet4!$C$2:$C$8408,Sheet3!$B17,Sheet4!$D$2:$D$8408,Sheet3!BQ$3,Sheet4!$E$2:$E$8408,Sheet3!BQ$4,Sheet4!$A$2:$A$8408,Sheet3!$B$1,Sheet4!$B$2:$B$8408,Sheet3!$A$3)","v":0},{"$f":"+SUMIFS(Sheet4!$DM$2:$DM$8408,Sheet4!$C$2:$C$8408,Sheet3!$B17,Sheet4!$D$2:$D$8408,Sheet3!BR$3,Sheet4!$E$2:$E$8408,Sheet3!BR$4,Sheet4!$A$2:$A$8408,Sheet3!$B$1,Sheet4!$B$2:$B$8408,Sheet3!$A$3)","v":13},{"$f":"+SUMIFS(Sheet4!$DM$2:$DM$8408,Sheet4!$C$2:$C$8408,Sheet3!$B17,Sheet4!$D$2:$D$8408,Sheet3!BS$3,Sheet4!$E$2:$E$8408,Sheet3!BS$4,Sheet4!$A$2:$A$8408,Sheet3!$B$1,Sheet4!$B$2:$B$8408,Sheet3!$A$3)","v":0},{"$f":"+SUMIFS(Sheet4!$DM$2:$DM$8408,Sheet4!$C$2:$C$8408,Sheet3!$B17,Sheet4!$D$2:$D$8408,Sheet3!BT$3,Sheet4!$E$2:$E$8408,Sheet3!BT$4,Sheet4!$A$2:$A$8408,Sheet3!$B$1,Sheet4!$B$2:$B$8408,Sheet3!$A$3)","v":0},{"$f":"+SUMIFS(Sheet4!$DM$2:$DM$8408,Sheet4!$C$2:$C$8408,Sheet3!$B17,Sheet4!$D$2:$D$8408,Sheet3!BU$3,Sheet4!$E$2:$E$8408,Sheet3!BU$4,Sheet4!$A$2:$A$8408,Sheet3!$B$1,Sheet4!$B$2:$B$8408,Sheet3!$A$3)","v":0},{"$f":"+SUMIFS(Sheet4!$DM$2:$DM$8408,Sheet4!$C$2:$C$8408,Sheet3!$B17,Sheet4!$D$2:$D$8408,Sheet3!BV$3,Sheet4!$E$2:$E$8408,Sheet3!BV$4,Sheet4!$A$2:$A$8408,Sheet3!$B$1,Sheet4!$B$2:$B$8408,Sheet3!$A$3)","v":42},{"$f":"+SUMIFS(Sheet4!$DM$2:$DM$8408,Sheet4!$C$2:$C$8408,Sheet3!$B17,Sheet4!$D$2:$D$8408,Sheet3!BW$3,Sheet4!$E$2:$E$8408,Sheet3!BW$4,Sheet4!$A$2:$A$8408,Sheet3!$B$1,Sheet4!$B$2:$B$8408,Sheet3!$A$3)","v":26},{"$f":"+SUMIFS(Sheet4!$DM$2:$DM$8408,Sheet4!$C$2:$C$8408,Sheet3!$B17,Sheet4!$D$2:$D$8408,Sheet3!BX$3,Sheet4!$E$2:$E$8408,Sheet3!BX$4,Sheet4!$A$2:$A$8408,Sheet3!$B$1,Sheet4!$B$2:$B$8408,Sheet3!$A$3)","v":0},{"$f":"+SUMIFS(Sheet4!$DM$2:$DM$8408,Sheet4!$C$2:$C$8408,Sheet3!$B17,Sheet4!$D$2:$D$8408,Sheet3!BY$3,Sheet4!$E$2:$E$8408,Sheet3!BY$4,Sheet4!$A$2:$A$8408,Sheet3!$B$1,Sheet4!$B$2:$B$8408,Sheet3!$A$3)","v":0},{"$f":"+SUMIFS(Sheet4!$DM$2:$DM$8408,Sheet4!$C$2:$C$8408,Sheet3!$B17,Sheet4!$D$2:$D$8408,Sheet3!BZ$3,Sheet4!$E$2:$E$8408,Sheet3!BZ$4,Sheet4!$A$2:$A$8408,Sheet3!$B$1,Sheet4!$B$2:$B$8408,Sheet3!$A$3)","v":0},{"$f":"+SUMIFS(Sheet4!$DM$2:$DM$8408,Sheet4!$C$2:$C$8408,Sheet3!$B17,Sheet4!$D$2:$D$8408,Sheet3!CA$3,Sheet4!$E$2:$E$8408,Sheet3!CA$4,Sheet4!$A$2:$A$8408,Sheet3!$B$1,Sheet4!$B$2:$B$8408,Sheet3!$A$3)","v":145},{"$f":"+SUMIFS(Sheet4!$DM$2:$DM$8408,Sheet4!$C$2:$C$8408,Sheet3!$B17,Sheet4!$D$2:$D$8408,Sheet3!CB$3,Sheet4!$E$2:$E$8408,Sheet3!CB$4,Sheet4!$A$2:$A$8408,Sheet3!$B$1,Sheet4!$B$2:$B$8408,Sheet3!$A$3)","v":173},{"$f":"+SUMIFS(Sheet4!$DM$2:$DM$8408,Sheet4!$C$2:$C$8408,Sheet3!$B17,Sheet4!$D$2:$D$8408,Sheet3!CC$3,Sheet4!$E$2:$E$8408,Sheet3!CC$4,Sheet4!$A$2:$A$8408,Sheet3!$B$1,Sheet4!$B$2:$B$8408,Sheet3!$A$3)","v":11},{"$f":"+SUMIFS(Sheet4!$DM$2:$DM$8408,Sheet4!$C$2:$C$8408,Sheet3!$B17,Sheet4!$D$2:$D$8408,Sheet3!CD$3,Sheet4!$E$2:$E$8408,Sheet3!CD$4,Sheet4!$A$2:$A$8408,Sheet3!$B$1,Sheet4!$B$2:$B$8408,Sheet3!$A$3)","v":0},{"$f":"+SUMIFS(Sheet4!$DM$2:$DM$8408,Sheet4!$C$2:$C$8408,Sheet3!$B17,Sheet4!$D$2:$D$8408,Sheet3!CE$3,Sheet4!$E$2:$E$8408,Sheet3!CE$4,Sheet4!$A$2:$A$8408,Sheet3!$B$1,Sheet4!$B$2:$B$8408,Sheet3!$A$3)","v":0},{"$f":"+SUMIFS(Sheet4!$DM$2:$DM$8408,Sheet4!$C$2:$C$8408,Sheet3!$B17,Sheet4!$D$2:$D$8408,Sheet3!CF$3,Sheet4!$E$2:$E$8408,Sheet3!CF$4,Sheet4!$A$2:$A$8408,Sheet3!$B$1,Sheet4!$B$2:$B$8408,Sheet3!$A$3)","v":309},{"$f":"+SUMIFS(Sheet4!$DM$2:$DM$8408,Sheet4!$C$2:$C$8408,Sheet3!$B17,Sheet4!$D$2:$D$8408,Sheet3!CG$3,Sheet4!$E$2:$E$8408,Sheet3!CG$4,Sheet4!$A$2:$A$8408,Sheet3!$B$1,Sheet4!$B$2:$B$8408,Sheet3!$A$3)","v":142},{"$f":"+SUMIFS(Sheet4!$DM$2:$DM$8408,Sheet4!$C$2:$C$8408,Sheet3!$B17,Sheet4!$D$2:$D$8408,Sheet3!CH$3,Sheet4!$E$2:$E$8408,Sheet3!CH$4,Sheet4!$A$2:$A$8408,Sheet3!$B$1,Sheet4!$B$2:$B$8408,Sheet3!$A$3)","v":6},{"$f":"+SUMIFS(Sheet4!$DM$2:$DM$8408,Sheet4!$C$2:$C$8408,Sheet3!$B17,Sheet4!$D$2:$D$8408,Sheet3!CI$3,Sheet4!$E$2:$E$8408,Sheet3!CI$4,Sheet4!$A$2:$A$8408,Sheet3!$B$1,Sheet4!$B$2:$B$8408,Sheet3!$A$3)","v":0},{"$f":"+SUMIFS(Sheet4!$DM$2:$DM$8408,Sheet4!$C$2:$C$8408,Sheet3!$B17,Sheet4!$D$2:$D$8408,Sheet3!CJ$3,Sheet4!$E$2:$E$8408,Sheet3!CJ$4,Sheet4!$A$2:$A$8408,Sheet3!$B$1,Sheet4!$B$2:$B$8408,Sheet3!$A$3)","v":0},{"$f":"+SUMIFS(Sheet4!$DM$2:$DM$8408,Sheet4!$C$2:$C$8408,Sheet3!$B17,Sheet4!$D$2:$D$8408,Sheet3!CK$3,Sheet4!$E$2:$E$8408,Sheet3!CK$4,Sheet4!$A$2:$A$8408,Sheet3!$B$1,Sheet4!$B$2:$B$8408,Sheet3!$A$3)","v":0},{"$f":"+SUMIFS(Sheet4!$DM$2:$DM$8408,Sheet4!$C$2:$C$8408,Sheet3!$B17,Sheet4!$D$2:$D$8408,Sheet3!CL$3,Sheet4!$E$2:$E$8408,Sheet3!CL$4,Sheet4!$A$2:$A$8408,Sheet3!$B$1,Sheet4!$B$2:$B$8408,Sheet3!$A$3)","v":0},{"$f":"+SUMIFS(Sheet4!$DM$2:$DM$8408,Sheet4!$C$2:$C$8408,Sheet3!$B17,Sheet4!$D$2:$D$8408,Sheet3!CM$3,Sheet4!$E$2:$E$8408,Sheet3!CM$4,Sheet4!$A$2:$A$8408,Sheet3!$B$1,Sheet4!$B$2:$B$8408,Sheet3!$A$3)","v":0},{"$f":"+SUMIFS(Sheet4!$DM$2:$DM$8408,Sheet4!$C$2:$C$8408,Sheet3!$B17,Sheet4!$D$2:$D$8408,Sheet3!CN$3,Sheet4!$E$2:$E$8408,Sheet3!CN$4,Sheet4!$A$2:$A$8408,Sheet3!$B$1,Sheet4!$B$2:$B$8408,Sheet3!$A$3)","v":0},{"$f":"+SUMIFS(Sheet4!$DM$2:$DM$8408,Sheet4!$C$2:$C$8408,Sheet3!$B17,Sheet4!$D$2:$D$8408,Sheet3!CO$3,Sheet4!$E$2:$E$8408,Sheet3!CO$4,Sheet4!$A$2:$A$8408,Sheet3!$B$1,Sheet4!$B$2:$B$8408,Sheet3!$A$3)","v":0},{"$f":"+SUMIFS(Sheet4!$DM$2:$DM$8408,Sheet4!$C$2:$C$8408,Sheet3!$B17,Sheet4!$D$2:$D$8408,Sheet3!CP$3,Sheet4!$E$2:$E$8408,Sheet3!CP$4,Sheet4!$A$2:$A$8408,Sheet3!$B$1,Sheet4!$B$2:$B$8408,Sheet3!$A$3)","v":21},{"$f":"+SUMIFS(Sheet4!$DM$2:$DM$8408,Sheet4!$C$2:$C$8408,Sheet3!$B17,Sheet4!$D$2:$D$8408,Sheet3!CQ$3,Sheet4!$E$2:$E$8408,Sheet3!CQ$4,Sheet4!$A$2:$A$8408,Sheet3!$B$1,Sheet4!$B$2:$B$8408,Sheet3!$A$3)","v":8},{"$f":"+SUMIFS(Sheet4!$DM$2:$DM$8408,Sheet4!$C$2:$C$8408,Sheet3!$B17,Sheet4!$D$2:$D$8408,Sheet3!CR$3,Sheet4!$E$2:$E$8408,Sheet3!CR$4,Sheet4!$A$2:$A$8408,Sheet3!$B$1,Sheet4!$B$2:$B$8408,Sheet3!$A$3)","v":0},{"$f":"+SUMIFS(Sheet4!$DM$2:$DM$8408,Sheet4!$C$2:$C$8408,Sheet3!$B17,Sheet4!$D$2:$D$8408,Sheet3!CS$3,Sheet4!$E$2:$E$8408,Sheet3!CS$4,Sheet4!$A$2:$A$8408,Sheet3!$B$1,Sheet4!$B$2:$B$8408,Sheet3!$A$3)","v":0},{"$f":"+SUMIFS(Sheet4!$DM$2:$DM$8408,Sheet4!$C$2:$C$8408,Sheet3!$B17,Sheet4!$D$2:$D$8408,Sheet3!CT$3,Sheet4!$E$2:$E$8408,Sheet3!CT$4,Sheet4!$A$2:$A$8408,Sheet3!$B$1,Sheet4!$B$2:$B$8408,Sheet3!$A$3)","v":0},{"$f":"+IF(SUMIFS(Sheet4!$DN$2:$DN$8408,Sheet4!$C$2:$C$8408,Sheet3!$B17,Sheet4!$D$2:$D$8408,Sheet3!CU$3,Sheet4!$A$2:$A$8408,Sheet3!$B$1,Sheet4!$B$2:$B$8408,Sheet3!$A$3)<3,0,SUMIFS(Sheet4!$DN$2:$DN$8408,Sheet4!$C$2:$C$8408,Sheet3!$B17,Sheet4!$D$2:$D$8408,Sheet3!CU$3,Sheet4!$A$2:$A$8408,Sheet3!$B$1,Sheet4!$B$2:$B$8408,Sheet3!$A$3))","v":13},{"$f":"+IF(SUMIFS(Sheet4!$DN$2:$DN$8408,Sheet4!$C$2:$C$8408,Sheet3!$B17,Sheet4!$D$2:$D$8408,Sheet3!CV$3,Sheet4!$A$2:$A$8408,Sheet3!$B$1,Sheet4!$B$2:$B$8408,Sheet3!$A$3)<3,0,SUMIFS(Sheet4!$DN$2:$DN$8408,Sheet4!$C$2:$C$8408,Sheet3!$B17,Sheet4!$D$2:$D$8408,Sheet3!CV$3,Sheet4!$A$2:$A$8408,Sheet3!$B$1,Sheet4!$B$2:$B$8408,Sheet3!$A$3))","v":683},{"$f":"+IF(SUMIFS(Sheet4!$DN$2:$DN$8408,Sheet4!$C$2:$C$8408,Sheet3!$B17,Sheet4!$D$2:$D$8408,Sheet3!CW$3,Sheet4!$A$2:$A$8408,Sheet3!$B$1,Sheet4!$B$2:$B$8408,Sheet3!$A$3)<3,0,SUMIFS(Sheet4!$DN$2:$DN$8408,Sheet4!$C$2:$C$8408,Sheet3!$B17,Sheet4!$D$2:$D$8408,Sheet3!CW$3,Sheet4!$A$2:$A$8408,Sheet3!$B$1,Sheet4!$B$2:$B$8408,Sheet3!$A$3))","v":780},{"$f":"+IF(SUMIFS(Sheet4!$DN$2:$DN$8408,Sheet4!$C$2:$C$8408,Sheet3!$B17,Sheet4!$D$2:$D$8408,Sheet3!CX$3,Sheet4!$A$2:$A$8408,Sheet3!$B$1,Sheet4!$B$2:$B$8408,Sheet3!$A$3)<3,0,SUMIFS(Sheet4!$DN$2:$DN$8408,Sheet4!$C$2:$C$8408,Sheet3!$B17,Sheet4!$D$2:$D$8408,Sheet3!CX$3,Sheet4!$A$2:$A$8408,Sheet3!$B$1,Sheet4!$B$2:$B$8408,Sheet3!$A$3))","v":6},{"$f":"+IF(SUMIFS(Sheet4!$DN$2:$DN$8408,Sheet4!$C$2:$C$8408,Sheet3!$B17,Sheet4!$D$2:$D$8408,Sheet3!CY$3,Sheet4!$A$2:$A$8408,Sheet3!$B$1,Sheet4!$B$2:$B$8408,Sheet3!$A$3)<3,0,SUMIFS(Sheet4!$DN$2:$DN$8408,Sheet4!$C$2:$C$8408,Sheet3!$B17,Sheet4!$D$2:$D$8408,Sheet3!CY$3,Sheet4!$A$2:$A$8408,Sheet3!$B$1,Sheet4!$B$2:$B$8408,Sheet3!$A$3))","v":0},{"$f":"+IF(SUMIFS(Sheet4!$DN$2:$DN$8408,Sheet4!$C$2:$C$8408,Sheet3!$B17,Sheet4!$D$2:$D$8408,Sheet3!CZ$3,Sheet4!$A$2:$A$8408,Sheet3!$B$1,Sheet4!$B$2:$B$8408,Sheet3!$A$3)<3,0,SUMIFS(Sheet4!$DN$2:$DN$8408,Sheet4!$C$2:$C$8408,Sheet3!$B17,Sheet4!$D$2:$D$8408,Sheet3!CZ$3,Sheet4!$A$2:$A$8408,Sheet3!$B$1,Sheet4!$B$2:$B$8408,Sheet3!$A$3))","v":291},{"$f":"+IF(SUMIFS(Sheet4!$DN$2:$DN$8408,Sheet4!$C$2:$C$8408,Sheet3!$B17,Sheet4!$D$2:$D$8408,Sheet3!DA$3,Sheet4!$A$2:$A$8408,Sheet3!$B$1,Sheet4!$B$2:$B$8408,Sheet3!$A$3)<3,0,SUMIFS(Sheet4!$DN$2:$DN$8408,Sheet4!$C$2:$C$8408,Sheet3!$B17,Sheet4!$D$2:$D$8408,Sheet3!DA$3,Sheet4!$A$2:$A$8408,Sheet3!$B$1,Sheet4!$B$2:$B$8408,Sheet3!$A$3))","v":71},{"$f":"+IF(SUMIFS(Sheet4!$DN$2:$DN$8408,Sheet4!$C$2:$C$8408,Sheet3!$B17,Sheet4!$D$2:$D$8408,Sheet3!DB$3,Sheet4!$A$2:$A$8408,Sheet3!$B$1,Sheet4!$B$2:$B$8408,Sheet3!$A$3)<3,0,SUMIFS(Sheet4!$DN$2:$DN$8408,Sheet4!$C$2:$C$8408,Sheet3!$B17,Sheet4!$D$2:$D$8408,Sheet3!DB$3,Sheet4!$A$2:$A$8408,Sheet3!$B$1,Sheet4!$B$2:$B$8408,Sheet3!$A$3))","v":231},{"$f":"+IF(SUMIFS(Sheet4!$DN$2:$DN$8408,Sheet4!$C$2:$C$8408,Sheet3!$B17,Sheet4!$D$2:$D$8408,Sheet3!DC$3,Sheet4!$A$2:$A$8408,Sheet3!$B$1,Sheet4!$B$2:$B$8408,Sheet3!$A$3)<3,0,SUMIFS(Sheet4!$DN$2:$DN$8408,Sheet4!$C$2:$C$8408,Sheet3!$B17,Sheet4!$D$2:$D$8408,Sheet3!DC$3,Sheet4!$A$2:$A$8408,Sheet3!$B$1,Sheet4!$B$2:$B$8408,Sheet3!$A$3))","v":0},{"$f":"+IF(SUMIFS(Sheet4!$DN$2:$DN$8408,Sheet4!$C$2:$C$8408,Sheet3!$B17,Sheet4!$D$2:$D$8408,Sheet3!DD$3,Sheet4!$A$2:$A$8408,Sheet3!$B$1,Sheet4!$B$2:$B$8408,Sheet3!$A$3)<3,0,SUMIFS(Sheet4!$DN$2:$DN$8408,Sheet4!$C$2:$C$8408,Sheet3!$B17,Sheet4!$D$2:$D$8408,Sheet3!DD$3,Sheet4!$A$2:$A$8408,Sheet3!$B$1,Sheet4!$B$2:$B$8408,Sheet3!$A$3))","v":858},{"$f":"+IF(SUMIFS(Sheet4!$DN$2:$DN$8408,Sheet4!$C$2:$C$8408,Sheet3!$B17,Sheet4!$D$2:$D$8408,Sheet3!DE$3,Sheet4!$A$2:$A$8408,Sheet3!$B$1,Sheet4!$B$2:$B$8408,Sheet3!$A$3)<3,0,SUMIFS(Sheet4!$DN$2:$DN$8408,Sheet4!$C$2:$C$8408,Sheet3!$B17,Sheet4!$D$2:$D$8408,Sheet3!DE$3,Sheet4!$A$2:$A$8408,Sheet3!$B$1,Sheet4!$B$2:$B$8408,Sheet3!$A$3))","v":189},{"$f":"+IF(SUMIFS(Sheet4!$DN$2:$DN$8408,Sheet4!$C$2:$C$8408,Sheet3!$B17,Sheet4!$D$2:$D$8408,Sheet3!DF$3,Sheet4!$A$2:$A$8408,Sheet3!$B$1,Sheet4!$B$2:$B$8408,Sheet3!$A$3)<3,0,SUMIFS(Sheet4!$DN$2:$DN$8408,Sheet4!$C$2:$C$8408,Sheet3!$B17,Sheet4!$D$2:$D$8408,Sheet3!DF$3,Sheet4!$A$2:$A$8408,Sheet3!$B$1,Sheet4!$B$2:$B$8408,Sheet3!$A$3))","v":48},{"$f":"+IF(SUMIFS(Sheet4!$DN$2:$DN$8408,Sheet4!$C$2:$C$8408,Sheet3!$B17,Sheet4!$D$2:$D$8408,Sheet3!DG$3,Sheet4!$A$2:$A$8408,Sheet3!$B$1,Sheet4!$B$2:$B$8408,Sheet3!$A$3)<3,0,SUMIFS(Sheet4!$DN$2:$DN$8408,Sheet4!$C$2:$C$8408,Sheet3!$B17,Sheet4!$D$2:$D$8408,Sheet3!DG$3,Sheet4!$A$2:$A$8408,Sheet3!$B$1,Sheet4!$B$2:$B$8408,Sheet3!$A$3))","v":228},{"$f":"+IF(SUMIFS(Sheet4!$DN$2:$DN$8408,Sheet4!$C$2:$C$8408,Sheet3!$B17,Sheet4!$D$2:$D$8408,Sheet3!DH$3,Sheet4!$A$2:$A$8408,Sheet3!$B$1,Sheet4!$B$2:$B$8408,Sheet3!$A$3)<3,0,SUMIFS(Sheet4!$DN$2:$DN$8408,Sheet4!$C$2:$C$8408,Sheet3!$B17,Sheet4!$D$2:$D$8408,Sheet3!DH$3,Sheet4!$A$2:$A$8408,Sheet3!$B$1,Sheet4!$B$2:$B$8408,Sheet3!$A$3))","v":17},{"$f":"+IF(SUMIFS(Sheet4!$DN$2:$DN$8408,Sheet4!$C$2:$C$8408,Sheet3!$B17,Sheet4!$D$2:$D$8408,Sheet3!DI$3,Sheet4!$A$2:$A$8408,Sheet3!$B$1,Sheet4!$B$2:$B$8408,Sheet3!$A$3)<3,0,SUMIFS(Sheet4!$DN$2:$DN$8408,Sheet4!$C$2:$C$8408,Sheet3!$B17,Sheet4!$D$2:$D$8408,Sheet3!DI$3,Sheet4!$A$2:$A$8408,Sheet3!$B$1,Sheet4!$B$2:$B$8408,Sheet3!$A$3))","v":69},{"$f":"+IF(SUMIFS(Sheet4!$DN$2:$DN$8408,Sheet4!$C$2:$C$8408,Sheet3!$B17,Sheet4!$D$2:$D$8408,Sheet3!DJ$3,Sheet4!$A$2:$A$8408,Sheet3!$B$1,Sheet4!$B$2:$B$8408,Sheet3!$A$3)<3,0,SUMIFS(Sheet4!$DN$2:$DN$8408,Sheet4!$C$2:$C$8408,Sheet3!$B17,Sheet4!$D$2:$D$8408,Sheet3!DJ$3,Sheet4!$A$2:$A$8408,Sheet3!$B$1,Sheet4!$B$2:$B$8408,Sheet3!$A$3))","v":334},{"$f":"+IF(SUMIFS(Sheet4!$DN$2:$DN$8408,Sheet4!$C$2:$C$8408,Sheet3!$B17,Sheet4!$D$2:$D$8408,Sheet3!DK$3,Sheet4!$A$2:$A$8408,Sheet3!$B$1,Sheet4!$B$2:$B$8408,Sheet3!$A$3)<3,0,SUMIFS(Sheet4!$DN$2:$DN$8408,Sheet4!$C$2:$C$8408,Sheet3!$B17,Sheet4!$D$2:$D$8408,Sheet3!DK$3,Sheet4!$A$2:$A$8408,Sheet3!$B$1,Sheet4!$B$2:$B$8408,Sheet3!$A$3))","v":458},{"$f":"+IF(SUMIFS(Sheet4!$DN$2:$DN$8408,Sheet4!$C$2:$C$8408,Sheet3!$B17,Sheet4!$D$2:$D$8408,Sheet3!DL$3,Sheet4!$A$2:$A$8408,Sheet3!$B$1,Sheet4!$B$2:$B$8408,Sheet3!$A$3)<3,0,SUMIFS(Sheet4!$DN$2:$DN$8408,Sheet4!$C$2:$C$8408,Sheet3!$B17,Sheet4!$D$2:$D$8408,Sheet3!DL$3,Sheet4!$A$2:$A$8408,Sheet3!$B$1,Sheet4!$B$2:$B$8408,Sheet3!$A$3))","v":0},{"$f":"+IF(SUMIFS(Sheet4!$DN$2:$DN$8408,Sheet4!$C$2:$C$8408,Sheet3!$B17,Sheet4!$D$2:$D$8408,Sheet3!DM$3,Sheet4!$A$2:$A$8408,Sheet3!$B$1,Sheet4!$B$2:$B$8408,Sheet3!$A$3)<3,0,SUMIFS(Sheet4!$DN$2:$DN$8408,Sheet4!$C$2:$C$8408,Sheet3!$B17,Sheet4!$D$2:$D$8408,Sheet3!DM$3,Sheet4!$A$2:$A$8408,Sheet3!$B$1,Sheet4!$B$2:$B$8408,Sheet3!$A$3))","v":33},{"$f":"+IF(SUMIFS(Sheet4!$DN$2:$DN$8408,Sheet4!$C$2:$C$8408,Sheet3!$B17,Sheet4!$E$2:$E$8408,Sheet3!DN$4,Sheet4!$A$2:$A$8408,Sheet3!$B$1,Sheet4!$B$2:$B$8408,Sheet3!$A$3)<3,0,SUMIFS(Sheet4!$DN$2:$DN$8408,Sheet4!$C$2:$C$8408,Sheet3!$B17,Sheet4!$E$2:$E$8408,Sheet3!DN$4,Sheet4!$A$2:$A$8408,Sheet3!$B$1,Sheet4!$B$2:$B$8408,Sheet3!$A$3))","v":2582},{"$f":"+IF(SUMIFS(Sheet4!$DN$2:$DN$8408,Sheet4!$C$2:$C$8408,Sheet3!$B17,Sheet4!$E$2:$E$8408,Sheet3!DO$4,Sheet4!$A$2:$A$8408,Sheet3!$B$1,Sheet4!$B$2:$B$8408,Sheet3!$A$3)<3,0,SUMIFS(Sheet4!$DN$2:$DN$8408,Sheet4!$C$2:$C$8408,Sheet3!$B17,Sheet4!$E$2:$E$8408,Sheet3!DO$4,Sheet4!$A$2:$A$8408,Sheet3!$B$1,Sheet4!$B$2:$B$8408,Sheet3!$A$3))","v":1333},{"$f":"+IF(SUMIFS(Sheet4!$DN$2:$DN$8408,Sheet4!$C$2:$C$8408,Sheet3!$B17,Sheet4!$E$2:$E$8408,Sheet3!DP$4,Sheet4!$A$2:$A$8408,Sheet3!$B$1,Sheet4!$B$2:$B$8408,Sheet3!$A$3)<3,0,SUMIFS(Sheet4!$DN$2:$DN$8408,Sheet4!$C$2:$C$8408,Sheet3!$B17,Sheet4!$E$2:$E$8408,Sheet3!DP$4,Sheet4!$A$2:$A$8408,Sheet3!$B$1,Sheet4!$B$2:$B$8408,Sheet3!$A$3))","v":257},{"$f":"+IF(SUMIFS(Sheet4!$DN$2:$DN$8408,Sheet4!$C$2:$C$8408,Sheet3!$B17,Sheet4!$E$2:$E$8408,Sheet3!DQ$4,Sheet4!$A$2:$A$8408,Sheet3!$B$1,Sheet4!$B$2:$B$8408,Sheet3!$A$3)<3,0,SUMIFS(Sheet4!$DN$2:$DN$8408,Sheet4!$C$2:$C$8408,Sheet3!$B17,Sheet4!$E$2:$E$8408,Sheet3!DQ$4,Sheet4!$A$2:$A$8408,Sheet3!$B$1,Sheet4!$B$2:$B$8408,Sheet3!$A$3))","v":125},{"$f":"+IF(SUMIFS(Sheet4!$DN$2:$DN$8408,Sheet4!$C$2:$C$8408,Sheet3!$B17,Sheet4!$E$2:$E$8408,Sheet3!DR$4,Sheet4!$A$2:$A$8408,Sheet3!$B$1,Sheet4!$B$2:$B$8408,Sheet3!$A$3)<3,0,SUMIFS(Sheet4!$DN$2:$DN$8408,Sheet4!$C$2:$C$8408,Sheet3!$B17,Sheet4!$E$2:$E$8408,Sheet3!DR$4,Sheet4!$A$2:$A$8408,Sheet3!$B$1,Sheet4!$B$2:$B$8408,Sheet3!$A$3))","v":15}]
[3,"16E","Região de Coimbra",{"$f":"+SUMIFS(Sheet4!$DM$2:$DM$8408,Sheet4!$C$2:$C$8408,Sheet3!$B18,Sheet4!$D$2:$D$8408,Sheet3!D$3,Sheet4!$E$2:$E$8408,Sheet3!D$4,Sheet4!$A$2:$A$8408,Sheet3!$B$1,Sheet4!$B$2:$B$8408,Sheet3!$A$3)","v":9},{"$f":"+SUMIFS(Sheet4!$DM$2:$DM$8408,Sheet4!$C$2:$C$8408,Sheet3!$B18,Sheet4!$D$2:$D$8408,Sheet3!E$3,Sheet4!$E$2:$E$8408,Sheet3!E$4,Sheet4!$A$2:$A$8408,Sheet3!$B$1,Sheet4!$B$2:$B$8408,Sheet3!$A$3)","v":11},{"$f":"+SUMIFS(Sheet4!$DM$2:$DM$8408,Sheet4!$C$2:$C$8408,Sheet3!$B18,Sheet4!$D$2:$D$8408,Sheet3!F$3,Sheet4!$E$2:$E$8408,Sheet3!F$4,Sheet4!$A$2:$A$8408,Sheet3!$B$1,Sheet4!$B$2:$B$8408,Sheet3!$A$3)","v":0},{"$f":"+SUMIFS(Sheet4!$DM$2:$DM$8408,Sheet4!$C$2:$C$8408,Sheet3!$B18,Sheet4!$D$2:$D$8408,Sheet3!G$3,Sheet4!$E$2:$E$8408,Sheet3!G$4,Sheet4!$A$2:$A$8408,Sheet3!$B$1,Sheet4!$B$2:$B$8408,Sheet3!$A$3)","v":0},{"$f":"+SUMIFS(Sheet4!$DM$2:$DM$8408,Sheet4!$C$2:$C$8408,Sheet3!$B18,Sheet4!$D$2:$D$8408,Sheet3!H$3,Sheet4!$E$2:$E$8408,Sheet3!H$4,Sheet4!$A$2:$A$8408,Sheet3!$B$1,Sheet4!$B$2:$B$8408,Sheet3!$A$3)","v":0},{"$f":"+SUMIFS(Sheet4!$DM$2:$DM$8408,Sheet4!$C$2:$C$8408,Sheet3!$B18,Sheet4!$D$2:$D$8408,Sheet3!I$3,Sheet4!$E$2:$E$8408,Sheet3!I$4,Sheet4!$A$2:$A$8408,Sheet3!$B$1,Sheet4!$B$2:$B$8408,Sheet3!$A$3)","v":557},{"$f":"+SUMIFS(Sheet4!$DM$2:$DM$8408,Sheet4!$C$2:$C$8408,Sheet3!$B18,Sheet4!$D$2:$D$8408,Sheet3!J$3,Sheet4!$E$2:$E$8408,Sheet3!J$4,Sheet4!$A$2:$A$8408,Sheet3!$B$1,Sheet4!$B$2:$B$8408,Sheet3!$A$3)","v":357},{"$f":"+SUMIFS(Sheet4!$DM$2:$DM$8408,Sheet4!$C$2:$C$8408,Sheet3!$B18,Sheet4!$D$2:$D$8408,Sheet3!K$3,Sheet4!$E$2:$E$8408,Sheet3!K$4,Sheet4!$A$2:$A$8408,Sheet3!$B$1,Sheet4!$B$2:$B$8408,Sheet3!$A$3)","v":93},{"$f":"+SUMIFS(Sheet4!$DM$2:$DM$8408,Sheet4!$C$2:$C$8408,Sheet3!$B18,Sheet4!$D$2:$D$8408,Sheet3!L$3,Sheet4!$E$2:$E$8408,Sheet3!L$4,Sheet4!$A$2:$A$8408,Sheet3!$B$1,Sheet4!$B$2:$B$8408,Sheet3!$A$3)","v":11},{"$f":"+SUMIFS(Sheet4!$DM$2:$DM$8408,Sheet4!$C$2:$C$8408,Sheet3!$B18,Sheet4!$D$2:$D$8408,Sheet3!M$3,Sheet4!$E$2:$E$8408,Sheet3!M$4,Sheet4!$A$2:$A$8408,Sheet3!$B$1,Sheet4!$B$2:$B$8408,Sheet3!$A$3)","v":0},{"$f":"+SUMIFS(Sheet4!$DM$2:$DM$8408,Sheet4!$C$2:$C$8408,Sheet3!$B18,Sheet4!$D$2:$D$8408,Sheet3!N$3,Sheet4!$E$2:$E$8408,Sheet3!N$4,Sheet4!$A$2:$A$8408,Sheet3!$B$1,Sheet4!$B$2:$B$8408,Sheet3!$A$3)","v":351},{"$f":"+SUMIFS(Sheet4!$DM$2:$DM$8408,Sheet4!$C$2:$C$8408,Sheet3!$B18,Sheet4!$D$2:$D$8408,Sheet3!O$3,Sheet4!$E$2:$E$8408,Sheet3!O$4,Sheet4!$A$2:$A$8408,Sheet3!$B$1,Sheet4!$B$2:$B$8408,Sheet3!$A$3)","v":33},{"$f":"+SUMIFS(Sheet4!$DM$2:$DM$8408,Sheet4!$C$2:$C$8408,Sheet3!$B18,Sheet4!$D$2:$D$8408,Sheet3!P$3,Sheet4!$E$2:$E$8408,Sheet3!P$4,Sheet4!$A$2:$A$8408,Sheet3!$B$1,Sheet4!$B$2:$B$8408,Sheet3!$A$3)","v":4},{"$f":"+SUMIFS(Sheet4!$DM$2:$DM$8408,Sheet4!$C$2:$C$8408,Sheet3!$B18,Sheet4!$D$2:$D$8408,Sheet3!Q$3,Sheet4!$E$2:$E$8408,Sheet3!Q$4,Sheet4!$A$2:$A$8408,Sheet3!$B$1,Sheet4!$B$2:$B$8408,Sheet3!$A$3)","v":0},{"$f":"+SUMIFS(Sheet4!$DM$2:$DM$8408,Sheet4!$C$2:$C$8408,Sheet3!$B18,Sheet4!$D$2:$D$8408,Sheet3!R$3,Sheet4!$E$2:$E$8408,Sheet3!R$4,Sheet4!$A$2:$A$8408,Sheet3!$B$1,Sheet4!$B$2:$B$8408,Sheet3!$A$3)","v":0},{"$f":"+SUMIFS(Sheet4!$DM$2:$DM$8408,Sheet4!$C$2:$C$8408,Sheet3!$B18,Sheet4!$D$2:$D$8408,Sheet3!S$3,Sheet4!$E$2:$E$8408,Sheet3!S$4,Sheet4!$A$2:$A$8408,Sheet3!$B$1,Sheet4!$B$2:$B$8408,Sheet3!$A$3)","v":84},{"$f":"+SUMIFS(Sheet4!$DM$2:$DM$8408,Sheet4!$C$2:$C$8408,Sheet3!$B18,Sheet4!$D$2:$D$8408,Sheet3!T$3,Sheet4!$E$2:$E$8408,Sheet3!T$4,Sheet4!$A$2:$A$8408,Sheet3!$B$1,Sheet4!$B$2:$B$8408,Sheet3!$A$3)","v":144},{"$f":"+SUMIFS(Sheet4!$DM$2:$DM$8408,Sheet4!$C$2:$C$8408,Sheet3!$B18,Sheet4!$D$2:$D$8408,Sheet3!U$3,Sheet4!$E$2:$E$8408,Sheet3!U$4,Sheet4!$A$2:$A$8408,Sheet3!$B$1,Sheet4!$B$2:$B$8408,Sheet3!$A$3)","v":55},{"$f":"+SUMIFS(Sheet4!$DM$2:$DM$8408,Sheet4!$C$2:$C$8408,Sheet3!$B18,Sheet4!$D$2:$D$8408,Sheet3!V$3,Sheet4!$E$2:$E$8408,Sheet3!V$4,Sheet4!$A$2:$A$8408,Sheet3!$B$1,Sheet4!$B$2:$B$8408,Sheet3!$A$3)","v":13},{"$f":"+SUMIFS(Sheet4!$DM$2:$DM$8408,Sheet4!$C$2:$C$8408,Sheet3!$B18,Sheet4!$D$2:$D$8408,Sheet3!W$3,Sheet4!$E$2:$E$8408,Sheet3!W$4,Sheet4!$A$2:$A$8408,Sheet3!$B$1,Sheet4!$B$2:$B$8408,Sheet3!$A$3)","v":0},{"$f":"+SUMIFS(Sheet4!$DM$2:$DM$8408,Sheet4!$C$2:$C$8408,Sheet3!$B18,Sheet4!$D$2:$D$8408,Sheet3!X$3,Sheet4!$E$2:$E$8408,Sheet3!X$4,Sheet4!$A$2:$A$8408,Sheet3!$B$1,Sheet4!$B$2:$B$8408,Sheet3!$A$3)","v":0},{"$f":"+SUMIFS(Sheet4!$DM$2:$DM$8408,Sheet4!$C$2:$C$8408,Sheet3!$B18,Sheet4!$D$2:$D$8408,Sheet3!Y$3,Sheet4!$E$2:$E$8408,Sheet3!Y$4,Sheet4!$A$2:$A$8408,Sheet3!$B$1,Sheet4!$B$2:$B$8408,Sheet3!$A$3)","v":3},{"$f":"+SUMIFS(Sheet4!$DM$2:$DM$8408,Sheet4!$C$2:$C$8408,Sheet3!$B18,Sheet4!$D$2:$D$8408,Sheet3!Z$3,Sheet4!$E$2:$E$8408,Sheet3!Z$4,Sheet4!$A$2:$A$8408,Sheet3!$B$1,Sheet4!$B$2:$B$8408,Sheet3!$A$3)","v":0},{"$f":"+SUMIFS(Sheet4!$DM$2:$DM$8408,Sheet4!$C$2:$C$8408,Sheet3!$B18,Sheet4!$D$2:$D$8408,Sheet3!AA$3,Sheet4!$E$2:$E$8408,Sheet3!AA$4,Sheet4!$A$2:$A$8408,Sheet3!$B$1,Sheet4!$B$2:$B$8408,Sheet3!$A$3)","v":0},{"$f":"+SUMIFS(Sheet4!$DM$2:$DM$8408,Sheet4!$C$2:$C$8408,Sheet3!$B18,Sheet4!$D$2:$D$8408,Sheet3!AB$3,Sheet4!$E$2:$E$8408,Sheet3!AB$4,Sheet4!$A$2:$A$8408,Sheet3!$B$1,Sheet4!$B$2:$B$8408,Sheet3!$A$3)","v":0},{"$f":"+SUMIFS(Sheet4!$DM$2:$DM$8408,Sheet4!$C$2:$C$8408,Sheet3!$B18,Sheet4!$D$2:$D$8408,Sheet3!AC$3,Sheet4!$E$2:$E$8408,Sheet3!AC$4,Sheet4!$A$2:$A$8408,Sheet3!$B$1,Sheet4!$B$2:$B$8408,Sheet3!$A$3)","v":336},{"$f":"+SUMIFS(Sheet4!$DM$2:$DM$8408,Sheet4!$C$2:$C$8408,Sheet3!$B18,Sheet4!$D$2:$D$8408,Sheet3!AD$3,Sheet4!$E$2:$E$8408,Sheet3!AD$4,Sheet4!$A$2:$A$8408,Sheet3!$B$1,Sheet4!$B$2:$B$8408,Sheet3!$A$3)","v":267},{"$f":"+SUMIFS(Sheet4!$DM$2:$DM$8408,Sheet4!$C$2:$C$8408,Sheet3!$B18,Sheet4!$D$2:$D$8408,Sheet3!AE$3,Sheet4!$E$2:$E$8408,Sheet3!AE$4,Sheet4!$A$2:$A$8408,Sheet3!$B$1,Sheet4!$B$2:$B$8408,Sheet3!$A$3)","v":33},{"$f":"+SUMIFS(Sheet4!$DM$2:$DM$8408,Sheet4!$C$2:$C$8408,Sheet3!$B18,Sheet4!$D$2:$D$8408,Sheet3!AF$3,Sheet4!$E$2:$E$8408,Sheet3!AF$4,Sheet4!$A$2:$A$8408,Sheet3!$B$1,Sheet4!$B$2:$B$8408,Sheet3!$A$3)","v":13},{"$f":"+SUMIFS(Sheet4!$DM$2:$DM$8408,Sheet4!$C$2:$C$8408,Sheet3!$B18,Sheet4!$D$2:$D$8408,Sheet3!AG$3,Sheet4!$E$2:$E$8408,Sheet3!AG$4,Sheet4!$A$2:$A$8408,Sheet3!$B$1,Sheet4!$B$2:$B$8408,Sheet3!$A$3)","v":0},{"$f":"+SUMIFS(Sheet4!$DM$2:$DM$8408,Sheet4!$C$2:$C$8408,Sheet3!$B18,Sheet4!$D$2:$D$8408,Sheet3!AH$3,Sheet4!$E$2:$E$8408,Sheet3!AH$4,Sheet4!$A$2:$A$8408,Sheet3!$B$1,Sheet4!$B$2:$B$8408,Sheet3!$A$3)","v":54},{"$f":"+SUMIFS(Sheet4!$DM$2:$DM$8408,Sheet4!$C$2:$C$8408,Sheet3!$B18,Sheet4!$D$2:$D$8408,Sheet3!AI$3,Sheet4!$E$2:$E$8408,Sheet3!AI$4,Sheet4!$A$2:$A$8408,Sheet3!$B$1,Sheet4!$B$2:$B$8408,Sheet3!$A$3)","v":58},{"$f":"+SUMIFS(Sheet4!$DM$2:$DM$8408,Sheet4!$C$2:$C$8408,Sheet3!$B18,Sheet4!$D$2:$D$8408,Sheet3!AJ$3,Sheet4!$E$2:$E$8408,Sheet3!AJ$4,Sheet4!$A$2:$A$8408,Sheet3!$B$1,Sheet4!$B$2:$B$8408,Sheet3!$A$3)","v":4},{"$f":"+SUMIFS(Sheet4!$DM$2:$DM$8408,Sheet4!$C$2:$C$8408,Sheet3!$B18,Sheet4!$D$2:$D$8408,Sheet3!AK$3,Sheet4!$E$2:$E$8408,Sheet3!AK$4,Sheet4!$A$2:$A$8408,Sheet3!$B$1,Sheet4!$B$2:$B$8408,Sheet3!$A$3)","v":0},{"$f":"+SUMIFS(Sheet4!$DM$2:$DM$8408,Sheet4!$C$2:$C$8408,Sheet3!$B18,Sheet4!$D$2:$D$8408,Sheet3!AL$3,Sheet4!$E$2:$E$8408,Sheet3!AL$4,Sheet4!$A$2:$A$8408,Sheet3!$B$1,Sheet4!$B$2:$B$8408,Sheet3!$A$3)","v":0},{"$f":"+SUMIFS(Sheet4!$DM$2:$DM$8408,Sheet4!$C$2:$C$8408,Sheet3!$B18,Sheet4!$D$2:$D$8408,Sheet3!AM$3,Sheet4!$E$2:$E$8408,Sheet3!AM$4,Sheet4!$A$2:$A$8408,Sheet3!$B$1,Sheet4!$B$2:$B$8408,Sheet3!$A$3)","v":55},{"$f":"+SUMIFS(Sheet4!$DM$2:$DM$8408,Sheet4!$C$2:$C$8408,Sheet3!$B18,Sheet4!$D$2:$D$8408,Sheet3!AN$3,Sheet4!$E$2:$E$8408,Sheet3!AN$4,Sheet4!$A$2:$A$8408,Sheet3!$B$1,Sheet4!$B$2:$B$8408,Sheet3!$A$3)","v":132},{"$f":"+SUMIFS(Sheet4!$DM$2:$DM$8408,Sheet4!$C$2:$C$8408,Sheet3!$B18,Sheet4!$D$2:$D$8408,Sheet3!AO$3,Sheet4!$E$2:$E$8408,Sheet3!AO$4,Sheet4!$A$2:$A$8408,Sheet3!$B$1,Sheet4!$B$2:$B$8408,Sheet3!$A$3)","v":60},{"$f":"+SUMIFS(Sheet4!$DM$2:$DM$8408,Sheet4!$C$2:$C$8408,Sheet3!$B18,Sheet4!$D$2:$D$8408,Sheet3!AP$3,Sheet4!$E$2:$E$8408,Sheet3!AP$4,Sheet4!$A$2:$A$8408,Sheet3!$B$1,Sheet4!$B$2:$B$8408,Sheet3!$A$3)","v":31},{"$f":"+SUMIFS(Sheet4!$DM$2:$DM$8408,Sheet4!$C$2:$C$8408,Sheet3!$B18,Sheet4!$D$2:$D$8408,Sheet3!AQ$3,Sheet4!$E$2:$E$8408,Sheet3!AQ$4,Sheet4!$A$2:$A$8408,Sheet3!$B$1,Sheet4!$B$2:$B$8408,Sheet3!$A$3)","v":0},{"$f":"+SUMIFS(Sheet4!$DM$2:$DM$8408,Sheet4!$C$2:$C$8408,Sheet3!$B18,Sheet4!$D$2:$D$8408,Sheet3!AR$3,Sheet4!$E$2:$E$8408,Sheet3!AR$4,Sheet4!$A$2:$A$8408,Sheet3!$B$1,Sheet4!$B$2:$B$8408,Sheet3!$A$3)","v":145},{"$f":"+SUMIFS(Sheet4!$DM$2:$DM$8408,Sheet4!$C$2:$C$8408,Sheet3!$B18,Sheet4!$D$2:$D$8408,Sheet3!AS$3,Sheet4!$E$2:$E$8408,Sheet3!AS$4,Sheet4!$A$2:$A$8408,Sheet3!$B$1,Sheet4!$B$2:$B$8408,Sheet3!$A$3)","v":0},{"$f":"+SUMIFS(Sheet4!$DM$2:$DM$8408,Sheet4!$C$2:$C$8408,Sheet3!$B18,Sheet4!$D$2:$D$8408,Sheet3!AT$3,Sheet4!$E$2:$E$8408,Sheet3!AT$4,Sheet4!$A$2:$A$8408,Sheet3!$B$1,Sheet4!$B$2:$B$8408,Sheet3!$A$3)","v":0},{"$f":"+SUMIFS(Sheet4!$DM$2:$DM$8408,Sheet4!$C$2:$C$8408,Sheet3!$B18,Sheet4!$D$2:$D$8408,Sheet3!AU$3,Sheet4!$E$2:$E$8408,Sheet3!AU$4,Sheet4!$A$2:$A$8408,Sheet3!$B$1,Sheet4!$B$2:$B$8408,Sheet3!$A$3)","v":0},{"$f":"+SUMIFS(Sheet4!$DM$2:$DM$8408,Sheet4!$C$2:$C$8408,Sheet3!$B18,Sheet4!$D$2:$D$8408,Sheet3!AV$3,Sheet4!$E$2:$E$8408,Sheet3!AV$4,Sheet4!$A$2:$A$8408,Sheet3!$B$1,Sheet4!$B$2:$B$8408,Sheet3!$A$3)","v":0},{"$f":"+SUMIFS(Sheet4!$DM$2:$DM$8408,Sheet4!$C$2:$C$8408,Sheet3!$B18,Sheet4!$D$2:$D$8408,Sheet3!AW$3,Sheet4!$E$2:$E$8408,Sheet3!AW$4,Sheet4!$A$2:$A$8408,Sheet3!$B$1,Sheet4!$B$2:$B$8408,Sheet3!$A$3)","v":1528},{"$f":"+SUMIFS(Sheet4!$DM$2:$DM$8408,Sheet4!$C$2:$C$8408,Sheet3!$B18,Sheet4!$D$2:$D$8408,Sheet3!AX$3,Sheet4!$E$2:$E$8408,Sheet3!AX$4,Sheet4!$A$2:$A$8408,Sheet3!$B$1,Sheet4!$B$2:$B$8408,Sheet3!$A$3)","v":455},{"$f":"+SUMIFS(Sheet4!$DM$2:$DM$8408,Sheet4!$C$2:$C$8408,Sheet3!$B18,Sheet4!$D$2:$D$8408,Sheet3!AY$3,Sheet4!$E$2:$E$8408,Sheet3!AY$4,Sheet4!$A$2:$A$8408,Sheet3!$B$1,Sheet4!$B$2:$B$8408,Sheet3!$A$3)","v":29},{"$f":"+SUMIFS(Sheet4!$DM$2:$DM$8408,Sheet4!$C$2:$C$8408,Sheet3!$B18,Sheet4!$D$2:$D$8408,Sheet3!AZ$3,Sheet4!$E$2:$E$8408,Sheet3!AZ$4,Sheet4!$A$2:$A$8408,Sheet3!$B$1,Sheet4!$B$2:$B$8408,Sheet3!$A$3)","v":7},{"$f":"+SUMIFS(Sheet4!$DM$2:$DM$8408,Sheet4!$C$2:$C$8408,Sheet3!$B18,Sheet4!$D$2:$D$8408,Sheet3!BA$3,Sheet4!$E$2:$E$8408,Sheet3!BA$4,Sheet4!$A$2:$A$8408,Sheet3!$B$1,Sheet4!$B$2:$B$8408,Sheet3!$A$3)","v":0},{"$f":"+SUMIFS(Sheet4!$DM$2:$DM$8408,Sheet4!$C$2:$C$8408,Sheet3!$B18,Sheet4!$D$2:$D$8408,Sheet3!BB$3,Sheet4!$E$2:$E$8408,Sheet3!BB$4,Sheet4!$A$2:$A$8408,Sheet3!$B$1,Sheet4!$B$2:$B$8408,Sheet3!$A$3)","v":6},{"$f":"+SUMIFS(Sheet4!$DM$2:$DM$8408,Sheet4!$C$2:$C$8408,Sheet3!$B18,Sheet4!$D$2:$D$8408,Sheet3!BC$3,Sheet4!$E$2:$E$8408,Sheet3!BC$4,Sheet4!$A$2:$A$8408,Sheet3!$B$1,Sheet4!$B$2:$B$8408,Sheet3!$A$3)","v":17},{"$f":"+SUMIFS(Sheet4!$DM$2:$DM$8408,Sheet4!$C$2:$C$8408,Sheet3!$B18,Sheet4!$D$2:$D$8408,Sheet3!BD$3,Sheet4!$E$2:$E$8408,Sheet3!BD$4,Sheet4!$A$2:$A$8408,Sheet3!$B$1,Sheet4!$B$2:$B$8408,Sheet3!$A$3)","v":47},{"$f":"+SUMIFS(Sheet4!$DM$2:$DM$8408,Sheet4!$C$2:$C$8408,Sheet3!$B18,Sheet4!$D$2:$D$8408,Sheet3!BE$3,Sheet4!$E$2:$E$8408,Sheet3!BE$4,Sheet4!$A$2:$A$8408,Sheet3!$B$1,Sheet4!$B$2:$B$8408,Sheet3!$A$3)","v":25},{"$f":"+SUMIFS(Sheet4!$DM$2:$DM$8408,Sheet4!$C$2:$C$8408,Sheet3!$B18,Sheet4!$D$2:$D$8408,Sheet3!BF$3,Sheet4!$E$2:$E$8408,Sheet3!BF$4,Sheet4!$A$2:$A$8408,Sheet3!$B$1,Sheet4!$B$2:$B$8408,Sheet3!$A$3)","v":3},{"$f":"+SUMIFS(Sheet4!$DM$2:$DM$8408,Sheet4!$C$2:$C$8408,Sheet3!$B18,Sheet4!$D$2:$D$8408,Sheet3!BG$3,Sheet4!$E$2:$E$8408,Sheet3!BG$4,Sheet4!$A$2:$A$8408,Sheet3!$B$1,Sheet4!$B$2:$B$8408,Sheet3!$A$3)","v":17},{"$f":"+SUMIFS(Sheet4!$DM$2:$DM$8408,Sheet4!$C$2:$C$8408,Sheet3!$B18,Sheet4!$D$2:$D$8408,Sheet3!BH$3,Sheet4!$E$2:$E$8408,Sheet3!BH$4,Sheet4!$A$2:$A$8408,Sheet3!$B$1,Sheet4!$B$2:$B$8408,Sheet3!$A$3)","v":14},{"$f":"+SUMIFS(Sheet4!$DM$2:$DM$8408,Sheet4!$C$2:$C$8408,Sheet3!$B18,Sheet4!$D$2:$D$8408,Sheet3!BI$3,Sheet4!$E$2:$E$8408,Sheet3!BI$4,Sheet4!$A$2:$A$8408,Sheet3!$B$1,Sheet4!$B$2:$B$8408,Sheet3!$A$3)","v":6},{"$f":"+SUMIFS(Sheet4!$DM$2:$DM$8408,Sheet4!$C$2:$C$8408,Sheet3!$B18,Sheet4!$D$2:$D$8408,Sheet3!BJ$3,Sheet4!$E$2:$E$8408,Sheet3!BJ$4,Sheet4!$A$2:$A$8408,Sheet3!$B$1,Sheet4!$B$2:$B$8408,Sheet3!$A$3)","v":0},{"$f":"+SUMIFS(Sheet4!$DM$2:$DM$8408,Sheet4!$C$2:$C$8408,Sheet3!$B18,Sheet4!$D$2:$D$8408,Sheet3!BK$3,Sheet4!$E$2:$E$8408,Sheet3!BK$4,Sheet4!$A$2:$A$8408,Sheet3!$B$1,Sheet4!$B$2:$B$8408,Sheet3!$A$3)","v":0},{"$f":"+SUMIFS(Sheet4!$DM$2:$DM$8408,Sheet4!$C$2:$C$8408,Sheet3!$B18,Sheet4!$D$2:$D$8408,Sheet3!BL$3,Sheet4!$E$2:$E$8408,Sheet3!BL$4,Sheet4!$A$2:$A$8408,Sheet3!$B$1,Sheet4!$B$2:$B$8408,Sheet3!$A$3)","v":61},{"$f":"+SUMIFS(Sheet4!$DM$2:$DM$8408,Sheet4!$C$2:$C$8408,Sheet3!$B18,Sheet4!$D$2:$D$8408,Sheet3!BM$3,Sheet4!$E$2:$E$8408,Sheet3!BM$4,Sheet4!$A$2:$A$8408,Sheet3!$B$1,Sheet4!$B$2:$B$8408,Sheet3!$A$3)","v":72},{"$f":"+SUMIFS(Sheet4!$DM$2:$DM$8408,Sheet4!$C$2:$C$8408,Sheet3!$B18,Sheet4!$D$2:$D$8408,Sheet3!BN$3,Sheet4!$E$2:$E$8408,Sheet3!BN$4,Sheet4!$A$2:$A$8408,Sheet3!$B$1,Sheet4!$B$2:$B$8408,Sheet3!$A$3)","v":15},{"$f":"+SUMIFS(Sheet4!$DM$2:$DM$8408,Sheet4!$C$2:$C$8408,Sheet3!$B18,Sheet4!$D$2:$D$8408,Sheet3!BO$3,Sheet4!$E$2:$E$8408,Sheet3!BO$4,Sheet4!$A$2:$A$8408,Sheet3!$B$1,Sheet4!$B$2:$B$8408,Sheet3!$A$3)","v":0},{"$f":"+SUMIFS(Sheet4!$DM$2:$DM$8408,Sheet4!$C$2:$C$8408,Sheet3!$B18,Sheet4!$D$2:$D$8408,Sheet3!BP$3,Sheet4!$E$2:$E$8408,Sheet3!BP$4,Sheet4!$A$2:$A$8408,Sheet3!$B$1,Sheet4!$B$2:$B$8408,Sheet3!$A$3)","v":0},{"$f":"+SUMIFS(Sheet4!$DM$2:$DM$8408,Sheet4!$C$2:$C$8408,Sheet3!$B18,Sheet4!$D$2:$D$8408,Sheet3!BQ$3,Sheet4!$E$2:$E$8408,Sheet3!BQ$4,Sheet4!$A$2:$A$8408,Sheet3!$B$1,Sheet4!$B$2:$B$8408,Sheet3!$A$3)","v":14},{"$f":"+SUMIFS(Sheet4!$DM$2:$DM$8408,Sheet4!$C$2:$C$8408,Sheet3!$B18,Sheet4!$D$2:$D$8408,Sheet3!BR$3,Sheet4!$E$2:$E$8408,Sheet3!BR$4,Sheet4!$A$2:$A$8408,Sheet3!$B$1,Sheet4!$B$2:$B$8408,Sheet3!$A$3)","v":7},{"$f":"+SUMIFS(Sheet4!$DM$2:$DM$8408,Sheet4!$C$2:$C$8408,Sheet3!$B18,Sheet4!$D$2:$D$8408,Sheet3!BS$3,Sheet4!$E$2:$E$8408,Sheet3!BS$4,Sheet4!$A$2:$A$8408,Sheet3!$B$1,Sheet4!$B$2:$B$8408,Sheet3!$A$3)","v":0},{"$f":"+SUMIFS(Sheet4!$DM$2:$DM$8408,Sheet4!$C$2:$C$8408,Sheet3!$B18,Sheet4!$D$2:$D$8408,Sheet3!BT$3,Sheet4!$E$2:$E$8408,Sheet3!BT$4,Sheet4!$A$2:$A$8408,Sheet3!$B$1,Sheet4!$B$2:$B$8408,Sheet3!$A$3)","v":0},{"$f":"+SUMIFS(Sheet4!$DM$2:$DM$8408,Sheet4!$C$2:$C$8408,Sheet3!$B18,Sheet4!$D$2:$D$8408,Sheet3!BU$3,Sheet4!$E$2:$E$8408,Sheet3!BU$4,Sheet4!$A$2:$A$8408,Sheet3!$B$1,Sheet4!$B$2:$B$8408,Sheet3!$A$3)","v":0},{"$f":"+SUMIFS(Sheet4!$DM$2:$DM$8408,Sheet4!$C$2:$C$8408,Sheet3!$B18,Sheet4!$D$2:$D$8408,Sheet3!BV$3,Sheet4!$E$2:$E$8408,Sheet3!BV$4,Sheet4!$A$2:$A$8408,Sheet3!$B$1,Sheet4!$B$2:$B$8408,Sheet3!$A$3)","v":288},{"$f":"+SUMIFS(Sheet4!$DM$2:$DM$8408,Sheet4!$C$2:$C$8408,Sheet3!$B18,Sheet4!$D$2:$D$8408,Sheet3!BW$3,Sheet4!$E$2:$E$8408,Sheet3!BW$4,Sheet4!$A$2:$A$8408,Sheet3!$B$1,Sheet4!$B$2:$B$8408,Sheet3!$A$3)","v":226},{"$f":"+SUMIFS(Sheet4!$DM$2:$DM$8408,Sheet4!$C$2:$C$8408,Sheet3!$B18,Sheet4!$D$2:$D$8408,Sheet3!BX$3,Sheet4!$E$2:$E$8408,Sheet3!BX$4,Sheet4!$A$2:$A$8408,Sheet3!$B$1,Sheet4!$B$2:$B$8408,Sheet3!$A$3)","v":22},{"$f":"+SUMIFS(Sheet4!$DM$2:$DM$8408,Sheet4!$C$2:$C$8408,Sheet3!$B18,Sheet4!$D$2:$D$8408,Sheet3!BY$3,Sheet4!$E$2:$E$8408,Sheet3!BY$4,Sheet4!$A$2:$A$8408,Sheet3!$B$1,Sheet4!$B$2:$B$8408,Sheet3!$A$3)","v":0},{"$f":"+SUMIFS(Sheet4!$DM$2:$DM$8408,Sheet4!$C$2:$C$8408,Sheet3!$B18,Sheet4!$D$2:$D$8408,Sheet3!BZ$3,Sheet4!$E$2:$E$8408,Sheet3!BZ$4,Sheet4!$A$2:$A$8408,Sheet3!$B$1,Sheet4!$B$2:$B$8408,Sheet3!$A$3)","v":0},{"$f":"+SUMIFS(Sheet4!$DM$2:$DM$8408,Sheet4!$C$2:$C$8408,Sheet3!$B18,Sheet4!$D$2:$D$8408,Sheet3!CA$3,Sheet4!$E$2:$E$8408,Sheet3!CA$4,Sheet4!$A$2:$A$8408,Sheet3!$B$1,Sheet4!$B$2:$B$8408,Sheet3!$A$3)","v":270},{"$f":"+SUMIFS(Sheet4!$DM$2:$DM$8408,Sheet4!$C$2:$C$8408,Sheet3!$B18,Sheet4!$D$2:$D$8408,Sheet3!CB$3,Sheet4!$E$2:$E$8408,Sheet3!CB$4,Sheet4!$A$2:$A$8408,Sheet3!$B$1,Sheet4!$B$2:$B$8408,Sheet3!$A$3)","v":227},{"$f":"+SUMIFS(Sheet4!$DM$2:$DM$8408,Sheet4!$C$2:$C$8408,Sheet3!$B18,Sheet4!$D$2:$D$8408,Sheet3!CC$3,Sheet4!$E$2:$E$8408,Sheet3!CC$4,Sheet4!$A$2:$A$8408,Sheet3!$B$1,Sheet4!$B$2:$B$8408,Sheet3!$A$3)","v":9},{"$f":"+SUMIFS(Sheet4!$DM$2:$DM$8408,Sheet4!$C$2:$C$8408,Sheet3!$B18,Sheet4!$D$2:$D$8408,Sheet3!CD$3,Sheet4!$E$2:$E$8408,Sheet3!CD$4,Sheet4!$A$2:$A$8408,Sheet3!$B$1,Sheet4!$B$2:$B$8408,Sheet3!$A$3)","v":0},{"$f":"+SUMIFS(Sheet4!$DM$2:$DM$8408,Sheet4!$C$2:$C$8408,Sheet3!$B18,Sheet4!$D$2:$D$8408,Sheet3!CE$3,Sheet4!$E$2:$E$8408,Sheet3!CE$4,Sheet4!$A$2:$A$8408,Sheet3!$B$1,Sheet4!$B$2:$B$8408,Sheet3!$A$3)","v":0},{"$f":"+SUMIFS(Sheet4!$DM$2:$DM$8408,Sheet4!$C$2:$C$8408,Sheet3!$B18,Sheet4!$D$2:$D$8408,Sheet3!CF$3,Sheet4!$E$2:$E$8408,Sheet3!CF$4,Sheet4!$A$2:$A$8408,Sheet3!$B$1,Sheet4!$B$2:$B$8408,Sheet3!$A$3)","v":352},{"$f":"+SUMIFS(Sheet4!$DM$2:$DM$8408,Sheet4!$C$2:$C$8408,Sheet3!$B18,Sheet4!$D$2:$D$8408,Sheet3!CG$3,Sheet4!$E$2:$E$8408,Sheet3!CG$4,Sheet4!$A$2:$A$8408,Sheet3!$B$1,Sheet4!$B$2:$B$8408,Sheet3!$A$3)","v":34},{"$f":"+SUMIFS(Sheet4!$DM$2:$DM$8408,Sheet4!$C$2:$C$8408,Sheet3!$B18,Sheet4!$D$2:$D$8408,Sheet3!CH$3,Sheet4!$E$2:$E$8408,Sheet3!CH$4,Sheet4!$A$2:$A$8408,Sheet3!$B$1,Sheet4!$B$2:$B$8408,Sheet3!$A$3)","v":0},{"$f":"+SUMIFS(Sheet4!$DM$2:$DM$8408,Sheet4!$C$2:$C$8408,Sheet3!$B18,Sheet4!$D$2:$D$8408,Sheet3!CI$3,Sheet4!$E$2:$E$8408,Sheet3!CI$4,Sheet4!$A$2:$A$8408,Sheet3!$B$1,Sheet4!$B$2:$B$8408,Sheet3!$A$3)","v":0},{"$f":"+SUMIFS(Sheet4!$DM$2:$DM$8408,Sheet4!$C$2:$C$8408,Sheet3!$B18,Sheet4!$D$2:$D$8408,Sheet3!CJ$3,Sheet4!$E$2:$E$8408,Sheet3!CJ$4,Sheet4!$A$2:$A$8408,Sheet3!$B$1,Sheet4!$B$2:$B$8408,Sheet3!$A$3)","v":0},{"$f":"+SUMIFS(Sheet4!$DM$2:$DM$8408,Sheet4!$C$2:$C$8408,Sheet3!$B18,Sheet4!$D$2:$D$8408,Sheet3!CK$3,Sheet4!$E$2:$E$8408,Sheet3!CK$4,Sheet4!$A$2:$A$8408,Sheet3!$B$1,Sheet4!$B$2:$B$8408,Sheet3!$A$3)","v":0},{"$f":"+SUMIFS(Sheet4!$DM$2:$DM$8408,Sheet4!$C$2:$C$8408,Sheet3!$B18,Sheet4!$D$2:$D$8408,Sheet3!CL$3,Sheet4!$E$2:$E$8408,Sheet3!CL$4,Sheet4!$A$2:$A$8408,Sheet3!$B$1,Sheet4!$B$2:$B$8408,Sheet3!$A$3)","v":0},{"$f":"+SUMIFS(Sheet4!$DM$2:$DM$8408,Sheet4!$C$2:$C$8408,Sheet3!$B18,Sheet4!$D$2:$D$8408,Sheet3!CM$3,Sheet4!$E$2:$E$8408,Sheet3!CM$4,Sheet4!$A$2:$A$8408,Sheet3!$B$1,Sheet4!$B$2:$B$8408,Sheet3!$A$3)","v":0},{"$f":"+SUMIFS(Sheet4!$DM$2:$DM$8408,Sheet4!$C$2:$C$8408,Sheet3!$B18,Sheet4!$D$2:$D$8408,Sheet3!CN$3,Sheet4!$E$2:$E$8408,Sheet3!CN$4,Sheet4!$A$2:$A$8408,Sheet3!$B$1,Sheet4!$B$2:$B$8408,Sheet3!$A$3)","v":0},{"$f":"+SUMIFS(Sheet4!$DM$2:$DM$8408,Sheet4!$C$2:$C$8408,Sheet3!$B18,Sheet4!$D$2:$D$8408,Sheet3!CO$3,Sheet4!$E$2:$E$8408,Sheet3!CO$4,Sheet4!$A$2:$A$8408,Sheet3!$B$1,Sheet4!$B$2:$B$8408,Sheet3!$A$3)","v":0},{"$f":"+SUMIFS(Sheet4!$DM$2:$DM$8408,Sheet4!$C$2:$C$8408,Sheet3!$B18,Sheet4!$D$2:$D$8408,Sheet3!CP$3,Sheet4!$E$2:$E$8408,Sheet3!CP$4,Sheet4!$A$2:$A$8408,Sheet3!$B$1,Sheet4!$B$2:$B$8408,Sheet3!$A$3)","v":18},{"$f":"+SUMIFS(Sheet4!$DM$2:$DM$8408,Sheet4!$C$2:$C$8408,Sheet3!$B18,Sheet4!$D$2:$D$8408,Sheet3!CQ$3,Sheet4!$E$2:$E$8408,Sheet3!CQ$4,Sheet4!$A$2:$A$8408,Sheet3!$B$1,Sheet4!$B$2:$B$8408,Sheet3!$A$3)","v":9},{"$f":"+SUMIFS(Sheet4!$DM$2:$DM$8408,Sheet4!$C$2:$C$8408,Sheet3!$B18,Sheet4!$D$2:$D$8408,Sheet3!CR$3,Sheet4!$E$2:$E$8408,Sheet3!CR$4,Sheet4!$A$2:$A$8408,Sheet3!$B$1,Sheet4!$B$2:$B$8408,Sheet3!$A$3)","v":0},{"$f":"+SUMIFS(Sheet4!$DM$2:$DM$8408,Sheet4!$C$2:$C$8408,Sheet3!$B18,Sheet4!$D$2:$D$8408,Sheet3!CS$3,Sheet4!$E$2:$E$8408,Sheet3!CS$4,Sheet4!$A$2:$A$8408,Sheet3!$B$1,Sheet4!$B$2:$B$8408,Sheet3!$A$3)","v":0},{"$f":"+SUMIFS(Sheet4!$DM$2:$DM$8408,Sheet4!$C$2:$C$8408,Sheet3!$B18,Sheet4!$D$2:$D$8408,Sheet3!CT$3,Sheet4!$E$2:$E$8408,Sheet3!CT$4,Sheet4!$A$2:$A$8408,Sheet3!$B$1,Sheet4!$B$2:$B$8408,Sheet3!$A$3)","v":0},{"$f":"+IF(SUMIFS(Sheet4!$DN$2:$DN$8408,Sheet4!$C$2:$C$8408,Sheet3!$B18,Sheet4!$D$2:$D$8408,Sheet3!CU$3,Sheet4!$A$2:$A$8408,Sheet3!$B$1,Sheet4!$B$2:$B$8408,Sheet3!$A$3)<3,0,SUMIFS(Sheet4!$DN$2:$DN$8408,Sheet4!$C$2:$C$8408,Sheet3!$B18,Sheet4!$D$2:$D$8408,Sheet3!CU$3,Sheet4!$A$2:$A$8408,Sheet3!$B$1,Sheet4!$B$2:$B$8408,Sheet3!$A$3))","v":28},{"$f":"+IF(SUMIFS(Sheet4!$DN$2:$DN$8408,Sheet4!$C$2:$C$8408,Sheet3!$B18,Sheet4!$D$2:$D$8408,Sheet3!CV$3,Sheet4!$A$2:$A$8408,Sheet3!$B$1,Sheet4!$B$2:$B$8408,Sheet3!$A$3)<3,0,SUMIFS(Sheet4!$DN$2:$DN$8408,Sheet4!$C$2:$C$8408,Sheet3!$B18,Sheet4!$D$2:$D$8408,Sheet3!CV$3,Sheet4!$A$2:$A$8408,Sheet3!$B$1,Sheet4!$B$2:$B$8408,Sheet3!$A$3))","v":1021},{"$f":"+IF(SUMIFS(Sheet4!$DN$2:$DN$8408,Sheet4!$C$2:$C$8408,Sheet3!$B18,Sheet4!$D$2:$D$8408,Sheet3!CW$3,Sheet4!$A$2:$A$8408,Sheet3!$B$1,Sheet4!$B$2:$B$8408,Sheet3!$A$3)<3,0,SUMIFS(Sheet4!$DN$2:$DN$8408,Sheet4!$C$2:$C$8408,Sheet3!$B18,Sheet4!$D$2:$D$8408,Sheet3!CW$3,Sheet4!$A$2:$A$8408,Sheet3!$B$1,Sheet4!$B$2:$B$8408,Sheet3!$A$3))","v":388},{"$f":"+IF(SUMIFS(Sheet4!$DN$2:$DN$8408,Sheet4!$C$2:$C$8408,Sheet3!$B18,Sheet4!$D$2:$D$8408,Sheet3!CX$3,Sheet4!$A$2:$A$8408,Sheet3!$B$1,Sheet4!$B$2:$B$8408,Sheet3!$A$3)<3,0,SUMIFS(Sheet4!$DN$2:$DN$8408,Sheet4!$C$2:$C$8408,Sheet3!$B18,Sheet4!$D$2:$D$8408,Sheet3!CX$3,Sheet4!$A$2:$A$8408,Sheet3!$B$1,Sheet4!$B$2:$B$8408,Sheet3!$A$3))","v":298},{"$f":"+IF(SUMIFS(Sheet4!$DN$2:$DN$8408,Sheet4!$C$2:$C$8408,Sheet3!$B18,Sheet4!$D$2:$D$8408,Sheet3!CY$3,Sheet4!$A$2:$A$8408,Sheet3!$B$1,Sheet4!$B$2:$B$8408,Sheet3!$A$3)<3,0,SUMIFS(Sheet4!$DN$2:$DN$8408,Sheet4!$C$2:$C$8408,Sheet3!$B18,Sheet4!$D$2:$D$8408,Sheet3!CY$3,Sheet4!$A$2:$A$8408,Sheet3!$B$1,Sheet4!$B$2:$B$8408,Sheet3!$A$3))","v":5},{"$f":"+IF(SUMIFS(Sheet4!$DN$2:$DN$8408,Sheet4!$C$2:$C$8408,Sheet3!$B18,Sheet4!$D$2:$D$8408,Sheet3!CZ$3,Sheet4!$A$2:$A$8408,Sheet3!$B$1,Sheet4!$B$2:$B$8408,Sheet3!$A$3)<3,0,SUMIFS(Sheet4!$DN$2:$DN$8408,Sheet4!$C$2:$C$8408,Sheet3!$B18,Sheet4!$D$2:$D$8408,Sheet3!CZ$3,Sheet4!$A$2:$A$8408,Sheet3!$B$1,Sheet4!$B$2:$B$8408,Sheet3!$A$3))","v":657},{"$f":"+IF(SUMIFS(Sheet4!$DN$2:$DN$8408,Sheet4!$C$2:$C$8408,Sheet3!$B18,Sheet4!$D$2:$D$8408,Sheet3!DA$3,Sheet4!$A$2:$A$8408,Sheet3!$B$1,Sheet4!$B$2:$B$8408,Sheet3!$A$3)<3,0,SUMIFS(Sheet4!$DN$2:$DN$8408,Sheet4!$C$2:$C$8408,Sheet3!$B18,Sheet4!$D$2:$D$8408,Sheet3!DA$3,Sheet4!$A$2:$A$8408,Sheet3!$B$1,Sheet4!$B$2:$B$8408,Sheet3!$A$3))","v":117},{"$f":"+IF(SUMIFS(Sheet4!$DN$2:$DN$8408,Sheet4!$C$2:$C$8408,Sheet3!$B18,Sheet4!$D$2:$D$8408,Sheet3!DB$3,Sheet4!$A$2:$A$8408,Sheet3!$B$1,Sheet4!$B$2:$B$8408,Sheet3!$A$3)<3,0,SUMIFS(Sheet4!$DN$2:$DN$8408,Sheet4!$C$2:$C$8408,Sheet3!$B18,Sheet4!$D$2:$D$8408,Sheet3!DB$3,Sheet4!$A$2:$A$8408,Sheet3!$B$1,Sheet4!$B$2:$B$8408,Sheet3!$A$3))","v":281},{"$f":"+IF(SUMIFS(Sheet4!$DN$2:$DN$8408,Sheet4!$C$2:$C$8408,Sheet3!$B18,Sheet4!$D$2:$D$8408,Sheet3!DC$3,Sheet4!$A$2:$A$8408,Sheet3!$B$1,Sheet4!$B$2:$B$8408,Sheet3!$A$3)<3,0,SUMIFS(Sheet4!$DN$2:$DN$8408,Sheet4!$C$2:$C$8408,Sheet3!$B18,Sheet4!$D$2:$D$8408,Sheet3!DC$3,Sheet4!$A$2:$A$8408,Sheet3!$B$1,Sheet4!$B$2:$B$8408,Sheet3!$A$3))","v":149},{"$f":"+IF(SUMIFS(Sheet4!$DN$2:$DN$8408,Sheet4!$C$2:$C$8408,Sheet3!$B18,Sheet4!$D$2:$D$8408,Sheet3!DD$3,Sheet4!$A$2:$A$8408,Sheet3!$B$1,Sheet4!$B$2:$B$8408,Sheet3!$A$3)<3,0,SUMIFS(Sheet4!$DN$2:$DN$8408,Sheet4!$C$2:$C$8408,Sheet3!$B18,Sheet4!$D$2:$D$8408,Sheet3!DD$3,Sheet4!$A$2:$A$8408,Sheet3!$B$1,Sheet4!$B$2:$B$8408,Sheet3!$A$3))","v":2025},{"$f":"+IF(SUMIFS(Sheet4!$DN$2:$DN$8408,Sheet4!$C$2:$C$8408,Sheet3!$B18,Sheet4!$D$2:$D$8408,Sheet3!DE$3,Sheet4!$A$2:$A$8408,Sheet3!$B$1,Sheet4!$B$2:$B$8408,Sheet3!$A$3)<3,0,SUMIFS(Sheet4!$DN$2:$DN$8408,Sheet4!$C$2:$C$8408,Sheet3!$B18,Sheet4!$D$2:$D$8408,Sheet3!DE$3,Sheet4!$A$2:$A$8408,Sheet3!$B$1,Sheet4!$B$2:$B$8408,Sheet3!$A$3))","v":100},{"$f":"+IF(SUMIFS(Sheet4!$DN$2:$DN$8408,Sheet4!$C$2:$C$8408,Sheet3!$B18,Sheet4!$D$2:$D$8408,Sheet3!DF$3,Sheet4!$A$2:$A$8408,Sheet3!$B$1,Sheet4!$B$2:$B$8408,Sheet3!$A$3)<3,0,SUMIFS(Sheet4!$DN$2:$DN$8408,Sheet4!$C$2:$C$8408,Sheet3!$B18,Sheet4!$D$2:$D$8408,Sheet3!DF$3,Sheet4!$A$2:$A$8408,Sheet3!$B$1,Sheet4!$B$2:$B$8408,Sheet3!$A$3))","v":38},{"$f":"+IF(SUMIFS(Sheet4!$DN$2:$DN$8408,Sheet4!$C$2:$C$8408,Sheet3!$B18,Sheet4!$D$2:$D$8408,Sheet3!DG$3,Sheet4!$A$2:$A$8408,Sheet3!$B$1,Sheet4!$B$2:$B$8408,Sheet3!$A$3)<3,0,SUMIFS(Sheet4!$DN$2:$DN$8408,Sheet4!$C$2:$C$8408,Sheet3!$B18,Sheet4!$D$2:$D$8408,Sheet3!DG$3,Sheet4!$A$2:$A$8408,Sheet3!$B$1,Sheet4!$B$2:$B$8408,Sheet3!$A$3))","v":156},{"$f":"+IF(SUMIFS(Sheet4!$DN$2:$DN$8408,Sheet4!$C$2:$C$8408,Sheet3!$B18,Sheet4!$D$2:$D$8408,Sheet3!DH$3,Sheet4!$A$2:$A$8408,Sheet3!$B$1,Sheet4!$B$2:$B$8408,Sheet3!$A$3)<3,0,SUMIFS(Sheet4!$DN$2:$DN$8408,Sheet4!$C$2:$C$8408,Sheet3!$B18,Sheet4!$D$2:$D$8408,Sheet3!DH$3,Sheet4!$A$2:$A$8408,Sheet3!$B$1,Sheet4!$B$2:$B$8408,Sheet3!$A$3))","v":24},{"$f":"+IF(SUMIFS(Sheet4!$DN$2:$DN$8408,Sheet4!$C$2:$C$8408,Sheet3!$B18,Sheet4!$D$2:$D$8408,Sheet3!DI$3,Sheet4!$A$2:$A$8408,Sheet3!$B$1,Sheet4!$B$2:$B$8408,Sheet3!$A$3)<3,0,SUMIFS(Sheet4!$DN$2:$DN$8408,Sheet4!$C$2:$C$8408,Sheet3!$B18,Sheet4!$D$2:$D$8408,Sheet3!DI$3,Sheet4!$A$2:$A$8408,Sheet3!$B$1,Sheet4!$B$2:$B$8408,Sheet3!$A$3))","v":538},{"$f":"+IF(SUMIFS(Sheet4!$DN$2:$DN$8408,Sheet4!$C$2:$C$8408,Sheet3!$B18,Sheet4!$D$2:$D$8408,Sheet3!DJ$3,Sheet4!$A$2:$A$8408,Sheet3!$B$1,Sheet4!$B$2:$B$8408,Sheet3!$A$3)<3,0,SUMIFS(Sheet4!$DN$2:$DN$8408,Sheet4!$C$2:$C$8408,Sheet3!$B18,Sheet4!$D$2:$D$8408,Sheet3!DJ$3,Sheet4!$A$2:$A$8408,Sheet3!$B$1,Sheet4!$B$2:$B$8408,Sheet3!$A$3))","v":508},{"$f":"+IF(SUMIFS(Sheet4!$DN$2:$DN$8408,Sheet4!$C$2:$C$8408,Sheet3!$B18,Sheet4!$D$2:$D$8408,Sheet3!DK$3,Sheet4!$A$2:$A$8408,Sheet3!$B$1,Sheet4!$B$2:$B$8408,Sheet3!$A$3)<3,0,SUMIFS(Sheet4!$DN$2:$DN$8408,Sheet4!$C$2:$C$8408,Sheet3!$B18,Sheet4!$D$2:$D$8408,Sheet3!DK$3,Sheet4!$A$2:$A$8408,Sheet3!$B$1,Sheet4!$B$2:$B$8408,Sheet3!$A$3))","v":388},{"$f":"+IF(SUMIFS(Sheet4!$DN$2:$DN$8408,Sheet4!$C$2:$C$8408,Sheet3!$B18,Sheet4!$D$2:$D$8408,Sheet3!DL$3,Sheet4!$A$2:$A$8408,Sheet3!$B$1,Sheet4!$B$2:$B$8408,Sheet3!$A$3)<3,0,SUMIFS(Sheet4!$DN$2:$DN$8408,Sheet4!$C$2:$C$8408,Sheet3!$B18,Sheet4!$D$2:$D$8408,Sheet3!DL$3,Sheet4!$A$2:$A$8408,Sheet3!$B$1,Sheet4!$B$2:$B$8408,Sheet3!$A$3))","v":0},{"$f":"+IF(SUMIFS(Sheet4!$DN$2:$DN$8408,Sheet4!$C$2:$C$8408,Sheet3!$B18,Sheet4!$D$2:$D$8408,Sheet3!DM$3,Sheet4!$A$2:$A$8408,Sheet3!$B$1,Sheet4!$B$2:$B$8408,Sheet3!$A$3)<3,0,SUMIFS(Sheet4!$DN$2:$DN$8408,Sheet4!$C$2:$C$8408,Sheet3!$B18,Sheet4!$D$2:$D$8408,Sheet3!DM$3,Sheet4!$A$2:$A$8408,Sheet3!$B$1,Sheet4!$B$2:$B$8408,Sheet3!$A$3))","v":30},{"$f":"+IF(SUMIFS(Sheet4!$DN$2:$DN$8408,Sheet4!$C$2:$C$8408,Sheet3!$B18,Sheet4!$E$2:$E$8408,Sheet3!DN$4,Sheet4!$A$2:$A$8408,Sheet3!$B$1,Sheet4!$B$2:$B$8408,Sheet3!$A$3)<3,0,SUMIFS(Sheet4!$DN$2:$DN$8408,Sheet4!$C$2:$C$8408,Sheet3!$B18,Sheet4!$E$2:$E$8408,Sheet3!DN$4,Sheet4!$A$2:$A$8408,Sheet3!$B$1,Sheet4!$B$2:$B$8408,Sheet3!$A$3))","v":4155},{"$f":"+IF(SUMIFS(Sheet4!$DN$2:$DN$8408,Sheet4!$C$2:$C$8408,Sheet3!$B18,Sheet4!$E$2:$E$8408,Sheet3!DO$4,Sheet4!$A$2:$A$8408,Sheet3!$B$1,Sheet4!$B$2:$B$8408,Sheet3!$A$3)<3,0,SUMIFS(Sheet4!$DN$2:$DN$8408,Sheet4!$C$2:$C$8408,Sheet3!$B18,Sheet4!$E$2:$E$8408,Sheet3!DO$4,Sheet4!$A$2:$A$8408,Sheet3!$B$1,Sheet4!$B$2:$B$8408,Sheet3!$A$3))","v":2084},{"$f":"+IF(SUMIFS(Sheet4!$DN$2:$DN$8408,Sheet4!$C$2:$C$8408,Sheet3!$B18,Sheet4!$E$2:$E$8408,Sheet3!DP$4,Sheet4!$A$2:$A$8408,Sheet3!$B$1,Sheet4!$B$2:$B$8408,Sheet3!$A$3)<3,0,SUMIFS(Sheet4!$DN$2:$DN$8408,Sheet4!$C$2:$C$8408,Sheet3!$B18,Sheet4!$E$2:$E$8408,Sheet3!DP$4,Sheet4!$A$2:$A$8408,Sheet3!$B$1,Sheet4!$B$2:$B$8408,Sheet3!$A$3))","v":391},{"$f":"+IF(SUMIFS(Sheet4!$DN$2:$DN$8408,Sheet4!$C$2:$C$8408,Sheet3!$B18,Sheet4!$E$2:$E$8408,Sheet3!DQ$4,Sheet4!$A$2:$A$8408,Sheet3!$B$1,Sheet4!$B$2:$B$8408,Sheet3!$A$3)<3,0,SUMIFS(Sheet4!$DN$2:$DN$8408,Sheet4!$C$2:$C$8408,Sheet3!$B18,Sheet4!$E$2:$E$8408,Sheet3!DQ$4,Sheet4!$A$2:$A$8408,Sheet3!$B$1,Sheet4!$B$2:$B$8408,Sheet3!$A$3))","v":108},{"$f":"+IF(SUMIFS(Sheet4!$DN$2:$DN$8408,Sheet4!$C$2:$C$8408,Sheet3!$B18,Sheet4!$E$2:$E$8408,Sheet3!DR$4,Sheet4!$A$2:$A$8408,Sheet3!$B$1,Sheet4!$B$2:$B$8408,Sheet3!$A$3)<3,0,SUMIFS(Sheet4!$DN$2:$DN$8408,Sheet4!$C$2:$C$8408,Sheet3!$B18,Sheet4!$E$2:$E$8408,Sheet3!DR$4,Sheet4!$A$2:$A$8408,Sheet3!$B$1,Sheet4!$B$2:$B$8408,Sheet3!$A$3))","v":13}]
[2,"16F","Região de Leiria",{"$f":"+SUMIFS(Sheet4!$DM$2:$DM$8408,Sheet4!$C$2:$C$8408,Sheet3!$B19,Sheet4!$D$2:$D$8408,Sheet3!D$3,Sheet4!$E$2:$E$8408,Sheet3!D$4,Sheet4!$A$2:$A$8408,Sheet3!$B$1,Sheet4!$B$2:$B$8408,Sheet3!$A$3)","v":0},{"$f":"+SUMIFS(Sheet4!$DM$2:$DM$8408,Sheet4!$C$2:$C$8408,Sheet3!$B19,Sheet4!$D$2:$D$8408,Sheet3!E$3,Sheet4!$E$2:$E$8408,Sheet3!E$4,Sheet4!$A$2:$A$8408,Sheet3!$B$1,Sheet4!$B$2:$B$8408,Sheet3!$A$3)","v":3},{"$f":"+SUMIFS(Sheet4!$DM$2:$DM$8408,Sheet4!$C$2:$C$8408,Sheet3!$B19,Sheet4!$D$2:$D$8408,Sheet3!F$3,Sheet4!$E$2:$E$8408,Sheet3!F$4,Sheet4!$A$2:$A$8408,Sheet3!$B$1,Sheet4!$B$2:$B$8408,Sheet3!$A$3)","v":7},{"$f":"+SUMIFS(Sheet4!$DM$2:$DM$8408,Sheet4!$C$2:$C$8408,Sheet3!$B19,Sheet4!$D$2:$D$8408,Sheet3!G$3,Sheet4!$E$2:$E$8408,Sheet3!G$4,Sheet4!$A$2:$A$8408,Sheet3!$B$1,Sheet4!$B$2:$B$8408,Sheet3!$A$3)","v":0},{"$f":"+SUMIFS(Sheet4!$DM$2:$DM$8408,Sheet4!$C$2:$C$8408,Sheet3!$B19,Sheet4!$D$2:$D$8408,Sheet3!H$3,Sheet4!$E$2:$E$8408,Sheet3!H$4,Sheet4!$A$2:$A$8408,Sheet3!$B$1,Sheet4!$B$2:$B$8408,Sheet3!$A$3)","v":0},{"$f":"+SUMIFS(Sheet4!$DM$2:$DM$8408,Sheet4!$C$2:$C$8408,Sheet3!$B19,Sheet4!$D$2:$D$8408,Sheet3!I$3,Sheet4!$E$2:$E$8408,Sheet3!I$4,Sheet4!$A$2:$A$8408,Sheet3!$B$1,Sheet4!$B$2:$B$8408,Sheet3!$A$3)","v":115},{"$f":"+SUMIFS(Sheet4!$DM$2:$DM$8408,Sheet4!$C$2:$C$8408,Sheet3!$B19,Sheet4!$D$2:$D$8408,Sheet3!J$3,Sheet4!$E$2:$E$8408,Sheet3!J$4,Sheet4!$A$2:$A$8408,Sheet3!$B$1,Sheet4!$B$2:$B$8408,Sheet3!$A$3)","v":46},{"$f":"+SUMIFS(Sheet4!$DM$2:$DM$8408,Sheet4!$C$2:$C$8408,Sheet3!$B19,Sheet4!$D$2:$D$8408,Sheet3!K$3,Sheet4!$E$2:$E$8408,Sheet3!K$4,Sheet4!$A$2:$A$8408,Sheet3!$B$1,Sheet4!$B$2:$B$8408,Sheet3!$A$3)","v":5},{"$f":"+SUMIFS(Sheet4!$DM$2:$DM$8408,Sheet4!$C$2:$C$8408,Sheet3!$B19,Sheet4!$D$2:$D$8408,Sheet3!L$3,Sheet4!$E$2:$E$8408,Sheet3!L$4,Sheet4!$A$2:$A$8408,Sheet3!$B$1,Sheet4!$B$2:$B$8408,Sheet3!$A$3)","v":0},{"$f":"+SUMIFS(Sheet4!$DM$2:$DM$8408,Sheet4!$C$2:$C$8408,Sheet3!$B19,Sheet4!$D$2:$D$8408,Sheet3!M$3,Sheet4!$E$2:$E$8408,Sheet3!M$4,Sheet4!$A$2:$A$8408,Sheet3!$B$1,Sheet4!$B$2:$B$8408,Sheet3!$A$3)","v":0},{"$f":"+SUMIFS(Sheet4!$DM$2:$DM$8408,Sheet4!$C$2:$C$8408,Sheet3!$B19,Sheet4!$D$2:$D$8408,Sheet3!N$3,Sheet4!$E$2:$E$8408,Sheet3!N$4,Sheet4!$A$2:$A$8408,Sheet3!$B$1,Sheet4!$B$2:$B$8408,Sheet3!$A$3)","v":130},{"$f":"+SUMIFS(Sheet4!$DM$2:$DM$8408,Sheet4!$C$2:$C$8408,Sheet3!$B19,Sheet4!$D$2:$D$8408,Sheet3!O$3,Sheet4!$E$2:$E$8408,Sheet3!O$4,Sheet4!$A$2:$A$8408,Sheet3!$B$1,Sheet4!$B$2:$B$8408,Sheet3!$A$3)","v":22},{"$f":"+SUMIFS(Sheet4!$DM$2:$DM$8408,Sheet4!$C$2:$C$8408,Sheet3!$B19,Sheet4!$D$2:$D$8408,Sheet3!P$3,Sheet4!$E$2:$E$8408,Sheet3!P$4,Sheet4!$A$2:$A$8408,Sheet3!$B$1,Sheet4!$B$2:$B$8408,Sheet3!$A$3)","v":0},{"$f":"+SUMIFS(Sheet4!$DM$2:$DM$8408,Sheet4!$C$2:$C$8408,Sheet3!$B19,Sheet4!$D$2:$D$8408,Sheet3!Q$3,Sheet4!$E$2:$E$8408,Sheet3!Q$4,Sheet4!$A$2:$A$8408,Sheet3!$B$1,Sheet4!$B$2:$B$8408,Sheet3!$A$3)","v":0},{"$f":"+SUMIFS(Sheet4!$DM$2:$DM$8408,Sheet4!$C$2:$C$8408,Sheet3!$B19,Sheet4!$D$2:$D$8408,Sheet3!R$3,Sheet4!$E$2:$E$8408,Sheet3!R$4,Sheet4!$A$2:$A$8408,Sheet3!$B$1,Sheet4!$B$2:$B$8408,Sheet3!$A$3)","v":0},{"$f":"+SUMIFS(Sheet4!$DM$2:$DM$8408,Sheet4!$C$2:$C$8408,Sheet3!$B19,Sheet4!$D$2:$D$8408,Sheet3!S$3,Sheet4!$E$2:$E$8408,Sheet3!S$4,Sheet4!$A$2:$A$8408,Sheet3!$B$1,Sheet4!$B$2:$B$8408,Sheet3!$A$3)","v":5},{"$f":"+SUMIFS(Sheet4!$DM$2:$DM$8408,Sheet4!$C$2:$C$8408,Sheet3!$B19,Sheet4!$D$2:$D$8408,Sheet3!T$3,Sheet4!$E$2:$E$8408,Sheet3!T$4,Sheet4!$A$2:$A$8408,Sheet3!$B$1,Sheet4!$B$2:$B$8408,Sheet3!$A$3)","v":11},{"$f":"+SUMIFS(Sheet4!$DM$2:$DM$8408,Sheet4!$C$2:$C$8408,Sheet3!$B19,Sheet4!$D$2:$D$8408,Sheet3!U$3,Sheet4!$E$2:$E$8408,Sheet3!U$4,Sheet4!$A$2:$A$8408,Sheet3!$B$1,Sheet4!$B$2:$B$8408,Sheet3!$A$3)","v":0},{"$f":"+SUMIFS(Sheet4!$DM$2:$DM$8408,Sheet4!$C$2:$C$8408,Sheet3!$B19,Sheet4!$D$2:$D$8408,Sheet3!V$3,Sheet4!$E$2:$E$8408,Sheet3!V$4,Sheet4!$A$2:$A$8408,Sheet3!$B$1,Sheet4!$B$2:$B$8408,Sheet3!$A$3)","v":0},{"$f":"+SUMIFS(Sheet4!$DM$2:$DM$8408,Sheet4!$C$2:$C$8408,Sheet3!$B19,Sheet4!$D$2:$D$8408,Sheet3!W$3,Sheet4!$E$2:$E$8408,Sheet3!W$4,Sheet4!$A$2:$A$8408,Sheet3!$B$1,Sheet4!$B$2:$B$8408,Sheet3!$A$3)","v":0},{"$f":"+SUMIFS(Sheet4!$DM$2:$DM$8408,Sheet4!$C$2:$C$8408,Sheet3!$B19,Sheet4!$D$2:$D$8408,Sheet3!X$3,Sheet4!$E$2:$E$8408,Sheet3!X$4,Sheet4!$A$2:$A$8408,Sheet3!$B$1,Sheet4!$B$2:$B$8408,Sheet3!$A$3)","v":0},{"$f":"+SUMIFS(Sheet4!$DM$2:$DM$8408,Sheet4!$C$2:$C$8408,Sheet3!$B19,Sheet4!$D$2:$D$8408,Sheet3!Y$3,Sheet4!$E$2:$E$8408,Sheet3!Y$4,Sheet4!$A$2:$A$8408,Sheet3!$B$1,Sheet4!$B$2:$B$8408,Sheet3!$A$3)","v":0},{"$f":"+SUMIFS(Sheet4!$DM$2:$DM$8408,Sheet4!$C$2:$C$8408,Sheet3!$B19,Sheet4!$D$2:$D$8408,Sheet3!Z$3,Sheet4!$E$2:$E$8408,Sheet3!Z$4,Sheet4!$A$2:$A$8408,Sheet3!$B$1,Sheet4!$B$2:$B$8408,Sheet3!$A$3)","v":0},{"$f":"+SUMIFS(Sheet4!$DM$2:$DM$8408,Sheet4!$C$2:$C$8408,Sheet3!$B19,Sheet4!$D$2:$D$8408,Sheet3!AA$3,Sheet4!$E$2:$E$8408,Sheet3!AA$4,Sheet4!$A$2:$A$8408,Sheet3!$B$1,Sheet4!$B$2:$B$8408,Sheet3!$A$3)","v":0},{"$f":"+SUMIFS(Sheet4!$DM$2:$DM$8408,Sheet4!$C$2:$C$8408,Sheet3!$B19,Sheet4!$D$2:$D$8408,Sheet3!AB$3,Sheet4!$E$2:$E$8408,Sheet3!AB$4,Sheet4!$A$2:$A$8408,Sheet3!$B$1,Sheet4!$B$2:$B$8408,Sheet3!$A$3)","v":0},{"$f":"+SUMIFS(Sheet4!$DM$2:$DM$8408,Sheet4!$C$2:$C$8408,Sheet3!$B19,Sheet4!$D$2:$D$8408,Sheet3!AC$3,Sheet4!$E$2:$E$8408,Sheet3!AC$4,Sheet4!$A$2:$A$8408,Sheet3!$B$1,Sheet4!$B$2:$B$8408,Sheet3!$A$3)","v":185},{"$f":"+SUMIFS(Sheet4!$DM$2:$DM$8408,Sheet4!$C$2:$C$8408,Sheet3!$B19,Sheet4!$D$2:$D$8408,Sheet3!AD$3,Sheet4!$E$2:$E$8408,Sheet3!AD$4,Sheet4!$A$2:$A$8408,Sheet3!$B$1,Sheet4!$B$2:$B$8408,Sheet3!$A$3)","v":157},{"$f":"+SUMIFS(Sheet4!$DM$2:$DM$8408,Sheet4!$C$2:$C$8408,Sheet3!$B19,Sheet4!$D$2:$D$8408,Sheet3!AE$3,Sheet4!$E$2:$E$8408,Sheet3!AE$4,Sheet4!$A$2:$A$8408,Sheet3!$B$1,Sheet4!$B$2:$B$8408,Sheet3!$A$3)","v":16},{"$f":"+SUMIFS(Sheet4!$DM$2:$DM$8408,Sheet4!$C$2:$C$8408,Sheet3!$B19,Sheet4!$D$2:$D$8408,Sheet3!AF$3,Sheet4!$E$2:$E$8408,Sheet3!AF$4,Sheet4!$A$2:$A$8408,Sheet3!$B$1,Sheet4!$B$2:$B$8408,Sheet3!$A$3)","v":5},{"$f":"+SUMIFS(Sheet4!$DM$2:$DM$8408,Sheet4!$C$2:$C$8408,Sheet3!$B19,Sheet4!$D$2:$D$8408,Sheet3!AG$3,Sheet4!$E$2:$E$8408,Sheet3!AG$4,Sheet4!$A$2:$A$8408,Sheet3!$B$1,Sheet4!$B$2:$B$8408,Sheet3!$A$3)","v":0},{"$f":"+SUMIFS(Sheet4!$DM$2:$DM$8408,Sheet4!$C$2:$C$8408,Sheet3!$B19,Sheet4!$D$2:$D$8408,Sheet3!AH$3,Sheet4!$E$2:$E$8408,Sheet3!AH$4,Sheet4!$A$2:$A$8408,Sheet3!$B$1,Sheet4!$B$2:$B$8408,Sheet3!$A$3)","v":6},{"$f":"+SUMIFS(Sheet4!$DM$2:$DM$8408,Sheet4!$C$2:$C$8408,Sheet3!$B19,Sheet4!$D$2:$D$8408,Sheet3!AI$3,Sheet4!$E$2:$E$8408,Sheet3!AI$4,Sheet4!$A$2:$A$8408,Sheet3!$B$1,Sheet4!$B$2:$B$8408,Sheet3!$A$3)","v":0},{"$f":"+SUMIFS(Sheet4!$DM$2:$DM$8408,Sheet4!$C$2:$C$8408,Sheet3!$B19,Sheet4!$D$2:$D$8408,Sheet3!AJ$3,Sheet4!$E$2:$E$8408,Sheet3!AJ$4,Sheet4!$A$2:$A$8408,Sheet3!$B$1,Sheet4!$B$2:$B$8408,Sheet3!$A$3)","v":0},{"$f":"+SUMIFS(Sheet4!$DM$2:$DM$8408,Sheet4!$C$2:$C$8408,Sheet3!$B19,Sheet4!$D$2:$D$8408,Sheet3!AK$3,Sheet4!$E$2:$E$8408,Sheet3!AK$4,Sheet4!$A$2:$A$8408,Sheet3!$B$1,Sheet4!$B$2:$B$8408,Sheet3!$A$3)","v":0},{"$f":"+SUMIFS(Sheet4!$DM$2:$DM$8408,Sheet4!$C$2:$C$8408,Sheet3!$B19,Sheet4!$D$2:$D$8408,Sheet3!AL$3,Sheet4!$E$2:$E$8408,Sheet3!AL$4,Sheet4!$A$2:$A$8408,Sheet3!$B$1,Sheet4!$B$2:$B$8408,Sheet3!$A$3)","v":0},{"$f":"+SUMIFS(Sheet4!$DM$2:$DM$8408,Sheet4!$C$2:$C$8408,Sheet3!$B19,Sheet4!$D$2:$D$8408,Sheet3!AM$3,Sheet4!$E$2:$E$8408,Sheet3!AM$4,Sheet4!$A$2:$A$8408,Sheet3!$B$1,Sheet4!$B$2:$B$8408,Sheet3!$A$3)","v":32},{"$f":"+SUMIFS(Sheet4!$DM$2:$DM$8408,Sheet4!$C$2:$C$8408,Sheet3!$B19,Sheet4!$D$2:$D$8408,Sheet3!AN$3,Sheet4!$E$2:$E$8408,Sheet3!AN$4,Sheet4!$A$2:$A$8408,Sheet3!$B$1,Sheet4!$B$2:$B$8408,Sheet3!$A$3)","v":58},{"$f":"+SUMIFS(Sheet4!$DM$2:$DM$8408,Sheet4!$C$2:$C$8408,Sheet3!$B19,Sheet4!$D$2:$D$8408,Sheet3!AO$3,Sheet4!$E$2:$E$8408,Sheet3!AO$4,Sheet4!$A$2:$A$8408,Sheet3!$B$1,Sheet4!$B$2:$B$8408,Sheet3!$A$3)","v":29},{"$f":"+SUMIFS(Sheet4!$DM$2:$DM$8408,Sheet4!$C$2:$C$8408,Sheet3!$B19,Sheet4!$D$2:$D$8408,Sheet3!AP$3,Sheet4!$E$2:$E$8408,Sheet3!AP$4,Sheet4!$A$2:$A$8408,Sheet3!$B$1,Sheet4!$B$2:$B$8408,Sheet3!$A$3)","v":5},{"$f":"+SUMIFS(Sheet4!$DM$2:$DM$8408,Sheet4!$C$2:$C$8408,Sheet3!$B19,Sheet4!$D$2:$D$8408,Sheet3!AQ$3,Sheet4!$E$2:$E$8408,Sheet3!AQ$4,Sheet4!$A$2:$A$8408,Sheet3!$B$1,Sheet4!$B$2:$B$8408,Sheet3!$A$3)","v":0},{"$f":"+SUMIFS(Sheet4!$DM$2:$DM$8408,Sheet4!$C$2:$C$8408,Sheet3!$B19,Sheet4!$D$2:$D$8408,Sheet3!AR$3,Sheet4!$E$2:$E$8408,Sheet3!AR$4,Sheet4!$A$2:$A$8408,Sheet3!$B$1,Sheet4!$B$2:$B$8408,Sheet3!$A$3)","v":257},{"$f":"+SUMIFS(Sheet4!$DM$2:$DM$8408,Sheet4!$C$2:$C$8408,Sheet3!$B19,Sheet4!$D$2:$D$8408,Sheet3!AS$3,Sheet4!$E$2:$E$8408,Sheet3!AS$4,Sheet4!$A$2:$A$8408,Sheet3!$B$1,Sheet4!$B$2:$B$8408,Sheet3!$A$3)","v":7},{"$f":"+SUMIFS(Sheet4!$DM$2:$DM$8408,Sheet4!$C$2:$C$8408,Sheet3!$B19,Sheet4!$D$2:$D$8408,Sheet3!AT$3,Sheet4!$E$2:$E$8408,Sheet3!AT$4,Sheet4!$A$2:$A$8408,Sheet3!$B$1,Sheet4!$B$2:$B$8408,Sheet3!$A$3)","v":0},{"$f":"+SUMIFS(Sheet4!$DM$2:$DM$8408,Sheet4!$C$2:$C$8408,Sheet3!$B19,Sheet4!$D$2:$D$8408,Sheet3!AU$3,Sheet4!$E$2:$E$8408,Sheet3!AU$4,Sheet4!$A$2:$A$8408,Sheet3!$B$1,Sheet4!$B$2:$B$8408,Sheet3!$A$3)","v":0},{"$f":"+SUMIFS(Sheet4!$DM$2:$DM$8408,Sheet4!$C$2:$C$8408,Sheet3!$B19,Sheet4!$D$2:$D$8408,Sheet3!AV$3,Sheet4!$E$2:$E$8408,Sheet3!AV$4,Sheet4!$A$2:$A$8408,Sheet3!$B$1,Sheet4!$B$2:$B$8408,Sheet3!$A$3)","v":0},{"$f":"+SUMIFS(Sheet4!$DM$2:$DM$8408,Sheet4!$C$2:$C$8408,Sheet3!$B19,Sheet4!$D$2:$D$8408,Sheet3!AW$3,Sheet4!$E$2:$E$8408,Sheet3!AW$4,Sheet4!$A$2:$A$8408,Sheet3!$B$1,Sheet4!$B$2:$B$8408,Sheet3!$A$3)","v":799},{"$f":"+SUMIFS(Sheet4!$DM$2:$DM$8408,Sheet4!$C$2:$C$8408,Sheet3!$B19,Sheet4!$D$2:$D$8408,Sheet3!AX$3,Sheet4!$E$2:$E$8408,Sheet3!AX$4,Sheet4!$A$2:$A$8408,Sheet3!$B$1,Sheet4!$B$2:$B$8408,Sheet3!$A$3)","v":144},{"$f":"+SUMIFS(Sheet4!$DM$2:$DM$8408,Sheet4!$C$2:$C$8408,Sheet3!$B19,Sheet4!$D$2:$D$8408,Sheet3!AY$3,Sheet4!$E$2:$E$8408,Sheet3!AY$4,Sheet4!$A$2:$A$8408,Sheet3!$B$1,Sheet4!$B$2:$B$8408,Sheet3!$A$3)","v":6},{"$f":"+SUMIFS(Sheet4!$DM$2:$DM$8408,Sheet4!$C$2:$C$8408,Sheet3!$B19,Sheet4!$D$2:$D$8408,Sheet3!AZ$3,Sheet4!$E$2:$E$8408,Sheet3!AZ$4,Sheet4!$A$2:$A$8408,Sheet3!$B$1,Sheet4!$B$2:$B$8408,Sheet3!$A$3)","v":0},{"$f":"+SUMIFS(Sheet4!$DM$2:$DM$8408,Sheet4!$C$2:$C$8408,Sheet3!$B19,Sheet4!$D$2:$D$8408,Sheet3!BA$3,Sheet4!$E$2:$E$8408,Sheet3!BA$4,Sheet4!$A$2:$A$8408,Sheet3!$B$1,Sheet4!$B$2:$B$8408,Sheet3!$A$3)","v":0},{"$f":"+SUMIFS(Sheet4!$DM$2:$DM$8408,Sheet4!$C$2:$C$8408,Sheet3!$B19,Sheet4!$D$2:$D$8408,Sheet3!BB$3,Sheet4!$E$2:$E$8408,Sheet3!BB$4,Sheet4!$A$2:$A$8408,Sheet3!$B$1,Sheet4!$B$2:$B$8408,Sheet3!$A$3)","v":0},{"$f":"+SUMIFS(Sheet4!$DM$2:$DM$8408,Sheet4!$C$2:$C$8408,Sheet3!$B19,Sheet4!$D$2:$D$8408,Sheet3!BC$3,Sheet4!$E$2:$E$8408,Sheet3!BC$4,Sheet4!$A$2:$A$8408,Sheet3!$B$1,Sheet4!$B$2:$B$8408,Sheet3!$A$3)","v":0},{"$f":"+SUMIFS(Sheet4!$DM$2:$DM$8408,Sheet4!$C$2:$C$8408,Sheet3!$B19,Sheet4!$D$2:$D$8408,Sheet3!BD$3,Sheet4!$E$2:$E$8408,Sheet3!BD$4,Sheet4!$A$2:$A$8408,Sheet3!$B$1,Sheet4!$B$2:$B$8408,Sheet3!$A$3)","v":4},{"$f":"+SUMIFS(Sheet4!$DM$2:$DM$8408,Sheet4!$C$2:$C$8408,Sheet3!$B19,Sheet4!$D$2:$D$8408,Sheet3!BE$3,Sheet4!$E$2:$E$8408,Sheet3!BE$4,Sheet4!$A$2:$A$8408,Sheet3!$B$1,Sheet4!$B$2:$B$8408,Sheet3!$A$3)","v":9},{"$f":"+SUMIFS(Sheet4!$DM$2:$DM$8408,Sheet4!$C$2:$C$8408,Sheet3!$B19,Sheet4!$D$2:$D$8408,Sheet3!BF$3,Sheet4!$E$2:$E$8408,Sheet3!BF$4,Sheet4!$A$2:$A$8408,Sheet3!$B$1,Sheet4!$B$2:$B$8408,Sheet3!$A$3)","v":0},{"$f":"+SUMIFS(Sheet4!$DM$2:$DM$8408,Sheet4!$C$2:$C$8408,Sheet3!$B19,Sheet4!$D$2:$D$8408,Sheet3!BG$3,Sheet4!$E$2:$E$8408,Sheet3!BG$4,Sheet4!$A$2:$A$8408,Sheet3!$B$1,Sheet4!$B$2:$B$8408,Sheet3!$A$3)","v":0},{"$f":"+SUMIFS(Sheet4!$DM$2:$DM$8408,Sheet4!$C$2:$C$8408,Sheet3!$B19,Sheet4!$D$2:$D$8408,Sheet3!BH$3,Sheet4!$E$2:$E$8408,Sheet3!BH$4,Sheet4!$A$2:$A$8408,Sheet3!$B$1,Sheet4!$B$2:$B$8408,Sheet3!$A$3)","v":17},{"$f":"+SUMIFS(Sheet4!$DM$2:$DM$8408,Sheet4!$C$2:$C$8408,Sheet3!$B19,Sheet4!$D$2:$D$8408,Sheet3!BI$3,Sheet4!$E$2:$E$8408,Sheet3!BI$4,Sheet4!$A$2:$A$8408,Sheet3!$B$1,Sheet4!$B$2:$B$8408,Sheet3!$A$3)","v":9},{"$f":"+SUMIFS(Sheet4!$DM$2:$DM$8408,Sheet4!$C$2:$C$8408,Sheet3!$B19,Sheet4!$D$2:$D$8408,Sheet3!BJ$3,Sheet4!$E$2:$E$8408,Sheet3!BJ$4,Sheet4!$A$2:$A$8408,Sheet3!$B$1,Sheet4!$B$2:$B$8408,Sheet3!$A$3)","v":0},{"$f":"+SUMIFS(Sheet4!$DM$2:$DM$8408,Sheet4!$C$2:$C$8408,Sheet3!$B19,Sheet4!$D$2:$D$8408,Sheet3!BK$3,Sheet4!$E$2:$E$8408,Sheet3!BK$4,Sheet4!$A$2:$A$8408,Sheet3!$B$1,Sheet4!$B$2:$B$8408,Sheet3!$A$3)","v":0},{"$f":"+SUMIFS(Sheet4!$DM$2:$DM$8408,Sheet4!$C$2:$C$8408,Sheet3!$B19,Sheet4!$D$2:$D$8408,Sheet3!BL$3,Sheet4!$E$2:$E$8408,Sheet3!BL$4,Sheet4!$A$2:$A$8408,Sheet3!$B$1,Sheet4!$B$2:$B$8408,Sheet3!$A$3)","v":30},{"$f":"+SUMIFS(Sheet4!$DM$2:$DM$8408,Sheet4!$C$2:$C$8408,Sheet3!$B19,Sheet4!$D$2:$D$8408,Sheet3!BM$3,Sheet4!$E$2:$E$8408,Sheet3!BM$4,Sheet4!$A$2:$A$8408,Sheet3!$B$1,Sheet4!$B$2:$B$8408,Sheet3!$A$3)","v":68},{"$f":"+SUMIFS(Sheet4!$DM$2:$DM$8408,Sheet4!$C$2:$C$8408,Sheet3!$B19,Sheet4!$D$2:$D$8408,Sheet3!BN$3,Sheet4!$E$2:$E$8408,Sheet3!BN$4,Sheet4!$A$2:$A$8408,Sheet3!$B$1,Sheet4!$B$2:$B$8408,Sheet3!$A$3)","v":17},{"$f":"+SUMIFS(Sheet4!$DM$2:$DM$8408,Sheet4!$C$2:$C$8408,Sheet3!$B19,Sheet4!$D$2:$D$8408,Sheet3!BO$3,Sheet4!$E$2:$E$8408,Sheet3!BO$4,Sheet4!$A$2:$A$8408,Sheet3!$B$1,Sheet4!$B$2:$B$8408,Sheet3!$A$3)","v":0},{"$f":"+SUMIFS(Sheet4!$DM$2:$DM$8408,Sheet4!$C$2:$C$8408,Sheet3!$B19,Sheet4!$D$2:$D$8408,Sheet3!BP$3,Sheet4!$E$2:$E$8408,Sheet3!BP$4,Sheet4!$A$2:$A$8408,Sheet3!$B$1,Sheet4!$B$2:$B$8408,Sheet3!$A$3)","v":0},{"$f":"+SUMIFS(Sheet4!$DM$2:$DM$8408,Sheet4!$C$2:$C$8408,Sheet3!$B19,Sheet4!$D$2:$D$8408,Sheet3!BQ$3,Sheet4!$E$2:$E$8408,Sheet3!BQ$4,Sheet4!$A$2:$A$8408,Sheet3!$B$1,Sheet4!$B$2:$B$8408,Sheet3!$A$3)","v":5},{"$f":"+SUMIFS(Sheet4!$DM$2:$DM$8408,Sheet4!$C$2:$C$8408,Sheet3!$B19,Sheet4!$D$2:$D$8408,Sheet3!BR$3,Sheet4!$E$2:$E$8408,Sheet3!BR$4,Sheet4!$A$2:$A$8408,Sheet3!$B$1,Sheet4!$B$2:$B$8408,Sheet3!$A$3)","v":12},{"$f":"+SUMIFS(Sheet4!$DM$2:$DM$8408,Sheet4!$C$2:$C$8408,Sheet3!$B19,Sheet4!$D$2:$D$8408,Sheet3!BS$3,Sheet4!$E$2:$E$8408,Sheet3!BS$4,Sheet4!$A$2:$A$8408,Sheet3!$B$1,Sheet4!$B$2:$B$8408,Sheet3!$A$3)","v":5},{"$f":"+SUMIFS(Sheet4!$DM$2:$DM$8408,Sheet4!$C$2:$C$8408,Sheet3!$B19,Sheet4!$D$2:$D$8408,Sheet3!BT$3,Sheet4!$E$2:$E$8408,Sheet3!BT$4,Sheet4!$A$2:$A$8408,Sheet3!$B$1,Sheet4!$B$2:$B$8408,Sheet3!$A$3)","v":0},{"$f":"+SUMIFS(Sheet4!$DM$2:$DM$8408,Sheet4!$C$2:$C$8408,Sheet3!$B19,Sheet4!$D$2:$D$8408,Sheet3!BU$3,Sheet4!$E$2:$E$8408,Sheet3!BU$4,Sheet4!$A$2:$A$8408,Sheet3!$B$1,Sheet4!$B$2:$B$8408,Sheet3!$A$3)","v":0},{"$f":"+SUMIFS(Sheet4!$DM$2:$DM$8408,Sheet4!$C$2:$C$8408,Sheet3!$B19,Sheet4!$D$2:$D$8408,Sheet3!BV$3,Sheet4!$E$2:$E$8408,Sheet3!BV$4,Sheet4!$A$2:$A$8408,Sheet3!$B$1,Sheet4!$B$2:$B$8408,Sheet3!$A$3)","v":268},{"$f":"+SUMIFS(Sheet4!$DM$2:$DM$8408,Sheet4!$C$2:$C$8408,Sheet3!$B19,Sheet4!$D$2:$D$8408,Sheet3!BW$3,Sheet4!$E$2:$E$8408,Sheet3!BW$4,Sheet4!$A$2:$A$8408,Sheet3!$B$1,Sheet4!$B$2:$B$8408,Sheet3!$A$3)","v":131},{"$f":"+SUMIFS(Sheet4!$DM$2:$DM$8408,Sheet4!$C$2:$C$8408,Sheet3!$B19,Sheet4!$D$2:$D$8408,Sheet3!BX$3,Sheet4!$E$2:$E$8408,Sheet3!BX$4,Sheet4!$A$2:$A$8408,Sheet3!$B$1,Sheet4!$B$2:$B$8408,Sheet3!$A$3)","v":11},{"$f":"+SUMIFS(Sheet4!$DM$2:$DM$8408,Sheet4!$C$2:$C$8408,Sheet3!$B19,Sheet4!$D$2:$D$8408,Sheet3!BY$3,Sheet4!$E$2:$E$8408,Sheet3!BY$4,Sheet4!$A$2:$A$8408,Sheet3!$B$1,Sheet4!$B$2:$B$8408,Sheet3!$A$3)","v":0},{"$f":"+SUMIFS(Sheet4!$DM$2:$DM$8408,Sheet4!$C$2:$C$8408,Sheet3!$B19,Sheet4!$D$2:$D$8408,Sheet3!BZ$3,Sheet4!$E$2:$E$8408,Sheet3!BZ$4,Sheet4!$A$2:$A$8408,Sheet3!$B$1,Sheet4!$B$2:$B$8408,Sheet3!$A$3)","v":0},{"$f":"+SUMIFS(Sheet4!$DM$2:$DM$8408,Sheet4!$C$2:$C$8408,Sheet3!$B19,Sheet4!$D$2:$D$8408,Sheet3!CA$3,Sheet4!$E$2:$E$8408,Sheet3!CA$4,Sheet4!$A$2:$A$8408,Sheet3!$B$1,Sheet4!$B$2:$B$8408,Sheet3!$A$3)","v":260},{"$f":"+SUMIFS(Sheet4!$DM$2:$DM$8408,Sheet4!$C$2:$C$8408,Sheet3!$B19,Sheet4!$D$2:$D$8408,Sheet3!CB$3,Sheet4!$E$2:$E$8408,Sheet3!CB$4,Sheet4!$A$2:$A$8408,Sheet3!$B$1,Sheet4!$B$2:$B$8408,Sheet3!$A$3)","v":104},{"$f":"+SUMIFS(Sheet4!$DM$2:$DM$8408,Sheet4!$C$2:$C$8408,Sheet3!$B19,Sheet4!$D$2:$D$8408,Sheet3!CC$3,Sheet4!$E$2:$E$8408,Sheet3!CC$4,Sheet4!$A$2:$A$8408,Sheet3!$B$1,Sheet4!$B$2:$B$8408,Sheet3!$A$3)","v":3},{"$f":"+SUMIFS(Sheet4!$DM$2:$DM$8408,Sheet4!$C$2:$C$8408,Sheet3!$B19,Sheet4!$D$2:$D$8408,Sheet3!CD$3,Sheet4!$E$2:$E$8408,Sheet3!CD$4,Sheet4!$A$2:$A$8408,Sheet3!$B$1,Sheet4!$B$2:$B$8408,Sheet3!$A$3)","v":0},{"$f":"+SUMIFS(Sheet4!$DM$2:$DM$8408,Sheet4!$C$2:$C$8408,Sheet3!$B19,Sheet4!$D$2:$D$8408,Sheet3!CE$3,Sheet4!$E$2:$E$8408,Sheet3!CE$4,Sheet4!$A$2:$A$8408,Sheet3!$B$1,Sheet4!$B$2:$B$8408,Sheet3!$A$3)","v":0},{"$f":"+SUMIFS(Sheet4!$DM$2:$DM$8408,Sheet4!$C$2:$C$8408,Sheet3!$B19,Sheet4!$D$2:$D$8408,Sheet3!CF$3,Sheet4!$E$2:$E$8408,Sheet3!CF$4,Sheet4!$A$2:$A$8408,Sheet3!$B$1,Sheet4!$B$2:$B$8408,Sheet3!$A$3)","v":122},{"$f":"+SUMIFS(Sheet4!$DM$2:$DM$8408,Sheet4!$C$2:$C$8408,Sheet3!$B19,Sheet4!$D$2:$D$8408,Sheet3!CG$3,Sheet4!$E$2:$E$8408,Sheet3!CG$4,Sheet4!$A$2:$A$8408,Sheet3!$B$1,Sheet4!$B$2:$B$8408,Sheet3!$A$3)","v":0},{"$f":"+SUMIFS(Sheet4!$DM$2:$DM$8408,Sheet4!$C$2:$C$8408,Sheet3!$B19,Sheet4!$D$2:$D$8408,Sheet3!CH$3,Sheet4!$E$2:$E$8408,Sheet3!CH$4,Sheet4!$A$2:$A$8408,Sheet3!$B$1,Sheet4!$B$2:$B$8408,Sheet3!$A$3)","v":0},{"$f":"+SUMIFS(Sheet4!$DM$2:$DM$8408,Sheet4!$C$2:$C$8408,Sheet3!$B19,Sheet4!$D$2:$D$8408,Sheet3!CI$3,Sheet4!$E$2:$E$8408,Sheet3!CI$4,Sheet4!$A$2:$A$8408,Sheet3!$B$1,Sheet4!$B$2:$B$8408,Sheet3!$A$3)","v":0},{"$f":"+SUMIFS(Sheet4!$DM$2:$DM$8408,Sheet4!$C$2:$C$8408,Sheet3!$B19,Sheet4!$D$2:$D$8408,Sheet3!CJ$3,Sheet4!$E$2:$E$8408,Sheet3!CJ$4,Sheet4!$A$2:$A$8408,Sheet3!$B$1,Sheet4!$B$2:$B$8408,Sheet3!$A$3)","v":0},{"$f":"+SUMIFS(Sheet4!$DM$2:$DM$8408,Sheet4!$C$2:$C$8408,Sheet3!$B19,Sheet4!$D$2:$D$8408,Sheet3!CK$3,Sheet4!$E$2:$E$8408,Sheet3!CK$4,Sheet4!$A$2:$A$8408,Sheet3!$B$1,Sheet4!$B$2:$B$8408,Sheet3!$A$3)","v":0},{"$f":"+SUMIFS(Sheet4!$DM$2:$DM$8408,Sheet4!$C$2:$C$8408,Sheet3!$B19,Sheet4!$D$2:$D$8408,Sheet3!CL$3,Sheet4!$E$2:$E$8408,Sheet3!CL$4,Sheet4!$A$2:$A$8408,Sheet3!$B$1,Sheet4!$B$2:$B$8408,Sheet3!$A$3)","v":0},{"$f":"+SUMIFS(Sheet4!$DM$2:$DM$8408,Sheet4!$C$2:$C$8408,Sheet3!$B19,Sheet4!$D$2:$D$8408,Sheet3!CM$3,Sheet4!$E$2:$E$8408,Sheet3!CM$4,Sheet4!$A$2:$A$8408,Sheet3!$B$1,Sheet4!$B$2:$B$8408,Sheet3!$A$3)","v":0},{"$f":"+SUMIFS(Sheet4!$DM$2:$DM$8408,Sheet4!$C$2:$C$8408,Sheet3!$B19,Sheet4!$D$2:$D$8408,Sheet3!CN$3,Sheet4!$E$2:$E$8408,Sheet3!CN$4,Sheet4!$A$2:$A$8408,Sheet3!$B$1,Sheet4!$B$2:$B$8408,Sheet3!$A$3)","v":0},{"$f":"+SUMIFS(Sheet4!$DM$2:$DM$8408,Sheet4!$C$2:$C$8408,Sheet3!$B19,Sheet4!$D$2:$D$8408,Sheet3!CO$3,Sheet4!$E$2:$E$8408,Sheet3!CO$4,Sheet4!$A$2:$A$8408,Sheet3!$B$1,Sheet4!$B$2:$B$8408,Sheet3!$A$3)","v":0},{"$f":"+SUMIFS(Sheet4!$DM$2:$DM$8408,Sheet4!$C$2:$C$8408,Sheet3!$B19,Sheet4!$D$2:$D$8408,Sheet3!CP$3,Sheet4!$E$2:$E$8408,Sheet3!CP$4,Sheet4!$A$2:$A$8408,Sheet3!$B$1,Sheet4!$B$2:$B$8408,Sheet3!$A$3)","v":0},{"$f":"+SUMIFS(Sheet4!$DM$2:$DM$8408,Sheet4!$C$2:$C$8408,Sheet3!$B19,Sheet4!$D$2:$D$8408,Sheet3!CQ$3,Sheet4!$E$2:$E$8408,Sheet3!CQ$4,Sheet4!$A$2:$A$8408,Sheet3!$B$1,Sheet4!$B$2:$B$8408,Sheet3!$A$3)","v":0},{"$f":"+SUMIFS(Sheet4!$DM$2:$DM$8408,Sheet4!$C$2:$C$8408,Sheet3!$B19,Sheet4!$D$2:$D$8408,Sheet3!CR$3,Sheet4!$E$2:$E$8408,Sheet3!CR$4,Sheet4!$A$2:$A$8408,Sheet3!$B$1,Sheet4!$B$2:$B$8408,Sheet3!$A$3)","v":0},{"$f":"+SUMIFS(Sheet4!$DM$2:$DM$8408,Sheet4!$C$2:$C$8408,Sheet3!$B19,Sheet4!$D$2:$D$8408,Sheet3!CS$3,Sheet4!$E$2:$E$8408,Sheet3!CS$4,Sheet4!$A$2:$A$8408,Sheet3!$B$1,Sheet4!$B$2:$B$8408,Sheet3!$A$3)","v":0},{"$f":"+SUMIFS(Sheet4!$DM$2:$DM$8408,Sheet4!$C$2:$C$8408,Sheet3!$B19,Sheet4!$D$2:$D$8408,Sheet3!CT$3,Sheet4!$E$2:$E$8408,Sheet3!CT$4,Sheet4!$A$2:$A$8408,Sheet3!$B$1,Sheet4!$B$2:$B$8408,Sheet3!$A$3)","v":0},{"$f":"+IF(SUMIFS(Sheet4!$DN$2:$DN$8408,Sheet4!$C$2:$C$8408,Sheet3!$B19,Sheet4!$D$2:$D$8408,Sheet3!CU$3,Sheet4!$A$2:$A$8408,Sheet3!$B$1,Sheet4!$B$2:$B$8408,Sheet3!$A$3)<3,0,SUMIFS(Sheet4!$DN$2:$DN$8408,Sheet4!$C$2:$C$8408,Sheet3!$B19,Sheet4!$D$2:$D$8408,Sheet3!CU$3,Sheet4!$A$2:$A$8408,Sheet3!$B$1,Sheet4!$B$2:$B$8408,Sheet3!$A$3))","v":18},{"$f":"+IF(SUMIFS(Sheet4!$DN$2:$DN$8408,Sheet4!$C$2:$C$8408,Sheet3!$B19,Sheet4!$D$2:$D$8408,Sheet3!CV$3,Sheet4!$A$2:$A$8408,Sheet3!$B$1,Sheet4!$B$2:$B$8408,Sheet3!$A$3)<3,0,SUMIFS(Sheet4!$DN$2:$DN$8408,Sheet4!$C$2:$C$8408,Sheet3!$B19,Sheet4!$D$2:$D$8408,Sheet3!CV$3,Sheet4!$A$2:$A$8408,Sheet3!$B$1,Sheet4!$B$2:$B$8408,Sheet3!$A$3))","v":167},{"$f":"+IF(SUMIFS(Sheet4!$DN$2:$DN$8408,Sheet4!$C$2:$C$8408,Sheet3!$B19,Sheet4!$D$2:$D$8408,Sheet3!CW$3,Sheet4!$A$2:$A$8408,Sheet3!$B$1,Sheet4!$B$2:$B$8408,Sheet3!$A$3)<3,0,SUMIFS(Sheet4!$DN$2:$DN$8408,Sheet4!$C$2:$C$8408,Sheet3!$B19,Sheet4!$D$2:$D$8408,Sheet3!CW$3,Sheet4!$A$2:$A$8408,Sheet3!$B$1,Sheet4!$B$2:$B$8408,Sheet3!$A$3))","v":154},{"$f":"+IF(SUMIFS(Sheet4!$DN$2:$DN$8408,Sheet4!$C$2:$C$8408,Sheet3!$B19,Sheet4!$D$2:$D$8408,Sheet3!CX$3,Sheet4!$A$2:$A$8408,Sheet3!$B$1,Sheet4!$B$2:$B$8408,Sheet3!$A$3)<3,0,SUMIFS(Sheet4!$DN$2:$DN$8408,Sheet4!$C$2:$C$8408,Sheet3!$B19,Sheet4!$D$2:$D$8408,Sheet3!CX$3,Sheet4!$A$2:$A$8408,Sheet3!$B$1,Sheet4!$B$2:$B$8408,Sheet3!$A$3))","v":22},{"$f":"+IF(SUMIFS(Sheet4!$DN$2:$DN$8408,Sheet4!$C$2:$C$8408,Sheet3!$B19,Sheet4!$D$2:$D$8408,Sheet3!CY$3,Sheet4!$A$2:$A$8408,Sheet3!$B$1,Sheet4!$B$2:$B$8408,Sheet3!$A$3)<3,0,SUMIFS(Sheet4!$DN$2:$DN$8408,Sheet4!$C$2:$C$8408,Sheet3!$B19,Sheet4!$D$2:$D$8408,Sheet3!CY$3,Sheet4!$A$2:$A$8408,Sheet3!$B$1,Sheet4!$B$2:$B$8408,Sheet3!$A$3))","v":0},{"$f":"+IF(SUMIFS(Sheet4!$DN$2:$DN$8408,Sheet4!$C$2:$C$8408,Sheet3!$B19,Sheet4!$D$2:$D$8408,Sheet3!CZ$3,Sheet4!$A$2:$A$8408,Sheet3!$B$1,Sheet4!$B$2:$B$8408,Sheet3!$A$3)<3,0,SUMIFS(Sheet4!$DN$2:$DN$8408,Sheet4!$C$2:$C$8408,Sheet3!$B19,Sheet4!$D$2:$D$8408,Sheet3!CZ$3,Sheet4!$A$2:$A$8408,Sheet3!$B$1,Sheet4!$B$2:$B$8408,Sheet3!$A$3))","v":368},{"$f":"+IF(SUMIFS(Sheet4!$DN$2:$DN$8408,Sheet4!$C$2:$C$8408,Sheet3!$B19,Sheet4!$D$2:$D$8408,Sheet3!DA$3,Sheet4!$A$2:$A$8408,Sheet3!$B$1,Sheet4!$B$2:$B$8408,Sheet3!$A$3)<3,0,SUMIFS(Sheet4!$DN$2:$DN$8408,Sheet4!$C$2:$C$8408,Sheet3!$B19,Sheet4!$D$2:$D$8408,Sheet3!DA$3,Sheet4!$A$2:$A$8408,Sheet3!$B$1,Sheet4!$B$2:$B$8408,Sheet3!$A$3))","v":9},{"$f":"+IF(SUMIFS(Sheet4!$DN$2:$DN$8408,Sheet4!$C$2:$C$8408,Sheet3!$B19,Sheet4!$D$2:$D$8408,Sheet3!DB$3,Sheet4!$A$2:$A$8408,Sheet3!$B$1,Sheet4!$B$2:$B$8408,Sheet3!$A$3)<3,0,SUMIFS(Sheet4!$DN$2:$DN$8408,Sheet4!$C$2:$C$8408,Sheet3!$B19,Sheet4!$D$2:$D$8408,Sheet3!DB$3,Sheet4!$A$2:$A$8408,Sheet3!$B$1,Sheet4!$B$2:$B$8408,Sheet3!$A$3))","v":130},{"$f":"+IF(SUMIFS(Sheet4!$DN$2:$DN$8408,Sheet4!$C$2:$C$8408,Sheet3!$B19,Sheet4!$D$2:$D$8408,Sheet3!DC$3,Sheet4!$A$2:$A$8408,Sheet3!$B$1,Sheet4!$B$2:$B$8408,Sheet3!$A$3)<3,0,SUMIFS(Sheet4!$DN$2:$DN$8408,Sheet4!$C$2:$C$8408,Sheet3!$B19,Sheet4!$D$2:$D$8408,Sheet3!DC$3,Sheet4!$A$2:$A$8408,Sheet3!$B$1,Sheet4!$B$2:$B$8408,Sheet3!$A$3))","v":266},{"$f":"+IF(SUMIFS(Sheet4!$DN$2:$DN$8408,Sheet4!$C$2:$C$8408,Sheet3!$B19,Sheet4!$D$2:$D$8408,Sheet3!DD$3,Sheet4!$A$2:$A$8408,Sheet3!$B$1,Sheet4!$B$2:$B$8408,Sheet3!$A$3)<3,0,SUMIFS(Sheet4!$DN$2:$DN$8408,Sheet4!$C$2:$C$8408,Sheet3!$B19,Sheet4!$D$2:$D$8408,Sheet3!DD$3,Sheet4!$A$2:$A$8408,Sheet3!$B$1,Sheet4!$B$2:$B$8408,Sheet3!$A$3))","v":951},{"$f":"+IF(SUMIFS(Sheet4!$DN$2:$DN$8408,Sheet4!$C$2:$C$8408,Sheet3!$B19,Sheet4!$D$2:$D$8408,Sheet3!DE$3,Sheet4!$A$2:$A$8408,Sheet3!$B$1,Sheet4!$B$2:$B$8408,Sheet3!$A$3)<3,0,SUMIFS(Sheet4!$DN$2:$DN$8408,Sheet4!$C$2:$C$8408,Sheet3!$B19,Sheet4!$D$2:$D$8408,Sheet3!DE$3,Sheet4!$A$2:$A$8408,Sheet3!$B$1,Sheet4!$B$2:$B$8408,Sheet3!$A$3))","v":16},{"$f":"+IF(SUMIFS(Sheet4!$DN$2:$DN$8408,Sheet4!$C$2:$C$8408,Sheet3!$B19,Sheet4!$D$2:$D$8408,Sheet3!DF$3,Sheet4!$A$2:$A$8408,Sheet3!$B$1,Sheet4!$B$2:$B$8408,Sheet3!$A$3)<3,0,SUMIFS(Sheet4!$DN$2:$DN$8408,Sheet4!$C$2:$C$8408,Sheet3!$B19,Sheet4!$D$2:$D$8408,Sheet3!DF$3,Sheet4!$A$2:$A$8408,Sheet3!$B$1,Sheet4!$B$2:$B$8408,Sheet3!$A$3))","v":29},{"$f":"+IF(SUMIFS(Sheet4!$DN$2:$DN$8408,Sheet4!$C$2:$C$8408,Sheet3!$B19,Sheet4!$D$2:$D$8408,Sheet3!DG$3,Sheet4!$A$2:$A$8408,Sheet3!$B$1,Sheet4!$B$2:$B$8408,Sheet3!$A$3)<3,0,SUMIFS(Sheet4!$DN$2:$DN$8408,Sheet4!$C$2:$C$8408,Sheet3!$B19,Sheet4!$D$2:$D$8408,Sheet3!DG$3,Sheet4!$A$2:$A$8408,Sheet3!$B$1,Sheet4!$B$2:$B$8408,Sheet3!$A$3))","v":122},{"$f":"+IF(SUMIFS(Sheet4!$DN$2:$DN$8408,Sheet4!$C$2:$C$8408,Sheet3!$B19,Sheet4!$D$2:$D$8408,Sheet3!DH$3,Sheet4!$A$2:$A$8408,Sheet3!$B$1,Sheet4!$B$2:$B$8408,Sheet3!$A$3)<3,0,SUMIFS(Sheet4!$DN$2:$DN$8408,Sheet4!$C$2:$C$8408,Sheet3!$B19,Sheet4!$D$2:$D$8408,Sheet3!DH$3,Sheet4!$A$2:$A$8408,Sheet3!$B$1,Sheet4!$B$2:$B$8408,Sheet3!$A$3))","v":26},{"$f":"+IF(SUMIFS(Sheet4!$DN$2:$DN$8408,Sheet4!$C$2:$C$8408,Sheet3!$B19,Sheet4!$D$2:$D$8408,Sheet3!DI$3,Sheet4!$A$2:$A$8408,Sheet3!$B$1,Sheet4!$B$2:$B$8408,Sheet3!$A$3)<3,0,SUMIFS(Sheet4!$DN$2:$DN$8408,Sheet4!$C$2:$C$8408,Sheet3!$B19,Sheet4!$D$2:$D$8408,Sheet3!DI$3,Sheet4!$A$2:$A$8408,Sheet3!$B$1,Sheet4!$B$2:$B$8408,Sheet3!$A$3))","v":413},{"$f":"+IF(SUMIFS(Sheet4!$DN$2:$DN$8408,Sheet4!$C$2:$C$8408,Sheet3!$B19,Sheet4!$D$2:$D$8408,Sheet3!DJ$3,Sheet4!$A$2:$A$8408,Sheet3!$B$1,Sheet4!$B$2:$B$8408,Sheet3!$A$3)<3,0,SUMIFS(Sheet4!$DN$2:$DN$8408,Sheet4!$C$2:$C$8408,Sheet3!$B19,Sheet4!$D$2:$D$8408,Sheet3!DJ$3,Sheet4!$A$2:$A$8408,Sheet3!$B$1,Sheet4!$B$2:$B$8408,Sheet3!$A$3))","v":369},{"$f":"+IF(SUMIFS(Sheet4!$DN$2:$DN$8408,Sheet4!$C$2:$C$8408,Sheet3!$B19,Sheet4!$D$2:$D$8408,Sheet3!DK$3,Sheet4!$A$2:$A$8408,Sheet3!$B$1,Sheet4!$B$2:$B$8408,Sheet3!$A$3)<3,0,SUMIFS(Sheet4!$DN$2:$DN$8408,Sheet4!$C$2:$C$8408,Sheet3!$B19,Sheet4!$D$2:$D$8408,Sheet3!DK$3,Sheet4!$A$2:$A$8408,Sheet3!$B$1,Sheet4!$B$2:$B$8408,Sheet3!$A$3))","v":124},{"$f":"+IF(SUMIFS(Sheet4!$DN$2:$DN$8408,Sheet4!$C$2:$C$8408,Sheet3!$B19,Sheet4!$D$2:$D$8408,Sheet3!DL$3,Sheet4!$A$2:$A$8408,Sheet3!$B$1,Sheet4!$B$2:$B$8408,Sheet3!$A$3)<3,0,SUMIFS(Sheet4!$DN$2:$DN$8408,Sheet4!$C$2:$C$8408,Sheet3!$B19,Sheet4!$D$2:$D$8408,Sheet3!DL$3,Sheet4!$A$2:$A$8408,Sheet3!$B$1,Sheet4!$B$2:$B$8408,Sheet3!$A$3))","v":0},{"$f":"+IF(SUMIFS(Sheet4!$DN$2:$DN$8408,Sheet4!$C$2:$C$8408,Sheet3!$B19,Sheet4!$D$2:$D$8408,Sheet3!DM$3,Sheet4!$A$2:$A$8408,Sheet3!$B$1,Sheet4!$B$2:$B$8408,Sheet3!$A$3)<3,0,SUMIFS(Sheet4!$DN$2:$DN$8408,Sheet4!$C$2:$C$8408,Sheet3!$B19,Sheet4!$D$2:$D$8408,Sheet3!DM$3,Sheet4!$A$2:$A$8408,Sheet3!$B$1,Sheet4!$B$2:$B$8408,Sheet3!$A$3))","v":0},{"$f":"+IF(SUMIFS(Sheet4!$DN$2:$DN$8408,Sheet4!$C$2:$C$8408,Sheet3!$B19,Sheet4!$E$2:$E$8408,Sheet3!DN$4,Sheet4!$A$2:$A$8408,Sheet3!$B$1,Sheet4!$B$2:$B$8408,Sheet3!$A$3)<3,0,SUMIFS(Sheet4!$DN$2:$DN$8408,Sheet4!$C$2:$C$8408,Sheet3!$B19,Sheet4!$E$2:$E$8408,Sheet3!DN$4,Sheet4!$A$2:$A$8408,Sheet3!$B$1,Sheet4!$B$2:$B$8408,Sheet3!$A$3))","v":2223},{"$f":"+IF(SUMIFS(Sheet4!$DN$2:$DN$8408,Sheet4!$C$2:$C$8408,Sheet3!$B19,Sheet4!$E$2:$E$8408,Sheet3!DO$4,Sheet4!$A$2:$A$8408,Sheet3!$B$1,Sheet4!$B$2:$B$8408,Sheet3!$A$3)<3,0,SUMIFS(Sheet4!$DN$2:$DN$8408,Sheet4!$C$2:$C$8408,Sheet3!$B19,Sheet4!$E$2:$E$8408,Sheet3!DO$4,Sheet4!$A$2:$A$8408,Sheet3!$B$1,Sheet4!$B$2:$B$8408,Sheet3!$A$3))","v":795},{"$f":"+IF(SUMIFS(Sheet4!$DN$2:$DN$8408,Sheet4!$C$2:$C$8408,Sheet3!$B19,Sheet4!$E$2:$E$8408,Sheet3!DP$4,Sheet4!$A$2:$A$8408,Sheet3!$B$1,Sheet4!$B$2:$B$8408,Sheet3!$A$3)<3,0,SUMIFS(Sheet4!$DN$2:$DN$8408,Sheet4!$C$2:$C$8408,Sheet3!$B19,Sheet4!$E$2:$E$8408,Sheet3!DP$4,Sheet4!$A$2:$A$8408,Sheet3!$B$1,Sheet4!$B$2:$B$8408,Sheet3!$A$3))","v":126},{"$f":"+IF(SUMIFS(Sheet4!$DN$2:$DN$8408,Sheet4!$C$2:$C$8408,Sheet3!$B19,Sheet4!$E$2:$E$8408,Sheet3!DQ$4,Sheet4!$A$2:$A$8408,Sheet3!$B$1,Sheet4!$B$2:$B$8408,Sheet3!$A$3)<3,0,SUMIFS(Sheet4!$DN$2:$DN$8408,Sheet4!$C$2:$C$8408,Sheet3!$B19,Sheet4!$E$2:$E$8408,Sheet3!DQ$4,Sheet4!$A$2:$A$8408,Sheet3!$B$1,Sheet4!$B$2:$B$8408,Sheet3!$A$3))","v":37},{"$f":"+IF(SUMIFS(Sheet4!$DN$2:$DN$8408,Sheet4!$C$2:$C$8408,Sheet3!$B19,Sheet4!$E$2:$E$8408,Sheet3!DR$4,Sheet4!$A$2:$A$8408,Sheet3!$B$1,Sheet4!$B$2:$B$8408,Sheet3!$A$3)<3,0,SUMIFS(Sheet4!$DN$2:$DN$8408,Sheet4!$C$2:$C$8408,Sheet3!$B19,Sheet4!$E$2:$E$8408,Sheet3!DR$4,Sheet4!$A$2:$A$8408,Sheet3!$B$1,Sheet4!$B$2:$B$8408,Sheet3!$A$3))","v":7}]
[2,"16G","Viseu Dão Lafões",{"$f":"+SUMIFS(Sheet4!$DM$2:$DM$8408,Sheet4!$C$2:$C$8408,Sheet3!$B20,Sheet4!$D$2:$D$8408,Sheet3!D$3,Sheet4!$E$2:$E$8408,Sheet3!D$4,Sheet4!$A$2:$A$8408,Sheet3!$B$1,Sheet4!$B$2:$B$8408,Sheet3!$A$3)","v":0},{"$f":"+SUMIFS(Sheet4!$DM$2:$DM$8408,Sheet4!$C$2:$C$8408,Sheet3!$B20,Sheet4!$D$2:$D$8408,Sheet3!E$3,Sheet4!$E$2:$E$8408,Sheet3!E$4,Sheet4!$A$2:$A$8408,Sheet3!$B$1,Sheet4!$B$2:$B$8408,Sheet3!$A$3)","v":0},{"$f":"+SUMIFS(Sheet4!$DM$2:$DM$8408,Sheet4!$C$2:$C$8408,Sheet3!$B20,Sheet4!$D$2:$D$8408,Sheet3!F$3,Sheet4!$E$2:$E$8408,Sheet3!F$4,Sheet4!$A$2:$A$8408,Sheet3!$B$1,Sheet4!$B$2:$B$8408,Sheet3!$A$3)","v":0},{"$f":"+SUMIFS(Sheet4!$DM$2:$DM$8408,Sheet4!$C$2:$C$8408,Sheet3!$B20,Sheet4!$D$2:$D$8408,Sheet3!G$3,Sheet4!$E$2:$E$8408,Sheet3!G$4,Sheet4!$A$2:$A$8408,Sheet3!$B$1,Sheet4!$B$2:$B$8408,Sheet3!$A$3)","v":0},{"$f":"+SUMIFS(Sheet4!$DM$2:$DM$8408,Sheet4!$C$2:$C$8408,Sheet3!$B20,Sheet4!$D$2:$D$8408,Sheet3!H$3,Sheet4!$E$2:$E$8408,Sheet3!H$4,Sheet4!$A$2:$A$8408,Sheet3!$B$1,Sheet4!$B$2:$B$8408,Sheet3!$A$3)","v":0},{"$f":"+SUMIFS(Sheet4!$DM$2:$DM$8408,Sheet4!$C$2:$C$8408,Sheet3!$B20,Sheet4!$D$2:$D$8408,Sheet3!I$3,Sheet4!$E$2:$E$8408,Sheet3!I$4,Sheet4!$A$2:$A$8408,Sheet3!$B$1,Sheet4!$B$2:$B$8408,Sheet3!$A$3)","v":219},{"$f":"+SUMIFS(Sheet4!$DM$2:$DM$8408,Sheet4!$C$2:$C$8408,Sheet3!$B20,Sheet4!$D$2:$D$8408,Sheet3!J$3,Sheet4!$E$2:$E$8408,Sheet3!J$4,Sheet4!$A$2:$A$8408,Sheet3!$B$1,Sheet4!$B$2:$B$8408,Sheet3!$A$3)","v":20},{"$f":"+SUMIFS(Sheet4!$DM$2:$DM$8408,Sheet4!$C$2:$C$8408,Sheet3!$B20,Sheet4!$D$2:$D$8408,Sheet3!K$3,Sheet4!$E$2:$E$8408,Sheet3!K$4,Sheet4!$A$2:$A$8408,Sheet3!$B$1,Sheet4!$B$2:$B$8408,Sheet3!$A$3)","v":0},{"$f":"+SUMIFS(Sheet4!$DM$2:$DM$8408,Sheet4!$C$2:$C$8408,Sheet3!$B20,Sheet4!$D$2:$D$8408,Sheet3!L$3,Sheet4!$E$2:$E$8408,Sheet3!L$4,Sheet4!$A$2:$A$8408,Sheet3!$B$1,Sheet4!$B$2:$B$8408,Sheet3!$A$3)","v":0},{"$f":"+SUMIFS(Sheet4!$DM$2:$DM$8408,Sheet4!$C$2:$C$8408,Sheet3!$B20,Sheet4!$D$2:$D$8408,Sheet3!M$3,Sheet4!$E$2:$E$8408,Sheet3!M$4,Sheet4!$A$2:$A$8408,Sheet3!$B$1,Sheet4!$B$2:$B$8408,Sheet3!$A$3)","v":0},{"$f":"+SUMIFS(Sheet4!$DM$2:$DM$8408,Sheet4!$C$2:$C$8408,Sheet3!$B20,Sheet4!$D$2:$D$8408,Sheet3!N$3,Sheet4!$E$2:$E$8408,Sheet3!N$4,Sheet4!$A$2:$A$8408,Sheet3!$B$1,Sheet4!$B$2:$B$8408,Sheet3!$A$3)","v":216},{"$f":"+SUMIFS(Sheet4!$DM$2:$DM$8408,Sheet4!$C$2:$C$8408,Sheet3!$B20,Sheet4!$D$2:$D$8408,Sheet3!O$3,Sheet4!$E$2:$E$8408,Sheet3!O$4,Sheet4!$A$2:$A$8408,Sheet3!$B$1,Sheet4!$B$2:$B$8408,Sheet3!$A$3)","v":34},{"$f":"+SUMIFS(Sheet4!$DM$2:$DM$8408,Sheet4!$C$2:$C$8408,Sheet3!$B20,Sheet4!$D$2:$D$8408,Sheet3!P$3,Sheet4!$E$2:$E$8408,Sheet3!P$4,Sheet4!$A$2:$A$8408,Sheet3!$B$1,Sheet4!$B$2:$B$8408,Sheet3!$A$3)","v":0},{"$f":"+SUMIFS(Sheet4!$DM$2:$DM$8408,Sheet4!$C$2:$C$8408,Sheet3!$B20,Sheet4!$D$2:$D$8408,Sheet3!Q$3,Sheet4!$E$2:$E$8408,Sheet3!Q$4,Sheet4!$A$2:$A$8408,Sheet3!$B$1,Sheet4!$B$2:$B$8408,Sheet3!$A$3)","v":0},{"$f":"+SUMIFS(Sheet4!$DM$2:$DM$8408,Sheet4!$C$2:$C$8408,Sheet3!$B20,Sheet4!$D$2:$D$8408,Sheet3!R$3,Sheet4!$E$2:$E$8408,Sheet3!R$4,Sheet4!$A$2:$A$8408,Sheet3!$B$1,Sheet4!$B$2:$B$8408,Sheet3!$A$3)","v":0},{"$f":"+SUMIFS(Sheet4!$DM$2:$DM$8408,Sheet4!$C$2:$C$8408,Sheet3!$B20,Sheet4!$D$2:$D$8408,Sheet3!S$3,Sheet4!$E$2:$E$8408,Sheet3!S$4,Sheet4!$A$2:$A$8408,Sheet3!$B$1,Sheet4!$B$2:$B$8408,Sheet3!$A$3)","v":0},{"$f":"+SUMIFS(Sheet4!$DM$2:$DM$8408,Sheet4!$C$2:$C$8408,Sheet3!$B20,Sheet4!$D$2:$D$8408,Sheet3!T$3,Sheet4!$E$2:$E$8408,Sheet3!T$4,Sheet4!$A$2:$A$8408,Sheet3!$B$1,Sheet4!$B$2:$B$8408,Sheet3!$A$3)","v":0},{"$f":"+SUMIFS(Sheet4!$DM$2:$DM$8408,Sheet4!$C$2:$C$8408,Sheet3!$B20,Sheet4!$D$2:$D$8408,Sheet3!U$3,Sheet4!$E$2:$E$8408,Sheet3!U$4,Sheet4!$A$2:$A$8408,Sheet3!$B$1,Sheet4!$B$2:$B$8408,Sheet3!$A$3)","v":0},{"$f":"+SUMIFS(Sheet4!$DM$2:$DM$8408,Sheet4!$C$2:$C$8408,Sheet3!$B20,Sheet4!$D$2:$D$8408,Sheet3!V$3,Sheet4!$E$2:$E$8408,Sheet3!V$4,Sheet4!$A$2:$A$8408,Sheet3!$B$1,Sheet4!$B$2:$B$8408,Sheet3!$A$3)","v":0},{"$f":"+SUMIFS(Sheet4!$DM$2:$DM$8408,Sheet4!$C$2:$C$8408,Sheet3!$B20,Sheet4!$D$2:$D$8408,Sheet3!W$3,Sheet4!$E$2:$E$8408,Sheet3!W$4,Sheet4!$A$2:$A$8408,Sheet3!$B$1,Sheet4!$B$2:$B$8408,Sheet3!$A$3)","v":0},{"$f":"+SUMIFS(Sheet4!$DM$2:$DM$8408,Sheet4!$C$2:$C$8408,Sheet3!$B20,Sheet4!$D$2:$D$8408,Sheet3!X$3,Sheet4!$E$2:$E$8408,Sheet3!X$4,Sheet4!$A$2:$A$8408,Sheet3!$B$1,Sheet4!$B$2:$B$8408,Sheet3!$A$3)","v":0},{"$f":"+SUMIFS(Sheet4!$DM$2:$DM$8408,Sheet4!$C$2:$C$8408,Sheet3!$B20,Sheet4!$D$2:$D$8408,Sheet3!Y$3,Sheet4!$E$2:$E$8408,Sheet3!Y$4,Sheet4!$A$2:$A$8408,Sheet3!$B$1,Sheet4!$B$2:$B$8408,Sheet3!$A$3)","v":0},{"$f":"+SUMIFS(Sheet4!$DM$2:$DM$8408,Sheet4!$C$2:$C$8408,Sheet3!$B20,Sheet4!$D$2:$D$8408,Sheet3!Z$3,Sheet4!$E$2:$E$8408,Sheet3!Z$4,Sheet4!$A$2:$A$8408,Sheet3!$B$1,Sheet4!$B$2:$B$8408,Sheet3!$A$3)","v":0},{"$f":"+SUMIFS(Sheet4!$DM$2:$DM$8408,Sheet4!$C$2:$C$8408,Sheet3!$B20,Sheet4!$D$2:$D$8408,Sheet3!AA$3,Sheet4!$E$2:$E$8408,Sheet3!AA$4,Sheet4!$A$2:$A$8408,Sheet3!$B$1,Sheet4!$B$2:$B$8408,Sheet3!$A$3)","v":0},{"$f":"+SUMIFS(Sheet4!$DM$2:$DM$8408,Sheet4!$C$2:$C$8408,Sheet3!$B20,Sheet4!$D$2:$D$8408,Sheet3!AB$3,Sheet4!$E$2:$E$8408,Sheet3!AB$4,Sheet4!$A$2:$A$8408,Sheet3!$B$1,Sheet4!$B$2:$B$8408,Sheet3!$A$3)","v":0},{"$f":"+SUMIFS(Sheet4!$DM$2:$DM$8408,Sheet4!$C$2:$C$8408,Sheet3!$B20,Sheet4!$D$2:$D$8408,Sheet3!AC$3,Sheet4!$E$2:$E$8408,Sheet3!AC$4,Sheet4!$A$2:$A$8408,Sheet3!$B$1,Sheet4!$B$2:$B$8408,Sheet3!$A$3)","v":376},{"$f":"+SUMIFS(Sheet4!$DM$2:$DM$8408,Sheet4!$C$2:$C$8408,Sheet3!$B20,Sheet4!$D$2:$D$8408,Sheet3!AD$3,Sheet4!$E$2:$E$8408,Sheet3!AD$4,Sheet4!$A$2:$A$8408,Sheet3!$B$1,Sheet4!$B$2:$B$8408,Sheet3!$A$3)","v":608},{"$f":"+SUMIFS(Sheet4!$DM$2:$DM$8408,Sheet4!$C$2:$C$8408,Sheet3!$B20,Sheet4!$D$2:$D$8408,Sheet3!AE$3,Sheet4!$E$2:$E$8408,Sheet3!AE$4,Sheet4!$A$2:$A$8408,Sheet3!$B$1,Sheet4!$B$2:$B$8408,Sheet3!$A$3)","v":23},{"$f":"+SUMIFS(Sheet4!$DM$2:$DM$8408,Sheet4!$C$2:$C$8408,Sheet3!$B20,Sheet4!$D$2:$D$8408,Sheet3!AF$3,Sheet4!$E$2:$E$8408,Sheet3!AF$4,Sheet4!$A$2:$A$8408,Sheet3!$B$1,Sheet4!$B$2:$B$8408,Sheet3!$A$3)","v":0},{"$f":"+SUMIFS(Sheet4!$DM$2:$DM$8408,Sheet4!$C$2:$C$8408,Sheet3!$B20,Sheet4!$D$2:$D$8408,Sheet3!AG$3,Sheet4!$E$2:$E$8408,Sheet3!AG$4,Sheet4!$A$2:$A$8408,Sheet3!$B$1,Sheet4!$B$2:$B$8408,Sheet3!$A$3)","v":0},{"$f":"+SUMIFS(Sheet4!$DM$2:$DM$8408,Sheet4!$C$2:$C$8408,Sheet3!$B20,Sheet4!$D$2:$D$8408,Sheet3!AH$3,Sheet4!$E$2:$E$8408,Sheet3!AH$4,Sheet4!$A$2:$A$8408,Sheet3!$B$1,Sheet4!$B$2:$B$8408,Sheet3!$A$3)","v":177},{"$f":"+SUMIFS(Sheet4!$DM$2:$DM$8408,Sheet4!$C$2:$C$8408,Sheet3!$B20,Sheet4!$D$2:$D$8408,Sheet3!AI$3,Sheet4!$E$2:$E$8408,Sheet3!AI$4,Sheet4!$A$2:$A$8408,Sheet3!$B$1,Sheet4!$B$2:$B$8408,Sheet3!$A$3)","v":201},{"$f":"+SUMIFS(Sheet4!$DM$2:$DM$8408,Sheet4!$C$2:$C$8408,Sheet3!$B20,Sheet4!$D$2:$D$8408,Sheet3!AJ$3,Sheet4!$E$2:$E$8408,Sheet3!AJ$4,Sheet4!$A$2:$A$8408,Sheet3!$B$1,Sheet4!$B$2:$B$8408,Sheet3!$A$3)","v":29},{"$f":"+SUMIFS(Sheet4!$DM$2:$DM$8408,Sheet4!$C$2:$C$8408,Sheet3!$B20,Sheet4!$D$2:$D$8408,Sheet3!AK$3,Sheet4!$E$2:$E$8408,Sheet3!AK$4,Sheet4!$A$2:$A$8408,Sheet3!$B$1,Sheet4!$B$2:$B$8408,Sheet3!$A$3)","v":0},{"$f":"+SUMIFS(Sheet4!$DM$2:$DM$8408,Sheet4!$C$2:$C$8408,Sheet3!$B20,Sheet4!$D$2:$D$8408,Sheet3!AL$3,Sheet4!$E$2:$E$8408,Sheet3!AL$4,Sheet4!$A$2:$A$8408,Sheet3!$B$1,Sheet4!$B$2:$B$8408,Sheet3!$A$3)","v":0},{"$f":"+SUMIFS(Sheet4!$DM$2:$DM$8408,Sheet4!$C$2:$C$8408,Sheet3!$B20,Sheet4!$D$2:$D$8408,Sheet3!AM$3,Sheet4!$E$2:$E$8408,Sheet3!AM$4,Sheet4!$A$2:$A$8408,Sheet3!$B$1,Sheet4!$B$2:$B$8408,Sheet3!$A$3)","v":104},{"$f":"+SUMIFS(Sheet4!$DM$2:$DM$8408,Sheet4!$C$2:$C$8408,Sheet3!$B20,Sheet4!$D$2:$D$8408,Sheet3!AN$3,Sheet4!$E$2:$E$8408,Sheet3!AN$4,Sheet4!$A$2:$A$8408,Sheet3!$B$1,Sheet4!$B$2:$B$8408,Sheet3!$A$3)","v":164},{"$f":"+SUMIFS(Sheet4!$DM$2:$DM$8408,Sheet4!$C$2:$C$8408,Sheet3!$B20,Sheet4!$D$2:$D$8408,Sheet3!AO$3,Sheet4!$E$2:$E$8408,Sheet3!AO$4,Sheet4!$A$2:$A$8408,Sheet3!$B$1,Sheet4!$B$2:$B$8408,Sheet3!$A$3)","v":244},{"$f":"+SUMIFS(Sheet4!$DM$2:$DM$8408,Sheet4!$C$2:$C$8408,Sheet3!$B20,Sheet4!$D$2:$D$8408,Sheet3!AP$3,Sheet4!$E$2:$E$8408,Sheet3!AP$4,Sheet4!$A$2:$A$8408,Sheet3!$B$1,Sheet4!$B$2:$B$8408,Sheet3!$A$3)","v":32},{"$f":"+SUMIFS(Sheet4!$DM$2:$DM$8408,Sheet4!$C$2:$C$8408,Sheet3!$B20,Sheet4!$D$2:$D$8408,Sheet3!AQ$3,Sheet4!$E$2:$E$8408,Sheet3!AQ$4,Sheet4!$A$2:$A$8408,Sheet3!$B$1,Sheet4!$B$2:$B$8408,Sheet3!$A$3)","v":0},{"$f":"+SUMIFS(Sheet4!$DM$2:$DM$8408,Sheet4!$C$2:$C$8408,Sheet3!$B20,Sheet4!$D$2:$D$8408,Sheet3!AR$3,Sheet4!$E$2:$E$8408,Sheet3!AR$4,Sheet4!$A$2:$A$8408,Sheet3!$B$1,Sheet4!$B$2:$B$8408,Sheet3!$A$3)","v":66},{"$f":"+SUMIFS(Sheet4!$DM$2:$DM$8408,Sheet4!$C$2:$C$8408,Sheet3!$B20,Sheet4!$D$2:$D$8408,Sheet3!AS$3,Sheet4!$E$2:$E$8408,Sheet3!AS$4,Sheet4!$A$2:$A$8408,Sheet3!$B$1,Sheet4!$B$2:$B$8408,Sheet3!$A$3)","v":4},{"$f":"+SUMIFS(Sheet4!$DM$2:$DM$8408,Sheet4!$C$2:$C$8408,Sheet3!$B20,Sheet4!$D$2:$D$8408,Sheet3!AT$3,Sheet4!$E$2:$E$8408,Sheet3!AT$4,Sheet4!$A$2:$A$8408,Sheet3!$B$1,Sheet4!$B$2:$B$8408,Sheet3!$A$3)","v":0},{"$f":"+SUMIFS(Sheet4!$DM$2:$DM$8408,Sheet4!$C$2:$C$8408,Sheet3!$B20,Sheet4!$D$2:$D$8408,Sheet3!AU$3,Sheet4!$E$2:$E$8408,Sheet3!AU$4,Sheet4!$A$2:$A$8408,Sheet3!$B$1,Sheet4!$B$2:$B$8408,Sheet3!$A$3)","v":0},{"$f":"+SUMIFS(Sheet4!$DM$2:$DM$8408,Sheet4!$C$2:$C$8408,Sheet3!$B20,Sheet4!$D$2:$D$8408,Sheet3!AV$3,Sheet4!$E$2:$E$8408,Sheet3!AV$4,Sheet4!$A$2:$A$8408,Sheet3!$B$1,Sheet4!$B$2:$B$8408,Sheet3!$A$3)","v":0},{"$f":"+SUMIFS(Sheet4!$DM$2:$DM$8408,Sheet4!$C$2:$C$8408,Sheet3!$B20,Sheet4!$D$2:$D$8408,Sheet3!AW$3,Sheet4!$E$2:$E$8408,Sheet3!AW$4,Sheet4!$A$2:$A$8408,Sheet3!$B$1,Sheet4!$B$2:$B$8408,Sheet3!$A$3)","v":2019},{"$f":"+SUMIFS(Sheet4!$DM$2:$DM$8408,Sheet4!$C$2:$C$8408,Sheet3!$B20,Sheet4!$D$2:$D$8408,Sheet3!AX$3,Sheet4!$E$2:$E$8408,Sheet3!AX$4,Sheet4!$A$2:$A$8408,Sheet3!$B$1,Sheet4!$B$2:$B$8408,Sheet3!$A$3)","v":957},{"$f":"+SUMIFS(Sheet4!$DM$2:$DM$8408,Sheet4!$C$2:$C$8408,Sheet3!$B20,Sheet4!$D$2:$D$8408,Sheet3!AY$3,Sheet4!$E$2:$E$8408,Sheet3!AY$4,Sheet4!$A$2:$A$8408,Sheet3!$B$1,Sheet4!$B$2:$B$8408,Sheet3!$A$3)","v":22},{"$f":"+SUMIFS(Sheet4!$DM$2:$DM$8408,Sheet4!$C$2:$C$8408,Sheet3!$B20,Sheet4!$D$2:$D$8408,Sheet3!AZ$3,Sheet4!$E$2:$E$8408,Sheet3!AZ$4,Sheet4!$A$2:$A$8408,Sheet3!$B$1,Sheet4!$B$2:$B$8408,Sheet3!$A$3)","v":0},{"$f":"+SUMIFS(Sheet4!$DM$2:$DM$8408,Sheet4!$C$2:$C$8408,Sheet3!$B20,Sheet4!$D$2:$D$8408,Sheet3!BA$3,Sheet4!$E$2:$E$8408,Sheet3!BA$4,Sheet4!$A$2:$A$8408,Sheet3!$B$1,Sheet4!$B$2:$B$8408,Sheet3!$A$3)","v":0},{"$f":"+SUMIFS(Sheet4!$DM$2:$DM$8408,Sheet4!$C$2:$C$8408,Sheet3!$B20,Sheet4!$D$2:$D$8408,Sheet3!BB$3,Sheet4!$E$2:$E$8408,Sheet3!BB$4,Sheet4!$A$2:$A$8408,Sheet3!$B$1,Sheet4!$B$2:$B$8408,Sheet3!$A$3)","v":6},{"$f":"+SUMIFS(Sheet4!$DM$2:$DM$8408,Sheet4!$C$2:$C$8408,Sheet3!$B20,Sheet4!$D$2:$D$8408,Sheet3!BC$3,Sheet4!$E$2:$E$8408,Sheet3!BC$4,Sheet4!$A$2:$A$8408,Sheet3!$B$1,Sheet4!$B$2:$B$8408,Sheet3!$A$3)","v":13},{"$f":"+SUMIFS(Sheet4!$DM$2:$DM$8408,Sheet4!$C$2:$C$8408,Sheet3!$B20,Sheet4!$D$2:$D$8408,Sheet3!BD$3,Sheet4!$E$2:$E$8408,Sheet3!BD$4,Sheet4!$A$2:$A$8408,Sheet3!$B$1,Sheet4!$B$2:$B$8408,Sheet3!$A$3)","v":14},{"$f":"+SUMIFS(Sheet4!$DM$2:$DM$8408,Sheet4!$C$2:$C$8408,Sheet3!$B20,Sheet4!$D$2:$D$8408,Sheet3!BE$3,Sheet4!$E$2:$E$8408,Sheet3!BE$4,Sheet4!$A$2:$A$8408,Sheet3!$B$1,Sheet4!$B$2:$B$8408,Sheet3!$A$3)","v":6},{"$f":"+SUMIFS(Sheet4!$DM$2:$DM$8408,Sheet4!$C$2:$C$8408,Sheet3!$B20,Sheet4!$D$2:$D$8408,Sheet3!BF$3,Sheet4!$E$2:$E$8408,Sheet3!BF$4,Sheet4!$A$2:$A$8408,Sheet3!$B$1,Sheet4!$B$2:$B$8408,Sheet3!$A$3)","v":0},{"$f":"+SUMIFS(Sheet4!$DM$2:$DM$8408,Sheet4!$C$2:$C$8408,Sheet3!$B20,Sheet4!$D$2:$D$8408,Sheet3!BG$3,Sheet4!$E$2:$E$8408,Sheet3!BG$4,Sheet4!$A$2:$A$8408,Sheet3!$B$1,Sheet4!$B$2:$B$8408,Sheet3!$A$3)","v":23},{"$f":"+SUMIFS(Sheet4!$DM$2:$DM$8408,Sheet4!$C$2:$C$8408,Sheet3!$B20,Sheet4!$D$2:$D$8408,Sheet3!BH$3,Sheet4!$E$2:$E$8408,Sheet3!BH$4,Sheet4!$A$2:$A$8408,Sheet3!$B$1,Sheet4!$B$2:$B$8408,Sheet3!$A$3)","v":44},{"$f":"+SUMIFS(Sheet4!$DM$2:$DM$8408,Sheet4!$C$2:$C$8408,Sheet3!$B20,Sheet4!$D$2:$D$8408,Sheet3!BI$3,Sheet4!$E$2:$E$8408,Sheet3!BI$4,Sheet4!$A$2:$A$8408,Sheet3!$B$1,Sheet4!$B$2:$B$8408,Sheet3!$A$3)","v":5},{"$f":"+SUMIFS(Sheet4!$DM$2:$DM$8408,Sheet4!$C$2:$C$8408,Sheet3!$B20,Sheet4!$D$2:$D$8408,Sheet3!BJ$3,Sheet4!$E$2:$E$8408,Sheet3!BJ$4,Sheet4!$A$2:$A$8408,Sheet3!$B$1,Sheet4!$B$2:$B$8408,Sheet3!$A$3)","v":0},{"$f":"+SUMIFS(Sheet4!$DM$2:$DM$8408,Sheet4!$C$2:$C$8408,Sheet3!$B20,Sheet4!$D$2:$D$8408,Sheet3!BK$3,Sheet4!$E$2:$E$8408,Sheet3!BK$4,Sheet4!$A$2:$A$8408,Sheet3!$B$1,Sheet4!$B$2:$B$8408,Sheet3!$A$3)","v":0},{"$f":"+SUMIFS(Sheet4!$DM$2:$DM$8408,Sheet4!$C$2:$C$8408,Sheet3!$B20,Sheet4!$D$2:$D$8408,Sheet3!BL$3,Sheet4!$E$2:$E$8408,Sheet3!BL$4,Sheet4!$A$2:$A$8408,Sheet3!$B$1,Sheet4!$B$2:$B$8408,Sheet3!$A$3)","v":35},{"$f":"+SUMIFS(Sheet4!$DM$2:$DM$8408,Sheet4!$C$2:$C$8408,Sheet3!$B20,Sheet4!$D$2:$D$8408,Sheet3!BM$3,Sheet4!$E$2:$E$8408,Sheet3!BM$4,Sheet4!$A$2:$A$8408,Sheet3!$B$1,Sheet4!$B$2:$B$8408,Sheet3!$A$3)","v":57},{"$f":"+SUMIFS(Sheet4!$DM$2:$DM$8408,Sheet4!$C$2:$C$8408,Sheet3!$B20,Sheet4!$D$2:$D$8408,Sheet3!BN$3,Sheet4!$E$2:$E$8408,Sheet3!BN$4,Sheet4!$A$2:$A$8408,Sheet3!$B$1,Sheet4!$B$2:$B$8408,Sheet3!$A$3)","v":7},{"$f":"+SUMIFS(Sheet4!$DM$2:$DM$8408,Sheet4!$C$2:$C$8408,Sheet3!$B20,Sheet4!$D$2:$D$8408,Sheet3!BO$3,Sheet4!$E$2:$E$8408,Sheet3!BO$4,Sheet4!$A$2:$A$8408,Sheet3!$B$1,Sheet4!$B$2:$B$8408,Sheet3!$A$3)","v":0},{"$f":"+SUMIFS(Sheet4!$DM$2:$DM$8408,Sheet4!$C$2:$C$8408,Sheet3!$B20,Sheet4!$D$2:$D$8408,Sheet3!BP$3,Sheet4!$E$2:$E$8408,Sheet3!BP$4,Sheet4!$A$2:$A$8408,Sheet3!$B$1,Sheet4!$B$2:$B$8408,Sheet3!$A$3)","v":0},{"$f":"+SUMIFS(Sheet4!$DM$2:$DM$8408,Sheet4!$C$2:$C$8408,Sheet3!$B20,Sheet4!$D$2:$D$8408,Sheet3!BQ$3,Sheet4!$E$2:$E$8408,Sheet3!BQ$4,Sheet4!$A$2:$A$8408,Sheet3!$B$1,Sheet4!$B$2:$B$8408,Sheet3!$A$3)","v":19},{"$f":"+SUMIFS(Sheet4!$DM$2:$DM$8408,Sheet4!$C$2:$C$8408,Sheet3!$B20,Sheet4!$D$2:$D$8408,Sheet3!BR$3,Sheet4!$E$2:$E$8408,Sheet3!BR$4,Sheet4!$A$2:$A$8408,Sheet3!$B$1,Sheet4!$B$2:$B$8408,Sheet3!$A$3)","v":84},{"$f":"+SUMIFS(Sheet4!$DM$2:$DM$8408,Sheet4!$C$2:$C$8408,Sheet3!$B20,Sheet4!$D$2:$D$8408,Sheet3!BS$3,Sheet4!$E$2:$E$8408,Sheet3!BS$4,Sheet4!$A$2:$A$8408,Sheet3!$B$1,Sheet4!$B$2:$B$8408,Sheet3!$A$3)","v":19},{"$f":"+SUMIFS(Sheet4!$DM$2:$DM$8408,Sheet4!$C$2:$C$8408,Sheet3!$B20,Sheet4!$D$2:$D$8408,Sheet3!BT$3,Sheet4!$E$2:$E$8408,Sheet3!BT$4,Sheet4!$A$2:$A$8408,Sheet3!$B$1,Sheet4!$B$2:$B$8408,Sheet3!$A$3)","v":0},{"$f":"+SUMIFS(Sheet4!$DM$2:$DM$8408,Sheet4!$C$2:$C$8408,Sheet3!$B20,Sheet4!$D$2:$D$8408,Sheet3!BU$3,Sheet4!$E$2:$E$8408,Sheet3!BU$4,Sheet4!$A$2:$A$8408,Sheet3!$B$1,Sheet4!$B$2:$B$8408,Sheet3!$A$3)","v":0},{"$f":"+SUMIFS(Sheet4!$DM$2:$DM$8408,Sheet4!$C$2:$C$8408,Sheet3!$B20,Sheet4!$D$2:$D$8408,Sheet3!BV$3,Sheet4!$E$2:$E$8408,Sheet3!BV$4,Sheet4!$A$2:$A$8408,Sheet3!$B$1,Sheet4!$B$2:$B$8408,Sheet3!$A$3)","v":494},{"$f":"+SUMIFS(Sheet4!$DM$2:$DM$8408,Sheet4!$C$2:$C$8408,Sheet3!$B20,Sheet4!$D$2:$D$8408,Sheet3!BW$3,Sheet4!$E$2:$E$8408,Sheet3!BW$4,Sheet4!$A$2:$A$8408,Sheet3!$B$1,Sheet4!$B$2:$B$8408,Sheet3!$A$3)","v":412},{"$f":"+SUMIFS(Sheet4!$DM$2:$DM$8408,Sheet4!$C$2:$C$8408,Sheet3!$B20,Sheet4!$D$2:$D$8408,Sheet3!BX$3,Sheet4!$E$2:$E$8408,Sheet3!BX$4,Sheet4!$A$2:$A$8408,Sheet3!$B$1,Sheet4!$B$2:$B$8408,Sheet3!$A$3)","v":48},{"$f":"+SUMIFS(Sheet4!$DM$2:$DM$8408,Sheet4!$C$2:$C$8408,Sheet3!$B20,Sheet4!$D$2:$D$8408,Sheet3!BY$3,Sheet4!$E$2:$E$8408,Sheet3!BY$4,Sheet4!$A$2:$A$8408,Sheet3!$B$1,Sheet4!$B$2:$B$8408,Sheet3!$A$3)","v":0},{"$f":"+SUMIFS(Sheet4!$DM$2:$DM$8408,Sheet4!$C$2:$C$8408,Sheet3!$B20,Sheet4!$D$2:$D$8408,Sheet3!BZ$3,Sheet4!$E$2:$E$8408,Sheet3!BZ$4,Sheet4!$A$2:$A$8408,Sheet3!$B$1,Sheet4!$B$2:$B$8408,Sheet3!$A$3)","v":0},{"$f":"+SUMIFS(Sheet4!$DM$2:$DM$8408,Sheet4!$C$2:$C$8408,Sheet3!$B20,Sheet4!$D$2:$D$8408,Sheet3!CA$3,Sheet4!$E$2:$E$8408,Sheet3!CA$4,Sheet4!$A$2:$A$8408,Sheet3!$B$1,Sheet4!$B$2:$B$8408,Sheet3!$A$3)","v":616},{"$f":"+SUMIFS(Sheet4!$DM$2:$DM$8408,Sheet4!$C$2:$C$8408,Sheet3!$B20,Sheet4!$D$2:$D$8408,Sheet3!CB$3,Sheet4!$E$2:$E$8408,Sheet3!CB$4,Sheet4!$A$2:$A$8408,Sheet3!$B$1,Sheet4!$B$2:$B$8408,Sheet3!$A$3)","v":452},{"$f":"+SUMIFS(Sheet4!$DM$2:$DM$8408,Sheet4!$C$2:$C$8408,Sheet3!$B20,Sheet4!$D$2:$D$8408,Sheet3!CC$3,Sheet4!$E$2:$E$8408,Sheet3!CC$4,Sheet4!$A$2:$A$8408,Sheet3!$B$1,Sheet4!$B$2:$B$8408,Sheet3!$A$3)","v":10},{"$f":"+SUMIFS(Sheet4!$DM$2:$DM$8408,Sheet4!$C$2:$C$8408,Sheet3!$B20,Sheet4!$D$2:$D$8408,Sheet3!CD$3,Sheet4!$E$2:$E$8408,Sheet3!CD$4,Sheet4!$A$2:$A$8408,Sheet3!$B$1,Sheet4!$B$2:$B$8408,Sheet3!$A$3)","v":0},{"$f":"+SUMIFS(Sheet4!$DM$2:$DM$8408,Sheet4!$C$2:$C$8408,Sheet3!$B20,Sheet4!$D$2:$D$8408,Sheet3!CE$3,Sheet4!$E$2:$E$8408,Sheet3!CE$4,Sheet4!$A$2:$A$8408,Sheet3!$B$1,Sheet4!$B$2:$B$8408,Sheet3!$A$3)","v":0},{"$f":"+SUMIFS(Sheet4!$DM$2:$DM$8408,Sheet4!$C$2:$C$8408,Sheet3!$B20,Sheet4!$D$2:$D$8408,Sheet3!CF$3,Sheet4!$E$2:$E$8408,Sheet3!CF$4,Sheet4!$A$2:$A$8408,Sheet3!$B$1,Sheet4!$B$2:$B$8408,Sheet3!$A$3)","v":145},{"$f":"+SUMIFS(Sheet4!$DM$2:$DM$8408,Sheet4!$C$2:$C$8408,Sheet3!$B20,Sheet4!$D$2:$D$8408,Sheet3!CG$3,Sheet4!$E$2:$E$8408,Sheet3!CG$4,Sheet4!$A$2:$A$8408,Sheet3!$B$1,Sheet4!$B$2:$B$8408,Sheet3!$A$3)","v":6},{"$f":"+SUMIFS(Sheet4!$DM$2:$DM$8408,Sheet4!$C$2:$C$8408,Sheet3!$B20,Sheet4!$D$2:$D$8408,Sheet3!CH$3,Sheet4!$E$2:$E$8408,Sheet3!CH$4,Sheet4!$A$2:$A$8408,Sheet3!$B$1,Sheet4!$B$2:$B$8408,Sheet3!$A$3)","v":0},{"$f":"+SUMIFS(Sheet4!$DM$2:$DM$8408,Sheet4!$C$2:$C$8408,Sheet3!$B20,Sheet4!$D$2:$D$8408,Sheet3!CI$3,Sheet4!$E$2:$E$8408,Sheet3!CI$4,Sheet4!$A$2:$A$8408,Sheet3!$B$1,Sheet4!$B$2:$B$8408,Sheet3!$A$3)","v":0},{"$f":"+SUMIFS(Sheet4!$DM$2:$DM$8408,Sheet4!$C$2:$C$8408,Sheet3!$B20,Sheet4!$D$2:$D$8408,Sheet3!CJ$3,Sheet4!$E$2:$E$8408,Sheet3!CJ$4,Sheet4!$A$2:$A$8408,Sheet3!$B$1,Sheet4!$B$2:$B$8408,Sheet3!$A$3)","v":0},{"$f":"+SUMIFS(Sheet4!$DM$2:$DM$8408,Sheet4!$C$2:$C$8408,Sheet3!$B20,Sheet4!$D$2:$D$8408,Sheet3!CK$3,Sheet4!$E$2:$E$8408,Sheet3!CK$4,Sheet4!$A$2:$A$8408,Sheet3!$B$1,Sheet4!$B$2:$B$8408,Sheet3!$A$3)","v":0},{"$f":"+SUMIFS(Sheet4!$DM$2:$DM$8408,Sheet4!$C$2:$C$8408,Sheet3!$B20,Sheet4!$D$2:$D$8408,Sheet3!CL$3,Sheet4!$E$2:$E$8408,Sheet3!CL$4,Sheet4!$A$2:$A$8408,Sheet3!$B$1,Sheet4!$B$2:$B$8408,Sheet3!$A$3)","v":0},{"$f":"+SUMIFS(Sheet4!$DM$2:$DM$8408,Sheet4!$C$2:$C$8408,Sheet3!$B20,Sheet4!$D$2:$D$8408,Sheet3!CM$3,Sheet4!$E$2:$E$8408,Sheet3!CM$4,Sheet4!$A$2:$A$8408,Sheet3!$B$1,Sheet4!$B$2:$B$8408,Sheet3!$A$3)","v":0},{"$f":"+SUMIFS(Sheet4!$DM$2:$DM$8408,Sheet4!$C$2:$C$8408,Sheet3!$B20,Sheet4!$D$2:$D$8408,Sheet3!CN$3,Sheet4!$E$2:$E$8408,Sheet3!CN$4,Sheet4!$A$2:$A$8408,Sheet3!$B$1,Sheet4!$B$2:$B$8408,Sheet3!$A$3)","v":0},{"$f":"+SUMIFS(Sheet4!$DM$2:$DM$8408,Sheet4!$C$2:$C$8408,Sheet3!$B20,Sheet4!$D$2:$D$8408,Sheet3!CO$3,Sheet4!$E$2:$E$8408,Sheet3!CO$4,Sheet4!$A$2:$A$8408,Sheet3!$B$1,Sheet4!$B$2:$B$8408,Sheet3!$A$3)","v":0},{"$f":"+SUMIFS(Sheet4!$DM$2:$DM$8408,Sheet4!$C$2:$C$8408,Sheet3!$B20,Sheet4!$D$2:$D$8408,Sheet3!CP$3,Sheet4!$E$2:$E$8408,Sheet3!CP$4,Sheet4!$A$2:$A$8408,Sheet3!$B$1,Sheet4!$B$2:$B$8408,Sheet3!$A$3)","v":11},{"$f":"+SUMIFS(Sheet4!$DM$2:$DM$8408,Sheet4!$C$2:$C$8408,Sheet3!$B20,Sheet4!$D$2:$D$8408,Sheet3!CQ$3,Sheet4!$E$2:$E$8408,Sheet3!CQ$4,Sheet4!$A$2:$A$8408,Sheet3!$B$1,Sheet4!$B$2:$B$8408,Sheet3!$A$3)","v":0},{"$f":"+SUMIFS(Sheet4!$DM$2:$DM$8408,Sheet4!$C$2:$C$8408,Sheet3!$B20,Sheet4!$D$2:$D$8408,Sheet3!CR$3,Sheet4!$E$2:$E$8408,Sheet3!CR$4,Sheet4!$A$2:$A$8408,Sheet3!$B$1,Sheet4!$B$2:$B$8408,Sheet3!$A$3)","v":0},{"$f":"+SUMIFS(Sheet4!$DM$2:$DM$8408,Sheet4!$C$2:$C$8408,Sheet3!$B20,Sheet4!$D$2:$D$8408,Sheet3!CS$3,Sheet4!$E$2:$E$8408,Sheet3!CS$4,Sheet4!$A$2:$A$8408,Sheet3!$B$1,Sheet4!$B$2:$B$8408,Sheet3!$A$3)","v":0},{"$f":"+SUMIFS(Sheet4!$DM$2:$DM$8408,Sheet4!$C$2:$C$8408,Sheet3!$B20,Sheet4!$D$2:$D$8408,Sheet3!CT$3,Sheet4!$E$2:$E$8408,Sheet3!CT$4,Sheet4!$A$2:$A$8408,Sheet3!$B$1,Sheet4!$B$2:$B$8408,Sheet3!$A$3)","v":0},{"$f":"+IF(SUMIFS(Sheet4!$DN$2:$DN$8408,Sheet4!$C$2:$C$8408,Sheet3!$B20,Sheet4!$D$2:$D$8408,Sheet3!CU$3,Sheet4!$A$2:$A$8408,Sheet3!$B$1,Sheet4!$B$2:$B$8408,Sheet3!$A$3)<3,0,SUMIFS(Sheet4!$DN$2:$DN$8408,Sheet4!$C$2:$C$8408,Sheet3!$B20,Sheet4!$D$2:$D$8408,Sheet3!CU$3,Sheet4!$A$2:$A$8408,Sheet3!$B$1,Sheet4!$B$2:$B$8408,Sheet3!$A$3))","v":12},{"$f":"+IF(SUMIFS(Sheet4!$DN$2:$DN$8408,Sheet4!$C$2:$C$8408,Sheet3!$B20,Sheet4!$D$2:$D$8408,Sheet3!CV$3,Sheet4!$A$2:$A$8408,Sheet3!$B$1,Sheet4!$B$2:$B$8408,Sheet3!$A$3)<3,0,SUMIFS(Sheet4!$DN$2:$DN$8408,Sheet4!$C$2:$C$8408,Sheet3!$B20,Sheet4!$D$2:$D$8408,Sheet3!CV$3,Sheet4!$A$2:$A$8408,Sheet3!$B$1,Sheet4!$B$2:$B$8408,Sheet3!$A$3))","v":240},{"$f":"+IF(SUMIFS(Sheet4!$DN$2:$DN$8408,Sheet4!$C$2:$C$8408,Sheet3!$B20,Sheet4!$D$2:$D$8408,Sheet3!CW$3,Sheet4!$A$2:$A$8408,Sheet3!$B$1,Sheet4!$B$2:$B$8408,Sheet3!$A$3)<3,0,SUMIFS(Sheet4!$DN$2:$DN$8408,Sheet4!$C$2:$C$8408,Sheet3!$B20,Sheet4!$D$2:$D$8408,Sheet3!CW$3,Sheet4!$A$2:$A$8408,Sheet3!$B$1,Sheet4!$B$2:$B$8408,Sheet3!$A$3))","v":255},{"$f":"+IF(SUMIFS(Sheet4!$DN$2:$DN$8408,Sheet4!$C$2:$C$8408,Sheet3!$B20,Sheet4!$D$2:$D$8408,Sheet3!CX$3,Sheet4!$A$2:$A$8408,Sheet3!$B$1,Sheet4!$B$2:$B$8408,Sheet3!$A$3)<3,0,SUMIFS(Sheet4!$DN$2:$DN$8408,Sheet4!$C$2:$C$8408,Sheet3!$B20,Sheet4!$D$2:$D$8408,Sheet3!CX$3,Sheet4!$A$2:$A$8408,Sheet3!$B$1,Sheet4!$B$2:$B$8408,Sheet3!$A$3))","v":0},{"$f":"+IF(SUMIFS(Sheet4!$DN$2:$DN$8408,Sheet4!$C$2:$C$8408,Sheet3!$B20,Sheet4!$D$2:$D$8408,Sheet3!CY$3,Sheet4!$A$2:$A$8408,Sheet3!$B$1,Sheet4!$B$2:$B$8408,Sheet3!$A$3)<3,0,SUMIFS(Sheet4!$DN$2:$DN$8408,Sheet4!$C$2:$C$8408,Sheet3!$B20,Sheet4!$D$2:$D$8408,Sheet3!CY$3,Sheet4!$A$2:$A$8408,Sheet3!$B$1,Sheet4!$B$2:$B$8408,Sheet3!$A$3))","v":0},{"$f":"+IF(SUMIFS(Sheet4!$DN$2:$DN$8408,Sheet4!$C$2:$C$8408,Sheet3!$B20,Sheet4!$D$2:$D$8408,Sheet3!CZ$3,Sheet4!$A$2:$A$8408,Sheet3!$B$1,Sheet4!$B$2:$B$8408,Sheet3!$A$3)<3,0,SUMIFS(Sheet4!$DN$2:$DN$8408,Sheet4!$C$2:$C$8408,Sheet3!$B20,Sheet4!$D$2:$D$8408,Sheet3!CZ$3,Sheet4!$A$2:$A$8408,Sheet3!$B$1,Sheet4!$B$2:$B$8408,Sheet3!$A$3))","v":1011},{"$f":"+IF(SUMIFS(Sheet4!$DN$2:$DN$8408,Sheet4!$C$2:$C$8408,Sheet3!$B20,Sheet4!$D$2:$D$8408,Sheet3!DA$3,Sheet4!$A$2:$A$8408,Sheet3!$B$1,Sheet4!$B$2:$B$8408,Sheet3!$A$3)<3,0,SUMIFS(Sheet4!$DN$2:$DN$8408,Sheet4!$C$2:$C$8408,Sheet3!$B20,Sheet4!$D$2:$D$8408,Sheet3!DA$3,Sheet4!$A$2:$A$8408,Sheet3!$B$1,Sheet4!$B$2:$B$8408,Sheet3!$A$3))","v":411},{"$f":"+IF(SUMIFS(Sheet4!$DN$2:$DN$8408,Sheet4!$C$2:$C$8408,Sheet3!$B20,Sheet4!$D$2:$D$8408,Sheet3!DB$3,Sheet4!$A$2:$A$8408,Sheet3!$B$1,Sheet4!$B$2:$B$8408,Sheet3!$A$3)<3,0,SUMIFS(Sheet4!$DN$2:$DN$8408,Sheet4!$C$2:$C$8408,Sheet3!$B20,Sheet4!$D$2:$D$8408,Sheet3!DB$3,Sheet4!$A$2:$A$8408,Sheet3!$B$1,Sheet4!$B$2:$B$8408,Sheet3!$A$3))","v":546},{"$f":"+IF(SUMIFS(Sheet4!$DN$2:$DN$8408,Sheet4!$C$2:$C$8408,Sheet3!$B20,Sheet4!$D$2:$D$8408,Sheet3!DC$3,Sheet4!$A$2:$A$8408,Sheet3!$B$1,Sheet4!$B$2:$B$8408,Sheet3!$A$3)<3,0,SUMIFS(Sheet4!$DN$2:$DN$8408,Sheet4!$C$2:$C$8408,Sheet3!$B20,Sheet4!$D$2:$D$8408,Sheet3!DC$3,Sheet4!$A$2:$A$8408,Sheet3!$B$1,Sheet4!$B$2:$B$8408,Sheet3!$A$3))","v":70},{"$f":"+IF(SUMIFS(Sheet4!$DN$2:$DN$8408,Sheet4!$C$2:$C$8408,Sheet3!$B20,Sheet4!$D$2:$D$8408,Sheet3!DD$3,Sheet4!$A$2:$A$8408,Sheet3!$B$1,Sheet4!$B$2:$B$8408,Sheet3!$A$3)<3,0,SUMIFS(Sheet4!$DN$2:$DN$8408,Sheet4!$C$2:$C$8408,Sheet3!$B20,Sheet4!$D$2:$D$8408,Sheet3!DD$3,Sheet4!$A$2:$A$8408,Sheet3!$B$1,Sheet4!$B$2:$B$8408,Sheet3!$A$3))","v":3004},{"$f":"+IF(SUMIFS(Sheet4!$DN$2:$DN$8408,Sheet4!$C$2:$C$8408,Sheet3!$B20,Sheet4!$D$2:$D$8408,Sheet3!DE$3,Sheet4!$A$2:$A$8408,Sheet3!$B$1,Sheet4!$B$2:$B$8408,Sheet3!$A$3)<3,0,SUMIFS(Sheet4!$DN$2:$DN$8408,Sheet4!$C$2:$C$8408,Sheet3!$B20,Sheet4!$D$2:$D$8408,Sheet3!DE$3,Sheet4!$A$2:$A$8408,Sheet3!$B$1,Sheet4!$B$2:$B$8408,Sheet3!$A$3))","v":45},{"$f":"+IF(SUMIFS(Sheet4!$DN$2:$DN$8408,Sheet4!$C$2:$C$8408,Sheet3!$B20,Sheet4!$D$2:$D$8408,Sheet3!DF$3,Sheet4!$A$2:$A$8408,Sheet3!$B$1,Sheet4!$B$2:$B$8408,Sheet3!$A$3)<3,0,SUMIFS(Sheet4!$DN$2:$DN$8408,Sheet4!$C$2:$C$8408,Sheet3!$B20,Sheet4!$D$2:$D$8408,Sheet3!DF$3,Sheet4!$A$2:$A$8408,Sheet3!$B$1,Sheet4!$B$2:$B$8408,Sheet3!$A$3))","v":78},{"$f":"+IF(SUMIFS(Sheet4!$DN$2:$DN$8408,Sheet4!$C$2:$C$8408,Sheet3!$B20,Sheet4!$D$2:$D$8408,Sheet3!DG$3,Sheet4!$A$2:$A$8408,Sheet3!$B$1,Sheet4!$B$2:$B$8408,Sheet3!$A$3)<3,0,SUMIFS(Sheet4!$DN$2:$DN$8408,Sheet4!$C$2:$C$8408,Sheet3!$B20,Sheet4!$D$2:$D$8408,Sheet3!DG$3,Sheet4!$A$2:$A$8408,Sheet3!$B$1,Sheet4!$B$2:$B$8408,Sheet3!$A$3))","v":101},{"$f":"+IF(SUMIFS(Sheet4!$DN$2:$DN$8408,Sheet4!$C$2:$C$8408,Sheet3!$B20,Sheet4!$D$2:$D$8408,Sheet3!DH$3,Sheet4!$A$2:$A$8408,Sheet3!$B$1,Sheet4!$B$2:$B$8408,Sheet3!$A$3)<3,0,SUMIFS(Sheet4!$DN$2:$DN$8408,Sheet4!$C$2:$C$8408,Sheet3!$B20,Sheet4!$D$2:$D$8408,Sheet3!DH$3,Sheet4!$A$2:$A$8408,Sheet3!$B$1,Sheet4!$B$2:$B$8408,Sheet3!$A$3))","v":132},{"$f":"+IF(SUMIFS(Sheet4!$DN$2:$DN$8408,Sheet4!$C$2:$C$8408,Sheet3!$B20,Sheet4!$D$2:$D$8408,Sheet3!DI$3,Sheet4!$A$2:$A$8408,Sheet3!$B$1,Sheet4!$B$2:$B$8408,Sheet3!$A$3)<3,0,SUMIFS(Sheet4!$DN$2:$DN$8408,Sheet4!$C$2:$C$8408,Sheet3!$B20,Sheet4!$D$2:$D$8408,Sheet3!DI$3,Sheet4!$A$2:$A$8408,Sheet3!$B$1,Sheet4!$B$2:$B$8408,Sheet3!$A$3))","v":957},{"$f":"+IF(SUMIFS(Sheet4!$DN$2:$DN$8408,Sheet4!$C$2:$C$8408,Sheet3!$B20,Sheet4!$D$2:$D$8408,Sheet3!DJ$3,Sheet4!$A$2:$A$8408,Sheet3!$B$1,Sheet4!$B$2:$B$8408,Sheet3!$A$3)<3,0,SUMIFS(Sheet4!$DN$2:$DN$8408,Sheet4!$C$2:$C$8408,Sheet3!$B20,Sheet4!$D$2:$D$8408,Sheet3!DJ$3,Sheet4!$A$2:$A$8408,Sheet3!$B$1,Sheet4!$B$2:$B$8408,Sheet3!$A$3))","v":1079},{"$f":"+IF(SUMIFS(Sheet4!$DN$2:$DN$8408,Sheet4!$C$2:$C$8408,Sheet3!$B20,Sheet4!$D$2:$D$8408,Sheet3!DK$3,Sheet4!$A$2:$A$8408,Sheet3!$B$1,Sheet4!$B$2:$B$8408,Sheet3!$A$3)<3,0,SUMIFS(Sheet4!$DN$2:$DN$8408,Sheet4!$C$2:$C$8408,Sheet3!$B20,Sheet4!$D$2:$D$8408,Sheet3!DK$3,Sheet4!$A$2:$A$8408,Sheet3!$B$1,Sheet4!$B$2:$B$8408,Sheet3!$A$3))","v":153},{"$f":"+IF(SUMIFS(Sheet4!$DN$2:$DN$8408,Sheet4!$C$2:$C$8408,Sheet3!$B20,Sheet4!$D$2:$D$8408,Sheet3!DL$3,Sheet4!$A$2:$A$8408,Sheet3!$B$1,Sheet4!$B$2:$B$8408,Sheet3!$A$3)<3,0,SUMIFS(Sheet4!$DN$2:$DN$8408,Sheet4!$C$2:$C$8408,Sheet3!$B20,Sheet4!$D$2:$D$8408,Sheet3!DL$3,Sheet4!$A$2:$A$8408,Sheet3!$B$1,Sheet4!$B$2:$B$8408,Sheet3!$A$3))","v":0},{"$f":"+IF(SUMIFS(Sheet4!$DN$2:$DN$8408,Sheet4!$C$2:$C$8408,Sheet3!$B20,Sheet4!$D$2:$D$8408,Sheet3!DM$3,Sheet4!$A$2:$A$8408,Sheet3!$B$1,Sheet4!$B$2:$B$8408,Sheet3!$A$3)<3,0,SUMIFS(Sheet4!$DN$2:$DN$8408,Sheet4!$C$2:$C$8408,Sheet3!$B20,Sheet4!$D$2:$D$8408,Sheet3!DM$3,Sheet4!$A$2:$A$8408,Sheet3!$B$1,Sheet4!$B$2:$B$8408,Sheet3!$A$3))","v":13},{"$f":"+IF(SUMIFS(Sheet4!$DN$2:$DN$8408,Sheet4!$C$2:$C$8408,Sheet3!$B20,Sheet4!$E$2:$E$8408,Sheet3!DN$4,Sheet4!$A$2:$A$8408,Sheet3!$B$1,Sheet4!$B$2:$B$8408,Sheet3!$A$3)<3,0,SUMIFS(Sheet4!$DN$2:$DN$8408,Sheet4!$C$2:$C$8408,Sheet3!$B20,Sheet4!$E$2:$E$8408,Sheet3!DN$4,Sheet4!$A$2:$A$8408,Sheet3!$B$1,Sheet4!$B$2:$B$8408,Sheet3!$A$3))","v":4539},{"$f":"+IF(SUMIFS(Sheet4!$DN$2:$DN$8408,Sheet4!$C$2:$C$8408,Sheet3!$B20,Sheet4!$E$2:$E$8408,Sheet3!DO$4,Sheet4!$A$2:$A$8408,Sheet3!$B$1,Sheet4!$B$2:$B$8408,Sheet3!$A$3)<3,0,SUMIFS(Sheet4!$DN$2:$DN$8408,Sheet4!$C$2:$C$8408,Sheet3!$B20,Sheet4!$E$2:$E$8408,Sheet3!DO$4,Sheet4!$A$2:$A$8408,Sheet3!$B$1,Sheet4!$B$2:$B$8408,Sheet3!$A$3))","v":3072},{"$f":"+IF(SUMIFS(Sheet4!$DN$2:$DN$8408,Sheet4!$C$2:$C$8408,Sheet3!$B20,Sheet4!$E$2:$E$8408,Sheet3!DP$4,Sheet4!$A$2:$A$8408,Sheet3!$B$1,Sheet4!$B$2:$B$8408,Sheet3!$A$3)<3,0,SUMIFS(Sheet4!$DN$2:$DN$8408,Sheet4!$C$2:$C$8408,Sheet3!$B20,Sheet4!$E$2:$E$8408,Sheet3!DP$4,Sheet4!$A$2:$A$8408,Sheet3!$B$1,Sheet4!$B$2:$B$8408,Sheet3!$A$3))","v":440},{"$f":"+IF(SUMIFS(Sheet4!$DN$2:$DN$8408,Sheet4!$C$2:$C$8408,Sheet3!$B20,Sheet4!$E$2:$E$8408,Sheet3!DQ$4,Sheet4!$A$2:$A$8408,Sheet3!$B$1,Sheet4!$B$2:$B$8408,Sheet3!$A$3)<3,0,SUMIFS(Sheet4!$DN$2:$DN$8408,Sheet4!$C$2:$C$8408,Sheet3!$B20,Sheet4!$E$2:$E$8408,Sheet3!DQ$4,Sheet4!$A$2:$A$8408,Sheet3!$B$1,Sheet4!$B$2:$B$8408,Sheet3!$A$3))","v":53},{"$f":"+IF(SUMIFS(Sheet4!$DN$2:$DN$8408,Sheet4!$C$2:$C$8408,Sheet3!$B20,Sheet4!$E$2:$E$8408,Sheet3!DR$4,Sheet4!$A$2:$A$8408,Sheet3!$B$1,Sheet4!$B$2:$B$8408,Sheet3!$A$3)<3,0,SUMIFS(Sheet4!$DN$2:$DN$8408,Sheet4!$C$2:$C$8408,Sheet3!$B20,Sheet4!$E$2:$E$8408,Sheet3!DR$4,Sheet4!$A$2:$A$8408,Sheet3!$B$1,Sheet4!$B$2:$B$8408,Sheet3!$A$3))","v":4}]
[4,"16H","Beira Baixa",{"$f":"+SUMIFS(Sheet4!$DM$2:$DM$8408,Sheet4!$C$2:$C$8408,Sheet3!$B21,Sheet4!$D$2:$D$8408,Sheet3!D$3,Sheet4!$E$2:$E$8408,Sheet3!D$4,Sheet4!$A$2:$A$8408,Sheet3!$B$1,Sheet4!$B$2:$B$8408,Sheet3!$A$3)","v":0},{"$f":"+SUMIFS(Sheet4!$DM$2:$DM$8408,Sheet4!$C$2:$C$8408,Sheet3!$B21,Sheet4!$D$2:$D$8408,Sheet3!E$3,Sheet4!$E$2:$E$8408,Sheet3!E$4,Sheet4!$A$2:$A$8408,Sheet3!$B$1,Sheet4!$B$2:$B$8408,Sheet3!$A$3)","v":0},{"$f":"+SUMIFS(Sheet4!$DM$2:$DM$8408,Sheet4!$C$2:$C$8408,Sheet3!$B21,Sheet4!$D$2:$D$8408,Sheet3!F$3,Sheet4!$E$2:$E$8408,Sheet3!F$4,Sheet4!$A$2:$A$8408,Sheet3!$B$1,Sheet4!$B$2:$B$8408,Sheet3!$A$3)","v":0},{"$f":"+SUMIFS(Sheet4!$DM$2:$DM$8408,Sheet4!$C$2:$C$8408,Sheet3!$B21,Sheet4!$D$2:$D$8408,Sheet3!G$3,Sheet4!$E$2:$E$8408,Sheet3!G$4,Sheet4!$A$2:$A$8408,Sheet3!$B$1,Sheet4!$B$2:$B$8408,Sheet3!$A$3)","v":0},{"$f":"+SUMIFS(Sheet4!$DM$2:$DM$8408,Sheet4!$C$2:$C$8408,Sheet3!$B21,Sheet4!$D$2:$D$8408,Sheet3!H$3,Sheet4!$E$2:$E$8408,Sheet3!H$4,Sheet4!$A$2:$A$8408,Sheet3!$B$1,Sheet4!$B$2:$B$8408,Sheet3!$A$3)","v":0},{"$f":"+SUMIFS(Sheet4!$DM$2:$DM$8408,Sheet4!$C$2:$C$8408,Sheet3!$B21,Sheet4!$D$2:$D$8408,Sheet3!I$3,Sheet4!$E$2:$E$8408,Sheet3!I$4,Sheet4!$A$2:$A$8408,Sheet3!$B$1,Sheet4!$B$2:$B$8408,Sheet3!$A$3)","v":0},{"$f":"+SUMIFS(Sheet4!$DM$2:$DM$8408,Sheet4!$C$2:$C$8408,Sheet3!$B21,Sheet4!$D$2:$D$8408,Sheet3!J$3,Sheet4!$E$2:$E$8408,Sheet3!J$4,Sheet4!$A$2:$A$8408,Sheet3!$B$1,Sheet4!$B$2:$B$8408,Sheet3!$A$3)","v":6},{"$f":"+SUMIFS(Sheet4!$DM$2:$DM$8408,Sheet4!$C$2:$C$8408,Sheet3!$B21,Sheet4!$D$2:$D$8408,Sheet3!K$3,Sheet4!$E$2:$E$8408,Sheet3!K$4,Sheet4!$A$2:$A$8408,Sheet3!$B$1,Sheet4!$B$2:$B$8408,Sheet3!$A$3)","v":0},{"$f":"+SUMIFS(Sheet4!$DM$2:$DM$8408,Sheet4!$C$2:$C$8408,Sheet3!$B21,Sheet4!$D$2:$D$8408,Sheet3!L$3,Sheet4!$E$2:$E$8408,Sheet3!L$4,Sheet4!$A$2:$A$8408,Sheet3!$B$1,Sheet4!$B$2:$B$8408,Sheet3!$A$3)","v":6},{"$f":"+SUMIFS(Sheet4!$DM$2:$DM$8408,Sheet4!$C$2:$C$8408,Sheet3!$B21,Sheet4!$D$2:$D$8408,Sheet3!M$3,Sheet4!$E$2:$E$8408,Sheet3!M$4,Sheet4!$A$2:$A$8408,Sheet3!$B$1,Sheet4!$B$2:$B$8408,Sheet3!$A$3)","v":0},{"$f":"+SUMIFS(Sheet4!$DM$2:$DM$8408,Sheet4!$C$2:$C$8408,Sheet3!$B21,Sheet4!$D$2:$D$8408,Sheet3!N$3,Sheet4!$E$2:$E$8408,Sheet3!N$4,Sheet4!$A$2:$A$8408,Sheet3!$B$1,Sheet4!$B$2:$B$8408,Sheet3!$A$3)","v":110},{"$f":"+SUMIFS(Sheet4!$DM$2:$DM$8408,Sheet4!$C$2:$C$8408,Sheet3!$B21,Sheet4!$D$2:$D$8408,Sheet3!O$3,Sheet4!$E$2:$E$8408,Sheet3!O$4,Sheet4!$A$2:$A$8408,Sheet3!$B$1,Sheet4!$B$2:$B$8408,Sheet3!$A$3)","v":20},{"$f":"+SUMIFS(Sheet4!$DM$2:$DM$8408,Sheet4!$C$2:$C$8408,Sheet3!$B21,Sheet4!$D$2:$D$8408,Sheet3!P$3,Sheet4!$E$2:$E$8408,Sheet3!P$4,Sheet4!$A$2:$A$8408,Sheet3!$B$1,Sheet4!$B$2:$B$8408,Sheet3!$A$3)","v":3},{"$f":"+SUMIFS(Sheet4!$DM$2:$DM$8408,Sheet4!$C$2:$C$8408,Sheet3!$B21,Sheet4!$D$2:$D$8408,Sheet3!Q$3,Sheet4!$E$2:$E$8408,Sheet3!Q$4,Sheet4!$A$2:$A$8408,Sheet3!$B$1,Sheet4!$B$2:$B$8408,Sheet3!$A$3)","v":5},{"$f":"+SUMIFS(Sheet4!$DM$2:$DM$8408,Sheet4!$C$2:$C$8408,Sheet3!$B21,Sheet4!$D$2:$D$8408,Sheet3!R$3,Sheet4!$E$2:$E$8408,Sheet3!R$4,Sheet4!$A$2:$A$8408,Sheet3!$B$1,Sheet4!$B$2:$B$8408,Sheet3!$A$3)","v":0},{"$f":"+SUMIFS(Sheet4!$DM$2:$DM$8408,Sheet4!$C$2:$C$8408,Sheet3!$B21,Sheet4!$D$2:$D$8408,Sheet3!S$3,Sheet4!$E$2:$E$8408,Sheet3!S$4,Sheet4!$A$2:$A$8408,Sheet3!$B$1,Sheet4!$B$2:$B$8408,Sheet3!$A$3)","v":0},{"$f":"+SUMIFS(Sheet4!$DM$2:$DM$8408,Sheet4!$C$2:$C$8408,Sheet3!$B21,Sheet4!$D$2:$D$8408,Sheet3!T$3,Sheet4!$E$2:$E$8408,Sheet3!T$4,Sheet4!$A$2:$A$8408,Sheet3!$B$1,Sheet4!$B$2:$B$8408,Sheet3!$A$3)","v":0},{"$f":"+SUMIFS(Sheet4!$DM$2:$DM$8408,Sheet4!$C$2:$C$8408,Sheet3!$B21,Sheet4!$D$2:$D$8408,Sheet3!U$3,Sheet4!$E$2:$E$8408,Sheet3!U$4,Sheet4!$A$2:$A$8408,Sheet3!$B$1,Sheet4!$B$2:$B$8408,Sheet3!$A$3)","v":0},{"$f":"+SUMIFS(Sheet4!$DM$2:$DM$8408,Sheet4!$C$2:$C$8408,Sheet3!$B21,Sheet4!$D$2:$D$8408,Sheet3!V$3,Sheet4!$E$2:$E$8408,Sheet3!V$4,Sheet4!$A$2:$A$8408,Sheet3!$B$1,Sheet4!$B$2:$B$8408,Sheet3!$A$3)","v":0},{"$f":"+SUMIFS(Sheet4!$DM$2:$DM$8408,Sheet4!$C$2:$C$8408,Sheet3!$B21,Sheet4!$D$2:$D$8408,Sheet3!W$3,Sheet4!$E$2:$E$8408,Sheet3!W$4,Sheet4!$A$2:$A$8408,Sheet3!$B$1,Sheet4!$B$2:$B$8408,Sheet3!$A$3)","v":0},{"$f":"+SUMIFS(Sheet4!$DM$2:$DM$8408,Sheet4!$C$2:$C$8408,Sheet3!$B21,Sheet4!$D$2:$D$8408,Sheet3!X$3,Sheet4!$E$2:$E$8408,Sheet3!X$4,Sheet4!$A$2:$A$8408,Sheet3!$B$1,Sheet4!$B$2:$B$8408,Sheet3!$A$3)","v":0},{"$f":"+SUMIFS(Sheet4!$DM$2:$DM$8408,Sheet4!$C$2:$C$8408,Sheet3!$B21,Sheet4!$D$2:$D$8408,Sheet3!Y$3,Sheet4!$E$2:$E$8408,Sheet3!Y$4,Sheet4!$A$2:$A$8408,Sheet3!$B$1,Sheet4!$B$2:$B$8408,Sheet3!$A$3)","v":0},{"$f":"+SUMIFS(Sheet4!$DM$2:$DM$8408,Sheet4!$C$2:$C$8408,Sheet3!$B21,Sheet4!$D$2:$D$8408,Sheet3!Z$3,Sheet4!$E$2:$E$8408,Sheet3!Z$4,Sheet4!$A$2:$A$8408,Sheet3!$B$1,Sheet4!$B$2:$B$8408,Sheet3!$A$3)","v":0},{"$f":"+SUMIFS(Sheet4!$DM$2:$DM$8408,Sheet4!$C$2:$C$8408,Sheet3!$B21,Sheet4!$D$2:$D$8408,Sheet3!AA$3,Sheet4!$E$2:$E$8408,Sheet3!AA$4,Sheet4!$A$2:$A$8408,Sheet3!$B$1,Sheet4!$B$2:$B$8408,Sheet3!$A$3)","v":0},{"$f":"+SUMIFS(Sheet4!$DM$2:$DM$8408,Sheet4!$C$2:$C$8408,Sheet3!$B21,Sheet4!$D$2:$D$8408,Sheet3!AB$3,Sheet4!$E$2:$E$8408,Sheet3!AB$4,Sheet4!$A$2:$A$8408,Sheet3!$B$1,Sheet4!$B$2:$B$8408,Sheet3!$A$3)","v":0},{"$f":"+SUMIFS(Sheet4!$DM$2:$DM$8408,Sheet4!$C$2:$C$8408,Sheet3!$B21,Sheet4!$D$2:$D$8408,Sheet3!AC$3,Sheet4!$E$2:$E$8408,Sheet3!AC$4,Sheet4!$A$2:$A$8408,Sheet3!$B$1,Sheet4!$B$2:$B$8408,Sheet3!$A$3)","v":223},{"$f":"+SUMIFS(Sheet4!$DM$2:$DM$8408,Sheet4!$C$2:$C$8408,Sheet3!$B21,Sheet4!$D$2:$D$8408,Sheet3!AD$3,Sheet4!$E$2:$E$8408,Sheet3!AD$4,Sheet4!$A$2:$A$8408,Sheet3!$B$1,Sheet4!$B$2:$B$8408,Sheet3!$A$3)","v":76},{"$f":"+SUMIFS(Sheet4!$DM$2:$DM$8408,Sheet4!$C$2:$C$8408,Sheet3!$B21,Sheet4!$D$2:$D$8408,Sheet3!AE$3,Sheet4!$E$2:$E$8408,Sheet3!AE$4,Sheet4!$A$2:$A$8408,Sheet3!$B$1,Sheet4!$B$2:$B$8408,Sheet3!$A$3)","v":5},{"$f":"+SUMIFS(Sheet4!$DM$2:$DM$8408,Sheet4!$C$2:$C$8408,Sheet3!$B21,Sheet4!$D$2:$D$8408,Sheet3!AF$3,Sheet4!$E$2:$E$8408,Sheet3!AF$4,Sheet4!$A$2:$A$8408,Sheet3!$B$1,Sheet4!$B$2:$B$8408,Sheet3!$A$3)","v":9},{"$f":"+SUMIFS(Sheet4!$DM$2:$DM$8408,Sheet4!$C$2:$C$8408,Sheet3!$B21,Sheet4!$D$2:$D$8408,Sheet3!AG$3,Sheet4!$E$2:$E$8408,Sheet3!AG$4,Sheet4!$A$2:$A$8408,Sheet3!$B$1,Sheet4!$B$2:$B$8408,Sheet3!$A$3)","v":3},{"$f":"+SUMIFS(Sheet4!$DM$2:$DM$8408,Sheet4!$C$2:$C$8408,Sheet3!$B21,Sheet4!$D$2:$D$8408,Sheet3!AH$3,Sheet4!$E$2:$E$8408,Sheet3!AH$4,Sheet4!$A$2:$A$8408,Sheet3!$B$1,Sheet4!$B$2:$B$8408,Sheet3!$A$3)","v":3},{"$f":"+SUMIFS(Sheet4!$DM$2:$DM$8408,Sheet4!$C$2:$C$8408,Sheet3!$B21,Sheet4!$D$2:$D$8408,Sheet3!AI$3,Sheet4!$E$2:$E$8408,Sheet3!AI$4,Sheet4!$A$2:$A$8408,Sheet3!$B$1,Sheet4!$B$2:$B$8408,Sheet3!$A$3)","v":4},{"$f":"+SUMIFS(Sheet4!$DM$2:$DM$8408,Sheet4!$C$2:$C$8408,Sheet3!$B21,Sheet4!$D$2:$D$8408,Sheet3!AJ$3,Sheet4!$E$2:$E$8408,Sheet3!AJ$4,Sheet4!$A$2:$A$8408,Sheet3!$B$1,Sheet4!$B$2:$B$8408,Sheet3!$A$3)","v":0},{"$f":"+SUMIFS(Sheet4!$DM$2:$DM$8408,Sheet4!$C$2:$C$8408,Sheet3!$B21,Sheet4!$D$2:$D$8408,Sheet3!AK$3,Sheet4!$E$2:$E$8408,Sheet3!AK$4,Sheet4!$A$2:$A$8408,Sheet3!$B$1,Sheet4!$B$2:$B$8408,Sheet3!$A$3)","v":0},{"$f":"+SUMIFS(Sheet4!$DM$2:$DM$8408,Sheet4!$C$2:$C$8408,Sheet3!$B21,Sheet4!$D$2:$D$8408,Sheet3!AL$3,Sheet4!$E$2:$E$8408,Sheet3!AL$4,Sheet4!$A$2:$A$8408,Sheet3!$B$1,Sheet4!$B$2:$B$8408,Sheet3!$A$3)","v":0},{"$f":"+SUMIFS(Sheet4!$DM$2:$DM$8408,Sheet4!$C$2:$C$8408,Sheet3!$B21,Sheet4!$D$2:$D$8408,Sheet3!AM$3,Sheet4!$E$2:$E$8408,Sheet3!AM$4,Sheet4!$A$2:$A$8408,Sheet3!$B$1,Sheet4!$B$2:$B$8408,Sheet3!$A$3)","v":100},{"$f":"+SUMIFS(Sheet4!$DM$2:$DM$8408,Sheet4!$C$2:$C$8408,Sheet3!$B21,Sheet4!$D$2:$D$8408,Sheet3!AN$3,Sheet4!$E$2:$E$8408,Sheet3!AN$4,Sheet4!$A$2:$A$8408,Sheet3!$B$1,Sheet4!$B$2:$B$8408,Sheet3!$A$3)","v":122},{"$f":"+SUMIFS(Sheet4!$DM$2:$DM$8408,Sheet4!$C$2:$C$8408,Sheet3!$B21,Sheet4!$D$2:$D$8408,Sheet3!AO$3,Sheet4!$E$2:$E$8408,Sheet3!AO$4,Sheet4!$A$2:$A$8408,Sheet3!$B$1,Sheet4!$B$2:$B$8408,Sheet3!$A$3)","v":77},{"$f":"+SUMIFS(Sheet4!$DM$2:$DM$8408,Sheet4!$C$2:$C$8408,Sheet3!$B21,Sheet4!$D$2:$D$8408,Sheet3!AP$3,Sheet4!$E$2:$E$8408,Sheet3!AP$4,Sheet4!$A$2:$A$8408,Sheet3!$B$1,Sheet4!$B$2:$B$8408,Sheet3!$A$3)","v":48},{"$f":"+SUMIFS(Sheet4!$DM$2:$DM$8408,Sheet4!$C$2:$C$8408,Sheet3!$B21,Sheet4!$D$2:$D$8408,Sheet3!AQ$3,Sheet4!$E$2:$E$8408,Sheet3!AQ$4,Sheet4!$A$2:$A$8408,Sheet3!$B$1,Sheet4!$B$2:$B$8408,Sheet3!$A$3)","v":8},{"$f":"+SUMIFS(Sheet4!$DM$2:$DM$8408,Sheet4!$C$2:$C$8408,Sheet3!$B21,Sheet4!$D$2:$D$8408,Sheet3!AR$3,Sheet4!$E$2:$E$8408,Sheet3!AR$4,Sheet4!$A$2:$A$8408,Sheet3!$B$1,Sheet4!$B$2:$B$8408,Sheet3!$A$3)","v":662},{"$f":"+SUMIFS(Sheet4!$DM$2:$DM$8408,Sheet4!$C$2:$C$8408,Sheet3!$B21,Sheet4!$D$2:$D$8408,Sheet3!AS$3,Sheet4!$E$2:$E$8408,Sheet3!AS$4,Sheet4!$A$2:$A$8408,Sheet3!$B$1,Sheet4!$B$2:$B$8408,Sheet3!$A$3)","v":13},{"$f":"+SUMIFS(Sheet4!$DM$2:$DM$8408,Sheet4!$C$2:$C$8408,Sheet3!$B21,Sheet4!$D$2:$D$8408,Sheet3!AT$3,Sheet4!$E$2:$E$8408,Sheet3!AT$4,Sheet4!$A$2:$A$8408,Sheet3!$B$1,Sheet4!$B$2:$B$8408,Sheet3!$A$3)","v":8},{"$f":"+SUMIFS(Sheet4!$DM$2:$DM$8408,Sheet4!$C$2:$C$8408,Sheet3!$B21,Sheet4!$D$2:$D$8408,Sheet3!AU$3,Sheet4!$E$2:$E$8408,Sheet3!AU$4,Sheet4!$A$2:$A$8408,Sheet3!$B$1,Sheet4!$B$2:$B$8408,Sheet3!$A$3)","v":0},{"$f":"+SUMIFS(Sheet4!$DM$2:$DM$8408,Sheet4!$C$2:$C$8408,Sheet3!$B21,Sheet4!$D$2:$D$8408,Sheet3!AV$3,Sheet4!$E$2:$E$8408,Sheet3!AV$4,Sheet4!$A$2:$A$8408,Sheet3!$B$1,Sheet4!$B$2:$B$8408,Sheet3!$A$3)","v":0},{"$f":"+SUMIFS(Sheet4!$DM$2:$DM$8408,Sheet4!$C$2:$C$8408,Sheet3!$B21,Sheet4!$D$2:$D$8408,Sheet3!AW$3,Sheet4!$E$2:$E$8408,Sheet3!AW$4,Sheet4!$A$2:$A$8408,Sheet3!$B$1,Sheet4!$B$2:$B$8408,Sheet3!$A$3)","v":1164},{"$f":"+SUMIFS(Sheet4!$DM$2:$DM$8408,Sheet4!$C$2:$C$8408,Sheet3!$B21,Sheet4!$D$2:$D$8408,Sheet3!AX$3,Sheet4!$E$2:$E$8408,Sheet3!AX$4,Sheet4!$A$2:$A$8408,Sheet3!$B$1,Sheet4!$B$2:$B$8408,Sheet3!$A$3)","v":149},{"$f":"+SUMIFS(Sheet4!$DM$2:$DM$8408,Sheet4!$C$2:$C$8408,Sheet3!$B21,Sheet4!$D$2:$D$8408,Sheet3!AY$3,Sheet4!$E$2:$E$8408,Sheet3!AY$4,Sheet4!$A$2:$A$8408,Sheet3!$B$1,Sheet4!$B$2:$B$8408,Sheet3!$A$3)","v":18},{"$f":"+SUMIFS(Sheet4!$DM$2:$DM$8408,Sheet4!$C$2:$C$8408,Sheet3!$B21,Sheet4!$D$2:$D$8408,Sheet3!AZ$3,Sheet4!$E$2:$E$8408,Sheet3!AZ$4,Sheet4!$A$2:$A$8408,Sheet3!$B$1,Sheet4!$B$2:$B$8408,Sheet3!$A$3)","v":4},{"$f":"+SUMIFS(Sheet4!$DM$2:$DM$8408,Sheet4!$C$2:$C$8408,Sheet3!$B21,Sheet4!$D$2:$D$8408,Sheet3!BA$3,Sheet4!$E$2:$E$8408,Sheet3!BA$4,Sheet4!$A$2:$A$8408,Sheet3!$B$1,Sheet4!$B$2:$B$8408,Sheet3!$A$3)","v":0},{"$f":"+SUMIFS(Sheet4!$DM$2:$DM$8408,Sheet4!$C$2:$C$8408,Sheet3!$B21,Sheet4!$D$2:$D$8408,Sheet3!BB$3,Sheet4!$E$2:$E$8408,Sheet3!BB$4,Sheet4!$A$2:$A$8408,Sheet3!$B$1,Sheet4!$B$2:$B$8408,Sheet3!$A$3)","v":0},{"$f":"+SUMIFS(Sheet4!$DM$2:$DM$8408,Sheet4!$C$2:$C$8408,Sheet3!$B21,Sheet4!$D$2:$D$8408,Sheet3!BC$3,Sheet4!$E$2:$E$8408,Sheet3!BC$4,Sheet4!$A$2:$A$8408,Sheet3!$B$1,Sheet4!$B$2:$B$8408,Sheet3!$A$3)","v":0},{"$f":"+SUMIFS(Sheet4!$DM$2:$DM$8408,Sheet4!$C$2:$C$8408,Sheet3!$B21,Sheet4!$D$2:$D$8408,Sheet3!BD$3,Sheet4!$E$2:$E$8408,Sheet3!BD$4,Sheet4!$A$2:$A$8408,Sheet3!$B$1,Sheet4!$B$2:$B$8408,Sheet3!$A$3)","v":0},{"$f":"+SUMIFS(Sheet4!$DM$2:$DM$8408,Sheet4!$C$2:$C$8408,Sheet3!$B21,Sheet4!$D$2:$D$8408,Sheet3!BE$3,Sheet4!$E$2:$E$8408,Sheet3!BE$4,Sheet4!$A$2:$A$8408,Sheet3!$B$1,Sheet4!$B$2:$B$8408,Sheet3!$A$3)","v":0},{"$f":"+SUMIFS(Sheet4!$DM$2:$DM$8408,Sheet4!$C$2:$C$8408,Sheet3!$B21,Sheet4!$D$2:$D$8408,Sheet3!BF$3,Sheet4!$E$2:$E$8408,Sheet3!BF$4,Sheet4!$A$2:$A$8408,Sheet3!$B$1,Sheet4!$B$2:$B$8408,Sheet3!$A$3)","v":3},{"$f":"+SUMIFS(Sheet4!$DM$2:$DM$8408,Sheet4!$C$2:$C$8408,Sheet3!$B21,Sheet4!$D$2:$D$8408,Sheet3!BG$3,Sheet4!$E$2:$E$8408,Sheet3!BG$4,Sheet4!$A$2:$A$8408,Sheet3!$B$1,Sheet4!$B$2:$B$8408,Sheet3!$A$3)","v":0},{"$f":"+SUMIFS(Sheet4!$DM$2:$DM$8408,Sheet4!$C$2:$C$8408,Sheet3!$B21,Sheet4!$D$2:$D$8408,Sheet3!BH$3,Sheet4!$E$2:$E$8408,Sheet3!BH$4,Sheet4!$A$2:$A$8408,Sheet3!$B$1,Sheet4!$B$2:$B$8408,Sheet3!$A$3)","v":19},{"$f":"+SUMIFS(Sheet4!$DM$2:$DM$8408,Sheet4!$C$2:$C$8408,Sheet3!$B21,Sheet4!$D$2:$D$8408,Sheet3!BI$3,Sheet4!$E$2:$E$8408,Sheet3!BI$4,Sheet4!$A$2:$A$8408,Sheet3!$B$1,Sheet4!$B$2:$B$8408,Sheet3!$A$3)","v":24},{"$f":"+SUMIFS(Sheet4!$DM$2:$DM$8408,Sheet4!$C$2:$C$8408,Sheet3!$B21,Sheet4!$D$2:$D$8408,Sheet3!BJ$3,Sheet4!$E$2:$E$8408,Sheet3!BJ$4,Sheet4!$A$2:$A$8408,Sheet3!$B$1,Sheet4!$B$2:$B$8408,Sheet3!$A$3)","v":9},{"$f":"+SUMIFS(Sheet4!$DM$2:$DM$8408,Sheet4!$C$2:$C$8408,Sheet3!$B21,Sheet4!$D$2:$D$8408,Sheet3!BK$3,Sheet4!$E$2:$E$8408,Sheet3!BK$4,Sheet4!$A$2:$A$8408,Sheet3!$B$1,Sheet4!$B$2:$B$8408,Sheet3!$A$3)","v":0},{"$f":"+SUMIFS(Sheet4!$DM$2:$DM$8408,Sheet4!$C$2:$C$8408,Sheet3!$B21,Sheet4!$D$2:$D$8408,Sheet3!BL$3,Sheet4!$E$2:$E$8408,Sheet3!BL$4,Sheet4!$A$2:$A$8408,Sheet3!$B$1,Sheet4!$B$2:$B$8408,Sheet3!$A$3)","v":0},{"$f":"+SUMIFS(Sheet4!$DM$2:$DM$8408,Sheet4!$C$2:$C$8408,Sheet3!$B21,Sheet4!$D$2:$D$8408,Sheet3!BM$3,Sheet4!$E$2:$E$8408,Sheet3!BM$4,Sheet4!$A$2:$A$8408,Sheet3!$B$1,Sheet4!$B$2:$B$8408,Sheet3!$A$3)","v":18},{"$f":"+SUMIFS(Sheet4!$DM$2:$DM$8408,Sheet4!$C$2:$C$8408,Sheet3!$B21,Sheet4!$D$2:$D$8408,Sheet3!BN$3,Sheet4!$E$2:$E$8408,Sheet3!BN$4,Sheet4!$A$2:$A$8408,Sheet3!$B$1,Sheet4!$B$2:$B$8408,Sheet3!$A$3)","v":6},{"$f":"+SUMIFS(Sheet4!$DM$2:$DM$8408,Sheet4!$C$2:$C$8408,Sheet3!$B21,Sheet4!$D$2:$D$8408,Sheet3!BO$3,Sheet4!$E$2:$E$8408,Sheet3!BO$4,Sheet4!$A$2:$A$8408,Sheet3!$B$1,Sheet4!$B$2:$B$8408,Sheet3!$A$3)","v":0},{"$f":"+SUMIFS(Sheet4!$DM$2:$DM$8408,Sheet4!$C$2:$C$8408,Sheet3!$B21,Sheet4!$D$2:$D$8408,Sheet3!BP$3,Sheet4!$E$2:$E$8408,Sheet3!BP$4,Sheet4!$A$2:$A$8408,Sheet3!$B$1,Sheet4!$B$2:$B$8408,Sheet3!$A$3)","v":0},{"$f":"+SUMIFS(Sheet4!$DM$2:$DM$8408,Sheet4!$C$2:$C$8408,Sheet3!$B21,Sheet4!$D$2:$D$8408,Sheet3!BQ$3,Sheet4!$E$2:$E$8408,Sheet3!BQ$4,Sheet4!$A$2:$A$8408,Sheet3!$B$1,Sheet4!$B$2:$B$8408,Sheet3!$A$3)","v":0},{"$f":"+SUMIFS(Sheet4!$DM$2:$DM$8408,Sheet4!$C$2:$C$8408,Sheet3!$B21,Sheet4!$D$2:$D$8408,Sheet3!BR$3,Sheet4!$E$2:$E$8408,Sheet3!BR$4,Sheet4!$A$2:$A$8408,Sheet3!$B$1,Sheet4!$B$2:$B$8408,Sheet3!$A$3)","v":41},{"$f":"+SUMIFS(Sheet4!$DM$2:$DM$8408,Sheet4!$C$2:$C$8408,Sheet3!$B21,Sheet4!$D$2:$D$8408,Sheet3!BS$3,Sheet4!$E$2:$E$8408,Sheet3!BS$4,Sheet4!$A$2:$A$8408,Sheet3!$B$1,Sheet4!$B$2:$B$8408,Sheet3!$A$3)","v":80},{"$f":"+SUMIFS(Sheet4!$DM$2:$DM$8408,Sheet4!$C$2:$C$8408,Sheet3!$B21,Sheet4!$D$2:$D$8408,Sheet3!BT$3,Sheet4!$E$2:$E$8408,Sheet3!BT$4,Sheet4!$A$2:$A$8408,Sheet3!$B$1,Sheet4!$B$2:$B$8408,Sheet3!$A$3)","v":31},{"$f":"+SUMIFS(Sheet4!$DM$2:$DM$8408,Sheet4!$C$2:$C$8408,Sheet3!$B21,Sheet4!$D$2:$D$8408,Sheet3!BU$3,Sheet4!$E$2:$E$8408,Sheet3!BU$4,Sheet4!$A$2:$A$8408,Sheet3!$B$1,Sheet4!$B$2:$B$8408,Sheet3!$A$3)","v":0},{"$f":"+SUMIFS(Sheet4!$DM$2:$DM$8408,Sheet4!$C$2:$C$8408,Sheet3!$B21,Sheet4!$D$2:$D$8408,Sheet3!BV$3,Sheet4!$E$2:$E$8408,Sheet3!BV$4,Sheet4!$A$2:$A$8408,Sheet3!$B$1,Sheet4!$B$2:$B$8408,Sheet3!$A$3)","v":240},{"$f":"+SUMIFS(Sheet4!$DM$2:$DM$8408,Sheet4!$C$2:$C$8408,Sheet3!$B21,Sheet4!$D$2:$D$8408,Sheet3!BW$3,Sheet4!$E$2:$E$8408,Sheet3!BW$4,Sheet4!$A$2:$A$8408,Sheet3!$B$1,Sheet4!$B$2:$B$8408,Sheet3!$A$3)","v":379},{"$f":"+SUMIFS(Sheet4!$DM$2:$DM$8408,Sheet4!$C$2:$C$8408,Sheet3!$B21,Sheet4!$D$2:$D$8408,Sheet3!BX$3,Sheet4!$E$2:$E$8408,Sheet3!BX$4,Sheet4!$A$2:$A$8408,Sheet3!$B$1,Sheet4!$B$2:$B$8408,Sheet3!$A$3)","v":209},{"$f":"+SUMIFS(Sheet4!$DM$2:$DM$8408,Sheet4!$C$2:$C$8408,Sheet3!$B21,Sheet4!$D$2:$D$8408,Sheet3!BY$3,Sheet4!$E$2:$E$8408,Sheet3!BY$4,Sheet4!$A$2:$A$8408,Sheet3!$B$1,Sheet4!$B$2:$B$8408,Sheet3!$A$3)","v":52},{"$f":"+SUMIFS(Sheet4!$DM$2:$DM$8408,Sheet4!$C$2:$C$8408,Sheet3!$B21,Sheet4!$D$2:$D$8408,Sheet3!BZ$3,Sheet4!$E$2:$E$8408,Sheet3!BZ$4,Sheet4!$A$2:$A$8408,Sheet3!$B$1,Sheet4!$B$2:$B$8408,Sheet3!$A$3)","v":0},{"$f":"+SUMIFS(Sheet4!$DM$2:$DM$8408,Sheet4!$C$2:$C$8408,Sheet3!$B21,Sheet4!$D$2:$D$8408,Sheet3!CA$3,Sheet4!$E$2:$E$8408,Sheet3!CA$4,Sheet4!$A$2:$A$8408,Sheet3!$B$1,Sheet4!$B$2:$B$8408,Sheet3!$A$3)","v":120},{"$f":"+SUMIFS(Sheet4!$DM$2:$DM$8408,Sheet4!$C$2:$C$8408,Sheet3!$B21,Sheet4!$D$2:$D$8408,Sheet3!CB$3,Sheet4!$E$2:$E$8408,Sheet3!CB$4,Sheet4!$A$2:$A$8408,Sheet3!$B$1,Sheet4!$B$2:$B$8408,Sheet3!$A$3)","v":108},{"$f":"+SUMIFS(Sheet4!$DM$2:$DM$8408,Sheet4!$C$2:$C$8408,Sheet3!$B21,Sheet4!$D$2:$D$8408,Sheet3!CC$3,Sheet4!$E$2:$E$8408,Sheet3!CC$4,Sheet4!$A$2:$A$8408,Sheet3!$B$1,Sheet4!$B$2:$B$8408,Sheet3!$A$3)","v":13},{"$f":"+SUMIFS(Sheet4!$DM$2:$DM$8408,Sheet4!$C$2:$C$8408,Sheet3!$B21,Sheet4!$D$2:$D$8408,Sheet3!CD$3,Sheet4!$E$2:$E$8408,Sheet3!CD$4,Sheet4!$A$2:$A$8408,Sheet3!$B$1,Sheet4!$B$2:$B$8408,Sheet3!$A$3)","v":10},{"$f":"+SUMIFS(Sheet4!$DM$2:$DM$8408,Sheet4!$C$2:$C$8408,Sheet3!$B21,Sheet4!$D$2:$D$8408,Sheet3!CE$3,Sheet4!$E$2:$E$8408,Sheet3!CE$4,Sheet4!$A$2:$A$8408,Sheet3!$B$1,Sheet4!$B$2:$B$8408,Sheet3!$A$3)","v":0},{"$f":"+SUMIFS(Sheet4!$DM$2:$DM$8408,Sheet4!$C$2:$C$8408,Sheet3!$B21,Sheet4!$D$2:$D$8408,Sheet3!CF$3,Sheet4!$E$2:$E$8408,Sheet3!CF$4,Sheet4!$A$2:$A$8408,Sheet3!$B$1,Sheet4!$B$2:$B$8408,Sheet3!$A$3)","v":279},{"$f":"+SUMIFS(Sheet4!$DM$2:$DM$8408,Sheet4!$C$2:$C$8408,Sheet3!$B21,Sheet4!$D$2:$D$8408,Sheet3!CG$3,Sheet4!$E$2:$E$8408,Sheet3!CG$4,Sheet4!$A$2:$A$8408,Sheet3!$B$1,Sheet4!$B$2:$B$8408,Sheet3!$A$3)","v":100},{"$f":"+SUMIFS(Sheet4!$DM$2:$DM$8408,Sheet4!$C$2:$C$8408,Sheet3!$B21,Sheet4!$D$2:$D$8408,Sheet3!CH$3,Sheet4!$E$2:$E$8408,Sheet3!CH$4,Sheet4!$A$2:$A$8408,Sheet3!$B$1,Sheet4!$B$2:$B$8408,Sheet3!$A$3)","v":21},{"$f":"+SUMIFS(Sheet4!$DM$2:$DM$8408,Sheet4!$C$2:$C$8408,Sheet3!$B21,Sheet4!$D$2:$D$8408,Sheet3!CI$3,Sheet4!$E$2:$E$8408,Sheet3!CI$4,Sheet4!$A$2:$A$8408,Sheet3!$B$1,Sheet4!$B$2:$B$8408,Sheet3!$A$3)","v":0},{"$f":"+SUMIFS(Sheet4!$DM$2:$DM$8408,Sheet4!$C$2:$C$8408,Sheet3!$B21,Sheet4!$D$2:$D$8408,Sheet3!CJ$3,Sheet4!$E$2:$E$8408,Sheet3!CJ$4,Sheet4!$A$2:$A$8408,Sheet3!$B$1,Sheet4!$B$2:$B$8408,Sheet3!$A$3)","v":0},{"$f":"+SUMIFS(Sheet4!$DM$2:$DM$8408,Sheet4!$C$2:$C$8408,Sheet3!$B21,Sheet4!$D$2:$D$8408,Sheet3!CK$3,Sheet4!$E$2:$E$8408,Sheet3!CK$4,Sheet4!$A$2:$A$8408,Sheet3!$B$1,Sheet4!$B$2:$B$8408,Sheet3!$A$3)","v":0},{"$f":"+SUMIFS(Sheet4!$DM$2:$DM$8408,Sheet4!$C$2:$C$8408,Sheet3!$B21,Sheet4!$D$2:$D$8408,Sheet3!CL$3,Sheet4!$E$2:$E$8408,Sheet3!CL$4,Sheet4!$A$2:$A$8408,Sheet3!$B$1,Sheet4!$B$2:$B$8408,Sheet3!$A$3)","v":0},{"$f":"+SUMIFS(Sheet4!$DM$2:$DM$8408,Sheet4!$C$2:$C$8408,Sheet3!$B21,Sheet4!$D$2:$D$8408,Sheet3!CM$3,Sheet4!$E$2:$E$8408,Sheet3!CM$4,Sheet4!$A$2:$A$8408,Sheet3!$B$1,Sheet4!$B$2:$B$8408,Sheet3!$A$3)","v":0},{"$f":"+SUMIFS(Sheet4!$DM$2:$DM$8408,Sheet4!$C$2:$C$8408,Sheet3!$B21,Sheet4!$D$2:$D$8408,Sheet3!CN$3,Sheet4!$E$2:$E$8408,Sheet3!CN$4,Sheet4!$A$2:$A$8408,Sheet3!$B$1,Sheet4!$B$2:$B$8408,Sheet3!$A$3)","v":0},{"$f":"+SUMIFS(Sheet4!$DM$2:$DM$8408,Sheet4!$C$2:$C$8408,Sheet3!$B21,Sheet4!$D$2:$D$8408,Sheet3!CO$3,Sheet4!$E$2:$E$8408,Sheet3!CO$4,Sheet4!$A$2:$A$8408,Sheet3!$B$1,Sheet4!$B$2:$B$8408,Sheet3!$A$3)","v":0},{"$f":"+SUMIFS(Sheet4!$DM$2:$DM$8408,Sheet4!$C$2:$C$8408,Sheet3!$B21,Sheet4!$D$2:$D$8408,Sheet3!CP$3,Sheet4!$E$2:$E$8408,Sheet3!CP$4,Sheet4!$A$2:$A$8408,Sheet3!$B$1,Sheet4!$B$2:$B$8408,Sheet3!$A$3)","v":0},{"$f":"+SUMIFS(Sheet4!$DM$2:$DM$8408,Sheet4!$C$2:$C$8408,Sheet3!$B21,Sheet4!$D$2:$D$8408,Sheet3!CQ$3,Sheet4!$E$2:$E$8408,Sheet3!CQ$4,Sheet4!$A$2:$A$8408,Sheet3!$B$1,Sheet4!$B$2:$B$8408,Sheet3!$A$3)","v":0},{"$f":"+SUMIFS(Sheet4!$DM$2:$DM$8408,Sheet4!$C$2:$C$8408,Sheet3!$B21,Sheet4!$D$2:$D$8408,Sheet3!CR$3,Sheet4!$E$2:$E$8408,Sheet3!CR$4,Sheet4!$A$2:$A$8408,Sheet3!$B$1,Sheet4!$B$2:$B$8408,Sheet3!$A$3)","v":0},{"$f":"+SUMIFS(Sheet4!$DM$2:$DM$8408,Sheet4!$C$2:$C$8408,Sheet3!$B21,Sheet4!$D$2:$D$8408,Sheet3!CS$3,Sheet4!$E$2:$E$8408,Sheet3!CS$4,Sheet4!$A$2:$A$8408,Sheet3!$B$1,Sheet4!$B$2:$B$8408,Sheet3!$A$3)","v":0},{"$f":"+SUMIFS(Sheet4!$DM$2:$DM$8408,Sheet4!$C$2:$C$8408,Sheet3!$B21,Sheet4!$D$2:$D$8408,Sheet3!CT$3,Sheet4!$E$2:$E$8408,Sheet3!CT$4,Sheet4!$A$2:$A$8408,Sheet3!$B$1,Sheet4!$B$2:$B$8408,Sheet3!$A$3)","v":0},{"$f":"+IF(SUMIFS(Sheet4!$DN$2:$DN$8408,Sheet4!$C$2:$C$8408,Sheet3!$B21,Sheet4!$D$2:$D$8408,Sheet3!CU$3,Sheet4!$A$2:$A$8408,Sheet3!$B$1,Sheet4!$B$2:$B$8408,Sheet3!$A$3)<3,0,SUMIFS(Sheet4!$DN$2:$DN$8408,Sheet4!$C$2:$C$8408,Sheet3!$B21,Sheet4!$D$2:$D$8408,Sheet3!CU$3,Sheet4!$A$2:$A$8408,Sheet3!$B$1,Sheet4!$B$2:$B$8408,Sheet3!$A$3))","v":12},{"$f":"+IF(SUMIFS(Sheet4!$DN$2:$DN$8408,Sheet4!$C$2:$C$8408,Sheet3!$B21,Sheet4!$D$2:$D$8408,Sheet3!CV$3,Sheet4!$A$2:$A$8408,Sheet3!$B$1,Sheet4!$B$2:$B$8408,Sheet3!$A$3)<3,0,SUMIFS(Sheet4!$DN$2:$DN$8408,Sheet4!$C$2:$C$8408,Sheet3!$B21,Sheet4!$D$2:$D$8408,Sheet3!CV$3,Sheet4!$A$2:$A$8408,Sheet3!$B$1,Sheet4!$B$2:$B$8408,Sheet3!$A$3))","v":18},{"$f":"+IF(SUMIFS(Sheet4!$DN$2:$DN$8408,Sheet4!$C$2:$C$8408,Sheet3!$B21,Sheet4!$D$2:$D$8408,Sheet3!CW$3,Sheet4!$A$2:$A$8408,Sheet3!$B$1,Sheet4!$B$2:$B$8408,Sheet3!$A$3)<3,0,SUMIFS(Sheet4!$DN$2:$DN$8408,Sheet4!$C$2:$C$8408,Sheet3!$B21,Sheet4!$D$2:$D$8408,Sheet3!CW$3,Sheet4!$A$2:$A$8408,Sheet3!$B$1,Sheet4!$B$2:$B$8408,Sheet3!$A$3))","v":142},{"$f":"+IF(SUMIFS(Sheet4!$DN$2:$DN$8408,Sheet4!$C$2:$C$8408,Sheet3!$B21,Sheet4!$D$2:$D$8408,Sheet3!CX$3,Sheet4!$A$2:$A$8408,Sheet3!$B$1,Sheet4!$B$2:$B$8408,Sheet3!$A$3)<3,0,SUMIFS(Sheet4!$DN$2:$DN$8408,Sheet4!$C$2:$C$8408,Sheet3!$B21,Sheet4!$D$2:$D$8408,Sheet3!CX$3,Sheet4!$A$2:$A$8408,Sheet3!$B$1,Sheet4!$B$2:$B$8408,Sheet3!$A$3))","v":0},{"$f":"+IF(SUMIFS(Sheet4!$DN$2:$DN$8408,Sheet4!$C$2:$C$8408,Sheet3!$B21,Sheet4!$D$2:$D$8408,Sheet3!CY$3,Sheet4!$A$2:$A$8408,Sheet3!$B$1,Sheet4!$B$2:$B$8408,Sheet3!$A$3)<3,0,SUMIFS(Sheet4!$DN$2:$DN$8408,Sheet4!$C$2:$C$8408,Sheet3!$B21,Sheet4!$D$2:$D$8408,Sheet3!CY$3,Sheet4!$A$2:$A$8408,Sheet3!$B$1,Sheet4!$B$2:$B$8408,Sheet3!$A$3))","v":0},{"$f":"+IF(SUMIFS(Sheet4!$DN$2:$DN$8408,Sheet4!$C$2:$C$8408,Sheet3!$B21,Sheet4!$D$2:$D$8408,Sheet3!CZ$3,Sheet4!$A$2:$A$8408,Sheet3!$B$1,Sheet4!$B$2:$B$8408,Sheet3!$A$3)<3,0,SUMIFS(Sheet4!$DN$2:$DN$8408,Sheet4!$C$2:$C$8408,Sheet3!$B21,Sheet4!$D$2:$D$8408,Sheet3!CZ$3,Sheet4!$A$2:$A$8408,Sheet3!$B$1,Sheet4!$B$2:$B$8408,Sheet3!$A$3))","v":319},{"$f":"+IF(SUMIFS(Sheet4!$DN$2:$DN$8408,Sheet4!$C$2:$C$8408,Sheet3!$B21,Sheet4!$D$2:$D$8408,Sheet3!DA$3,Sheet4!$A$2:$A$8408,Sheet3!$B$1,Sheet4!$B$2:$B$8408,Sheet3!$A$3)<3,0,SUMIFS(Sheet4!$DN$2:$DN$8408,Sheet4!$C$2:$C$8408,Sheet3!$B21,Sheet4!$D$2:$D$8408,Sheet3!DA$3,Sheet4!$A$2:$A$8408,Sheet3!$B$1,Sheet4!$B$2:$B$8408,Sheet3!$A$3))","v":9},{"$f":"+IF(SUMIFS(Sheet4!$DN$2:$DN$8408,Sheet4!$C$2:$C$8408,Sheet3!$B21,Sheet4!$D$2:$D$8408,Sheet3!DB$3,Sheet4!$A$2:$A$8408,Sheet3!$B$1,Sheet4!$B$2:$B$8408,Sheet3!$A$3)<3,0,SUMIFS(Sheet4!$DN$2:$DN$8408,Sheet4!$C$2:$C$8408,Sheet3!$B21,Sheet4!$D$2:$D$8408,Sheet3!DB$3,Sheet4!$A$2:$A$8408,Sheet3!$B$1,Sheet4!$B$2:$B$8408,Sheet3!$A$3))","v":357},{"$f":"+IF(SUMIFS(Sheet4!$DN$2:$DN$8408,Sheet4!$C$2:$C$8408,Sheet3!$B21,Sheet4!$D$2:$D$8408,Sheet3!DC$3,Sheet4!$A$2:$A$8408,Sheet3!$B$1,Sheet4!$B$2:$B$8408,Sheet3!$A$3)<3,0,SUMIFS(Sheet4!$DN$2:$DN$8408,Sheet4!$C$2:$C$8408,Sheet3!$B21,Sheet4!$D$2:$D$8408,Sheet3!DC$3,Sheet4!$A$2:$A$8408,Sheet3!$B$1,Sheet4!$B$2:$B$8408,Sheet3!$A$3))","v":687},{"$f":"+IF(SUMIFS(Sheet4!$DN$2:$DN$8408,Sheet4!$C$2:$C$8408,Sheet3!$B21,Sheet4!$D$2:$D$8408,Sheet3!DD$3,Sheet4!$A$2:$A$8408,Sheet3!$B$1,Sheet4!$B$2:$B$8408,Sheet3!$A$3)<3,0,SUMIFS(Sheet4!$DN$2:$DN$8408,Sheet4!$C$2:$C$8408,Sheet3!$B21,Sheet4!$D$2:$D$8408,Sheet3!DD$3,Sheet4!$A$2:$A$8408,Sheet3!$B$1,Sheet4!$B$2:$B$8408,Sheet3!$A$3))","v":1337},{"$f":"+IF(SUMIFS(Sheet4!$DN$2:$DN$8408,Sheet4!$C$2:$C$8408,Sheet3!$B21,Sheet4!$D$2:$D$8408,Sheet3!DE$3,Sheet4!$A$2:$A$8408,Sheet3!$B$1,Sheet4!$B$2:$B$8408,Sheet3!$A$3)<3,0,SUMIFS(Sheet4!$DN$2:$DN$8408,Sheet4!$C$2:$C$8408,Sheet3!$B21,Sheet4!$D$2:$D$8408,Sheet3!DE$3,Sheet4!$A$2:$A$8408,Sheet3!$B$1,Sheet4!$B$2:$B$8408,Sheet3!$A$3))","v":5},{"$f":"+IF(SUMIFS(Sheet4!$DN$2:$DN$8408,Sheet4!$C$2:$C$8408,Sheet3!$B21,Sheet4!$D$2:$D$8408,Sheet3!DF$3,Sheet4!$A$2:$A$8408,Sheet3!$B$1,Sheet4!$B$2:$B$8408,Sheet3!$A$3)<3,0,SUMIFS(Sheet4!$DN$2:$DN$8408,Sheet4!$C$2:$C$8408,Sheet3!$B21,Sheet4!$D$2:$D$8408,Sheet3!DF$3,Sheet4!$A$2:$A$8408,Sheet3!$B$1,Sheet4!$B$2:$B$8408,Sheet3!$A$3))","v":55},{"$f":"+IF(SUMIFS(Sheet4!$DN$2:$DN$8408,Sheet4!$C$2:$C$8408,Sheet3!$B21,Sheet4!$D$2:$D$8408,Sheet3!DG$3,Sheet4!$A$2:$A$8408,Sheet3!$B$1,Sheet4!$B$2:$B$8408,Sheet3!$A$3)<3,0,SUMIFS(Sheet4!$DN$2:$DN$8408,Sheet4!$C$2:$C$8408,Sheet3!$B21,Sheet4!$D$2:$D$8408,Sheet3!DG$3,Sheet4!$A$2:$A$8408,Sheet3!$B$1,Sheet4!$B$2:$B$8408,Sheet3!$A$3))","v":29},{"$f":"+IF(SUMIFS(Sheet4!$DN$2:$DN$8408,Sheet4!$C$2:$C$8408,Sheet3!$B21,Sheet4!$D$2:$D$8408,Sheet3!DH$3,Sheet4!$A$2:$A$8408,Sheet3!$B$1,Sheet4!$B$2:$B$8408,Sheet3!$A$3)<3,0,SUMIFS(Sheet4!$DN$2:$DN$8408,Sheet4!$C$2:$C$8408,Sheet3!$B21,Sheet4!$D$2:$D$8408,Sheet3!DH$3,Sheet4!$A$2:$A$8408,Sheet3!$B$1,Sheet4!$B$2:$B$8408,Sheet3!$A$3))","v":155},{"$f":"+IF(SUMIFS(Sheet4!$DN$2:$DN$8408,Sheet4!$C$2:$C$8408,Sheet3!$B21,Sheet4!$D$2:$D$8408,Sheet3!DI$3,Sheet4!$A$2:$A$8408,Sheet3!$B$1,Sheet4!$B$2:$B$8408,Sheet3!$A$3)<3,0,SUMIFS(Sheet4!$DN$2:$DN$8408,Sheet4!$C$2:$C$8408,Sheet3!$B21,Sheet4!$D$2:$D$8408,Sheet3!DI$3,Sheet4!$A$2:$A$8408,Sheet3!$B$1,Sheet4!$B$2:$B$8408,Sheet3!$A$3))","v":882},{"$f":"+IF(SUMIFS(Sheet4!$DN$2:$DN$8408,Sheet4!$C$2:$C$8408,Sheet3!$B21,Sheet4!$D$2:$D$8408,Sheet3!DJ$3,Sheet4!$A$2:$A$8408,Sheet3!$B$1,Sheet4!$B$2:$B$8408,Sheet3!$A$3)<3,0,SUMIFS(Sheet4!$DN$2:$DN$8408,Sheet4!$C$2:$C$8408,Sheet3!$B21,Sheet4!$D$2:$D$8408,Sheet3!DJ$3,Sheet4!$A$2:$A$8408,Sheet3!$B$1,Sheet4!$B$2:$B$8408,Sheet3!$A$3))","v":252},{"$f":"+IF(SUMIFS(Sheet4!$DN$2:$DN$8408,Sheet4!$C$2:$C$8408,Sheet3!$B21,Sheet4!$D$2:$D$8408,Sheet3!DK$3,Sheet4!$A$2:$A$8408,Sheet3!$B$1,Sheet4!$B$2:$B$8408,Sheet3!$A$3)<3,0,SUMIFS(Sheet4!$DN$2:$DN$8408,Sheet4!$C$2:$C$8408,Sheet3!$B21,Sheet4!$D$2:$D$8408,Sheet3!DK$3,Sheet4!$A$2:$A$8408,Sheet3!$B$1,Sheet4!$B$2:$B$8408,Sheet3!$A$3))","v":401},{"$f":"+IF(SUMIFS(Sheet4!$DN$2:$DN$8408,Sheet4!$C$2:$C$8408,Sheet3!$B21,Sheet4!$D$2:$D$8408,Sheet3!DL$3,Sheet4!$A$2:$A$8408,Sheet3!$B$1,Sheet4!$B$2:$B$8408,Sheet3!$A$3)<3,0,SUMIFS(Sheet4!$DN$2:$DN$8408,Sheet4!$C$2:$C$8408,Sheet3!$B21,Sheet4!$D$2:$D$8408,Sheet3!DL$3,Sheet4!$A$2:$A$8408,Sheet3!$B$1,Sheet4!$B$2:$B$8408,Sheet3!$A$3))","v":0},{"$f":"+IF(SUMIFS(Sheet4!$DN$2:$DN$8408,Sheet4!$C$2:$C$8408,Sheet3!$B21,Sheet4!$D$2:$D$8408,Sheet3!DM$3,Sheet4!$A$2:$A$8408,Sheet3!$B$1,Sheet4!$B$2:$B$8408,Sheet3!$A$3)<3,0,SUMIFS(Sheet4!$DN$2:$DN$8408,Sheet4!$C$2:$C$8408,Sheet3!$B21,Sheet4!$D$2:$D$8408,Sheet3!DM$3,Sheet4!$A$2:$A$8408,Sheet3!$B$1,Sheet4!$B$2:$B$8408,Sheet3!$A$3))","v":0},{"$f":"+IF(SUMIFS(Sheet4!$DN$2:$DN$8408,Sheet4!$C$2:$C$8408,Sheet3!$B21,Sheet4!$E$2:$E$8408,Sheet3!DN$4,Sheet4!$A$2:$A$8408,Sheet3!$B$1,Sheet4!$B$2:$B$8408,Sheet3!$A$3)<3,0,SUMIFS(Sheet4!$DN$2:$DN$8408,Sheet4!$C$2:$C$8408,Sheet3!$B21,Sheet4!$E$2:$E$8408,Sheet3!DN$4,Sheet4!$A$2:$A$8408,Sheet3!$B$1,Sheet4!$B$2:$B$8408,Sheet3!$A$3))","v":2915},{"$f":"+IF(SUMIFS(Sheet4!$DN$2:$DN$8408,Sheet4!$C$2:$C$8408,Sheet3!$B21,Sheet4!$E$2:$E$8408,Sheet3!DO$4,Sheet4!$A$2:$A$8408,Sheet3!$B$1,Sheet4!$B$2:$B$8408,Sheet3!$A$3)<3,0,SUMIFS(Sheet4!$DN$2:$DN$8408,Sheet4!$C$2:$C$8408,Sheet3!$B21,Sheet4!$E$2:$E$8408,Sheet3!DO$4,Sheet4!$A$2:$A$8408,Sheet3!$B$1,Sheet4!$B$2:$B$8408,Sheet3!$A$3))","v":1071},{"$f":"+IF(SUMIFS(Sheet4!$DN$2:$DN$8408,Sheet4!$C$2:$C$8408,Sheet3!$B21,Sheet4!$E$2:$E$8408,Sheet3!DP$4,Sheet4!$A$2:$A$8408,Sheet3!$B$1,Sheet4!$B$2:$B$8408,Sheet3!$A$3)<3,0,SUMIFS(Sheet4!$DN$2:$DN$8408,Sheet4!$C$2:$C$8408,Sheet3!$B21,Sheet4!$E$2:$E$8408,Sheet3!DP$4,Sheet4!$A$2:$A$8408,Sheet3!$B$1,Sheet4!$B$2:$B$8408,Sheet3!$A$3))","v":473},{"$f":"+IF(SUMIFS(Sheet4!$DN$2:$DN$8408,Sheet4!$C$2:$C$8408,Sheet3!$B21,Sheet4!$E$2:$E$8408,Sheet3!DQ$4,Sheet4!$A$2:$A$8408,Sheet3!$B$1,Sheet4!$B$2:$B$8408,Sheet3!$A$3)<3,0,SUMIFS(Sheet4!$DN$2:$DN$8408,Sheet4!$C$2:$C$8408,Sheet3!$B21,Sheet4!$E$2:$E$8408,Sheet3!DQ$4,Sheet4!$A$2:$A$8408,Sheet3!$B$1,Sheet4!$B$2:$B$8408,Sheet3!$A$3))","v":186},{"$f":"+IF(SUMIFS(Sheet4!$DN$2:$DN$8408,Sheet4!$C$2:$C$8408,Sheet3!$B21,Sheet4!$E$2:$E$8408,Sheet3!DR$4,Sheet4!$A$2:$A$8408,Sheet3!$B$1,Sheet4!$B$2:$B$8408,Sheet3!$A$3)<3,0,SUMIFS(Sheet4!$DN$2:$DN$8408,Sheet4!$C$2:$C$8408,Sheet3!$B21,Sheet4!$E$2:$E$8408,Sheet3!DR$4,Sheet4!$A$2:$A$8408,Sheet3!$B$1,Sheet4!$B$2:$B$8408,Sheet3!$A$3))","v":18}]
[4,"16I","Médio Tejo",{"$f":"+SUMIFS(Sheet4!$DM$2:$DM$8408,Sheet4!$C$2:$C$8408,Sheet3!$B22,Sheet4!$D$2:$D$8408,Sheet3!D$3,Sheet4!$E$2:$E$8408,Sheet3!D$4,Sheet4!$A$2:$A$8408,Sheet3!$B$1,Sheet4!$B$2:$B$8408,Sheet3!$A$3)","v":0},{"$f":"+SUMIFS(Sheet4!$DM$2:$DM$8408,Sheet4!$C$2:$C$8408,Sheet3!$B22,Sheet4!$D$2:$D$8408,Sheet3!E$3,Sheet4!$E$2:$E$8408,Sheet3!E$4,Sheet4!$A$2:$A$8408,Sheet3!$B$1,Sheet4!$B$2:$B$8408,Sheet3!$A$3)","v":0},{"$f":"+SUMIFS(Sheet4!$DM$2:$DM$8408,Sheet4!$C$2:$C$8408,Sheet3!$B22,Sheet4!$D$2:$D$8408,Sheet3!F$3,Sheet4!$E$2:$E$8408,Sheet3!F$4,Sheet4!$A$2:$A$8408,Sheet3!$B$1,Sheet4!$B$2:$B$8408,Sheet3!$A$3)","v":0},{"$f":"+SUMIFS(Sheet4!$DM$2:$DM$8408,Sheet4!$C$2:$C$8408,Sheet3!$B22,Sheet4!$D$2:$D$8408,Sheet3!G$3,Sheet4!$E$2:$E$8408,Sheet3!G$4,Sheet4!$A$2:$A$8408,Sheet3!$B$1,Sheet4!$B$2:$B$8408,Sheet3!$A$3)","v":0},{"$f":"+SUMIFS(Sheet4!$DM$2:$DM$8408,Sheet4!$C$2:$C$8408,Sheet3!$B22,Sheet4!$D$2:$D$8408,Sheet3!H$3,Sheet4!$E$2:$E$8408,Sheet3!H$4,Sheet4!$A$2:$A$8408,Sheet3!$B$1,Sheet4!$B$2:$B$8408,Sheet3!$A$3)","v":0},{"$f":"+SUMIFS(Sheet4!$DM$2:$DM$8408,Sheet4!$C$2:$C$8408,Sheet3!$B22,Sheet4!$D$2:$D$8408,Sheet3!I$3,Sheet4!$E$2:$E$8408,Sheet3!I$4,Sheet4!$A$2:$A$8408,Sheet3!$B$1,Sheet4!$B$2:$B$8408,Sheet3!$A$3)","v":12},{"$f":"+SUMIFS(Sheet4!$DM$2:$DM$8408,Sheet4!$C$2:$C$8408,Sheet3!$B22,Sheet4!$D$2:$D$8408,Sheet3!J$3,Sheet4!$E$2:$E$8408,Sheet3!J$4,Sheet4!$A$2:$A$8408,Sheet3!$B$1,Sheet4!$B$2:$B$8408,Sheet3!$A$3)","v":19},{"$f":"+SUMIFS(Sheet4!$DM$2:$DM$8408,Sheet4!$C$2:$C$8408,Sheet3!$B22,Sheet4!$D$2:$D$8408,Sheet3!K$3,Sheet4!$E$2:$E$8408,Sheet3!K$4,Sheet4!$A$2:$A$8408,Sheet3!$B$1,Sheet4!$B$2:$B$8408,Sheet3!$A$3)","v":15},{"$f":"+SUMIFS(Sheet4!$DM$2:$DM$8408,Sheet4!$C$2:$C$8408,Sheet3!$B22,Sheet4!$D$2:$D$8408,Sheet3!L$3,Sheet4!$E$2:$E$8408,Sheet3!L$4,Sheet4!$A$2:$A$8408,Sheet3!$B$1,Sheet4!$B$2:$B$8408,Sheet3!$A$3)","v":13},{"$f":"+SUMIFS(Sheet4!$DM$2:$DM$8408,Sheet4!$C$2:$C$8408,Sheet3!$B22,Sheet4!$D$2:$D$8408,Sheet3!M$3,Sheet4!$E$2:$E$8408,Sheet3!M$4,Sheet4!$A$2:$A$8408,Sheet3!$B$1,Sheet4!$B$2:$B$8408,Sheet3!$A$3)","v":0},{"$f":"+SUMIFS(Sheet4!$DM$2:$DM$8408,Sheet4!$C$2:$C$8408,Sheet3!$B22,Sheet4!$D$2:$D$8408,Sheet3!N$3,Sheet4!$E$2:$E$8408,Sheet3!N$4,Sheet4!$A$2:$A$8408,Sheet3!$B$1,Sheet4!$B$2:$B$8408,Sheet3!$A$3)","v":53},{"$f":"+SUMIFS(Sheet4!$DM$2:$DM$8408,Sheet4!$C$2:$C$8408,Sheet3!$B22,Sheet4!$D$2:$D$8408,Sheet3!O$3,Sheet4!$E$2:$E$8408,Sheet3!O$4,Sheet4!$A$2:$A$8408,Sheet3!$B$1,Sheet4!$B$2:$B$8408,Sheet3!$A$3)","v":27},{"$f":"+SUMIFS(Sheet4!$DM$2:$DM$8408,Sheet4!$C$2:$C$8408,Sheet3!$B22,Sheet4!$D$2:$D$8408,Sheet3!P$3,Sheet4!$E$2:$E$8408,Sheet3!P$4,Sheet4!$A$2:$A$8408,Sheet3!$B$1,Sheet4!$B$2:$B$8408,Sheet3!$A$3)","v":8},{"$f":"+SUMIFS(Sheet4!$DM$2:$DM$8408,Sheet4!$C$2:$C$8408,Sheet3!$B22,Sheet4!$D$2:$D$8408,Sheet3!Q$3,Sheet4!$E$2:$E$8408,Sheet3!Q$4,Sheet4!$A$2:$A$8408,Sheet3!$B$1,Sheet4!$B$2:$B$8408,Sheet3!$A$3)","v":0},{"$f":"+SUMIFS(Sheet4!$DM$2:$DM$8408,Sheet4!$C$2:$C$8408,Sheet3!$B22,Sheet4!$D$2:$D$8408,Sheet3!R$3,Sheet4!$E$2:$E$8408,Sheet3!R$4,Sheet4!$A$2:$A$8408,Sheet3!$B$1,Sheet4!$B$2:$B$8408,Sheet3!$A$3)","v":0},{"$f":"+SUMIFS(Sheet4!$DM$2:$DM$8408,Sheet4!$C$2:$C$8408,Sheet3!$B22,Sheet4!$D$2:$D$8408,Sheet3!S$3,Sheet4!$E$2:$E$8408,Sheet3!S$4,Sheet4!$A$2:$A$8408,Sheet3!$B$1,Sheet4!$B$2:$B$8408,Sheet3!$A$3)","v":0},{"$f":"+SUMIFS(Sheet4!$DM$2:$DM$8408,Sheet4!$C$2:$C$8408,Sheet3!$B22,Sheet4!$D$2:$D$8408,Sheet3!T$3,Sheet4!$E$2:$E$8408,Sheet3!T$4,Sheet4!$A$2:$A$8408,Sheet3!$B$1,Sheet4!$B$2:$B$8408,Sheet3!$A$3)","v":0},{"$f":"+SUMIFS(Sheet4!$DM$2:$DM$8408,Sheet4!$C$2:$C$8408,Sheet3!$B22,Sheet4!$D$2:$D$8408,Sheet3!U$3,Sheet4!$E$2:$E$8408,Sheet3!U$4,Sheet4!$A$2:$A$8408,Sheet3!$B$1,Sheet4!$B$2:$B$8408,Sheet3!$A$3)","v":0},{"$f":"+SUMIFS(Sheet4!$DM$2:$DM$8408,Sheet4!$C$2:$C$8408,Sheet3!$B22,Sheet4!$D$2:$D$8408,Sheet3!V$3,Sheet4!$E$2:$E$8408,Sheet3!V$4,Sheet4!$A$2:$A$8408,Sheet3!$B$1,Sheet4!$B$2:$B$8408,Sheet3!$A$3)","v":0},{"$f":"+SUMIFS(Sheet4!$DM$2:$DM$8408,Sheet4!$C$2:$C$8408,Sheet3!$B22,Sheet4!$D$2:$D$8408,Sheet3!W$3,Sheet4!$E$2:$E$8408,Sheet3!W$4,Sheet4!$A$2:$A$8408,Sheet3!$B$1,Sheet4!$B$2:$B$8408,Sheet3!$A$3)","v":0},{"$f":"+SUMIFS(Sheet4!$DM$2:$DM$8408,Sheet4!$C$2:$C$8408,Sheet3!$B22,Sheet4!$D$2:$D$8408,Sheet3!X$3,Sheet4!$E$2:$E$8408,Sheet3!X$4,Sheet4!$A$2:$A$8408,Sheet3!$B$1,Sheet4!$B$2:$B$8408,Sheet3!$A$3)","v":0},{"$f":"+SUMIFS(Sheet4!$DM$2:$DM$8408,Sheet4!$C$2:$C$8408,Sheet3!$B22,Sheet4!$D$2:$D$8408,Sheet3!Y$3,Sheet4!$E$2:$E$8408,Sheet3!Y$4,Sheet4!$A$2:$A$8408,Sheet3!$B$1,Sheet4!$B$2:$B$8408,Sheet3!$A$3)","v":0},{"$f":"+SUMIFS(Sheet4!$DM$2:$DM$8408,Sheet4!$C$2:$C$8408,Sheet3!$B22,Sheet4!$D$2:$D$8408,Sheet3!Z$3,Sheet4!$E$2:$E$8408,Sheet3!Z$4,Sheet4!$A$2:$A$8408,Sheet3!$B$1,Sheet4!$B$2:$B$8408,Sheet3!$A$3)","v":0},{"$f":"+SUMIFS(Sheet4!$DM$2:$DM$8408,Sheet4!$C$2:$C$8408,Sheet3!$B22,Sheet4!$D$2:$D$8408,Sheet3!AA$3,Sheet4!$E$2:$E$8408,Sheet3!AA$4,Sheet4!$A$2:$A$8408,Sheet3!$B$1,Sheet4!$B$2:$B$8408,Sheet3!$A$3)","v":0},{"$f":"+SUMIFS(Sheet4!$DM$2:$DM$8408,Sheet4!$C$2:$C$8408,Sheet3!$B22,Sheet4!$D$2:$D$8408,Sheet3!AB$3,Sheet4!$E$2:$E$8408,Sheet3!AB$4,Sheet4!$A$2:$A$8408,Sheet3!$B$1,Sheet4!$B$2:$B$8408,Sheet3!$A$3)","v":0},{"$f":"+SUMIFS(Sheet4!$DM$2:$DM$8408,Sheet4!$C$2:$C$8408,Sheet3!$B22,Sheet4!$D$2:$D$8408,Sheet3!AC$3,Sheet4!$E$2:$E$8408,Sheet3!AC$4,Sheet4!$A$2:$A$8408,Sheet3!$B$1,Sheet4!$B$2:$B$8408,Sheet3!$A$3)","v":129},{"$f":"+SUMIFS(Sheet4!$DM$2:$DM$8408,Sheet4!$C$2:$C$8408,Sheet3!$B22,Sheet4!$D$2:$D$8408,Sheet3!AD$3,Sheet4!$E$2:$E$8408,Sheet3!AD$4,Sheet4!$A$2:$A$8408,Sheet3!$B$1,Sheet4!$B$2:$B$8408,Sheet3!$A$3)","v":88},{"$f":"+SUMIFS(Sheet4!$DM$2:$DM$8408,Sheet4!$C$2:$C$8408,Sheet3!$B22,Sheet4!$D$2:$D$8408,Sheet3!AE$3,Sheet4!$E$2:$E$8408,Sheet3!AE$4,Sheet4!$A$2:$A$8408,Sheet3!$B$1,Sheet4!$B$2:$B$8408,Sheet3!$A$3)","v":9},{"$f":"+SUMIFS(Sheet4!$DM$2:$DM$8408,Sheet4!$C$2:$C$8408,Sheet3!$B22,Sheet4!$D$2:$D$8408,Sheet3!AF$3,Sheet4!$E$2:$E$8408,Sheet3!AF$4,Sheet4!$A$2:$A$8408,Sheet3!$B$1,Sheet4!$B$2:$B$8408,Sheet3!$A$3)","v":5},{"$f":"+SUMIFS(Sheet4!$DM$2:$DM$8408,Sheet4!$C$2:$C$8408,Sheet3!$B22,Sheet4!$D$2:$D$8408,Sheet3!AG$3,Sheet4!$E$2:$E$8408,Sheet3!AG$4,Sheet4!$A$2:$A$8408,Sheet3!$B$1,Sheet4!$B$2:$B$8408,Sheet3!$A$3)","v":0},{"$f":"+SUMIFS(Sheet4!$DM$2:$DM$8408,Sheet4!$C$2:$C$8408,Sheet3!$B22,Sheet4!$D$2:$D$8408,Sheet3!AH$3,Sheet4!$E$2:$E$8408,Sheet3!AH$4,Sheet4!$A$2:$A$8408,Sheet3!$B$1,Sheet4!$B$2:$B$8408,Sheet3!$A$3)","v":39},{"$f":"+SUMIFS(Sheet4!$DM$2:$DM$8408,Sheet4!$C$2:$C$8408,Sheet3!$B22,Sheet4!$D$2:$D$8408,Sheet3!AI$3,Sheet4!$E$2:$E$8408,Sheet3!AI$4,Sheet4!$A$2:$A$8408,Sheet3!$B$1,Sheet4!$B$2:$B$8408,Sheet3!$A$3)","v":14},{"$f":"+SUMIFS(Sheet4!$DM$2:$DM$8408,Sheet4!$C$2:$C$8408,Sheet3!$B22,Sheet4!$D$2:$D$8408,Sheet3!AJ$3,Sheet4!$E$2:$E$8408,Sheet3!AJ$4,Sheet4!$A$2:$A$8408,Sheet3!$B$1,Sheet4!$B$2:$B$8408,Sheet3!$A$3)","v":6},{"$f":"+SUMIFS(Sheet4!$DM$2:$DM$8408,Sheet4!$C$2:$C$8408,Sheet3!$B22,Sheet4!$D$2:$D$8408,Sheet3!AK$3,Sheet4!$E$2:$E$8408,Sheet3!AK$4,Sheet4!$A$2:$A$8408,Sheet3!$B$1,Sheet4!$B$2:$B$8408,Sheet3!$A$3)","v":0},{"$f":"+SUMIFS(Sheet4!$DM$2:$DM$8408,Sheet4!$C$2:$C$8408,Sheet3!$B22,Sheet4!$D$2:$D$8408,Sheet3!AL$3,Sheet4!$E$2:$E$8408,Sheet3!AL$4,Sheet4!$A$2:$A$8408,Sheet3!$B$1,Sheet4!$B$2:$B$8408,Sheet3!$A$3)","v":0},{"$f":"+SUMIFS(Sheet4!$DM$2:$DM$8408,Sheet4!$C$2:$C$8408,Sheet3!$B22,Sheet4!$D$2:$D$8408,Sheet3!AM$3,Sheet4!$E$2:$E$8408,Sheet3!AM$4,Sheet4!$A$2:$A$8408,Sheet3!$B$1,Sheet4!$B$2:$B$8408,Sheet3!$A$3)","v":70},{"$f":"+SUMIFS(Sheet4!$DM$2:$DM$8408,Sheet4!$C$2:$C$8408,Sheet3!$B22,Sheet4!$D$2:$D$8408,Sheet3!AN$3,Sheet4!$E$2:$E$8408,Sheet3!AN$4,Sheet4!$A$2:$A$8408,Sheet3!$B$1,Sheet4!$B$2:$B$8408,Sheet3!$A$3)","v":170},{"$f":"+SUMIFS(Sheet4!$DM$2:$DM$8408,Sheet4!$C$2:$C$8408,Sheet3!$B22,Sheet4!$D$2:$D$8408,Sheet3!AO$3,Sheet4!$E$2:$E$8408,Sheet3!AO$4,Sheet4!$A$2:$A$8408,Sheet3!$B$1,Sheet4!$B$2:$B$8408,Sheet3!$A$3)","v":73},{"$f":"+SUMIFS(Sheet4!$DM$2:$DM$8408,Sheet4!$C$2:$C$8408,Sheet3!$B22,Sheet4!$D$2:$D$8408,Sheet3!AP$3,Sheet4!$E$2:$E$8408,Sheet3!AP$4,Sheet4!$A$2:$A$8408,Sheet3!$B$1,Sheet4!$B$2:$B$8408,Sheet3!$A$3)","v":29},{"$f":"+SUMIFS(Sheet4!$DM$2:$DM$8408,Sheet4!$C$2:$C$8408,Sheet3!$B22,Sheet4!$D$2:$D$8408,Sheet3!AQ$3,Sheet4!$E$2:$E$8408,Sheet3!AQ$4,Sheet4!$A$2:$A$8408,Sheet3!$B$1,Sheet4!$B$2:$B$8408,Sheet3!$A$3)","v":0},{"$f":"+SUMIFS(Sheet4!$DM$2:$DM$8408,Sheet4!$C$2:$C$8408,Sheet3!$B22,Sheet4!$D$2:$D$8408,Sheet3!AR$3,Sheet4!$E$2:$E$8408,Sheet3!AR$4,Sheet4!$A$2:$A$8408,Sheet3!$B$1,Sheet4!$B$2:$B$8408,Sheet3!$A$3)","v":646},{"$f":"+SUMIFS(Sheet4!$DM$2:$DM$8408,Sheet4!$C$2:$C$8408,Sheet3!$B22,Sheet4!$D$2:$D$8408,Sheet3!AS$3,Sheet4!$E$2:$E$8408,Sheet3!AS$4,Sheet4!$A$2:$A$8408,Sheet3!$B$1,Sheet4!$B$2:$B$8408,Sheet3!$A$3)","v":17},{"$f":"+SUMIFS(Sheet4!$DM$2:$DM$8408,Sheet4!$C$2:$C$8408,Sheet3!$B22,Sheet4!$D$2:$D$8408,Sheet3!AT$3,Sheet4!$E$2:$E$8408,Sheet3!AT$4,Sheet4!$A$2:$A$8408,Sheet3!$B$1,Sheet4!$B$2:$B$8408,Sheet3!$A$3)","v":8},{"$f":"+SUMIFS(Sheet4!$DM$2:$DM$8408,Sheet4!$C$2:$C$8408,Sheet3!$B22,Sheet4!$D$2:$D$8408,Sheet3!AU$3,Sheet4!$E$2:$E$8408,Sheet3!AU$4,Sheet4!$A$2:$A$8408,Sheet3!$B$1,Sheet4!$B$2:$B$8408,Sheet3!$A$3)","v":3},{"$f":"+SUMIFS(Sheet4!$DM$2:$DM$8408,Sheet4!$C$2:$C$8408,Sheet3!$B22,Sheet4!$D$2:$D$8408,Sheet3!AV$3,Sheet4!$E$2:$E$8408,Sheet3!AV$4,Sheet4!$A$2:$A$8408,Sheet3!$B$1,Sheet4!$B$2:$B$8408,Sheet3!$A$3)","v":0},{"$f":"+SUMIFS(Sheet4!$DM$2:$DM$8408,Sheet4!$C$2:$C$8408,Sheet3!$B22,Sheet4!$D$2:$D$8408,Sheet3!AW$3,Sheet4!$E$2:$E$8408,Sheet3!AW$4,Sheet4!$A$2:$A$8408,Sheet3!$B$1,Sheet4!$B$2:$B$8408,Sheet3!$A$3)","v":1348},{"$f":"+SUMIFS(Sheet4!$DM$2:$DM$8408,Sheet4!$C$2:$C$8408,Sheet3!$B22,Sheet4!$D$2:$D$8408,Sheet3!AX$3,Sheet4!$E$2:$E$8408,Sheet3!AX$4,Sheet4!$A$2:$A$8408,Sheet3!$B$1,Sheet4!$B$2:$B$8408,Sheet3!$A$3)","v":276},{"$f":"+SUMIFS(Sheet4!$DM$2:$DM$8408,Sheet4!$C$2:$C$8408,Sheet3!$B22,Sheet4!$D$2:$D$8408,Sheet3!AY$3,Sheet4!$E$2:$E$8408,Sheet3!AY$4,Sheet4!$A$2:$A$8408,Sheet3!$B$1,Sheet4!$B$2:$B$8408,Sheet3!$A$3)","v":24},{"$f":"+SUMIFS(Sheet4!$DM$2:$DM$8408,Sheet4!$C$2:$C$8408,Sheet3!$B22,Sheet4!$D$2:$D$8408,Sheet3!AZ$3,Sheet4!$E$2:$E$8408,Sheet3!AZ$4,Sheet4!$A$2:$A$8408,Sheet3!$B$1,Sheet4!$B$2:$B$8408,Sheet3!$A$3)","v":9},{"$f":"+SUMIFS(Sheet4!$DM$2:$DM$8408,Sheet4!$C$2:$C$8408,Sheet3!$B22,Sheet4!$D$2:$D$8408,Sheet3!BA$3,Sheet4!$E$2:$E$8408,Sheet3!BA$4,Sheet4!$A$2:$A$8408,Sheet3!$B$1,Sheet4!$B$2:$B$8408,Sheet3!$A$3)","v":0},{"$f":"+SUMIFS(Sheet4!$DM$2:$DM$8408,Sheet4!$C$2:$C$8408,Sheet3!$B22,Sheet4!$D$2:$D$8408,Sheet3!BB$3,Sheet4!$E$2:$E$8408,Sheet3!BB$4,Sheet4!$A$2:$A$8408,Sheet3!$B$1,Sheet4!$B$2:$B$8408,Sheet3!$A$3)","v":0},{"$f":"+SUMIFS(Sheet4!$DM$2:$DM$8408,Sheet4!$C$2:$C$8408,Sheet3!$B22,Sheet4!$D$2:$D$8408,Sheet3!BC$3,Sheet4!$E$2:$E$8408,Sheet3!BC$4,Sheet4!$A$2:$A$8408,Sheet3!$B$1,Sheet4!$B$2:$B$8408,Sheet3!$A$3)","v":0},{"$f":"+SUMIFS(Sheet4!$DM$2:$DM$8408,Sheet4!$C$2:$C$8408,Sheet3!$B22,Sheet4!$D$2:$D$8408,Sheet3!BD$3,Sheet4!$E$2:$E$8408,Sheet3!BD$4,Sheet4!$A$2:$A$8408,Sheet3!$B$1,Sheet4!$B$2:$B$8408,Sheet3!$A$3)","v":0},{"$f":"+SUMIFS(Sheet4!$DM$2:$DM$8408,Sheet4!$C$2:$C$8408,Sheet3!$B22,Sheet4!$D$2:$D$8408,Sheet3!BE$3,Sheet4!$E$2:$E$8408,Sheet3!BE$4,Sheet4!$A$2:$A$8408,Sheet3!$B$1,Sheet4!$B$2:$B$8408,Sheet3!$A$3)","v":3},{"$f":"+SUMIFS(Sheet4!$DM$2:$DM$8408,Sheet4!$C$2:$C$8408,Sheet3!$B22,Sheet4!$D$2:$D$8408,Sheet3!BF$3,Sheet4!$E$2:$E$8408,Sheet3!BF$4,Sheet4!$A$2:$A$8408,Sheet3!$B$1,Sheet4!$B$2:$B$8408,Sheet3!$A$3)","v":0},{"$f":"+SUMIFS(Sheet4!$DM$2:$DM$8408,Sheet4!$C$2:$C$8408,Sheet3!$B22,Sheet4!$D$2:$D$8408,Sheet3!BG$3,Sheet4!$E$2:$E$8408,Sheet3!BG$4,Sheet4!$A$2:$A$8408,Sheet3!$B$1,Sheet4!$B$2:$B$8408,Sheet3!$A$3)","v":0},{"$f":"+SUMIFS(Sheet4!$DM$2:$DM$8408,Sheet4!$C$2:$C$8408,Sheet3!$B22,Sheet4!$D$2:$D$8408,Sheet3!BH$3,Sheet4!$E$2:$E$8408,Sheet3!BH$4,Sheet4!$A$2:$A$8408,Sheet3!$B$1,Sheet4!$B$2:$B$8408,Sheet3!$A$3)","v":8},{"$f":"+SUMIFS(Sheet4!$DM$2:$DM$8408,Sheet4!$C$2:$C$8408,Sheet3!$B22,Sheet4!$D$2:$D$8408,Sheet3!BI$3,Sheet4!$E$2:$E$8408,Sheet3!BI$4,Sheet4!$A$2:$A$8408,Sheet3!$B$1,Sheet4!$B$2:$B$8408,Sheet3!$A$3)","v":6},{"$f":"+SUMIFS(Sheet4!$DM$2:$DM$8408,Sheet4!$C$2:$C$8408,Sheet3!$B22,Sheet4!$D$2:$D$8408,Sheet3!BJ$3,Sheet4!$E$2:$E$8408,Sheet3!BJ$4,Sheet4!$A$2:$A$8408,Sheet3!$B$1,Sheet4!$B$2:$B$8408,Sheet3!$A$3)","v":0},{"$f":"+SUMIFS(Sheet4!$DM$2:$DM$8408,Sheet4!$C$2:$C$8408,Sheet3!$B22,Sheet4!$D$2:$D$8408,Sheet3!BK$3,Sheet4!$E$2:$E$8408,Sheet3!BK$4,Sheet4!$A$2:$A$8408,Sheet3!$B$1,Sheet4!$B$2:$B$8408,Sheet3!$A$3)","v":0},{"$f":"+SUMIFS(Sheet4!$DM$2:$DM$8408,Sheet4!$C$2:$C$8408,Sheet3!$B22,Sheet4!$D$2:$D$8408,Sheet3!BL$3,Sheet4!$E$2:$E$8408,Sheet3!BL$4,Sheet4!$A$2:$A$8408,Sheet3!$B$1,Sheet4!$B$2:$B$8408,Sheet3!$A$3)","v":8},{"$f":"+SUMIFS(Sheet4!$DM$2:$DM$8408,Sheet4!$C$2:$C$8408,Sheet3!$B22,Sheet4!$D$2:$D$8408,Sheet3!BM$3,Sheet4!$E$2:$E$8408,Sheet3!BM$4,Sheet4!$A$2:$A$8408,Sheet3!$B$1,Sheet4!$B$2:$B$8408,Sheet3!$A$3)","v":59},{"$f":"+SUMIFS(Sheet4!$DM$2:$DM$8408,Sheet4!$C$2:$C$8408,Sheet3!$B22,Sheet4!$D$2:$D$8408,Sheet3!BN$3,Sheet4!$E$2:$E$8408,Sheet3!BN$4,Sheet4!$A$2:$A$8408,Sheet3!$B$1,Sheet4!$B$2:$B$8408,Sheet3!$A$3)","v":9},{"$f":"+SUMIFS(Sheet4!$DM$2:$DM$8408,Sheet4!$C$2:$C$8408,Sheet3!$B22,Sheet4!$D$2:$D$8408,Sheet3!BO$3,Sheet4!$E$2:$E$8408,Sheet3!BO$4,Sheet4!$A$2:$A$8408,Sheet3!$B$1,Sheet4!$B$2:$B$8408,Sheet3!$A$3)","v":3},{"$f":"+SUMIFS(Sheet4!$DM$2:$DM$8408,Sheet4!$C$2:$C$8408,Sheet3!$B22,Sheet4!$D$2:$D$8408,Sheet3!BP$3,Sheet4!$E$2:$E$8408,Sheet3!BP$4,Sheet4!$A$2:$A$8408,Sheet3!$B$1,Sheet4!$B$2:$B$8408,Sheet3!$A$3)","v":0},{"$f":"+SUMIFS(Sheet4!$DM$2:$DM$8408,Sheet4!$C$2:$C$8408,Sheet3!$B22,Sheet4!$D$2:$D$8408,Sheet3!BQ$3,Sheet4!$E$2:$E$8408,Sheet3!BQ$4,Sheet4!$A$2:$A$8408,Sheet3!$B$1,Sheet4!$B$2:$B$8408,Sheet3!$A$3)","v":0},{"$f":"+SUMIFS(Sheet4!$DM$2:$DM$8408,Sheet4!$C$2:$C$8408,Sheet3!$B22,Sheet4!$D$2:$D$8408,Sheet3!BR$3,Sheet4!$E$2:$E$8408,Sheet3!BR$4,Sheet4!$A$2:$A$8408,Sheet3!$B$1,Sheet4!$B$2:$B$8408,Sheet3!$A$3)","v":5},{"$f":"+SUMIFS(Sheet4!$DM$2:$DM$8408,Sheet4!$C$2:$C$8408,Sheet3!$B22,Sheet4!$D$2:$D$8408,Sheet3!BS$3,Sheet4!$E$2:$E$8408,Sheet3!BS$4,Sheet4!$A$2:$A$8408,Sheet3!$B$1,Sheet4!$B$2:$B$8408,Sheet3!$A$3)","v":0},{"$f":"+SUMIFS(Sheet4!$DM$2:$DM$8408,Sheet4!$C$2:$C$8408,Sheet3!$B22,Sheet4!$D$2:$D$8408,Sheet3!BT$3,Sheet4!$E$2:$E$8408,Sheet3!BT$4,Sheet4!$A$2:$A$8408,Sheet3!$B$1,Sheet4!$B$2:$B$8408,Sheet3!$A$3)","v":0},{"$f":"+SUMIFS(Sheet4!$DM$2:$DM$8408,Sheet4!$C$2:$C$8408,Sheet3!$B22,Sheet4!$D$2:$D$8408,Sheet3!BU$3,Sheet4!$E$2:$E$8408,Sheet3!BU$4,Sheet4!$A$2:$A$8408,Sheet3!$B$1,Sheet4!$B$2:$B$8408,Sheet3!$A$3)","v":0},{"$f":"+SUMIFS(Sheet4!$DM$2:$DM$8408,Sheet4!$C$2:$C$8408,Sheet3!$B22,Sheet4!$D$2:$D$8408,Sheet3!BV$3,Sheet4!$E$2:$E$8408,Sheet3!BV$4,Sheet4!$A$2:$A$8408,Sheet3!$B$1,Sheet4!$B$2:$B$8408,Sheet3!$A$3)","v":245},{"$f":"+SUMIFS(Sheet4!$DM$2:$DM$8408,Sheet4!$C$2:$C$8408,Sheet3!$B22,Sheet4!$D$2:$D$8408,Sheet3!BW$3,Sheet4!$E$2:$E$8408,Sheet3!BW$4,Sheet4!$A$2:$A$8408,Sheet3!$B$1,Sheet4!$B$2:$B$8408,Sheet3!$A$3)","v":111},{"$f":"+SUMIFS(Sheet4!$DM$2:$DM$8408,Sheet4!$C$2:$C$8408,Sheet3!$B22,Sheet4!$D$2:$D$8408,Sheet3!BX$3,Sheet4!$E$2:$E$8408,Sheet3!BX$4,Sheet4!$A$2:$A$8408,Sheet3!$B$1,Sheet4!$B$2:$B$8408,Sheet3!$A$3)","v":27},{"$f":"+SUMIFS(Sheet4!$DM$2:$DM$8408,Sheet4!$C$2:$C$8408,Sheet3!$B22,Sheet4!$D$2:$D$8408,Sheet3!BY$3,Sheet4!$E$2:$E$8408,Sheet3!BY$4,Sheet4!$A$2:$A$8408,Sheet3!$B$1,Sheet4!$B$2:$B$8408,Sheet3!$A$3)","v":0},{"$f":"+SUMIFS(Sheet4!$DM$2:$DM$8408,Sheet4!$C$2:$C$8408,Sheet3!$B22,Sheet4!$D$2:$D$8408,Sheet3!BZ$3,Sheet4!$E$2:$E$8408,Sheet3!BZ$4,Sheet4!$A$2:$A$8408,Sheet3!$B$1,Sheet4!$B$2:$B$8408,Sheet3!$A$3)","v":0},{"$f":"+SUMIFS(Sheet4!$DM$2:$DM$8408,Sheet4!$C$2:$C$8408,Sheet3!$B22,Sheet4!$D$2:$D$8408,Sheet3!CA$3,Sheet4!$E$2:$E$8408,Sheet3!CA$4,Sheet4!$A$2:$A$8408,Sheet3!$B$1,Sheet4!$B$2:$B$8408,Sheet3!$A$3)","v":213},{"$f":"+SUMIFS(Sheet4!$DM$2:$DM$8408,Sheet4!$C$2:$C$8408,Sheet3!$B22,Sheet4!$D$2:$D$8408,Sheet3!CB$3,Sheet4!$E$2:$E$8408,Sheet3!CB$4,Sheet4!$A$2:$A$8408,Sheet3!$B$1,Sheet4!$B$2:$B$8408,Sheet3!$A$3)","v":110},{"$f":"+SUMIFS(Sheet4!$DM$2:$DM$8408,Sheet4!$C$2:$C$8408,Sheet3!$B22,Sheet4!$D$2:$D$8408,Sheet3!CC$3,Sheet4!$E$2:$E$8408,Sheet3!CC$4,Sheet4!$A$2:$A$8408,Sheet3!$B$1,Sheet4!$B$2:$B$8408,Sheet3!$A$3)","v":17},{"$f":"+SUMIFS(Sheet4!$DM$2:$DM$8408,Sheet4!$C$2:$C$8408,Sheet3!$B22,Sheet4!$D$2:$D$8408,Sheet3!CD$3,Sheet4!$E$2:$E$8408,Sheet3!CD$4,Sheet4!$A$2:$A$8408,Sheet3!$B$1,Sheet4!$B$2:$B$8408,Sheet3!$A$3)","v":5},{"$f":"+SUMIFS(Sheet4!$DM$2:$DM$8408,Sheet4!$C$2:$C$8408,Sheet3!$B22,Sheet4!$D$2:$D$8408,Sheet3!CE$3,Sheet4!$E$2:$E$8408,Sheet3!CE$4,Sheet4!$A$2:$A$8408,Sheet3!$B$1,Sheet4!$B$2:$B$8408,Sheet3!$A$3)","v":0},{"$f":"+SUMIFS(Sheet4!$DM$2:$DM$8408,Sheet4!$C$2:$C$8408,Sheet3!$B22,Sheet4!$D$2:$D$8408,Sheet3!CF$3,Sheet4!$E$2:$E$8408,Sheet3!CF$4,Sheet4!$A$2:$A$8408,Sheet3!$B$1,Sheet4!$B$2:$B$8408,Sheet3!$A$3)","v":113},{"$f":"+SUMIFS(Sheet4!$DM$2:$DM$8408,Sheet4!$C$2:$C$8408,Sheet3!$B22,Sheet4!$D$2:$D$8408,Sheet3!CG$3,Sheet4!$E$2:$E$8408,Sheet3!CG$4,Sheet4!$A$2:$A$8408,Sheet3!$B$1,Sheet4!$B$2:$B$8408,Sheet3!$A$3)","v":55},{"$f":"+SUMIFS(Sheet4!$DM$2:$DM$8408,Sheet4!$C$2:$C$8408,Sheet3!$B22,Sheet4!$D$2:$D$8408,Sheet3!CH$3,Sheet4!$E$2:$E$8408,Sheet3!CH$4,Sheet4!$A$2:$A$8408,Sheet3!$B$1,Sheet4!$B$2:$B$8408,Sheet3!$A$3)","v":0},{"$f":"+SUMIFS(Sheet4!$DM$2:$DM$8408,Sheet4!$C$2:$C$8408,Sheet3!$B22,Sheet4!$D$2:$D$8408,Sheet3!CI$3,Sheet4!$E$2:$E$8408,Sheet3!CI$4,Sheet4!$A$2:$A$8408,Sheet3!$B$1,Sheet4!$B$2:$B$8408,Sheet3!$A$3)","v":0},{"$f":"+SUMIFS(Sheet4!$DM$2:$DM$8408,Sheet4!$C$2:$C$8408,Sheet3!$B22,Sheet4!$D$2:$D$8408,Sheet3!CJ$3,Sheet4!$E$2:$E$8408,Sheet3!CJ$4,Sheet4!$A$2:$A$8408,Sheet3!$B$1,Sheet4!$B$2:$B$8408,Sheet3!$A$3)","v":0},{"$f":"+SUMIFS(Sheet4!$DM$2:$DM$8408,Sheet4!$C$2:$C$8408,Sheet3!$B22,Sheet4!$D$2:$D$8408,Sheet3!CK$3,Sheet4!$E$2:$E$8408,Sheet3!CK$4,Sheet4!$A$2:$A$8408,Sheet3!$B$1,Sheet4!$B$2:$B$8408,Sheet3!$A$3)","v":0},{"$f":"+SUMIFS(Sheet4!$DM$2:$DM$8408,Sheet4!$C$2:$C$8408,Sheet3!$B22,Sheet4!$D$2:$D$8408,Sheet3!CL$3,Sheet4!$E$2:$E$8408,Sheet3!CL$4,Sheet4!$A$2:$A$8408,Sheet3!$B$1,Sheet4!$B$2:$B$8408,Sheet3!$A$3)","v":0},{"$f":"+SUMIFS(Sheet4!$DM$2:$DM$8408,Sheet4!$C$2:$C$8408,Sheet3!$B22,Sheet4!$D$2:$D$8408,Sheet3!CM$3,Sheet4!$E$2:$E$8408,Sheet3!CM$4,Sheet4!$A$2:$A$8408,Sheet3!$B$1,Sheet4!$B$2:$B$8408,Sheet3!$A$3)","v":0},{"$f":"+SUMIFS(Sheet4!$DM$2:$DM$8408,Sheet4!$C$2:$C$8408,Sheet3!$B22,Sheet4!$D$2:$D$8408,Sheet3!CN$3,Sheet4!$E$2:$E$8408,Sheet3!CN$4,Sheet4!$A$2:$A$8408,Sheet3!$B$1,Sheet4!$B$2:$B$8408,Sheet3!$A$3)","v":0},{"$f":"+SUMIFS(Sheet4!$DM$2:$DM$8408,Sheet4!$C$2:$C$8408,Sheet3!$B22,Sheet4!$D$2:$D$8408,Sheet3!CO$3,Sheet4!$E$2:$E$8408,Sheet3!CO$4,Sheet4!$A$2:$A$8408,Sheet3!$B$1,Sheet4!$B$2:$B$8408,Sheet3!$A$3)","v":0},{"$f":"+SUMIFS(Sheet4!$DM$2:$DM$8408,Sheet4!$C$2:$C$8408,Sheet3!$B22,Sheet4!$D$2:$D$8408,Sheet3!CP$3,Sheet4!$E$2:$E$8408,Sheet3!CP$4,Sheet4!$A$2:$A$8408,Sheet3!$B$1,Sheet4!$B$2:$B$8408,Sheet3!$A$3)","v":0},{"$f":"+SUMIFS(Sheet4!$DM$2:$DM$8408,Sheet4!$C$2:$C$8408,Sheet3!$B22,Sheet4!$D$2:$D$8408,Sheet3!CQ$3,Sheet4!$E$2:$E$8408,Sheet3!CQ$4,Sheet4!$A$2:$A$8408,Sheet3!$B$1,Sheet4!$B$2:$B$8408,Sheet3!$A$3)","v":0},{"$f":"+SUMIFS(Sheet4!$DM$2:$DM$8408,Sheet4!$C$2:$C$8408,Sheet3!$B22,Sheet4!$D$2:$D$8408,Sheet3!CR$3,Sheet4!$E$2:$E$8408,Sheet3!CR$4,Sheet4!$A$2:$A$8408,Sheet3!$B$1,Sheet4!$B$2:$B$8408,Sheet3!$A$3)","v":0},{"$f":"+SUMIFS(Sheet4!$DM$2:$DM$8408,Sheet4!$C$2:$C$8408,Sheet3!$B22,Sheet4!$D$2:$D$8408,Sheet3!CS$3,Sheet4!$E$2:$E$8408,Sheet3!CS$4,Sheet4!$A$2:$A$8408,Sheet3!$B$1,Sheet4!$B$2:$B$8408,Sheet3!$A$3)","v":0},{"$f":"+SUMIFS(Sheet4!$DM$2:$DM$8408,Sheet4!$C$2:$C$8408,Sheet3!$B22,Sheet4!$D$2:$D$8408,Sheet3!CT$3,Sheet4!$E$2:$E$8408,Sheet3!CT$4,Sheet4!$A$2:$A$8408,Sheet3!$B$1,Sheet4!$B$2:$B$8408,Sheet3!$A$3)","v":0},{"$f":"+IF(SUMIFS(Sheet4!$DN$2:$DN$8408,Sheet4!$C$2:$C$8408,Sheet3!$B22,Sheet4!$D$2:$D$8408,Sheet3!CU$3,Sheet4!$A$2:$A$8408,Sheet3!$B$1,Sheet4!$B$2:$B$8408,Sheet3!$A$3)<3,0,SUMIFS(Sheet4!$DN$2:$DN$8408,Sheet4!$C$2:$C$8408,Sheet3!$B22,Sheet4!$D$2:$D$8408,Sheet3!CU$3,Sheet4!$A$2:$A$8408,Sheet3!$B$1,Sheet4!$B$2:$B$8408,Sheet3!$A$3))","v":8},{"$f":"+IF(SUMIFS(Sheet4!$DN$2:$DN$8408,Sheet4!$C$2:$C$8408,Sheet3!$B22,Sheet4!$D$2:$D$8408,Sheet3!CV$3,Sheet4!$A$2:$A$8408,Sheet3!$B$1,Sheet4!$B$2:$B$8408,Sheet3!$A$3)<3,0,SUMIFS(Sheet4!$DN$2:$DN$8408,Sheet4!$C$2:$C$8408,Sheet3!$B22,Sheet4!$D$2:$D$8408,Sheet3!CV$3,Sheet4!$A$2:$A$8408,Sheet3!$B$1,Sheet4!$B$2:$B$8408,Sheet3!$A$3))","v":64},{"$f":"+IF(SUMIFS(Sheet4!$DN$2:$DN$8408,Sheet4!$C$2:$C$8408,Sheet3!$B22,Sheet4!$D$2:$D$8408,Sheet3!CW$3,Sheet4!$A$2:$A$8408,Sheet3!$B$1,Sheet4!$B$2:$B$8408,Sheet3!$A$3)<3,0,SUMIFS(Sheet4!$DN$2:$DN$8408,Sheet4!$C$2:$C$8408,Sheet3!$B22,Sheet4!$D$2:$D$8408,Sheet3!CW$3,Sheet4!$A$2:$A$8408,Sheet3!$B$1,Sheet4!$B$2:$B$8408,Sheet3!$A$3))","v":93},{"$f":"+IF(SUMIFS(Sheet4!$DN$2:$DN$8408,Sheet4!$C$2:$C$8408,Sheet3!$B22,Sheet4!$D$2:$D$8408,Sheet3!CX$3,Sheet4!$A$2:$A$8408,Sheet3!$B$1,Sheet4!$B$2:$B$8408,Sheet3!$A$3)<3,0,SUMIFS(Sheet4!$DN$2:$DN$8408,Sheet4!$C$2:$C$8408,Sheet3!$B22,Sheet4!$D$2:$D$8408,Sheet3!CX$3,Sheet4!$A$2:$A$8408,Sheet3!$B$1,Sheet4!$B$2:$B$8408,Sheet3!$A$3))","v":0},{"$f":"+IF(SUMIFS(Sheet4!$DN$2:$DN$8408,Sheet4!$C$2:$C$8408,Sheet3!$B22,Sheet4!$D$2:$D$8408,Sheet3!CY$3,Sheet4!$A$2:$A$8408,Sheet3!$B$1,Sheet4!$B$2:$B$8408,Sheet3!$A$3)<3,0,SUMIFS(Sheet4!$DN$2:$DN$8408,Sheet4!$C$2:$C$8408,Sheet3!$B22,Sheet4!$D$2:$D$8408,Sheet3!CY$3,Sheet4!$A$2:$A$8408,Sheet3!$B$1,Sheet4!$B$2:$B$8408,Sheet3!$A$3))","v":3},{"$f":"+IF(SUMIFS(Sheet4!$DN$2:$DN$8408,Sheet4!$C$2:$C$8408,Sheet3!$B22,Sheet4!$D$2:$D$8408,Sheet3!CZ$3,Sheet4!$A$2:$A$8408,Sheet3!$B$1,Sheet4!$B$2:$B$8408,Sheet3!$A$3)<3,0,SUMIFS(Sheet4!$DN$2:$DN$8408,Sheet4!$C$2:$C$8408,Sheet3!$B22,Sheet4!$D$2:$D$8408,Sheet3!CZ$3,Sheet4!$A$2:$A$8408,Sheet3!$B$1,Sheet4!$B$2:$B$8408,Sheet3!$A$3))","v":235},{"$f":"+IF(SUMIFS(Sheet4!$DN$2:$DN$8408,Sheet4!$C$2:$C$8408,Sheet3!$B22,Sheet4!$D$2:$D$8408,Sheet3!DA$3,Sheet4!$A$2:$A$8408,Sheet3!$B$1,Sheet4!$B$2:$B$8408,Sheet3!$A$3)<3,0,SUMIFS(Sheet4!$DN$2:$DN$8408,Sheet4!$C$2:$C$8408,Sheet3!$B22,Sheet4!$D$2:$D$8408,Sheet3!DA$3,Sheet4!$A$2:$A$8408,Sheet3!$B$1,Sheet4!$B$2:$B$8408,Sheet3!$A$3))","v":63},{"$f":"+IF(SUMIFS(Sheet4!$DN$2:$DN$8408,Sheet4!$C$2:$C$8408,Sheet3!$B22,Sheet4!$D$2:$D$8408,Sheet3!DB$3,Sheet4!$A$2:$A$8408,Sheet3!$B$1,Sheet4!$B$2:$B$8408,Sheet3!$A$3)<3,0,SUMIFS(Sheet4!$DN$2:$DN$8408,Sheet4!$C$2:$C$8408,Sheet3!$B22,Sheet4!$D$2:$D$8408,Sheet3!DB$3,Sheet4!$A$2:$A$8408,Sheet3!$B$1,Sheet4!$B$2:$B$8408,Sheet3!$A$3))","v":346},{"$f":"+IF(SUMIFS(Sheet4!$DN$2:$DN$8408,Sheet4!$C$2:$C$8408,Sheet3!$B22,Sheet4!$D$2:$D$8408,Sheet3!DC$3,Sheet4!$A$2:$A$8408,Sheet3!$B$1,Sheet4!$B$2:$B$8408,Sheet3!$A$3)<3,0,SUMIFS(Sheet4!$DN$2:$DN$8408,Sheet4!$C$2:$C$8408,Sheet3!$B22,Sheet4!$D$2:$D$8408,Sheet3!DC$3,Sheet4!$A$2:$A$8408,Sheet3!$B$1,Sheet4!$B$2:$B$8408,Sheet3!$A$3))","v":678},{"$f":"+IF(SUMIFS(Sheet4!$DN$2:$DN$8408,Sheet4!$C$2:$C$8408,Sheet3!$B22,Sheet4!$D$2:$D$8408,Sheet3!DD$3,Sheet4!$A$2:$A$8408,Sheet3!$B$1,Sheet4!$B$2:$B$8408,Sheet3!$A$3)<3,0,SUMIFS(Sheet4!$DN$2:$DN$8408,Sheet4!$C$2:$C$8408,Sheet3!$B22,Sheet4!$D$2:$D$8408,Sheet3!DD$3,Sheet4!$A$2:$A$8408,Sheet3!$B$1,Sheet4!$B$2:$B$8408,Sheet3!$A$3))","v":1659},{"$f":"+IF(SUMIFS(Sheet4!$DN$2:$DN$8408,Sheet4!$C$2:$C$8408,Sheet3!$B22,Sheet4!$D$2:$D$8408,Sheet3!DE$3,Sheet4!$A$2:$A$8408,Sheet3!$B$1,Sheet4!$B$2:$B$8408,Sheet3!$A$3)<3,0,SUMIFS(Sheet4!$DN$2:$DN$8408,Sheet4!$C$2:$C$8408,Sheet3!$B22,Sheet4!$D$2:$D$8408,Sheet3!DE$3,Sheet4!$A$2:$A$8408,Sheet3!$B$1,Sheet4!$B$2:$B$8408,Sheet3!$A$3))","v":8},{"$f":"+IF(SUMIFS(Sheet4!$DN$2:$DN$8408,Sheet4!$C$2:$C$8408,Sheet3!$B22,Sheet4!$D$2:$D$8408,Sheet3!DF$3,Sheet4!$A$2:$A$8408,Sheet3!$B$1,Sheet4!$B$2:$B$8408,Sheet3!$A$3)<3,0,SUMIFS(Sheet4!$DN$2:$DN$8408,Sheet4!$C$2:$C$8408,Sheet3!$B22,Sheet4!$D$2:$D$8408,Sheet3!DF$3,Sheet4!$A$2:$A$8408,Sheet3!$B$1,Sheet4!$B$2:$B$8408,Sheet3!$A$3))","v":21},{"$f":"+IF(SUMIFS(Sheet4!$DN$2:$DN$8408,Sheet4!$C$2:$C$8408,Sheet3!$B22,Sheet4!$D$2:$D$8408,Sheet3!DG$3,Sheet4!$A$2:$A$8408,Sheet3!$B$1,Sheet4!$B$2:$B$8408,Sheet3!$A$3)<3,0,SUMIFS(Sheet4!$DN$2:$DN$8408,Sheet4!$C$2:$C$8408,Sheet3!$B22,Sheet4!$D$2:$D$8408,Sheet3!DG$3,Sheet4!$A$2:$A$8408,Sheet3!$B$1,Sheet4!$B$2:$B$8408,Sheet3!$A$3))","v":83},{"$f":"+IF(SUMIFS(Sheet4!$DN$2:$DN$8408,Sheet4!$C$2:$C$8408,Sheet3!$B22,Sheet4!$D$2:$D$8408,Sheet3!DH$3,Sheet4!$A$2:$A$8408,Sheet3!$B$1,Sheet4!$B$2:$B$8408,Sheet3!$A$3)<3,0,SUMIFS(Sheet4!$DN$2:$DN$8408,Sheet4!$C$2:$C$8408,Sheet3!$B22,Sheet4!$D$2:$D$8408,Sheet3!DH$3,Sheet4!$A$2:$A$8408,Sheet3!$B$1,Sheet4!$B$2:$B$8408,Sheet3!$A$3))","v":9},{"$f":"+IF(SUMIFS(Sheet4!$DN$2:$DN$8408,Sheet4!$C$2:$C$8408,Sheet3!$B22,Sheet4!$D$2:$D$8408,Sheet3!DI$3,Sheet4!$A$2:$A$8408,Sheet3!$B$1,Sheet4!$B$2:$B$8408,Sheet3!$A$3)<3,0,SUMIFS(Sheet4!$DN$2:$DN$8408,Sheet4!$C$2:$C$8408,Sheet3!$B22,Sheet4!$D$2:$D$8408,Sheet3!DI$3,Sheet4!$A$2:$A$8408,Sheet3!$B$1,Sheet4!$B$2:$B$8408,Sheet3!$A$3))","v":386},{"$f":"+IF(SUMIFS(Sheet4!$DN$2:$DN$8408,Sheet4!$C$2:$C$8408,Sheet3!$B22,Sheet4!$D$2:$D$8408,Sheet3!DJ$3,Sheet4!$A$2:$A$8408,Sheet3!$B$1,Sheet4!$B$2:$B$8408,Sheet3!$A$3)<3,0,SUMIFS(Sheet4!$DN$2:$DN$8408,Sheet4!$C$2:$C$8408,Sheet3!$B22,Sheet4!$D$2:$D$8408,Sheet3!DJ$3,Sheet4!$A$2:$A$8408,Sheet3!$B$1,Sheet4!$B$2:$B$8408,Sheet3!$A$3))","v":349},{"$f":"+IF(SUMIFS(Sheet4!$DN$2:$DN$8408,Sheet4!$C$2:$C$8408,Sheet3!$B22,Sheet4!$D$2:$D$8408,Sheet3!DK$3,Sheet4!$A$2:$A$8408,Sheet3!$B$1,Sheet4!$B$2:$B$8408,Sheet3!$A$3)<3,0,SUMIFS(Sheet4!$DN$2:$DN$8408,Sheet4!$C$2:$C$8408,Sheet3!$B22,Sheet4!$D$2:$D$8408,Sheet3!DK$3,Sheet4!$A$2:$A$8408,Sheet3!$B$1,Sheet4!$B$2:$B$8408,Sheet3!$A$3))","v":172},{"$f":"+IF(SUMIFS(Sheet4!$DN$2:$DN$8408,Sheet4!$C$2:$C$8408,Sheet3!$B22,Sheet4!$D$2:$D$8408,Sheet3!DL$3,Sheet4!$A$2:$A$8408,Sheet3!$B$1,Sheet4!$B$2:$B$8408,Sheet3!$A$3)<3,0,SUMIFS(Sheet4!$DN$2:$DN$8408,Sheet4!$C$2:$C$8408,Sheet3!$B22,Sheet4!$D$2:$D$8408,Sheet3!DL$3,Sheet4!$A$2:$A$8408,Sheet3!$B$1,Sheet4!$B$2:$B$8408,Sheet3!$A$3))","v":0},{"$f":"+IF(SUMIFS(Sheet4!$DN$2:$DN$8408,Sheet4!$C$2:$C$8408,Sheet3!$B22,Sheet4!$D$2:$D$8408,Sheet3!DM$3,Sheet4!$A$2:$A$8408,Sheet3!$B$1,Sheet4!$B$2:$B$8408,Sheet3!$A$3)<3,0,SUMIFS(Sheet4!$DN$2:$DN$8408,Sheet4!$C$2:$C$8408,Sheet3!$B22,Sheet4!$D$2:$D$8408,Sheet3!DM$3,Sheet4!$A$2:$A$8408,Sheet3!$B$1,Sheet4!$B$2:$B$8408,Sheet3!$A$3))","v":0},{"$f":"+IF(SUMIFS(Sheet4!$DN$2:$DN$8408,Sheet4!$C$2:$C$8408,Sheet3!$B22,Sheet4!$E$2:$E$8408,Sheet3!DN$4,Sheet4!$A$2:$A$8408,Sheet3!$B$1,Sheet4!$B$2:$B$8408,Sheet3!$A$3)<3,0,SUMIFS(Sheet4!$DN$2:$DN$8408,Sheet4!$C$2:$C$8408,Sheet3!$B22,Sheet4!$E$2:$E$8408,Sheet3!DN$4,Sheet4!$A$2:$A$8408,Sheet3!$B$1,Sheet4!$B$2:$B$8408,Sheet3!$A$3))","v":2883},{"$f":"+IF(SUMIFS(Sheet4!$DN$2:$DN$8408,Sheet4!$C$2:$C$8408,Sheet3!$B22,Sheet4!$E$2:$E$8408,Sheet3!DO$4,Sheet4!$A$2:$A$8408,Sheet3!$B$1,Sheet4!$B$2:$B$8408,Sheet3!$A$3)<3,0,SUMIFS(Sheet4!$DN$2:$DN$8408,Sheet4!$C$2:$C$8408,Sheet3!$B22,Sheet4!$E$2:$E$8408,Sheet3!DO$4,Sheet4!$A$2:$A$8408,Sheet3!$B$1,Sheet4!$B$2:$B$8408,Sheet3!$A$3))","v":977},{"$f":"+IF(SUMIFS(Sheet4!$DN$2:$DN$8408,Sheet4!$C$2:$C$8408,Sheet3!$B22,Sheet4!$E$2:$E$8408,Sheet3!DP$4,Sheet4!$A$2:$A$8408,Sheet3!$B$1,Sheet4!$B$2:$B$8408,Sheet3!$A$3)<3,0,SUMIFS(Sheet4!$DN$2:$DN$8408,Sheet4!$C$2:$C$8408,Sheet3!$B22,Sheet4!$E$2:$E$8408,Sheet3!DP$4,Sheet4!$A$2:$A$8408,Sheet3!$B$1,Sheet4!$B$2:$B$8408,Sheet3!$A$3))","v":227},{"$f":"+IF(SUMIFS(Sheet4!$DN$2:$DN$8408,Sheet4!$C$2:$C$8408,Sheet3!$B22,Sheet4!$E$2:$E$8408,Sheet3!DQ$4,Sheet4!$A$2:$A$8408,Sheet3!$B$1,Sheet4!$B$2:$B$8408,Sheet3!$A$3)<3,0,SUMIFS(Sheet4!$DN$2:$DN$8408,Sheet4!$C$2:$C$8408,Sheet3!$B22,Sheet4!$E$2:$E$8408,Sheet3!DQ$4,Sheet4!$A$2:$A$8408,Sheet3!$B$1,Sheet4!$B$2:$B$8408,Sheet3!$A$3))","v":84},{"$f":"+IF(SUMIFS(Sheet4!$DN$2:$DN$8408,Sheet4!$C$2:$C$8408,Sheet3!$B22,Sheet4!$E$2:$E$8408,Sheet3!DR$4,Sheet4!$A$2:$A$8408,Sheet3!$B$1,Sheet4!$B$2:$B$8408,Sheet3!$A$3)<3,0,SUMIFS(Sheet4!$DN$2:$DN$8408,Sheet4!$C$2:$C$8408,Sheet3!$B22,Sheet4!$E$2:$E$8408,Sheet3!DR$4,Sheet4!$A$2:$A$8408,Sheet3!$B$1,Sheet4!$B$2:$B$8408,Sheet3!$A$3))","v":6}]
[4,"16J","Beiras e Serra da Estrela",{"$f":"+SUMIFS(Sheet4!$DM$2:$DM$8408,Sheet4!$C$2:$C$8408,Sheet3!$B23,Sheet4!$D$2:$D$8408,Sheet3!D$3,Sheet4!$E$2:$E$8408,Sheet3!D$4,Sheet4!$A$2:$A$8408,Sheet3!$B$1,Sheet4!$B$2:$B$8408,Sheet3!$A$3)","v":4},{"$f":"+SUMIFS(Sheet4!$DM$2:$DM$8408,Sheet4!$C$2:$C$8408,Sheet3!$B23,Sheet4!$D$2:$D$8408,Sheet3!E$3,Sheet4!$E$2:$E$8408,Sheet3!E$4,Sheet4!$A$2:$A$8408,Sheet3!$B$1,Sheet4!$B$2:$B$8408,Sheet3!$A$3)","v":3},{"$f":"+SUMIFS(Sheet4!$DM$2:$DM$8408,Sheet4!$C$2:$C$8408,Sheet3!$B23,Sheet4!$D$2:$D$8408,Sheet3!F$3,Sheet4!$E$2:$E$8408,Sheet3!F$4,Sheet4!$A$2:$A$8408,Sheet3!$B$1,Sheet4!$B$2:$B$8408,Sheet3!$A$3)","v":3},{"$f":"+SUMIFS(Sheet4!$DM$2:$DM$8408,Sheet4!$C$2:$C$8408,Sheet3!$B23,Sheet4!$D$2:$D$8408,Sheet3!G$3,Sheet4!$E$2:$E$8408,Sheet3!G$4,Sheet4!$A$2:$A$8408,Sheet3!$B$1,Sheet4!$B$2:$B$8408,Sheet3!$A$3)","v":6},{"$f":"+SUMIFS(Sheet4!$DM$2:$DM$8408,Sheet4!$C$2:$C$8408,Sheet3!$B23,Sheet4!$D$2:$D$8408,Sheet3!H$3,Sheet4!$E$2:$E$8408,Sheet3!H$4,Sheet4!$A$2:$A$8408,Sheet3!$B$1,Sheet4!$B$2:$B$8408,Sheet3!$A$3)","v":0},{"$f":"+SUMIFS(Sheet4!$DM$2:$DM$8408,Sheet4!$C$2:$C$8408,Sheet3!$B23,Sheet4!$D$2:$D$8408,Sheet3!I$3,Sheet4!$E$2:$E$8408,Sheet3!I$4,Sheet4!$A$2:$A$8408,Sheet3!$B$1,Sheet4!$B$2:$B$8408,Sheet3!$A$3)","v":49},{"$f":"+SUMIFS(Sheet4!$DM$2:$DM$8408,Sheet4!$C$2:$C$8408,Sheet3!$B23,Sheet4!$D$2:$D$8408,Sheet3!J$3,Sheet4!$E$2:$E$8408,Sheet3!J$4,Sheet4!$A$2:$A$8408,Sheet3!$B$1,Sheet4!$B$2:$B$8408,Sheet3!$A$3)","v":19},{"$f":"+SUMIFS(Sheet4!$DM$2:$DM$8408,Sheet4!$C$2:$C$8408,Sheet3!$B23,Sheet4!$D$2:$D$8408,Sheet3!K$3,Sheet4!$E$2:$E$8408,Sheet3!K$4,Sheet4!$A$2:$A$8408,Sheet3!$B$1,Sheet4!$B$2:$B$8408,Sheet3!$A$3)","v":4},{"$f":"+SUMIFS(Sheet4!$DM$2:$DM$8408,Sheet4!$C$2:$C$8408,Sheet3!$B23,Sheet4!$D$2:$D$8408,Sheet3!L$3,Sheet4!$E$2:$E$8408,Sheet3!L$4,Sheet4!$A$2:$A$8408,Sheet3!$B$1,Sheet4!$B$2:$B$8408,Sheet3!$A$3)","v":3},{"$f":"+SUMIFS(Sheet4!$DM$2:$DM$8408,Sheet4!$C$2:$C$8408,Sheet3!$B23,Sheet4!$D$2:$D$8408,Sheet3!M$3,Sheet4!$E$2:$E$8408,Sheet3!M$4,Sheet4!$A$2:$A$8408,Sheet3!$B$1,Sheet4!$B$2:$B$8408,Sheet3!$A$3)","v":0},{"$f":"+SUMIFS(Sheet4!$DM$2:$DM$8408,Sheet4!$C$2:$C$8408,Sheet3!$B23,Sheet4!$D$2:$D$8408,Sheet3!N$3,Sheet4!$E$2:$E$8408,Sheet3!N$4,Sheet4!$A$2:$A$8408,Sheet3!$B$1,Sheet4!$B$2:$B$8408,Sheet3!$A$3)","v":828},{"$f":"+SUMIFS(Sheet4!$DM$2:$DM$8408,Sheet4!$C$2:$C$8408,Sheet3!$B23,Sheet4!$D$2:$D$8408,Sheet3!O$3,Sheet4!$E$2:$E$8408,Sheet3!O$4,Sheet4!$A$2:$A$8408,Sheet3!$B$1,Sheet4!$B$2:$B$8408,Sheet3!$A$3)","v":109},{"$f":"+SUMIFS(Sheet4!$DM$2:$DM$8408,Sheet4!$C$2:$C$8408,Sheet3!$B23,Sheet4!$D$2:$D$8408,Sheet3!P$3,Sheet4!$E$2:$E$8408,Sheet3!P$4,Sheet4!$A$2:$A$8408,Sheet3!$B$1,Sheet4!$B$2:$B$8408,Sheet3!$A$3)","v":8},{"$f":"+SUMIFS(Sheet4!$DM$2:$DM$8408,Sheet4!$C$2:$C$8408,Sheet3!$B23,Sheet4!$D$2:$D$8408,Sheet3!Q$3,Sheet4!$E$2:$E$8408,Sheet3!Q$4,Sheet4!$A$2:$A$8408,Sheet3!$B$1,Sheet4!$B$2:$B$8408,Sheet3!$A$3)","v":0},{"$f":"+SUMIFS(Sheet4!$DM$2:$DM$8408,Sheet4!$C$2:$C$8408,Sheet3!$B23,Sheet4!$D$2:$D$8408,Sheet3!R$3,Sheet4!$E$2:$E$8408,Sheet3!R$4,Sheet4!$A$2:$A$8408,Sheet3!$B$1,Sheet4!$B$2:$B$8408,Sheet3!$A$3)","v":0},{"$f":"+SUMIFS(Sheet4!$DM$2:$DM$8408,Sheet4!$C$2:$C$8408,Sheet3!$B23,Sheet4!$D$2:$D$8408,Sheet3!S$3,Sheet4!$E$2:$E$8408,Sheet3!S$4,Sheet4!$A$2:$A$8408,Sheet3!$B$1,Sheet4!$B$2:$B$8408,Sheet3!$A$3)","v":0},{"$f":"+SUMIFS(Sheet4!$DM$2:$DM$8408,Sheet4!$C$2:$C$8408,Sheet3!$B23,Sheet4!$D$2:$D$8408,Sheet3!T$3,Sheet4!$E$2:$E$8408,Sheet3!T$4,Sheet4!$A$2:$A$8408,Sheet3!$B$1,Sheet4!$B$2:$B$8408,Sheet3!$A$3)","v":0},{"$f":"+SUMIFS(Sheet4!$DM$2:$DM$8408,Sheet4!$C$2:$C$8408,Sheet3!$B23,Sheet4!$D$2:$D$8408,Sheet3!U$3,Sheet4!$E$2:$E$8408,Sheet3!U$4,Sheet4!$A$2:$A$8408,Sheet3!$B$1,Sheet4!$B$2:$B$8408,Sheet3!$A$3)","v":0},{"$f":"+SUMIFS(Sheet4!$DM$2:$DM$8408,Sheet4!$C$2:$C$8408,Sheet3!$B23,Sheet4!$D$2:$D$8408,Sheet3!V$3,Sheet4!$E$2:$E$8408,Sheet3!V$4,Sheet4!$A$2:$A$8408,Sheet3!$B$1,Sheet4!$B$2:$B$8408,Sheet3!$A$3)","v":0},{"$f":"+SUMIFS(Sheet4!$DM$2:$DM$8408,Sheet4!$C$2:$C$8408,Sheet3!$B23,Sheet4!$D$2:$D$8408,Sheet3!W$3,Sheet4!$E$2:$E$8408,Sheet3!W$4,Sheet4!$A$2:$A$8408,Sheet3!$B$1,Sheet4!$B$2:$B$8408,Sheet3!$A$3)","v":0},{"$f":"+SUMIFS(Sheet4!$DM$2:$DM$8408,Sheet4!$C$2:$C$8408,Sheet3!$B23,Sheet4!$D$2:$D$8408,Sheet3!X$3,Sheet4!$E$2:$E$8408,Sheet3!X$4,Sheet4!$A$2:$A$8408,Sheet3!$B$1,Sheet4!$B$2:$B$8408,Sheet3!$A$3)","v":0},{"$f":"+SUMIFS(Sheet4!$DM$2:$DM$8408,Sheet4!$C$2:$C$8408,Sheet3!$B23,Sheet4!$D$2:$D$8408,Sheet3!Y$3,Sheet4!$E$2:$E$8408,Sheet3!Y$4,Sheet4!$A$2:$A$8408,Sheet3!$B$1,Sheet4!$B$2:$B$8408,Sheet3!$A$3)","v":0},{"$f":"+SUMIFS(Sheet4!$DM$2:$DM$8408,Sheet4!$C$2:$C$8408,Sheet3!$B23,Sheet4!$D$2:$D$8408,Sheet3!Z$3,Sheet4!$E$2:$E$8408,Sheet3!Z$4,Sheet4!$A$2:$A$8408,Sheet3!$B$1,Sheet4!$B$2:$B$8408,Sheet3!$A$3)","v":0},{"$f":"+SUMIFS(Sheet4!$DM$2:$DM$8408,Sheet4!$C$2:$C$8408,Sheet3!$B23,Sheet4!$D$2:$D$8408,Sheet3!AA$3,Sheet4!$E$2:$E$8408,Sheet3!AA$4,Sheet4!$A$2:$A$8408,Sheet3!$B$1,Sheet4!$B$2:$B$8408,Sheet3!$A$3)","v":0},{"$f":"+SUMIFS(Sheet4!$DM$2:$DM$8408,Sheet4!$C$2:$C$8408,Sheet3!$B23,Sheet4!$D$2:$D$8408,Sheet3!AB$3,Sheet4!$E$2:$E$8408,Sheet3!AB$4,Sheet4!$A$2:$A$8408,Sheet3!$B$1,Sheet4!$B$2:$B$8408,Sheet3!$A$3)","v":0},{"$f":"+SUMIFS(Sheet4!$DM$2:$DM$8408,Sheet4!$C$2:$C$8408,Sheet3!$B23,Sheet4!$D$2:$D$8408,Sheet3!AC$3,Sheet4!$E$2:$E$8408,Sheet3!AC$4,Sheet4!$A$2:$A$8408,Sheet3!$B$1,Sheet4!$B$2:$B$8408,Sheet3!$A$3)","v":1099},{"$f":"+SUMIFS(Sheet4!$DM$2:$DM$8408,Sheet4!$C$2:$C$8408,Sheet3!$B23,Sheet4!$D$2:$D$8408,Sheet3!AD$3,Sheet4!$E$2:$E$8408,Sheet3!AD$4,Sheet4!$A$2:$A$8408,Sheet3!$B$1,Sheet4!$B$2:$B$8408,Sheet3!$A$3)","v":587},{"$f":"+SUMIFS(Sheet4!$DM$2:$DM$8408,Sheet4!$C$2:$C$8408,Sheet3!$B23,Sheet4!$D$2:$D$8408,Sheet3!AE$3,Sheet4!$E$2:$E$8408,Sheet3!AE$4,Sheet4!$A$2:$A$8408,Sheet3!$B$1,Sheet4!$B$2:$B$8408,Sheet3!$A$3)","v":41},{"$f":"+SUMIFS(Sheet4!$DM$2:$DM$8408,Sheet4!$C$2:$C$8408,Sheet3!$B23,Sheet4!$D$2:$D$8408,Sheet3!AF$3,Sheet4!$E$2:$E$8408,Sheet3!AF$4,Sheet4!$A$2:$A$8408,Sheet3!$B$1,Sheet4!$B$2:$B$8408,Sheet3!$A$3)","v":6},{"$f":"+SUMIFS(Sheet4!$DM$2:$DM$8408,Sheet4!$C$2:$C$8408,Sheet3!$B23,Sheet4!$D$2:$D$8408,Sheet3!AG$3,Sheet4!$E$2:$E$8408,Sheet3!AG$4,Sheet4!$A$2:$A$8408,Sheet3!$B$1,Sheet4!$B$2:$B$8408,Sheet3!$A$3)","v":0},{"$f":"+SUMIFS(Sheet4!$DM$2:$DM$8408,Sheet4!$C$2:$C$8408,Sheet3!$B23,Sheet4!$D$2:$D$8408,Sheet3!AH$3,Sheet4!$E$2:$E$8408,Sheet3!AH$4,Sheet4!$A$2:$A$8408,Sheet3!$B$1,Sheet4!$B$2:$B$8408,Sheet3!$A$3)","v":316},{"$f":"+SUMIFS(Sheet4!$DM$2:$DM$8408,Sheet4!$C$2:$C$8408,Sheet3!$B23,Sheet4!$D$2:$D$8408,Sheet3!AI$3,Sheet4!$E$2:$E$8408,Sheet3!AI$4,Sheet4!$A$2:$A$8408,Sheet3!$B$1,Sheet4!$B$2:$B$8408,Sheet3!$A$3)","v":175},{"$f":"+SUMIFS(Sheet4!$DM$2:$DM$8408,Sheet4!$C$2:$C$8408,Sheet3!$B23,Sheet4!$D$2:$D$8408,Sheet3!AJ$3,Sheet4!$E$2:$E$8408,Sheet3!AJ$4,Sheet4!$A$2:$A$8408,Sheet3!$B$1,Sheet4!$B$2:$B$8408,Sheet3!$A$3)","v":24},{"$f":"+SUMIFS(Sheet4!$DM$2:$DM$8408,Sheet4!$C$2:$C$8408,Sheet3!$B23,Sheet4!$D$2:$D$8408,Sheet3!AK$3,Sheet4!$E$2:$E$8408,Sheet3!AK$4,Sheet4!$A$2:$A$8408,Sheet3!$B$1,Sheet4!$B$2:$B$8408,Sheet3!$A$3)","v":0},{"$f":"+SUMIFS(Sheet4!$DM$2:$DM$8408,Sheet4!$C$2:$C$8408,Sheet3!$B23,Sheet4!$D$2:$D$8408,Sheet3!AL$3,Sheet4!$E$2:$E$8408,Sheet3!AL$4,Sheet4!$A$2:$A$8408,Sheet3!$B$1,Sheet4!$B$2:$B$8408,Sheet3!$A$3)","v":0},{"$f":"+SUMIFS(Sheet4!$DM$2:$DM$8408,Sheet4!$C$2:$C$8408,Sheet3!$B23,Sheet4!$D$2:$D$8408,Sheet3!AM$3,Sheet4!$E$2:$E$8408,Sheet3!AM$4,Sheet4!$A$2:$A$8408,Sheet3!$B$1,Sheet4!$B$2:$B$8408,Sheet3!$A$3)","v":574},{"$f":"+SUMIFS(Sheet4!$DM$2:$DM$8408,Sheet4!$C$2:$C$8408,Sheet3!$B23,Sheet4!$D$2:$D$8408,Sheet3!AN$3,Sheet4!$E$2:$E$8408,Sheet3!AN$4,Sheet4!$A$2:$A$8408,Sheet3!$B$1,Sheet4!$B$2:$B$8408,Sheet3!$A$3)","v":496},{"$f":"+SUMIFS(Sheet4!$DM$2:$DM$8408,Sheet4!$C$2:$C$8408,Sheet3!$B23,Sheet4!$D$2:$D$8408,Sheet3!AO$3,Sheet4!$E$2:$E$8408,Sheet3!AO$4,Sheet4!$A$2:$A$8408,Sheet3!$B$1,Sheet4!$B$2:$B$8408,Sheet3!$A$3)","v":287},{"$f":"+SUMIFS(Sheet4!$DM$2:$DM$8408,Sheet4!$C$2:$C$8408,Sheet3!$B23,Sheet4!$D$2:$D$8408,Sheet3!AP$3,Sheet4!$E$2:$E$8408,Sheet3!AP$4,Sheet4!$A$2:$A$8408,Sheet3!$B$1,Sheet4!$B$2:$B$8408,Sheet3!$A$3)","v":71},{"$f":"+SUMIFS(Sheet4!$DM$2:$DM$8408,Sheet4!$C$2:$C$8408,Sheet3!$B23,Sheet4!$D$2:$D$8408,Sheet3!AQ$3,Sheet4!$E$2:$E$8408,Sheet3!AQ$4,Sheet4!$A$2:$A$8408,Sheet3!$B$1,Sheet4!$B$2:$B$8408,Sheet3!$A$3)","v":7},{"$f":"+SUMIFS(Sheet4!$DM$2:$DM$8408,Sheet4!$C$2:$C$8408,Sheet3!$B23,Sheet4!$D$2:$D$8408,Sheet3!AR$3,Sheet4!$E$2:$E$8408,Sheet3!AR$4,Sheet4!$A$2:$A$8408,Sheet3!$B$1,Sheet4!$B$2:$B$8408,Sheet3!$A$3)","v":576},{"$f":"+SUMIFS(Sheet4!$DM$2:$DM$8408,Sheet4!$C$2:$C$8408,Sheet3!$B23,Sheet4!$D$2:$D$8408,Sheet3!AS$3,Sheet4!$E$2:$E$8408,Sheet3!AS$4,Sheet4!$A$2:$A$8408,Sheet3!$B$1,Sheet4!$B$2:$B$8408,Sheet3!$A$3)","v":23},{"$f":"+SUMIFS(Sheet4!$DM$2:$DM$8408,Sheet4!$C$2:$C$8408,Sheet3!$B23,Sheet4!$D$2:$D$8408,Sheet3!AT$3,Sheet4!$E$2:$E$8408,Sheet3!AT$4,Sheet4!$A$2:$A$8408,Sheet3!$B$1,Sheet4!$B$2:$B$8408,Sheet3!$A$3)","v":4},{"$f":"+SUMIFS(Sheet4!$DM$2:$DM$8408,Sheet4!$C$2:$C$8408,Sheet3!$B23,Sheet4!$D$2:$D$8408,Sheet3!AU$3,Sheet4!$E$2:$E$8408,Sheet3!AU$4,Sheet4!$A$2:$A$8408,Sheet3!$B$1,Sheet4!$B$2:$B$8408,Sheet3!$A$3)","v":0},{"$f":"+SUMIFS(Sheet4!$DM$2:$DM$8408,Sheet4!$C$2:$C$8408,Sheet3!$B23,Sheet4!$D$2:$D$8408,Sheet3!AV$3,Sheet4!$E$2:$E$8408,Sheet3!AV$4,Sheet4!$A$2:$A$8408,Sheet3!$B$1,Sheet4!$B$2:$B$8408,Sheet3!$A$3)","v":0},{"$f":"+SUMIFS(Sheet4!$DM$2:$DM$8408,Sheet4!$C$2:$C$8408,Sheet3!$B23,Sheet4!$D$2:$D$8408,Sheet3!AW$3,Sheet4!$E$2:$E$8408,Sheet3!AW$4,Sheet4!$A$2:$A$8408,Sheet3!$B$1,Sheet4!$B$2:$B$8408,Sheet3!$A$3)","v":4186},{"$f":"+SUMIFS(Sheet4!$DM$2:$DM$8408,Sheet4!$C$2:$C$8408,Sheet3!$B23,Sheet4!$D$2:$D$8408,Sheet3!AX$3,Sheet4!$E$2:$E$8408,Sheet3!AX$4,Sheet4!$A$2:$A$8408,Sheet3!$B$1,Sheet4!$B$2:$B$8408,Sheet3!$A$3)","v":1467},{"$f":"+SUMIFS(Sheet4!$DM$2:$DM$8408,Sheet4!$C$2:$C$8408,Sheet3!$B23,Sheet4!$D$2:$D$8408,Sheet3!AY$3,Sheet4!$E$2:$E$8408,Sheet3!AY$4,Sheet4!$A$2:$A$8408,Sheet3!$B$1,Sheet4!$B$2:$B$8408,Sheet3!$A$3)","v":56},{"$f":"+SUMIFS(Sheet4!$DM$2:$DM$8408,Sheet4!$C$2:$C$8408,Sheet3!$B23,Sheet4!$D$2:$D$8408,Sheet3!AZ$3,Sheet4!$E$2:$E$8408,Sheet3!AZ$4,Sheet4!$A$2:$A$8408,Sheet3!$B$1,Sheet4!$B$2:$B$8408,Sheet3!$A$3)","v":4},{"$f":"+SUMIFS(Sheet4!$DM$2:$DM$8408,Sheet4!$C$2:$C$8408,Sheet3!$B23,Sheet4!$D$2:$D$8408,Sheet3!BA$3,Sheet4!$E$2:$E$8408,Sheet3!BA$4,Sheet4!$A$2:$A$8408,Sheet3!$B$1,Sheet4!$B$2:$B$8408,Sheet3!$A$3)","v":0},{"$f":"+SUMIFS(Sheet4!$DM$2:$DM$8408,Sheet4!$C$2:$C$8408,Sheet3!$B23,Sheet4!$D$2:$D$8408,Sheet3!BB$3,Sheet4!$E$2:$E$8408,Sheet3!BB$4,Sheet4!$A$2:$A$8408,Sheet3!$B$1,Sheet4!$B$2:$B$8408,Sheet3!$A$3)","v":0},{"$f":"+SUMIFS(Sheet4!$DM$2:$DM$8408,Sheet4!$C$2:$C$8408,Sheet3!$B23,Sheet4!$D$2:$D$8408,Sheet3!BC$3,Sheet4!$E$2:$E$8408,Sheet3!BC$4,Sheet4!$A$2:$A$8408,Sheet3!$B$1,Sheet4!$B$2:$B$8408,Sheet3!$A$3)","v":12},{"$f":"+SUMIFS(Sheet4!$DM$2:$DM$8408,Sheet4!$C$2:$C$8408,Sheet3!$B23,Sheet4!$D$2:$D$8408,Sheet3!BD$3,Sheet4!$E$2:$E$8408,Sheet3!BD$4,Sheet4!$A$2:$A$8408,Sheet3!$B$1,Sheet4!$B$2:$B$8408,Sheet3!$A$3)","v":21},{"$f":"+SUMIFS(Sheet4!$DM$2:$DM$8408,Sheet4!$C$2:$C$8408,Sheet3!$B23,Sheet4!$D$2:$D$8408,Sheet3!BE$3,Sheet4!$E$2:$E$8408,Sheet3!BE$4,Sheet4!$A$2:$A$8408,Sheet3!$B$1,Sheet4!$B$2:$B$8408,Sheet3!$A$3)","v":6},{"$f":"+SUMIFS(Sheet4!$DM$2:$DM$8408,Sheet4!$C$2:$C$8408,Sheet3!$B23,Sheet4!$D$2:$D$8408,Sheet3!BF$3,Sheet4!$E$2:$E$8408,Sheet3!BF$4,Sheet4!$A$2:$A$8408,Sheet3!$B$1,Sheet4!$B$2:$B$8408,Sheet3!$A$3)","v":0},{"$f":"+SUMIFS(Sheet4!$DM$2:$DM$8408,Sheet4!$C$2:$C$8408,Sheet3!$B23,Sheet4!$D$2:$D$8408,Sheet3!BG$3,Sheet4!$E$2:$E$8408,Sheet3!BG$4,Sheet4!$A$2:$A$8408,Sheet3!$B$1,Sheet4!$B$2:$B$8408,Sheet3!$A$3)","v":18},{"$f":"+SUMIFS(Sheet4!$DM$2:$DM$8408,Sheet4!$C$2:$C$8408,Sheet3!$B23,Sheet4!$D$2:$D$8408,Sheet3!BH$3,Sheet4!$E$2:$E$8408,Sheet3!BH$4,Sheet4!$A$2:$A$8408,Sheet3!$B$1,Sheet4!$B$2:$B$8408,Sheet3!$A$3)","v":230},{"$f":"+SUMIFS(Sheet4!$DM$2:$DM$8408,Sheet4!$C$2:$C$8408,Sheet3!$B23,Sheet4!$D$2:$D$8408,Sheet3!BI$3,Sheet4!$E$2:$E$8408,Sheet3!BI$4,Sheet4!$A$2:$A$8408,Sheet3!$B$1,Sheet4!$B$2:$B$8408,Sheet3!$A$3)","v":113},{"$f":"+SUMIFS(Sheet4!$DM$2:$DM$8408,Sheet4!$C$2:$C$8408,Sheet3!$B23,Sheet4!$D$2:$D$8408,Sheet3!BJ$3,Sheet4!$E$2:$E$8408,Sheet3!BJ$4,Sheet4!$A$2:$A$8408,Sheet3!$B$1,Sheet4!$B$2:$B$8408,Sheet3!$A$3)","v":5},{"$f":"+SUMIFS(Sheet4!$DM$2:$DM$8408,Sheet4!$C$2:$C$8408,Sheet3!$B23,Sheet4!$D$2:$D$8408,Sheet3!BK$3,Sheet4!$E$2:$E$8408,Sheet3!BK$4,Sheet4!$A$2:$A$8408,Sheet3!$B$1,Sheet4!$B$2:$B$8408,Sheet3!$A$3)","v":0},{"$f":"+SUMIFS(Sheet4!$DM$2:$DM$8408,Sheet4!$C$2:$C$8408,Sheet3!$B23,Sheet4!$D$2:$D$8408,Sheet3!BL$3,Sheet4!$E$2:$E$8408,Sheet3!BL$4,Sheet4!$A$2:$A$8408,Sheet3!$B$1,Sheet4!$B$2:$B$8408,Sheet3!$A$3)","v":11},{"$f":"+SUMIFS(Sheet4!$DM$2:$DM$8408,Sheet4!$C$2:$C$8408,Sheet3!$B23,Sheet4!$D$2:$D$8408,Sheet3!BM$3,Sheet4!$E$2:$E$8408,Sheet3!BM$4,Sheet4!$A$2:$A$8408,Sheet3!$B$1,Sheet4!$B$2:$B$8408,Sheet3!$A$3)","v":75},{"$f":"+SUMIFS(Sheet4!$DM$2:$DM$8408,Sheet4!$C$2:$C$8408,Sheet3!$B23,Sheet4!$D$2:$D$8408,Sheet3!BN$3,Sheet4!$E$2:$E$8408,Sheet3!BN$4,Sheet4!$A$2:$A$8408,Sheet3!$B$1,Sheet4!$B$2:$B$8408,Sheet3!$A$3)","v":18},{"$f":"+SUMIFS(Sheet4!$DM$2:$DM$8408,Sheet4!$C$2:$C$8408,Sheet3!$B23,Sheet4!$D$2:$D$8408,Sheet3!BO$3,Sheet4!$E$2:$E$8408,Sheet3!BO$4,Sheet4!$A$2:$A$8408,Sheet3!$B$1,Sheet4!$B$2:$B$8408,Sheet3!$A$3)","v":4},{"$f":"+SUMIFS(Sheet4!$DM$2:$DM$8408,Sheet4!$C$2:$C$8408,Sheet3!$B23,Sheet4!$D$2:$D$8408,Sheet3!BP$3,Sheet4!$E$2:$E$8408,Sheet3!BP$4,Sheet4!$A$2:$A$8408,Sheet3!$B$1,Sheet4!$B$2:$B$8408,Sheet3!$A$3)","v":0},{"$f":"+SUMIFS(Sheet4!$DM$2:$DM$8408,Sheet4!$C$2:$C$8408,Sheet3!$B23,Sheet4!$D$2:$D$8408,Sheet3!BQ$3,Sheet4!$E$2:$E$8408,Sheet3!BQ$4,Sheet4!$A$2:$A$8408,Sheet3!$B$1,Sheet4!$B$2:$B$8408,Sheet3!$A$3)","v":30},{"$f":"+SUMIFS(Sheet4!$DM$2:$DM$8408,Sheet4!$C$2:$C$8408,Sheet3!$B23,Sheet4!$D$2:$D$8408,Sheet3!BR$3,Sheet4!$E$2:$E$8408,Sheet3!BR$4,Sheet4!$A$2:$A$8408,Sheet3!$B$1,Sheet4!$B$2:$B$8408,Sheet3!$A$3)","v":272},{"$f":"+SUMIFS(Sheet4!$DM$2:$DM$8408,Sheet4!$C$2:$C$8408,Sheet3!$B23,Sheet4!$D$2:$D$8408,Sheet3!BS$3,Sheet4!$E$2:$E$8408,Sheet3!BS$4,Sheet4!$A$2:$A$8408,Sheet3!$B$1,Sheet4!$B$2:$B$8408,Sheet3!$A$3)","v":126},{"$f":"+SUMIFS(Sheet4!$DM$2:$DM$8408,Sheet4!$C$2:$C$8408,Sheet3!$B23,Sheet4!$D$2:$D$8408,Sheet3!BT$3,Sheet4!$E$2:$E$8408,Sheet3!BT$4,Sheet4!$A$2:$A$8408,Sheet3!$B$1,Sheet4!$B$2:$B$8408,Sheet3!$A$3)","v":3},{"$f":"+SUMIFS(Sheet4!$DM$2:$DM$8408,Sheet4!$C$2:$C$8408,Sheet3!$B23,Sheet4!$D$2:$D$8408,Sheet3!BU$3,Sheet4!$E$2:$E$8408,Sheet3!BU$4,Sheet4!$A$2:$A$8408,Sheet3!$B$1,Sheet4!$B$2:$B$8408,Sheet3!$A$3)","v":0},{"$f":"+SUMIFS(Sheet4!$DM$2:$DM$8408,Sheet4!$C$2:$C$8408,Sheet3!$B23,Sheet4!$D$2:$D$8408,Sheet3!BV$3,Sheet4!$E$2:$E$8408,Sheet3!BV$4,Sheet4!$A$2:$A$8408,Sheet3!$B$1,Sheet4!$B$2:$B$8408,Sheet3!$A$3)","v":499},{"$f":"+SUMIFS(Sheet4!$DM$2:$DM$8408,Sheet4!$C$2:$C$8408,Sheet3!$B23,Sheet4!$D$2:$D$8408,Sheet3!BW$3,Sheet4!$E$2:$E$8408,Sheet3!BW$4,Sheet4!$A$2:$A$8408,Sheet3!$B$1,Sheet4!$B$2:$B$8408,Sheet3!$A$3)","v":1086},{"$f":"+SUMIFS(Sheet4!$DM$2:$DM$8408,Sheet4!$C$2:$C$8408,Sheet3!$B23,Sheet4!$D$2:$D$8408,Sheet3!BX$3,Sheet4!$E$2:$E$8408,Sheet3!BX$4,Sheet4!$A$2:$A$8408,Sheet3!$B$1,Sheet4!$B$2:$B$8408,Sheet3!$A$3)","v":463},{"$f":"+SUMIFS(Sheet4!$DM$2:$DM$8408,Sheet4!$C$2:$C$8408,Sheet3!$B23,Sheet4!$D$2:$D$8408,Sheet3!BY$3,Sheet4!$E$2:$E$8408,Sheet3!BY$4,Sheet4!$A$2:$A$8408,Sheet3!$B$1,Sheet4!$B$2:$B$8408,Sheet3!$A$3)","v":35},{"$f":"+SUMIFS(Sheet4!$DM$2:$DM$8408,Sheet4!$C$2:$C$8408,Sheet3!$B23,Sheet4!$D$2:$D$8408,Sheet3!BZ$3,Sheet4!$E$2:$E$8408,Sheet3!BZ$4,Sheet4!$A$2:$A$8408,Sheet3!$B$1,Sheet4!$B$2:$B$8408,Sheet3!$A$3)","v":0},{"$f":"+SUMIFS(Sheet4!$DM$2:$DM$8408,Sheet4!$C$2:$C$8408,Sheet3!$B23,Sheet4!$D$2:$D$8408,Sheet3!CA$3,Sheet4!$E$2:$E$8408,Sheet3!CA$4,Sheet4!$A$2:$A$8408,Sheet3!$B$1,Sheet4!$B$2:$B$8408,Sheet3!$A$3)","v":316},{"$f":"+SUMIFS(Sheet4!$DM$2:$DM$8408,Sheet4!$C$2:$C$8408,Sheet3!$B23,Sheet4!$D$2:$D$8408,Sheet3!CB$3,Sheet4!$E$2:$E$8408,Sheet3!CB$4,Sheet4!$A$2:$A$8408,Sheet3!$B$1,Sheet4!$B$2:$B$8408,Sheet3!$A$3)","v":586},{"$f":"+SUMIFS(Sheet4!$DM$2:$DM$8408,Sheet4!$C$2:$C$8408,Sheet3!$B23,Sheet4!$D$2:$D$8408,Sheet3!CC$3,Sheet4!$E$2:$E$8408,Sheet3!CC$4,Sheet4!$A$2:$A$8408,Sheet3!$B$1,Sheet4!$B$2:$B$8408,Sheet3!$A$3)","v":95},{"$f":"+SUMIFS(Sheet4!$DM$2:$DM$8408,Sheet4!$C$2:$C$8408,Sheet3!$B23,Sheet4!$D$2:$D$8408,Sheet3!CD$3,Sheet4!$E$2:$E$8408,Sheet3!CD$4,Sheet4!$A$2:$A$8408,Sheet3!$B$1,Sheet4!$B$2:$B$8408,Sheet3!$A$3)","v":5},{"$f":"+SUMIFS(Sheet4!$DM$2:$DM$8408,Sheet4!$C$2:$C$8408,Sheet3!$B23,Sheet4!$D$2:$D$8408,Sheet3!CE$3,Sheet4!$E$2:$E$8408,Sheet3!CE$4,Sheet4!$A$2:$A$8408,Sheet3!$B$1,Sheet4!$B$2:$B$8408,Sheet3!$A$3)","v":0},{"$f":"+SUMIFS(Sheet4!$DM$2:$DM$8408,Sheet4!$C$2:$C$8408,Sheet3!$B23,Sheet4!$D$2:$D$8408,Sheet3!CF$3,Sheet4!$E$2:$E$8408,Sheet3!CF$4,Sheet4!$A$2:$A$8408,Sheet3!$B$1,Sheet4!$B$2:$B$8408,Sheet3!$A$3)","v":401},{"$f":"+SUMIFS(Sheet4!$DM$2:$DM$8408,Sheet4!$C$2:$C$8408,Sheet3!$B23,Sheet4!$D$2:$D$8408,Sheet3!CG$3,Sheet4!$E$2:$E$8408,Sheet3!CG$4,Sheet4!$A$2:$A$8408,Sheet3!$B$1,Sheet4!$B$2:$B$8408,Sheet3!$A$3)","v":49},{"$f":"+SUMIFS(Sheet4!$DM$2:$DM$8408,Sheet4!$C$2:$C$8408,Sheet3!$B23,Sheet4!$D$2:$D$8408,Sheet3!CH$3,Sheet4!$E$2:$E$8408,Sheet3!CH$4,Sheet4!$A$2:$A$8408,Sheet3!$B$1,Sheet4!$B$2:$B$8408,Sheet3!$A$3)","v":0},{"$f":"+SUMIFS(Sheet4!$DM$2:$DM$8408,Sheet4!$C$2:$C$8408,Sheet3!$B23,Sheet4!$D$2:$D$8408,Sheet3!CI$3,Sheet4!$E$2:$E$8408,Sheet3!CI$4,Sheet4!$A$2:$A$8408,Sheet3!$B$1,Sheet4!$B$2:$B$8408,Sheet3!$A$3)","v":0},{"$f":"+SUMIFS(Sheet4!$DM$2:$DM$8408,Sheet4!$C$2:$C$8408,Sheet3!$B23,Sheet4!$D$2:$D$8408,Sheet3!CJ$3,Sheet4!$E$2:$E$8408,Sheet3!CJ$4,Sheet4!$A$2:$A$8408,Sheet3!$B$1,Sheet4!$B$2:$B$8408,Sheet3!$A$3)","v":0},{"$f":"+SUMIFS(Sheet4!$DM$2:$DM$8408,Sheet4!$C$2:$C$8408,Sheet3!$B23,Sheet4!$D$2:$D$8408,Sheet3!CK$3,Sheet4!$E$2:$E$8408,Sheet3!CK$4,Sheet4!$A$2:$A$8408,Sheet3!$B$1,Sheet4!$B$2:$B$8408,Sheet3!$A$3)","v":0},{"$f":"+SUMIFS(Sheet4!$DM$2:$DM$8408,Sheet4!$C$2:$C$8408,Sheet3!$B23,Sheet4!$D$2:$D$8408,Sheet3!CL$3,Sheet4!$E$2:$E$8408,Sheet3!CL$4,Sheet4!$A$2:$A$8408,Sheet3!$B$1,Sheet4!$B$2:$B$8408,Sheet3!$A$3)","v":0},{"$f":"+SUMIFS(Sheet4!$DM$2:$DM$8408,Sheet4!$C$2:$C$8408,Sheet3!$B23,Sheet4!$D$2:$D$8408,Sheet3!CM$3,Sheet4!$E$2:$E$8408,Sheet3!CM$4,Sheet4!$A$2:$A$8408,Sheet3!$B$1,Sheet4!$B$2:$B$8408,Sheet3!$A$3)","v":0},{"$f":"+SUMIFS(Sheet4!$DM$2:$DM$8408,Sheet4!$C$2:$C$8408,Sheet3!$B23,Sheet4!$D$2:$D$8408,Sheet3!CN$3,Sheet4!$E$2:$E$8408,Sheet3!CN$4,Sheet4!$A$2:$A$8408,Sheet3!$B$1,Sheet4!$B$2:$B$8408,Sheet3!$A$3)","v":0},{"$f":"+SUMIFS(Sheet4!$DM$2:$DM$8408,Sheet4!$C$2:$C$8408,Sheet3!$B23,Sheet4!$D$2:$D$8408,Sheet3!CO$3,Sheet4!$E$2:$E$8408,Sheet3!CO$4,Sheet4!$A$2:$A$8408,Sheet3!$B$1,Sheet4!$B$2:$B$8408,Sheet3!$A$3)","v":0},{"$f":"+SUMIFS(Sheet4!$DM$2:$DM$8408,Sheet4!$C$2:$C$8408,Sheet3!$B23,Sheet4!$D$2:$D$8408,Sheet3!CP$3,Sheet4!$E$2:$E$8408,Sheet3!CP$4,Sheet4!$A$2:$A$8408,Sheet3!$B$1,Sheet4!$B$2:$B$8408,Sheet3!$A$3)","v":12},{"$f":"+SUMIFS(Sheet4!$DM$2:$DM$8408,Sheet4!$C$2:$C$8408,Sheet3!$B23,Sheet4!$D$2:$D$8408,Sheet3!CQ$3,Sheet4!$E$2:$E$8408,Sheet3!CQ$4,Sheet4!$A$2:$A$8408,Sheet3!$B$1,Sheet4!$B$2:$B$8408,Sheet3!$A$3)","v":0},{"$f":"+SUMIFS(Sheet4!$DM$2:$DM$8408,Sheet4!$C$2:$C$8408,Sheet3!$B23,Sheet4!$D$2:$D$8408,Sheet3!CR$3,Sheet4!$E$2:$E$8408,Sheet3!CR$4,Sheet4!$A$2:$A$8408,Sheet3!$B$1,Sheet4!$B$2:$B$8408,Sheet3!$A$3)","v":0},{"$f":"+SUMIFS(Sheet4!$DM$2:$DM$8408,Sheet4!$C$2:$C$8408,Sheet3!$B23,Sheet4!$D$2:$D$8408,Sheet3!CS$3,Sheet4!$E$2:$E$8408,Sheet3!CS$4,Sheet4!$A$2:$A$8408,Sheet3!$B$1,Sheet4!$B$2:$B$8408,Sheet3!$A$3)","v":0},{"$f":"+SUMIFS(Sheet4!$DM$2:$DM$8408,Sheet4!$C$2:$C$8408,Sheet3!$B23,Sheet4!$D$2:$D$8408,Sheet3!CT$3,Sheet4!$E$2:$E$8408,Sheet3!CT$4,Sheet4!$A$2:$A$8408,Sheet3!$B$1,Sheet4!$B$2:$B$8408,Sheet3!$A$3)","v":0},{"$f":"+IF(SUMIFS(Sheet4!$DN$2:$DN$8408,Sheet4!$C$2:$C$8408,Sheet3!$B23,Sheet4!$D$2:$D$8408,Sheet3!CU$3,Sheet4!$A$2:$A$8408,Sheet3!$B$1,Sheet4!$B$2:$B$8408,Sheet3!$A$3)<3,0,SUMIFS(Sheet4!$DN$2:$DN$8408,Sheet4!$C$2:$C$8408,Sheet3!$B23,Sheet4!$D$2:$D$8408,Sheet3!CU$3,Sheet4!$A$2:$A$8408,Sheet3!$B$1,Sheet4!$B$2:$B$8408,Sheet3!$A$3))","v":21},{"$f":"+IF(SUMIFS(Sheet4!$DN$2:$DN$8408,Sheet4!$C$2:$C$8408,Sheet3!$B23,Sheet4!$D$2:$D$8408,Sheet3!CV$3,Sheet4!$A$2:$A$8408,Sheet3!$B$1,Sheet4!$B$2:$B$8408,Sheet3!$A$3)<3,0,SUMIFS(Sheet4!$DN$2:$DN$8408,Sheet4!$C$2:$C$8408,Sheet3!$B23,Sheet4!$D$2:$D$8408,Sheet3!CV$3,Sheet4!$A$2:$A$8408,Sheet3!$B$1,Sheet4!$B$2:$B$8408,Sheet3!$A$3))","v":80},{"$f":"+IF(SUMIFS(Sheet4!$DN$2:$DN$8408,Sheet4!$C$2:$C$8408,Sheet3!$B23,Sheet4!$D$2:$D$8408,Sheet3!CW$3,Sheet4!$A$2:$A$8408,Sheet3!$B$1,Sheet4!$B$2:$B$8408,Sheet3!$A$3)<3,0,SUMIFS(Sheet4!$DN$2:$DN$8408,Sheet4!$C$2:$C$8408,Sheet3!$B23,Sheet4!$D$2:$D$8408,Sheet3!CW$3,Sheet4!$A$2:$A$8408,Sheet3!$B$1,Sheet4!$B$2:$B$8408,Sheet3!$A$3))","v":946},{"$f":"+IF(SUMIFS(Sheet4!$DN$2:$DN$8408,Sheet4!$C$2:$C$8408,Sheet3!$B23,Sheet4!$D$2:$D$8408,Sheet3!CX$3,Sheet4!$A$2:$A$8408,Sheet3!$B$1,Sheet4!$B$2:$B$8408,Sheet3!$A$3)<3,0,SUMIFS(Sheet4!$DN$2:$DN$8408,Sheet4!$C$2:$C$8408,Sheet3!$B23,Sheet4!$D$2:$D$8408,Sheet3!CX$3,Sheet4!$A$2:$A$8408,Sheet3!$B$1,Sheet4!$B$2:$B$8408,Sheet3!$A$3))","v":0},{"$f":"+IF(SUMIFS(Sheet4!$DN$2:$DN$8408,Sheet4!$C$2:$C$8408,Sheet3!$B23,Sheet4!$D$2:$D$8408,Sheet3!CY$3,Sheet4!$A$2:$A$8408,Sheet3!$B$1,Sheet4!$B$2:$B$8408,Sheet3!$A$3)<3,0,SUMIFS(Sheet4!$DN$2:$DN$8408,Sheet4!$C$2:$C$8408,Sheet3!$B23,Sheet4!$D$2:$D$8408,Sheet3!CY$3,Sheet4!$A$2:$A$8408,Sheet3!$B$1,Sheet4!$B$2:$B$8408,Sheet3!$A$3))","v":4},{"$f":"+IF(SUMIFS(Sheet4!$DN$2:$DN$8408,Sheet4!$C$2:$C$8408,Sheet3!$B23,Sheet4!$D$2:$D$8408,Sheet3!CZ$3,Sheet4!$A$2:$A$8408,Sheet3!$B$1,Sheet4!$B$2:$B$8408,Sheet3!$A$3)<3,0,SUMIFS(Sheet4!$DN$2:$DN$8408,Sheet4!$C$2:$C$8408,Sheet3!$B23,Sheet4!$D$2:$D$8408,Sheet3!CZ$3,Sheet4!$A$2:$A$8408,Sheet3!$B$1,Sheet4!$B$2:$B$8408,Sheet3!$A$3))","v":1735},{"$f":"+IF(SUMIFS(Sheet4!$DN$2:$DN$8408,Sheet4!$C$2:$C$8408,Sheet3!$B23,Sheet4!$D$2:$D$8408,Sheet3!DA$3,Sheet4!$A$2:$A$8408,Sheet3!$B$1,Sheet4!$B$2:$B$8408,Sheet3!$A$3)<3,0,SUMIFS(Sheet4!$DN$2:$DN$8408,Sheet4!$C$2:$C$8408,Sheet3!$B23,Sheet4!$D$2:$D$8408,Sheet3!DA$3,Sheet4!$A$2:$A$8408,Sheet3!$B$1,Sheet4!$B$2:$B$8408,Sheet3!$A$3))","v":519},{"$f":"+IF(SUMIFS(Sheet4!$DN$2:$DN$8408,Sheet4!$C$2:$C$8408,Sheet3!$B23,Sheet4!$D$2:$D$8408,Sheet3!DB$3,Sheet4!$A$2:$A$8408,Sheet3!$B$1,Sheet4!$B$2:$B$8408,Sheet3!$A$3)<3,0,SUMIFS(Sheet4!$DN$2:$DN$8408,Sheet4!$C$2:$C$8408,Sheet3!$B23,Sheet4!$D$2:$D$8408,Sheet3!DB$3,Sheet4!$A$2:$A$8408,Sheet3!$B$1,Sheet4!$B$2:$B$8408,Sheet3!$A$3))","v":1438},{"$f":"+IF(SUMIFS(Sheet4!$DN$2:$DN$8408,Sheet4!$C$2:$C$8408,Sheet3!$B23,Sheet4!$D$2:$D$8408,Sheet3!DC$3,Sheet4!$A$2:$A$8408,Sheet3!$B$1,Sheet4!$B$2:$B$8408,Sheet3!$A$3)<3,0,SUMIFS(Sheet4!$DN$2:$DN$8408,Sheet4!$C$2:$C$8408,Sheet3!$B23,Sheet4!$D$2:$D$8408,Sheet3!DC$3,Sheet4!$A$2:$A$8408,Sheet3!$B$1,Sheet4!$B$2:$B$8408,Sheet3!$A$3))","v":605},{"$f":"+IF(SUMIFS(Sheet4!$DN$2:$DN$8408,Sheet4!$C$2:$C$8408,Sheet3!$B23,Sheet4!$D$2:$D$8408,Sheet3!DD$3,Sheet4!$A$2:$A$8408,Sheet3!$B$1,Sheet4!$B$2:$B$8408,Sheet3!$A$3)<3,0,SUMIFS(Sheet4!$DN$2:$DN$8408,Sheet4!$C$2:$C$8408,Sheet3!$B23,Sheet4!$D$2:$D$8408,Sheet3!DD$3,Sheet4!$A$2:$A$8408,Sheet3!$B$1,Sheet4!$B$2:$B$8408,Sheet3!$A$3))","v":5718},{"$f":"+IF(SUMIFS(Sheet4!$DN$2:$DN$8408,Sheet4!$C$2:$C$8408,Sheet3!$B23,Sheet4!$D$2:$D$8408,Sheet3!DE$3,Sheet4!$A$2:$A$8408,Sheet3!$B$1,Sheet4!$B$2:$B$8408,Sheet3!$A$3)<3,0,SUMIFS(Sheet4!$DN$2:$DN$8408,Sheet4!$C$2:$C$8408,Sheet3!$B23,Sheet4!$D$2:$D$8408,Sheet3!DE$3,Sheet4!$A$2:$A$8408,Sheet3!$B$1,Sheet4!$B$2:$B$8408,Sheet3!$A$3))","v":41},{"$f":"+IF(SUMIFS(Sheet4!$DN$2:$DN$8408,Sheet4!$C$2:$C$8408,Sheet3!$B23,Sheet4!$D$2:$D$8408,Sheet3!DF$3,Sheet4!$A$2:$A$8408,Sheet3!$B$1,Sheet4!$B$2:$B$8408,Sheet3!$A$3)<3,0,SUMIFS(Sheet4!$DN$2:$DN$8408,Sheet4!$C$2:$C$8408,Sheet3!$B23,Sheet4!$D$2:$D$8408,Sheet3!DF$3,Sheet4!$A$2:$A$8408,Sheet3!$B$1,Sheet4!$B$2:$B$8408,Sheet3!$A$3))","v":367},{"$f":"+IF(SUMIFS(Sheet4!$DN$2:$DN$8408,Sheet4!$C$2:$C$8408,Sheet3!$B23,Sheet4!$D$2:$D$8408,Sheet3!DG$3,Sheet4!$A$2:$A$8408,Sheet3!$B$1,Sheet4!$B$2:$B$8408,Sheet3!$A$3)<3,0,SUMIFS(Sheet4!$DN$2:$DN$8408,Sheet4!$C$2:$C$8408,Sheet3!$B23,Sheet4!$D$2:$D$8408,Sheet3!DG$3,Sheet4!$A$2:$A$8408,Sheet3!$B$1,Sheet4!$B$2:$B$8408,Sheet3!$A$3))","v":115},{"$f":"+IF(SUMIFS(Sheet4!$DN$2:$DN$8408,Sheet4!$C$2:$C$8408,Sheet3!$B23,Sheet4!$D$2:$D$8408,Sheet3!DH$3,Sheet4!$A$2:$A$8408,Sheet3!$B$1,Sheet4!$B$2:$B$8408,Sheet3!$A$3)<3,0,SUMIFS(Sheet4!$DN$2:$DN$8408,Sheet4!$C$2:$C$8408,Sheet3!$B23,Sheet4!$D$2:$D$8408,Sheet3!DH$3,Sheet4!$A$2:$A$8408,Sheet3!$B$1,Sheet4!$B$2:$B$8408,Sheet3!$A$3))","v":441},{"$f":"+IF(SUMIFS(Sheet4!$DN$2:$DN$8408,Sheet4!$C$2:$C$8408,Sheet3!$B23,Sheet4!$D$2:$D$8408,Sheet3!DI$3,Sheet4!$A$2:$A$8408,Sheet3!$B$1,Sheet4!$B$2:$B$8408,Sheet3!$A$3)<3,0,SUMIFS(Sheet4!$DN$2:$DN$8408,Sheet4!$C$2:$C$8408,Sheet3!$B23,Sheet4!$D$2:$D$8408,Sheet3!DI$3,Sheet4!$A$2:$A$8408,Sheet3!$B$1,Sheet4!$B$2:$B$8408,Sheet3!$A$3))","v":2085},{"$f":"+IF(SUMIFS(Sheet4!$DN$2:$DN$8408,Sheet4!$C$2:$C$8408,Sheet3!$B23,Sheet4!$D$2:$D$8408,Sheet3!DJ$3,Sheet4!$A$2:$A$8408,Sheet3!$B$1,Sheet4!$B$2:$B$8408,Sheet3!$A$3)<3,0,SUMIFS(Sheet4!$DN$2:$DN$8408,Sheet4!$C$2:$C$8408,Sheet3!$B23,Sheet4!$D$2:$D$8408,Sheet3!DJ$3,Sheet4!$A$2:$A$8408,Sheet3!$B$1,Sheet4!$B$2:$B$8408,Sheet3!$A$3))","v":1002},{"$f":"+IF(SUMIFS(Sheet4!$DN$2:$DN$8408,Sheet4!$C$2:$C$8408,Sheet3!$B23,Sheet4!$D$2:$D$8408,Sheet3!DK$3,Sheet4!$A$2:$A$8408,Sheet3!$B$1,Sheet4!$B$2:$B$8408,Sheet3!$A$3)<3,0,SUMIFS(Sheet4!$DN$2:$DN$8408,Sheet4!$C$2:$C$8408,Sheet3!$B23,Sheet4!$D$2:$D$8408,Sheet3!DK$3,Sheet4!$A$2:$A$8408,Sheet3!$B$1,Sheet4!$B$2:$B$8408,Sheet3!$A$3))","v":452},{"$f":"+IF(SUMIFS(Sheet4!$DN$2:$DN$8408,Sheet4!$C$2:$C$8408,Sheet3!$B23,Sheet4!$D$2:$D$8408,Sheet3!DL$3,Sheet4!$A$2:$A$8408,Sheet3!$B$1,Sheet4!$B$2:$B$8408,Sheet3!$A$3)<3,0,SUMIFS(Sheet4!$DN$2:$DN$8408,Sheet4!$C$2:$C$8408,Sheet3!$B23,Sheet4!$D$2:$D$8408,Sheet3!DL$3,Sheet4!$A$2:$A$8408,Sheet3!$B$1,Sheet4!$B$2:$B$8408,Sheet3!$A$3))","v":0},{"$f":"+IF(SUMIFS(Sheet4!$DN$2:$DN$8408,Sheet4!$C$2:$C$8408,Sheet3!$B23,Sheet4!$D$2:$D$8408,Sheet3!DM$3,Sheet4!$A$2:$A$8408,Sheet3!$B$1,Sheet4!$B$2:$B$8408,Sheet3!$A$3)<3,0,SUMIFS(Sheet4!$DN$2:$DN$8408,Sheet4!$C$2:$C$8408,Sheet3!$B23,Sheet4!$D$2:$D$8408,Sheet3!DM$3,Sheet4!$A$2:$A$8408,Sheet3!$B$1,Sheet4!$B$2:$B$8408,Sheet3!$A$3))","v":14},{"$f":"+IF(SUMIFS(Sheet4!$DN$2:$DN$8408,Sheet4!$C$2:$C$8408,Sheet3!$B23,Sheet4!$E$2:$E$8408,Sheet3!DN$4,Sheet4!$A$2:$A$8408,Sheet3!$B$1,Sheet4!$B$2:$B$8408,Sheet3!$A$3)<3,0,SUMIFS(Sheet4!$DN$2:$DN$8408,Sheet4!$C$2:$C$8408,Sheet3!$B23,Sheet4!$E$2:$E$8408,Sheet3!DN$4,Sheet4!$A$2:$A$8408,Sheet3!$B$1,Sheet4!$B$2:$B$8408,Sheet3!$A$3))","v":8933},{"$f":"+IF(SUMIFS(Sheet4!$DN$2:$DN$8408,Sheet4!$C$2:$C$8408,Sheet3!$B23,Sheet4!$E$2:$E$8408,Sheet3!DO$4,Sheet4!$A$2:$A$8408,Sheet3!$B$1,Sheet4!$B$2:$B$8408,Sheet3!$A$3)<3,0,SUMIFS(Sheet4!$DN$2:$DN$8408,Sheet4!$C$2:$C$8408,Sheet3!$B23,Sheet4!$E$2:$E$8408,Sheet3!DO$4,Sheet4!$A$2:$A$8408,Sheet3!$B$1,Sheet4!$B$2:$B$8408,Sheet3!$A$3))","v":5205},{"$f":"+IF(SUMIFS(Sheet4!$DN$2:$DN$8408,Sheet4!$C$2:$C$8408,Sheet3!$B23,Sheet4!$E$2:$E$8408,Sheet3!DP$4,Sheet4!$A$2:$A$8408,Sheet3!$B$1,Sheet4!$B$2:$B$8408,Sheet3!$A$3)<3,0,SUMIFS(Sheet4!$DN$2:$DN$8408,Sheet4!$C$2:$C$8408,Sheet3!$B23,Sheet4!$E$2:$E$8408,Sheet3!DP$4,Sheet4!$A$2:$A$8408,Sheet3!$B$1,Sheet4!$B$2:$B$8408,Sheet3!$A$3))","v":1278},{"$f":"+IF(SUMIFS(Sheet4!$DN$2:$DN$8408,Sheet4!$C$2:$C$8408,Sheet3!$B23,Sheet4!$E$2:$E$8408,Sheet3!DQ$4,Sheet4!$A$2:$A$8408,Sheet3!$B$1,Sheet4!$B$2:$B$8408,Sheet3!$A$3)<3,0,SUMIFS(Sheet4!$DN$2:$DN$8408,Sheet4!$C$2:$C$8408,Sheet3!$B23,Sheet4!$E$2:$E$8408,Sheet3!DQ$4,Sheet4!$A$2:$A$8408,Sheet3!$B$1,Sheet4!$B$2:$B$8408,Sheet3!$A$3))","v":157},{"$f":"+IF(SUMIFS(Sheet4!$DN$2:$DN$8408,Sheet4!$C$2:$C$8408,Sheet3!$B23,Sheet4!$E$2:$E$8408,Sheet3!DR$4,Sheet4!$A$2:$A$8408,Sheet3!$B$1,Sheet4!$B$2:$B$8408,Sheet3!$A$3)<3,0,SUMIFS(Sheet4!$DN$2:$DN$8408,Sheet4!$C$2:$C$8408,Sheet3!$B23,Sheet4!$E$2:$E$8408,Sheet3!DR$4,Sheet4!$A$2:$A$8408,Sheet3!$B$1,Sheet4!$B$2:$B$8408,Sheet3!$A$3))","v":10}]
[4,"170","Área Metropolitana de Lisboa",{"$f":"+SUMIFS(Sheet4!$DM$2:$DM$8408,Sheet4!$C$2:$C$8408,Sheet3!$B24,Sheet4!$D$2:$D$8408,Sheet3!D$3,Sheet4!$E$2:$E$8408,Sheet3!D$4,Sheet4!$A$2:$A$8408,Sheet3!$B$1,Sheet4!$B$2:$B$8408,Sheet3!$A$3)","v":0},{"$f":"+SUMIFS(Sheet4!$DM$2:$DM$8408,Sheet4!$C$2:$C$8408,Sheet3!$B24,Sheet4!$D$2:$D$8408,Sheet3!E$3,Sheet4!$E$2:$E$8408,Sheet3!E$4,Sheet4!$A$2:$A$8408,Sheet3!$B$1,Sheet4!$B$2:$B$8408,Sheet3!$A$3)","v":0},{"$f":"+SUMIFS(Sheet4!$DM$2:$DM$8408,Sheet4!$C$2:$C$8408,Sheet3!$B24,Sheet4!$D$2:$D$8408,Sheet3!F$3,Sheet4!$E$2:$E$8408,Sheet3!F$4,Sheet4!$A$2:$A$8408,Sheet3!$B$1,Sheet4!$B$2:$B$8408,Sheet3!$A$3)","v":0},{"$f":"+SUMIFS(Sheet4!$DM$2:$DM$8408,Sheet4!$C$2:$C$8408,Sheet3!$B24,Sheet4!$D$2:$D$8408,Sheet3!G$3,Sheet4!$E$2:$E$8408,Sheet3!G$4,Sheet4!$A$2:$A$8408,Sheet3!$B$1,Sheet4!$B$2:$B$8408,Sheet3!$A$3)","v":0},{"$f":"+SUMIFS(Sheet4!$DM$2:$DM$8408,Sheet4!$C$2:$C$8408,Sheet3!$B24,Sheet4!$D$2:$D$8408,Sheet3!H$3,Sheet4!$E$2:$E$8408,Sheet3!H$4,Sheet4!$A$2:$A$8408,Sheet3!$B$1,Sheet4!$B$2:$B$8408,Sheet3!$A$3)","v":4},{"$f":"+SUMIFS(Sheet4!$DM$2:$DM$8408,Sheet4!$C$2:$C$8408,Sheet3!$B24,Sheet4!$D$2:$D$8408,Sheet3!I$3,Sheet4!$E$2:$E$8408,Sheet3!I$4,Sheet4!$A$2:$A$8408,Sheet3!$B$1,Sheet4!$B$2:$B$8408,Sheet3!$A$3)","v":3},{"$f":"+SUMIFS(Sheet4!$DM$2:$DM$8408,Sheet4!$C$2:$C$8408,Sheet3!$B24,Sheet4!$D$2:$D$8408,Sheet3!J$3,Sheet4!$E$2:$E$8408,Sheet3!J$4,Sheet4!$A$2:$A$8408,Sheet3!$B$1,Sheet4!$B$2:$B$8408,Sheet3!$A$3)","v":14},{"$f":"+SUMIFS(Sheet4!$DM$2:$DM$8408,Sheet4!$C$2:$C$8408,Sheet3!$B24,Sheet4!$D$2:$D$8408,Sheet3!K$3,Sheet4!$E$2:$E$8408,Sheet3!K$4,Sheet4!$A$2:$A$8408,Sheet3!$B$1,Sheet4!$B$2:$B$8408,Sheet3!$A$3)","v":15},{"$f":"+SUMIFS(Sheet4!$DM$2:$DM$8408,Sheet4!$C$2:$C$8408,Sheet3!$B24,Sheet4!$D$2:$D$8408,Sheet3!L$3,Sheet4!$E$2:$E$8408,Sheet3!L$4,Sheet4!$A$2:$A$8408,Sheet3!$B$1,Sheet4!$B$2:$B$8408,Sheet3!$A$3)","v":14},{"$f":"+SUMIFS(Sheet4!$DM$2:$DM$8408,Sheet4!$C$2:$C$8408,Sheet3!$B24,Sheet4!$D$2:$D$8408,Sheet3!M$3,Sheet4!$E$2:$E$8408,Sheet3!M$4,Sheet4!$A$2:$A$8408,Sheet3!$B$1,Sheet4!$B$2:$B$8408,Sheet3!$A$3)","v":7},{"$f":"+SUMIFS(Sheet4!$DM$2:$DM$8408,Sheet4!$C$2:$C$8408,Sheet3!$B24,Sheet4!$D$2:$D$8408,Sheet3!N$3,Sheet4!$E$2:$E$8408,Sheet3!N$4,Sheet4!$A$2:$A$8408,Sheet3!$B$1,Sheet4!$B$2:$B$8408,Sheet3!$A$3)","v":26},{"$f":"+SUMIFS(Sheet4!$DM$2:$DM$8408,Sheet4!$C$2:$C$8408,Sheet3!$B24,Sheet4!$D$2:$D$8408,Sheet3!O$3,Sheet4!$E$2:$E$8408,Sheet3!O$4,Sheet4!$A$2:$A$8408,Sheet3!$B$1,Sheet4!$B$2:$B$8408,Sheet3!$A$3)","v":12},{"$f":"+SUMIFS(Sheet4!$DM$2:$DM$8408,Sheet4!$C$2:$C$8408,Sheet3!$B24,Sheet4!$D$2:$D$8408,Sheet3!P$3,Sheet4!$E$2:$E$8408,Sheet3!P$4,Sheet4!$A$2:$A$8408,Sheet3!$B$1,Sheet4!$B$2:$B$8408,Sheet3!$A$3)","v":7},{"$f":"+SUMIFS(Sheet4!$DM$2:$DM$8408,Sheet4!$C$2:$C$8408,Sheet3!$B24,Sheet4!$D$2:$D$8408,Sheet3!Q$3,Sheet4!$E$2:$E$8408,Sheet3!Q$4,Sheet4!$A$2:$A$8408,Sheet3!$B$1,Sheet4!$B$2:$B$8408,Sheet3!$A$3)","v":0},{"$f":"+SUMIFS(Sheet4!$DM$2:$DM$8408,Sheet4!$C$2:$C$8408,Sheet3!$B24,Sheet4!$D$2:$D$8408,Sheet3!R$3,Sheet4!$E$2:$E$8408,Sheet3!R$4,Sheet4!$A$2:$A$8408,Sheet3!$B$1,Sheet4!$B$2:$B$8408,Sheet3!$A$3)","v":0},{"$f":"+SUMIFS(Sheet4!$DM$2:$DM$8408,Sheet4!$C$2:$C$8408,Sheet3!$B24,Sheet4!$D$2:$D$8408,Sheet3!S$3,Sheet4!$E$2:$E$8408,Sheet3!S$4,Sheet4!$A$2:$A$8408,Sheet3!$B$1,Sheet4!$B$2:$B$8408,Sheet3!$A$3)","v":0},{"$f":"+SUMIFS(Sheet4!$DM$2:$DM$8408,Sheet4!$C$2:$C$8408,Sheet3!$B24,Sheet4!$D$2:$D$8408,Sheet3!T$3,Sheet4!$E$2:$E$8408,Sheet3!T$4,Sheet4!$A$2:$A$8408,Sheet3!$B$1,Sheet4!$B$2:$B$8408,Sheet3!$A$3)","v":0},{"$f":"+SUMIFS(Sheet4!$DM$2:$DM$8408,Sheet4!$C$2:$C$8408,Sheet3!$B24,Sheet4!$D$2:$D$8408,Sheet3!U$3,Sheet4!$E$2:$E$8408,Sheet3!U$4,Sheet4!$A$2:$A$8408,Sheet3!$B$1,Sheet4!$B$2:$B$8408,Sheet3!$A$3)","v":32},{"$f":"+SUMIFS(Sheet4!$DM$2:$DM$8408,Sheet4!$C$2:$C$8408,Sheet3!$B24,Sheet4!$D$2:$D$8408,Sheet3!V$3,Sheet4!$E$2:$E$8408,Sheet3!V$4,Sheet4!$A$2:$A$8408,Sheet3!$B$1,Sheet4!$B$2:$B$8408,Sheet3!$A$3)","v":20},{"$f":"+SUMIFS(Sheet4!$DM$2:$DM$8408,Sheet4!$C$2:$C$8408,Sheet3!$B24,Sheet4!$D$2:$D$8408,Sheet3!W$3,Sheet4!$E$2:$E$8408,Sheet3!W$4,Sheet4!$A$2:$A$8408,Sheet3!$B$1,Sheet4!$B$2:$B$8408,Sheet3!$A$3)","v":0},{"$f":"+SUMIFS(Sheet4!$DM$2:$DM$8408,Sheet4!$C$2:$C$8408,Sheet3!$B24,Sheet4!$D$2:$D$8408,Sheet3!X$3,Sheet4!$E$2:$E$8408,Sheet3!X$4,Sheet4!$A$2:$A$8408,Sheet3!$B$1,Sheet4!$B$2:$B$8408,Sheet3!$A$3)","v":0},{"$f":"+SUMIFS(Sheet4!$DM$2:$DM$8408,Sheet4!$C$2:$C$8408,Sheet3!$B24,Sheet4!$D$2:$D$8408,Sheet3!Y$3,Sheet4!$E$2:$E$8408,Sheet3!Y$4,Sheet4!$A$2:$A$8408,Sheet3!$B$1,Sheet4!$B$2:$B$8408,Sheet3!$A$3)","v":0},{"$f":"+SUMIFS(Sheet4!$DM$2:$DM$8408,Sheet4!$C$2:$C$8408,Sheet3!$B24,Sheet4!$D$2:$D$8408,Sheet3!Z$3,Sheet4!$E$2:$E$8408,Sheet3!Z$4,Sheet4!$A$2:$A$8408,Sheet3!$B$1,Sheet4!$B$2:$B$8408,Sheet3!$A$3)","v":0},{"$f":"+SUMIFS(Sheet4!$DM$2:$DM$8408,Sheet4!$C$2:$C$8408,Sheet3!$B24,Sheet4!$D$2:$D$8408,Sheet3!AA$3,Sheet4!$E$2:$E$8408,Sheet3!AA$4,Sheet4!$A$2:$A$8408,Sheet3!$B$1,Sheet4!$B$2:$B$8408,Sheet3!$A$3)","v":0},{"$f":"+SUMIFS(Sheet4!$DM$2:$DM$8408,Sheet4!$C$2:$C$8408,Sheet3!$B24,Sheet4!$D$2:$D$8408,Sheet3!AB$3,Sheet4!$E$2:$E$8408,Sheet3!AB$4,Sheet4!$A$2:$A$8408,Sheet3!$B$1,Sheet4!$B$2:$B$8408,Sheet3!$A$3)","v":0},{"$f":"+SUMIFS(Sheet4!$DM$2:$DM$8408,Sheet4!$C$2:$C$8408,Sheet3!$B24,Sheet4!$D$2:$D$8408,Sheet3!AC$3,Sheet4!$E$2:$E$8408,Sheet3!AC$4,Sheet4!$A$2:$A$8408,Sheet3!$B$1,Sheet4!$B$2:$B$8408,Sheet3!$A$3)","v":4},{"$f":"+SUMIFS(Sheet4!$DM$2:$DM$8408,Sheet4!$C$2:$C$8408,Sheet3!$B24,Sheet4!$D$2:$D$8408,Sheet3!AD$3,Sheet4!$E$2:$E$8408,Sheet3!AD$4,Sheet4!$A$2:$A$8408,Sheet3!$B$1,Sheet4!$B$2:$B$8408,Sheet3!$A$3)","v":37},{"$f":"+SUMIFS(Sheet4!$DM$2:$DM$8408,Sheet4!$C$2:$C$8408,Sheet3!$B24,Sheet4!$D$2:$D$8408,Sheet3!AE$3,Sheet4!$E$2:$E$8408,Sheet3!AE$4,Sheet4!$A$2:$A$8408,Sheet3!$B$1,Sheet4!$B$2:$B$8408,Sheet3!$A$3)","v":23},{"$f":"+SUMIFS(Sheet4!$DM$2:$DM$8408,Sheet4!$C$2:$C$8408,Sheet3!$B24,Sheet4!$D$2:$D$8408,Sheet3!AF$3,Sheet4!$E$2:$E$8408,Sheet3!AF$4,Sheet4!$A$2:$A$8408,Sheet3!$B$1,Sheet4!$B$2:$B$8408,Sheet3!$A$3)","v":12},{"$f":"+SUMIFS(Sheet4!$DM$2:$DM$8408,Sheet4!$C$2:$C$8408,Sheet3!$B24,Sheet4!$D$2:$D$8408,Sheet3!AG$3,Sheet4!$E$2:$E$8408,Sheet3!AG$4,Sheet4!$A$2:$A$8408,Sheet3!$B$1,Sheet4!$B$2:$B$8408,Sheet3!$A$3)","v":4},{"$f":"+SUMIFS(Sheet4!$DM$2:$DM$8408,Sheet4!$C$2:$C$8408,Sheet3!$B24,Sheet4!$D$2:$D$8408,Sheet3!AH$3,Sheet4!$E$2:$E$8408,Sheet3!AH$4,Sheet4!$A$2:$A$8408,Sheet3!$B$1,Sheet4!$B$2:$B$8408,Sheet3!$A$3)","v":3},{"$f":"+SUMIFS(Sheet4!$DM$2:$DM$8408,Sheet4!$C$2:$C$8408,Sheet3!$B24,Sheet4!$D$2:$D$8408,Sheet3!AI$3,Sheet4!$E$2:$E$8408,Sheet3!AI$4,Sheet4!$A$2:$A$8408,Sheet3!$B$1,Sheet4!$B$2:$B$8408,Sheet3!$A$3)","v":62},{"$f":"+SUMIFS(Sheet4!$DM$2:$DM$8408,Sheet4!$C$2:$C$8408,Sheet3!$B24,Sheet4!$D$2:$D$8408,Sheet3!AJ$3,Sheet4!$E$2:$E$8408,Sheet3!AJ$4,Sheet4!$A$2:$A$8408,Sheet3!$B$1,Sheet4!$B$2:$B$8408,Sheet3!$A$3)","v":70},{"$f":"+SUMIFS(Sheet4!$DM$2:$DM$8408,Sheet4!$C$2:$C$8408,Sheet3!$B24,Sheet4!$D$2:$D$8408,Sheet3!AK$3,Sheet4!$E$2:$E$8408,Sheet3!AK$4,Sheet4!$A$2:$A$8408,Sheet3!$B$1,Sheet4!$B$2:$B$8408,Sheet3!$A$3)","v":21},{"$f":"+SUMIFS(Sheet4!$DM$2:$DM$8408,Sheet4!$C$2:$C$8408,Sheet3!$B24,Sheet4!$D$2:$D$8408,Sheet3!AL$3,Sheet4!$E$2:$E$8408,Sheet3!AL$4,Sheet4!$A$2:$A$8408,Sheet3!$B$1,Sheet4!$B$2:$B$8408,Sheet3!$A$3)","v":0},{"$f":"+SUMIFS(Sheet4!$DM$2:$DM$8408,Sheet4!$C$2:$C$8408,Sheet3!$B24,Sheet4!$D$2:$D$8408,Sheet3!AM$3,Sheet4!$E$2:$E$8408,Sheet3!AM$4,Sheet4!$A$2:$A$8408,Sheet3!$B$1,Sheet4!$B$2:$B$8408,Sheet3!$A$3)","v":7},{"$f":"+SUMIFS(Sheet4!$DM$2:$DM$8408,Sheet4!$C$2:$C$8408,Sheet3!$B24,Sheet4!$D$2:$D$8408,Sheet3!AN$3,Sheet4!$E$2:$E$8408,Sheet3!AN$4,Sheet4!$A$2:$A$8408,Sheet3!$B$1,Sheet4!$B$2:$B$8408,Sheet3!$A$3)","v":30},{"$f":"+SUMIFS(Sheet4!$DM$2:$DM$8408,Sheet4!$C$2:$C$8408,Sheet3!$B24,Sheet4!$D$2:$D$8408,Sheet3!AO$3,Sheet4!$E$2:$E$8408,Sheet3!AO$4,Sheet4!$A$2:$A$8408,Sheet3!$B$1,Sheet4!$B$2:$B$8408,Sheet3!$A$3)","v":39},{"$f":"+SUMIFS(Sheet4!$DM$2:$DM$8408,Sheet4!$C$2:$C$8408,Sheet3!$B24,Sheet4!$D$2:$D$8408,Sheet3!AP$3,Sheet4!$E$2:$E$8408,Sheet3!AP$4,Sheet4!$A$2:$A$8408,Sheet3!$B$1,Sheet4!$B$2:$B$8408,Sheet3!$A$3)","v":23},{"$f":"+SUMIFS(Sheet4!$DM$2:$DM$8408,Sheet4!$C$2:$C$8408,Sheet3!$B24,Sheet4!$D$2:$D$8408,Sheet3!AQ$3,Sheet4!$E$2:$E$8408,Sheet3!AQ$4,Sheet4!$A$2:$A$8408,Sheet3!$B$1,Sheet4!$B$2:$B$8408,Sheet3!$A$3)","v":6},{"$f":"+SUMIFS(Sheet4!$DM$2:$DM$8408,Sheet4!$C$2:$C$8408,Sheet3!$B24,Sheet4!$D$2:$D$8408,Sheet3!AR$3,Sheet4!$E$2:$E$8408,Sheet3!AR$4,Sheet4!$A$2:$A$8408,Sheet3!$B$1,Sheet4!$B$2:$B$8408,Sheet3!$A$3)","v":0},{"$f":"+SUMIFS(Sheet4!$DM$2:$DM$8408,Sheet4!$C$2:$C$8408,Sheet3!$B24,Sheet4!$D$2:$D$8408,Sheet3!AS$3,Sheet4!$E$2:$E$8408,Sheet3!AS$4,Sheet4!$A$2:$A$8408,Sheet3!$B$1,Sheet4!$B$2:$B$8408,Sheet3!$A$3)","v":0},{"$f":"+SUMIFS(Sheet4!$DM$2:$DM$8408,Sheet4!$C$2:$C$8408,Sheet3!$B24,Sheet4!$D$2:$D$8408,Sheet3!AT$3,Sheet4!$E$2:$E$8408,Sheet3!AT$4,Sheet4!$A$2:$A$8408,Sheet3!$B$1,Sheet4!$B$2:$B$8408,Sheet3!$A$3)","v":0},{"$f":"+SUMIFS(Sheet4!$DM$2:$DM$8408,Sheet4!$C$2:$C$8408,Sheet3!$B24,Sheet4!$D$2:$D$8408,Sheet3!AU$3,Sheet4!$E$2:$E$8408,Sheet3!AU$4,Sheet4!$A$2:$A$8408,Sheet3!$B$1,Sheet4!$B$2:$B$8408,Sheet3!$A$3)","v":0},{"$f":"+SUMIFS(Sheet4!$DM$2:$DM$8408,Sheet4!$C$2:$C$8408,Sheet3!$B24,Sheet4!$D$2:$D$8408,Sheet3!AV$3,Sheet4!$E$2:$E$8408,Sheet3!AV$4,Sheet4!$A$2:$A$8408,Sheet3!$B$1,Sheet4!$B$2:$B$8408,Sheet3!$A$3)","v":0},{"$f":"+SUMIFS(Sheet4!$DM$2:$DM$8408,Sheet4!$C$2:$C$8408,Sheet3!$B24,Sheet4!$D$2:$D$8408,Sheet3!AW$3,Sheet4!$E$2:$E$8408,Sheet3!AW$4,Sheet4!$A$2:$A$8408,Sheet3!$B$1,Sheet4!$B$2:$B$8408,Sheet3!$A$3)","v":33},{"$f":"+SUMIFS(Sheet4!$DM$2:$DM$8408,Sheet4!$C$2:$C$8408,Sheet3!$B24,Sheet4!$D$2:$D$8408,Sheet3!AX$3,Sheet4!$E$2:$E$8408,Sheet3!AX$4,Sheet4!$A$2:$A$8408,Sheet3!$B$1,Sheet4!$B$2:$B$8408,Sheet3!$A$3)","v":71},{"$f":"+SUMIFS(Sheet4!$DM$2:$DM$8408,Sheet4!$C$2:$C$8408,Sheet3!$B24,Sheet4!$D$2:$D$8408,Sheet3!AY$3,Sheet4!$E$2:$E$8408,Sheet3!AY$4,Sheet4!$A$2:$A$8408,Sheet3!$B$1,Sheet4!$B$2:$B$8408,Sheet3!$A$3)","v":25},{"$f":"+SUMIFS(Sheet4!$DM$2:$DM$8408,Sheet4!$C$2:$C$8408,Sheet3!$B24,Sheet4!$D$2:$D$8408,Sheet3!AZ$3,Sheet4!$E$2:$E$8408,Sheet3!AZ$4,Sheet4!$A$2:$A$8408,Sheet3!$B$1,Sheet4!$B$2:$B$8408,Sheet3!$A$3)","v":20},{"$f":"+SUMIFS(Sheet4!$DM$2:$DM$8408,Sheet4!$C$2:$C$8408,Sheet3!$B24,Sheet4!$D$2:$D$8408,Sheet3!BA$3,Sheet4!$E$2:$E$8408,Sheet3!BA$4,Sheet4!$A$2:$A$8408,Sheet3!$B$1,Sheet4!$B$2:$B$8408,Sheet3!$A$3)","v":5},{"$f":"+SUMIFS(Sheet4!$DM$2:$DM$8408,Sheet4!$C$2:$C$8408,Sheet3!$B24,Sheet4!$D$2:$D$8408,Sheet3!BB$3,Sheet4!$E$2:$E$8408,Sheet3!BB$4,Sheet4!$A$2:$A$8408,Sheet3!$B$1,Sheet4!$B$2:$B$8408,Sheet3!$A$3)","v":0},{"$f":"+SUMIFS(Sheet4!$DM$2:$DM$8408,Sheet4!$C$2:$C$8408,Sheet3!$B24,Sheet4!$D$2:$D$8408,Sheet3!BC$3,Sheet4!$E$2:$E$8408,Sheet3!BC$4,Sheet4!$A$2:$A$8408,Sheet3!$B$1,Sheet4!$B$2:$B$8408,Sheet3!$A$3)","v":3},{"$f":"+SUMIFS(Sheet4!$DM$2:$DM$8408,Sheet4!$C$2:$C$8408,Sheet3!$B24,Sheet4!$D$2:$D$8408,Sheet3!BD$3,Sheet4!$E$2:$E$8408,Sheet3!BD$4,Sheet4!$A$2:$A$8408,Sheet3!$B$1,Sheet4!$B$2:$B$8408,Sheet3!$A$3)","v":0},{"$f":"+SUMIFS(Sheet4!$DM$2:$DM$8408,Sheet4!$C$2:$C$8408,Sheet3!$B24,Sheet4!$D$2:$D$8408,Sheet3!BE$3,Sheet4!$E$2:$E$8408,Sheet3!BE$4,Sheet4!$A$2:$A$8408,Sheet3!$B$1,Sheet4!$B$2:$B$8408,Sheet3!$A$3)","v":7},{"$f":"+SUMIFS(Sheet4!$DM$2:$DM$8408,Sheet4!$C$2:$C$8408,Sheet3!$B24,Sheet4!$D$2:$D$8408,Sheet3!BF$3,Sheet4!$E$2:$E$8408,Sheet3!BF$4,Sheet4!$A$2:$A$8408,Sheet3!$B$1,Sheet4!$B$2:$B$8408,Sheet3!$A$3)","v":10},{"$f":"+SUMIFS(Sheet4!$DM$2:$DM$8408,Sheet4!$C$2:$C$8408,Sheet3!$B24,Sheet4!$D$2:$D$8408,Sheet3!BG$3,Sheet4!$E$2:$E$8408,Sheet3!BG$4,Sheet4!$A$2:$A$8408,Sheet3!$B$1,Sheet4!$B$2:$B$8408,Sheet3!$A$3)","v":0},{"$f":"+SUMIFS(Sheet4!$DM$2:$DM$8408,Sheet4!$C$2:$C$8408,Sheet3!$B24,Sheet4!$D$2:$D$8408,Sheet3!BH$3,Sheet4!$E$2:$E$8408,Sheet3!BH$4,Sheet4!$A$2:$A$8408,Sheet3!$B$1,Sheet4!$B$2:$B$8408,Sheet3!$A$3)","v":19},{"$f":"+SUMIFS(Sheet4!$DM$2:$DM$8408,Sheet4!$C$2:$C$8408,Sheet3!$B24,Sheet4!$D$2:$D$8408,Sheet3!BI$3,Sheet4!$E$2:$E$8408,Sheet3!BI$4,Sheet4!$A$2:$A$8408,Sheet3!$B$1,Sheet4!$B$2:$B$8408,Sheet3!$A$3)","v":10},{"$f":"+SUMIFS(Sheet4!$DM$2:$DM$8408,Sheet4!$C$2:$C$8408,Sheet3!$B24,Sheet4!$D$2:$D$8408,Sheet3!BJ$3,Sheet4!$E$2:$E$8408,Sheet3!BJ$4,Sheet4!$A$2:$A$8408,Sheet3!$B$1,Sheet4!$B$2:$B$8408,Sheet3!$A$3)","v":8},{"$f":"+SUMIFS(Sheet4!$DM$2:$DM$8408,Sheet4!$C$2:$C$8408,Sheet3!$B24,Sheet4!$D$2:$D$8408,Sheet3!BK$3,Sheet4!$E$2:$E$8408,Sheet3!BK$4,Sheet4!$A$2:$A$8408,Sheet3!$B$1,Sheet4!$B$2:$B$8408,Sheet3!$A$3)","v":0},{"$f":"+SUMIFS(Sheet4!$DM$2:$DM$8408,Sheet4!$C$2:$C$8408,Sheet3!$B24,Sheet4!$D$2:$D$8408,Sheet3!BL$3,Sheet4!$E$2:$E$8408,Sheet3!BL$4,Sheet4!$A$2:$A$8408,Sheet3!$B$1,Sheet4!$B$2:$B$8408,Sheet3!$A$3)","v":11},{"$f":"+SUMIFS(Sheet4!$DM$2:$DM$8408,Sheet4!$C$2:$C$8408,Sheet3!$B24,Sheet4!$D$2:$D$8408,Sheet3!BM$3,Sheet4!$E$2:$E$8408,Sheet3!BM$4,Sheet4!$A$2:$A$8408,Sheet3!$B$1,Sheet4!$B$2:$B$8408,Sheet3!$A$3)","v":53},{"$f":"+SUMIFS(Sheet4!$DM$2:$DM$8408,Sheet4!$C$2:$C$8408,Sheet3!$B24,Sheet4!$D$2:$D$8408,Sheet3!BN$3,Sheet4!$E$2:$E$8408,Sheet3!BN$4,Sheet4!$A$2:$A$8408,Sheet3!$B$1,Sheet4!$B$2:$B$8408,Sheet3!$A$3)","v":25},{"$f":"+SUMIFS(Sheet4!$DM$2:$DM$8408,Sheet4!$C$2:$C$8408,Sheet3!$B24,Sheet4!$D$2:$D$8408,Sheet3!BO$3,Sheet4!$E$2:$E$8408,Sheet3!BO$4,Sheet4!$A$2:$A$8408,Sheet3!$B$1,Sheet4!$B$2:$B$8408,Sheet3!$A$3)","v":15},{"$f":"+SUMIFS(Sheet4!$DM$2:$DM$8408,Sheet4!$C$2:$C$8408,Sheet3!$B24,Sheet4!$D$2:$D$8408,Sheet3!BP$3,Sheet4!$E$2:$E$8408,Sheet3!BP$4,Sheet4!$A$2:$A$8408,Sheet3!$B$1,Sheet4!$B$2:$B$8408,Sheet3!$A$3)","v":3},{"$f":"+SUMIFS(Sheet4!$DM$2:$DM$8408,Sheet4!$C$2:$C$8408,Sheet3!$B24,Sheet4!$D$2:$D$8408,Sheet3!BQ$3,Sheet4!$E$2:$E$8408,Sheet3!BQ$4,Sheet4!$A$2:$A$8408,Sheet3!$B$1,Sheet4!$B$2:$B$8408,Sheet3!$A$3)","v":0},{"$f":"+SUMIFS(Sheet4!$DM$2:$DM$8408,Sheet4!$C$2:$C$8408,Sheet3!$B24,Sheet4!$D$2:$D$8408,Sheet3!BR$3,Sheet4!$E$2:$E$8408,Sheet3!BR$4,Sheet4!$A$2:$A$8408,Sheet3!$B$1,Sheet4!$B$2:$B$8408,Sheet3!$A$3)","v":12},{"$f":"+SUMIFS(Sheet4!$DM$2:$DM$8408,Sheet4!$C$2:$C$8408,Sheet3!$B24,Sheet4!$D$2:$D$8408,Sheet3!BS$3,Sheet4!$E$2:$E$8408,Sheet3!BS$4,Sheet4!$A$2:$A$8408,Sheet3!$B$1,Sheet4!$B$2:$B$8408,Sheet3!$A$3)","v":6},{"$f":"+SUMIFS(Sheet4!$DM$2:$DM$8408,Sheet4!$C$2:$C$8408,Sheet3!$B24,Sheet4!$D$2:$D$8408,Sheet3!BT$3,Sheet4!$E$2:$E$8408,Sheet3!BT$4,Sheet4!$A$2:$A$8408,Sheet3!$B$1,Sheet4!$B$2:$B$8408,Sheet3!$A$3)","v":9},{"$f":"+SUMIFS(Sheet4!$DM$2:$DM$8408,Sheet4!$C$2:$C$8408,Sheet3!$B24,Sheet4!$D$2:$D$8408,Sheet3!BU$3,Sheet4!$E$2:$E$8408,Sheet3!BU$4,Sheet4!$A$2:$A$8408,Sheet3!$B$1,Sheet4!$B$2:$B$8408,Sheet3!$A$3)","v":0},{"$f":"+SUMIFS(Sheet4!$DM$2:$DM$8408,Sheet4!$C$2:$C$8408,Sheet3!$B24,Sheet4!$D$2:$D$8408,Sheet3!BV$3,Sheet4!$E$2:$E$8408,Sheet3!BV$4,Sheet4!$A$2:$A$8408,Sheet3!$B$1,Sheet4!$B$2:$B$8408,Sheet3!$A$3)","v":198},{"$f":"+SUMIFS(Sheet4!$DM$2:$DM$8408,Sheet4!$C$2:$C$8408,Sheet3!$B24,Sheet4!$D$2:$D$8408,Sheet3!BW$3,Sheet4!$E$2:$E$8408,Sheet3!BW$4,Sheet4!$A$2:$A$8408,Sheet3!$B$1,Sheet4!$B$2:$B$8408,Sheet3!$A$3)","v":157},{"$f":"+SUMIFS(Sheet4!$DM$2:$DM$8408,Sheet4!$C$2:$C$8408,Sheet3!$B24,Sheet4!$D$2:$D$8408,Sheet3!BX$3,Sheet4!$E$2:$E$8408,Sheet3!BX$4,Sheet4!$A$2:$A$8408,Sheet3!$B$1,Sheet4!$B$2:$B$8408,Sheet3!$A$3)","v":31},{"$f":"+SUMIFS(Sheet4!$DM$2:$DM$8408,Sheet4!$C$2:$C$8408,Sheet3!$B24,Sheet4!$D$2:$D$8408,Sheet3!BY$3,Sheet4!$E$2:$E$8408,Sheet3!BY$4,Sheet4!$A$2:$A$8408,Sheet3!$B$1,Sheet4!$B$2:$B$8408,Sheet3!$A$3)","v":4},{"$f":"+SUMIFS(Sheet4!$DM$2:$DM$8408,Sheet4!$C$2:$C$8408,Sheet3!$B24,Sheet4!$D$2:$D$8408,Sheet3!BZ$3,Sheet4!$E$2:$E$8408,Sheet3!BZ$4,Sheet4!$A$2:$A$8408,Sheet3!$B$1,Sheet4!$B$2:$B$8408,Sheet3!$A$3)","v":0},{"$f":"+SUMIFS(Sheet4!$DM$2:$DM$8408,Sheet4!$C$2:$C$8408,Sheet3!$B24,Sheet4!$D$2:$D$8408,Sheet3!CA$3,Sheet4!$E$2:$E$8408,Sheet3!CA$4,Sheet4!$A$2:$A$8408,Sheet3!$B$1,Sheet4!$B$2:$B$8408,Sheet3!$A$3)","v":20},{"$f":"+SUMIFS(Sheet4!$DM$2:$DM$8408,Sheet4!$C$2:$C$8408,Sheet3!$B24,Sheet4!$D$2:$D$8408,Sheet3!CB$3,Sheet4!$E$2:$E$8408,Sheet3!CB$4,Sheet4!$A$2:$A$8408,Sheet3!$B$1,Sheet4!$B$2:$B$8408,Sheet3!$A$3)","v":29},{"$f":"+SUMIFS(Sheet4!$DM$2:$DM$8408,Sheet4!$C$2:$C$8408,Sheet3!$B24,Sheet4!$D$2:$D$8408,Sheet3!CC$3,Sheet4!$E$2:$E$8408,Sheet3!CC$4,Sheet4!$A$2:$A$8408,Sheet3!$B$1,Sheet4!$B$2:$B$8408,Sheet3!$A$3)","v":8},{"$f":"+SUMIFS(Sheet4!$DM$2:$DM$8408,Sheet4!$C$2:$C$8408,Sheet3!$B24,Sheet4!$D$2:$D$8408,Sheet3!CD$3,Sheet4!$E$2:$E$8408,Sheet3!CD$4,Sheet4!$A$2:$A$8408,Sheet3!$B$1,Sheet4!$B$2:$B$8408,Sheet3!$A$3)","v":13},{"$f":"+SUMIFS(Sheet4!$DM$2:$DM$8408,Sheet4!$C$2:$C$8408,Sheet3!$B24,Sheet4!$D$2:$D$8408,Sheet3!CE$3,Sheet4!$E$2:$E$8408,Sheet3!CE$4,Sheet4!$A$2:$A$8408,Sheet3!$B$1,Sheet4!$B$2:$B$8408,Sheet3!$A$3)","v":3},{"$f":"+SUMIFS(Sheet4!$DM$2:$DM$8408,Sheet4!$C$2:$C$8408,Sheet3!$B24,Sheet4!$D$2:$D$8408,Sheet3!CF$3,Sheet4!$E$2:$E$8408,Sheet3!CF$4,Sheet4!$A$2:$A$8408,Sheet3!$B$1,Sheet4!$B$2:$B$8408,Sheet3!$A$3)","v":117},{"$f":"+SUMIFS(Sheet4!$DM$2:$DM$8408,Sheet4!$C$2:$C$8408,Sheet3!$B24,Sheet4!$D$2:$D$8408,Sheet3!CG$3,Sheet4!$E$2:$E$8408,Sheet3!CG$4,Sheet4!$A$2:$A$8408,Sheet3!$B$1,Sheet4!$B$2:$B$8408,Sheet3!$A$3)","v":72},{"$f":"+SUMIFS(Sheet4!$DM$2:$DM$8408,Sheet4!$C$2:$C$8408,Sheet3!$B24,Sheet4!$D$2:$D$8408,Sheet3!CH$3,Sheet4!$E$2:$E$8408,Sheet3!CH$4,Sheet4!$A$2:$A$8408,Sheet3!$B$1,Sheet4!$B$2:$B$8408,Sheet3!$A$3)","v":18},{"$f":"+SUMIFS(Sheet4!$DM$2:$DM$8408,Sheet4!$C$2:$C$8408,Sheet3!$B24,Sheet4!$D$2:$D$8408,Sheet3!CI$3,Sheet4!$E$2:$E$8408,Sheet3!CI$4,Sheet4!$A$2:$A$8408,Sheet3!$B$1,Sheet4!$B$2:$B$8408,Sheet3!$A$3)","v":3},{"$f":"+SUMIFS(Sheet4!$DM$2:$DM$8408,Sheet4!$C$2:$C$8408,Sheet3!$B24,Sheet4!$D$2:$D$8408,Sheet3!CJ$3,Sheet4!$E$2:$E$8408,Sheet3!CJ$4,Sheet4!$A$2:$A$8408,Sheet3!$B$1,Sheet4!$B$2:$B$8408,Sheet3!$A$3)","v":0},{"$f":"+SUMIFS(Sheet4!$DM$2:$DM$8408,Sheet4!$C$2:$C$8408,Sheet3!$B24,Sheet4!$D$2:$D$8408,Sheet3!CK$3,Sheet4!$E$2:$E$8408,Sheet3!CK$4,Sheet4!$A$2:$A$8408,Sheet3!$B$1,Sheet4!$B$2:$B$8408,Sheet3!$A$3)","v":0},{"$f":"+SUMIFS(Sheet4!$DM$2:$DM$8408,Sheet4!$C$2:$C$8408,Sheet3!$B24,Sheet4!$D$2:$D$8408,Sheet3!CL$3,Sheet4!$E$2:$E$8408,Sheet3!CL$4,Sheet4!$A$2:$A$8408,Sheet3!$B$1,Sheet4!$B$2:$B$8408,Sheet3!$A$3)","v":0},{"$f":"+SUMIFS(Sheet4!$DM$2:$DM$8408,Sheet4!$C$2:$C$8408,Sheet3!$B24,Sheet4!$D$2:$D$8408,Sheet3!CM$3,Sheet4!$E$2:$E$8408,Sheet3!CM$4,Sheet4!$A$2:$A$8408,Sheet3!$B$1,Sheet4!$B$2:$B$8408,Sheet3!$A$3)","v":9},{"$f":"+SUMIFS(Sheet4!$DM$2:$DM$8408,Sheet4!$C$2:$C$8408,Sheet3!$B24,Sheet4!$D$2:$D$8408,Sheet3!CN$3,Sheet4!$E$2:$E$8408,Sheet3!CN$4,Sheet4!$A$2:$A$8408,Sheet3!$B$1,Sheet4!$B$2:$B$8408,Sheet3!$A$3)","v":13},{"$f":"+SUMIFS(Sheet4!$DM$2:$DM$8408,Sheet4!$C$2:$C$8408,Sheet3!$B24,Sheet4!$D$2:$D$8408,Sheet3!CO$3,Sheet4!$E$2:$E$8408,Sheet3!CO$4,Sheet4!$A$2:$A$8408,Sheet3!$B$1,Sheet4!$B$2:$B$8408,Sheet3!$A$3)","v":16},{"$f":"+SUMIFS(Sheet4!$DM$2:$DM$8408,Sheet4!$C$2:$C$8408,Sheet3!$B24,Sheet4!$D$2:$D$8408,Sheet3!CP$3,Sheet4!$E$2:$E$8408,Sheet3!CP$4,Sheet4!$A$2:$A$8408,Sheet3!$B$1,Sheet4!$B$2:$B$8408,Sheet3!$A$3)","v":0},{"$f":"+SUMIFS(Sheet4!$DM$2:$DM$8408,Sheet4!$C$2:$C$8408,Sheet3!$B24,Sheet4!$D$2:$D$8408,Sheet3!CQ$3,Sheet4!$E$2:$E$8408,Sheet3!CQ$4,Sheet4!$A$2:$A$8408,Sheet3!$B$1,Sheet4!$B$2:$B$8408,Sheet3!$A$3)","v":3},{"$f":"+SUMIFS(Sheet4!$DM$2:$DM$8408,Sheet4!$C$2:$C$8408,Sheet3!$B24,Sheet4!$D$2:$D$8408,Sheet3!CR$3,Sheet4!$E$2:$E$8408,Sheet3!CR$4,Sheet4!$A$2:$A$8408,Sheet3!$B$1,Sheet4!$B$2:$B$8408,Sheet3!$A$3)","v":6},{"$f":"+SUMIFS(Sheet4!$DM$2:$DM$8408,Sheet4!$C$2:$C$8408,Sheet3!$B24,Sheet4!$D$2:$D$8408,Sheet3!CS$3,Sheet4!$E$2:$E$8408,Sheet3!CS$4,Sheet4!$A$2:$A$8408,Sheet3!$B$1,Sheet4!$B$2:$B$8408,Sheet3!$A$3)","v":3},{"$f":"+SUMIFS(Sheet4!$DM$2:$DM$8408,Sheet4!$C$2:$C$8408,Sheet3!$B24,Sheet4!$D$2:$D$8408,Sheet3!CT$3,Sheet4!$E$2:$E$8408,Sheet3!CT$4,Sheet4!$A$2:$A$8408,Sheet3!$B$1,Sheet4!$B$2:$B$8408,Sheet3!$A$3)","v":0},{"$f":"+IF(SUMIFS(Sheet4!$DN$2:$DN$8408,Sheet4!$C$2:$C$8408,Sheet3!$B24,Sheet4!$D$2:$D$8408,Sheet3!CU$3,Sheet4!$A$2:$A$8408,Sheet3!$B$1,Sheet4!$B$2:$B$8408,Sheet3!$A$3)<3,0,SUMIFS(Sheet4!$DN$2:$DN$8408,Sheet4!$C$2:$C$8408,Sheet3!$B24,Sheet4!$D$2:$D$8408,Sheet3!CU$3,Sheet4!$A$2:$A$8408,Sheet3!$B$1,Sheet4!$B$2:$B$8408,Sheet3!$A$3))","v":11},{"$f":"+IF(SUMIFS(Sheet4!$DN$2:$DN$8408,Sheet4!$C$2:$C$8408,Sheet3!$B24,Sheet4!$D$2:$D$8408,Sheet3!CV$3,Sheet4!$A$2:$A$8408,Sheet3!$B$1,Sheet4!$B$2:$B$8408,Sheet3!$A$3)<3,0,SUMIFS(Sheet4!$DN$2:$DN$8408,Sheet4!$C$2:$C$8408,Sheet3!$B24,Sheet4!$D$2:$D$8408,Sheet3!CV$3,Sheet4!$A$2:$A$8408,Sheet3!$B$1,Sheet4!$B$2:$B$8408,Sheet3!$A$3))","v":55},{"$f":"+IF(SUMIFS(Sheet4!$DN$2:$DN$8408,Sheet4!$C$2:$C$8408,Sheet3!$B24,Sheet4!$D$2:$D$8408,Sheet3!CW$3,Sheet4!$A$2:$A$8408,Sheet3!$B$1,Sheet4!$B$2:$B$8408,Sheet3!$A$3)<3,0,SUMIFS(Sheet4!$DN$2:$DN$8408,Sheet4!$C$2:$C$8408,Sheet3!$B24,Sheet4!$D$2:$D$8408,Sheet3!CW$3,Sheet4!$A$2:$A$8408,Sheet3!$B$1,Sheet4!$B$2:$B$8408,Sheet3!$A$3))","v":50},{"$f":"+IF(SUMIFS(Sheet4!$DN$2:$DN$8408,Sheet4!$C$2:$C$8408,Sheet3!$B24,Sheet4!$D$2:$D$8408,Sheet3!CX$3,Sheet4!$A$2:$A$8408,Sheet3!$B$1,Sheet4!$B$2:$B$8408,Sheet3!$A$3)<3,0,SUMIFS(Sheet4!$DN$2:$DN$8408,Sheet4!$C$2:$C$8408,Sheet3!$B24,Sheet4!$D$2:$D$8408,Sheet3!CX$3,Sheet4!$A$2:$A$8408,Sheet3!$B$1,Sheet4!$B$2:$B$8408,Sheet3!$A$3))","v":55},{"$f":"+IF(SUMIFS(Sheet4!$DN$2:$DN$8408,Sheet4!$C$2:$C$8408,Sheet3!$B24,Sheet4!$D$2:$D$8408,Sheet3!CY$3,Sheet4!$A$2:$A$8408,Sheet3!$B$1,Sheet4!$B$2:$B$8408,Sheet3!$A$3)<3,0,SUMIFS(Sheet4!$DN$2:$DN$8408,Sheet4!$C$2:$C$8408,Sheet3!$B24,Sheet4!$D$2:$D$8408,Sheet3!CY$3,Sheet4!$A$2:$A$8408,Sheet3!$B$1,Sheet4!$B$2:$B$8408,Sheet3!$A$3))","v":0},{"$f":"+IF(SUMIFS(Sheet4!$DN$2:$DN$8408,Sheet4!$C$2:$C$8408,Sheet3!$B24,Sheet4!$D$2:$D$8408,Sheet3!CZ$3,Sheet4!$A$2:$A$8408,Sheet3!$B$1,Sheet4!$B$2:$B$8408,Sheet3!$A$3)<3,0,SUMIFS(Sheet4!$DN$2:$DN$8408,Sheet4!$C$2:$C$8408,Sheet3!$B24,Sheet4!$D$2:$D$8408,Sheet3!CZ$3,Sheet4!$A$2:$A$8408,Sheet3!$B$1,Sheet4!$B$2:$B$8408,Sheet3!$A$3))","v":94},{"$f":"+IF(SUMIFS(Sheet4!$DN$2:$DN$8408,Sheet4!$C$2:$C$8408,Sheet3!$B24,Sheet4!$D$2:$D$8408,Sheet3!DA$3,Sheet4!$A$2:$A$8408,Sheet3!$B$1,Sheet4!$B$2:$B$8408,Sheet3!$A$3)<3,0,SUMIFS(Sheet4!$DN$2:$DN$8408,Sheet4!$C$2:$C$8408,Sheet3!$B24,Sheet4!$D$2:$D$8408,Sheet3!DA$3,Sheet4!$A$2:$A$8408,Sheet3!$B$1,Sheet4!$B$2:$B$8408,Sheet3!$A$3))","v":159},{"$f":"+IF(SUMIFS(Sheet4!$DN$2:$DN$8408,Sheet4!$C$2:$C$8408,Sheet3!$B24,Sheet4!$D$2:$D$8408,Sheet3!DB$3,Sheet4!$A$2:$A$8408,Sheet3!$B$1,Sheet4!$B$2:$B$8408,Sheet3!$A$3)<3,0,SUMIFS(Sheet4!$DN$2:$DN$8408,Sheet4!$C$2:$C$8408,Sheet3!$B24,Sheet4!$D$2:$D$8408,Sheet3!DB$3,Sheet4!$A$2:$A$8408,Sheet3!$B$1,Sheet4!$B$2:$B$8408,Sheet3!$A$3))","v":112},{"$f":"+IF(SUMIFS(Sheet4!$DN$2:$DN$8408,Sheet4!$C$2:$C$8408,Sheet3!$B24,Sheet4!$D$2:$D$8408,Sheet3!DC$3,Sheet4!$A$2:$A$8408,Sheet3!$B$1,Sheet4!$B$2:$B$8408,Sheet3!$A$3)<3,0,SUMIFS(Sheet4!$DN$2:$DN$8408,Sheet4!$C$2:$C$8408,Sheet3!$B24,Sheet4!$D$2:$D$8408,Sheet3!DC$3,Sheet4!$A$2:$A$8408,Sheet3!$B$1,Sheet4!$B$2:$B$8408,Sheet3!$A$3))","v":0},{"$f":"+IF(SUMIFS(Sheet4!$DN$2:$DN$8408,Sheet4!$C$2:$C$8408,Sheet3!$B24,Sheet4!$D$2:$D$8408,Sheet3!DD$3,Sheet4!$A$2:$A$8408,Sheet3!$B$1,Sheet4!$B$2:$B$8408,Sheet3!$A$3)<3,0,SUMIFS(Sheet4!$DN$2:$DN$8408,Sheet4!$C$2:$C$8408,Sheet3!$B24,Sheet4!$D$2:$D$8408,Sheet3!DD$3,Sheet4!$A$2:$A$8408,Sheet3!$B$1,Sheet4!$B$2:$B$8408,Sheet3!$A$3))","v":159},{"$f":"+IF(SUMIFS(Sheet4!$DN$2:$DN$8408,Sheet4!$C$2:$C$8408,Sheet3!$B24,Sheet4!$D$2:$D$8408,Sheet3!DE$3,Sheet4!$A$2:$A$8408,Sheet3!$B$1,Sheet4!$B$2:$B$8408,Sheet3!$A$3)<3,0,SUMIFS(Sheet4!$DN$2:$DN$8408,Sheet4!$C$2:$C$8408,Sheet3!$B24,Sheet4!$D$2:$D$8408,Sheet3!DE$3,Sheet4!$A$2:$A$8408,Sheet3!$B$1,Sheet4!$B$2:$B$8408,Sheet3!$A$3))","v":24},{"$f":"+IF(SUMIFS(Sheet4!$DN$2:$DN$8408,Sheet4!$C$2:$C$8408,Sheet3!$B24,Sheet4!$D$2:$D$8408,Sheet3!DF$3,Sheet4!$A$2:$A$8408,Sheet3!$B$1,Sheet4!$B$2:$B$8408,Sheet3!$A$3)<3,0,SUMIFS(Sheet4!$DN$2:$DN$8408,Sheet4!$C$2:$C$8408,Sheet3!$B24,Sheet4!$D$2:$D$8408,Sheet3!DF$3,Sheet4!$A$2:$A$8408,Sheet3!$B$1,Sheet4!$B$2:$B$8408,Sheet3!$A$3))","v":38},{"$f":"+IF(SUMIFS(Sheet4!$DN$2:$DN$8408,Sheet4!$C$2:$C$8408,Sheet3!$B24,Sheet4!$D$2:$D$8408,Sheet3!DG$3,Sheet4!$A$2:$A$8408,Sheet3!$B$1,Sheet4!$B$2:$B$8408,Sheet3!$A$3)<3,0,SUMIFS(Sheet4!$DN$2:$DN$8408,Sheet4!$C$2:$C$8408,Sheet3!$B24,Sheet4!$D$2:$D$8408,Sheet3!DG$3,Sheet4!$A$2:$A$8408,Sheet3!$B$1,Sheet4!$B$2:$B$8408,Sheet3!$A$3))","v":114},{"$f":"+IF(SUMIFS(Sheet4!$DN$2:$DN$8408,Sheet4!$C$2:$C$8408,Sheet3!$B24,Sheet4!$D$2:$D$8408,Sheet3!DH$3,Sheet4!$A$2:$A$8408,Sheet3!$B$1,Sheet4!$B$2:$B$8408,Sheet3!$A$3)<3,0,SUMIFS(Sheet4!$DN$2:$DN$8408,Sheet4!$C$2:$C$8408,Sheet3!$B24,Sheet4!$D$2:$D$8408,Sheet3!DH$3,Sheet4!$A$2:$A$8408,Sheet3!$B$1,Sheet4!$B$2:$B$8408,Sheet3!$A$3))","v":28},{"$f":"+IF(SUMIFS(Sheet4!$DN$2:$DN$8408,Sheet4!$C$2:$C$8408,Sheet3!$B24,Sheet4!$D$2:$D$8408,Sheet3!DI$3,Sheet4!$A$2:$A$8408,Sheet3!$B$1,Sheet4!$B$2:$B$8408,Sheet3!$A$3)<3,0,SUMIFS(Sheet4!$DN$2:$DN$8408,Sheet4!$C$2:$C$8408,Sheet3!$B24,Sheet4!$D$2:$D$8408,Sheet3!DI$3,Sheet4!$A$2:$A$8408,Sheet3!$B$1,Sheet4!$B$2:$B$8408,Sheet3!$A$3))","v":391},{"$f":"+IF(SUMIFS(Sheet4!$DN$2:$DN$8408,Sheet4!$C$2:$C$8408,Sheet3!$B24,Sheet4!$D$2:$D$8408,Sheet3!DJ$3,Sheet4!$A$2:$A$8408,Sheet3!$B$1,Sheet4!$B$2:$B$8408,Sheet3!$A$3)<3,0,SUMIFS(Sheet4!$DN$2:$DN$8408,Sheet4!$C$2:$C$8408,Sheet3!$B24,Sheet4!$D$2:$D$8408,Sheet3!DJ$3,Sheet4!$A$2:$A$8408,Sheet3!$B$1,Sheet4!$B$2:$B$8408,Sheet3!$A$3))","v":76},{"$f":"+IF(SUMIFS(Sheet4!$DN$2:$DN$8408,Sheet4!$C$2:$C$8408,Sheet3!$B24,Sheet4!$D$2:$D$8408,Sheet3!DK$3,Sheet4!$A$2:$A$8408,Sheet3!$B$1,Sheet4!$B$2:$B$8408,Sheet3!$A$3)<3,0,SUMIFS(Sheet4!$DN$2:$DN$8408,Sheet4!$C$2:$C$8408,Sheet3!$B24,Sheet4!$D$2:$D$8408,Sheet3!DK$3,Sheet4!$A$2:$A$8408,Sheet3!$B$1,Sheet4!$B$2:$B$8408,Sheet3!$A$3))","v":211},{"$f":"+IF(SUMIFS(Sheet4!$DN$2:$DN$8408,Sheet4!$C$2:$C$8408,Sheet3!$B24,Sheet4!$D$2:$D$8408,Sheet3!DL$3,Sheet4!$A$2:$A$8408,Sheet3!$B$1,Sheet4!$B$2:$B$8408,Sheet3!$A$3)<3,0,SUMIFS(Sheet4!$DN$2:$DN$8408,Sheet4!$C$2:$C$8408,Sheet3!$B24,Sheet4!$D$2:$D$8408,Sheet3!DL$3,Sheet4!$A$2:$A$8408,Sheet3!$B$1,Sheet4!$B$2:$B$8408,Sheet3!$A$3))","v":42},{"$f":"+IF(SUMIFS(Sheet4!$DN$2:$DN$8408,Sheet4!$C$2:$C$8408,Sheet3!$B24,Sheet4!$D$2:$D$8408,Sheet3!DM$3,Sheet4!$A$2:$A$8408,Sheet3!$B$1,Sheet4!$B$2:$B$8408,Sheet3!$A$3)<3,0,SUMIFS(Sheet4!$DN$2:$DN$8408,Sheet4!$C$2:$C$8408,Sheet3!$B24,Sheet4!$D$2:$D$8408,Sheet3!DM$3,Sheet4!$A$2:$A$8408,Sheet3!$B$1,Sheet4!$B$2:$B$8408,Sheet3!$A$3))","v":13},{"$f":"+IF(SUMIFS(Sheet4!$DN$2:$DN$8408,Sheet4!$C$2:$C$8408,Sheet3!$B24,Sheet4!$E$2:$E$8408,Sheet3!DN$4,Sheet4!$A$2:$A$8408,Sheet3!$B$1,Sheet4!$B$2:$B$8408,Sheet3!$A$3)<3,0,SUMIFS(Sheet4!$DN$2:$DN$8408,Sheet4!$C$2:$C$8408,Sheet3!$B24,Sheet4!$E$2:$E$8408,Sheet3!DN$4,Sheet4!$A$2:$A$8408,Sheet3!$B$1,Sheet4!$B$2:$B$8408,Sheet3!$A$3))","v":438},{"$f":"+IF(SUMIFS(Sheet4!$DN$2:$DN$8408,Sheet4!$C$2:$C$8408,Sheet3!$B24,Sheet4!$E$2:$E$8408,Sheet3!DO$4,Sheet4!$A$2:$A$8408,Sheet3!$B$1,Sheet4!$B$2:$B$8408,Sheet3!$A$3)<3,0,SUMIFS(Sheet4!$DN$2:$DN$8408,Sheet4!$C$2:$C$8408,Sheet3!$B24,Sheet4!$E$2:$E$8408,Sheet3!DO$4,Sheet4!$A$2:$A$8408,Sheet3!$B$1,Sheet4!$B$2:$B$8408,Sheet3!$A$3))","v":586},{"$f":"+IF(SUMIFS(Sheet4!$DN$2:$DN$8408,Sheet4!$C$2:$C$8408,Sheet3!$B24,Sheet4!$E$2:$E$8408,Sheet3!DP$4,Sheet4!$A$2:$A$8408,Sheet3!$B$1,Sheet4!$B$2:$B$8408,Sheet3!$A$3)<3,0,SUMIFS(Sheet4!$DN$2:$DN$8408,Sheet4!$C$2:$C$8408,Sheet3!$B24,Sheet4!$E$2:$E$8408,Sheet3!DP$4,Sheet4!$A$2:$A$8408,Sheet3!$B$1,Sheet4!$B$2:$B$8408,Sheet3!$A$3))","v":344},{"$f":"+IF(SUMIFS(Sheet4!$DN$2:$DN$8408,Sheet4!$C$2:$C$8408,Sheet3!$B24,Sheet4!$E$2:$E$8408,Sheet3!DQ$4,Sheet4!$A$2:$A$8408,Sheet3!$B$1,Sheet4!$B$2:$B$8408,Sheet3!$A$3)<3,0,SUMIFS(Sheet4!$DN$2:$DN$8408,Sheet4!$C$2:$C$8408,Sheet3!$B24,Sheet4!$E$2:$E$8408,Sheet3!DQ$4,Sheet4!$A$2:$A$8408,Sheet3!$B$1,Sheet4!$B$2:$B$8408,Sheet3!$A$3))","v":203},{"$f":"+IF(SUMIFS(Sheet4!$DN$2:$DN$8408,Sheet4!$C$2:$C$8408,Sheet3!$B24,Sheet4!$E$2:$E$8408,Sheet3!DR$4,Sheet4!$A$2:$A$8408,Sheet3!$B$1,Sheet4!$B$2:$B$8408,Sheet3!$A$3)<3,0,SUMIFS(Sheet4!$DN$2:$DN$8408,Sheet4!$C$2:$C$8408,Sheet3!$B24,Sheet4!$E$2:$E$8408,Sheet3!DR$4,Sheet4!$A$2:$A$8408,Sheet3!$B$1,Sheet4!$B$2:$B$8408,Sheet3!$A$3))","v":65}]
[4,"181","Alentejo Litoral",{"$f":"+SUMIFS(Sheet4!$DM$2:$DM$8408,Sheet4!$C$2:$C$8408,Sheet3!$B25,Sheet4!$D$2:$D$8408,Sheet3!D$3,Sheet4!$E$2:$E$8408,Sheet3!D$4,Sheet4!$A$2:$A$8408,Sheet3!$B$1,Sheet4!$B$2:$B$8408,Sheet3!$A$3)","v":0},{"$f":"+SUMIFS(Sheet4!$DM$2:$DM$8408,Sheet4!$C$2:$C$8408,Sheet3!$B25,Sheet4!$D$2:$D$8408,Sheet3!E$3,Sheet4!$E$2:$E$8408,Sheet3!E$4,Sheet4!$A$2:$A$8408,Sheet3!$B$1,Sheet4!$B$2:$B$8408,Sheet3!$A$3)","v":4},{"$f":"+SUMIFS(Sheet4!$DM$2:$DM$8408,Sheet4!$C$2:$C$8408,Sheet3!$B25,Sheet4!$D$2:$D$8408,Sheet3!F$3,Sheet4!$E$2:$E$8408,Sheet3!F$4,Sheet4!$A$2:$A$8408,Sheet3!$B$1,Sheet4!$B$2:$B$8408,Sheet3!$A$3)","v":0},{"$f":"+SUMIFS(Sheet4!$DM$2:$DM$8408,Sheet4!$C$2:$C$8408,Sheet3!$B25,Sheet4!$D$2:$D$8408,Sheet3!G$3,Sheet4!$E$2:$E$8408,Sheet3!G$4,Sheet4!$A$2:$A$8408,Sheet3!$B$1,Sheet4!$B$2:$B$8408,Sheet3!$A$3)","v":6},{"$f":"+SUMIFS(Sheet4!$DM$2:$DM$8408,Sheet4!$C$2:$C$8408,Sheet3!$B25,Sheet4!$D$2:$D$8408,Sheet3!H$3,Sheet4!$E$2:$E$8408,Sheet3!H$4,Sheet4!$A$2:$A$8408,Sheet3!$B$1,Sheet4!$B$2:$B$8408,Sheet3!$A$3)","v":5},{"$f":"+SUMIFS(Sheet4!$DM$2:$DM$8408,Sheet4!$C$2:$C$8408,Sheet3!$B25,Sheet4!$D$2:$D$8408,Sheet3!I$3,Sheet4!$E$2:$E$8408,Sheet3!I$4,Sheet4!$A$2:$A$8408,Sheet3!$B$1,Sheet4!$B$2:$B$8408,Sheet3!$A$3)","v":0},{"$f":"+SUMIFS(Sheet4!$DM$2:$DM$8408,Sheet4!$C$2:$C$8408,Sheet3!$B25,Sheet4!$D$2:$D$8408,Sheet3!J$3,Sheet4!$E$2:$E$8408,Sheet3!J$4,Sheet4!$A$2:$A$8408,Sheet3!$B$1,Sheet4!$B$2:$B$8408,Sheet3!$A$3)","v":3},{"$f":"+SUMIFS(Sheet4!$DM$2:$DM$8408,Sheet4!$C$2:$C$8408,Sheet3!$B25,Sheet4!$D$2:$D$8408,Sheet3!K$3,Sheet4!$E$2:$E$8408,Sheet3!K$4,Sheet4!$A$2:$A$8408,Sheet3!$B$1,Sheet4!$B$2:$B$8408,Sheet3!$A$3)","v":0},{"$f":"+SUMIFS(Sheet4!$DM$2:$DM$8408,Sheet4!$C$2:$C$8408,Sheet3!$B25,Sheet4!$D$2:$D$8408,Sheet3!L$3,Sheet4!$E$2:$E$8408,Sheet3!L$4,Sheet4!$A$2:$A$8408,Sheet3!$B$1,Sheet4!$B$2:$B$8408,Sheet3!$A$3)","v":3},{"$f":"+SUMIFS(Sheet4!$DM$2:$DM$8408,Sheet4!$C$2:$C$8408,Sheet3!$B25,Sheet4!$D$2:$D$8408,Sheet3!M$3,Sheet4!$E$2:$E$8408,Sheet3!M$4,Sheet4!$A$2:$A$8408,Sheet3!$B$1,Sheet4!$B$2:$B$8408,Sheet3!$A$3)","v":0},{"$f":"+SUMIFS(Sheet4!$DM$2:$DM$8408,Sheet4!$C$2:$C$8408,Sheet3!$B25,Sheet4!$D$2:$D$8408,Sheet3!N$3,Sheet4!$E$2:$E$8408,Sheet3!N$4,Sheet4!$A$2:$A$8408,Sheet3!$B$1,Sheet4!$B$2:$B$8408,Sheet3!$A$3)","v":26},{"$f":"+SUMIFS(Sheet4!$DM$2:$DM$8408,Sheet4!$C$2:$C$8408,Sheet3!$B25,Sheet4!$D$2:$D$8408,Sheet3!O$3,Sheet4!$E$2:$E$8408,Sheet3!O$4,Sheet4!$A$2:$A$8408,Sheet3!$B$1,Sheet4!$B$2:$B$8408,Sheet3!$A$3)","v":46},{"$f":"+SUMIFS(Sheet4!$DM$2:$DM$8408,Sheet4!$C$2:$C$8408,Sheet3!$B25,Sheet4!$D$2:$D$8408,Sheet3!P$3,Sheet4!$E$2:$E$8408,Sheet3!P$4,Sheet4!$A$2:$A$8408,Sheet3!$B$1,Sheet4!$B$2:$B$8408,Sheet3!$A$3)","v":10},{"$f":"+SUMIFS(Sheet4!$DM$2:$DM$8408,Sheet4!$C$2:$C$8408,Sheet3!$B25,Sheet4!$D$2:$D$8408,Sheet3!Q$3,Sheet4!$E$2:$E$8408,Sheet3!Q$4,Sheet4!$A$2:$A$8408,Sheet3!$B$1,Sheet4!$B$2:$B$8408,Sheet3!$A$3)","v":4},{"$f":"+SUMIFS(Sheet4!$DM$2:$DM$8408,Sheet4!$C$2:$C$8408,Sheet3!$B25,Sheet4!$D$2:$D$8408,Sheet3!R$3,Sheet4!$E$2:$E$8408,Sheet3!R$4,Sheet4!$A$2:$A$8408,Sheet3!$B$1,Sheet4!$B$2:$B$8408,Sheet3!$A$3)","v":0},{"$f":"+SUMIFS(Sheet4!$DM$2:$DM$8408,Sheet4!$C$2:$C$8408,Sheet3!$B25,Sheet4!$D$2:$D$8408,Sheet3!S$3,Sheet4!$E$2:$E$8408,Sheet3!S$4,Sheet4!$A$2:$A$8408,Sheet3!$B$1,Sheet4!$B$2:$B$8408,Sheet3!$A$3)","v":0},{"$f":"+SUMIFS(Sheet4!$DM$2:$DM$8408,Sheet4!$C$2:$C$8408,Sheet3!$B25,Sheet4!$D$2:$D$8408,Sheet3!T$3,Sheet4!$E$2:$E$8408,Sheet3!T$4,Sheet4!$A$2:$A$8408,Sheet3!$B$1,Sheet4!$B$2:$B$8408,Sheet3!$A$3)","v":49},{"$f":"+SUMIFS(Sheet4!$DM$2:$DM$8408,Sheet4!$C$2:$C$8408,Sheet3!$B25,Sheet4!$D$2:$D$8408,Sheet3!U$3,Sheet4!$E$2:$E$8408,Sheet3!U$4,Sheet4!$A$2:$A$8408,Sheet3!$B$1,Sheet4!$B$2:$B$8408,Sheet3!$A$3)","v":38},{"$f":"+SUMIFS(Sheet4!$DM$2:$DM$8408,Sheet4!$C$2:$C$8408,Sheet3!$B25,Sheet4!$D$2:$D$8408,Sheet3!V$3,Sheet4!$E$2:$E$8408,Sheet3!V$4,Sheet4!$A$2:$A$8408,Sheet3!$B$1,Sheet4!$B$2:$B$8408,Sheet3!$A$3)","v":18},{"$f":"+SUMIFS(Sheet4!$DM$2:$DM$8408,Sheet4!$C$2:$C$8408,Sheet3!$B25,Sheet4!$D$2:$D$8408,Sheet3!W$3,Sheet4!$E$2:$E$8408,Sheet3!W$4,Sheet4!$A$2:$A$8408,Sheet3!$B$1,Sheet4!$B$2:$B$8408,Sheet3!$A$3)","v":0},{"$f":"+SUMIFS(Sheet4!$DM$2:$DM$8408,Sheet4!$C$2:$C$8408,Sheet3!$B25,Sheet4!$D$2:$D$8408,Sheet3!X$3,Sheet4!$E$2:$E$8408,Sheet3!X$4,Sheet4!$A$2:$A$8408,Sheet3!$B$1,Sheet4!$B$2:$B$8408,Sheet3!$A$3)","v":0},{"$f":"+SUMIFS(Sheet4!$DM$2:$DM$8408,Sheet4!$C$2:$C$8408,Sheet3!$B25,Sheet4!$D$2:$D$8408,Sheet3!Y$3,Sheet4!$E$2:$E$8408,Sheet3!Y$4,Sheet4!$A$2:$A$8408,Sheet3!$B$1,Sheet4!$B$2:$B$8408,Sheet3!$A$3)","v":0},{"$f":"+SUMIFS(Sheet4!$DM$2:$DM$8408,Sheet4!$C$2:$C$8408,Sheet3!$B25,Sheet4!$D$2:$D$8408,Sheet3!Z$3,Sheet4!$E$2:$E$8408,Sheet3!Z$4,Sheet4!$A$2:$A$8408,Sheet3!$B$1,Sheet4!$B$2:$B$8408,Sheet3!$A$3)","v":0},{"$f":"+SUMIFS(Sheet4!$DM$2:$DM$8408,Sheet4!$C$2:$C$8408,Sheet3!$B25,Sheet4!$D$2:$D$8408,Sheet3!AA$3,Sheet4!$E$2:$E$8408,Sheet3!AA$4,Sheet4!$A$2:$A$8408,Sheet3!$B$1,Sheet4!$B$2:$B$8408,Sheet3!$A$3)","v":0},{"$f":"+SUMIFS(Sheet4!$DM$2:$DM$8408,Sheet4!$C$2:$C$8408,Sheet3!$B25,Sheet4!$D$2:$D$8408,Sheet3!AB$3,Sheet4!$E$2:$E$8408,Sheet3!AB$4,Sheet4!$A$2:$A$8408,Sheet3!$B$1,Sheet4!$B$2:$B$8408,Sheet3!$A$3)","v":0},{"$f":"+SUMIFS(Sheet4!$DM$2:$DM$8408,Sheet4!$C$2:$C$8408,Sheet3!$B25,Sheet4!$D$2:$D$8408,Sheet3!AC$3,Sheet4!$E$2:$E$8408,Sheet3!AC$4,Sheet4!$A$2:$A$8408,Sheet3!$B$1,Sheet4!$B$2:$B$8408,Sheet3!$A$3)","v":30},{"$f":"+SUMIFS(Sheet4!$DM$2:$DM$8408,Sheet4!$C$2:$C$8408,Sheet3!$B25,Sheet4!$D$2:$D$8408,Sheet3!AD$3,Sheet4!$E$2:$E$8408,Sheet3!AD$4,Sheet4!$A$2:$A$8408,Sheet3!$B$1,Sheet4!$B$2:$B$8408,Sheet3!$A$3)","v":39},{"$f":"+SUMIFS(Sheet4!$DM$2:$DM$8408,Sheet4!$C$2:$C$8408,Sheet3!$B25,Sheet4!$D$2:$D$8408,Sheet3!AE$3,Sheet4!$E$2:$E$8408,Sheet3!AE$4,Sheet4!$A$2:$A$8408,Sheet3!$B$1,Sheet4!$B$2:$B$8408,Sheet3!$A$3)","v":15},{"$f":"+SUMIFS(Sheet4!$DM$2:$DM$8408,Sheet4!$C$2:$C$8408,Sheet3!$B25,Sheet4!$D$2:$D$8408,Sheet3!AF$3,Sheet4!$E$2:$E$8408,Sheet3!AF$4,Sheet4!$A$2:$A$8408,Sheet3!$B$1,Sheet4!$B$2:$B$8408,Sheet3!$A$3)","v":8},{"$f":"+SUMIFS(Sheet4!$DM$2:$DM$8408,Sheet4!$C$2:$C$8408,Sheet3!$B25,Sheet4!$D$2:$D$8408,Sheet3!AG$3,Sheet4!$E$2:$E$8408,Sheet3!AG$4,Sheet4!$A$2:$A$8408,Sheet3!$B$1,Sheet4!$B$2:$B$8408,Sheet3!$A$3)","v":10},{"$f":"+SUMIFS(Sheet4!$DM$2:$DM$8408,Sheet4!$C$2:$C$8408,Sheet3!$B25,Sheet4!$D$2:$D$8408,Sheet3!AH$3,Sheet4!$E$2:$E$8408,Sheet3!AH$4,Sheet4!$A$2:$A$8408,Sheet3!$B$1,Sheet4!$B$2:$B$8408,Sheet3!$A$3)","v":0},{"$f":"+SUMIFS(Sheet4!$DM$2:$DM$8408,Sheet4!$C$2:$C$8408,Sheet3!$B25,Sheet4!$D$2:$D$8408,Sheet3!AI$3,Sheet4!$E$2:$E$8408,Sheet3!AI$4,Sheet4!$A$2:$A$8408,Sheet3!$B$1,Sheet4!$B$2:$B$8408,Sheet3!$A$3)","v":7},{"$f":"+SUMIFS(Sheet4!$DM$2:$DM$8408,Sheet4!$C$2:$C$8408,Sheet3!$B25,Sheet4!$D$2:$D$8408,Sheet3!AJ$3,Sheet4!$E$2:$E$8408,Sheet3!AJ$4,Sheet4!$A$2:$A$8408,Sheet3!$B$1,Sheet4!$B$2:$B$8408,Sheet3!$A$3)","v":6},{"$f":"+SUMIFS(Sheet4!$DM$2:$DM$8408,Sheet4!$C$2:$C$8408,Sheet3!$B25,Sheet4!$D$2:$D$8408,Sheet3!AK$3,Sheet4!$E$2:$E$8408,Sheet3!AK$4,Sheet4!$A$2:$A$8408,Sheet3!$B$1,Sheet4!$B$2:$B$8408,Sheet3!$A$3)","v":0},{"$f":"+SUMIFS(Sheet4!$DM$2:$DM$8408,Sheet4!$C$2:$C$8408,Sheet3!$B25,Sheet4!$D$2:$D$8408,Sheet3!AL$3,Sheet4!$E$2:$E$8408,Sheet3!AL$4,Sheet4!$A$2:$A$8408,Sheet3!$B$1,Sheet4!$B$2:$B$8408,Sheet3!$A$3)","v":0},{"$f":"+SUMIFS(Sheet4!$DM$2:$DM$8408,Sheet4!$C$2:$C$8408,Sheet3!$B25,Sheet4!$D$2:$D$8408,Sheet3!AM$3,Sheet4!$E$2:$E$8408,Sheet3!AM$4,Sheet4!$A$2:$A$8408,Sheet3!$B$1,Sheet4!$B$2:$B$8408,Sheet3!$A$3)","v":25},{"$f":"+SUMIFS(Sheet4!$DM$2:$DM$8408,Sheet4!$C$2:$C$8408,Sheet3!$B25,Sheet4!$D$2:$D$8408,Sheet3!AN$3,Sheet4!$E$2:$E$8408,Sheet3!AN$4,Sheet4!$A$2:$A$8408,Sheet3!$B$1,Sheet4!$B$2:$B$8408,Sheet3!$A$3)","v":83},{"$f":"+SUMIFS(Sheet4!$DM$2:$DM$8408,Sheet4!$C$2:$C$8408,Sheet3!$B25,Sheet4!$D$2:$D$8408,Sheet3!AO$3,Sheet4!$E$2:$E$8408,Sheet3!AO$4,Sheet4!$A$2:$A$8408,Sheet3!$B$1,Sheet4!$B$2:$B$8408,Sheet3!$A$3)","v":73},{"$f":"+SUMIFS(Sheet4!$DM$2:$DM$8408,Sheet4!$C$2:$C$8408,Sheet3!$B25,Sheet4!$D$2:$D$8408,Sheet3!AP$3,Sheet4!$E$2:$E$8408,Sheet3!AP$4,Sheet4!$A$2:$A$8408,Sheet3!$B$1,Sheet4!$B$2:$B$8408,Sheet3!$A$3)","v":85},{"$f":"+SUMIFS(Sheet4!$DM$2:$DM$8408,Sheet4!$C$2:$C$8408,Sheet3!$B25,Sheet4!$D$2:$D$8408,Sheet3!AQ$3,Sheet4!$E$2:$E$8408,Sheet3!AQ$4,Sheet4!$A$2:$A$8408,Sheet3!$B$1,Sheet4!$B$2:$B$8408,Sheet3!$A$3)","v":31},{"$f":"+SUMIFS(Sheet4!$DM$2:$DM$8408,Sheet4!$C$2:$C$8408,Sheet3!$B25,Sheet4!$D$2:$D$8408,Sheet3!AR$3,Sheet4!$E$2:$E$8408,Sheet3!AR$4,Sheet4!$A$2:$A$8408,Sheet3!$B$1,Sheet4!$B$2:$B$8408,Sheet3!$A$3)","v":45},{"$f":"+SUMIFS(Sheet4!$DM$2:$DM$8408,Sheet4!$C$2:$C$8408,Sheet3!$B25,Sheet4!$D$2:$D$8408,Sheet3!AS$3,Sheet4!$E$2:$E$8408,Sheet3!AS$4,Sheet4!$A$2:$A$8408,Sheet3!$B$1,Sheet4!$B$2:$B$8408,Sheet3!$A$3)","v":4},{"$f":"+SUMIFS(Sheet4!$DM$2:$DM$8408,Sheet4!$C$2:$C$8408,Sheet3!$B25,Sheet4!$D$2:$D$8408,Sheet3!AT$3,Sheet4!$E$2:$E$8408,Sheet3!AT$4,Sheet4!$A$2:$A$8408,Sheet3!$B$1,Sheet4!$B$2:$B$8408,Sheet3!$A$3)","v":6},{"$f":"+SUMIFS(Sheet4!$DM$2:$DM$8408,Sheet4!$C$2:$C$8408,Sheet3!$B25,Sheet4!$D$2:$D$8408,Sheet3!AU$3,Sheet4!$E$2:$E$8408,Sheet3!AU$4,Sheet4!$A$2:$A$8408,Sheet3!$B$1,Sheet4!$B$2:$B$8408,Sheet3!$A$3)","v":5},{"$f":"+SUMIFS(Sheet4!$DM$2:$DM$8408,Sheet4!$C$2:$C$8408,Sheet3!$B25,Sheet4!$D$2:$D$8408,Sheet3!AV$3,Sheet4!$E$2:$E$8408,Sheet3!AV$4,Sheet4!$A$2:$A$8408,Sheet3!$B$1,Sheet4!$B$2:$B$8408,Sheet3!$A$3)","v":0},{"$f":"+SUMIFS(Sheet4!$DM$2:$DM$8408,Sheet4!$C$2:$C$8408,Sheet3!$B25,Sheet4!$D$2:$D$8408,Sheet3!AW$3,Sheet4!$E$2:$E$8408,Sheet3!AW$4,Sheet4!$A$2:$A$8408,Sheet3!$B$1,Sheet4!$B$2:$B$8408,Sheet3!$A$3)","v":125},{"$f":"+SUMIFS(Sheet4!$DM$2:$DM$8408,Sheet4!$C$2:$C$8408,Sheet3!$B25,Sheet4!$D$2:$D$8408,Sheet3!AX$3,Sheet4!$E$2:$E$8408,Sheet3!AX$4,Sheet4!$A$2:$A$8408,Sheet3!$B$1,Sheet4!$B$2:$B$8408,Sheet3!$A$3)","v":140},{"$f":"+SUMIFS(Sheet4!$DM$2:$DM$8408,Sheet4!$C$2:$C$8408,Sheet3!$B25,Sheet4!$D$2:$D$8408,Sheet3!AY$3,Sheet4!$E$2:$E$8408,Sheet3!AY$4,Sheet4!$A$2:$A$8408,Sheet3!$B$1,Sheet4!$B$2:$B$8408,Sheet3!$A$3)","v":61},{"$f":"+SUMIFS(Sheet4!$DM$2:$DM$8408,Sheet4!$C$2:$C$8408,Sheet3!$B25,Sheet4!$D$2:$D$8408,Sheet3!AZ$3,Sheet4!$E$2:$E$8408,Sheet3!AZ$4,Sheet4!$A$2:$A$8408,Sheet3!$B$1,Sheet4!$B$2:$B$8408,Sheet3!$A$3)","v":34},{"$f":"+SUMIFS(Sheet4!$DM$2:$DM$8408,Sheet4!$C$2:$C$8408,Sheet3!$B25,Sheet4!$D$2:$D$8408,Sheet3!BA$3,Sheet4!$E$2:$E$8408,Sheet3!BA$4,Sheet4!$A$2:$A$8408,Sheet3!$B$1,Sheet4!$B$2:$B$8408,Sheet3!$A$3)","v":8},{"$f":"+SUMIFS(Sheet4!$DM$2:$DM$8408,Sheet4!$C$2:$C$8408,Sheet3!$B25,Sheet4!$D$2:$D$8408,Sheet3!BB$3,Sheet4!$E$2:$E$8408,Sheet3!BB$4,Sheet4!$A$2:$A$8408,Sheet3!$B$1,Sheet4!$B$2:$B$8408,Sheet3!$A$3)","v":0},{"$f":"+SUMIFS(Sheet4!$DM$2:$DM$8408,Sheet4!$C$2:$C$8408,Sheet3!$B25,Sheet4!$D$2:$D$8408,Sheet3!BC$3,Sheet4!$E$2:$E$8408,Sheet3!BC$4,Sheet4!$A$2:$A$8408,Sheet3!$B$1,Sheet4!$B$2:$B$8408,Sheet3!$A$3)","v":0},{"$f":"+SUMIFS(Sheet4!$DM$2:$DM$8408,Sheet4!$C$2:$C$8408,Sheet3!$B25,Sheet4!$D$2:$D$8408,Sheet3!BD$3,Sheet4!$E$2:$E$8408,Sheet3!BD$4,Sheet4!$A$2:$A$8408,Sheet3!$B$1,Sheet4!$B$2:$B$8408,Sheet3!$A$3)","v":0},{"$f":"+SUMIFS(Sheet4!$DM$2:$DM$8408,Sheet4!$C$2:$C$8408,Sheet3!$B25,Sheet4!$D$2:$D$8408,Sheet3!BE$3,Sheet4!$E$2:$E$8408,Sheet3!BE$4,Sheet4!$A$2:$A$8408,Sheet3!$B$1,Sheet4!$B$2:$B$8408,Sheet3!$A$3)","v":3},{"$f":"+SUMIFS(Sheet4!$DM$2:$DM$8408,Sheet4!$C$2:$C$8408,Sheet3!$B25,Sheet4!$D$2:$D$8408,Sheet3!BF$3,Sheet4!$E$2:$E$8408,Sheet3!BF$4,Sheet4!$A$2:$A$8408,Sheet3!$B$1,Sheet4!$B$2:$B$8408,Sheet3!$A$3)","v":9},{"$f":"+SUMIFS(Sheet4!$DM$2:$DM$8408,Sheet4!$C$2:$C$8408,Sheet3!$B25,Sheet4!$D$2:$D$8408,Sheet3!BG$3,Sheet4!$E$2:$E$8408,Sheet3!BG$4,Sheet4!$A$2:$A$8408,Sheet3!$B$1,Sheet4!$B$2:$B$8408,Sheet3!$A$3)","v":3},{"$f":"+SUMIFS(Sheet4!$DM$2:$DM$8408,Sheet4!$C$2:$C$8408,Sheet3!$B25,Sheet4!$D$2:$D$8408,Sheet3!BH$3,Sheet4!$E$2:$E$8408,Sheet3!BH$4,Sheet4!$A$2:$A$8408,Sheet3!$B$1,Sheet4!$B$2:$B$8408,Sheet3!$A$3)","v":54},{"$f":"+SUMIFS(Sheet4!$DM$2:$DM$8408,Sheet4!$C$2:$C$8408,Sheet3!$B25,Sheet4!$D$2:$D$8408,Sheet3!BI$3,Sheet4!$E$2:$E$8408,Sheet3!BI$4,Sheet4!$A$2:$A$8408,Sheet3!$B$1,Sheet4!$B$2:$B$8408,Sheet3!$A$3)","v":53},{"$f":"+SUMIFS(Sheet4!$DM$2:$DM$8408,Sheet4!$C$2:$C$8408,Sheet3!$B25,Sheet4!$D$2:$D$8408,Sheet3!BJ$3,Sheet4!$E$2:$E$8408,Sheet3!BJ$4,Sheet4!$A$2:$A$8408,Sheet3!$B$1,Sheet4!$B$2:$B$8408,Sheet3!$A$3)","v":21},{"$f":"+SUMIFS(Sheet4!$DM$2:$DM$8408,Sheet4!$C$2:$C$8408,Sheet3!$B25,Sheet4!$D$2:$D$8408,Sheet3!BK$3,Sheet4!$E$2:$E$8408,Sheet3!BK$4,Sheet4!$A$2:$A$8408,Sheet3!$B$1,Sheet4!$B$2:$B$8408,Sheet3!$A$3)","v":0},{"$f":"+SUMIFS(Sheet4!$DM$2:$DM$8408,Sheet4!$C$2:$C$8408,Sheet3!$B25,Sheet4!$D$2:$D$8408,Sheet3!BL$3,Sheet4!$E$2:$E$8408,Sheet3!BL$4,Sheet4!$A$2:$A$8408,Sheet3!$B$1,Sheet4!$B$2:$B$8408,Sheet3!$A$3)","v":13},{"$f":"+SUMIFS(Sheet4!$DM$2:$DM$8408,Sheet4!$C$2:$C$8408,Sheet3!$B25,Sheet4!$D$2:$D$8408,Sheet3!BM$3,Sheet4!$E$2:$E$8408,Sheet3!BM$4,Sheet4!$A$2:$A$8408,Sheet3!$B$1,Sheet4!$B$2:$B$8408,Sheet3!$A$3)","v":39},{"$f":"+SUMIFS(Sheet4!$DM$2:$DM$8408,Sheet4!$C$2:$C$8408,Sheet3!$B25,Sheet4!$D$2:$D$8408,Sheet3!BN$3,Sheet4!$E$2:$E$8408,Sheet3!BN$4,Sheet4!$A$2:$A$8408,Sheet3!$B$1,Sheet4!$B$2:$B$8408,Sheet3!$A$3)","v":25},{"$f":"+SUMIFS(Sheet4!$DM$2:$DM$8408,Sheet4!$C$2:$C$8408,Sheet3!$B25,Sheet4!$D$2:$D$8408,Sheet3!BO$3,Sheet4!$E$2:$E$8408,Sheet3!BO$4,Sheet4!$A$2:$A$8408,Sheet3!$B$1,Sheet4!$B$2:$B$8408,Sheet3!$A$3)","v":4},{"$f":"+SUMIFS(Sheet4!$DM$2:$DM$8408,Sheet4!$C$2:$C$8408,Sheet3!$B25,Sheet4!$D$2:$D$8408,Sheet3!BP$3,Sheet4!$E$2:$E$8408,Sheet3!BP$4,Sheet4!$A$2:$A$8408,Sheet3!$B$1,Sheet4!$B$2:$B$8408,Sheet3!$A$3)","v":3},{"$f":"+SUMIFS(Sheet4!$DM$2:$DM$8408,Sheet4!$C$2:$C$8408,Sheet3!$B25,Sheet4!$D$2:$D$8408,Sheet3!BQ$3,Sheet4!$E$2:$E$8408,Sheet3!BQ$4,Sheet4!$A$2:$A$8408,Sheet3!$B$1,Sheet4!$B$2:$B$8408,Sheet3!$A$3)","v":0},{"$f":"+SUMIFS(Sheet4!$DM$2:$DM$8408,Sheet4!$C$2:$C$8408,Sheet3!$B25,Sheet4!$D$2:$D$8408,Sheet3!BR$3,Sheet4!$E$2:$E$8408,Sheet3!BR$4,Sheet4!$A$2:$A$8408,Sheet3!$B$1,Sheet4!$B$2:$B$8408,Sheet3!$A$3)","v":92},{"$f":"+SUMIFS(Sheet4!$DM$2:$DM$8408,Sheet4!$C$2:$C$8408,Sheet3!$B25,Sheet4!$D$2:$D$8408,Sheet3!BS$3,Sheet4!$E$2:$E$8408,Sheet3!BS$4,Sheet4!$A$2:$A$8408,Sheet3!$B$1,Sheet4!$B$2:$B$8408,Sheet3!$A$3)","v":155},{"$f":"+SUMIFS(Sheet4!$DM$2:$DM$8408,Sheet4!$C$2:$C$8408,Sheet3!$B25,Sheet4!$D$2:$D$8408,Sheet3!BT$3,Sheet4!$E$2:$E$8408,Sheet3!BT$4,Sheet4!$A$2:$A$8408,Sheet3!$B$1,Sheet4!$B$2:$B$8408,Sheet3!$A$3)","v":53},{"$f":"+SUMIFS(Sheet4!$DM$2:$DM$8408,Sheet4!$C$2:$C$8408,Sheet3!$B25,Sheet4!$D$2:$D$8408,Sheet3!BU$3,Sheet4!$E$2:$E$8408,Sheet3!BU$4,Sheet4!$A$2:$A$8408,Sheet3!$B$1,Sheet4!$B$2:$B$8408,Sheet3!$A$3)","v":0},{"$f":"+SUMIFS(Sheet4!$DM$2:$DM$8408,Sheet4!$C$2:$C$8408,Sheet3!$B25,Sheet4!$D$2:$D$8408,Sheet3!BV$3,Sheet4!$E$2:$E$8408,Sheet3!BV$4,Sheet4!$A$2:$A$8408,Sheet3!$B$1,Sheet4!$B$2:$B$8408,Sheet3!$A$3)","v":129},{"$f":"+SUMIFS(Sheet4!$DM$2:$DM$8408,Sheet4!$C$2:$C$8408,Sheet3!$B25,Sheet4!$D$2:$D$8408,Sheet3!BW$3,Sheet4!$E$2:$E$8408,Sheet3!BW$4,Sheet4!$A$2:$A$8408,Sheet3!$B$1,Sheet4!$B$2:$B$8408,Sheet3!$A$3)","v":318},{"$f":"+SUMIFS(Sheet4!$DM$2:$DM$8408,Sheet4!$C$2:$C$8408,Sheet3!$B25,Sheet4!$D$2:$D$8408,Sheet3!BX$3,Sheet4!$E$2:$E$8408,Sheet3!BX$4,Sheet4!$A$2:$A$8408,Sheet3!$B$1,Sheet4!$B$2:$B$8408,Sheet3!$A$3)","v":144},{"$f":"+SUMIFS(Sheet4!$DM$2:$DM$8408,Sheet4!$C$2:$C$8408,Sheet3!$B25,Sheet4!$D$2:$D$8408,Sheet3!BY$3,Sheet4!$E$2:$E$8408,Sheet3!BY$4,Sheet4!$A$2:$A$8408,Sheet3!$B$1,Sheet4!$B$2:$B$8408,Sheet3!$A$3)","v":30},{"$f":"+SUMIFS(Sheet4!$DM$2:$DM$8408,Sheet4!$C$2:$C$8408,Sheet3!$B25,Sheet4!$D$2:$D$8408,Sheet3!BZ$3,Sheet4!$E$2:$E$8408,Sheet3!BZ$4,Sheet4!$A$2:$A$8408,Sheet3!$B$1,Sheet4!$B$2:$B$8408,Sheet3!$A$3)","v":0},{"$f":"+SUMIFS(Sheet4!$DM$2:$DM$8408,Sheet4!$C$2:$C$8408,Sheet3!$B25,Sheet4!$D$2:$D$8408,Sheet3!CA$3,Sheet4!$E$2:$E$8408,Sheet3!CA$4,Sheet4!$A$2:$A$8408,Sheet3!$B$1,Sheet4!$B$2:$B$8408,Sheet3!$A$3)","v":34},{"$f":"+SUMIFS(Sheet4!$DM$2:$DM$8408,Sheet4!$C$2:$C$8408,Sheet3!$B25,Sheet4!$D$2:$D$8408,Sheet3!CB$3,Sheet4!$E$2:$E$8408,Sheet3!CB$4,Sheet4!$A$2:$A$8408,Sheet3!$B$1,Sheet4!$B$2:$B$8408,Sheet3!$A$3)","v":84},{"$f":"+SUMIFS(Sheet4!$DM$2:$DM$8408,Sheet4!$C$2:$C$8408,Sheet3!$B25,Sheet4!$D$2:$D$8408,Sheet3!CC$3,Sheet4!$E$2:$E$8408,Sheet3!CC$4,Sheet4!$A$2:$A$8408,Sheet3!$B$1,Sheet4!$B$2:$B$8408,Sheet3!$A$3)","v":49},{"$f":"+SUMIFS(Sheet4!$DM$2:$DM$8408,Sheet4!$C$2:$C$8408,Sheet3!$B25,Sheet4!$D$2:$D$8408,Sheet3!CD$3,Sheet4!$E$2:$E$8408,Sheet3!CD$4,Sheet4!$A$2:$A$8408,Sheet3!$B$1,Sheet4!$B$2:$B$8408,Sheet3!$A$3)","v":44},{"$f":"+SUMIFS(Sheet4!$DM$2:$DM$8408,Sheet4!$C$2:$C$8408,Sheet3!$B25,Sheet4!$D$2:$D$8408,Sheet3!CE$3,Sheet4!$E$2:$E$8408,Sheet3!CE$4,Sheet4!$A$2:$A$8408,Sheet3!$B$1,Sheet4!$B$2:$B$8408,Sheet3!$A$3)","v":6},{"$f":"+SUMIFS(Sheet4!$DM$2:$DM$8408,Sheet4!$C$2:$C$8408,Sheet3!$B25,Sheet4!$D$2:$D$8408,Sheet3!CF$3,Sheet4!$E$2:$E$8408,Sheet3!CF$4,Sheet4!$A$2:$A$8408,Sheet3!$B$1,Sheet4!$B$2:$B$8408,Sheet3!$A$3)","v":519},{"$f":"+SUMIFS(Sheet4!$DM$2:$DM$8408,Sheet4!$C$2:$C$8408,Sheet3!$B25,Sheet4!$D$2:$D$8408,Sheet3!CG$3,Sheet4!$E$2:$E$8408,Sheet3!CG$4,Sheet4!$A$2:$A$8408,Sheet3!$B$1,Sheet4!$B$2:$B$8408,Sheet3!$A$3)","v":308},{"$f":"+SUMIFS(Sheet4!$DM$2:$DM$8408,Sheet4!$C$2:$C$8408,Sheet3!$B25,Sheet4!$D$2:$D$8408,Sheet3!CH$3,Sheet4!$E$2:$E$8408,Sheet3!CH$4,Sheet4!$A$2:$A$8408,Sheet3!$B$1,Sheet4!$B$2:$B$8408,Sheet3!$A$3)","v":41},{"$f":"+SUMIFS(Sheet4!$DM$2:$DM$8408,Sheet4!$C$2:$C$8408,Sheet3!$B25,Sheet4!$D$2:$D$8408,Sheet3!CI$3,Sheet4!$E$2:$E$8408,Sheet3!CI$4,Sheet4!$A$2:$A$8408,Sheet3!$B$1,Sheet4!$B$2:$B$8408,Sheet3!$A$3)","v":4},{"$f":"+SUMIFS(Sheet4!$DM$2:$DM$8408,Sheet4!$C$2:$C$8408,Sheet3!$B25,Sheet4!$D$2:$D$8408,Sheet3!CJ$3,Sheet4!$E$2:$E$8408,Sheet3!CJ$4,Sheet4!$A$2:$A$8408,Sheet3!$B$1,Sheet4!$B$2:$B$8408,Sheet3!$A$3)","v":0},{"$f":"+SUMIFS(Sheet4!$DM$2:$DM$8408,Sheet4!$C$2:$C$8408,Sheet3!$B25,Sheet4!$D$2:$D$8408,Sheet3!CK$3,Sheet4!$E$2:$E$8408,Sheet3!CK$4,Sheet4!$A$2:$A$8408,Sheet3!$B$1,Sheet4!$B$2:$B$8408,Sheet3!$A$3)","v":0},{"$f":"+SUMIFS(Sheet4!$DM$2:$DM$8408,Sheet4!$C$2:$C$8408,Sheet3!$B25,Sheet4!$D$2:$D$8408,Sheet3!CL$3,Sheet4!$E$2:$E$8408,Sheet3!CL$4,Sheet4!$A$2:$A$8408,Sheet3!$B$1,Sheet4!$B$2:$B$8408,Sheet3!$A$3)","v":0},{"$f":"+SUMIFS(Sheet4!$DM$2:$DM$8408,Sheet4!$C$2:$C$8408,Sheet3!$B25,Sheet4!$D$2:$D$8408,Sheet3!CM$3,Sheet4!$E$2:$E$8408,Sheet3!CM$4,Sheet4!$A$2:$A$8408,Sheet3!$B$1,Sheet4!$B$2:$B$8408,Sheet3!$A$3)","v":5},{"$f":"+SUMIFS(Sheet4!$DM$2:$DM$8408,Sheet4!$C$2:$C$8408,Sheet3!$B25,Sheet4!$D$2:$D$8408,Sheet3!CN$3,Sheet4!$E$2:$E$8408,Sheet3!CN$4,Sheet4!$A$2:$A$8408,Sheet3!$B$1,Sheet4!$B$2:$B$8408,Sheet3!$A$3)","v":5},{"$f":"+SUMIFS(Sheet4!$DM$2:$DM$8408,Sheet4!$C$2:$C$8408,Sheet3!$B25,Sheet4!$D$2:$D$8408,Sheet3!CO$3,Sheet4!$E$2:$E$8408,Sheet3!CO$4,Sheet4!$A$2:$A$8408,Sheet3!$B$1,Sheet4!$B$2:$B$8408,Sheet3!$A$3)","v":0},{"$f":"+SUMIFS(Sheet4!$DM$2:$DM$8408,Sheet4!$C$2:$C$8408,Sheet3!$B25,Sheet4!$D$2:$D$8408,Sheet3!CP$3,Sheet4!$E$2:$E$8408,Sheet3!CP$4,Sheet4!$A$2:$A$8408,Sheet3!$B$1,Sheet4!$B$2:$B$8408,Sheet3!$A$3)","v":0},{"$f":"+SUMIFS(Sheet4!$DM$2:$DM$8408,Sheet4!$C$2:$C$8408,Sheet3!$B25,Sheet4!$D$2:$D$8408,Sheet3!CQ$3,Sheet4!$E$2:$E$8408,Sheet3!CQ$4,Sheet4!$A$2:$A$8408,Sheet3!$B$1,Sheet4!$B$2:$B$8408,Sheet3!$A$3)","v":0},{"$f":"+SUMIFS(Sheet4!$DM$2:$DM$8408,Sheet4!$C$2:$C$8408,Sheet3!$B25,Sheet4!$D$2:$D$8408,Sheet3!CR$3,Sheet4!$E$2:$E$8408,Sheet3!CR$4,Sheet4!$A$2:$A$8408,Sheet3!$B$1,Sheet4!$B$2:$B$8408,Sheet3!$A$3)","v":0},{"$f":"+SUMIFS(Sheet4!$DM$2:$DM$8408,Sheet4!$C$2:$C$8408,Sheet3!$B25,Sheet4!$D$2:$D$8408,Sheet3!CS$3,Sheet4!$E$2:$E$8408,Sheet3!CS$4,Sheet4!$A$2:$A$8408,Sheet3!$B$1,Sheet4!$B$2:$B$8408,Sheet3!$A$3)","v":0},{"$f":"+SUMIFS(Sheet4!$DM$2:$DM$8408,Sheet4!$C$2:$C$8408,Sheet3!$B25,Sheet4!$D$2:$D$8408,Sheet3!CT$3,Sheet4!$E$2:$E$8408,Sheet3!CT$4,Sheet4!$A$2:$A$8408,Sheet3!$B$1,Sheet4!$B$2:$B$8408,Sheet3!$A$3)","v":0},{"$f":"+IF(SUMIFS(Sheet4!$DN$2:$DN$8408,Sheet4!$C$2:$C$8408,Sheet3!$B25,Sheet4!$D$2:$D$8408,Sheet3!CU$3,Sheet4!$A$2:$A$8408,Sheet3!$B$1,Sheet4!$B$2:$B$8408,Sheet3!$A$3)<3,0,SUMIFS(Sheet4!$DN$2:$DN$8408,Sheet4!$C$2:$C$8408,Sheet3!$B25,Sheet4!$D$2:$D$8408,Sheet3!CU$3,Sheet4!$A$2:$A$8408,Sheet3!$B$1,Sheet4!$B$2:$B$8408,Sheet3!$A$3))","v":18},{"$f":"+IF(SUMIFS(Sheet4!$DN$2:$DN$8408,Sheet4!$C$2:$C$8408,Sheet3!$B25,Sheet4!$D$2:$D$8408,Sheet3!CV$3,Sheet4!$A$2:$A$8408,Sheet3!$B$1,Sheet4!$B$2:$B$8408,Sheet3!$A$3)<3,0,SUMIFS(Sheet4!$DN$2:$DN$8408,Sheet4!$C$2:$C$8408,Sheet3!$B25,Sheet4!$D$2:$D$8408,Sheet3!CV$3,Sheet4!$A$2:$A$8408,Sheet3!$B$1,Sheet4!$B$2:$B$8408,Sheet3!$A$3))","v":11},{"$f":"+IF(SUMIFS(Sheet4!$DN$2:$DN$8408,Sheet4!$C$2:$C$8408,Sheet3!$B25,Sheet4!$D$2:$D$8408,Sheet3!CW$3,Sheet4!$A$2:$A$8408,Sheet3!$B$1,Sheet4!$B$2:$B$8408,Sheet3!$A$3)<3,0,SUMIFS(Sheet4!$DN$2:$DN$8408,Sheet4!$C$2:$C$8408,Sheet3!$B25,Sheet4!$D$2:$D$8408,Sheet3!CW$3,Sheet4!$A$2:$A$8408,Sheet3!$B$1,Sheet4!$B$2:$B$8408,Sheet3!$A$3))","v":88},{"$f":"+IF(SUMIFS(Sheet4!$DN$2:$DN$8408,Sheet4!$C$2:$C$8408,Sheet3!$B25,Sheet4!$D$2:$D$8408,Sheet3!CX$3,Sheet4!$A$2:$A$8408,Sheet3!$B$1,Sheet4!$B$2:$B$8408,Sheet3!$A$3)<3,0,SUMIFS(Sheet4!$DN$2:$DN$8408,Sheet4!$C$2:$C$8408,Sheet3!$B25,Sheet4!$D$2:$D$8408,Sheet3!CX$3,Sheet4!$A$2:$A$8408,Sheet3!$B$1,Sheet4!$B$2:$B$8408,Sheet3!$A$3))","v":109},{"$f":"+IF(SUMIFS(Sheet4!$DN$2:$DN$8408,Sheet4!$C$2:$C$8408,Sheet3!$B25,Sheet4!$D$2:$D$8408,Sheet3!CY$3,Sheet4!$A$2:$A$8408,Sheet3!$B$1,Sheet4!$B$2:$B$8408,Sheet3!$A$3)<3,0,SUMIFS(Sheet4!$DN$2:$DN$8408,Sheet4!$C$2:$C$8408,Sheet3!$B25,Sheet4!$D$2:$D$8408,Sheet3!CY$3,Sheet4!$A$2:$A$8408,Sheet3!$B$1,Sheet4!$B$2:$B$8408,Sheet3!$A$3))","v":5},{"$f":"+IF(SUMIFS(Sheet4!$DN$2:$DN$8408,Sheet4!$C$2:$C$8408,Sheet3!$B25,Sheet4!$D$2:$D$8408,Sheet3!CZ$3,Sheet4!$A$2:$A$8408,Sheet3!$B$1,Sheet4!$B$2:$B$8408,Sheet3!$A$3)<3,0,SUMIFS(Sheet4!$DN$2:$DN$8408,Sheet4!$C$2:$C$8408,Sheet3!$B25,Sheet4!$D$2:$D$8408,Sheet3!CZ$3,Sheet4!$A$2:$A$8408,Sheet3!$B$1,Sheet4!$B$2:$B$8408,Sheet3!$A$3))","v":111},{"$f":"+IF(SUMIFS(Sheet4!$DN$2:$DN$8408,Sheet4!$C$2:$C$8408,Sheet3!$B25,Sheet4!$D$2:$D$8408,Sheet3!DA$3,Sheet4!$A$2:$A$8408,Sheet3!$B$1,Sheet4!$B$2:$B$8408,Sheet3!$A$3)<3,0,SUMIFS(Sheet4!$DN$2:$DN$8408,Sheet4!$C$2:$C$8408,Sheet3!$B25,Sheet4!$D$2:$D$8408,Sheet3!DA$3,Sheet4!$A$2:$A$8408,Sheet3!$B$1,Sheet4!$B$2:$B$8408,Sheet3!$A$3))","v":18},{"$f":"+IF(SUMIFS(Sheet4!$DN$2:$DN$8408,Sheet4!$C$2:$C$8408,Sheet3!$B25,Sheet4!$D$2:$D$8408,Sheet3!DB$3,Sheet4!$A$2:$A$8408,Sheet3!$B$1,Sheet4!$B$2:$B$8408,Sheet3!$A$3)<3,0,SUMIFS(Sheet4!$DN$2:$DN$8408,Sheet4!$C$2:$C$8408,Sheet3!$B25,Sheet4!$D$2:$D$8408,Sheet3!DB$3,Sheet4!$A$2:$A$8408,Sheet3!$B$1,Sheet4!$B$2:$B$8408,Sheet3!$A$3))","v":301},{"$f":"+IF(SUMIFS(Sheet4!$DN$2:$DN$8408,Sheet4!$C$2:$C$8408,Sheet3!$B25,Sheet4!$D$2:$D$8408,Sheet3!DC$3,Sheet4!$A$2:$A$8408,Sheet3!$B$1,Sheet4!$B$2:$B$8408,Sheet3!$A$3)<3,0,SUMIFS(Sheet4!$DN$2:$DN$8408,Sheet4!$C$2:$C$8408,Sheet3!$B25,Sheet4!$D$2:$D$8408,Sheet3!DC$3,Sheet4!$A$2:$A$8408,Sheet3!$B$1,Sheet4!$B$2:$B$8408,Sheet3!$A$3))","v":63},{"$f":"+IF(SUMIFS(Sheet4!$DN$2:$DN$8408,Sheet4!$C$2:$C$8408,Sheet3!$B25,Sheet4!$D$2:$D$8408,Sheet3!DD$3,Sheet4!$A$2:$A$8408,Sheet3!$B$1,Sheet4!$B$2:$B$8408,Sheet3!$A$3)<3,0,SUMIFS(Sheet4!$DN$2:$DN$8408,Sheet4!$C$2:$C$8408,Sheet3!$B25,Sheet4!$D$2:$D$8408,Sheet3!DD$3,Sheet4!$A$2:$A$8408,Sheet3!$B$1,Sheet4!$B$2:$B$8408,Sheet3!$A$3))","v":370},{"$f":"+IF(SUMIFS(Sheet4!$DN$2:$DN$8408,Sheet4!$C$2:$C$8408,Sheet3!$B25,Sheet4!$D$2:$D$8408,Sheet3!DE$3,Sheet4!$A$2:$A$8408,Sheet3!$B$1,Sheet4!$B$2:$B$8408,Sheet3!$A$3)<3,0,SUMIFS(Sheet4!$DN$2:$DN$8408,Sheet4!$C$2:$C$8408,Sheet3!$B25,Sheet4!$D$2:$D$8408,Sheet3!DE$3,Sheet4!$A$2:$A$8408,Sheet3!$B$1,Sheet4!$B$2:$B$8408,Sheet3!$A$3))","v":13},{"$f":"+IF(SUMIFS(Sheet4!$DN$2:$DN$8408,Sheet4!$C$2:$C$8408,Sheet3!$B25,Sheet4!$D$2:$D$8408,Sheet3!DF$3,Sheet4!$A$2:$A$8408,Sheet3!$B$1,Sheet4!$B$2:$B$8408,Sheet3!$A$3)<3,0,SUMIFS(Sheet4!$DN$2:$DN$8408,Sheet4!$C$2:$C$8408,Sheet3!$B25,Sheet4!$D$2:$D$8408,Sheet3!DF$3,Sheet4!$A$2:$A$8408,Sheet3!$B$1,Sheet4!$B$2:$B$8408,Sheet3!$A$3))","v":133},{"$f":"+IF(SUMIFS(Sheet4!$DN$2:$DN$8408,Sheet4!$C$2:$C$8408,Sheet3!$B25,Sheet4!$D$2:$D$8408,Sheet3!DG$3,Sheet4!$A$2:$A$8408,Sheet3!$B$1,Sheet4!$B$2:$B$8408,Sheet3!$A$3)<3,0,SUMIFS(Sheet4!$DN$2:$DN$8408,Sheet4!$C$2:$C$8408,Sheet3!$B25,Sheet4!$D$2:$D$8408,Sheet3!DG$3,Sheet4!$A$2:$A$8408,Sheet3!$B$1,Sheet4!$B$2:$B$8408,Sheet3!$A$3))","v":88},{"$f":"+IF(SUMIFS(Sheet4!$DN$2:$DN$8408,Sheet4!$C$2:$C$8408,Sheet3!$B25,Sheet4!$D$2:$D$8408,Sheet3!DH$3,Sheet4!$A$2:$A$8408,Sheet3!$B$1,Sheet4!$B$2:$B$8408,Sheet3!$A$3)<3,0,SUMIFS(Sheet4!$DN$2:$DN$8408,Sheet4!$C$2:$C$8408,Sheet3!$B25,Sheet4!$D$2:$D$8408,Sheet3!DH$3,Sheet4!$A$2:$A$8408,Sheet3!$B$1,Sheet4!$B$2:$B$8408,Sheet3!$A$3))","v":306},{"$f":"+IF(SUMIFS(Sheet4!$DN$2:$DN$8408,Sheet4!$C$2:$C$8408,Sheet3!$B25,Sheet4!$D$2:$D$8408,Sheet3!DI$3,Sheet4!$A$2:$A$8408,Sheet3!$B$1,Sheet4!$B$2:$B$8408,Sheet3!$A$3)<3,0,SUMIFS(Sheet4!$DN$2:$DN$8408,Sheet4!$C$2:$C$8408,Sheet3!$B25,Sheet4!$D$2:$D$8408,Sheet3!DI$3,Sheet4!$A$2:$A$8408,Sheet3!$B$1,Sheet4!$B$2:$B$8408,Sheet3!$A$3))","v":622},{"$f":"+IF(SUMIFS(Sheet4!$DN$2:$DN$8408,Sheet4!$C$2:$C$8408,Sheet3!$B25,Sheet4!$D$2:$D$8408,Sheet3!DJ$3,Sheet4!$A$2:$A$8408,Sheet3!$B$1,Sheet4!$B$2:$B$8408,Sheet3!$A$3)<3,0,SUMIFS(Sheet4!$DN$2:$DN$8408,Sheet4!$C$2:$C$8408,Sheet3!$B25,Sheet4!$D$2:$D$8408,Sheet3!DJ$3,Sheet4!$A$2:$A$8408,Sheet3!$B$1,Sheet4!$B$2:$B$8408,Sheet3!$A$3))","v":219},{"$f":"+IF(SUMIFS(Sheet4!$DN$2:$DN$8408,Sheet4!$C$2:$C$8408,Sheet3!$B25,Sheet4!$D$2:$D$8408,Sheet3!DK$3,Sheet4!$A$2:$A$8408,Sheet3!$B$1,Sheet4!$B$2:$B$8408,Sheet3!$A$3)<3,0,SUMIFS(Sheet4!$DN$2:$DN$8408,Sheet4!$C$2:$C$8408,Sheet3!$B25,Sheet4!$D$2:$D$8408,Sheet3!DK$3,Sheet4!$A$2:$A$8408,Sheet3!$B$1,Sheet4!$B$2:$B$8408,Sheet3!$A$3))","v":872},{"$f":"+IF(SUMIFS(Sheet4!$DN$2:$DN$8408,Sheet4!$C$2:$C$8408,Sheet3!$B25,Sheet4!$D$2:$D$8408,Sheet3!DL$3,Sheet4!$A$2:$A$8408,Sheet3!$B$1,Sheet4!$B$2:$B$8408,Sheet3!$A$3)<3,0,SUMIFS(Sheet4!$DN$2:$DN$8408,Sheet4!$C$2:$C$8408,Sheet3!$B25,Sheet4!$D$2:$D$8408,Sheet3!DL$3,Sheet4!$A$2:$A$8408,Sheet3!$B$1,Sheet4!$B$2:$B$8408,Sheet3!$A$3))","v":11},{"$f":"+IF(SUMIFS(Sheet4!$DN$2:$DN$8408,Sheet4!$C$2:$C$8408,Sheet3!$B25,Sheet4!$D$2:$D$8408,Sheet3!DM$3,Sheet4!$A$2:$A$8408,Sheet3!$B$1,Sheet4!$B$2:$B$8408,Sheet3!$A$3)<3,0,SUMIFS(Sheet4!$DN$2:$DN$8408,Sheet4!$C$2:$C$8408,Sheet3!$B25,Sheet4!$D$2:$D$8408,Sheet3!DM$3,Sheet4!$A$2:$A$8408,Sheet3!$B$1,Sheet4!$B$2:$B$8408,Sheet3!$A$3))","v":0},{"$f":"+IF(SUMIFS(Sheet4!$DN$2:$DN$8408,Sheet4!$C$2:$C$8408,Sheet3!$B25,Sheet4!$E$2:$E$8408,Sheet3!DN$4,Sheet4!$A$2:$A$8408,Sheet3!$B$1,Sheet4!$B$2:$B$8408,Sheet3!$A$3)<3,0,SUMIFS(Sheet4!$DN$2:$DN$8408,Sheet4!$C$2:$C$8408,Sheet3!$B25,Sheet4!$E$2:$E$8408,Sheet3!DN$4,Sheet4!$A$2:$A$8408,Sheet3!$B$1,Sheet4!$B$2:$B$8408,Sheet3!$A$3))","v":958},{"$f":"+IF(SUMIFS(Sheet4!$DN$2:$DN$8408,Sheet4!$C$2:$C$8408,Sheet3!$B25,Sheet4!$E$2:$E$8408,Sheet3!DO$4,Sheet4!$A$2:$A$8408,Sheet3!$B$1,Sheet4!$B$2:$B$8408,Sheet3!$A$3)<3,0,SUMIFS(Sheet4!$DN$2:$DN$8408,Sheet4!$C$2:$C$8408,Sheet3!$B25,Sheet4!$E$2:$E$8408,Sheet3!DO$4,Sheet4!$A$2:$A$8408,Sheet3!$B$1,Sheet4!$B$2:$B$8408,Sheet3!$A$3))","v":1290},{"$f":"+IF(SUMIFS(Sheet4!$DN$2:$DN$8408,Sheet4!$C$2:$C$8408,Sheet3!$B25,Sheet4!$E$2:$E$8408,Sheet3!DP$4,Sheet4!$A$2:$A$8408,Sheet3!$B$1,Sheet4!$B$2:$B$8408,Sheet3!$A$3)<3,0,SUMIFS(Sheet4!$DN$2:$DN$8408,Sheet4!$C$2:$C$8408,Sheet3!$B25,Sheet4!$E$2:$E$8408,Sheet3!DP$4,Sheet4!$A$2:$A$8408,Sheet3!$B$1,Sheet4!$B$2:$B$8408,Sheet3!$A$3))","v":691},{"$f":"+IF(SUMIFS(Sheet4!$DN$2:$DN$8408,Sheet4!$C$2:$C$8408,Sheet3!$B25,Sheet4!$E$2:$E$8408,Sheet3!DQ$4,Sheet4!$A$2:$A$8408,Sheet3!$B$1,Sheet4!$B$2:$B$8408,Sheet3!$A$3)<3,0,SUMIFS(Sheet4!$DN$2:$DN$8408,Sheet4!$C$2:$C$8408,Sheet3!$B25,Sheet4!$E$2:$E$8408,Sheet3!DQ$4,Sheet4!$A$2:$A$8408,Sheet3!$B$1,Sheet4!$B$2:$B$8408,Sheet3!$A$3))","v":338},{"$f":"+IF(SUMIFS(Sheet4!$DN$2:$DN$8408,Sheet4!$C$2:$C$8408,Sheet3!$B25,Sheet4!$E$2:$E$8408,Sheet3!DR$4,Sheet4!$A$2:$A$8408,Sheet3!$B$1,Sheet4!$B$2:$B$8408,Sheet3!$A$3)<3,0,SUMIFS(Sheet4!$DN$2:$DN$8408,Sheet4!$C$2:$C$8408,Sheet3!$B25,Sheet4!$E$2:$E$8408,Sheet3!DR$4,Sheet4!$A$2:$A$8408,Sheet3!$B$1,Sheet4!$B$2:$B$8408,Sheet3!$A$3))","v":81}]
[5,"184","Baixo Alentejo",{"$f":"+SUMIFS(Sheet4!$DM$2:$DM$8408,Sheet4!$C$2:$C$8408,Sheet3!$B26,Sheet4!$D$2:$D$8408,Sheet3!D$3,Sheet4!$E$2:$E$8408,Sheet3!D$4,Sheet4!$A$2:$A$8408,Sheet3!$B$1,Sheet4!$B$2:$B$8408,Sheet3!$A$3)","v":10},{"$f":"+SUMIFS(Sheet4!$DM$2:$DM$8408,Sheet4!$C$2:$C$8408,Sheet3!$B26,Sheet4!$D$2:$D$8408,Sheet3!E$3,Sheet4!$E$2:$E$8408,Sheet3!E$4,Sheet4!$A$2:$A$8408,Sheet3!$B$1,Sheet4!$B$2:$B$8408,Sheet3!$A$3)","v":6},{"$f":"+SUMIFS(Sheet4!$DM$2:$DM$8408,Sheet4!$C$2:$C$8408,Sheet3!$B26,Sheet4!$D$2:$D$8408,Sheet3!F$3,Sheet4!$E$2:$E$8408,Sheet3!F$4,Sheet4!$A$2:$A$8408,Sheet3!$B$1,Sheet4!$B$2:$B$8408,Sheet3!$A$3)","v":0},{"$f":"+SUMIFS(Sheet4!$DM$2:$DM$8408,Sheet4!$C$2:$C$8408,Sheet3!$B26,Sheet4!$D$2:$D$8408,Sheet3!G$3,Sheet4!$E$2:$E$8408,Sheet3!G$4,Sheet4!$A$2:$A$8408,Sheet3!$B$1,Sheet4!$B$2:$B$8408,Sheet3!$A$3)","v":3},{"$f":"+SUMIFS(Sheet4!$DM$2:$DM$8408,Sheet4!$C$2:$C$8408,Sheet3!$B26,Sheet4!$D$2:$D$8408,Sheet3!H$3,Sheet4!$E$2:$E$8408,Sheet3!H$4,Sheet4!$A$2:$A$8408,Sheet3!$B$1,Sheet4!$B$2:$B$8408,Sheet3!$A$3)","v":0},{"$f":"+SUMIFS(Sheet4!$DM$2:$DM$8408,Sheet4!$C$2:$C$8408,Sheet3!$B26,Sheet4!$D$2:$D$8408,Sheet3!I$3,Sheet4!$E$2:$E$8408,Sheet3!I$4,Sheet4!$A$2:$A$8408,Sheet3!$B$1,Sheet4!$B$2:$B$8408,Sheet3!$A$3)","v":0},{"$f":"+SUMIFS(Sheet4!$DM$2:$DM$8408,Sheet4!$C$2:$C$8408,Sheet3!$B26,Sheet4!$D$2:$D$8408,Sheet3!J$3,Sheet4!$E$2:$E$8408,Sheet3!J$4,Sheet4!$A$2:$A$8408,Sheet3!$B$1,Sheet4!$B$2:$B$8408,Sheet3!$A$3)","v":17},{"$f":"+SUMIFS(Sheet4!$DM$2:$DM$8408,Sheet4!$C$2:$C$8408,Sheet3!$B26,Sheet4!$D$2:$D$8408,Sheet3!K$3,Sheet4!$E$2:$E$8408,Sheet3!K$4,Sheet4!$A$2:$A$8408,Sheet3!$B$1,Sheet4!$B$2:$B$8408,Sheet3!$A$3)","v":18},{"$f":"+SUMIFS(Sheet4!$DM$2:$DM$8408,Sheet4!$C$2:$C$8408,Sheet3!$B26,Sheet4!$D$2:$D$8408,Sheet3!L$3,Sheet4!$E$2:$E$8408,Sheet3!L$4,Sheet4!$A$2:$A$8408,Sheet3!$B$1,Sheet4!$B$2:$B$8408,Sheet3!$A$3)","v":33},{"$f":"+SUMIFS(Sheet4!$DM$2:$DM$8408,Sheet4!$C$2:$C$8408,Sheet3!$B26,Sheet4!$D$2:$D$8408,Sheet3!M$3,Sheet4!$E$2:$E$8408,Sheet3!M$4,Sheet4!$A$2:$A$8408,Sheet3!$B$1,Sheet4!$B$2:$B$8408,Sheet3!$A$3)","v":5},{"$f":"+SUMIFS(Sheet4!$DM$2:$DM$8408,Sheet4!$C$2:$C$8408,Sheet3!$B26,Sheet4!$D$2:$D$8408,Sheet3!N$3,Sheet4!$E$2:$E$8408,Sheet3!N$4,Sheet4!$A$2:$A$8408,Sheet3!$B$1,Sheet4!$B$2:$B$8408,Sheet3!$A$3)","v":289},{"$f":"+SUMIFS(Sheet4!$DM$2:$DM$8408,Sheet4!$C$2:$C$8408,Sheet3!$B26,Sheet4!$D$2:$D$8408,Sheet3!O$3,Sheet4!$E$2:$E$8408,Sheet3!O$4,Sheet4!$A$2:$A$8408,Sheet3!$B$1,Sheet4!$B$2:$B$8408,Sheet3!$A$3)","v":194},{"$f":"+SUMIFS(Sheet4!$DM$2:$DM$8408,Sheet4!$C$2:$C$8408,Sheet3!$B26,Sheet4!$D$2:$D$8408,Sheet3!P$3,Sheet4!$E$2:$E$8408,Sheet3!P$4,Sheet4!$A$2:$A$8408,Sheet3!$B$1,Sheet4!$B$2:$B$8408,Sheet3!$A$3)","v":85},{"$f":"+SUMIFS(Sheet4!$DM$2:$DM$8408,Sheet4!$C$2:$C$8408,Sheet3!$B26,Sheet4!$D$2:$D$8408,Sheet3!Q$3,Sheet4!$E$2:$E$8408,Sheet3!Q$4,Sheet4!$A$2:$A$8408,Sheet3!$B$1,Sheet4!$B$2:$B$8408,Sheet3!$A$3)","v":26},{"$f":"+SUMIFS(Sheet4!$DM$2:$DM$8408,Sheet4!$C$2:$C$8408,Sheet3!$B26,Sheet4!$D$2:$D$8408,Sheet3!R$3,Sheet4!$E$2:$E$8408,Sheet3!R$4,Sheet4!$A$2:$A$8408,Sheet3!$B$1,Sheet4!$B$2:$B$8408,Sheet3!$A$3)","v":6},{"$f":"+SUMIFS(Sheet4!$DM$2:$DM$8408,Sheet4!$C$2:$C$8408,Sheet3!$B26,Sheet4!$D$2:$D$8408,Sheet3!S$3,Sheet4!$E$2:$E$8408,Sheet3!S$4,Sheet4!$A$2:$A$8408,Sheet3!$B$1,Sheet4!$B$2:$B$8408,Sheet3!$A$3)","v":0},{"$f":"+SUMIFS(Sheet4!$DM$2:$DM$8408,Sheet4!$C$2:$C$8408,Sheet3!$B26,Sheet4!$D$2:$D$8408,Sheet3!T$3,Sheet4!$E$2:$E$8408,Sheet3!T$4,Sheet4!$A$2:$A$8408,Sheet3!$B$1,Sheet4!$B$2:$B$8408,Sheet3!$A$3)","v":0},{"$f":"+SUMIFS(Sheet4!$DM$2:$DM$8408,Sheet4!$C$2:$C$8408,Sheet3!$B26,Sheet4!$D$2:$D$8408,Sheet3!U$3,Sheet4!$E$2:$E$8408,Sheet3!U$4,Sheet4!$A$2:$A$8408,Sheet3!$B$1,Sheet4!$B$2:$B$8408,Sheet3!$A$3)","v":0},{"$f":"+SUMIFS(Sheet4!$DM$2:$DM$8408,Sheet4!$C$2:$C$8408,Sheet3!$B26,Sheet4!$D$2:$D$8408,Sheet3!V$3,Sheet4!$E$2:$E$8408,Sheet3!V$4,Sheet4!$A$2:$A$8408,Sheet3!$B$1,Sheet4!$B$2:$B$8408,Sheet3!$A$3)","v":0},{"$f":"+SUMIFS(Sheet4!$DM$2:$DM$8408,Sheet4!$C$2:$C$8408,Sheet3!$B26,Sheet4!$D$2:$D$8408,Sheet3!W$3,Sheet4!$E$2:$E$8408,Sheet3!W$4,Sheet4!$A$2:$A$8408,Sheet3!$B$1,Sheet4!$B$2:$B$8408,Sheet3!$A$3)","v":0},{"$f":"+SUMIFS(Sheet4!$DM$2:$DM$8408,Sheet4!$C$2:$C$8408,Sheet3!$B26,Sheet4!$D$2:$D$8408,Sheet3!X$3,Sheet4!$E$2:$E$8408,Sheet3!X$4,Sheet4!$A$2:$A$8408,Sheet3!$B$1,Sheet4!$B$2:$B$8408,Sheet3!$A$3)","v":0},{"$f":"+SUMIFS(Sheet4!$DM$2:$DM$8408,Sheet4!$C$2:$C$8408,Sheet3!$B26,Sheet4!$D$2:$D$8408,Sheet3!Y$3,Sheet4!$E$2:$E$8408,Sheet3!Y$4,Sheet4!$A$2:$A$8408,Sheet3!$B$1,Sheet4!$B$2:$B$8408,Sheet3!$A$3)","v":11},{"$f":"+SUMIFS(Sheet4!$DM$2:$DM$8408,Sheet4!$C$2:$C$8408,Sheet3!$B26,Sheet4!$D$2:$D$8408,Sheet3!Z$3,Sheet4!$E$2:$E$8408,Sheet3!Z$4,Sheet4!$A$2:$A$8408,Sheet3!$B$1,Sheet4!$B$2:$B$8408,Sheet3!$A$3)","v":14},{"$f":"+SUMIFS(Sheet4!$DM$2:$DM$8408,Sheet4!$C$2:$C$8408,Sheet3!$B26,Sheet4!$D$2:$D$8408,Sheet3!AA$3,Sheet4!$E$2:$E$8408,Sheet3!AA$4,Sheet4!$A$2:$A$8408,Sheet3!$B$1,Sheet4!$B$2:$B$8408,Sheet3!$A$3)","v":33},{"$f":"+SUMIFS(Sheet4!$DM$2:$DM$8408,Sheet4!$C$2:$C$8408,Sheet3!$B26,Sheet4!$D$2:$D$8408,Sheet3!AB$3,Sheet4!$E$2:$E$8408,Sheet3!AB$4,Sheet4!$A$2:$A$8408,Sheet3!$B$1,Sheet4!$B$2:$B$8408,Sheet3!$A$3)","v":8},{"$f":"+SUMIFS(Sheet4!$DM$2:$DM$8408,Sheet4!$C$2:$C$8408,Sheet3!$B26,Sheet4!$D$2:$D$8408,Sheet3!AC$3,Sheet4!$E$2:$E$8408,Sheet3!AC$4,Sheet4!$A$2:$A$8408,Sheet3!$B$1,Sheet4!$B$2:$B$8408,Sheet3!$A$3)","v":27},{"$f":"+SUMIFS(Sheet4!$DM$2:$DM$8408,Sheet4!$C$2:$C$8408,Sheet3!$B26,Sheet4!$D$2:$D$8408,Sheet3!AD$3,Sheet4!$E$2:$E$8408,Sheet3!AD$4,Sheet4!$A$2:$A$8408,Sheet3!$B$1,Sheet4!$B$2:$B$8408,Sheet3!$A$3)","v":49},{"$f":"+SUMIFS(Sheet4!$DM$2:$DM$8408,Sheet4!$C$2:$C$8408,Sheet3!$B26,Sheet4!$D$2:$D$8408,Sheet3!AE$3,Sheet4!$E$2:$E$8408,Sheet3!AE$4,Sheet4!$A$2:$A$8408,Sheet3!$B$1,Sheet4!$B$2:$B$8408,Sheet3!$A$3)","v":22},{"$f":"+SUMIFS(Sheet4!$DM$2:$DM$8408,Sheet4!$C$2:$C$8408,Sheet3!$B26,Sheet4!$D$2:$D$8408,Sheet3!AF$3,Sheet4!$E$2:$E$8408,Sheet3!AF$4,Sheet4!$A$2:$A$8408,Sheet3!$B$1,Sheet4!$B$2:$B$8408,Sheet3!$A$3)","v":20},{"$f":"+SUMIFS(Sheet4!$DM$2:$DM$8408,Sheet4!$C$2:$C$8408,Sheet3!$B26,Sheet4!$D$2:$D$8408,Sheet3!AG$3,Sheet4!$E$2:$E$8408,Sheet3!AG$4,Sheet4!$A$2:$A$8408,Sheet3!$B$1,Sheet4!$B$2:$B$8408,Sheet3!$A$3)","v":8},{"$f":"+SUMIFS(Sheet4!$DM$2:$DM$8408,Sheet4!$C$2:$C$8408,Sheet3!$B26,Sheet4!$D$2:$D$8408,Sheet3!AH$3,Sheet4!$E$2:$E$8408,Sheet3!AH$4,Sheet4!$A$2:$A$8408,Sheet3!$B$1,Sheet4!$B$2:$B$8408,Sheet3!$A$3)","v":66},{"$f":"+SUMIFS(Sheet4!$DM$2:$DM$8408,Sheet4!$C$2:$C$8408,Sheet3!$B26,Sheet4!$D$2:$D$8408,Sheet3!AI$3,Sheet4!$E$2:$E$8408,Sheet3!AI$4,Sheet4!$A$2:$A$8408,Sheet3!$B$1,Sheet4!$B$2:$B$8408,Sheet3!$A$3)","v":115},{"$f":"+SUMIFS(Sheet4!$DM$2:$DM$8408,Sheet4!$C$2:$C$8408,Sheet3!$B26,Sheet4!$D$2:$D$8408,Sheet3!AJ$3,Sheet4!$E$2:$E$8408,Sheet3!AJ$4,Sheet4!$A$2:$A$8408,Sheet3!$B$1,Sheet4!$B$2:$B$8408,Sheet3!$A$3)","v":56},{"$f":"+SUMIFS(Sheet4!$DM$2:$DM$8408,Sheet4!$C$2:$C$8408,Sheet3!$B26,Sheet4!$D$2:$D$8408,Sheet3!AK$3,Sheet4!$E$2:$E$8408,Sheet3!AK$4,Sheet4!$A$2:$A$8408,Sheet3!$B$1,Sheet4!$B$2:$B$8408,Sheet3!$A$3)","v":12},{"$f":"+SUMIFS(Sheet4!$DM$2:$DM$8408,Sheet4!$C$2:$C$8408,Sheet3!$B26,Sheet4!$D$2:$D$8408,Sheet3!AL$3,Sheet4!$E$2:$E$8408,Sheet3!AL$4,Sheet4!$A$2:$A$8408,Sheet3!$B$1,Sheet4!$B$2:$B$8408,Sheet3!$A$3)","v":0},{"$f":"+SUMIFS(Sheet4!$DM$2:$DM$8408,Sheet4!$C$2:$C$8408,Sheet3!$B26,Sheet4!$D$2:$D$8408,Sheet3!AM$3,Sheet4!$E$2:$E$8408,Sheet3!AM$4,Sheet4!$A$2:$A$8408,Sheet3!$B$1,Sheet4!$B$2:$B$8408,Sheet3!$A$3)","v":18},{"$f":"+SUMIFS(Sheet4!$DM$2:$DM$8408,Sheet4!$C$2:$C$8408,Sheet3!$B26,Sheet4!$D$2:$D$8408,Sheet3!AN$3,Sheet4!$E$2:$E$8408,Sheet3!AN$4,Sheet4!$A$2:$A$8408,Sheet3!$B$1,Sheet4!$B$2:$B$8408,Sheet3!$A$3)","v":88},{"$f":"+SUMIFS(Sheet4!$DM$2:$DM$8408,Sheet4!$C$2:$C$8408,Sheet3!$B26,Sheet4!$D$2:$D$8408,Sheet3!AO$3,Sheet4!$E$2:$E$8408,Sheet3!AO$4,Sheet4!$A$2:$A$8408,Sheet3!$B$1,Sheet4!$B$2:$B$8408,Sheet3!$A$3)","v":162},{"$f":"+SUMIFS(Sheet4!$DM$2:$DM$8408,Sheet4!$C$2:$C$8408,Sheet3!$B26,Sheet4!$D$2:$D$8408,Sheet3!AP$3,Sheet4!$E$2:$E$8408,Sheet3!AP$4,Sheet4!$A$2:$A$8408,Sheet3!$B$1,Sheet4!$B$2:$B$8408,Sheet3!$A$3)","v":144},{"$f":"+SUMIFS(Sheet4!$DM$2:$DM$8408,Sheet4!$C$2:$C$8408,Sheet3!$B26,Sheet4!$D$2:$D$8408,Sheet3!AQ$3,Sheet4!$E$2:$E$8408,Sheet3!AQ$4,Sheet4!$A$2:$A$8408,Sheet3!$B$1,Sheet4!$B$2:$B$8408,Sheet3!$A$3)","v":53},{"$f":"+SUMIFS(Sheet4!$DM$2:$DM$8408,Sheet4!$C$2:$C$8408,Sheet3!$B26,Sheet4!$D$2:$D$8408,Sheet3!AR$3,Sheet4!$E$2:$E$8408,Sheet3!AR$4,Sheet4!$A$2:$A$8408,Sheet3!$B$1,Sheet4!$B$2:$B$8408,Sheet3!$A$3)","v":1139},{"$f":"+SUMIFS(Sheet4!$DM$2:$DM$8408,Sheet4!$C$2:$C$8408,Sheet3!$B26,Sheet4!$D$2:$D$8408,Sheet3!AS$3,Sheet4!$E$2:$E$8408,Sheet3!AS$4,Sheet4!$A$2:$A$8408,Sheet3!$B$1,Sheet4!$B$2:$B$8408,Sheet3!$A$3)","v":407},{"$f":"+SUMIFS(Sheet4!$DM$2:$DM$8408,Sheet4!$C$2:$C$8408,Sheet3!$B26,Sheet4!$D$2:$D$8408,Sheet3!AT$3,Sheet4!$E$2:$E$8408,Sheet3!AT$4,Sheet4!$A$2:$A$8408,Sheet3!$B$1,Sheet4!$B$2:$B$8408,Sheet3!$A$3)","v":264},{"$f":"+SUMIFS(Sheet4!$DM$2:$DM$8408,Sheet4!$C$2:$C$8408,Sheet3!$B26,Sheet4!$D$2:$D$8408,Sheet3!AU$3,Sheet4!$E$2:$E$8408,Sheet3!AU$4,Sheet4!$A$2:$A$8408,Sheet3!$B$1,Sheet4!$B$2:$B$8408,Sheet3!$A$3)","v":155},{"$f":"+SUMIFS(Sheet4!$DM$2:$DM$8408,Sheet4!$C$2:$C$8408,Sheet3!$B26,Sheet4!$D$2:$D$8408,Sheet3!AV$3,Sheet4!$E$2:$E$8408,Sheet3!AV$4,Sheet4!$A$2:$A$8408,Sheet3!$B$1,Sheet4!$B$2:$B$8408,Sheet3!$A$3)","v":20},{"$f":"+SUMIFS(Sheet4!$DM$2:$DM$8408,Sheet4!$C$2:$C$8408,Sheet3!$B26,Sheet4!$D$2:$D$8408,Sheet3!AW$3,Sheet4!$E$2:$E$8408,Sheet3!AW$4,Sheet4!$A$2:$A$8408,Sheet3!$B$1,Sheet4!$B$2:$B$8408,Sheet3!$A$3)","v":442},{"$f":"+SUMIFS(Sheet4!$DM$2:$DM$8408,Sheet4!$C$2:$C$8408,Sheet3!$B26,Sheet4!$D$2:$D$8408,Sheet3!AX$3,Sheet4!$E$2:$E$8408,Sheet3!AX$4,Sheet4!$A$2:$A$8408,Sheet3!$B$1,Sheet4!$B$2:$B$8408,Sheet3!$A$3)","v":343},{"$f":"+SUMIFS(Sheet4!$DM$2:$DM$8408,Sheet4!$C$2:$C$8408,Sheet3!$B26,Sheet4!$D$2:$D$8408,Sheet3!AY$3,Sheet4!$E$2:$E$8408,Sheet3!AY$4,Sheet4!$A$2:$A$8408,Sheet3!$B$1,Sheet4!$B$2:$B$8408,Sheet3!$A$3)","v":130},{"$f":"+SUMIFS(Sheet4!$DM$2:$DM$8408,Sheet4!$C$2:$C$8408,Sheet3!$B26,Sheet4!$D$2:$D$8408,Sheet3!AZ$3,Sheet4!$E$2:$E$8408,Sheet3!AZ$4,Sheet4!$A$2:$A$8408,Sheet3!$B$1,Sheet4!$B$2:$B$8408,Sheet3!$A$3)","v":101},{"$f":"+SUMIFS(Sheet4!$DM$2:$DM$8408,Sheet4!$C$2:$C$8408,Sheet3!$B26,Sheet4!$D$2:$D$8408,Sheet3!BA$3,Sheet4!$E$2:$E$8408,Sheet3!BA$4,Sheet4!$A$2:$A$8408,Sheet3!$B$1,Sheet4!$B$2:$B$8408,Sheet3!$A$3)","v":20},{"$f":"+SUMIFS(Sheet4!$DM$2:$DM$8408,Sheet4!$C$2:$C$8408,Sheet3!$B26,Sheet4!$D$2:$D$8408,Sheet3!BB$3,Sheet4!$E$2:$E$8408,Sheet3!BB$4,Sheet4!$A$2:$A$8408,Sheet3!$B$1,Sheet4!$B$2:$B$8408,Sheet3!$A$3)","v":0},{"$f":"+SUMIFS(Sheet4!$DM$2:$DM$8408,Sheet4!$C$2:$C$8408,Sheet3!$B26,Sheet4!$D$2:$D$8408,Sheet3!BC$3,Sheet4!$E$2:$E$8408,Sheet3!BC$4,Sheet4!$A$2:$A$8408,Sheet3!$B$1,Sheet4!$B$2:$B$8408,Sheet3!$A$3)","v":0},{"$f":"+SUMIFS(Sheet4!$DM$2:$DM$8408,Sheet4!$C$2:$C$8408,Sheet3!$B26,Sheet4!$D$2:$D$8408,Sheet3!BD$3,Sheet4!$E$2:$E$8408,Sheet3!BD$4,Sheet4!$A$2:$A$8408,Sheet3!$B$1,Sheet4!$B$2:$B$8408,Sheet3!$A$3)","v":0},{"$f":"+SUMIFS(Sheet4!$DM$2:$DM$8408,Sheet4!$C$2:$C$8408,Sheet3!$B26,Sheet4!$D$2:$D$8408,Sheet3!BE$3,Sheet4!$E$2:$E$8408,Sheet3!BE$4,Sheet4!$A$2:$A$8408,Sheet3!$B$1,Sheet4!$B$2:$B$8408,Sheet3!$A$3)","v":0},{"$f":"+SUMIFS(Sheet4!$DM$2:$DM$8408,Sheet4!$C$2:$C$8408,Sheet3!$B26,Sheet4!$D$2:$D$8408,Sheet3!BF$3,Sheet4!$E$2:$E$8408,Sheet3!BF$4,Sheet4!$A$2:$A$8408,Sheet3!$B$1,Sheet4!$B$2:$B$8408,Sheet3!$A$3)","v":0},{"$f":"+SUMIFS(Sheet4!$DM$2:$DM$8408,Sheet4!$C$2:$C$8408,Sheet3!$B26,Sheet4!$D$2:$D$8408,Sheet3!BG$3,Sheet4!$E$2:$E$8408,Sheet3!BG$4,Sheet4!$A$2:$A$8408,Sheet3!$B$1,Sheet4!$B$2:$B$8408,Sheet3!$A$3)","v":0},{"$f":"+SUMIFS(Sheet4!$DM$2:$DM$8408,Sheet4!$C$2:$C$8408,Sheet3!$B26,Sheet4!$D$2:$D$8408,Sheet3!BH$3,Sheet4!$E$2:$E$8408,Sheet3!BH$4,Sheet4!$A$2:$A$8408,Sheet3!$B$1,Sheet4!$B$2:$B$8408,Sheet3!$A$3)","v":33},{"$f":"+SUMIFS(Sheet4!$DM$2:$DM$8408,Sheet4!$C$2:$C$8408,Sheet3!$B26,Sheet4!$D$2:$D$8408,Sheet3!BI$3,Sheet4!$E$2:$E$8408,Sheet3!BI$4,Sheet4!$A$2:$A$8408,Sheet3!$B$1,Sheet4!$B$2:$B$8408,Sheet3!$A$3)","v":70},{"$f":"+SUMIFS(Sheet4!$DM$2:$DM$8408,Sheet4!$C$2:$C$8408,Sheet3!$B26,Sheet4!$D$2:$D$8408,Sheet3!BJ$3,Sheet4!$E$2:$E$8408,Sheet3!BJ$4,Sheet4!$A$2:$A$8408,Sheet3!$B$1,Sheet4!$B$2:$B$8408,Sheet3!$A$3)","v":39},{"$f":"+SUMIFS(Sheet4!$DM$2:$DM$8408,Sheet4!$C$2:$C$8408,Sheet3!$B26,Sheet4!$D$2:$D$8408,Sheet3!BK$3,Sheet4!$E$2:$E$8408,Sheet3!BK$4,Sheet4!$A$2:$A$8408,Sheet3!$B$1,Sheet4!$B$2:$B$8408,Sheet3!$A$3)","v":3},{"$f":"+SUMIFS(Sheet4!$DM$2:$DM$8408,Sheet4!$C$2:$C$8408,Sheet3!$B26,Sheet4!$D$2:$D$8408,Sheet3!BL$3,Sheet4!$E$2:$E$8408,Sheet3!BL$4,Sheet4!$A$2:$A$8408,Sheet3!$B$1,Sheet4!$B$2:$B$8408,Sheet3!$A$3)","v":14},{"$f":"+SUMIFS(Sheet4!$DM$2:$DM$8408,Sheet4!$C$2:$C$8408,Sheet3!$B26,Sheet4!$D$2:$D$8408,Sheet3!BM$3,Sheet4!$E$2:$E$8408,Sheet3!BM$4,Sheet4!$A$2:$A$8408,Sheet3!$B$1,Sheet4!$B$2:$B$8408,Sheet3!$A$3)","v":35},{"$f":"+SUMIFS(Sheet4!$DM$2:$DM$8408,Sheet4!$C$2:$C$8408,Sheet3!$B26,Sheet4!$D$2:$D$8408,Sheet3!BN$3,Sheet4!$E$2:$E$8408,Sheet3!BN$4,Sheet4!$A$2:$A$8408,Sheet3!$B$1,Sheet4!$B$2:$B$8408,Sheet3!$A$3)","v":41},{"$f":"+SUMIFS(Sheet4!$DM$2:$DM$8408,Sheet4!$C$2:$C$8408,Sheet3!$B26,Sheet4!$D$2:$D$8408,Sheet3!BO$3,Sheet4!$E$2:$E$8408,Sheet3!BO$4,Sheet4!$A$2:$A$8408,Sheet3!$B$1,Sheet4!$B$2:$B$8408,Sheet3!$A$3)","v":22},{"$f":"+SUMIFS(Sheet4!$DM$2:$DM$8408,Sheet4!$C$2:$C$8408,Sheet3!$B26,Sheet4!$D$2:$D$8408,Sheet3!BP$3,Sheet4!$E$2:$E$8408,Sheet3!BP$4,Sheet4!$A$2:$A$8408,Sheet3!$B$1,Sheet4!$B$2:$B$8408,Sheet3!$A$3)","v":8},{"$f":"+SUMIFS(Sheet4!$DM$2:$DM$8408,Sheet4!$C$2:$C$8408,Sheet3!$B26,Sheet4!$D$2:$D$8408,Sheet3!BQ$3,Sheet4!$E$2:$E$8408,Sheet3!BQ$4,Sheet4!$A$2:$A$8408,Sheet3!$B$1,Sheet4!$B$2:$B$8408,Sheet3!$A$3)","v":6},{"$f":"+SUMIFS(Sheet4!$DM$2:$DM$8408,Sheet4!$C$2:$C$8408,Sheet3!$B26,Sheet4!$D$2:$D$8408,Sheet3!BR$3,Sheet4!$E$2:$E$8408,Sheet3!BR$4,Sheet4!$A$2:$A$8408,Sheet3!$B$1,Sheet4!$B$2:$B$8408,Sheet3!$A$3)","v":55},{"$f":"+SUMIFS(Sheet4!$DM$2:$DM$8408,Sheet4!$C$2:$C$8408,Sheet3!$B26,Sheet4!$D$2:$D$8408,Sheet3!BS$3,Sheet4!$E$2:$E$8408,Sheet3!BS$4,Sheet4!$A$2:$A$8408,Sheet3!$B$1,Sheet4!$B$2:$B$8408,Sheet3!$A$3)","v":206},{"$f":"+SUMIFS(Sheet4!$DM$2:$DM$8408,Sheet4!$C$2:$C$8408,Sheet3!$B26,Sheet4!$D$2:$D$8408,Sheet3!BT$3,Sheet4!$E$2:$E$8408,Sheet3!BT$4,Sheet4!$A$2:$A$8408,Sheet3!$B$1,Sheet4!$B$2:$B$8408,Sheet3!$A$3)","v":128},{"$f":"+SUMIFS(Sheet4!$DM$2:$DM$8408,Sheet4!$C$2:$C$8408,Sheet3!$B26,Sheet4!$D$2:$D$8408,Sheet3!BU$3,Sheet4!$E$2:$E$8408,Sheet3!BU$4,Sheet4!$A$2:$A$8408,Sheet3!$B$1,Sheet4!$B$2:$B$8408,Sheet3!$A$3)","v":0},{"$f":"+SUMIFS(Sheet4!$DM$2:$DM$8408,Sheet4!$C$2:$C$8408,Sheet3!$B26,Sheet4!$D$2:$D$8408,Sheet3!BV$3,Sheet4!$E$2:$E$8408,Sheet3!BV$4,Sheet4!$A$2:$A$8408,Sheet3!$B$1,Sheet4!$B$2:$B$8408,Sheet3!$A$3)","v":347},{"$f":"+SUMIFS(Sheet4!$DM$2:$DM$8408,Sheet4!$C$2:$C$8408,Sheet3!$B26,Sheet4!$D$2:$D$8408,Sheet3!BW$3,Sheet4!$E$2:$E$8408,Sheet3!BW$4,Sheet4!$A$2:$A$8408,Sheet3!$B$1,Sheet4!$B$2:$B$8408,Sheet3!$A$3)","v":671},{"$f":"+SUMIFS(Sheet4!$DM$2:$DM$8408,Sheet4!$C$2:$C$8408,Sheet3!$B26,Sheet4!$D$2:$D$8408,Sheet3!BX$3,Sheet4!$E$2:$E$8408,Sheet3!BX$4,Sheet4!$A$2:$A$8408,Sheet3!$B$1,Sheet4!$B$2:$B$8408,Sheet3!$A$3)","v":395},{"$f":"+SUMIFS(Sheet4!$DM$2:$DM$8408,Sheet4!$C$2:$C$8408,Sheet3!$B26,Sheet4!$D$2:$D$8408,Sheet3!BY$3,Sheet4!$E$2:$E$8408,Sheet3!BY$4,Sheet4!$A$2:$A$8408,Sheet3!$B$1,Sheet4!$B$2:$B$8408,Sheet3!$A$3)","v":119},{"$f":"+SUMIFS(Sheet4!$DM$2:$DM$8408,Sheet4!$C$2:$C$8408,Sheet3!$B26,Sheet4!$D$2:$D$8408,Sheet3!BZ$3,Sheet4!$E$2:$E$8408,Sheet3!BZ$4,Sheet4!$A$2:$A$8408,Sheet3!$B$1,Sheet4!$B$2:$B$8408,Sheet3!$A$3)","v":0},{"$f":"+SUMIFS(Sheet4!$DM$2:$DM$8408,Sheet4!$C$2:$C$8408,Sheet3!$B26,Sheet4!$D$2:$D$8408,Sheet3!CA$3,Sheet4!$E$2:$E$8408,Sheet3!CA$4,Sheet4!$A$2:$A$8408,Sheet3!$B$1,Sheet4!$B$2:$B$8408,Sheet3!$A$3)","v":55},{"$f":"+SUMIFS(Sheet4!$DM$2:$DM$8408,Sheet4!$C$2:$C$8408,Sheet3!$B26,Sheet4!$D$2:$D$8408,Sheet3!CB$3,Sheet4!$E$2:$E$8408,Sheet3!CB$4,Sheet4!$A$2:$A$8408,Sheet3!$B$1,Sheet4!$B$2:$B$8408,Sheet3!$A$3)","v":174},{"$f":"+SUMIFS(Sheet4!$DM$2:$DM$8408,Sheet4!$C$2:$C$8408,Sheet3!$B26,Sheet4!$D$2:$D$8408,Sheet3!CC$3,Sheet4!$E$2:$E$8408,Sheet3!CC$4,Sheet4!$A$2:$A$8408,Sheet3!$B$1,Sheet4!$B$2:$B$8408,Sheet3!$A$3)","v":123},{"$f":"+SUMIFS(Sheet4!$DM$2:$DM$8408,Sheet4!$C$2:$C$8408,Sheet3!$B26,Sheet4!$D$2:$D$8408,Sheet3!CD$3,Sheet4!$E$2:$E$8408,Sheet3!CD$4,Sheet4!$A$2:$A$8408,Sheet3!$B$1,Sheet4!$B$2:$B$8408,Sheet3!$A$3)","v":132},{"$f":"+SUMIFS(Sheet4!$DM$2:$DM$8408,Sheet4!$C$2:$C$8408,Sheet3!$B26,Sheet4!$D$2:$D$8408,Sheet3!CE$3,Sheet4!$E$2:$E$8408,Sheet3!CE$4,Sheet4!$A$2:$A$8408,Sheet3!$B$1,Sheet4!$B$2:$B$8408,Sheet3!$A$3)","v":21},{"$f":"+SUMIFS(Sheet4!$DM$2:$DM$8408,Sheet4!$C$2:$C$8408,Sheet3!$B26,Sheet4!$D$2:$D$8408,Sheet3!CF$3,Sheet4!$E$2:$E$8408,Sheet3!CF$4,Sheet4!$A$2:$A$8408,Sheet3!$B$1,Sheet4!$B$2:$B$8408,Sheet3!$A$3)","v":660},{"$f":"+SUMIFS(Sheet4!$DM$2:$DM$8408,Sheet4!$C$2:$C$8408,Sheet3!$B26,Sheet4!$D$2:$D$8408,Sheet3!CG$3,Sheet4!$E$2:$E$8408,Sheet3!CG$4,Sheet4!$A$2:$A$8408,Sheet3!$B$1,Sheet4!$B$2:$B$8408,Sheet3!$A$3)","v":371},{"$f":"+SUMIFS(Sheet4!$DM$2:$DM$8408,Sheet4!$C$2:$C$8408,Sheet3!$B26,Sheet4!$D$2:$D$8408,Sheet3!CH$3,Sheet4!$E$2:$E$8408,Sheet3!CH$4,Sheet4!$A$2:$A$8408,Sheet3!$B$1,Sheet4!$B$2:$B$8408,Sheet3!$A$3)","v":103},{"$f":"+SUMIFS(Sheet4!$DM$2:$DM$8408,Sheet4!$C$2:$C$8408,Sheet3!$B26,Sheet4!$D$2:$D$8408,Sheet3!CI$3,Sheet4!$E$2:$E$8408,Sheet3!CI$4,Sheet4!$A$2:$A$8408,Sheet3!$B$1,Sheet4!$B$2:$B$8408,Sheet3!$A$3)","v":5},{"$f":"+SUMIFS(Sheet4!$DM$2:$DM$8408,Sheet4!$C$2:$C$8408,Sheet3!$B26,Sheet4!$D$2:$D$8408,Sheet3!CJ$3,Sheet4!$E$2:$E$8408,Sheet3!CJ$4,Sheet4!$A$2:$A$8408,Sheet3!$B$1,Sheet4!$B$2:$B$8408,Sheet3!$A$3)","v":0},{"$f":"+SUMIFS(Sheet4!$DM$2:$DM$8408,Sheet4!$C$2:$C$8408,Sheet3!$B26,Sheet4!$D$2:$D$8408,Sheet3!CK$3,Sheet4!$E$2:$E$8408,Sheet3!CK$4,Sheet4!$A$2:$A$8408,Sheet3!$B$1,Sheet4!$B$2:$B$8408,Sheet3!$A$3)","v":0},{"$f":"+SUMIFS(Sheet4!$DM$2:$DM$8408,Sheet4!$C$2:$C$8408,Sheet3!$B26,Sheet4!$D$2:$D$8408,Sheet3!CL$3,Sheet4!$E$2:$E$8408,Sheet3!CL$4,Sheet4!$A$2:$A$8408,Sheet3!$B$1,Sheet4!$B$2:$B$8408,Sheet3!$A$3)","v":0},{"$f":"+SUMIFS(Sheet4!$DM$2:$DM$8408,Sheet4!$C$2:$C$8408,Sheet3!$B26,Sheet4!$D$2:$D$8408,Sheet3!CM$3,Sheet4!$E$2:$E$8408,Sheet3!CM$4,Sheet4!$A$2:$A$8408,Sheet3!$B$1,Sheet4!$B$2:$B$8408,Sheet3!$A$3)","v":5},{"$f":"+SUMIFS(Sheet4!$DM$2:$DM$8408,Sheet4!$C$2:$C$8408,Sheet3!$B26,Sheet4!$D$2:$D$8408,Sheet3!CN$3,Sheet4!$E$2:$E$8408,Sheet3!CN$4,Sheet4!$A$2:$A$8408,Sheet3!$B$1,Sheet4!$B$2:$B$8408,Sheet3!$A$3)","v":4},{"$f":"+SUMIFS(Sheet4!$DM$2:$DM$8408,Sheet4!$C$2:$C$8408,Sheet3!$B26,Sheet4!$D$2:$D$8408,Sheet3!CO$3,Sheet4!$E$2:$E$8408,Sheet3!CO$4,Sheet4!$A$2:$A$8408,Sheet3!$B$1,Sheet4!$B$2:$B$8408,Sheet3!$A$3)","v":0},{"$f":"+SUMIFS(Sheet4!$DM$2:$DM$8408,Sheet4!$C$2:$C$8408,Sheet3!$B26,Sheet4!$D$2:$D$8408,Sheet3!CP$3,Sheet4!$E$2:$E$8408,Sheet3!CP$4,Sheet4!$A$2:$A$8408,Sheet3!$B$1,Sheet4!$B$2:$B$8408,Sheet3!$A$3)","v":0},{"$f":"+SUMIFS(Sheet4!$DM$2:$DM$8408,Sheet4!$C$2:$C$8408,Sheet3!$B26,Sheet4!$D$2:$D$8408,Sheet3!CQ$3,Sheet4!$E$2:$E$8408,Sheet3!CQ$4,Sheet4!$A$2:$A$8408,Sheet3!$B$1,Sheet4!$B$2:$B$8408,Sheet3!$A$3)","v":0},{"$f":"+SUMIFS(Sheet4!$DM$2:$DM$8408,Sheet4!$C$2:$C$8408,Sheet3!$B26,Sheet4!$D$2:$D$8408,Sheet3!CR$3,Sheet4!$E$2:$E$8408,Sheet3!CR$4,Sheet4!$A$2:$A$8408,Sheet3!$B$1,Sheet4!$B$2:$B$8408,Sheet3!$A$3)","v":0},{"$f":"+SUMIFS(Sheet4!$DM$2:$DM$8408,Sheet4!$C$2:$C$8408,Sheet3!$B26,Sheet4!$D$2:$D$8408,Sheet3!CS$3,Sheet4!$E$2:$E$8408,Sheet3!CS$4,Sheet4!$A$2:$A$8408,Sheet3!$B$1,Sheet4!$B$2:$B$8408,Sheet3!$A$3)","v":0},{"$f":"+SUMIFS(Sheet4!$DM$2:$DM$8408,Sheet4!$C$2:$C$8408,Sheet3!$B26,Sheet4!$D$2:$D$8408,Sheet3!CT$3,Sheet4!$E$2:$E$8408,Sheet3!CT$4,Sheet4!$A$2:$A$8408,Sheet3!$B$1,Sheet4!$B$2:$B$8408,Sheet3!$A$3)","v":0},{"$f":"+IF(SUMIFS(Sheet4!$DN$2:$DN$8408,Sheet4!$C$2:$C$8408,Sheet3!$B26,Sheet4!$D$2:$D$8408,Sheet3!CU$3,Sheet4!$A$2:$A$8408,Sheet3!$B$1,Sheet4!$B$2:$B$8408,Sheet3!$A$3)<3,0,SUMIFS(Sheet4!$DN$2:$DN$8408,Sheet4!$C$2:$C$8408,Sheet3!$B26,Sheet4!$D$2:$D$8408,Sheet3!CU$3,Sheet4!$A$2:$A$8408,Sheet3!$B$1,Sheet4!$B$2:$B$8408,Sheet3!$A$3))","v":24},{"$f":"+IF(SUMIFS(Sheet4!$DN$2:$DN$8408,Sheet4!$C$2:$C$8408,Sheet3!$B26,Sheet4!$D$2:$D$8408,Sheet3!CV$3,Sheet4!$A$2:$A$8408,Sheet3!$B$1,Sheet4!$B$2:$B$8408,Sheet3!$A$3)<3,0,SUMIFS(Sheet4!$DN$2:$DN$8408,Sheet4!$C$2:$C$8408,Sheet3!$B26,Sheet4!$D$2:$D$8408,Sheet3!CV$3,Sheet4!$A$2:$A$8408,Sheet3!$B$1,Sheet4!$B$2:$B$8408,Sheet3!$A$3))","v":79},{"$f":"+IF(SUMIFS(Sheet4!$DN$2:$DN$8408,Sheet4!$C$2:$C$8408,Sheet3!$B26,Sheet4!$D$2:$D$8408,Sheet3!CW$3,Sheet4!$A$2:$A$8408,Sheet3!$B$1,Sheet4!$B$2:$B$8408,Sheet3!$A$3)<3,0,SUMIFS(Sheet4!$DN$2:$DN$8408,Sheet4!$C$2:$C$8408,Sheet3!$B26,Sheet4!$D$2:$D$8408,Sheet3!CW$3,Sheet4!$A$2:$A$8408,Sheet3!$B$1,Sheet4!$B$2:$B$8408,Sheet3!$A$3))","v":603},{"$f":"+IF(SUMIFS(Sheet4!$DN$2:$DN$8408,Sheet4!$C$2:$C$8408,Sheet3!$B26,Sheet4!$D$2:$D$8408,Sheet3!CX$3,Sheet4!$A$2:$A$8408,Sheet3!$B$1,Sheet4!$B$2:$B$8408,Sheet3!$A$3)<3,0,SUMIFS(Sheet4!$DN$2:$DN$8408,Sheet4!$C$2:$C$8408,Sheet3!$B26,Sheet4!$D$2:$D$8408,Sheet3!CX$3,Sheet4!$A$2:$A$8408,Sheet3!$B$1,Sheet4!$B$2:$B$8408,Sheet3!$A$3))","v":0},{"$f":"+IF(SUMIFS(Sheet4!$DN$2:$DN$8408,Sheet4!$C$2:$C$8408,Sheet3!$B26,Sheet4!$D$2:$D$8408,Sheet3!CY$3,Sheet4!$A$2:$A$8408,Sheet3!$B$1,Sheet4!$B$2:$B$8408,Sheet3!$A$3)<3,0,SUMIFS(Sheet4!$DN$2:$DN$8408,Sheet4!$C$2:$C$8408,Sheet3!$B26,Sheet4!$D$2:$D$8408,Sheet3!CY$3,Sheet4!$A$2:$A$8408,Sheet3!$B$1,Sheet4!$B$2:$B$8408,Sheet3!$A$3))","v":70},{"$f":"+IF(SUMIFS(Sheet4!$DN$2:$DN$8408,Sheet4!$C$2:$C$8408,Sheet3!$B26,Sheet4!$D$2:$D$8408,Sheet3!CZ$3,Sheet4!$A$2:$A$8408,Sheet3!$B$1,Sheet4!$B$2:$B$8408,Sheet3!$A$3)<3,0,SUMIFS(Sheet4!$DN$2:$DN$8408,Sheet4!$C$2:$C$8408,Sheet3!$B26,Sheet4!$D$2:$D$8408,Sheet3!CZ$3,Sheet4!$A$2:$A$8408,Sheet3!$B$1,Sheet4!$B$2:$B$8408,Sheet3!$A$3))","v":129},{"$f":"+IF(SUMIFS(Sheet4!$DN$2:$DN$8408,Sheet4!$C$2:$C$8408,Sheet3!$B26,Sheet4!$D$2:$D$8408,Sheet3!DA$3,Sheet4!$A$2:$A$8408,Sheet3!$B$1,Sheet4!$B$2:$B$8408,Sheet3!$A$3)<3,0,SUMIFS(Sheet4!$DN$2:$DN$8408,Sheet4!$C$2:$C$8408,Sheet3!$B26,Sheet4!$D$2:$D$8408,Sheet3!DA$3,Sheet4!$A$2:$A$8408,Sheet3!$B$1,Sheet4!$B$2:$B$8408,Sheet3!$A$3))","v":253},{"$f":"+IF(SUMIFS(Sheet4!$DN$2:$DN$8408,Sheet4!$C$2:$C$8408,Sheet3!$B26,Sheet4!$D$2:$D$8408,Sheet3!DB$3,Sheet4!$A$2:$A$8408,Sheet3!$B$1,Sheet4!$B$2:$B$8408,Sheet3!$A$3)<3,0,SUMIFS(Sheet4!$DN$2:$DN$8408,Sheet4!$C$2:$C$8408,Sheet3!$B26,Sheet4!$D$2:$D$8408,Sheet3!DB$3,Sheet4!$A$2:$A$8408,Sheet3!$B$1,Sheet4!$B$2:$B$8408,Sheet3!$A$3))","v":472},{"$f":"+IF(SUMIFS(Sheet4!$DN$2:$DN$8408,Sheet4!$C$2:$C$8408,Sheet3!$B26,Sheet4!$D$2:$D$8408,Sheet3!DC$3,Sheet4!$A$2:$A$8408,Sheet3!$B$1,Sheet4!$B$2:$B$8408,Sheet3!$A$3)<3,0,SUMIFS(Sheet4!$DN$2:$DN$8408,Sheet4!$C$2:$C$8408,Sheet3!$B26,Sheet4!$D$2:$D$8408,Sheet3!DC$3,Sheet4!$A$2:$A$8408,Sheet3!$B$1,Sheet4!$B$2:$B$8408,Sheet3!$A$3))","v":1987},{"$f":"+IF(SUMIFS(Sheet4!$DN$2:$DN$8408,Sheet4!$C$2:$C$8408,Sheet3!$B26,Sheet4!$D$2:$D$8408,Sheet3!DD$3,Sheet4!$A$2:$A$8408,Sheet3!$B$1,Sheet4!$B$2:$B$8408,Sheet3!$A$3)<3,0,SUMIFS(Sheet4!$DN$2:$DN$8408,Sheet4!$C$2:$C$8408,Sheet3!$B26,Sheet4!$D$2:$D$8408,Sheet3!DD$3,Sheet4!$A$2:$A$8408,Sheet3!$B$1,Sheet4!$B$2:$B$8408,Sheet3!$A$3))","v":1042},{"$f":"+IF(SUMIFS(Sheet4!$DN$2:$DN$8408,Sheet4!$C$2:$C$8408,Sheet3!$B26,Sheet4!$D$2:$D$8408,Sheet3!DE$3,Sheet4!$A$2:$A$8408,Sheet3!$B$1,Sheet4!$B$2:$B$8408,Sheet3!$A$3)<3,0,SUMIFS(Sheet4!$DN$2:$DN$8408,Sheet4!$C$2:$C$8408,Sheet3!$B26,Sheet4!$D$2:$D$8408,Sheet3!DE$3,Sheet4!$A$2:$A$8408,Sheet3!$B$1,Sheet4!$B$2:$B$8408,Sheet3!$A$3))","v":5},{"$f":"+IF(SUMIFS(Sheet4!$DN$2:$DN$8408,Sheet4!$C$2:$C$8408,Sheet3!$B26,Sheet4!$D$2:$D$8408,Sheet3!DF$3,Sheet4!$A$2:$A$8408,Sheet3!$B$1,Sheet4!$B$2:$B$8408,Sheet3!$A$3)<3,0,SUMIFS(Sheet4!$DN$2:$DN$8408,Sheet4!$C$2:$C$8408,Sheet3!$B26,Sheet4!$D$2:$D$8408,Sheet3!DF$3,Sheet4!$A$2:$A$8408,Sheet3!$B$1,Sheet4!$B$2:$B$8408,Sheet3!$A$3))","v":147},{"$f":"+IF(SUMIFS(Sheet4!$DN$2:$DN$8408,Sheet4!$C$2:$C$8408,Sheet3!$B26,Sheet4!$D$2:$D$8408,Sheet3!DG$3,Sheet4!$A$2:$A$8408,Sheet3!$B$1,Sheet4!$B$2:$B$8408,Sheet3!$A$3)<3,0,SUMIFS(Sheet4!$DN$2:$DN$8408,Sheet4!$C$2:$C$8408,Sheet3!$B26,Sheet4!$D$2:$D$8408,Sheet3!DG$3,Sheet4!$A$2:$A$8408,Sheet3!$B$1,Sheet4!$B$2:$B$8408,Sheet3!$A$3))","v":125},{"$f":"+IF(SUMIFS(Sheet4!$DN$2:$DN$8408,Sheet4!$C$2:$C$8408,Sheet3!$B26,Sheet4!$D$2:$D$8408,Sheet3!DH$3,Sheet4!$A$2:$A$8408,Sheet3!$B$1,Sheet4!$B$2:$B$8408,Sheet3!$A$3)<3,0,SUMIFS(Sheet4!$DN$2:$DN$8408,Sheet4!$C$2:$C$8408,Sheet3!$B26,Sheet4!$D$2:$D$8408,Sheet3!DH$3,Sheet4!$A$2:$A$8408,Sheet3!$B$1,Sheet4!$B$2:$B$8408,Sheet3!$A$3))","v":400},{"$f":"+IF(SUMIFS(Sheet4!$DN$2:$DN$8408,Sheet4!$C$2:$C$8408,Sheet3!$B26,Sheet4!$D$2:$D$8408,Sheet3!DI$3,Sheet4!$A$2:$A$8408,Sheet3!$B$1,Sheet4!$B$2:$B$8408,Sheet3!$A$3)<3,0,SUMIFS(Sheet4!$DN$2:$DN$8408,Sheet4!$C$2:$C$8408,Sheet3!$B26,Sheet4!$D$2:$D$8408,Sheet3!DI$3,Sheet4!$A$2:$A$8408,Sheet3!$B$1,Sheet4!$B$2:$B$8408,Sheet3!$A$3))","v":1537},{"$f":"+IF(SUMIFS(Sheet4!$DN$2:$DN$8408,Sheet4!$C$2:$C$8408,Sheet3!$B26,Sheet4!$D$2:$D$8408,Sheet3!DJ$3,Sheet4!$A$2:$A$8408,Sheet3!$B$1,Sheet4!$B$2:$B$8408,Sheet3!$A$3)<3,0,SUMIFS(Sheet4!$DN$2:$DN$8408,Sheet4!$C$2:$C$8408,Sheet3!$B26,Sheet4!$D$2:$D$8408,Sheet3!DJ$3,Sheet4!$A$2:$A$8408,Sheet3!$B$1,Sheet4!$B$2:$B$8408,Sheet3!$A$3))","v":507},{"$f":"+IF(SUMIFS(Sheet4!$DN$2:$DN$8408,Sheet4!$C$2:$C$8408,Sheet3!$B26,Sheet4!$D$2:$D$8408,Sheet3!DK$3,Sheet4!$A$2:$A$8408,Sheet3!$B$1,Sheet4!$B$2:$B$8408,Sheet3!$A$3)<3,0,SUMIFS(Sheet4!$DN$2:$DN$8408,Sheet4!$C$2:$C$8408,Sheet3!$B26,Sheet4!$D$2:$D$8408,Sheet3!DK$3,Sheet4!$A$2:$A$8408,Sheet3!$B$1,Sheet4!$B$2:$B$8408,Sheet3!$A$3))","v":1140},{"$f":"+IF(SUMIFS(Sheet4!$DN$2:$DN$8408,Sheet4!$C$2:$C$8408,Sheet3!$B26,Sheet4!$D$2:$D$8408,Sheet3!DL$3,Sheet4!$A$2:$A$8408,Sheet3!$B$1,Sheet4!$B$2:$B$8408,Sheet3!$A$3)<3,0,SUMIFS(Sheet4!$DN$2:$DN$8408,Sheet4!$C$2:$C$8408,Sheet3!$B26,Sheet4!$D$2:$D$8408,Sheet3!DL$3,Sheet4!$A$2:$A$8408,Sheet3!$B$1,Sheet4!$B$2:$B$8408,Sheet3!$A$3))","v":10},{"$f":"+IF(SUMIFS(Sheet4!$DN$2:$DN$8408,Sheet4!$C$2:$C$8408,Sheet3!$B26,Sheet4!$D$2:$D$8408,Sheet3!DM$3,Sheet4!$A$2:$A$8408,Sheet3!$B$1,Sheet4!$B$2:$B$8408,Sheet3!$A$3)<3,0,SUMIFS(Sheet4!$DN$2:$DN$8408,Sheet4!$C$2:$C$8408,Sheet3!$B26,Sheet4!$D$2:$D$8408,Sheet3!DM$3,Sheet4!$A$2:$A$8408,Sheet3!$B$1,Sheet4!$B$2:$B$8408,Sheet3!$A$3))","v":0},{"$f":"+IF(SUMIFS(Sheet4!$DN$2:$DN$8408,Sheet4!$C$2:$C$8408,Sheet3!$B26,Sheet4!$E$2:$E$8408,Sheet3!DN$4,Sheet4!$A$2:$A$8408,Sheet3!$B$1,Sheet4!$B$2:$B$8408,Sheet3!$A$3)<3,0,SUMIFS(Sheet4!$DN$2:$DN$8408,Sheet4!$C$2:$C$8408,Sheet3!$B26,Sheet4!$E$2:$E$8408,Sheet3!DN$4,Sheet4!$A$2:$A$8408,Sheet3!$B$1,Sheet4!$B$2:$B$8408,Sheet3!$A$3))","v":3083},{"$f":"+IF(SUMIFS(Sheet4!$DN$2:$DN$8408,Sheet4!$C$2:$C$8408,Sheet3!$B26,Sheet4!$E$2:$E$8408,Sheet3!DO$4,Sheet4!$A$2:$A$8408,Sheet3!$B$1,Sheet4!$B$2:$B$8408,Sheet3!$A$3)<3,0,SUMIFS(Sheet4!$DN$2:$DN$8408,Sheet4!$C$2:$C$8408,Sheet3!$B26,Sheet4!$E$2:$E$8408,Sheet3!DO$4,Sheet4!$A$2:$A$8408,Sheet3!$B$1,Sheet4!$B$2:$B$8408,Sheet3!$A$3))","v":2583},{"$f":"+IF(SUMIFS(Sheet4!$DN$2:$DN$8408,Sheet4!$C$2:$C$8408,Sheet3!$B26,Sheet4!$E$2:$E$8408,Sheet3!DP$4,Sheet4!$A$2:$A$8408,Sheet3!$B$1,Sheet4!$B$2:$B$8408,Sheet3!$A$3)<3,0,SUMIFS(Sheet4!$DN$2:$DN$8408,Sheet4!$C$2:$C$8408,Sheet3!$B26,Sheet4!$E$2:$E$8408,Sheet3!DP$4,Sheet4!$A$2:$A$8408,Sheet3!$B$1,Sheet4!$B$2:$B$8408,Sheet3!$A$3))","v":1710},{"$f":"+IF(SUMIFS(Sheet4!$DN$2:$DN$8408,Sheet4!$C$2:$C$8408,Sheet3!$B26,Sheet4!$E$2:$E$8408,Sheet3!DQ$4,Sheet4!$A$2:$A$8408,Sheet3!$B$1,Sheet4!$B$2:$B$8408,Sheet3!$A$3)<3,0,SUMIFS(Sheet4!$DN$2:$DN$8408,Sheet4!$C$2:$C$8408,Sheet3!$B26,Sheet4!$E$2:$E$8408,Sheet3!DQ$4,Sheet4!$A$2:$A$8408,Sheet3!$B$1,Sheet4!$B$2:$B$8408,Sheet3!$A$3))","v":990},{"$f":"+IF(SUMIFS(Sheet4!$DN$2:$DN$8408,Sheet4!$C$2:$C$8408,Sheet3!$B26,Sheet4!$E$2:$E$8408,Sheet3!DR$4,Sheet4!$A$2:$A$8408,Sheet3!$B$1,Sheet4!$B$2:$B$8408,Sheet3!$A$3)<3,0,SUMIFS(Sheet4!$DN$2:$DN$8408,Sheet4!$C$2:$C$8408,Sheet3!$B26,Sheet4!$E$2:$E$8408,Sheet3!DR$4,Sheet4!$A$2:$A$8408,Sheet3!$B$1,Sheet4!$B$2:$B$8408,Sheet3!$A$3))","v":164}]
[5,"185","Lezíria do Tejo",{"$f":"+SUMIFS(Sheet4!$DM$2:$DM$8408,Sheet4!$C$2:$C$8408,Sheet3!$B27,Sheet4!$D$2:$D$8408,Sheet3!D$3,Sheet4!$E$2:$E$8408,Sheet3!D$4,Sheet4!$A$2:$A$8408,Sheet3!$B$1,Sheet4!$B$2:$B$8408,Sheet3!$A$3)","v":3},{"$f":"+SUMIFS(Sheet4!$DM$2:$DM$8408,Sheet4!$C$2:$C$8408,Sheet3!$B27,Sheet4!$D$2:$D$8408,Sheet3!E$3,Sheet4!$E$2:$E$8408,Sheet3!E$4,Sheet4!$A$2:$A$8408,Sheet3!$B$1,Sheet4!$B$2:$B$8408,Sheet3!$A$3)","v":0},{"$f":"+SUMIFS(Sheet4!$DM$2:$DM$8408,Sheet4!$C$2:$C$8408,Sheet3!$B27,Sheet4!$D$2:$D$8408,Sheet3!F$3,Sheet4!$E$2:$E$8408,Sheet3!F$4,Sheet4!$A$2:$A$8408,Sheet3!$B$1,Sheet4!$B$2:$B$8408,Sheet3!$A$3)","v":7},{"$f":"+SUMIFS(Sheet4!$DM$2:$DM$8408,Sheet4!$C$2:$C$8408,Sheet3!$B27,Sheet4!$D$2:$D$8408,Sheet3!G$3,Sheet4!$E$2:$E$8408,Sheet3!G$4,Sheet4!$A$2:$A$8408,Sheet3!$B$1,Sheet4!$B$2:$B$8408,Sheet3!$A$3)","v":11},{"$f":"+SUMIFS(Sheet4!$DM$2:$DM$8408,Sheet4!$C$2:$C$8408,Sheet3!$B27,Sheet4!$D$2:$D$8408,Sheet3!H$3,Sheet4!$E$2:$E$8408,Sheet3!H$4,Sheet4!$A$2:$A$8408,Sheet3!$B$1,Sheet4!$B$2:$B$8408,Sheet3!$A$3)","v":13},{"$f":"+SUMIFS(Sheet4!$DM$2:$DM$8408,Sheet4!$C$2:$C$8408,Sheet3!$B27,Sheet4!$D$2:$D$8408,Sheet3!I$3,Sheet4!$E$2:$E$8408,Sheet3!I$4,Sheet4!$A$2:$A$8408,Sheet3!$B$1,Sheet4!$B$2:$B$8408,Sheet3!$A$3)","v":22},{"$f":"+SUMIFS(Sheet4!$DM$2:$DM$8408,Sheet4!$C$2:$C$8408,Sheet3!$B27,Sheet4!$D$2:$D$8408,Sheet3!J$3,Sheet4!$E$2:$E$8408,Sheet3!J$4,Sheet4!$A$2:$A$8408,Sheet3!$B$1,Sheet4!$B$2:$B$8408,Sheet3!$A$3)","v":104},{"$f":"+SUMIFS(Sheet4!$DM$2:$DM$8408,Sheet4!$C$2:$C$8408,Sheet3!$B27,Sheet4!$D$2:$D$8408,Sheet3!K$3,Sheet4!$E$2:$E$8408,Sheet3!K$4,Sheet4!$A$2:$A$8408,Sheet3!$B$1,Sheet4!$B$2:$B$8408,Sheet3!$A$3)","v":85},{"$f":"+SUMIFS(Sheet4!$DM$2:$DM$8408,Sheet4!$C$2:$C$8408,Sheet3!$B27,Sheet4!$D$2:$D$8408,Sheet3!L$3,Sheet4!$E$2:$E$8408,Sheet3!L$4,Sheet4!$A$2:$A$8408,Sheet3!$B$1,Sheet4!$B$2:$B$8408,Sheet3!$A$3)","v":102},{"$f":"+SUMIFS(Sheet4!$DM$2:$DM$8408,Sheet4!$C$2:$C$8408,Sheet3!$B27,Sheet4!$D$2:$D$8408,Sheet3!M$3,Sheet4!$E$2:$E$8408,Sheet3!M$4,Sheet4!$A$2:$A$8408,Sheet3!$B$1,Sheet4!$B$2:$B$8408,Sheet3!$A$3)","v":18},{"$f":"+SUMIFS(Sheet4!$DM$2:$DM$8408,Sheet4!$C$2:$C$8408,Sheet3!$B27,Sheet4!$D$2:$D$8408,Sheet3!N$3,Sheet4!$E$2:$E$8408,Sheet3!N$4,Sheet4!$A$2:$A$8408,Sheet3!$B$1,Sheet4!$B$2:$B$8408,Sheet3!$A$3)","v":44},{"$f":"+SUMIFS(Sheet4!$DM$2:$DM$8408,Sheet4!$C$2:$C$8408,Sheet3!$B27,Sheet4!$D$2:$D$8408,Sheet3!O$3,Sheet4!$E$2:$E$8408,Sheet3!O$4,Sheet4!$A$2:$A$8408,Sheet3!$B$1,Sheet4!$B$2:$B$8408,Sheet3!$A$3)","v":47},{"$f":"+SUMIFS(Sheet4!$DM$2:$DM$8408,Sheet4!$C$2:$C$8408,Sheet3!$B27,Sheet4!$D$2:$D$8408,Sheet3!P$3,Sheet4!$E$2:$E$8408,Sheet3!P$4,Sheet4!$A$2:$A$8408,Sheet3!$B$1,Sheet4!$B$2:$B$8408,Sheet3!$A$3)","v":19},{"$f":"+SUMIFS(Sheet4!$DM$2:$DM$8408,Sheet4!$C$2:$C$8408,Sheet3!$B27,Sheet4!$D$2:$D$8408,Sheet3!Q$3,Sheet4!$E$2:$E$8408,Sheet3!Q$4,Sheet4!$A$2:$A$8408,Sheet3!$B$1,Sheet4!$B$2:$B$8408,Sheet3!$A$3)","v":13},{"$f":"+SUMIFS(Sheet4!$DM$2:$DM$8408,Sheet4!$C$2:$C$8408,Sheet3!$B27,Sheet4!$D$2:$D$8408,Sheet3!R$3,Sheet4!$E$2:$E$8408,Sheet3!R$4,Sheet4!$A$2:$A$8408,Sheet3!$B$1,Sheet4!$B$2:$B$8408,Sheet3!$A$3)","v":0},{"$f":"+SUMIFS(Sheet4!$DM$2:$DM$8408,Sheet4!$C$2:$C$8408,Sheet3!$B27,Sheet4!$D$2:$D$8408,Sheet3!S$3,Sheet4!$E$2:$E$8408,Sheet3!S$4,Sheet4!$A$2:$A$8408,Sheet3!$B$1,Sheet4!$B$2:$B$8408,Sheet3!$A$3)","v":0},{"$f":"+SUMIFS(Sheet4!$DM$2:$DM$8408,Sheet4!$C$2:$C$8408,Sheet3!$B27,Sheet4!$D$2:$D$8408,Sheet3!T$3,Sheet4!$E$2:$E$8408,Sheet3!T$4,Sheet4!$A$2:$A$8408,Sheet3!$B$1,Sheet4!$B$2:$B$8408,Sheet3!$A$3)","v":10},{"$f":"+SUMIFS(Sheet4!$DM$2:$DM$8408,Sheet4!$C$2:$C$8408,Sheet3!$B27,Sheet4!$D$2:$D$8408,Sheet3!U$3,Sheet4!$E$2:$E$8408,Sheet3!U$4,Sheet4!$A$2:$A$8408,Sheet3!$B$1,Sheet4!$B$2:$B$8408,Sheet3!$A$3)","v":49},{"$f":"+SUMIFS(Sheet4!$DM$2:$DM$8408,Sheet4!$C$2:$C$8408,Sheet3!$B27,Sheet4!$D$2:$D$8408,Sheet3!V$3,Sheet4!$E$2:$E$8408,Sheet3!V$4,Sheet4!$A$2:$A$8408,Sheet3!$B$1,Sheet4!$B$2:$B$8408,Sheet3!$A$3)","v":53},{"$f":"+SUMIFS(Sheet4!$DM$2:$DM$8408,Sheet4!$C$2:$C$8408,Sheet3!$B27,Sheet4!$D$2:$D$8408,Sheet3!W$3,Sheet4!$E$2:$E$8408,Sheet3!W$4,Sheet4!$A$2:$A$8408,Sheet3!$B$1,Sheet4!$B$2:$B$8408,Sheet3!$A$3)","v":0},{"$f":"+SUMIFS(Sheet4!$DM$2:$DM$8408,Sheet4!$C$2:$C$8408,Sheet3!$B27,Sheet4!$D$2:$D$8408,Sheet3!X$3,Sheet4!$E$2:$E$8408,Sheet3!X$4,Sheet4!$A$2:$A$8408,Sheet3!$B$1,Sheet4!$B$2:$B$8408,Sheet3!$A$3)","v":0},{"$f":"+SUMIFS(Sheet4!$DM$2:$DM$8408,Sheet4!$C$2:$C$8408,Sheet3!$B27,Sheet4!$D$2:$D$8408,Sheet3!Y$3,Sheet4!$E$2:$E$8408,Sheet3!Y$4,Sheet4!$A$2:$A$8408,Sheet3!$B$1,Sheet4!$B$2:$B$8408,Sheet3!$A$3)","v":6},{"$f":"+SUMIFS(Sheet4!$DM$2:$DM$8408,Sheet4!$C$2:$C$8408,Sheet3!$B27,Sheet4!$D$2:$D$8408,Sheet3!Z$3,Sheet4!$E$2:$E$8408,Sheet3!Z$4,Sheet4!$A$2:$A$8408,Sheet3!$B$1,Sheet4!$B$2:$B$8408,Sheet3!$A$3)","v":9},{"$f":"+SUMIFS(Sheet4!$DM$2:$DM$8408,Sheet4!$C$2:$C$8408,Sheet3!$B27,Sheet4!$D$2:$D$8408,Sheet3!AA$3,Sheet4!$E$2:$E$8408,Sheet3!AA$4,Sheet4!$A$2:$A$8408,Sheet3!$B$1,Sheet4!$B$2:$B$8408,Sheet3!$A$3)","v":6},{"$f":"+SUMIFS(Sheet4!$DM$2:$DM$8408,Sheet4!$C$2:$C$8408,Sheet3!$B27,Sheet4!$D$2:$D$8408,Sheet3!AB$3,Sheet4!$E$2:$E$8408,Sheet3!AB$4,Sheet4!$A$2:$A$8408,Sheet3!$B$1,Sheet4!$B$2:$B$8408,Sheet3!$A$3)","v":0},{"$f":"+SUMIFS(Sheet4!$DM$2:$DM$8408,Sheet4!$C$2:$C$8408,Sheet3!$B27,Sheet4!$D$2:$D$8408,Sheet3!AC$3,Sheet4!$E$2:$E$8408,Sheet3!AC$4,Sheet4!$A$2:$A$8408,Sheet3!$B$1,Sheet4!$B$2:$B$8408,Sheet3!$A$3)","v":17},{"$f":"+SUMIFS(Sheet4!$DM$2:$DM$8408,Sheet4!$C$2:$C$8408,Sheet3!$B27,Sheet4!$D$2:$D$8408,Sheet3!AD$3,Sheet4!$E$2:$E$8408,Sheet3!AD$4,Sheet4!$A$2:$A$8408,Sheet3!$B$1,Sheet4!$B$2:$B$8408,Sheet3!$A$3)","v":22},{"$f":"+SUMIFS(Sheet4!$DM$2:$DM$8408,Sheet4!$C$2:$C$8408,Sheet3!$B27,Sheet4!$D$2:$D$8408,Sheet3!AE$3,Sheet4!$E$2:$E$8408,Sheet3!AE$4,Sheet4!$A$2:$A$8408,Sheet3!$B$1,Sheet4!$B$2:$B$8408,Sheet3!$A$3)","v":25},{"$f":"+SUMIFS(Sheet4!$DM$2:$DM$8408,Sheet4!$C$2:$C$8408,Sheet3!$B27,Sheet4!$D$2:$D$8408,Sheet3!AF$3,Sheet4!$E$2:$E$8408,Sheet3!AF$4,Sheet4!$A$2:$A$8408,Sheet3!$B$1,Sheet4!$B$2:$B$8408,Sheet3!$A$3)","v":14},{"$f":"+SUMIFS(Sheet4!$DM$2:$DM$8408,Sheet4!$C$2:$C$8408,Sheet3!$B27,Sheet4!$D$2:$D$8408,Sheet3!AG$3,Sheet4!$E$2:$E$8408,Sheet3!AG$4,Sheet4!$A$2:$A$8408,Sheet3!$B$1,Sheet4!$B$2:$B$8408,Sheet3!$A$3)","v":0},{"$f":"+SUMIFS(Sheet4!$DM$2:$DM$8408,Sheet4!$C$2:$C$8408,Sheet3!$B27,Sheet4!$D$2:$D$8408,Sheet3!AH$3,Sheet4!$E$2:$E$8408,Sheet3!AH$4,Sheet4!$A$2:$A$8408,Sheet3!$B$1,Sheet4!$B$2:$B$8408,Sheet3!$A$3)","v":16},{"$f":"+SUMIFS(Sheet4!$DM$2:$DM$8408,Sheet4!$C$2:$C$8408,Sheet3!$B27,Sheet4!$D$2:$D$8408,Sheet3!AI$3,Sheet4!$E$2:$E$8408,Sheet3!AI$4,Sheet4!$A$2:$A$8408,Sheet3!$B$1,Sheet4!$B$2:$B$8408,Sheet3!$A$3)","v":60},{"$f":"+SUMIFS(Sheet4!$DM$2:$DM$8408,Sheet4!$C$2:$C$8408,Sheet3!$B27,Sheet4!$D$2:$D$8408,Sheet3!AJ$3,Sheet4!$E$2:$E$8408,Sheet3!AJ$4,Sheet4!$A$2:$A$8408,Sheet3!$B$1,Sheet4!$B$2:$B$8408,Sheet3!$A$3)","v":55},{"$f":"+SUMIFS(Sheet4!$DM$2:$DM$8408,Sheet4!$C$2:$C$8408,Sheet3!$B27,Sheet4!$D$2:$D$8408,Sheet3!AK$3,Sheet4!$E$2:$E$8408,Sheet3!AK$4,Sheet4!$A$2:$A$8408,Sheet3!$B$1,Sheet4!$B$2:$B$8408,Sheet3!$A$3)","v":15},{"$f":"+SUMIFS(Sheet4!$DM$2:$DM$8408,Sheet4!$C$2:$C$8408,Sheet3!$B27,Sheet4!$D$2:$D$8408,Sheet3!AL$3,Sheet4!$E$2:$E$8408,Sheet3!AL$4,Sheet4!$A$2:$A$8408,Sheet3!$B$1,Sheet4!$B$2:$B$8408,Sheet3!$A$3)","v":0},{"$f":"+SUMIFS(Sheet4!$DM$2:$DM$8408,Sheet4!$C$2:$C$8408,Sheet3!$B27,Sheet4!$D$2:$D$8408,Sheet3!AM$3,Sheet4!$E$2:$E$8408,Sheet3!AM$4,Sheet4!$A$2:$A$8408,Sheet3!$B$1,Sheet4!$B$2:$B$8408,Sheet3!$A$3)","v":35},{"$f":"+SUMIFS(Sheet4!$DM$2:$DM$8408,Sheet4!$C$2:$C$8408,Sheet3!$B27,Sheet4!$D$2:$D$8408,Sheet3!AN$3,Sheet4!$E$2:$E$8408,Sheet3!AN$4,Sheet4!$A$2:$A$8408,Sheet3!$B$1,Sheet4!$B$2:$B$8408,Sheet3!$A$3)","v":58},{"$f":"+SUMIFS(Sheet4!$DM$2:$DM$8408,Sheet4!$C$2:$C$8408,Sheet3!$B27,Sheet4!$D$2:$D$8408,Sheet3!AO$3,Sheet4!$E$2:$E$8408,Sheet3!AO$4,Sheet4!$A$2:$A$8408,Sheet3!$B$1,Sheet4!$B$2:$B$8408,Sheet3!$A$3)","v":70},{"$f":"+SUMIFS(Sheet4!$DM$2:$DM$8408,Sheet4!$C$2:$C$8408,Sheet3!$B27,Sheet4!$D$2:$D$8408,Sheet3!AP$3,Sheet4!$E$2:$E$8408,Sheet3!AP$4,Sheet4!$A$2:$A$8408,Sheet3!$B$1,Sheet4!$B$2:$B$8408,Sheet3!$A$3)","v":60},{"$f":"+SUMIFS(Sheet4!$DM$2:$DM$8408,Sheet4!$C$2:$C$8408,Sheet3!$B27,Sheet4!$D$2:$D$8408,Sheet3!AQ$3,Sheet4!$E$2:$E$8408,Sheet3!AQ$4,Sheet4!$A$2:$A$8408,Sheet3!$B$1,Sheet4!$B$2:$B$8408,Sheet3!$A$3)","v":13},{"$f":"+SUMIFS(Sheet4!$DM$2:$DM$8408,Sheet4!$C$2:$C$8408,Sheet3!$B27,Sheet4!$D$2:$D$8408,Sheet3!AR$3,Sheet4!$E$2:$E$8408,Sheet3!AR$4,Sheet4!$A$2:$A$8408,Sheet3!$B$1,Sheet4!$B$2:$B$8408,Sheet3!$A$3)","v":177},{"$f":"+SUMIFS(Sheet4!$DM$2:$DM$8408,Sheet4!$C$2:$C$8408,Sheet3!$B27,Sheet4!$D$2:$D$8408,Sheet3!AS$3,Sheet4!$E$2:$E$8408,Sheet3!AS$4,Sheet4!$A$2:$A$8408,Sheet3!$B$1,Sheet4!$B$2:$B$8408,Sheet3!$A$3)","v":14},{"$f":"+SUMIFS(Sheet4!$DM$2:$DM$8408,Sheet4!$C$2:$C$8408,Sheet3!$B27,Sheet4!$D$2:$D$8408,Sheet3!AT$3,Sheet4!$E$2:$E$8408,Sheet3!AT$4,Sheet4!$A$2:$A$8408,Sheet3!$B$1,Sheet4!$B$2:$B$8408,Sheet3!$A$3)","v":10},{"$f":"+SUMIFS(Sheet4!$DM$2:$DM$8408,Sheet4!$C$2:$C$8408,Sheet3!$B27,Sheet4!$D$2:$D$8408,Sheet3!AU$3,Sheet4!$E$2:$E$8408,Sheet3!AU$4,Sheet4!$A$2:$A$8408,Sheet3!$B$1,Sheet4!$B$2:$B$8408,Sheet3!$A$3)","v":0},{"$f":"+SUMIFS(Sheet4!$DM$2:$DM$8408,Sheet4!$C$2:$C$8408,Sheet3!$B27,Sheet4!$D$2:$D$8408,Sheet3!AV$3,Sheet4!$E$2:$E$8408,Sheet3!AV$4,Sheet4!$A$2:$A$8408,Sheet3!$B$1,Sheet4!$B$2:$B$8408,Sheet3!$A$3)","v":0},{"$f":"+SUMIFS(Sheet4!$DM$2:$DM$8408,Sheet4!$C$2:$C$8408,Sheet3!$B27,Sheet4!$D$2:$D$8408,Sheet3!AW$3,Sheet4!$E$2:$E$8408,Sheet3!AW$4,Sheet4!$A$2:$A$8408,Sheet3!$B$1,Sheet4!$B$2:$B$8408,Sheet3!$A$3)","v":270},{"$f":"+SUMIFS(Sheet4!$DM$2:$DM$8408,Sheet4!$C$2:$C$8408,Sheet3!$B27,Sheet4!$D$2:$D$8408,Sheet3!AX$3,Sheet4!$E$2:$E$8408,Sheet3!AX$4,Sheet4!$A$2:$A$8408,Sheet3!$B$1,Sheet4!$B$2:$B$8408,Sheet3!$A$3)","v":145},{"$f":"+SUMIFS(Sheet4!$DM$2:$DM$8408,Sheet4!$C$2:$C$8408,Sheet3!$B27,Sheet4!$D$2:$D$8408,Sheet3!AY$3,Sheet4!$E$2:$E$8408,Sheet3!AY$4,Sheet4!$A$2:$A$8408,Sheet3!$B$1,Sheet4!$B$2:$B$8408,Sheet3!$A$3)","v":74},{"$f":"+SUMIFS(Sheet4!$DM$2:$DM$8408,Sheet4!$C$2:$C$8408,Sheet3!$B27,Sheet4!$D$2:$D$8408,Sheet3!AZ$3,Sheet4!$E$2:$E$8408,Sheet3!AZ$4,Sheet4!$A$2:$A$8408,Sheet3!$B$1,Sheet4!$B$2:$B$8408,Sheet3!$A$3)","v":57},{"$f":"+SUMIFS(Sheet4!$DM$2:$DM$8408,Sheet4!$C$2:$C$8408,Sheet3!$B27,Sheet4!$D$2:$D$8408,Sheet3!BA$3,Sheet4!$E$2:$E$8408,Sheet3!BA$4,Sheet4!$A$2:$A$8408,Sheet3!$B$1,Sheet4!$B$2:$B$8408,Sheet3!$A$3)","v":23},{"$f":"+SUMIFS(Sheet4!$DM$2:$DM$8408,Sheet4!$C$2:$C$8408,Sheet3!$B27,Sheet4!$D$2:$D$8408,Sheet3!BB$3,Sheet4!$E$2:$E$8408,Sheet3!BB$4,Sheet4!$A$2:$A$8408,Sheet3!$B$1,Sheet4!$B$2:$B$8408,Sheet3!$A$3)","v":0},{"$f":"+SUMIFS(Sheet4!$DM$2:$DM$8408,Sheet4!$C$2:$C$8408,Sheet3!$B27,Sheet4!$D$2:$D$8408,Sheet3!BC$3,Sheet4!$E$2:$E$8408,Sheet3!BC$4,Sheet4!$A$2:$A$8408,Sheet3!$B$1,Sheet4!$B$2:$B$8408,Sheet3!$A$3)","v":0},{"$f":"+SUMIFS(Sheet4!$DM$2:$DM$8408,Sheet4!$C$2:$C$8408,Sheet3!$B27,Sheet4!$D$2:$D$8408,Sheet3!BD$3,Sheet4!$E$2:$E$8408,Sheet3!BD$4,Sheet4!$A$2:$A$8408,Sheet3!$B$1,Sheet4!$B$2:$B$8408,Sheet3!$A$3)","v":0},{"$f":"+SUMIFS(Sheet4!$DM$2:$DM$8408,Sheet4!$C$2:$C$8408,Sheet3!$B27,Sheet4!$D$2:$D$8408,Sheet3!BE$3,Sheet4!$E$2:$E$8408,Sheet3!BE$4,Sheet4!$A$2:$A$8408,Sheet3!$B$1,Sheet4!$B$2:$B$8408,Sheet3!$A$3)","v":5},{"$f":"+SUMIFS(Sheet4!$DM$2:$DM$8408,Sheet4!$C$2:$C$8408,Sheet3!$B27,Sheet4!$D$2:$D$8408,Sheet3!BF$3,Sheet4!$E$2:$E$8408,Sheet3!BF$4,Sheet4!$A$2:$A$8408,Sheet3!$B$1,Sheet4!$B$2:$B$8408,Sheet3!$A$3)","v":11},{"$f":"+SUMIFS(Sheet4!$DM$2:$DM$8408,Sheet4!$C$2:$C$8408,Sheet3!$B27,Sheet4!$D$2:$D$8408,Sheet3!BG$3,Sheet4!$E$2:$E$8408,Sheet3!BG$4,Sheet4!$A$2:$A$8408,Sheet3!$B$1,Sheet4!$B$2:$B$8408,Sheet3!$A$3)","v":0},{"$f":"+SUMIFS(Sheet4!$DM$2:$DM$8408,Sheet4!$C$2:$C$8408,Sheet3!$B27,Sheet4!$D$2:$D$8408,Sheet3!BH$3,Sheet4!$E$2:$E$8408,Sheet3!BH$4,Sheet4!$A$2:$A$8408,Sheet3!$B$1,Sheet4!$B$2:$B$8408,Sheet3!$A$3)","v":13},{"$f":"+SUMIFS(Sheet4!$DM$2:$DM$8408,Sheet4!$C$2:$C$8408,Sheet3!$B27,Sheet4!$D$2:$D$8408,Sheet3!BI$3,Sheet4!$E$2:$E$8408,Sheet3!BI$4,Sheet4!$A$2:$A$8408,Sheet3!$B$1,Sheet4!$B$2:$B$8408,Sheet3!$A$3)","v":9},{"$f":"+SUMIFS(Sheet4!$DM$2:$DM$8408,Sheet4!$C$2:$C$8408,Sheet3!$B27,Sheet4!$D$2:$D$8408,Sheet3!BJ$3,Sheet4!$E$2:$E$8408,Sheet3!BJ$4,Sheet4!$A$2:$A$8408,Sheet3!$B$1,Sheet4!$B$2:$B$8408,Sheet3!$A$3)","v":8},{"$f":"+SUMIFS(Sheet4!$DM$2:$DM$8408,Sheet4!$C$2:$C$8408,Sheet3!$B27,Sheet4!$D$2:$D$8408,Sheet3!BK$3,Sheet4!$E$2:$E$8408,Sheet3!BK$4,Sheet4!$A$2:$A$8408,Sheet3!$B$1,Sheet4!$B$2:$B$8408,Sheet3!$A$3)","v":0},{"$f":"+SUMIFS(Sheet4!$DM$2:$DM$8408,Sheet4!$C$2:$C$8408,Sheet3!$B27,Sheet4!$D$2:$D$8408,Sheet3!BL$3,Sheet4!$E$2:$E$8408,Sheet3!BL$4,Sheet4!$A$2:$A$8408,Sheet3!$B$1,Sheet4!$B$2:$B$8408,Sheet3!$A$3)","v":17},{"$f":"+SUMIFS(Sheet4!$DM$2:$DM$8408,Sheet4!$C$2:$C$8408,Sheet3!$B27,Sheet4!$D$2:$D$8408,Sheet3!BM$3,Sheet4!$E$2:$E$8408,Sheet3!BM$4,Sheet4!$A$2:$A$8408,Sheet3!$B$1,Sheet4!$B$2:$B$8408,Sheet3!$A$3)","v":42},{"$f":"+SUMIFS(Sheet4!$DM$2:$DM$8408,Sheet4!$C$2:$C$8408,Sheet3!$B27,Sheet4!$D$2:$D$8408,Sheet3!BN$3,Sheet4!$E$2:$E$8408,Sheet3!BN$4,Sheet4!$A$2:$A$8408,Sheet3!$B$1,Sheet4!$B$2:$B$8408,Sheet3!$A$3)","v":21},{"$f":"+SUMIFS(Sheet4!$DM$2:$DM$8408,Sheet4!$C$2:$C$8408,Sheet3!$B27,Sheet4!$D$2:$D$8408,Sheet3!BO$3,Sheet4!$E$2:$E$8408,Sheet3!BO$4,Sheet4!$A$2:$A$8408,Sheet3!$B$1,Sheet4!$B$2:$B$8408,Sheet3!$A$3)","v":8},{"$f":"+SUMIFS(Sheet4!$DM$2:$DM$8408,Sheet4!$C$2:$C$8408,Sheet3!$B27,Sheet4!$D$2:$D$8408,Sheet3!BP$3,Sheet4!$E$2:$E$8408,Sheet3!BP$4,Sheet4!$A$2:$A$8408,Sheet3!$B$1,Sheet4!$B$2:$B$8408,Sheet3!$A$3)","v":0},{"$f":"+SUMIFS(Sheet4!$DM$2:$DM$8408,Sheet4!$C$2:$C$8408,Sheet3!$B27,Sheet4!$D$2:$D$8408,Sheet3!BQ$3,Sheet4!$E$2:$E$8408,Sheet3!BQ$4,Sheet4!$A$2:$A$8408,Sheet3!$B$1,Sheet4!$B$2:$B$8408,Sheet3!$A$3)","v":0},{"$f":"+SUMIFS(Sheet4!$DM$2:$DM$8408,Sheet4!$C$2:$C$8408,Sheet3!$B27,Sheet4!$D$2:$D$8408,Sheet3!BR$3,Sheet4!$E$2:$E$8408,Sheet3!BR$4,Sheet4!$A$2:$A$8408,Sheet3!$B$1,Sheet4!$B$2:$B$8408,Sheet3!$A$3)","v":8},{"$f":"+SUMIFS(Sheet4!$DM$2:$DM$8408,Sheet4!$C$2:$C$8408,Sheet3!$B27,Sheet4!$D$2:$D$8408,Sheet3!BS$3,Sheet4!$E$2:$E$8408,Sheet3!BS$4,Sheet4!$A$2:$A$8408,Sheet3!$B$1,Sheet4!$B$2:$B$8408,Sheet3!$A$3)","v":21},{"$f":"+SUMIFS(Sheet4!$DM$2:$DM$8408,Sheet4!$C$2:$C$8408,Sheet3!$B27,Sheet4!$D$2:$D$8408,Sheet3!BT$3,Sheet4!$E$2:$E$8408,Sheet3!BT$4,Sheet4!$A$2:$A$8408,Sheet3!$B$1,Sheet4!$B$2:$B$8408,Sheet3!$A$3)","v":16},{"$f":"+SUMIFS(Sheet4!$DM$2:$DM$8408,Sheet4!$C$2:$C$8408,Sheet3!$B27,Sheet4!$D$2:$D$8408,Sheet3!BU$3,Sheet4!$E$2:$E$8408,Sheet3!BU$4,Sheet4!$A$2:$A$8408,Sheet3!$B$1,Sheet4!$B$2:$B$8408,Sheet3!$A$3)","v":0},{"$f":"+SUMIFS(Sheet4!$DM$2:$DM$8408,Sheet4!$C$2:$C$8408,Sheet3!$B27,Sheet4!$D$2:$D$8408,Sheet3!BV$3,Sheet4!$E$2:$E$8408,Sheet3!BV$4,Sheet4!$A$2:$A$8408,Sheet3!$B$1,Sheet4!$B$2:$B$8408,Sheet3!$A$3)","v":126},{"$f":"+SUMIFS(Sheet4!$DM$2:$DM$8408,Sheet4!$C$2:$C$8408,Sheet3!$B27,Sheet4!$D$2:$D$8408,Sheet3!BW$3,Sheet4!$E$2:$E$8408,Sheet3!BW$4,Sheet4!$A$2:$A$8408,Sheet3!$B$1,Sheet4!$B$2:$B$8408,Sheet3!$A$3)","v":125},{"$f":"+SUMIFS(Sheet4!$DM$2:$DM$8408,Sheet4!$C$2:$C$8408,Sheet3!$B27,Sheet4!$D$2:$D$8408,Sheet3!BX$3,Sheet4!$E$2:$E$8408,Sheet3!BX$4,Sheet4!$A$2:$A$8408,Sheet3!$B$1,Sheet4!$B$2:$B$8408,Sheet3!$A$3)","v":34},{"$f":"+SUMIFS(Sheet4!$DM$2:$DM$8408,Sheet4!$C$2:$C$8408,Sheet3!$B27,Sheet4!$D$2:$D$8408,Sheet3!BY$3,Sheet4!$E$2:$E$8408,Sheet3!BY$4,Sheet4!$A$2:$A$8408,Sheet3!$B$1,Sheet4!$B$2:$B$8408,Sheet3!$A$3)","v":6},{"$f":"+SUMIFS(Sheet4!$DM$2:$DM$8408,Sheet4!$C$2:$C$8408,Sheet3!$B27,Sheet4!$D$2:$D$8408,Sheet3!BZ$3,Sheet4!$E$2:$E$8408,Sheet3!BZ$4,Sheet4!$A$2:$A$8408,Sheet3!$B$1,Sheet4!$B$2:$B$8408,Sheet3!$A$3)","v":0},{"$f":"+SUMIFS(Sheet4!$DM$2:$DM$8408,Sheet4!$C$2:$C$8408,Sheet3!$B27,Sheet4!$D$2:$D$8408,Sheet3!CA$3,Sheet4!$E$2:$E$8408,Sheet3!CA$4,Sheet4!$A$2:$A$8408,Sheet3!$B$1,Sheet4!$B$2:$B$8408,Sheet3!$A$3)","v":34},{"$f":"+SUMIFS(Sheet4!$DM$2:$DM$8408,Sheet4!$C$2:$C$8408,Sheet3!$B27,Sheet4!$D$2:$D$8408,Sheet3!CB$3,Sheet4!$E$2:$E$8408,Sheet3!CB$4,Sheet4!$A$2:$A$8408,Sheet3!$B$1,Sheet4!$B$2:$B$8408,Sheet3!$A$3)","v":35},{"$f":"+SUMIFS(Sheet4!$DM$2:$DM$8408,Sheet4!$C$2:$C$8408,Sheet3!$B27,Sheet4!$D$2:$D$8408,Sheet3!CC$3,Sheet4!$E$2:$E$8408,Sheet3!CC$4,Sheet4!$A$2:$A$8408,Sheet3!$B$1,Sheet4!$B$2:$B$8408,Sheet3!$A$3)","v":23},{"$f":"+SUMIFS(Sheet4!$DM$2:$DM$8408,Sheet4!$C$2:$C$8408,Sheet3!$B27,Sheet4!$D$2:$D$8408,Sheet3!CD$3,Sheet4!$E$2:$E$8408,Sheet3!CD$4,Sheet4!$A$2:$A$8408,Sheet3!$B$1,Sheet4!$B$2:$B$8408,Sheet3!$A$3)","v":36},{"$f":"+SUMIFS(Sheet4!$DM$2:$DM$8408,Sheet4!$C$2:$C$8408,Sheet3!$B27,Sheet4!$D$2:$D$8408,Sheet3!CE$3,Sheet4!$E$2:$E$8408,Sheet3!CE$4,Sheet4!$A$2:$A$8408,Sheet3!$B$1,Sheet4!$B$2:$B$8408,Sheet3!$A$3)","v":9},{"$f":"+SUMIFS(Sheet4!$DM$2:$DM$8408,Sheet4!$C$2:$C$8408,Sheet3!$B27,Sheet4!$D$2:$D$8408,Sheet3!CF$3,Sheet4!$E$2:$E$8408,Sheet3!CF$4,Sheet4!$A$2:$A$8408,Sheet3!$B$1,Sheet4!$B$2:$B$8408,Sheet3!$A$3)","v":300},{"$f":"+SUMIFS(Sheet4!$DM$2:$DM$8408,Sheet4!$C$2:$C$8408,Sheet3!$B27,Sheet4!$D$2:$D$8408,Sheet3!CG$3,Sheet4!$E$2:$E$8408,Sheet3!CG$4,Sheet4!$A$2:$A$8408,Sheet3!$B$1,Sheet4!$B$2:$B$8408,Sheet3!$A$3)","v":166},{"$f":"+SUMIFS(Sheet4!$DM$2:$DM$8408,Sheet4!$C$2:$C$8408,Sheet3!$B27,Sheet4!$D$2:$D$8408,Sheet3!CH$3,Sheet4!$E$2:$E$8408,Sheet3!CH$4,Sheet4!$A$2:$A$8408,Sheet3!$B$1,Sheet4!$B$2:$B$8408,Sheet3!$A$3)","v":32},{"$f":"+SUMIFS(Sheet4!$DM$2:$DM$8408,Sheet4!$C$2:$C$8408,Sheet3!$B27,Sheet4!$D$2:$D$8408,Sheet3!CI$3,Sheet4!$E$2:$E$8408,Sheet3!CI$4,Sheet4!$A$2:$A$8408,Sheet3!$B$1,Sheet4!$B$2:$B$8408,Sheet3!$A$3)","v":6},{"$f":"+SUMIFS(Sheet4!$DM$2:$DM$8408,Sheet4!$C$2:$C$8408,Sheet3!$B27,Sheet4!$D$2:$D$8408,Sheet3!CJ$3,Sheet4!$E$2:$E$8408,Sheet3!CJ$4,Sheet4!$A$2:$A$8408,Sheet3!$B$1,Sheet4!$B$2:$B$8408,Sheet3!$A$3)","v":0},{"$f":"+SUMIFS(Sheet4!$DM$2:$DM$8408,Sheet4!$C$2:$C$8408,Sheet3!$B27,Sheet4!$D$2:$D$8408,Sheet3!CK$3,Sheet4!$E$2:$E$8408,Sheet3!CK$4,Sheet4!$A$2:$A$8408,Sheet3!$B$1,Sheet4!$B$2:$B$8408,Sheet3!$A$3)","v":0},{"$f":"+SUMIFS(Sheet4!$DM$2:$DM$8408,Sheet4!$C$2:$C$8408,Sheet3!$B27,Sheet4!$D$2:$D$8408,Sheet3!CL$3,Sheet4!$E$2:$E$8408,Sheet3!CL$4,Sheet4!$A$2:$A$8408,Sheet3!$B$1,Sheet4!$B$2:$B$8408,Sheet3!$A$3)","v":0},{"$f":"+SUMIFS(Sheet4!$DM$2:$DM$8408,Sheet4!$C$2:$C$8408,Sheet3!$B27,Sheet4!$D$2:$D$8408,Sheet3!CM$3,Sheet4!$E$2:$E$8408,Sheet3!CM$4,Sheet4!$A$2:$A$8408,Sheet3!$B$1,Sheet4!$B$2:$B$8408,Sheet3!$A$3)","v":37},{"$f":"+SUMIFS(Sheet4!$DM$2:$DM$8408,Sheet4!$C$2:$C$8408,Sheet3!$B27,Sheet4!$D$2:$D$8408,Sheet3!CN$3,Sheet4!$E$2:$E$8408,Sheet3!CN$4,Sheet4!$A$2:$A$8408,Sheet3!$B$1,Sheet4!$B$2:$B$8408,Sheet3!$A$3)","v":84},{"$f":"+SUMIFS(Sheet4!$DM$2:$DM$8408,Sheet4!$C$2:$C$8408,Sheet3!$B27,Sheet4!$D$2:$D$8408,Sheet3!CO$3,Sheet4!$E$2:$E$8408,Sheet3!CO$4,Sheet4!$A$2:$A$8408,Sheet3!$B$1,Sheet4!$B$2:$B$8408,Sheet3!$A$3)","v":46},{"$f":"+SUMIFS(Sheet4!$DM$2:$DM$8408,Sheet4!$C$2:$C$8408,Sheet3!$B27,Sheet4!$D$2:$D$8408,Sheet3!CP$3,Sheet4!$E$2:$E$8408,Sheet3!CP$4,Sheet4!$A$2:$A$8408,Sheet3!$B$1,Sheet4!$B$2:$B$8408,Sheet3!$A$3)","v":0},{"$f":"+SUMIFS(Sheet4!$DM$2:$DM$8408,Sheet4!$C$2:$C$8408,Sheet3!$B27,Sheet4!$D$2:$D$8408,Sheet3!CQ$3,Sheet4!$E$2:$E$8408,Sheet3!CQ$4,Sheet4!$A$2:$A$8408,Sheet3!$B$1,Sheet4!$B$2:$B$8408,Sheet3!$A$3)","v":4},{"$f":"+SUMIFS(Sheet4!$DM$2:$DM$8408,Sheet4!$C$2:$C$8408,Sheet3!$B27,Sheet4!$D$2:$D$8408,Sheet3!CR$3,Sheet4!$E$2:$E$8408,Sheet3!CR$4,Sheet4!$A$2:$A$8408,Sheet3!$B$1,Sheet4!$B$2:$B$8408,Sheet3!$A$3)","v":4},{"$f":"+SUMIFS(Sheet4!$DM$2:$DM$8408,Sheet4!$C$2:$C$8408,Sheet3!$B27,Sheet4!$D$2:$D$8408,Sheet3!CS$3,Sheet4!$E$2:$E$8408,Sheet3!CS$4,Sheet4!$A$2:$A$8408,Sheet3!$B$1,Sheet4!$B$2:$B$8408,Sheet3!$A$3)","v":5},{"$f":"+SUMIFS(Sheet4!$DM$2:$DM$8408,Sheet4!$C$2:$C$8408,Sheet3!$B27,Sheet4!$D$2:$D$8408,Sheet3!CT$3,Sheet4!$E$2:$E$8408,Sheet3!CT$4,Sheet4!$A$2:$A$8408,Sheet3!$B$1,Sheet4!$B$2:$B$8408,Sheet3!$A$3)","v":0},{"$f":"+IF(SUMIFS(Sheet4!$DN$2:$DN$8408,Sheet4!$C$2:$C$8408,Sheet3!$B27,Sheet4!$D$2:$D$8408,Sheet3!CU$3,Sheet4!$A$2:$A$8408,Sheet3!$B$1,Sheet4!$B$2:$B$8408,Sheet3!$A$3)<3,0,SUMIFS(Sheet4!$DN$2:$DN$8408,Sheet4!$C$2:$C$8408,Sheet3!$B27,Sheet4!$D$2:$D$8408,Sheet3!CU$3,Sheet4!$A$2:$A$8408,Sheet3!$B$1,Sheet4!$B$2:$B$8408,Sheet3!$A$3))","v":41},{"$f":"+IF(SUMIFS(Sheet4!$DN$2:$DN$8408,Sheet4!$C$2:$C$8408,Sheet3!$B27,Sheet4!$D$2:$D$8408,Sheet3!CV$3,Sheet4!$A$2:$A$8408,Sheet3!$B$1,Sheet4!$B$2:$B$8408,Sheet3!$A$3)<3,0,SUMIFS(Sheet4!$DN$2:$DN$8408,Sheet4!$C$2:$C$8408,Sheet3!$B27,Sheet4!$D$2:$D$8408,Sheet3!CV$3,Sheet4!$A$2:$A$8408,Sheet3!$B$1,Sheet4!$B$2:$B$8408,Sheet3!$A$3))","v":338},{"$f":"+IF(SUMIFS(Sheet4!$DN$2:$DN$8408,Sheet4!$C$2:$C$8408,Sheet3!$B27,Sheet4!$D$2:$D$8408,Sheet3!CW$3,Sheet4!$A$2:$A$8408,Sheet3!$B$1,Sheet4!$B$2:$B$8408,Sheet3!$A$3)<3,0,SUMIFS(Sheet4!$DN$2:$DN$8408,Sheet4!$C$2:$C$8408,Sheet3!$B27,Sheet4!$D$2:$D$8408,Sheet3!CW$3,Sheet4!$A$2:$A$8408,Sheet3!$B$1,Sheet4!$B$2:$B$8408,Sheet3!$A$3))","v":127},{"$f":"+IF(SUMIFS(Sheet4!$DN$2:$DN$8408,Sheet4!$C$2:$C$8408,Sheet3!$B27,Sheet4!$D$2:$D$8408,Sheet3!CX$3,Sheet4!$A$2:$A$8408,Sheet3!$B$1,Sheet4!$B$2:$B$8408,Sheet3!$A$3)<3,0,SUMIFS(Sheet4!$DN$2:$DN$8408,Sheet4!$C$2:$C$8408,Sheet3!$B27,Sheet4!$D$2:$D$8408,Sheet3!CX$3,Sheet4!$A$2:$A$8408,Sheet3!$B$1,Sheet4!$B$2:$B$8408,Sheet3!$A$3))","v":113},{"$f":"+IF(SUMIFS(Sheet4!$DN$2:$DN$8408,Sheet4!$C$2:$C$8408,Sheet3!$B27,Sheet4!$D$2:$D$8408,Sheet3!CY$3,Sheet4!$A$2:$A$8408,Sheet3!$B$1,Sheet4!$B$2:$B$8408,Sheet3!$A$3)<3,0,SUMIFS(Sheet4!$DN$2:$DN$8408,Sheet4!$C$2:$C$8408,Sheet3!$B27,Sheet4!$D$2:$D$8408,Sheet3!CY$3,Sheet4!$A$2:$A$8408,Sheet3!$B$1,Sheet4!$B$2:$B$8408,Sheet3!$A$3))","v":23},{"$f":"+IF(SUMIFS(Sheet4!$DN$2:$DN$8408,Sheet4!$C$2:$C$8408,Sheet3!$B27,Sheet4!$D$2:$D$8408,Sheet3!CZ$3,Sheet4!$A$2:$A$8408,Sheet3!$B$1,Sheet4!$B$2:$B$8408,Sheet3!$A$3)<3,0,SUMIFS(Sheet4!$DN$2:$DN$8408,Sheet4!$C$2:$C$8408,Sheet3!$B27,Sheet4!$D$2:$D$8408,Sheet3!CZ$3,Sheet4!$A$2:$A$8408,Sheet3!$B$1,Sheet4!$B$2:$B$8408,Sheet3!$A$3))","v":87},{"$f":"+IF(SUMIFS(Sheet4!$DN$2:$DN$8408,Sheet4!$C$2:$C$8408,Sheet3!$B27,Sheet4!$D$2:$D$8408,Sheet3!DA$3,Sheet4!$A$2:$A$8408,Sheet3!$B$1,Sheet4!$B$2:$B$8408,Sheet3!$A$3)<3,0,SUMIFS(Sheet4!$DN$2:$DN$8408,Sheet4!$C$2:$C$8408,Sheet3!$B27,Sheet4!$D$2:$D$8408,Sheet3!DA$3,Sheet4!$A$2:$A$8408,Sheet3!$B$1,Sheet4!$B$2:$B$8408,Sheet3!$A$3))","v":150},{"$f":"+IF(SUMIFS(Sheet4!$DN$2:$DN$8408,Sheet4!$C$2:$C$8408,Sheet3!$B27,Sheet4!$D$2:$D$8408,Sheet3!DB$3,Sheet4!$A$2:$A$8408,Sheet3!$B$1,Sheet4!$B$2:$B$8408,Sheet3!$A$3)<3,0,SUMIFS(Sheet4!$DN$2:$DN$8408,Sheet4!$C$2:$C$8408,Sheet3!$B27,Sheet4!$D$2:$D$8408,Sheet3!DB$3,Sheet4!$A$2:$A$8408,Sheet3!$B$1,Sheet4!$B$2:$B$8408,Sheet3!$A$3))","v":240},{"$f":"+IF(SUMIFS(Sheet4!$DN$2:$DN$8408,Sheet4!$C$2:$C$8408,Sheet3!$B27,Sheet4!$D$2:$D$8408,Sheet3!DC$3,Sheet4!$A$2:$A$8408,Sheet3!$B$1,Sheet4!$B$2:$B$8408,Sheet3!$A$3)<3,0,SUMIFS(Sheet4!$DN$2:$DN$8408,Sheet4!$C$2:$C$8408,Sheet3!$B27,Sheet4!$D$2:$D$8408,Sheet3!DC$3,Sheet4!$A$2:$A$8408,Sheet3!$B$1,Sheet4!$B$2:$B$8408,Sheet3!$A$3))","v":208},{"$f":"+IF(SUMIFS(Sheet4!$DN$2:$DN$8408,Sheet4!$C$2:$C$8408,Sheet3!$B27,Sheet4!$D$2:$D$8408,Sheet3!DD$3,Sheet4!$A$2:$A$8408,Sheet3!$B$1,Sheet4!$B$2:$B$8408,Sheet3!$A$3)<3,0,SUMIFS(Sheet4!$DN$2:$DN$8408,Sheet4!$C$2:$C$8408,Sheet3!$B27,Sheet4!$D$2:$D$8408,Sheet3!DD$3,Sheet4!$A$2:$A$8408,Sheet3!$B$1,Sheet4!$B$2:$B$8408,Sheet3!$A$3))","v":577},{"$f":"+IF(SUMIFS(Sheet4!$DN$2:$DN$8408,Sheet4!$C$2:$C$8408,Sheet3!$B27,Sheet4!$D$2:$D$8408,Sheet3!DE$3,Sheet4!$A$2:$A$8408,Sheet3!$B$1,Sheet4!$B$2:$B$8408,Sheet3!$A$3)<3,0,SUMIFS(Sheet4!$DN$2:$DN$8408,Sheet4!$C$2:$C$8408,Sheet3!$B27,Sheet4!$D$2:$D$8408,Sheet3!DE$3,Sheet4!$A$2:$A$8408,Sheet3!$B$1,Sheet4!$B$2:$B$8408,Sheet3!$A$3))","v":20},{"$f":"+IF(SUMIFS(Sheet4!$DN$2:$DN$8408,Sheet4!$C$2:$C$8408,Sheet3!$B27,Sheet4!$D$2:$D$8408,Sheet3!DF$3,Sheet4!$A$2:$A$8408,Sheet3!$B$1,Sheet4!$B$2:$B$8408,Sheet3!$A$3)<3,0,SUMIFS(Sheet4!$DN$2:$DN$8408,Sheet4!$C$2:$C$8408,Sheet3!$B27,Sheet4!$D$2:$D$8408,Sheet3!DF$3,Sheet4!$A$2:$A$8408,Sheet3!$B$1,Sheet4!$B$2:$B$8408,Sheet3!$A$3))","v":34},{"$f":"+IF(SUMIFS(Sheet4!$DN$2:$DN$8408,Sheet4!$C$2:$C$8408,Sheet3!$B27,Sheet4!$D$2:$D$8408,Sheet3!DG$3,Sheet4!$A$2:$A$8408,Sheet3!$B$1,Sheet4!$B$2:$B$8408,Sheet3!$A$3)<3,0,SUMIFS(Sheet4!$DN$2:$DN$8408,Sheet4!$C$2:$C$8408,Sheet3!$B27,Sheet4!$D$2:$D$8408,Sheet3!DG$3,Sheet4!$A$2:$A$8408,Sheet3!$B$1,Sheet4!$B$2:$B$8408,Sheet3!$A$3))","v":96},{"$f":"+IF(SUMIFS(Sheet4!$DN$2:$DN$8408,Sheet4!$C$2:$C$8408,Sheet3!$B27,Sheet4!$D$2:$D$8408,Sheet3!DH$3,Sheet4!$A$2:$A$8408,Sheet3!$B$1,Sheet4!$B$2:$B$8408,Sheet3!$A$3)<3,0,SUMIFS(Sheet4!$DN$2:$DN$8408,Sheet4!$C$2:$C$8408,Sheet3!$B27,Sheet4!$D$2:$D$8408,Sheet3!DH$3,Sheet4!$A$2:$A$8408,Sheet3!$B$1,Sheet4!$B$2:$B$8408,Sheet3!$A$3))","v":51},{"$f":"+IF(SUMIFS(Sheet4!$DN$2:$DN$8408,Sheet4!$C$2:$C$8408,Sheet3!$B27,Sheet4!$D$2:$D$8408,Sheet3!DI$3,Sheet4!$A$2:$A$8408,Sheet3!$B$1,Sheet4!$B$2:$B$8408,Sheet3!$A$3)<3,0,SUMIFS(Sheet4!$DN$2:$DN$8408,Sheet4!$C$2:$C$8408,Sheet3!$B27,Sheet4!$D$2:$D$8408,Sheet3!DI$3,Sheet4!$A$2:$A$8408,Sheet3!$B$1,Sheet4!$B$2:$B$8408,Sheet3!$A$3))","v":291},{"$f":"+IF(SUMIFS(Sheet4!$DN$2:$DN$8408,Sheet4!$C$2:$C$8408,Sheet3!$B27,Sheet4!$D$2:$D$8408,Sheet3!DJ$3,Sheet4!$A$2:$A$8408,Sheet3!$B$1,Sheet4!$B$2:$B$8408,Sheet3!$A$3)<3,0,SUMIFS(Sheet4!$DN$2:$DN$8408,Sheet4!$C$2:$C$8408,Sheet3!$B27,Sheet4!$D$2:$D$8408,Sheet3!DJ$3,Sheet4!$A$2:$A$8408,Sheet3!$B$1,Sheet4!$B$2:$B$8408,Sheet3!$A$3))","v":140},{"$f":"+IF(SUMIFS(Sheet4!$DN$2:$DN$8408,Sheet4!$C$2:$C$8408,Sheet3!$B27,Sheet4!$D$2:$D$8408,Sheet3!DK$3,Sheet4!$A$2:$A$8408,Sheet3!$B$1,Sheet4!$B$2:$B$8408,Sheet3!$A$3)<3,0,SUMIFS(Sheet4!$DN$2:$DN$8408,Sheet4!$C$2:$C$8408,Sheet3!$B27,Sheet4!$D$2:$D$8408,Sheet3!DK$3,Sheet4!$A$2:$A$8408,Sheet3!$B$1,Sheet4!$B$2:$B$8408,Sheet3!$A$3))","v":505},{"$f":"+IF(SUMIFS(Sheet4!$DN$2:$DN$8408,Sheet4!$C$2:$C$8408,Sheet3!$B27,Sheet4!$D$2:$D$8408,Sheet3!DL$3,Sheet4!$A$2:$A$8408,Sheet3!$B$1,Sheet4!$B$2:$B$8408,Sheet3!$A$3)<3,0,SUMIFS(Sheet4!$DN$2:$DN$8408,Sheet4!$C$2:$C$8408,Sheet3!$B27,Sheet4!$D$2:$D$8408,Sheet3!DL$3,Sheet4!$A$2:$A$8408,Sheet3!$B$1,Sheet4!$B$2:$B$8408,Sheet3!$A$3))","v":173},{"$f":"+IF(SUMIFS(Sheet4!$DN$2:$DN$8408,Sheet4!$C$2:$C$8408,Sheet3!$B27,Sheet4!$D$2:$D$8408,Sheet3!DM$3,Sheet4!$A$2:$A$8408,Sheet3!$B$1,Sheet4!$B$2:$B$8408,Sheet3!$A$3)<3,0,SUMIFS(Sheet4!$DN$2:$DN$8408,Sheet4!$C$2:$C$8408,Sheet3!$B27,Sheet4!$D$2:$D$8408,Sheet3!DM$3,Sheet4!$A$2:$A$8408,Sheet3!$B$1,Sheet4!$B$2:$B$8408,Sheet3!$A$3))","v":14},{"$f":"+IF(SUMIFS(Sheet4!$DN$2:$DN$8408,Sheet4!$C$2:$C$8408,Sheet3!$B27,Sheet4!$E$2:$E$8408,Sheet3!DN$4,Sheet4!$A$2:$A$8408,Sheet3!$B$1,Sheet4!$B$2:$B$8408,Sheet3!$A$3)<3,0,SUMIFS(Sheet4!$DN$2:$DN$8408,Sheet4!$C$2:$C$8408,Sheet3!$B27,Sheet4!$E$2:$E$8408,Sheet3!DN$4,Sheet4!$A$2:$A$8408,Sheet3!$B$1,Sheet4!$B$2:$B$8408,Sheet3!$A$3))","v":1076},{"$f":"+IF(SUMIFS(Sheet4!$DN$2:$DN$8408,Sheet4!$C$2:$C$8408,Sheet3!$B27,Sheet4!$E$2:$E$8408,Sheet3!DO$4,Sheet4!$A$2:$A$8408,Sheet3!$B$1,Sheet4!$B$2:$B$8408,Sheet3!$A$3)<3,0,SUMIFS(Sheet4!$DN$2:$DN$8408,Sheet4!$C$2:$C$8408,Sheet3!$B27,Sheet4!$E$2:$E$8408,Sheet3!DO$4,Sheet4!$A$2:$A$8408,Sheet3!$B$1,Sheet4!$B$2:$B$8408,Sheet3!$A$3))","v":882},{"$f":"+IF(SUMIFS(Sheet4!$DN$2:$DN$8408,Sheet4!$C$2:$C$8408,Sheet3!$B27,Sheet4!$E$2:$E$8408,Sheet3!DP$4,Sheet4!$A$2:$A$8408,Sheet3!$B$1,Sheet4!$B$2:$B$8408,Sheet3!$A$3)<3,0,SUMIFS(Sheet4!$DN$2:$DN$8408,Sheet4!$C$2:$C$8408,Sheet3!$B27,Sheet4!$E$2:$E$8408,Sheet3!DP$4,Sheet4!$A$2:$A$8408,Sheet3!$B$1,Sheet4!$B$2:$B$8408,Sheet3!$A$3))","v":603},{"$f":"+IF(SUMIFS(Sheet4!$DN$2:$DN$8408,Sheet4!$C$2:$C$8408,Sheet3!$B27,Sheet4!$E$2:$E$8408,Sheet3!DQ$4,Sheet4!$A$2:$A$8408,Sheet3!$B$1,Sheet4!$B$2:$B$8408,Sheet3!$A$3)<3,0,SUMIFS(Sheet4!$DN$2:$DN$8408,Sheet4!$C$2:$C$8408,Sheet3!$B27,Sheet4!$E$2:$E$8408,Sheet3!DQ$4,Sheet4!$A$2:$A$8408,Sheet3!$B$1,Sheet4!$B$2:$B$8408,Sheet3!$A$3))","v":516},{"$f":"+IF(SUMIFS(Sheet4!$DN$2:$DN$8408,Sheet4!$C$2:$C$8408,Sheet3!$B27,Sheet4!$E$2:$E$8408,Sheet3!DR$4,Sheet4!$A$2:$A$8408,Sheet3!$B$1,Sheet4!$B$2:$B$8408,Sheet3!$A$3)<3,0,SUMIFS(Sheet4!$DN$2:$DN$8408,Sheet4!$C$2:$C$8408,Sheet3!$B27,Sheet4!$E$2:$E$8408,Sheet3!DR$4,Sheet4!$A$2:$A$8408,Sheet3!$B$1,Sheet4!$B$2:$B$8408,Sheet3!$A$3))","v":151}]
[5,"186","Alto Alentejo",{"$f":"+SUMIFS(Sheet4!$DM$2:$DM$8408,Sheet4!$C$2:$C$8408,Sheet3!$B28,Sheet4!$D$2:$D$8408,Sheet3!D$3,Sheet4!$E$2:$E$8408,Sheet3!D$4,Sheet4!$A$2:$A$8408,Sheet3!$B$1,Sheet4!$B$2:$B$8408,Sheet3!$A$3)","v":0},{"$f":"+SUMIFS(Sheet4!$DM$2:$DM$8408,Sheet4!$C$2:$C$8408,Sheet3!$B28,Sheet4!$D$2:$D$8408,Sheet3!E$3,Sheet4!$E$2:$E$8408,Sheet3!E$4,Sheet4!$A$2:$A$8408,Sheet3!$B$1,Sheet4!$B$2:$B$8408,Sheet3!$A$3)","v":0},{"$f":"+SUMIFS(Sheet4!$DM$2:$DM$8408,Sheet4!$C$2:$C$8408,Sheet3!$B28,Sheet4!$D$2:$D$8408,Sheet3!F$3,Sheet4!$E$2:$E$8408,Sheet3!F$4,Sheet4!$A$2:$A$8408,Sheet3!$B$1,Sheet4!$B$2:$B$8408,Sheet3!$A$3)","v":0},{"$f":"+SUMIFS(Sheet4!$DM$2:$DM$8408,Sheet4!$C$2:$C$8408,Sheet3!$B28,Sheet4!$D$2:$D$8408,Sheet3!G$3,Sheet4!$E$2:$E$8408,Sheet3!G$4,Sheet4!$A$2:$A$8408,Sheet3!$B$1,Sheet4!$B$2:$B$8408,Sheet3!$A$3)","v":0},{"$f":"+SUMIFS(Sheet4!$DM$2:$DM$8408,Sheet4!$C$2:$C$8408,Sheet3!$B28,Sheet4!$D$2:$D$8408,Sheet3!H$3,Sheet4!$E$2:$E$8408,Sheet3!H$4,Sheet4!$A$2:$A$8408,Sheet3!$B$1,Sheet4!$B$2:$B$8408,Sheet3!$A$3)","v":0},{"$f":"+SUMIFS(Sheet4!$DM$2:$DM$8408,Sheet4!$C$2:$C$8408,Sheet3!$B28,Sheet4!$D$2:$D$8408,Sheet3!I$3,Sheet4!$E$2:$E$8408,Sheet3!I$4,Sheet4!$A$2:$A$8408,Sheet3!$B$1,Sheet4!$B$2:$B$8408,Sheet3!$A$3)","v":0},{"$f":"+SUMIFS(Sheet4!$DM$2:$DM$8408,Sheet4!$C$2:$C$8408,Sheet3!$B28,Sheet4!$D$2:$D$8408,Sheet3!J$3,Sheet4!$E$2:$E$8408,Sheet3!J$4,Sheet4!$A$2:$A$8408,Sheet3!$B$1,Sheet4!$B$2:$B$8408,Sheet3!$A$3)","v":8},{"$f":"+SUMIFS(Sheet4!$DM$2:$DM$8408,Sheet4!$C$2:$C$8408,Sheet3!$B28,Sheet4!$D$2:$D$8408,Sheet3!K$3,Sheet4!$E$2:$E$8408,Sheet3!K$4,Sheet4!$A$2:$A$8408,Sheet3!$B$1,Sheet4!$B$2:$B$8408,Sheet3!$A$3)","v":5},{"$f":"+SUMIFS(Sheet4!$DM$2:$DM$8408,Sheet4!$C$2:$C$8408,Sheet3!$B28,Sheet4!$D$2:$D$8408,Sheet3!L$3,Sheet4!$E$2:$E$8408,Sheet3!L$4,Sheet4!$A$2:$A$8408,Sheet3!$B$1,Sheet4!$B$2:$B$8408,Sheet3!$A$3)","v":6},{"$f":"+SUMIFS(Sheet4!$DM$2:$DM$8408,Sheet4!$C$2:$C$8408,Sheet3!$B28,Sheet4!$D$2:$D$8408,Sheet3!M$3,Sheet4!$E$2:$E$8408,Sheet3!M$4,Sheet4!$A$2:$A$8408,Sheet3!$B$1,Sheet4!$B$2:$B$8408,Sheet3!$A$3)","v":0},{"$f":"+SUMIFS(Sheet4!$DM$2:$DM$8408,Sheet4!$C$2:$C$8408,Sheet3!$B28,Sheet4!$D$2:$D$8408,Sheet3!N$3,Sheet4!$E$2:$E$8408,Sheet3!N$4,Sheet4!$A$2:$A$8408,Sheet3!$B$1,Sheet4!$B$2:$B$8408,Sheet3!$A$3)","v":51},{"$f":"+SUMIFS(Sheet4!$DM$2:$DM$8408,Sheet4!$C$2:$C$8408,Sheet3!$B28,Sheet4!$D$2:$D$8408,Sheet3!O$3,Sheet4!$E$2:$E$8408,Sheet3!O$4,Sheet4!$A$2:$A$8408,Sheet3!$B$1,Sheet4!$B$2:$B$8408,Sheet3!$A$3)","v":20},{"$f":"+SUMIFS(Sheet4!$DM$2:$DM$8408,Sheet4!$C$2:$C$8408,Sheet3!$B28,Sheet4!$D$2:$D$8408,Sheet3!P$3,Sheet4!$E$2:$E$8408,Sheet3!P$4,Sheet4!$A$2:$A$8408,Sheet3!$B$1,Sheet4!$B$2:$B$8408,Sheet3!$A$3)","v":13},{"$f":"+SUMIFS(Sheet4!$DM$2:$DM$8408,Sheet4!$C$2:$C$8408,Sheet3!$B28,Sheet4!$D$2:$D$8408,Sheet3!Q$3,Sheet4!$E$2:$E$8408,Sheet3!Q$4,Sheet4!$A$2:$A$8408,Sheet3!$B$1,Sheet4!$B$2:$B$8408,Sheet3!$A$3)","v":8},{"$f":"+SUMIFS(Sheet4!$DM$2:$DM$8408,Sheet4!$C$2:$C$8408,Sheet3!$B28,Sheet4!$D$2:$D$8408,Sheet3!R$3,Sheet4!$E$2:$E$8408,Sheet3!R$4,Sheet4!$A$2:$A$8408,Sheet3!$B$1,Sheet4!$B$2:$B$8408,Sheet3!$A$3)","v":0},{"$f":"+SUMIFS(Sheet4!$DM$2:$DM$8408,Sheet4!$C$2:$C$8408,Sheet3!$B28,Sheet4!$D$2:$D$8408,Sheet3!S$3,Sheet4!$E$2:$E$8408,Sheet3!S$4,Sheet4!$A$2:$A$8408,Sheet3!$B$1,Sheet4!$B$2:$B$8408,Sheet3!$A$3)","v":0},{"$f":"+SUMIFS(Sheet4!$DM$2:$DM$8408,Sheet4!$C$2:$C$8408,Sheet3!$B28,Sheet4!$D$2:$D$8408,Sheet3!T$3,Sheet4!$E$2:$E$8408,Sheet3!T$4,Sheet4!$A$2:$A$8408,Sheet3!$B$1,Sheet4!$B$2:$B$8408,Sheet3!$A$3)","v":0},{"$f":"+SUMIFS(Sheet4!$DM$2:$DM$8408,Sheet4!$C$2:$C$8408,Sheet3!$B28,Sheet4!$D$2:$D$8408,Sheet3!U$3,Sheet4!$E$2:$E$8408,Sheet3!U$4,Sheet4!$A$2:$A$8408,Sheet3!$B$1,Sheet4!$B$2:$B$8408,Sheet3!$A$3)","v":0},{"$f":"+SUMIFS(Sheet4!$DM$2:$DM$8408,Sheet4!$C$2:$C$8408,Sheet3!$B28,Sheet4!$D$2:$D$8408,Sheet3!V$3,Sheet4!$E$2:$E$8408,Sheet3!V$4,Sheet4!$A$2:$A$8408,Sheet3!$B$1,Sheet4!$B$2:$B$8408,Sheet3!$A$3)","v":0},{"$f":"+SUMIFS(Sheet4!$DM$2:$DM$8408,Sheet4!$C$2:$C$8408,Sheet3!$B28,Sheet4!$D$2:$D$8408,Sheet3!W$3,Sheet4!$E$2:$E$8408,Sheet3!W$4,Sheet4!$A$2:$A$8408,Sheet3!$B$1,Sheet4!$B$2:$B$8408,Sheet3!$A$3)","v":0},{"$f":"+SUMIFS(Sheet4!$DM$2:$DM$8408,Sheet4!$C$2:$C$8408,Sheet3!$B28,Sheet4!$D$2:$D$8408,Sheet3!X$3,Sheet4!$E$2:$E$8408,Sheet3!X$4,Sheet4!$A$2:$A$8408,Sheet3!$B$1,Sheet4!$B$2:$B$8408,Sheet3!$A$3)","v":0},{"$f":"+SUMIFS(Sheet4!$DM$2:$DM$8408,Sheet4!$C$2:$C$8408,Sheet3!$B28,Sheet4!$D$2:$D$8408,Sheet3!Y$3,Sheet4!$E$2:$E$8408,Sheet3!Y$4,Sheet4!$A$2:$A$8408,Sheet3!$B$1,Sheet4!$B$2:$B$8408,Sheet3!$A$3)","v":0},{"$f":"+SUMIFS(Sheet4!$DM$2:$DM$8408,Sheet4!$C$2:$C$8408,Sheet3!$B28,Sheet4!$D$2:$D$8408,Sheet3!Z$3,Sheet4!$E$2:$E$8408,Sheet3!Z$4,Sheet4!$A$2:$A$8408,Sheet3!$B$1,Sheet4!$B$2:$B$8408,Sheet3!$A$3)","v":8},{"$f":"+SUMIFS(Sheet4!$DM$2:$DM$8408,Sheet4!$C$2:$C$8408,Sheet3!$B28,Sheet4!$D$2:$D$8408,Sheet3!AA$3,Sheet4!$E$2:$E$8408,Sheet3!AA$4,Sheet4!$A$2:$A$8408,Sheet3!$B$1,Sheet4!$B$2:$B$8408,Sheet3!$A$3)","v":8},{"$f":"+SUMIFS(Sheet4!$DM$2:$DM$8408,Sheet4!$C$2:$C$8408,Sheet3!$B28,Sheet4!$D$2:$D$8408,Sheet3!AB$3,Sheet4!$E$2:$E$8408,Sheet3!AB$4,Sheet4!$A$2:$A$8408,Sheet3!$B$1,Sheet4!$B$2:$B$8408,Sheet3!$A$3)","v":0},{"$f":"+SUMIFS(Sheet4!$DM$2:$DM$8408,Sheet4!$C$2:$C$8408,Sheet3!$B28,Sheet4!$D$2:$D$8408,Sheet3!AC$3,Sheet4!$E$2:$E$8408,Sheet3!AC$4,Sheet4!$A$2:$A$8408,Sheet3!$B$1,Sheet4!$B$2:$B$8408,Sheet3!$A$3)","v":32},{"$f":"+SUMIFS(Sheet4!$DM$2:$DM$8408,Sheet4!$C$2:$C$8408,Sheet3!$B28,Sheet4!$D$2:$D$8408,Sheet3!AD$3,Sheet4!$E$2:$E$8408,Sheet3!AD$4,Sheet4!$A$2:$A$8408,Sheet3!$B$1,Sheet4!$B$2:$B$8408,Sheet3!$A$3)","v":41},{"$f":"+SUMIFS(Sheet4!$DM$2:$DM$8408,Sheet4!$C$2:$C$8408,Sheet3!$B28,Sheet4!$D$2:$D$8408,Sheet3!AE$3,Sheet4!$E$2:$E$8408,Sheet3!AE$4,Sheet4!$A$2:$A$8408,Sheet3!$B$1,Sheet4!$B$2:$B$8408,Sheet3!$A$3)","v":27},{"$f":"+SUMIFS(Sheet4!$DM$2:$DM$8408,Sheet4!$C$2:$C$8408,Sheet3!$B28,Sheet4!$D$2:$D$8408,Sheet3!AF$3,Sheet4!$E$2:$E$8408,Sheet3!AF$4,Sheet4!$A$2:$A$8408,Sheet3!$B$1,Sheet4!$B$2:$B$8408,Sheet3!$A$3)","v":50},{"$f":"+SUMIFS(Sheet4!$DM$2:$DM$8408,Sheet4!$C$2:$C$8408,Sheet3!$B28,Sheet4!$D$2:$D$8408,Sheet3!AG$3,Sheet4!$E$2:$E$8408,Sheet3!AG$4,Sheet4!$A$2:$A$8408,Sheet3!$B$1,Sheet4!$B$2:$B$8408,Sheet3!$A$3)","v":6},{"$f":"+SUMIFS(Sheet4!$DM$2:$DM$8408,Sheet4!$C$2:$C$8408,Sheet3!$B28,Sheet4!$D$2:$D$8408,Sheet3!AH$3,Sheet4!$E$2:$E$8408,Sheet3!AH$4,Sheet4!$A$2:$A$8408,Sheet3!$B$1,Sheet4!$B$2:$B$8408,Sheet3!$A$3)","v":25},{"$f":"+SUMIFS(Sheet4!$DM$2:$DM$8408,Sheet4!$C$2:$C$8408,Sheet3!$B28,Sheet4!$D$2:$D$8408,Sheet3!AI$3,Sheet4!$E$2:$E$8408,Sheet3!AI$4,Sheet4!$A$2:$A$8408,Sheet3!$B$1,Sheet4!$B$2:$B$8408,Sheet3!$A$3)","v":40},{"$f":"+SUMIFS(Sheet4!$DM$2:$DM$8408,Sheet4!$C$2:$C$8408,Sheet3!$B28,Sheet4!$D$2:$D$8408,Sheet3!AJ$3,Sheet4!$E$2:$E$8408,Sheet3!AJ$4,Sheet4!$A$2:$A$8408,Sheet3!$B$1,Sheet4!$B$2:$B$8408,Sheet3!$A$3)","v":22},{"$f":"+SUMIFS(Sheet4!$DM$2:$DM$8408,Sheet4!$C$2:$C$8408,Sheet3!$B28,Sheet4!$D$2:$D$8408,Sheet3!AK$3,Sheet4!$E$2:$E$8408,Sheet3!AK$4,Sheet4!$A$2:$A$8408,Sheet3!$B$1,Sheet4!$B$2:$B$8408,Sheet3!$A$3)","v":6},{"$f":"+SUMIFS(Sheet4!$DM$2:$DM$8408,Sheet4!$C$2:$C$8408,Sheet3!$B28,Sheet4!$D$2:$D$8408,Sheet3!AL$3,Sheet4!$E$2:$E$8408,Sheet3!AL$4,Sheet4!$A$2:$A$8408,Sheet3!$B$1,Sheet4!$B$2:$B$8408,Sheet3!$A$3)","v":0},{"$f":"+SUMIFS(Sheet4!$DM$2:$DM$8408,Sheet4!$C$2:$C$8408,Sheet3!$B28,Sheet4!$D$2:$D$8408,Sheet3!AM$3,Sheet4!$E$2:$E$8408,Sheet3!AM$4,Sheet4!$A$2:$A$8408,Sheet3!$B$1,Sheet4!$B$2:$B$8408,Sheet3!$A$3)","v":25},{"$f":"+SUMIFS(Sheet4!$DM$2:$DM$8408,Sheet4!$C$2:$C$8408,Sheet3!$B28,Sheet4!$D$2:$D$8408,Sheet3!AN$3,Sheet4!$E$2:$E$8408,Sheet3!AN$4,Sheet4!$A$2:$A$8408,Sheet3!$B$1,Sheet4!$B$2:$B$8408,Sheet3!$A$3)","v":54},{"$f":"+SUMIFS(Sheet4!$DM$2:$DM$8408,Sheet4!$C$2:$C$8408,Sheet3!$B28,Sheet4!$D$2:$D$8408,Sheet3!AO$3,Sheet4!$E$2:$E$8408,Sheet3!AO$4,Sheet4!$A$2:$A$8408,Sheet3!$B$1,Sheet4!$B$2:$B$8408,Sheet3!$A$3)","v":36},{"$f":"+SUMIFS(Sheet4!$DM$2:$DM$8408,Sheet4!$C$2:$C$8408,Sheet3!$B28,Sheet4!$D$2:$D$8408,Sheet3!AP$3,Sheet4!$E$2:$E$8408,Sheet3!AP$4,Sheet4!$A$2:$A$8408,Sheet3!$B$1,Sheet4!$B$2:$B$8408,Sheet3!$A$3)","v":22},{"$f":"+SUMIFS(Sheet4!$DM$2:$DM$8408,Sheet4!$C$2:$C$8408,Sheet3!$B28,Sheet4!$D$2:$D$8408,Sheet3!AQ$3,Sheet4!$E$2:$E$8408,Sheet3!AQ$4,Sheet4!$A$2:$A$8408,Sheet3!$B$1,Sheet4!$B$2:$B$8408,Sheet3!$A$3)","v":3},{"$f":"+SUMIFS(Sheet4!$DM$2:$DM$8408,Sheet4!$C$2:$C$8408,Sheet3!$B28,Sheet4!$D$2:$D$8408,Sheet3!AR$3,Sheet4!$E$2:$E$8408,Sheet3!AR$4,Sheet4!$A$2:$A$8408,Sheet3!$B$1,Sheet4!$B$2:$B$8408,Sheet3!$A$3)","v":1031},{"$f":"+SUMIFS(Sheet4!$DM$2:$DM$8408,Sheet4!$C$2:$C$8408,Sheet3!$B28,Sheet4!$D$2:$D$8408,Sheet3!AS$3,Sheet4!$E$2:$E$8408,Sheet3!AS$4,Sheet4!$A$2:$A$8408,Sheet3!$B$1,Sheet4!$B$2:$B$8408,Sheet3!$A$3)","v":143},{"$f":"+SUMIFS(Sheet4!$DM$2:$DM$8408,Sheet4!$C$2:$C$8408,Sheet3!$B28,Sheet4!$D$2:$D$8408,Sheet3!AT$3,Sheet4!$E$2:$E$8408,Sheet3!AT$4,Sheet4!$A$2:$A$8408,Sheet3!$B$1,Sheet4!$B$2:$B$8408,Sheet3!$A$3)","v":64},{"$f":"+SUMIFS(Sheet4!$DM$2:$DM$8408,Sheet4!$C$2:$C$8408,Sheet3!$B28,Sheet4!$D$2:$D$8408,Sheet3!AU$3,Sheet4!$E$2:$E$8408,Sheet3!AU$4,Sheet4!$A$2:$A$8408,Sheet3!$B$1,Sheet4!$B$2:$B$8408,Sheet3!$A$3)","v":33},{"$f":"+SUMIFS(Sheet4!$DM$2:$DM$8408,Sheet4!$C$2:$C$8408,Sheet3!$B28,Sheet4!$D$2:$D$8408,Sheet3!AV$3,Sheet4!$E$2:$E$8408,Sheet3!AV$4,Sheet4!$A$2:$A$8408,Sheet3!$B$1,Sheet4!$B$2:$B$8408,Sheet3!$A$3)","v":3},{"$f":"+SUMIFS(Sheet4!$DM$2:$DM$8408,Sheet4!$C$2:$C$8408,Sheet3!$B28,Sheet4!$D$2:$D$8408,Sheet3!AW$3,Sheet4!$E$2:$E$8408,Sheet3!AW$4,Sheet4!$A$2:$A$8408,Sheet3!$B$1,Sheet4!$B$2:$B$8408,Sheet3!$A$3)","v":592},{"$f":"+SUMIFS(Sheet4!$DM$2:$DM$8408,Sheet4!$C$2:$C$8408,Sheet3!$B28,Sheet4!$D$2:$D$8408,Sheet3!AX$3,Sheet4!$E$2:$E$8408,Sheet3!AX$4,Sheet4!$A$2:$A$8408,Sheet3!$B$1,Sheet4!$B$2:$B$8408,Sheet3!$A$3)","v":211},{"$f":"+SUMIFS(Sheet4!$DM$2:$DM$8408,Sheet4!$C$2:$C$8408,Sheet3!$B28,Sheet4!$D$2:$D$8408,Sheet3!AY$3,Sheet4!$E$2:$E$8408,Sheet3!AY$4,Sheet4!$A$2:$A$8408,Sheet3!$B$1,Sheet4!$B$2:$B$8408,Sheet3!$A$3)","v":65},{"$f":"+SUMIFS(Sheet4!$DM$2:$DM$8408,Sheet4!$C$2:$C$8408,Sheet3!$B28,Sheet4!$D$2:$D$8408,Sheet3!AZ$3,Sheet4!$E$2:$E$8408,Sheet3!AZ$4,Sheet4!$A$2:$A$8408,Sheet3!$B$1,Sheet4!$B$2:$B$8408,Sheet3!$A$3)","v":34},{"$f":"+SUMIFS(Sheet4!$DM$2:$DM$8408,Sheet4!$C$2:$C$8408,Sheet3!$B28,Sheet4!$D$2:$D$8408,Sheet3!BA$3,Sheet4!$E$2:$E$8408,Sheet3!BA$4,Sheet4!$A$2:$A$8408,Sheet3!$B$1,Sheet4!$B$2:$B$8408,Sheet3!$A$3)","v":3},{"$f":"+SUMIFS(Sheet4!$DM$2:$DM$8408,Sheet4!$C$2:$C$8408,Sheet3!$B28,Sheet4!$D$2:$D$8408,Sheet3!BB$3,Sheet4!$E$2:$E$8408,Sheet3!BB$4,Sheet4!$A$2:$A$8408,Sheet3!$B$1,Sheet4!$B$2:$B$8408,Sheet3!$A$3)","v":0},{"$f":"+SUMIFS(Sheet4!$DM$2:$DM$8408,Sheet4!$C$2:$C$8408,Sheet3!$B28,Sheet4!$D$2:$D$8408,Sheet3!BC$3,Sheet4!$E$2:$E$8408,Sheet3!BC$4,Sheet4!$A$2:$A$8408,Sheet3!$B$1,Sheet4!$B$2:$B$8408,Sheet3!$A$3)","v":0},{"$f":"+SUMIFS(Sheet4!$DM$2:$DM$8408,Sheet4!$C$2:$C$8408,Sheet3!$B28,Sheet4!$D$2:$D$8408,Sheet3!BD$3,Sheet4!$E$2:$E$8408,Sheet3!BD$4,Sheet4!$A$2:$A$8408,Sheet3!$B$1,Sheet4!$B$2:$B$8408,Sheet3!$A$3)","v":0},{"$f":"+SUMIFS(Sheet4!$DM$2:$DM$8408,Sheet4!$C$2:$C$8408,Sheet3!$B28,Sheet4!$D$2:$D$8408,Sheet3!BE$3,Sheet4!$E$2:$E$8408,Sheet3!BE$4,Sheet4!$A$2:$A$8408,Sheet3!$B$1,Sheet4!$B$2:$B$8408,Sheet3!$A$3)","v":0},{"$f":"+SUMIFS(Sheet4!$DM$2:$DM$8408,Sheet4!$C$2:$C$8408,Sheet3!$B28,Sheet4!$D$2:$D$8408,Sheet3!BF$3,Sheet4!$E$2:$E$8408,Sheet3!BF$4,Sheet4!$A$2:$A$8408,Sheet3!$B$1,Sheet4!$B$2:$B$8408,Sheet3!$A$3)","v":10},{"$f":"+SUMIFS(Sheet4!$DM$2:$DM$8408,Sheet4!$C$2:$C$8408,Sheet3!$B28,Sheet4!$D$2:$D$8408,Sheet3!BG$3,Sheet4!$E$2:$E$8408,Sheet3!BG$4,Sheet4!$A$2:$A$8408,Sheet3!$B$1,Sheet4!$B$2:$B$8408,Sheet3!$A$3)","v":0},{"$f":"+SUMIFS(Sheet4!$DM$2:$DM$8408,Sheet4!$C$2:$C$8408,Sheet3!$B28,Sheet4!$D$2:$D$8408,Sheet3!BH$3,Sheet4!$E$2:$E$8408,Sheet3!BH$4,Sheet4!$A$2:$A$8408,Sheet3!$B$1,Sheet4!$B$2:$B$8408,Sheet3!$A$3)","v":72},{"$f":"+SUMIFS(Sheet4!$DM$2:$DM$8408,Sheet4!$C$2:$C$8408,Sheet3!$B28,Sheet4!$D$2:$D$8408,Sheet3!BI$3,Sheet4!$E$2:$E$8408,Sheet3!BI$4,Sheet4!$A$2:$A$8408,Sheet3!$B$1,Sheet4!$B$2:$B$8408,Sheet3!$A$3)","v":92},{"$f":"+SUMIFS(Sheet4!$DM$2:$DM$8408,Sheet4!$C$2:$C$8408,Sheet3!$B28,Sheet4!$D$2:$D$8408,Sheet3!BJ$3,Sheet4!$E$2:$E$8408,Sheet3!BJ$4,Sheet4!$A$2:$A$8408,Sheet3!$B$1,Sheet4!$B$2:$B$8408,Sheet3!$A$3)","v":46},{"$f":"+SUMIFS(Sheet4!$DM$2:$DM$8408,Sheet4!$C$2:$C$8408,Sheet3!$B28,Sheet4!$D$2:$D$8408,Sheet3!BK$3,Sheet4!$E$2:$E$8408,Sheet3!BK$4,Sheet4!$A$2:$A$8408,Sheet3!$B$1,Sheet4!$B$2:$B$8408,Sheet3!$A$3)","v":0},{"$f":"+SUMIFS(Sheet4!$DM$2:$DM$8408,Sheet4!$C$2:$C$8408,Sheet3!$B28,Sheet4!$D$2:$D$8408,Sheet3!BL$3,Sheet4!$E$2:$E$8408,Sheet3!BL$4,Sheet4!$A$2:$A$8408,Sheet3!$B$1,Sheet4!$B$2:$B$8408,Sheet3!$A$3)","v":4},{"$f":"+SUMIFS(Sheet4!$DM$2:$DM$8408,Sheet4!$C$2:$C$8408,Sheet3!$B28,Sheet4!$D$2:$D$8408,Sheet3!BM$3,Sheet4!$E$2:$E$8408,Sheet3!BM$4,Sheet4!$A$2:$A$8408,Sheet3!$B$1,Sheet4!$B$2:$B$8408,Sheet3!$A$3)","v":22},{"$f":"+SUMIFS(Sheet4!$DM$2:$DM$8408,Sheet4!$C$2:$C$8408,Sheet3!$B28,Sheet4!$D$2:$D$8408,Sheet3!BN$3,Sheet4!$E$2:$E$8408,Sheet3!BN$4,Sheet4!$A$2:$A$8408,Sheet3!$B$1,Sheet4!$B$2:$B$8408,Sheet3!$A$3)","v":23},{"$f":"+SUMIFS(Sheet4!$DM$2:$DM$8408,Sheet4!$C$2:$C$8408,Sheet3!$B28,Sheet4!$D$2:$D$8408,Sheet3!BO$3,Sheet4!$E$2:$E$8408,Sheet3!BO$4,Sheet4!$A$2:$A$8408,Sheet3!$B$1,Sheet4!$B$2:$B$8408,Sheet3!$A$3)","v":8},{"$f":"+SUMIFS(Sheet4!$DM$2:$DM$8408,Sheet4!$C$2:$C$8408,Sheet3!$B28,Sheet4!$D$2:$D$8408,Sheet3!BP$3,Sheet4!$E$2:$E$8408,Sheet3!BP$4,Sheet4!$A$2:$A$8408,Sheet3!$B$1,Sheet4!$B$2:$B$8408,Sheet3!$A$3)","v":5},{"$f":"+SUMIFS(Sheet4!$DM$2:$DM$8408,Sheet4!$C$2:$C$8408,Sheet3!$B28,Sheet4!$D$2:$D$8408,Sheet3!BQ$3,Sheet4!$E$2:$E$8408,Sheet3!BQ$4,Sheet4!$A$2:$A$8408,Sheet3!$B$1,Sheet4!$B$2:$B$8408,Sheet3!$A$3)","v":3},{"$f":"+SUMIFS(Sheet4!$DM$2:$DM$8408,Sheet4!$C$2:$C$8408,Sheet3!$B28,Sheet4!$D$2:$D$8408,Sheet3!BR$3,Sheet4!$E$2:$E$8408,Sheet3!BR$4,Sheet4!$A$2:$A$8408,Sheet3!$B$1,Sheet4!$B$2:$B$8408,Sheet3!$A$3)","v":104},{"$f":"+SUMIFS(Sheet4!$DM$2:$DM$8408,Sheet4!$C$2:$C$8408,Sheet3!$B28,Sheet4!$D$2:$D$8408,Sheet3!BS$3,Sheet4!$E$2:$E$8408,Sheet3!BS$4,Sheet4!$A$2:$A$8408,Sheet3!$B$1,Sheet4!$B$2:$B$8408,Sheet3!$A$3)","v":246},{"$f":"+SUMIFS(Sheet4!$DM$2:$DM$8408,Sheet4!$C$2:$C$8408,Sheet3!$B28,Sheet4!$D$2:$D$8408,Sheet3!BT$3,Sheet4!$E$2:$E$8408,Sheet3!BT$4,Sheet4!$A$2:$A$8408,Sheet3!$B$1,Sheet4!$B$2:$B$8408,Sheet3!$A$3)","v":172},{"$f":"+SUMIFS(Sheet4!$DM$2:$DM$8408,Sheet4!$C$2:$C$8408,Sheet3!$B28,Sheet4!$D$2:$D$8408,Sheet3!BU$3,Sheet4!$E$2:$E$8408,Sheet3!BU$4,Sheet4!$A$2:$A$8408,Sheet3!$B$1,Sheet4!$B$2:$B$8408,Sheet3!$A$3)","v":7},{"$f":"+SUMIFS(Sheet4!$DM$2:$DM$8408,Sheet4!$C$2:$C$8408,Sheet3!$B28,Sheet4!$D$2:$D$8408,Sheet3!BV$3,Sheet4!$E$2:$E$8408,Sheet3!BV$4,Sheet4!$A$2:$A$8408,Sheet3!$B$1,Sheet4!$B$2:$B$8408,Sheet3!$A$3)","v":422},{"$f":"+SUMIFS(Sheet4!$DM$2:$DM$8408,Sheet4!$C$2:$C$8408,Sheet3!$B28,Sheet4!$D$2:$D$8408,Sheet3!BW$3,Sheet4!$E$2:$E$8408,Sheet3!BW$4,Sheet4!$A$2:$A$8408,Sheet3!$B$1,Sheet4!$B$2:$B$8408,Sheet3!$A$3)","v":629},{"$f":"+SUMIFS(Sheet4!$DM$2:$DM$8408,Sheet4!$C$2:$C$8408,Sheet3!$B28,Sheet4!$D$2:$D$8408,Sheet3!BX$3,Sheet4!$E$2:$E$8408,Sheet3!BX$4,Sheet4!$A$2:$A$8408,Sheet3!$B$1,Sheet4!$B$2:$B$8408,Sheet3!$A$3)","v":221},{"$f":"+SUMIFS(Sheet4!$DM$2:$DM$8408,Sheet4!$C$2:$C$8408,Sheet3!$B28,Sheet4!$D$2:$D$8408,Sheet3!BY$3,Sheet4!$E$2:$E$8408,Sheet3!BY$4,Sheet4!$A$2:$A$8408,Sheet3!$B$1,Sheet4!$B$2:$B$8408,Sheet3!$A$3)","v":49},{"$f":"+SUMIFS(Sheet4!$DM$2:$DM$8408,Sheet4!$C$2:$C$8408,Sheet3!$B28,Sheet4!$D$2:$D$8408,Sheet3!BZ$3,Sheet4!$E$2:$E$8408,Sheet3!BZ$4,Sheet4!$A$2:$A$8408,Sheet3!$B$1,Sheet4!$B$2:$B$8408,Sheet3!$A$3)","v":0},{"$f":"+SUMIFS(Sheet4!$DM$2:$DM$8408,Sheet4!$C$2:$C$8408,Sheet3!$B28,Sheet4!$D$2:$D$8408,Sheet3!CA$3,Sheet4!$E$2:$E$8408,Sheet3!CA$4,Sheet4!$A$2:$A$8408,Sheet3!$B$1,Sheet4!$B$2:$B$8408,Sheet3!$A$3)","v":158},{"$f":"+SUMIFS(Sheet4!$DM$2:$DM$8408,Sheet4!$C$2:$C$8408,Sheet3!$B28,Sheet4!$D$2:$D$8408,Sheet3!CB$3,Sheet4!$E$2:$E$8408,Sheet3!CB$4,Sheet4!$A$2:$A$8408,Sheet3!$B$1,Sheet4!$B$2:$B$8408,Sheet3!$A$3)","v":166},{"$f":"+SUMIFS(Sheet4!$DM$2:$DM$8408,Sheet4!$C$2:$C$8408,Sheet3!$B28,Sheet4!$D$2:$D$8408,Sheet3!CC$3,Sheet4!$E$2:$E$8408,Sheet3!CC$4,Sheet4!$A$2:$A$8408,Sheet3!$B$1,Sheet4!$B$2:$B$8408,Sheet3!$A$3)","v":75},{"$f":"+SUMIFS(Sheet4!$DM$2:$DM$8408,Sheet4!$C$2:$C$8408,Sheet3!$B28,Sheet4!$D$2:$D$8408,Sheet3!CD$3,Sheet4!$E$2:$E$8408,Sheet3!CD$4,Sheet4!$A$2:$A$8408,Sheet3!$B$1,Sheet4!$B$2:$B$8408,Sheet3!$A$3)","v":79},{"$f":"+SUMIFS(Sheet4!$DM$2:$DM$8408,Sheet4!$C$2:$C$8408,Sheet3!$B28,Sheet4!$D$2:$D$8408,Sheet3!CE$3,Sheet4!$E$2:$E$8408,Sheet3!CE$4,Sheet4!$A$2:$A$8408,Sheet3!$B$1,Sheet4!$B$2:$B$8408,Sheet3!$A$3)","v":15},{"$f":"+SUMIFS(Sheet4!$DM$2:$DM$8408,Sheet4!$C$2:$C$8408,Sheet3!$B28,Sheet4!$D$2:$D$8408,Sheet3!CF$3,Sheet4!$E$2:$E$8408,Sheet3!CF$4,Sheet4!$A$2:$A$8408,Sheet3!$B$1,Sheet4!$B$2:$B$8408,Sheet3!$A$3)","v":275},{"$f":"+SUMIFS(Sheet4!$DM$2:$DM$8408,Sheet4!$C$2:$C$8408,Sheet3!$B28,Sheet4!$D$2:$D$8408,Sheet3!CG$3,Sheet4!$E$2:$E$8408,Sheet3!CG$4,Sheet4!$A$2:$A$8408,Sheet3!$B$1,Sheet4!$B$2:$B$8408,Sheet3!$A$3)","v":158},{"$f":"+SUMIFS(Sheet4!$DM$2:$DM$8408,Sheet4!$C$2:$C$8408,Sheet3!$B28,Sheet4!$D$2:$D$8408,Sheet3!CH$3,Sheet4!$E$2:$E$8408,Sheet3!CH$4,Sheet4!$A$2:$A$8408,Sheet3!$B$1,Sheet4!$B$2:$B$8408,Sheet3!$A$3)","v":25},{"$f":"+SUMIFS(Sheet4!$DM$2:$DM$8408,Sheet4!$C$2:$C$8408,Sheet3!$B28,Sheet4!$D$2:$D$8408,Sheet3!CI$3,Sheet4!$E$2:$E$8408,Sheet3!CI$4,Sheet4!$A$2:$A$8408,Sheet3!$B$1,Sheet4!$B$2:$B$8408,Sheet3!$A$3)","v":5},{"$f":"+SUMIFS(Sheet4!$DM$2:$DM$8408,Sheet4!$C$2:$C$8408,Sheet3!$B28,Sheet4!$D$2:$D$8408,Sheet3!CJ$3,Sheet4!$E$2:$E$8408,Sheet3!CJ$4,Sheet4!$A$2:$A$8408,Sheet3!$B$1,Sheet4!$B$2:$B$8408,Sheet3!$A$3)","v":0},{"$f":"+SUMIFS(Sheet4!$DM$2:$DM$8408,Sheet4!$C$2:$C$8408,Sheet3!$B28,Sheet4!$D$2:$D$8408,Sheet3!CK$3,Sheet4!$E$2:$E$8408,Sheet3!CK$4,Sheet4!$A$2:$A$8408,Sheet3!$B$1,Sheet4!$B$2:$B$8408,Sheet3!$A$3)","v":0},{"$f":"+SUMIFS(Sheet4!$DM$2:$DM$8408,Sheet4!$C$2:$C$8408,Sheet3!$B28,Sheet4!$D$2:$D$8408,Sheet3!CL$3,Sheet4!$E$2:$E$8408,Sheet3!CL$4,Sheet4!$A$2:$A$8408,Sheet3!$B$1,Sheet4!$B$2:$B$8408,Sheet3!$A$3)","v":0},{"$f":"+SUMIFS(Sheet4!$DM$2:$DM$8408,Sheet4!$C$2:$C$8408,Sheet3!$B28,Sheet4!$D$2:$D$8408,Sheet3!CM$3,Sheet4!$E$2:$E$8408,Sheet3!CM$4,Sheet4!$A$2:$A$8408,Sheet3!$B$1,Sheet4!$B$2:$B$8408,Sheet3!$A$3)","v":0},{"$f":"+SUMIFS(Sheet4!$DM$2:$DM$8408,Sheet4!$C$2:$C$8408,Sheet3!$B28,Sheet4!$D$2:$D$8408,Sheet3!CN$3,Sheet4!$E$2:$E$8408,Sheet3!CN$4,Sheet4!$A$2:$A$8408,Sheet3!$B$1,Sheet4!$B$2:$B$8408,Sheet3!$A$3)","v":9},{"$f":"+SUMIFS(Sheet4!$DM$2:$DM$8408,Sheet4!$C$2:$C$8408,Sheet3!$B28,Sheet4!$D$2:$D$8408,Sheet3!CO$3,Sheet4!$E$2:$E$8408,Sheet3!CO$4,Sheet4!$A$2:$A$8408,Sheet3!$B$1,Sheet4!$B$2:$B$8408,Sheet3!$A$3)","v":4},{"$f":"+SUMIFS(Sheet4!$DM$2:$DM$8408,Sheet4!$C$2:$C$8408,Sheet3!$B28,Sheet4!$D$2:$D$8408,Sheet3!CP$3,Sheet4!$E$2:$E$8408,Sheet3!CP$4,Sheet4!$A$2:$A$8408,Sheet3!$B$1,Sheet4!$B$2:$B$8408,Sheet3!$A$3)","v":0},{"$f":"+SUMIFS(Sheet4!$DM$2:$DM$8408,Sheet4!$C$2:$C$8408,Sheet3!$B28,Sheet4!$D$2:$D$8408,Sheet3!CQ$3,Sheet4!$E$2:$E$8408,Sheet3!CQ$4,Sheet4!$A$2:$A$8408,Sheet3!$B$1,Sheet4!$B$2:$B$8408,Sheet3!$A$3)","v":0},{"$f":"+SUMIFS(Sheet4!$DM$2:$DM$8408,Sheet4!$C$2:$C$8408,Sheet3!$B28,Sheet4!$D$2:$D$8408,Sheet3!CR$3,Sheet4!$E$2:$E$8408,Sheet3!CR$4,Sheet4!$A$2:$A$8408,Sheet3!$B$1,Sheet4!$B$2:$B$8408,Sheet3!$A$3)","v":0},{"$f":"+SUMIFS(Sheet4!$DM$2:$DM$8408,Sheet4!$C$2:$C$8408,Sheet3!$B28,Sheet4!$D$2:$D$8408,Sheet3!CS$3,Sheet4!$E$2:$E$8408,Sheet3!CS$4,Sheet4!$A$2:$A$8408,Sheet3!$B$1,Sheet4!$B$2:$B$8408,Sheet3!$A$3)","v":0},{"$f":"+SUMIFS(Sheet4!$DM$2:$DM$8408,Sheet4!$C$2:$C$8408,Sheet3!$B28,Sheet4!$D$2:$D$8408,Sheet3!CT$3,Sheet4!$E$2:$E$8408,Sheet3!CT$4,Sheet4!$A$2:$A$8408,Sheet3!$B$1,Sheet4!$B$2:$B$8408,Sheet3!$A$3)","v":0},{"$f":"+IF(SUMIFS(Sheet4!$DN$2:$DN$8408,Sheet4!$C$2:$C$8408,Sheet3!$B28,Sheet4!$D$2:$D$8408,Sheet3!CU$3,Sheet4!$A$2:$A$8408,Sheet3!$B$1,Sheet4!$B$2:$B$8408,Sheet3!$A$3)<3,0,SUMIFS(Sheet4!$DN$2:$DN$8408,Sheet4!$C$2:$C$8408,Sheet3!$B28,Sheet4!$D$2:$D$8408,Sheet3!CU$3,Sheet4!$A$2:$A$8408,Sheet3!$B$1,Sheet4!$B$2:$B$8408,Sheet3!$A$3))","v":6},{"$f":"+IF(SUMIFS(Sheet4!$DN$2:$DN$8408,Sheet4!$C$2:$C$8408,Sheet3!$B28,Sheet4!$D$2:$D$8408,Sheet3!CV$3,Sheet4!$A$2:$A$8408,Sheet3!$B$1,Sheet4!$B$2:$B$8408,Sheet3!$A$3)<3,0,SUMIFS(Sheet4!$DN$2:$DN$8408,Sheet4!$C$2:$C$8408,Sheet3!$B28,Sheet4!$D$2:$D$8408,Sheet3!CV$3,Sheet4!$A$2:$A$8408,Sheet3!$B$1,Sheet4!$B$2:$B$8408,Sheet3!$A$3))","v":22},{"$f":"+IF(SUMIFS(Sheet4!$DN$2:$DN$8408,Sheet4!$C$2:$C$8408,Sheet3!$B28,Sheet4!$D$2:$D$8408,Sheet3!CW$3,Sheet4!$A$2:$A$8408,Sheet3!$B$1,Sheet4!$B$2:$B$8408,Sheet3!$A$3)<3,0,SUMIFS(Sheet4!$DN$2:$DN$8408,Sheet4!$C$2:$C$8408,Sheet3!$B28,Sheet4!$D$2:$D$8408,Sheet3!CW$3,Sheet4!$A$2:$A$8408,Sheet3!$B$1,Sheet4!$B$2:$B$8408,Sheet3!$A$3))","v":93},{"$f":"+IF(SUMIFS(Sheet4!$DN$2:$DN$8408,Sheet4!$C$2:$C$8408,Sheet3!$B28,Sheet4!$D$2:$D$8408,Sheet3!CX$3,Sheet4!$A$2:$A$8408,Sheet3!$B$1,Sheet4!$B$2:$B$8408,Sheet3!$A$3)<3,0,SUMIFS(Sheet4!$DN$2:$DN$8408,Sheet4!$C$2:$C$8408,Sheet3!$B28,Sheet4!$D$2:$D$8408,Sheet3!CX$3,Sheet4!$A$2:$A$8408,Sheet3!$B$1,Sheet4!$B$2:$B$8408,Sheet3!$A$3))","v":0},{"$f":"+IF(SUMIFS(Sheet4!$DN$2:$DN$8408,Sheet4!$C$2:$C$8408,Sheet3!$B28,Sheet4!$D$2:$D$8408,Sheet3!CY$3,Sheet4!$A$2:$A$8408,Sheet3!$B$1,Sheet4!$B$2:$B$8408,Sheet3!$A$3)<3,0,SUMIFS(Sheet4!$DN$2:$DN$8408,Sheet4!$C$2:$C$8408,Sheet3!$B28,Sheet4!$D$2:$D$8408,Sheet3!CY$3,Sheet4!$A$2:$A$8408,Sheet3!$B$1,Sheet4!$B$2:$B$8408,Sheet3!$A$3))","v":19},{"$f":"+IF(SUMIFS(Sheet4!$DN$2:$DN$8408,Sheet4!$C$2:$C$8408,Sheet3!$B28,Sheet4!$D$2:$D$8408,Sheet3!CZ$3,Sheet4!$A$2:$A$8408,Sheet3!$B$1,Sheet4!$B$2:$B$8408,Sheet3!$A$3)<3,0,SUMIFS(Sheet4!$DN$2:$DN$8408,Sheet4!$C$2:$C$8408,Sheet3!$B28,Sheet4!$D$2:$D$8408,Sheet3!CZ$3,Sheet4!$A$2:$A$8408,Sheet3!$B$1,Sheet4!$B$2:$B$8408,Sheet3!$A$3))","v":162},{"$f":"+IF(SUMIFS(Sheet4!$DN$2:$DN$8408,Sheet4!$C$2:$C$8408,Sheet3!$B28,Sheet4!$D$2:$D$8408,Sheet3!DA$3,Sheet4!$A$2:$A$8408,Sheet3!$B$1,Sheet4!$B$2:$B$8408,Sheet3!$A$3)<3,0,SUMIFS(Sheet4!$DN$2:$DN$8408,Sheet4!$C$2:$C$8408,Sheet3!$B28,Sheet4!$D$2:$D$8408,Sheet3!DA$3,Sheet4!$A$2:$A$8408,Sheet3!$B$1,Sheet4!$B$2:$B$8408,Sheet3!$A$3))","v":93},{"$f":"+IF(SUMIFS(Sheet4!$DN$2:$DN$8408,Sheet4!$C$2:$C$8408,Sheet3!$B28,Sheet4!$D$2:$D$8408,Sheet3!DB$3,Sheet4!$A$2:$A$8408,Sheet3!$B$1,Sheet4!$B$2:$B$8408,Sheet3!$A$3)<3,0,SUMIFS(Sheet4!$DN$2:$DN$8408,Sheet4!$C$2:$C$8408,Sheet3!$B28,Sheet4!$D$2:$D$8408,Sheet3!DB$3,Sheet4!$A$2:$A$8408,Sheet3!$B$1,Sheet4!$B$2:$B$8408,Sheet3!$A$3))","v":147},{"$f":"+IF(SUMIFS(Sheet4!$DN$2:$DN$8408,Sheet4!$C$2:$C$8408,Sheet3!$B28,Sheet4!$D$2:$D$8408,Sheet3!DC$3,Sheet4!$A$2:$A$8408,Sheet3!$B$1,Sheet4!$B$2:$B$8408,Sheet3!$A$3)<3,0,SUMIFS(Sheet4!$DN$2:$DN$8408,Sheet4!$C$2:$C$8408,Sheet3!$B28,Sheet4!$D$2:$D$8408,Sheet3!DC$3,Sheet4!$A$2:$A$8408,Sheet3!$B$1,Sheet4!$B$2:$B$8408,Sheet3!$A$3))","v":1278},{"$f":"+IF(SUMIFS(Sheet4!$DN$2:$DN$8408,Sheet4!$C$2:$C$8408,Sheet3!$B28,Sheet4!$D$2:$D$8408,Sheet3!DD$3,Sheet4!$A$2:$A$8408,Sheet3!$B$1,Sheet4!$B$2:$B$8408,Sheet3!$A$3)<3,0,SUMIFS(Sheet4!$DN$2:$DN$8408,Sheet4!$C$2:$C$8408,Sheet3!$B28,Sheet4!$D$2:$D$8408,Sheet3!DD$3,Sheet4!$A$2:$A$8408,Sheet3!$B$1,Sheet4!$B$2:$B$8408,Sheet3!$A$3))","v":907},{"$f":"+IF(SUMIFS(Sheet4!$DN$2:$DN$8408,Sheet4!$C$2:$C$8408,Sheet3!$B28,Sheet4!$D$2:$D$8408,Sheet3!DE$3,Sheet4!$A$2:$A$8408,Sheet3!$B$1,Sheet4!$B$2:$B$8408,Sheet3!$A$3)<3,0,SUMIFS(Sheet4!$DN$2:$DN$8408,Sheet4!$C$2:$C$8408,Sheet3!$B28,Sheet4!$D$2:$D$8408,Sheet3!DE$3,Sheet4!$A$2:$A$8408,Sheet3!$B$1,Sheet4!$B$2:$B$8408,Sheet3!$A$3))","v":11},{"$f":"+IF(SUMIFS(Sheet4!$DN$2:$DN$8408,Sheet4!$C$2:$C$8408,Sheet3!$B28,Sheet4!$D$2:$D$8408,Sheet3!DF$3,Sheet4!$A$2:$A$8408,Sheet3!$B$1,Sheet4!$B$2:$B$8408,Sheet3!$A$3)<3,0,SUMIFS(Sheet4!$DN$2:$DN$8408,Sheet4!$C$2:$C$8408,Sheet3!$B28,Sheet4!$D$2:$D$8408,Sheet3!DF$3,Sheet4!$A$2:$A$8408,Sheet3!$B$1,Sheet4!$B$2:$B$8408,Sheet3!$A$3))","v":214},{"$f":"+IF(SUMIFS(Sheet4!$DN$2:$DN$8408,Sheet4!$C$2:$C$8408,Sheet3!$B28,Sheet4!$D$2:$D$8408,Sheet3!DG$3,Sheet4!$A$2:$A$8408,Sheet3!$B$1,Sheet4!$B$2:$B$8408,Sheet3!$A$3)<3,0,SUMIFS(Sheet4!$DN$2:$DN$8408,Sheet4!$C$2:$C$8408,Sheet3!$B28,Sheet4!$D$2:$D$8408,Sheet3!DG$3,Sheet4!$A$2:$A$8408,Sheet3!$B$1,Sheet4!$B$2:$B$8408,Sheet3!$A$3))","v":66},{"$f":"+IF(SUMIFS(Sheet4!$DN$2:$DN$8408,Sheet4!$C$2:$C$8408,Sheet3!$B28,Sheet4!$D$2:$D$8408,Sheet3!DH$3,Sheet4!$A$2:$A$8408,Sheet3!$B$1,Sheet4!$B$2:$B$8408,Sheet3!$A$3)<3,0,SUMIFS(Sheet4!$DN$2:$DN$8408,Sheet4!$C$2:$C$8408,Sheet3!$B28,Sheet4!$D$2:$D$8408,Sheet3!DH$3,Sheet4!$A$2:$A$8408,Sheet3!$B$1,Sheet4!$B$2:$B$8408,Sheet3!$A$3))","v":537},{"$f":"+IF(SUMIFS(Sheet4!$DN$2:$DN$8408,Sheet4!$C$2:$C$8408,Sheet3!$B28,Sheet4!$D$2:$D$8408,Sheet3!DI$3,Sheet4!$A$2:$A$8408,Sheet3!$B$1,Sheet4!$B$2:$B$8408,Sheet3!$A$3)<3,0,SUMIFS(Sheet4!$DN$2:$DN$8408,Sheet4!$C$2:$C$8408,Sheet3!$B28,Sheet4!$D$2:$D$8408,Sheet3!DI$3,Sheet4!$A$2:$A$8408,Sheet3!$B$1,Sheet4!$B$2:$B$8408,Sheet3!$A$3))","v":1325},{"$f":"+IF(SUMIFS(Sheet4!$DN$2:$DN$8408,Sheet4!$C$2:$C$8408,Sheet3!$B28,Sheet4!$D$2:$D$8408,Sheet3!DJ$3,Sheet4!$A$2:$A$8408,Sheet3!$B$1,Sheet4!$B$2:$B$8408,Sheet3!$A$3)<3,0,SUMIFS(Sheet4!$DN$2:$DN$8408,Sheet4!$C$2:$C$8408,Sheet3!$B28,Sheet4!$D$2:$D$8408,Sheet3!DJ$3,Sheet4!$A$2:$A$8408,Sheet3!$B$1,Sheet4!$B$2:$B$8408,Sheet3!$A$3))","v":495},{"$f":"+IF(SUMIFS(Sheet4!$DN$2:$DN$8408,Sheet4!$C$2:$C$8408,Sheet3!$B28,Sheet4!$D$2:$D$8408,Sheet3!DK$3,Sheet4!$A$2:$A$8408,Sheet3!$B$1,Sheet4!$B$2:$B$8408,Sheet3!$A$3)<3,0,SUMIFS(Sheet4!$DN$2:$DN$8408,Sheet4!$C$2:$C$8408,Sheet3!$B28,Sheet4!$D$2:$D$8408,Sheet3!DK$3,Sheet4!$A$2:$A$8408,Sheet3!$B$1,Sheet4!$B$2:$B$8408,Sheet3!$A$3))","v":466},{"$f":"+IF(SUMIFS(Sheet4!$DN$2:$DN$8408,Sheet4!$C$2:$C$8408,Sheet3!$B28,Sheet4!$D$2:$D$8408,Sheet3!DL$3,Sheet4!$A$2:$A$8408,Sheet3!$B$1,Sheet4!$B$2:$B$8408,Sheet3!$A$3)<3,0,SUMIFS(Sheet4!$DN$2:$DN$8408,Sheet4!$C$2:$C$8408,Sheet3!$B28,Sheet4!$D$2:$D$8408,Sheet3!DL$3,Sheet4!$A$2:$A$8408,Sheet3!$B$1,Sheet4!$B$2:$B$8408,Sheet3!$A$3))","v":15},{"$f":"+IF(SUMIFS(Sheet4!$DN$2:$DN$8408,Sheet4!$C$2:$C$8408,Sheet3!$B28,Sheet4!$D$2:$D$8408,Sheet3!DM$3,Sheet4!$A$2:$A$8408,Sheet3!$B$1,Sheet4!$B$2:$B$8408,Sheet3!$A$3)<3,0,SUMIFS(Sheet4!$DN$2:$DN$8408,Sheet4!$C$2:$C$8408,Sheet3!$B28,Sheet4!$D$2:$D$8408,Sheet3!DM$3,Sheet4!$A$2:$A$8408,Sheet3!$B$1,Sheet4!$B$2:$B$8408,Sheet3!$A$3))","v":0},{"$f":"+IF(SUMIFS(Sheet4!$DN$2:$DN$8408,Sheet4!$C$2:$C$8408,Sheet3!$B28,Sheet4!$E$2:$E$8408,Sheet3!DN$4,Sheet4!$A$2:$A$8408,Sheet3!$B$1,Sheet4!$B$2:$B$8408,Sheet3!$A$3)<3,0,SUMIFS(Sheet4!$DN$2:$DN$8408,Sheet4!$C$2:$C$8408,Sheet3!$B28,Sheet4!$E$2:$E$8408,Sheet3!DN$4,Sheet4!$A$2:$A$8408,Sheet3!$B$1,Sheet4!$B$2:$B$8408,Sheet3!$A$3))","v":2627},{"$f":"+IF(SUMIFS(Sheet4!$DN$2:$DN$8408,Sheet4!$C$2:$C$8408,Sheet3!$B28,Sheet4!$E$2:$E$8408,Sheet3!DO$4,Sheet4!$A$2:$A$8408,Sheet3!$B$1,Sheet4!$B$2:$B$8408,Sheet3!$A$3)<3,0,SUMIFS(Sheet4!$DN$2:$DN$8408,Sheet4!$C$2:$C$8408,Sheet3!$B28,Sheet4!$E$2:$E$8408,Sheet3!DO$4,Sheet4!$A$2:$A$8408,Sheet3!$B$1,Sheet4!$B$2:$B$8408,Sheet3!$A$3))","v":1685},{"$f":"+IF(SUMIFS(Sheet4!$DN$2:$DN$8408,Sheet4!$C$2:$C$8408,Sheet3!$B28,Sheet4!$E$2:$E$8408,Sheet3!DP$4,Sheet4!$A$2:$A$8408,Sheet3!$B$1,Sheet4!$B$2:$B$8408,Sheet3!$A$3)<3,0,SUMIFS(Sheet4!$DN$2:$DN$8408,Sheet4!$C$2:$C$8408,Sheet3!$B28,Sheet4!$E$2:$E$8408,Sheet3!DP$4,Sheet4!$A$2:$A$8408,Sheet3!$B$1,Sheet4!$B$2:$B$8408,Sheet3!$A$3))","v":944},{"$f":"+IF(SUMIFS(Sheet4!$DN$2:$DN$8408,Sheet4!$C$2:$C$8408,Sheet3!$B28,Sheet4!$E$2:$E$8408,Sheet3!DQ$4,Sheet4!$A$2:$A$8408,Sheet3!$B$1,Sheet4!$B$2:$B$8408,Sheet3!$A$3)<3,0,SUMIFS(Sheet4!$DN$2:$DN$8408,Sheet4!$C$2:$C$8408,Sheet3!$B28,Sheet4!$E$2:$E$8408,Sheet3!DQ$4,Sheet4!$A$2:$A$8408,Sheet3!$B$1,Sheet4!$B$2:$B$8408,Sheet3!$A$3))","v":539},{"$f":"+IF(SUMIFS(Sheet4!$DN$2:$DN$8408,Sheet4!$C$2:$C$8408,Sheet3!$B28,Sheet4!$E$2:$E$8408,Sheet3!DR$4,Sheet4!$A$2:$A$8408,Sheet3!$B$1,Sheet4!$B$2:$B$8408,Sheet3!$A$3)<3,0,SUMIFS(Sheet4!$DN$2:$DN$8408,Sheet4!$C$2:$C$8408,Sheet3!$B28,Sheet4!$E$2:$E$8408,Sheet3!DR$4,Sheet4!$A$2:$A$8408,Sheet3!$B$1,Sheet4!$B$2:$B$8408,Sheet3!$A$3))","v":63}]
[5,"187","Alentejo Central",{"$f":"+SUMIFS(Sheet4!$DM$2:$DM$8408,Sheet4!$C$2:$C$8408,Sheet3!$B29,Sheet4!$D$2:$D$8408,Sheet3!D$3,Sheet4!$E$2:$E$8408,Sheet3!D$4,Sheet4!$A$2:$A$8408,Sheet3!$B$1,Sheet4!$B$2:$B$8408,Sheet3!$A$3)","v":0},{"$f":"+SUMIFS(Sheet4!$DM$2:$DM$8408,Sheet4!$C$2:$C$8408,Sheet3!$B29,Sheet4!$D$2:$D$8408,Sheet3!E$3,Sheet4!$E$2:$E$8408,Sheet3!E$4,Sheet4!$A$2:$A$8408,Sheet3!$B$1,Sheet4!$B$2:$B$8408,Sheet3!$A$3)","v":3},{"$f":"+SUMIFS(Sheet4!$DM$2:$DM$8408,Sheet4!$C$2:$C$8408,Sheet3!$B29,Sheet4!$D$2:$D$8408,Sheet3!F$3,Sheet4!$E$2:$E$8408,Sheet3!F$4,Sheet4!$A$2:$A$8408,Sheet3!$B$1,Sheet4!$B$2:$B$8408,Sheet3!$A$3)","v":5},{"$f":"+SUMIFS(Sheet4!$DM$2:$DM$8408,Sheet4!$C$2:$C$8408,Sheet3!$B29,Sheet4!$D$2:$D$8408,Sheet3!G$3,Sheet4!$E$2:$E$8408,Sheet3!G$4,Sheet4!$A$2:$A$8408,Sheet3!$B$1,Sheet4!$B$2:$B$8408,Sheet3!$A$3)","v":4},{"$f":"+SUMIFS(Sheet4!$DM$2:$DM$8408,Sheet4!$C$2:$C$8408,Sheet3!$B29,Sheet4!$D$2:$D$8408,Sheet3!H$3,Sheet4!$E$2:$E$8408,Sheet3!H$4,Sheet4!$A$2:$A$8408,Sheet3!$B$1,Sheet4!$B$2:$B$8408,Sheet3!$A$3)","v":6},{"$f":"+SUMIFS(Sheet4!$DM$2:$DM$8408,Sheet4!$C$2:$C$8408,Sheet3!$B29,Sheet4!$D$2:$D$8408,Sheet3!I$3,Sheet4!$E$2:$E$8408,Sheet3!I$4,Sheet4!$A$2:$A$8408,Sheet3!$B$1,Sheet4!$B$2:$B$8408,Sheet3!$A$3)","v":0},{"$f":"+SUMIFS(Sheet4!$DM$2:$DM$8408,Sheet4!$C$2:$C$8408,Sheet3!$B29,Sheet4!$D$2:$D$8408,Sheet3!J$3,Sheet4!$E$2:$E$8408,Sheet3!J$4,Sheet4!$A$2:$A$8408,Sheet3!$B$1,Sheet4!$B$2:$B$8408,Sheet3!$A$3)","v":3},{"$f":"+SUMIFS(Sheet4!$DM$2:$DM$8408,Sheet4!$C$2:$C$8408,Sheet3!$B29,Sheet4!$D$2:$D$8408,Sheet3!K$3,Sheet4!$E$2:$E$8408,Sheet3!K$4,Sheet4!$A$2:$A$8408,Sheet3!$B$1,Sheet4!$B$2:$B$8408,Sheet3!$A$3)","v":4},{"$f":"+SUMIFS(Sheet4!$DM$2:$DM$8408,Sheet4!$C$2:$C$8408,Sheet3!$B29,Sheet4!$D$2:$D$8408,Sheet3!L$3,Sheet4!$E$2:$E$8408,Sheet3!L$4,Sheet4!$A$2:$A$8408,Sheet3!$B$1,Sheet4!$B$2:$B$8408,Sheet3!$A$3)","v":13},{"$f":"+SUMIFS(Sheet4!$DM$2:$DM$8408,Sheet4!$C$2:$C$8408,Sheet3!$B29,Sheet4!$D$2:$D$8408,Sheet3!M$3,Sheet4!$E$2:$E$8408,Sheet3!M$4,Sheet4!$A$2:$A$8408,Sheet3!$B$1,Sheet4!$B$2:$B$8408,Sheet3!$A$3)","v":0},{"$f":"+SUMIFS(Sheet4!$DM$2:$DM$8408,Sheet4!$C$2:$C$8408,Sheet3!$B29,Sheet4!$D$2:$D$8408,Sheet3!N$3,Sheet4!$E$2:$E$8408,Sheet3!N$4,Sheet4!$A$2:$A$8408,Sheet3!$B$1,Sheet4!$B$2:$B$8408,Sheet3!$A$3)","v":159},{"$f":"+SUMIFS(Sheet4!$DM$2:$DM$8408,Sheet4!$C$2:$C$8408,Sheet3!$B29,Sheet4!$D$2:$D$8408,Sheet3!O$3,Sheet4!$E$2:$E$8408,Sheet3!O$4,Sheet4!$A$2:$A$8408,Sheet3!$B$1,Sheet4!$B$2:$B$8408,Sheet3!$A$3)","v":41},{"$f":"+SUMIFS(Sheet4!$DM$2:$DM$8408,Sheet4!$C$2:$C$8408,Sheet3!$B29,Sheet4!$D$2:$D$8408,Sheet3!P$3,Sheet4!$E$2:$E$8408,Sheet3!P$4,Sheet4!$A$2:$A$8408,Sheet3!$B$1,Sheet4!$B$2:$B$8408,Sheet3!$A$3)","v":15},{"$f":"+SUMIFS(Sheet4!$DM$2:$DM$8408,Sheet4!$C$2:$C$8408,Sheet3!$B29,Sheet4!$D$2:$D$8408,Sheet3!Q$3,Sheet4!$E$2:$E$8408,Sheet3!Q$4,Sheet4!$A$2:$A$8408,Sheet3!$B$1,Sheet4!$B$2:$B$8408,Sheet3!$A$3)","v":13},{"$f":"+SUMIFS(Sheet4!$DM$2:$DM$8408,Sheet4!$C$2:$C$8408,Sheet3!$B29,Sheet4!$D$2:$D$8408,Sheet3!R$3,Sheet4!$E$2:$E$8408,Sheet3!R$4,Sheet4!$A$2:$A$8408,Sheet3!$B$1,Sheet4!$B$2:$B$8408,Sheet3!$A$3)","v":5},{"$f":"+SUMIFS(Sheet4!$DM$2:$DM$8408,Sheet4!$C$2:$C$8408,Sheet3!$B29,Sheet4!$D$2:$D$8408,Sheet3!S$3,Sheet4!$E$2:$E$8408,Sheet3!S$4,Sheet4!$A$2:$A$8408,Sheet3!$B$1,Sheet4!$B$2:$B$8408,Sheet3!$A$3)","v":0},{"$f":"+SUMIFS(Sheet4!$DM$2:$DM$8408,Sheet4!$C$2:$C$8408,Sheet3!$B29,Sheet4!$D$2:$D$8408,Sheet3!T$3,Sheet4!$E$2:$E$8408,Sheet3!T$4,Sheet4!$A$2:$A$8408,Sheet3!$B$1,Sheet4!$B$2:$B$8408,Sheet3!$A$3)","v":0},{"$f":"+SUMIFS(Sheet4!$DM$2:$DM$8408,Sheet4!$C$2:$C$8408,Sheet3!$B29,Sheet4!$D$2:$D$8408,Sheet3!U$3,Sheet4!$E$2:$E$8408,Sheet3!U$4,Sheet4!$A$2:$A$8408,Sheet3!$B$1,Sheet4!$B$2:$B$8408,Sheet3!$A$3)","v":3},{"$f":"+SUMIFS(Sheet4!$DM$2:$DM$8408,Sheet4!$C$2:$C$8408,Sheet3!$B29,Sheet4!$D$2:$D$8408,Sheet3!V$3,Sheet4!$E$2:$E$8408,Sheet3!V$4,Sheet4!$A$2:$A$8408,Sheet3!$B$1,Sheet4!$B$2:$B$8408,Sheet3!$A$3)","v":4},{"$f":"+SUMIFS(Sheet4!$DM$2:$DM$8408,Sheet4!$C$2:$C$8408,Sheet3!$B29,Sheet4!$D$2:$D$8408,Sheet3!W$3,Sheet4!$E$2:$E$8408,Sheet3!W$4,Sheet4!$A$2:$A$8408,Sheet3!$B$1,Sheet4!$B$2:$B$8408,Sheet3!$A$3)","v":0},{"$f":"+SUMIFS(Sheet4!$DM$2:$DM$8408,Sheet4!$C$2:$C$8408,Sheet3!$B29,Sheet4!$D$2:$D$8408,Sheet3!X$3,Sheet4!$E$2:$E$8408,Sheet3!X$4,Sheet4!$A$2:$A$8408,Sheet3!$B$1,Sheet4!$B$2:$B$8408,Sheet3!$A$3)","v":0},{"$f":"+SUMIFS(Sheet4!$DM$2:$DM$8408,Sheet4!$C$2:$C$8408,Sheet3!$B29,Sheet4!$D$2:$D$8408,Sheet3!Y$3,Sheet4!$E$2:$E$8408,Sheet3!Y$4,Sheet4!$A$2:$A$8408,Sheet3!$B$1,Sheet4!$B$2:$B$8408,Sheet3!$A$3)","v":3},{"$f":"+SUMIFS(Sheet4!$DM$2:$DM$8408,Sheet4!$C$2:$C$8408,Sheet3!$B29,Sheet4!$D$2:$D$8408,Sheet3!Z$3,Sheet4!$E$2:$E$8408,Sheet3!Z$4,Sheet4!$A$2:$A$8408,Sheet3!$B$1,Sheet4!$B$2:$B$8408,Sheet3!$A$3)","v":9},{"$f":"+SUMIFS(Sheet4!$DM$2:$DM$8408,Sheet4!$C$2:$C$8408,Sheet3!$B29,Sheet4!$D$2:$D$8408,Sheet3!AA$3,Sheet4!$E$2:$E$8408,Sheet3!AA$4,Sheet4!$A$2:$A$8408,Sheet3!$B$1,Sheet4!$B$2:$B$8408,Sheet3!$A$3)","v":23},{"$f":"+SUMIFS(Sheet4!$DM$2:$DM$8408,Sheet4!$C$2:$C$8408,Sheet3!$B29,Sheet4!$D$2:$D$8408,Sheet3!AB$3,Sheet4!$E$2:$E$8408,Sheet3!AB$4,Sheet4!$A$2:$A$8408,Sheet3!$B$1,Sheet4!$B$2:$B$8408,Sheet3!$A$3)","v":0},{"$f":"+SUMIFS(Sheet4!$DM$2:$DM$8408,Sheet4!$C$2:$C$8408,Sheet3!$B29,Sheet4!$D$2:$D$8408,Sheet3!AC$3,Sheet4!$E$2:$E$8408,Sheet3!AC$4,Sheet4!$A$2:$A$8408,Sheet3!$B$1,Sheet4!$B$2:$B$8408,Sheet3!$A$3)","v":30},{"$f":"+SUMIFS(Sheet4!$DM$2:$DM$8408,Sheet4!$C$2:$C$8408,Sheet3!$B29,Sheet4!$D$2:$D$8408,Sheet3!AD$3,Sheet4!$E$2:$E$8408,Sheet3!AD$4,Sheet4!$A$2:$A$8408,Sheet3!$B$1,Sheet4!$B$2:$B$8408,Sheet3!$A$3)","v":37},{"$f":"+SUMIFS(Sheet4!$DM$2:$DM$8408,Sheet4!$C$2:$C$8408,Sheet3!$B29,Sheet4!$D$2:$D$8408,Sheet3!AE$3,Sheet4!$E$2:$E$8408,Sheet3!AE$4,Sheet4!$A$2:$A$8408,Sheet3!$B$1,Sheet4!$B$2:$B$8408,Sheet3!$A$3)","v":32},{"$f":"+SUMIFS(Sheet4!$DM$2:$DM$8408,Sheet4!$C$2:$C$8408,Sheet3!$B29,Sheet4!$D$2:$D$8408,Sheet3!AF$3,Sheet4!$E$2:$E$8408,Sheet3!AF$4,Sheet4!$A$2:$A$8408,Sheet3!$B$1,Sheet4!$B$2:$B$8408,Sheet3!$A$3)","v":62},{"$f":"+SUMIFS(Sheet4!$DM$2:$DM$8408,Sheet4!$C$2:$C$8408,Sheet3!$B29,Sheet4!$D$2:$D$8408,Sheet3!AG$3,Sheet4!$E$2:$E$8408,Sheet3!AG$4,Sheet4!$A$2:$A$8408,Sheet3!$B$1,Sheet4!$B$2:$B$8408,Sheet3!$A$3)","v":10},{"$f":"+SUMIFS(Sheet4!$DM$2:$DM$8408,Sheet4!$C$2:$C$8408,Sheet3!$B29,Sheet4!$D$2:$D$8408,Sheet3!AH$3,Sheet4!$E$2:$E$8408,Sheet3!AH$4,Sheet4!$A$2:$A$8408,Sheet3!$B$1,Sheet4!$B$2:$B$8408,Sheet3!$A$3)","v":65},{"$f":"+SUMIFS(Sheet4!$DM$2:$DM$8408,Sheet4!$C$2:$C$8408,Sheet3!$B29,Sheet4!$D$2:$D$8408,Sheet3!AI$3,Sheet4!$E$2:$E$8408,Sheet3!AI$4,Sheet4!$A$2:$A$8408,Sheet3!$B$1,Sheet4!$B$2:$B$8408,Sheet3!$A$3)","v":316},{"$f":"+SUMIFS(Sheet4!$DM$2:$DM$8408,Sheet4!$C$2:$C$8408,Sheet3!$B29,Sheet4!$D$2:$D$8408,Sheet3!AJ$3,Sheet4!$E$2:$E$8408,Sheet3!AJ$4,Sheet4!$A$2:$A$8408,Sheet3!$B$1,Sheet4!$B$2:$B$8408,Sheet3!$A$3)","v":196},{"$f":"+SUMIFS(Sheet4!$DM$2:$DM$8408,Sheet4!$C$2:$C$8408,Sheet3!$B29,Sheet4!$D$2:$D$8408,Sheet3!AK$3,Sheet4!$E$2:$E$8408,Sheet3!AK$4,Sheet4!$A$2:$A$8408,Sheet3!$B$1,Sheet4!$B$2:$B$8408,Sheet3!$A$3)","v":62},{"$f":"+SUMIFS(Sheet4!$DM$2:$DM$8408,Sheet4!$C$2:$C$8408,Sheet3!$B29,Sheet4!$D$2:$D$8408,Sheet3!AL$3,Sheet4!$E$2:$E$8408,Sheet3!AL$4,Sheet4!$A$2:$A$8408,Sheet3!$B$1,Sheet4!$B$2:$B$8408,Sheet3!$A$3)","v":5},{"$f":"+SUMIFS(Sheet4!$DM$2:$DM$8408,Sheet4!$C$2:$C$8408,Sheet3!$B29,Sheet4!$D$2:$D$8408,Sheet3!AM$3,Sheet4!$E$2:$E$8408,Sheet3!AM$4,Sheet4!$A$2:$A$8408,Sheet3!$B$1,Sheet4!$B$2:$B$8408,Sheet3!$A$3)","v":42},{"$f":"+SUMIFS(Sheet4!$DM$2:$DM$8408,Sheet4!$C$2:$C$8408,Sheet3!$B29,Sheet4!$D$2:$D$8408,Sheet3!AN$3,Sheet4!$E$2:$E$8408,Sheet3!AN$4,Sheet4!$A$2:$A$8408,Sheet3!$B$1,Sheet4!$B$2:$B$8408,Sheet3!$A$3)","v":55},{"$f":"+SUMIFS(Sheet4!$DM$2:$DM$8408,Sheet4!$C$2:$C$8408,Sheet3!$B29,Sheet4!$D$2:$D$8408,Sheet3!AO$3,Sheet4!$E$2:$E$8408,Sheet3!AO$4,Sheet4!$A$2:$A$8408,Sheet3!$B$1,Sheet4!$B$2:$B$8408,Sheet3!$A$3)","v":68},{"$f":"+SUMIFS(Sheet4!$DM$2:$DM$8408,Sheet4!$C$2:$C$8408,Sheet3!$B29,Sheet4!$D$2:$D$8408,Sheet3!AP$3,Sheet4!$E$2:$E$8408,Sheet3!AP$4,Sheet4!$A$2:$A$8408,Sheet3!$B$1,Sheet4!$B$2:$B$8408,Sheet3!$A$3)","v":47},{"$f":"+SUMIFS(Sheet4!$DM$2:$DM$8408,Sheet4!$C$2:$C$8408,Sheet3!$B29,Sheet4!$D$2:$D$8408,Sheet3!AQ$3,Sheet4!$E$2:$E$8408,Sheet3!AQ$4,Sheet4!$A$2:$A$8408,Sheet3!$B$1,Sheet4!$B$2:$B$8408,Sheet3!$A$3)","v":11},{"$f":"+SUMIFS(Sheet4!$DM$2:$DM$8408,Sheet4!$C$2:$C$8408,Sheet3!$B29,Sheet4!$D$2:$D$8408,Sheet3!AR$3,Sheet4!$E$2:$E$8408,Sheet3!AR$4,Sheet4!$A$2:$A$8408,Sheet3!$B$1,Sheet4!$B$2:$B$8408,Sheet3!$A$3)","v":809},{"$f":"+SUMIFS(Sheet4!$DM$2:$DM$8408,Sheet4!$C$2:$C$8408,Sheet3!$B29,Sheet4!$D$2:$D$8408,Sheet3!AS$3,Sheet4!$E$2:$E$8408,Sheet3!AS$4,Sheet4!$A$2:$A$8408,Sheet3!$B$1,Sheet4!$B$2:$B$8408,Sheet3!$A$3)","v":67},{"$f":"+SUMIFS(Sheet4!$DM$2:$DM$8408,Sheet4!$C$2:$C$8408,Sheet3!$B29,Sheet4!$D$2:$D$8408,Sheet3!AT$3,Sheet4!$E$2:$E$8408,Sheet3!AT$4,Sheet4!$A$2:$A$8408,Sheet3!$B$1,Sheet4!$B$2:$B$8408,Sheet3!$A$3)","v":31},{"$f":"+SUMIFS(Sheet4!$DM$2:$DM$8408,Sheet4!$C$2:$C$8408,Sheet3!$B29,Sheet4!$D$2:$D$8408,Sheet3!AU$3,Sheet4!$E$2:$E$8408,Sheet3!AU$4,Sheet4!$A$2:$A$8408,Sheet3!$B$1,Sheet4!$B$2:$B$8408,Sheet3!$A$3)","v":29},{"$f":"+SUMIFS(Sheet4!$DM$2:$DM$8408,Sheet4!$C$2:$C$8408,Sheet3!$B29,Sheet4!$D$2:$D$8408,Sheet3!AV$3,Sheet4!$E$2:$E$8408,Sheet3!AV$4,Sheet4!$A$2:$A$8408,Sheet3!$B$1,Sheet4!$B$2:$B$8408,Sheet3!$A$3)","v":0},{"$f":"+SUMIFS(Sheet4!$DM$2:$DM$8408,Sheet4!$C$2:$C$8408,Sheet3!$B29,Sheet4!$D$2:$D$8408,Sheet3!AW$3,Sheet4!$E$2:$E$8408,Sheet3!AW$4,Sheet4!$A$2:$A$8408,Sheet3!$B$1,Sheet4!$B$2:$B$8408,Sheet3!$A$3)","v":464},{"$f":"+SUMIFS(Sheet4!$DM$2:$DM$8408,Sheet4!$C$2:$C$8408,Sheet3!$B29,Sheet4!$D$2:$D$8408,Sheet3!AX$3,Sheet4!$E$2:$E$8408,Sheet3!AX$4,Sheet4!$A$2:$A$8408,Sheet3!$B$1,Sheet4!$B$2:$B$8408,Sheet3!$A$3)","v":221},{"$f":"+SUMIFS(Sheet4!$DM$2:$DM$8408,Sheet4!$C$2:$C$8408,Sheet3!$B29,Sheet4!$D$2:$D$8408,Sheet3!AY$3,Sheet4!$E$2:$E$8408,Sheet3!AY$4,Sheet4!$A$2:$A$8408,Sheet3!$B$1,Sheet4!$B$2:$B$8408,Sheet3!$A$3)","v":67},{"$f":"+SUMIFS(Sheet4!$DM$2:$DM$8408,Sheet4!$C$2:$C$8408,Sheet3!$B29,Sheet4!$D$2:$D$8408,Sheet3!AZ$3,Sheet4!$E$2:$E$8408,Sheet3!AZ$4,Sheet4!$A$2:$A$8408,Sheet3!$B$1,Sheet4!$B$2:$B$8408,Sheet3!$A$3)","v":33},{"$f":"+SUMIFS(Sheet4!$DM$2:$DM$8408,Sheet4!$C$2:$C$8408,Sheet3!$B29,Sheet4!$D$2:$D$8408,Sheet3!BA$3,Sheet4!$E$2:$E$8408,Sheet3!BA$4,Sheet4!$A$2:$A$8408,Sheet3!$B$1,Sheet4!$B$2:$B$8408,Sheet3!$A$3)","v":7},{"$f":"+SUMIFS(Sheet4!$DM$2:$DM$8408,Sheet4!$C$2:$C$8408,Sheet3!$B29,Sheet4!$D$2:$D$8408,Sheet3!BB$3,Sheet4!$E$2:$E$8408,Sheet3!BB$4,Sheet4!$A$2:$A$8408,Sheet3!$B$1,Sheet4!$B$2:$B$8408,Sheet3!$A$3)","v":0},{"$f":"+SUMIFS(Sheet4!$DM$2:$DM$8408,Sheet4!$C$2:$C$8408,Sheet3!$B29,Sheet4!$D$2:$D$8408,Sheet3!BC$3,Sheet4!$E$2:$E$8408,Sheet3!BC$4,Sheet4!$A$2:$A$8408,Sheet3!$B$1,Sheet4!$B$2:$B$8408,Sheet3!$A$3)","v":0},{"$f":"+SUMIFS(Sheet4!$DM$2:$DM$8408,Sheet4!$C$2:$C$8408,Sheet3!$B29,Sheet4!$D$2:$D$8408,Sheet3!BD$3,Sheet4!$E$2:$E$8408,Sheet3!BD$4,Sheet4!$A$2:$A$8408,Sheet3!$B$1,Sheet4!$B$2:$B$8408,Sheet3!$A$3)","v":0},{"$f":"+SUMIFS(Sheet4!$DM$2:$DM$8408,Sheet4!$C$2:$C$8408,Sheet3!$B29,Sheet4!$D$2:$D$8408,Sheet3!BE$3,Sheet4!$E$2:$E$8408,Sheet3!BE$4,Sheet4!$A$2:$A$8408,Sheet3!$B$1,Sheet4!$B$2:$B$8408,Sheet3!$A$3)","v":6},{"$f":"+SUMIFS(Sheet4!$DM$2:$DM$8408,Sheet4!$C$2:$C$8408,Sheet3!$B29,Sheet4!$D$2:$D$8408,Sheet3!BF$3,Sheet4!$E$2:$E$8408,Sheet3!BF$4,Sheet4!$A$2:$A$8408,Sheet3!$B$1,Sheet4!$B$2:$B$8408,Sheet3!$A$3)","v":12},{"$f":"+SUMIFS(Sheet4!$DM$2:$DM$8408,Sheet4!$C$2:$C$8408,Sheet3!$B29,Sheet4!$D$2:$D$8408,Sheet3!BG$3,Sheet4!$E$2:$E$8408,Sheet3!BG$4,Sheet4!$A$2:$A$8408,Sheet3!$B$1,Sheet4!$B$2:$B$8408,Sheet3!$A$3)","v":0},{"$f":"+SUMIFS(Sheet4!$DM$2:$DM$8408,Sheet4!$C$2:$C$8408,Sheet3!$B29,Sheet4!$D$2:$D$8408,Sheet3!BH$3,Sheet4!$E$2:$E$8408,Sheet3!BH$4,Sheet4!$A$2:$A$8408,Sheet3!$B$1,Sheet4!$B$2:$B$8408,Sheet3!$A$3)","v":32},{"$f":"+SUMIFS(Sheet4!$DM$2:$DM$8408,Sheet4!$C$2:$C$8408,Sheet3!$B29,Sheet4!$D$2:$D$8408,Sheet3!BI$3,Sheet4!$E$2:$E$8408,Sheet3!BI$4,Sheet4!$A$2:$A$8408,Sheet3!$B$1,Sheet4!$B$2:$B$8408,Sheet3!$A$3)","v":90},{"$f":"+SUMIFS(Sheet4!$DM$2:$DM$8408,Sheet4!$C$2:$C$8408,Sheet3!$B29,Sheet4!$D$2:$D$8408,Sheet3!BJ$3,Sheet4!$E$2:$E$8408,Sheet3!BJ$4,Sheet4!$A$2:$A$8408,Sheet3!$B$1,Sheet4!$B$2:$B$8408,Sheet3!$A$3)","v":65},{"$f":"+SUMIFS(Sheet4!$DM$2:$DM$8408,Sheet4!$C$2:$C$8408,Sheet3!$B29,Sheet4!$D$2:$D$8408,Sheet3!BK$3,Sheet4!$E$2:$E$8408,Sheet3!BK$4,Sheet4!$A$2:$A$8408,Sheet3!$B$1,Sheet4!$B$2:$B$8408,Sheet3!$A$3)","v":6},{"$f":"+SUMIFS(Sheet4!$DM$2:$DM$8408,Sheet4!$C$2:$C$8408,Sheet3!$B29,Sheet4!$D$2:$D$8408,Sheet3!BL$3,Sheet4!$E$2:$E$8408,Sheet3!BL$4,Sheet4!$A$2:$A$8408,Sheet3!$B$1,Sheet4!$B$2:$B$8408,Sheet3!$A$3)","v":18},{"$f":"+SUMIFS(Sheet4!$DM$2:$DM$8408,Sheet4!$C$2:$C$8408,Sheet3!$B29,Sheet4!$D$2:$D$8408,Sheet3!BM$3,Sheet4!$E$2:$E$8408,Sheet3!BM$4,Sheet4!$A$2:$A$8408,Sheet3!$B$1,Sheet4!$B$2:$B$8408,Sheet3!$A$3)","v":58},{"$f":"+SUMIFS(Sheet4!$DM$2:$DM$8408,Sheet4!$C$2:$C$8408,Sheet3!$B29,Sheet4!$D$2:$D$8408,Sheet3!BN$3,Sheet4!$E$2:$E$8408,Sheet3!BN$4,Sheet4!$A$2:$A$8408,Sheet3!$B$1,Sheet4!$B$2:$B$8408,Sheet3!$A$3)","v":41},{"$f":"+SUMIFS(Sheet4!$DM$2:$DM$8408,Sheet4!$C$2:$C$8408,Sheet3!$B29,Sheet4!$D$2:$D$8408,Sheet3!BO$3,Sheet4!$E$2:$E$8408,Sheet3!BO$4,Sheet4!$A$2:$A$8408,Sheet3!$B$1,Sheet4!$B$2:$B$8408,Sheet3!$A$3)","v":17},{"$f":"+SUMIFS(Sheet4!$DM$2:$DM$8408,Sheet4!$C$2:$C$8408,Sheet3!$B29,Sheet4!$D$2:$D$8408,Sheet3!BP$3,Sheet4!$E$2:$E$8408,Sheet3!BP$4,Sheet4!$A$2:$A$8408,Sheet3!$B$1,Sheet4!$B$2:$B$8408,Sheet3!$A$3)","v":8},{"$f":"+SUMIFS(Sheet4!$DM$2:$DM$8408,Sheet4!$C$2:$C$8408,Sheet3!$B29,Sheet4!$D$2:$D$8408,Sheet3!BQ$3,Sheet4!$E$2:$E$8408,Sheet3!BQ$4,Sheet4!$A$2:$A$8408,Sheet3!$B$1,Sheet4!$B$2:$B$8408,Sheet3!$A$3)","v":0},{"$f":"+SUMIFS(Sheet4!$DM$2:$DM$8408,Sheet4!$C$2:$C$8408,Sheet3!$B29,Sheet4!$D$2:$D$8408,Sheet3!BR$3,Sheet4!$E$2:$E$8408,Sheet3!BR$4,Sheet4!$A$2:$A$8408,Sheet3!$B$1,Sheet4!$B$2:$B$8408,Sheet3!$A$3)","v":70},{"$f":"+SUMIFS(Sheet4!$DM$2:$DM$8408,Sheet4!$C$2:$C$8408,Sheet3!$B29,Sheet4!$D$2:$D$8408,Sheet3!BS$3,Sheet4!$E$2:$E$8408,Sheet3!BS$4,Sheet4!$A$2:$A$8408,Sheet3!$B$1,Sheet4!$B$2:$B$8408,Sheet3!$A$3)","v":286},{"$f":"+SUMIFS(Sheet4!$DM$2:$DM$8408,Sheet4!$C$2:$C$8408,Sheet3!$B29,Sheet4!$D$2:$D$8408,Sheet3!BT$3,Sheet4!$E$2:$E$8408,Sheet3!BT$4,Sheet4!$A$2:$A$8408,Sheet3!$B$1,Sheet4!$B$2:$B$8408,Sheet3!$A$3)","v":218},{"$f":"+SUMIFS(Sheet4!$DM$2:$DM$8408,Sheet4!$C$2:$C$8408,Sheet3!$B29,Sheet4!$D$2:$D$8408,Sheet3!BU$3,Sheet4!$E$2:$E$8408,Sheet3!BU$4,Sheet4!$A$2:$A$8408,Sheet3!$B$1,Sheet4!$B$2:$B$8408,Sheet3!$A$3)","v":9},{"$f":"+SUMIFS(Sheet4!$DM$2:$DM$8408,Sheet4!$C$2:$C$8408,Sheet3!$B29,Sheet4!$D$2:$D$8408,Sheet3!BV$3,Sheet4!$E$2:$E$8408,Sheet3!BV$4,Sheet4!$A$2:$A$8408,Sheet3!$B$1,Sheet4!$B$2:$B$8408,Sheet3!$A$3)","v":471},{"$f":"+SUMIFS(Sheet4!$DM$2:$DM$8408,Sheet4!$C$2:$C$8408,Sheet3!$B29,Sheet4!$D$2:$D$8408,Sheet3!BW$3,Sheet4!$E$2:$E$8408,Sheet3!BW$4,Sheet4!$A$2:$A$8408,Sheet3!$B$1,Sheet4!$B$2:$B$8408,Sheet3!$A$3)","v":621},{"$f":"+SUMIFS(Sheet4!$DM$2:$DM$8408,Sheet4!$C$2:$C$8408,Sheet3!$B29,Sheet4!$D$2:$D$8408,Sheet3!BX$3,Sheet4!$E$2:$E$8408,Sheet3!BX$4,Sheet4!$A$2:$A$8408,Sheet3!$B$1,Sheet4!$B$2:$B$8408,Sheet3!$A$3)","v":216},{"$f":"+SUMIFS(Sheet4!$DM$2:$DM$8408,Sheet4!$C$2:$C$8408,Sheet3!$B29,Sheet4!$D$2:$D$8408,Sheet3!BY$3,Sheet4!$E$2:$E$8408,Sheet3!BY$4,Sheet4!$A$2:$A$8408,Sheet3!$B$1,Sheet4!$B$2:$B$8408,Sheet3!$A$3)","v":69},{"$f":"+SUMIFS(Sheet4!$DM$2:$DM$8408,Sheet4!$C$2:$C$8408,Sheet3!$B29,Sheet4!$D$2:$D$8408,Sheet3!BZ$3,Sheet4!$E$2:$E$8408,Sheet3!BZ$4,Sheet4!$A$2:$A$8408,Sheet3!$B$1,Sheet4!$B$2:$B$8408,Sheet3!$A$3)","v":4},{"$f":"+SUMIFS(Sheet4!$DM$2:$DM$8408,Sheet4!$C$2:$C$8408,Sheet3!$B29,Sheet4!$D$2:$D$8408,Sheet3!CA$3,Sheet4!$E$2:$E$8408,Sheet3!CA$4,Sheet4!$A$2:$A$8408,Sheet3!$B$1,Sheet4!$B$2:$B$8408,Sheet3!$A$3)","v":121},{"$f":"+SUMIFS(Sheet4!$DM$2:$DM$8408,Sheet4!$C$2:$C$8408,Sheet3!$B29,Sheet4!$D$2:$D$8408,Sheet3!CB$3,Sheet4!$E$2:$E$8408,Sheet3!CB$4,Sheet4!$A$2:$A$8408,Sheet3!$B$1,Sheet4!$B$2:$B$8408,Sheet3!$A$3)","v":143},{"$f":"+SUMIFS(Sheet4!$DM$2:$DM$8408,Sheet4!$C$2:$C$8408,Sheet3!$B29,Sheet4!$D$2:$D$8408,Sheet3!CC$3,Sheet4!$E$2:$E$8408,Sheet3!CC$4,Sheet4!$A$2:$A$8408,Sheet3!$B$1,Sheet4!$B$2:$B$8408,Sheet3!$A$3)","v":88},{"$f":"+SUMIFS(Sheet4!$DM$2:$DM$8408,Sheet4!$C$2:$C$8408,Sheet3!$B29,Sheet4!$D$2:$D$8408,Sheet3!CD$3,Sheet4!$E$2:$E$8408,Sheet3!CD$4,Sheet4!$A$2:$A$8408,Sheet3!$B$1,Sheet4!$B$2:$B$8408,Sheet3!$A$3)","v":136},{"$f":"+SUMIFS(Sheet4!$DM$2:$DM$8408,Sheet4!$C$2:$C$8408,Sheet3!$B29,Sheet4!$D$2:$D$8408,Sheet3!CE$3,Sheet4!$E$2:$E$8408,Sheet3!CE$4,Sheet4!$A$2:$A$8408,Sheet3!$B$1,Sheet4!$B$2:$B$8408,Sheet3!$A$3)","v":23},{"$f":"+SUMIFS(Sheet4!$DM$2:$DM$8408,Sheet4!$C$2:$C$8408,Sheet3!$B29,Sheet4!$D$2:$D$8408,Sheet3!CF$3,Sheet4!$E$2:$E$8408,Sheet3!CF$4,Sheet4!$A$2:$A$8408,Sheet3!$B$1,Sheet4!$B$2:$B$8408,Sheet3!$A$3)","v":417},{"$f":"+SUMIFS(Sheet4!$DM$2:$DM$8408,Sheet4!$C$2:$C$8408,Sheet3!$B29,Sheet4!$D$2:$D$8408,Sheet3!CG$3,Sheet4!$E$2:$E$8408,Sheet3!CG$4,Sheet4!$A$2:$A$8408,Sheet3!$B$1,Sheet4!$B$2:$B$8408,Sheet3!$A$3)","v":241},{"$f":"+SUMIFS(Sheet4!$DM$2:$DM$8408,Sheet4!$C$2:$C$8408,Sheet3!$B29,Sheet4!$D$2:$D$8408,Sheet3!CH$3,Sheet4!$E$2:$E$8408,Sheet3!CH$4,Sheet4!$A$2:$A$8408,Sheet3!$B$1,Sheet4!$B$2:$B$8408,Sheet3!$A$3)","v":66},{"$f":"+SUMIFS(Sheet4!$DM$2:$DM$8408,Sheet4!$C$2:$C$8408,Sheet3!$B29,Sheet4!$D$2:$D$8408,Sheet3!CI$3,Sheet4!$E$2:$E$8408,Sheet3!CI$4,Sheet4!$A$2:$A$8408,Sheet3!$B$1,Sheet4!$B$2:$B$8408,Sheet3!$A$3)","v":5},{"$f":"+SUMIFS(Sheet4!$DM$2:$DM$8408,Sheet4!$C$2:$C$8408,Sheet3!$B29,Sheet4!$D$2:$D$8408,Sheet3!CJ$3,Sheet4!$E$2:$E$8408,Sheet3!CJ$4,Sheet4!$A$2:$A$8408,Sheet3!$B$1,Sheet4!$B$2:$B$8408,Sheet3!$A$3)","v":0},{"$f":"+SUMIFS(Sheet4!$DM$2:$DM$8408,Sheet4!$C$2:$C$8408,Sheet3!$B29,Sheet4!$D$2:$D$8408,Sheet3!CK$3,Sheet4!$E$2:$E$8408,Sheet3!CK$4,Sheet4!$A$2:$A$8408,Sheet3!$B$1,Sheet4!$B$2:$B$8408,Sheet3!$A$3)","v":0},{"$f":"+SUMIFS(Sheet4!$DM$2:$DM$8408,Sheet4!$C$2:$C$8408,Sheet3!$B29,Sheet4!$D$2:$D$8408,Sheet3!CL$3,Sheet4!$E$2:$E$8408,Sheet3!CL$4,Sheet4!$A$2:$A$8408,Sheet3!$B$1,Sheet4!$B$2:$B$8408,Sheet3!$A$3)","v":0},{"$f":"+SUMIFS(Sheet4!$DM$2:$DM$8408,Sheet4!$C$2:$C$8408,Sheet3!$B29,Sheet4!$D$2:$D$8408,Sheet3!CM$3,Sheet4!$E$2:$E$8408,Sheet3!CM$4,Sheet4!$A$2:$A$8408,Sheet3!$B$1,Sheet4!$B$2:$B$8408,Sheet3!$A$3)","v":0},{"$f":"+SUMIFS(Sheet4!$DM$2:$DM$8408,Sheet4!$C$2:$C$8408,Sheet3!$B29,Sheet4!$D$2:$D$8408,Sheet3!CN$3,Sheet4!$E$2:$E$8408,Sheet3!CN$4,Sheet4!$A$2:$A$8408,Sheet3!$B$1,Sheet4!$B$2:$B$8408,Sheet3!$A$3)","v":5},{"$f":"+SUMIFS(Sheet4!$DM$2:$DM$8408,Sheet4!$C$2:$C$8408,Sheet3!$B29,Sheet4!$D$2:$D$8408,Sheet3!CO$3,Sheet4!$E$2:$E$8408,Sheet3!CO$4,Sheet4!$A$2:$A$8408,Sheet3!$B$1,Sheet4!$B$2:$B$8408,Sheet3!$A$3)","v":5},{"$f":"+SUMIFS(Sheet4!$DM$2:$DM$8408,Sheet4!$C$2:$C$8408,Sheet3!$B29,Sheet4!$D$2:$D$8408,Sheet3!CP$3,Sheet4!$E$2:$E$8408,Sheet3!CP$4,Sheet4!$A$2:$A$8408,Sheet3!$B$1,Sheet4!$B$2:$B$8408,Sheet3!$A$3)","v":0},{"$f":"+SUMIFS(Sheet4!$DM$2:$DM$8408,Sheet4!$C$2:$C$8408,Sheet3!$B29,Sheet4!$D$2:$D$8408,Sheet3!CQ$3,Sheet4!$E$2:$E$8408,Sheet3!CQ$4,Sheet4!$A$2:$A$8408,Sheet3!$B$1,Sheet4!$B$2:$B$8408,Sheet3!$A$3)","v":0},{"$f":"+SUMIFS(Sheet4!$DM$2:$DM$8408,Sheet4!$C$2:$C$8408,Sheet3!$B29,Sheet4!$D$2:$D$8408,Sheet3!CR$3,Sheet4!$E$2:$E$8408,Sheet3!CR$4,Sheet4!$A$2:$A$8408,Sheet3!$B$1,Sheet4!$B$2:$B$8408,Sheet3!$A$3)","v":0},{"$f":"+SUMIFS(Sheet4!$DM$2:$DM$8408,Sheet4!$C$2:$C$8408,Sheet3!$B29,Sheet4!$D$2:$D$8408,Sheet3!CS$3,Sheet4!$E$2:$E$8408,Sheet3!CS$4,Sheet4!$A$2:$A$8408,Sheet3!$B$1,Sheet4!$B$2:$B$8408,Sheet3!$A$3)","v":0},{"$f":"+SUMIFS(Sheet4!$DM$2:$DM$8408,Sheet4!$C$2:$C$8408,Sheet3!$B29,Sheet4!$D$2:$D$8408,Sheet3!CT$3,Sheet4!$E$2:$E$8408,Sheet3!CT$4,Sheet4!$A$2:$A$8408,Sheet3!$B$1,Sheet4!$B$2:$B$8408,Sheet3!$A$3)","v":0},{"$f":"+IF(SUMIFS(Sheet4!$DN$2:$DN$8408,Sheet4!$C$2:$C$8408,Sheet3!$B29,Sheet4!$D$2:$D$8408,Sheet3!CU$3,Sheet4!$A$2:$A$8408,Sheet3!$B$1,Sheet4!$B$2:$B$8408,Sheet3!$A$3)<3,0,SUMIFS(Sheet4!$DN$2:$DN$8408,Sheet4!$C$2:$C$8408,Sheet3!$B29,Sheet4!$D$2:$D$8408,Sheet3!CU$3,Sheet4!$A$2:$A$8408,Sheet3!$B$1,Sheet4!$B$2:$B$8408,Sheet3!$A$3))","v":21},{"$f":"+IF(SUMIFS(Sheet4!$DN$2:$DN$8408,Sheet4!$C$2:$C$8408,Sheet3!$B29,Sheet4!$D$2:$D$8408,Sheet3!CV$3,Sheet4!$A$2:$A$8408,Sheet3!$B$1,Sheet4!$B$2:$B$8408,Sheet3!$A$3)<3,0,SUMIFS(Sheet4!$DN$2:$DN$8408,Sheet4!$C$2:$C$8408,Sheet3!$B29,Sheet4!$D$2:$D$8408,Sheet3!CV$3,Sheet4!$A$2:$A$8408,Sheet3!$B$1,Sheet4!$B$2:$B$8408,Sheet3!$A$3))","v":22},{"$f":"+IF(SUMIFS(Sheet4!$DN$2:$DN$8408,Sheet4!$C$2:$C$8408,Sheet3!$B29,Sheet4!$D$2:$D$8408,Sheet3!CW$3,Sheet4!$A$2:$A$8408,Sheet3!$B$1,Sheet4!$B$2:$B$8408,Sheet3!$A$3)<3,0,SUMIFS(Sheet4!$DN$2:$DN$8408,Sheet4!$C$2:$C$8408,Sheet3!$B29,Sheet4!$D$2:$D$8408,Sheet3!CW$3,Sheet4!$A$2:$A$8408,Sheet3!$B$1,Sheet4!$B$2:$B$8408,Sheet3!$A$3))","v":238},{"$f":"+IF(SUMIFS(Sheet4!$DN$2:$DN$8408,Sheet4!$C$2:$C$8408,Sheet3!$B29,Sheet4!$D$2:$D$8408,Sheet3!CX$3,Sheet4!$A$2:$A$8408,Sheet3!$B$1,Sheet4!$B$2:$B$8408,Sheet3!$A$3)<3,0,SUMIFS(Sheet4!$DN$2:$DN$8408,Sheet4!$C$2:$C$8408,Sheet3!$B29,Sheet4!$D$2:$D$8408,Sheet3!CX$3,Sheet4!$A$2:$A$8408,Sheet3!$B$1,Sheet4!$B$2:$B$8408,Sheet3!$A$3))","v":7},{"$f":"+IF(SUMIFS(Sheet4!$DN$2:$DN$8408,Sheet4!$C$2:$C$8408,Sheet3!$B29,Sheet4!$D$2:$D$8408,Sheet3!CY$3,Sheet4!$A$2:$A$8408,Sheet3!$B$1,Sheet4!$B$2:$B$8408,Sheet3!$A$3)<3,0,SUMIFS(Sheet4!$DN$2:$DN$8408,Sheet4!$C$2:$C$8408,Sheet3!$B29,Sheet4!$D$2:$D$8408,Sheet3!CY$3,Sheet4!$A$2:$A$8408,Sheet3!$B$1,Sheet4!$B$2:$B$8408,Sheet3!$A$3))","v":40},{"$f":"+IF(SUMIFS(Sheet4!$DN$2:$DN$8408,Sheet4!$C$2:$C$8408,Sheet3!$B29,Sheet4!$D$2:$D$8408,Sheet3!CZ$3,Sheet4!$A$2:$A$8408,Sheet3!$B$1,Sheet4!$B$2:$B$8408,Sheet3!$A$3)<3,0,SUMIFS(Sheet4!$DN$2:$DN$8408,Sheet4!$C$2:$C$8408,Sheet3!$B29,Sheet4!$D$2:$D$8408,Sheet3!CZ$3,Sheet4!$A$2:$A$8408,Sheet3!$B$1,Sheet4!$B$2:$B$8408,Sheet3!$A$3))","v":176},{"$f":"+IF(SUMIFS(Sheet4!$DN$2:$DN$8408,Sheet4!$C$2:$C$8408,Sheet3!$B29,Sheet4!$D$2:$D$8408,Sheet3!DA$3,Sheet4!$A$2:$A$8408,Sheet3!$B$1,Sheet4!$B$2:$B$8408,Sheet3!$A$3)<3,0,SUMIFS(Sheet4!$DN$2:$DN$8408,Sheet4!$C$2:$C$8408,Sheet3!$B29,Sheet4!$D$2:$D$8408,Sheet3!DA$3,Sheet4!$A$2:$A$8408,Sheet3!$B$1,Sheet4!$B$2:$B$8408,Sheet3!$A$3))","v":647},{"$f":"+IF(SUMIFS(Sheet4!$DN$2:$DN$8408,Sheet4!$C$2:$C$8408,Sheet3!$B29,Sheet4!$D$2:$D$8408,Sheet3!DB$3,Sheet4!$A$2:$A$8408,Sheet3!$B$1,Sheet4!$B$2:$B$8408,Sheet3!$A$3)<3,0,SUMIFS(Sheet4!$DN$2:$DN$8408,Sheet4!$C$2:$C$8408,Sheet3!$B29,Sheet4!$D$2:$D$8408,Sheet3!DB$3,Sheet4!$A$2:$A$8408,Sheet3!$B$1,Sheet4!$B$2:$B$8408,Sheet3!$A$3))","v":226},{"$f":"+IF(SUMIFS(Sheet4!$DN$2:$DN$8408,Sheet4!$C$2:$C$8408,Sheet3!$B29,Sheet4!$D$2:$D$8408,Sheet3!DC$3,Sheet4!$A$2:$A$8408,Sheet3!$B$1,Sheet4!$B$2:$B$8408,Sheet3!$A$3)<3,0,SUMIFS(Sheet4!$DN$2:$DN$8408,Sheet4!$C$2:$C$8408,Sheet3!$B29,Sheet4!$D$2:$D$8408,Sheet3!DC$3,Sheet4!$A$2:$A$8408,Sheet3!$B$1,Sheet4!$B$2:$B$8408,Sheet3!$A$3))","v":942},{"$f":"+IF(SUMIFS(Sheet4!$DN$2:$DN$8408,Sheet4!$C$2:$C$8408,Sheet3!$B29,Sheet4!$D$2:$D$8408,Sheet3!DD$3,Sheet4!$A$2:$A$8408,Sheet3!$B$1,Sheet4!$B$2:$B$8408,Sheet3!$A$3)<3,0,SUMIFS(Sheet4!$DN$2:$DN$8408,Sheet4!$C$2:$C$8408,Sheet3!$B29,Sheet4!$D$2:$D$8408,Sheet3!DD$3,Sheet4!$A$2:$A$8408,Sheet3!$B$1,Sheet4!$B$2:$B$8408,Sheet3!$A$3))","v":798},{"$f":"+IF(SUMIFS(Sheet4!$DN$2:$DN$8408,Sheet4!$C$2:$C$8408,Sheet3!$B29,Sheet4!$D$2:$D$8408,Sheet3!DE$3,Sheet4!$A$2:$A$8408,Sheet3!$B$1,Sheet4!$B$2:$B$8408,Sheet3!$A$3)<3,0,SUMIFS(Sheet4!$DN$2:$DN$8408,Sheet4!$C$2:$C$8408,Sheet3!$B29,Sheet4!$D$2:$D$8408,Sheet3!DE$3,Sheet4!$A$2:$A$8408,Sheet3!$B$1,Sheet4!$B$2:$B$8408,Sheet3!$A$3))","v":21},{"$f":"+IF(SUMIFS(Sheet4!$DN$2:$DN$8408,Sheet4!$C$2:$C$8408,Sheet3!$B29,Sheet4!$D$2:$D$8408,Sheet3!DF$3,Sheet4!$A$2:$A$8408,Sheet3!$B$1,Sheet4!$B$2:$B$8408,Sheet3!$A$3)<3,0,SUMIFS(Sheet4!$DN$2:$DN$8408,Sheet4!$C$2:$C$8408,Sheet3!$B29,Sheet4!$D$2:$D$8408,Sheet3!DF$3,Sheet4!$A$2:$A$8408,Sheet3!$B$1,Sheet4!$B$2:$B$8408,Sheet3!$A$3))","v":197},{"$f":"+IF(SUMIFS(Sheet4!$DN$2:$DN$8408,Sheet4!$C$2:$C$8408,Sheet3!$B29,Sheet4!$D$2:$D$8408,Sheet3!DG$3,Sheet4!$A$2:$A$8408,Sheet3!$B$1,Sheet4!$B$2:$B$8408,Sheet3!$A$3)<3,0,SUMIFS(Sheet4!$DN$2:$DN$8408,Sheet4!$C$2:$C$8408,Sheet3!$B29,Sheet4!$D$2:$D$8408,Sheet3!DG$3,Sheet4!$A$2:$A$8408,Sheet3!$B$1,Sheet4!$B$2:$B$8408,Sheet3!$A$3))","v":148},{"$f":"+IF(SUMIFS(Sheet4!$DN$2:$DN$8408,Sheet4!$C$2:$C$8408,Sheet3!$B29,Sheet4!$D$2:$D$8408,Sheet3!DH$3,Sheet4!$A$2:$A$8408,Sheet3!$B$1,Sheet4!$B$2:$B$8408,Sheet3!$A$3)<3,0,SUMIFS(Sheet4!$DN$2:$DN$8408,Sheet4!$C$2:$C$8408,Sheet3!$B29,Sheet4!$D$2:$D$8408,Sheet3!DH$3,Sheet4!$A$2:$A$8408,Sheet3!$B$1,Sheet4!$B$2:$B$8408,Sheet3!$A$3))","v":592},{"$f":"+IF(SUMIFS(Sheet4!$DN$2:$DN$8408,Sheet4!$C$2:$C$8408,Sheet3!$B29,Sheet4!$D$2:$D$8408,Sheet3!DI$3,Sheet4!$A$2:$A$8408,Sheet3!$B$1,Sheet4!$B$2:$B$8408,Sheet3!$A$3)<3,0,SUMIFS(Sheet4!$DN$2:$DN$8408,Sheet4!$C$2:$C$8408,Sheet3!$B29,Sheet4!$D$2:$D$8408,Sheet3!DI$3,Sheet4!$A$2:$A$8408,Sheet3!$B$1,Sheet4!$B$2:$B$8408,Sheet3!$A$3))","v":1383},{"$f":"+IF(SUMIFS(Sheet4!$DN$2:$DN$8408,Sheet4!$C$2:$C$8408,Sheet3!$B29,Sheet4!$D$2:$D$8408,Sheet3!DJ$3,Sheet4!$A$2:$A$8408,Sheet3!$B$1,Sheet4!$B$2:$B$8408,Sheet3!$A$3)<3,0,SUMIFS(Sheet4!$DN$2:$DN$8408,Sheet4!$C$2:$C$8408,Sheet3!$B29,Sheet4!$D$2:$D$8408,Sheet3!DJ$3,Sheet4!$A$2:$A$8408,Sheet3!$B$1,Sheet4!$B$2:$B$8408,Sheet3!$A$3))","v":513},{"$f":"+IF(SUMIFS(Sheet4!$DN$2:$DN$8408,Sheet4!$C$2:$C$8408,Sheet3!$B29,Sheet4!$D$2:$D$8408,Sheet3!DK$3,Sheet4!$A$2:$A$8408,Sheet3!$B$1,Sheet4!$B$2:$B$8408,Sheet3!$A$3)<3,0,SUMIFS(Sheet4!$DN$2:$DN$8408,Sheet4!$C$2:$C$8408,Sheet3!$B29,Sheet4!$D$2:$D$8408,Sheet3!DK$3,Sheet4!$A$2:$A$8408,Sheet3!$B$1,Sheet4!$B$2:$B$8408,Sheet3!$A$3))","v":730},{"$f":"+IF(SUMIFS(Sheet4!$DN$2:$DN$8408,Sheet4!$C$2:$C$8408,Sheet3!$B29,Sheet4!$D$2:$D$8408,Sheet3!DL$3,Sheet4!$A$2:$A$8408,Sheet3!$B$1,Sheet4!$B$2:$B$8408,Sheet3!$A$3)<3,0,SUMIFS(Sheet4!$DN$2:$DN$8408,Sheet4!$C$2:$C$8408,Sheet3!$B29,Sheet4!$D$2:$D$8408,Sheet3!DL$3,Sheet4!$A$2:$A$8408,Sheet3!$B$1,Sheet4!$B$2:$B$8408,Sheet3!$A$3))","v":11},{"$f":"+IF(SUMIFS(Sheet4!$DN$2:$DN$8408,Sheet4!$C$2:$C$8408,Sheet3!$B29,Sheet4!$D$2:$D$8408,Sheet3!DM$3,Sheet4!$A$2:$A$8408,Sheet3!$B$1,Sheet4!$B$2:$B$8408,Sheet3!$A$3)<3,0,SUMIFS(Sheet4!$DN$2:$DN$8408,Sheet4!$C$2:$C$8408,Sheet3!$B29,Sheet4!$D$2:$D$8408,Sheet3!DM$3,Sheet4!$A$2:$A$8408,Sheet3!$B$1,Sheet4!$B$2:$B$8408,Sheet3!$A$3))","v":0},{"$f":"+IF(SUMIFS(Sheet4!$DN$2:$DN$8408,Sheet4!$C$2:$C$8408,Sheet3!$B29,Sheet4!$E$2:$E$8408,Sheet3!DN$4,Sheet4!$A$2:$A$8408,Sheet3!$B$1,Sheet4!$B$2:$B$8408,Sheet3!$A$3)<3,0,SUMIFS(Sheet4!$DN$2:$DN$8408,Sheet4!$C$2:$C$8408,Sheet3!$B29,Sheet4!$E$2:$E$8408,Sheet3!DN$4,Sheet4!$A$2:$A$8408,Sheet3!$B$1,Sheet4!$B$2:$B$8408,Sheet3!$A$3))","v":2604},{"$f":"+IF(SUMIFS(Sheet4!$DN$2:$DN$8408,Sheet4!$C$2:$C$8408,Sheet3!$B29,Sheet4!$E$2:$E$8408,Sheet3!DO$4,Sheet4!$A$2:$A$8408,Sheet3!$B$1,Sheet4!$B$2:$B$8408,Sheet3!$A$3)<3,0,SUMIFS(Sheet4!$DN$2:$DN$8408,Sheet4!$C$2:$C$8408,Sheet3!$B29,Sheet4!$E$2:$E$8408,Sheet3!DO$4,Sheet4!$A$2:$A$8408,Sheet3!$B$1,Sheet4!$B$2:$B$8408,Sheet3!$A$3))","v":1931},{"$f":"+IF(SUMIFS(Sheet4!$DN$2:$DN$8408,Sheet4!$C$2:$C$8408,Sheet3!$B29,Sheet4!$E$2:$E$8408,Sheet3!DP$4,Sheet4!$A$2:$A$8408,Sheet3!$B$1,Sheet4!$B$2:$B$8408,Sheet3!$A$3)<3,0,SUMIFS(Sheet4!$DN$2:$DN$8408,Sheet4!$C$2:$C$8408,Sheet3!$B29,Sheet4!$E$2:$E$8408,Sheet3!DP$4,Sheet4!$A$2:$A$8408,Sheet3!$B$1,Sheet4!$B$2:$B$8408,Sheet3!$A$3))","v":1235},{"$f":"+IF(SUMIFS(Sheet4!$DN$2:$DN$8408,Sheet4!$C$2:$C$8408,Sheet3!$B29,Sheet4!$E$2:$E$8408,Sheet3!DQ$4,Sheet4!$A$2:$A$8408,Sheet3!$B$1,Sheet4!$B$2:$B$8408,Sheet3!$A$3)<3,0,SUMIFS(Sheet4!$DN$2:$DN$8408,Sheet4!$C$2:$C$8408,Sheet3!$B29,Sheet4!$E$2:$E$8408,Sheet3!DQ$4,Sheet4!$A$2:$A$8408,Sheet3!$B$1,Sheet4!$B$2:$B$8408,Sheet3!$A$3))","v":824},{"$f":"+IF(SUMIFS(Sheet4!$DN$2:$DN$8408,Sheet4!$C$2:$C$8408,Sheet3!$B29,Sheet4!$E$2:$E$8408,Sheet3!DR$4,Sheet4!$A$2:$A$8408,Sheet3!$B$1,Sheet4!$B$2:$B$8408,Sheet3!$A$3)<3,0,SUMIFS(Sheet4!$DN$2:$DN$8408,Sheet4!$C$2:$C$8408,Sheet3!$B29,Sheet4!$E$2:$E$8408,Sheet3!DR$4,Sheet4!$A$2:$A$8408,Sheet3!$B$1,Sheet4!$B$2:$B$8408,Sheet3!$A$3))","v":118}]
[5,"150","Algarve",{"$f":"+SUMIFS(Sheet4!$DM$2:$DM$8408,Sheet4!$C$2:$C$8408,Sheet3!$B30,Sheet4!$D$2:$D$8408,Sheet3!D$3,Sheet4!$E$2:$E$8408,Sheet3!D$4,Sheet4!$A$2:$A$8408,Sheet3!$B$1,Sheet4!$B$2:$B$8408,Sheet3!$A$3)","v":0},{"$f":"+SUMIFS(Sheet4!$DM$2:$DM$8408,Sheet4!$C$2:$C$8408,Sheet3!$B30,Sheet4!$D$2:$D$8408,Sheet3!E$3,Sheet4!$E$2:$E$8408,Sheet3!E$4,Sheet4!$A$2:$A$8408,Sheet3!$B$1,Sheet4!$B$2:$B$8408,Sheet3!$A$3)","v":0},{"$f":"+SUMIFS(Sheet4!$DM$2:$DM$8408,Sheet4!$C$2:$C$8408,Sheet3!$B30,Sheet4!$D$2:$D$8408,Sheet3!F$3,Sheet4!$E$2:$E$8408,Sheet3!F$4,Sheet4!$A$2:$A$8408,Sheet3!$B$1,Sheet4!$B$2:$B$8408,Sheet3!$A$3)","v":0},{"$f":"+SUMIFS(Sheet4!$DM$2:$DM$8408,Sheet4!$C$2:$C$8408,Sheet3!$B30,Sheet4!$D$2:$D$8408,Sheet3!G$3,Sheet4!$E$2:$E$8408,Sheet3!G$4,Sheet4!$A$2:$A$8408,Sheet3!$B$1,Sheet4!$B$2:$B$8408,Sheet3!$A$3)","v":0},{"$f":"+SUMIFS(Sheet4!$DM$2:$DM$8408,Sheet4!$C$2:$C$8408,Sheet3!$B30,Sheet4!$D$2:$D$8408,Sheet3!H$3,Sheet4!$E$2:$E$8408,Sheet3!H$4,Sheet4!$A$2:$A$8408,Sheet3!$B$1,Sheet4!$B$2:$B$8408,Sheet3!$A$3)","v":0},{"$f":"+SUMIFS(Sheet4!$DM$2:$DM$8408,Sheet4!$C$2:$C$8408,Sheet3!$B30,Sheet4!$D$2:$D$8408,Sheet3!I$3,Sheet4!$E$2:$E$8408,Sheet3!I$4,Sheet4!$A$2:$A$8408,Sheet3!$B$1,Sheet4!$B$2:$B$8408,Sheet3!$A$3)","v":0},{"$f":"+SUMIFS(Sheet4!$DM$2:$DM$8408,Sheet4!$C$2:$C$8408,Sheet3!$B30,Sheet4!$D$2:$D$8408,Sheet3!J$3,Sheet4!$E$2:$E$8408,Sheet3!J$4,Sheet4!$A$2:$A$8408,Sheet3!$B$1,Sheet4!$B$2:$B$8408,Sheet3!$A$3)","v":0},{"$f":"+SUMIFS(Sheet4!$DM$2:$DM$8408,Sheet4!$C$2:$C$8408,Sheet3!$B30,Sheet4!$D$2:$D$8408,Sheet3!K$3,Sheet4!$E$2:$E$8408,Sheet3!K$4,Sheet4!$A$2:$A$8408,Sheet3!$B$1,Sheet4!$B$2:$B$8408,Sheet3!$A$3)","v":0},{"$f":"+SUMIFS(Sheet4!$DM$2:$DM$8408,Sheet4!$C$2:$C$8408,Sheet3!$B30,Sheet4!$D$2:$D$8408,Sheet3!L$3,Sheet4!$E$2:$E$8408,Sheet3!L$4,Sheet4!$A$2:$A$8408,Sheet3!$B$1,Sheet4!$B$2:$B$8408,Sheet3!$A$3)","v":0},{"$f":"+SUMIFS(Sheet4!$DM$2:$DM$8408,Sheet4!$C$2:$C$8408,Sheet3!$B30,Sheet4!$D$2:$D$8408,Sheet3!M$3,Sheet4!$E$2:$E$8408,Sheet3!M$4,Sheet4!$A$2:$A$8408,Sheet3!$B$1,Sheet4!$B$2:$B$8408,Sheet3!$A$3)","v":0},{"$f":"+SUMIFS(Sheet4!$DM$2:$DM$8408,Sheet4!$C$2:$C$8408,Sheet3!$B30,Sheet4!$D$2:$D$8408,Sheet3!N$3,Sheet4!$E$2:$E$8408,Sheet3!N$4,Sheet4!$A$2:$A$8408,Sheet3!$B$1,Sheet4!$B$2:$B$8408,Sheet3!$A$3)","v":63},{"$f":"+SUMIFS(Sheet4!$DM$2:$DM$8408,Sheet4!$C$2:$C$8408,Sheet3!$B30,Sheet4!$D$2:$D$8408,Sheet3!O$3,Sheet4!$E$2:$E$8408,Sheet3!O$4,Sheet4!$A$2:$A$8408,Sheet3!$B$1,Sheet4!$B$2:$B$8408,Sheet3!$A$3)","v":22},{"$f":"+SUMIFS(Sheet4!$DM$2:$DM$8408,Sheet4!$C$2:$C$8408,Sheet3!$B30,Sheet4!$D$2:$D$8408,Sheet3!P$3,Sheet4!$E$2:$E$8408,Sheet3!P$4,Sheet4!$A$2:$A$8408,Sheet3!$B$1,Sheet4!$B$2:$B$8408,Sheet3!$A$3)","v":12},{"$f":"+SUMIFS(Sheet4!$DM$2:$DM$8408,Sheet4!$C$2:$C$8408,Sheet3!$B30,Sheet4!$D$2:$D$8408,Sheet3!Q$3,Sheet4!$E$2:$E$8408,Sheet3!Q$4,Sheet4!$A$2:$A$8408,Sheet3!$B$1,Sheet4!$B$2:$B$8408,Sheet3!$A$3)","v":0},{"$f":"+SUMIFS(Sheet4!$DM$2:$DM$8408,Sheet4!$C$2:$C$8408,Sheet3!$B30,Sheet4!$D$2:$D$8408,Sheet3!R$3,Sheet4!$E$2:$E$8408,Sheet3!R$4,Sheet4!$A$2:$A$8408,Sheet3!$B$1,Sheet4!$B$2:$B$8408,Sheet3!$A$3)","v":0},{"$f":"+SUMIFS(Sheet4!$DM$2:$DM$8408,Sheet4!$C$2:$C$8408,Sheet3!$B30,Sheet4!$D$2:$D$8408,Sheet3!S$3,Sheet4!$E$2:$E$8408,Sheet3!S$4,Sheet4!$A$2:$A$8408,Sheet3!$B$1,Sheet4!$B$2:$B$8408,Sheet3!$A$3)","v":0},{"$f":"+SUMIFS(Sheet4!$DM$2:$DM$8408,Sheet4!$C$2:$C$8408,Sheet3!$B30,Sheet4!$D$2:$D$8408,Sheet3!T$3,Sheet4!$E$2:$E$8408,Sheet3!T$4,Sheet4!$A$2:$A$8408,Sheet3!$B$1,Sheet4!$B$2:$B$8408,Sheet3!$A$3)","v":0},{"$f":"+SUMIFS(Sheet4!$DM$2:$DM$8408,Sheet4!$C$2:$C$8408,Sheet3!$B30,Sheet4!$D$2:$D$8408,Sheet3!U$3,Sheet4!$E$2:$E$8408,Sheet3!U$4,Sheet4!$A$2:$A$8408,Sheet3!$B$1,Sheet4!$B$2:$B$8408,Sheet3!$A$3)","v":0},{"$f":"+SUMIFS(Sheet4!$DM$2:$DM$8408,Sheet4!$C$2:$C$8408,Sheet3!$B30,Sheet4!$D$2:$D$8408,Sheet3!V$3,Sheet4!$E$2:$E$8408,Sheet3!V$4,Sheet4!$A$2:$A$8408,Sheet3!$B$1,Sheet4!$B$2:$B$8408,Sheet3!$A$3)","v":0},{"$f":"+SUMIFS(Sheet4!$DM$2:$DM$8408,Sheet4!$C$2:$C$8408,Sheet3!$B30,Sheet4!$D$2:$D$8408,Sheet3!W$3,Sheet4!$E$2:$E$8408,Sheet3!W$4,Sheet4!$A$2:$A$8408,Sheet3!$B$1,Sheet4!$B$2:$B$8408,Sheet3!$A$3)","v":0},{"$f":"+SUMIFS(Sheet4!$DM$2:$DM$8408,Sheet4!$C$2:$C$8408,Sheet3!$B30,Sheet4!$D$2:$D$8408,Sheet3!X$3,Sheet4!$E$2:$E$8408,Sheet3!X$4,Sheet4!$A$2:$A$8408,Sheet3!$B$1,Sheet4!$B$2:$B$8408,Sheet3!$A$3)","v":0},{"$f":"+SUMIFS(Sheet4!$DM$2:$DM$8408,Sheet4!$C$2:$C$8408,Sheet3!$B30,Sheet4!$D$2:$D$8408,Sheet3!Y$3,Sheet4!$E$2:$E$8408,Sheet3!Y$4,Sheet4!$A$2:$A$8408,Sheet3!$B$1,Sheet4!$B$2:$B$8408,Sheet3!$A$3)","v":0},{"$f":"+SUMIFS(Sheet4!$DM$2:$DM$8408,Sheet4!$C$2:$C$8408,Sheet3!$B30,Sheet4!$D$2:$D$8408,Sheet3!Z$3,Sheet4!$E$2:$E$8408,Sheet3!Z$4,Sheet4!$A$2:$A$8408,Sheet3!$B$1,Sheet4!$B$2:$B$8408,Sheet3!$A$3)","v":0},{"$f":"+SUMIFS(Sheet4!$DM$2:$DM$8408,Sheet4!$C$2:$C$8408,Sheet3!$B30,Sheet4!$D$2:$D$8408,Sheet3!AA$3,Sheet4!$E$2:$E$8408,Sheet3!AA$4,Sheet4!$A$2:$A$8408,Sheet3!$B$1,Sheet4!$B$2:$B$8408,Sheet3!$A$3)","v":0},{"$f":"+SUMIFS(Sheet4!$DM$2:$DM$8408,Sheet4!$C$2:$C$8408,Sheet3!$B30,Sheet4!$D$2:$D$8408,Sheet3!AB$3,Sheet4!$E$2:$E$8408,Sheet3!AB$4,Sheet4!$A$2:$A$8408,Sheet3!$B$1,Sheet4!$B$2:$B$8408,Sheet3!$A$3)","v":0},{"$f":"+SUMIFS(Sheet4!$DM$2:$DM$8408,Sheet4!$C$2:$C$8408,Sheet3!$B30,Sheet4!$D$2:$D$8408,Sheet3!AC$3,Sheet4!$E$2:$E$8408,Sheet3!AC$4,Sheet4!$A$2:$A$8408,Sheet3!$B$1,Sheet4!$B$2:$B$8408,Sheet3!$A$3)","v":24},{"$f":"+SUMIFS(Sheet4!$DM$2:$DM$8408,Sheet4!$C$2:$C$8408,Sheet3!$B30,Sheet4!$D$2:$D$8408,Sheet3!AD$3,Sheet4!$E$2:$E$8408,Sheet3!AD$4,Sheet4!$A$2:$A$8408,Sheet3!$B$1,Sheet4!$B$2:$B$8408,Sheet3!$A$3)","v":155},{"$f":"+SUMIFS(Sheet4!$DM$2:$DM$8408,Sheet4!$C$2:$C$8408,Sheet3!$B30,Sheet4!$D$2:$D$8408,Sheet3!AE$3,Sheet4!$E$2:$E$8408,Sheet3!AE$4,Sheet4!$A$2:$A$8408,Sheet3!$B$1,Sheet4!$B$2:$B$8408,Sheet3!$A$3)","v":52},{"$f":"+SUMIFS(Sheet4!$DM$2:$DM$8408,Sheet4!$C$2:$C$8408,Sheet3!$B30,Sheet4!$D$2:$D$8408,Sheet3!AF$3,Sheet4!$E$2:$E$8408,Sheet3!AF$4,Sheet4!$A$2:$A$8408,Sheet3!$B$1,Sheet4!$B$2:$B$8408,Sheet3!$A$3)","v":10},{"$f":"+SUMIFS(Sheet4!$DM$2:$DM$8408,Sheet4!$C$2:$C$8408,Sheet3!$B30,Sheet4!$D$2:$D$8408,Sheet3!AG$3,Sheet4!$E$2:$E$8408,Sheet3!AG$4,Sheet4!$A$2:$A$8408,Sheet3!$B$1,Sheet4!$B$2:$B$8408,Sheet3!$A$3)","v":0},{"$f":"+SUMIFS(Sheet4!$DM$2:$DM$8408,Sheet4!$C$2:$C$8408,Sheet3!$B30,Sheet4!$D$2:$D$8408,Sheet3!AH$3,Sheet4!$E$2:$E$8408,Sheet3!AH$4,Sheet4!$A$2:$A$8408,Sheet3!$B$1,Sheet4!$B$2:$B$8408,Sheet3!$A$3)","v":0},{"$f":"+SUMIFS(Sheet4!$DM$2:$DM$8408,Sheet4!$C$2:$C$8408,Sheet3!$B30,Sheet4!$D$2:$D$8408,Sheet3!AI$3,Sheet4!$E$2:$E$8408,Sheet3!AI$4,Sheet4!$A$2:$A$8408,Sheet3!$B$1,Sheet4!$B$2:$B$8408,Sheet3!$A$3)","v":0},{"$f":"+SUMIFS(Sheet4!$DM$2:$DM$8408,Sheet4!$C$2:$C$8408,Sheet3!$B30,Sheet4!$D$2:$D$8408,Sheet3!AJ$3,Sheet4!$E$2:$E$8408,Sheet3!AJ$4,Sheet4!$A$2:$A$8408,Sheet3!$B$1,Sheet4!$B$2:$B$8408,Sheet3!$A$3)","v":5},{"$f":"+SUMIFS(Sheet4!$DM$2:$DM$8408,Sheet4!$C$2:$C$8408,Sheet3!$B30,Sheet4!$D$2:$D$8408,Sheet3!AK$3,Sheet4!$E$2:$E$8408,Sheet3!AK$4,Sheet4!$A$2:$A$8408,Sheet3!$B$1,Sheet4!$B$2:$B$8408,Sheet3!$A$3)","v":0},{"$f":"+SUMIFS(Sheet4!$DM$2:$DM$8408,Sheet4!$C$2:$C$8408,Sheet3!$B30,Sheet4!$D$2:$D$8408,Sheet3!AL$3,Sheet4!$E$2:$E$8408,Sheet3!AL$4,Sheet4!$A$2:$A$8408,Sheet3!$B$1,Sheet4!$B$2:$B$8408,Sheet3!$A$3)","v":0},{"$f":"+SUMIFS(Sheet4!$DM$2:$DM$8408,Sheet4!$C$2:$C$8408,Sheet3!$B30,Sheet4!$D$2:$D$8408,Sheet3!AM$3,Sheet4!$E$2:$E$8408,Sheet3!AM$4,Sheet4!$A$2:$A$8408,Sheet3!$B$1,Sheet4!$B$2:$B$8408,Sheet3!$A$3)","v":181},{"$f":"+SUMIFS(Sheet4!$DM$2:$DM$8408,Sheet4!$C$2:$C$8408,Sheet3!$B30,Sheet4!$D$2:$D$8408,Sheet3!AN$3,Sheet4!$E$2:$E$8408,Sheet3!AN$4,Sheet4!$A$2:$A$8408,Sheet3!$B$1,Sheet4!$B$2:$B$8408,Sheet3!$A$3)","v":556},{"$f":"+SUMIFS(Sheet4!$DM$2:$DM$8408,Sheet4!$C$2:$C$8408,Sheet3!$B30,Sheet4!$D$2:$D$8408,Sheet3!AO$3,Sheet4!$E$2:$E$8408,Sheet3!AO$4,Sheet4!$A$2:$A$8408,Sheet3!$B$1,Sheet4!$B$2:$B$8408,Sheet3!$A$3)","v":388},{"$f":"+SUMIFS(Sheet4!$DM$2:$DM$8408,Sheet4!$C$2:$C$8408,Sheet3!$B30,Sheet4!$D$2:$D$8408,Sheet3!AP$3,Sheet4!$E$2:$E$8408,Sheet3!AP$4,Sheet4!$A$2:$A$8408,Sheet3!$B$1,Sheet4!$B$2:$B$8408,Sheet3!$A$3)","v":279},{"$f":"+SUMIFS(Sheet4!$DM$2:$DM$8408,Sheet4!$C$2:$C$8408,Sheet3!$B30,Sheet4!$D$2:$D$8408,Sheet3!AQ$3,Sheet4!$E$2:$E$8408,Sheet3!AQ$4,Sheet4!$A$2:$A$8408,Sheet3!$B$1,Sheet4!$B$2:$B$8408,Sheet3!$A$3)","v":112},{"$f":"+SUMIFS(Sheet4!$DM$2:$DM$8408,Sheet4!$C$2:$C$8408,Sheet3!$B30,Sheet4!$D$2:$D$8408,Sheet3!AR$3,Sheet4!$E$2:$E$8408,Sheet3!AR$4,Sheet4!$A$2:$A$8408,Sheet3!$B$1,Sheet4!$B$2:$B$8408,Sheet3!$A$3)","v":16},{"$f":"+SUMIFS(Sheet4!$DM$2:$DM$8408,Sheet4!$C$2:$C$8408,Sheet3!$B30,Sheet4!$D$2:$D$8408,Sheet3!AS$3,Sheet4!$E$2:$E$8408,Sheet3!AS$4,Sheet4!$A$2:$A$8408,Sheet3!$B$1,Sheet4!$B$2:$B$8408,Sheet3!$A$3)","v":0},{"$f":"+SUMIFS(Sheet4!$DM$2:$DM$8408,Sheet4!$C$2:$C$8408,Sheet3!$B30,Sheet4!$D$2:$D$8408,Sheet3!AT$3,Sheet4!$E$2:$E$8408,Sheet3!AT$4,Sheet4!$A$2:$A$8408,Sheet3!$B$1,Sheet4!$B$2:$B$8408,Sheet3!$A$3)","v":0},{"$f":"+SUMIFS(Sheet4!$DM$2:$DM$8408,Sheet4!$C$2:$C$8408,Sheet3!$B30,Sheet4!$D$2:$D$8408,Sheet3!AU$3,Sheet4!$E$2:$E$8408,Sheet3!AU$4,Sheet4!$A$2:$A$8408,Sheet3!$B$1,Sheet4!$B$2:$B$8408,Sheet3!$A$3)","v":0},{"$f":"+SUMIFS(Sheet4!$DM$2:$DM$8408,Sheet4!$C$2:$C$8408,Sheet3!$B30,Sheet4!$D$2:$D$8408,Sheet3!AV$3,Sheet4!$E$2:$E$8408,Sheet3!AV$4,Sheet4!$A$2:$A$8408,Sheet3!$B$1,Sheet4!$B$2:$B$8408,Sheet3!$A$3)","v":0},{"$f":"+SUMIFS(Sheet4!$DM$2:$DM$8408,Sheet4!$C$2:$C$8408,Sheet3!$B30,Sheet4!$D$2:$D$8408,Sheet3!AW$3,Sheet4!$E$2:$E$8408,Sheet3!AW$4,Sheet4!$A$2:$A$8408,Sheet3!$B$1,Sheet4!$B$2:$B$8408,Sheet3!$A$3)","v":728},{"$f":"+SUMIFS(Sheet4!$DM$2:$DM$8408,Sheet4!$C$2:$C$8408,Sheet3!$B30,Sheet4!$D$2:$D$8408,Sheet3!AX$3,Sheet4!$E$2:$E$8408,Sheet3!AX$4,Sheet4!$A$2:$A$8408,Sheet3!$B$1,Sheet4!$B$2:$B$8408,Sheet3!$A$3)","v":1415},{"$f":"+SUMIFS(Sheet4!$DM$2:$DM$8408,Sheet4!$C$2:$C$8408,Sheet3!$B30,Sheet4!$D$2:$D$8408,Sheet3!AY$3,Sheet4!$E$2:$E$8408,Sheet3!AY$4,Sheet4!$A$2:$A$8408,Sheet3!$B$1,Sheet4!$B$2:$B$8408,Sheet3!$A$3)","v":148},{"$f":"+SUMIFS(Sheet4!$DM$2:$DM$8408,Sheet4!$C$2:$C$8408,Sheet3!$B30,Sheet4!$D$2:$D$8408,Sheet3!AZ$3,Sheet4!$E$2:$E$8408,Sheet3!AZ$4,Sheet4!$A$2:$A$8408,Sheet3!$B$1,Sheet4!$B$2:$B$8408,Sheet3!$A$3)","v":18},{"$f":"+SUMIFS(Sheet4!$DM$2:$DM$8408,Sheet4!$C$2:$C$8408,Sheet3!$B30,Sheet4!$D$2:$D$8408,Sheet3!BA$3,Sheet4!$E$2:$E$8408,Sheet3!BA$4,Sheet4!$A$2:$A$8408,Sheet3!$B$1,Sheet4!$B$2:$B$8408,Sheet3!$A$3)","v":0},{"$f":"+SUMIFS(Sheet4!$DM$2:$DM$8408,Sheet4!$C$2:$C$8408,Sheet3!$B30,Sheet4!$D$2:$D$8408,Sheet3!BB$3,Sheet4!$E$2:$E$8408,Sheet3!BB$4,Sheet4!$A$2:$A$8408,Sheet3!$B$1,Sheet4!$B$2:$B$8408,Sheet3!$A$3)","v":0},{"$f":"+SUMIFS(Sheet4!$DM$2:$DM$8408,Sheet4!$C$2:$C$8408,Sheet3!$B30,Sheet4!$D$2:$D$8408,Sheet3!BC$3,Sheet4!$E$2:$E$8408,Sheet3!BC$4,Sheet4!$A$2:$A$8408,Sheet3!$B$1,Sheet4!$B$2:$B$8408,Sheet3!$A$3)","v":0},{"$f":"+SUMIFS(Sheet4!$DM$2:$DM$8408,Sheet4!$C$2:$C$8408,Sheet3!$B30,Sheet4!$D$2:$D$8408,Sheet3!BD$3,Sheet4!$E$2:$E$8408,Sheet3!BD$4,Sheet4!$A$2:$A$8408,Sheet3!$B$1,Sheet4!$B$2:$B$8408,Sheet3!$A$3)","v":0},{"$f":"+SUMIFS(Sheet4!$DM$2:$DM$8408,Sheet4!$C$2:$C$8408,Sheet3!$B30,Sheet4!$D$2:$D$8408,Sheet3!BE$3,Sheet4!$E$2:$E$8408,Sheet3!BE$4,Sheet4!$A$2:$A$8408,Sheet3!$B$1,Sheet4!$B$2:$B$8408,Sheet3!$A$3)","v":0},{"$f":"+SUMIFS(Sheet4!$DM$2:$DM$8408,Sheet4!$C$2:$C$8408,Sheet3!$B30,Sheet4!$D$2:$D$8408,Sheet3!BF$3,Sheet4!$E$2:$E$8408,Sheet3!BF$4,Sheet4!$A$2:$A$8408,Sheet3!$B$1,Sheet4!$B$2:$B$8408,Sheet3!$A$3)","v":0},{"$f":"+SUMIFS(Sheet4!$DM$2:$DM$8408,Sheet4!$C$2:$C$8408,Sheet3!$B30,Sheet4!$D$2:$D$8408,Sheet3!BG$3,Sheet4!$E$2:$E$8408,Sheet3!BG$4,Sheet4!$A$2:$A$8408,Sheet3!$B$1,Sheet4!$B$2:$B$8408,Sheet3!$A$3)","v":5},{"$f":"+SUMIFS(Sheet4!$DM$2:$DM$8408,Sheet4!$C$2:$C$8408,Sheet3!$B30,Sheet4!$D$2:$D$8408,Sheet3!BH$3,Sheet4!$E$2:$E$8408,Sheet3!BH$4,Sheet4!$A$2:$A$8408,Sheet3!$B$1,Sheet4!$B$2:$B$8408,Sheet3!$A$3)","v":18},{"$f":"+SUMIFS(Sheet4!$DM$2:$DM$8408,Sheet4!$C$2:$C$8408,Sheet3!$B30,Sheet4!$D$2:$D$8408,Sheet3!BI$3,Sheet4!$E$2:$E$8408,Sheet3!BI$4,Sheet4!$A$2:$A$8408,Sheet3!$B$1,Sheet4!$B$2:$B$8408,Sheet3!$A$3)","v":11},{"$f":"+SUMIFS(Sheet4!$DM$2:$DM$8408,Sheet4!$C$2:$C$8408,Sheet3!$B30,Sheet4!$D$2:$D$8408,Sheet3!BJ$3,Sheet4!$E$2:$E$8408,Sheet3!BJ$4,Sheet4!$A$2:$A$8408,Sheet3!$B$1,Sheet4!$B$2:$B$8408,Sheet3!$A$3)","v":0},{"$f":"+SUMIFS(Sheet4!$DM$2:$DM$8408,Sheet4!$C$2:$C$8408,Sheet3!$B30,Sheet4!$D$2:$D$8408,Sheet3!BK$3,Sheet4!$E$2:$E$8408,Sheet3!BK$4,Sheet4!$A$2:$A$8408,Sheet3!$B$1,Sheet4!$B$2:$B$8408,Sheet3!$A$3)","v":0},{"$f":"+SUMIFS(Sheet4!$DM$2:$DM$8408,Sheet4!$C$2:$C$8408,Sheet3!$B30,Sheet4!$D$2:$D$8408,Sheet3!BL$3,Sheet4!$E$2:$E$8408,Sheet3!BL$4,Sheet4!$A$2:$A$8408,Sheet3!$B$1,Sheet4!$B$2:$B$8408,Sheet3!$A$3)","v":17},{"$f":"+SUMIFS(Sheet4!$DM$2:$DM$8408,Sheet4!$C$2:$C$8408,Sheet3!$B30,Sheet4!$D$2:$D$8408,Sheet3!BM$3,Sheet4!$E$2:$E$8408,Sheet3!BM$4,Sheet4!$A$2:$A$8408,Sheet3!$B$1,Sheet4!$B$2:$B$8408,Sheet3!$A$3)","v":25},{"$f":"+SUMIFS(Sheet4!$DM$2:$DM$8408,Sheet4!$C$2:$C$8408,Sheet3!$B30,Sheet4!$D$2:$D$8408,Sheet3!BN$3,Sheet4!$E$2:$E$8408,Sheet3!BN$4,Sheet4!$A$2:$A$8408,Sheet3!$B$1,Sheet4!$B$2:$B$8408,Sheet3!$A$3)","v":8},{"$f":"+SUMIFS(Sheet4!$DM$2:$DM$8408,Sheet4!$C$2:$C$8408,Sheet3!$B30,Sheet4!$D$2:$D$8408,Sheet3!BO$3,Sheet4!$E$2:$E$8408,Sheet3!BO$4,Sheet4!$A$2:$A$8408,Sheet3!$B$1,Sheet4!$B$2:$B$8408,Sheet3!$A$3)","v":0},{"$f":"+SUMIFS(Sheet4!$DM$2:$DM$8408,Sheet4!$C$2:$C$8408,Sheet3!$B30,Sheet4!$D$2:$D$8408,Sheet3!BP$3,Sheet4!$E$2:$E$8408,Sheet3!BP$4,Sheet4!$A$2:$A$8408,Sheet3!$B$1,Sheet4!$B$2:$B$8408,Sheet3!$A$3)","v":0},{"$f":"+SUMIFS(Sheet4!$DM$2:$DM$8408,Sheet4!$C$2:$C$8408,Sheet3!$B30,Sheet4!$D$2:$D$8408,Sheet3!BQ$3,Sheet4!$E$2:$E$8408,Sheet3!BQ$4,Sheet4!$A$2:$A$8408,Sheet3!$B$1,Sheet4!$B$2:$B$8408,Sheet3!$A$3)","v":7},{"$f":"+SUMIFS(Sheet4!$DM$2:$DM$8408,Sheet4!$C$2:$C$8408,Sheet3!$B30,Sheet4!$D$2:$D$8408,Sheet3!BR$3,Sheet4!$E$2:$E$8408,Sheet3!BR$4,Sheet4!$A$2:$A$8408,Sheet3!$B$1,Sheet4!$B$2:$B$8408,Sheet3!$A$3)","v":17},{"$f":"+SUMIFS(Sheet4!$DM$2:$DM$8408,Sheet4!$C$2:$C$8408,Sheet3!$B30,Sheet4!$D$2:$D$8408,Sheet3!BS$3,Sheet4!$E$2:$E$8408,Sheet3!BS$4,Sheet4!$A$2:$A$8408,Sheet3!$B$1,Sheet4!$B$2:$B$8408,Sheet3!$A$3)","v":8},{"$f":"+SUMIFS(Sheet4!$DM$2:$DM$8408,Sheet4!$C$2:$C$8408,Sheet3!$B30,Sheet4!$D$2:$D$8408,Sheet3!BT$3,Sheet4!$E$2:$E$8408,Sheet3!BT$4,Sheet4!$A$2:$A$8408,Sheet3!$B$1,Sheet4!$B$2:$B$8408,Sheet3!$A$3)","v":0},{"$f":"+SUMIFS(Sheet4!$DM$2:$DM$8408,Sheet4!$C$2:$C$8408,Sheet3!$B30,Sheet4!$D$2:$D$8408,Sheet3!BU$3,Sheet4!$E$2:$E$8408,Sheet3!BU$4,Sheet4!$A$2:$A$8408,Sheet3!$B$1,Sheet4!$B$2:$B$8408,Sheet3!$A$3)","v":0},{"$f":"+SUMIFS(Sheet4!$DM$2:$DM$8408,Sheet4!$C$2:$C$8408,Sheet3!$B30,Sheet4!$D$2:$D$8408,Sheet3!BV$3,Sheet4!$E$2:$E$8408,Sheet3!BV$4,Sheet4!$A$2:$A$8408,Sheet3!$B$1,Sheet4!$B$2:$B$8408,Sheet3!$A$3)","v":93},{"$f":"+SUMIFS(Sheet4!$DM$2:$DM$8408,Sheet4!$C$2:$C$8408,Sheet3!$B30,Sheet4!$D$2:$D$8408,Sheet3!BW$3,Sheet4!$E$2:$E$8408,Sheet3!BW$4,Sheet4!$A$2:$A$8408,Sheet3!$B$1,Sheet4!$B$2:$B$8408,Sheet3!$A$3)","v":141},{"$f":"+SUMIFS(Sheet4!$DM$2:$DM$8408,Sheet4!$C$2:$C$8408,Sheet3!$B30,Sheet4!$D$2:$D$8408,Sheet3!BX$3,Sheet4!$E$2:$E$8408,Sheet3!BX$4,Sheet4!$A$2:$A$8408,Sheet3!$B$1,Sheet4!$B$2:$B$8408,Sheet3!$A$3)","v":21},{"$f":"+SUMIFS(Sheet4!$DM$2:$DM$8408,Sheet4!$C$2:$C$8408,Sheet3!$B30,Sheet4!$D$2:$D$8408,Sheet3!BY$3,Sheet4!$E$2:$E$8408,Sheet3!BY$4,Sheet4!$A$2:$A$8408,Sheet3!$B$1,Sheet4!$B$2:$B$8408,Sheet3!$A$3)","v":0},{"$f":"+SUMIFS(Sheet4!$DM$2:$DM$8408,Sheet4!$C$2:$C$8408,Sheet3!$B30,Sheet4!$D$2:$D$8408,Sheet3!BZ$3,Sheet4!$E$2:$E$8408,Sheet3!BZ$4,Sheet4!$A$2:$A$8408,Sheet3!$B$1,Sheet4!$B$2:$B$8408,Sheet3!$A$3)","v":0},{"$f":"+SUMIFS(Sheet4!$DM$2:$DM$8408,Sheet4!$C$2:$C$8408,Sheet3!$B30,Sheet4!$D$2:$D$8408,Sheet3!CA$3,Sheet4!$E$2:$E$8408,Sheet3!CA$4,Sheet4!$A$2:$A$8408,Sheet3!$B$1,Sheet4!$B$2:$B$8408,Sheet3!$A$3)","v":34},{"$f":"+SUMIFS(Sheet4!$DM$2:$DM$8408,Sheet4!$C$2:$C$8408,Sheet3!$B30,Sheet4!$D$2:$D$8408,Sheet3!CB$3,Sheet4!$E$2:$E$8408,Sheet3!CB$4,Sheet4!$A$2:$A$8408,Sheet3!$B$1,Sheet4!$B$2:$B$8408,Sheet3!$A$3)","v":99},{"$f":"+SUMIFS(Sheet4!$DM$2:$DM$8408,Sheet4!$C$2:$C$8408,Sheet3!$B30,Sheet4!$D$2:$D$8408,Sheet3!CC$3,Sheet4!$E$2:$E$8408,Sheet3!CC$4,Sheet4!$A$2:$A$8408,Sheet3!$B$1,Sheet4!$B$2:$B$8408,Sheet3!$A$3)","v":26},{"$f":"+SUMIFS(Sheet4!$DM$2:$DM$8408,Sheet4!$C$2:$C$8408,Sheet3!$B30,Sheet4!$D$2:$D$8408,Sheet3!CD$3,Sheet4!$E$2:$E$8408,Sheet3!CD$4,Sheet4!$A$2:$A$8408,Sheet3!$B$1,Sheet4!$B$2:$B$8408,Sheet3!$A$3)","v":5},{"$f":"+SUMIFS(Sheet4!$DM$2:$DM$8408,Sheet4!$C$2:$C$8408,Sheet3!$B30,Sheet4!$D$2:$D$8408,Sheet3!CE$3,Sheet4!$E$2:$E$8408,Sheet3!CE$4,Sheet4!$A$2:$A$8408,Sheet3!$B$1,Sheet4!$B$2:$B$8408,Sheet3!$A$3)","v":0},{"$f":"+SUMIFS(Sheet4!$DM$2:$DM$8408,Sheet4!$C$2:$C$8408,Sheet3!$B30,Sheet4!$D$2:$D$8408,Sheet3!CF$3,Sheet4!$E$2:$E$8408,Sheet3!CF$4,Sheet4!$A$2:$A$8408,Sheet3!$B$1,Sheet4!$B$2:$B$8408,Sheet3!$A$3)","v":217},{"$f":"+SUMIFS(Sheet4!$DM$2:$DM$8408,Sheet4!$C$2:$C$8408,Sheet3!$B30,Sheet4!$D$2:$D$8408,Sheet3!CG$3,Sheet4!$E$2:$E$8408,Sheet3!CG$4,Sheet4!$A$2:$A$8408,Sheet3!$B$1,Sheet4!$B$2:$B$8408,Sheet3!$A$3)","v":24},{"$f":"+SUMIFS(Sheet4!$DM$2:$DM$8408,Sheet4!$C$2:$C$8408,Sheet3!$B30,Sheet4!$D$2:$D$8408,Sheet3!CH$3,Sheet4!$E$2:$E$8408,Sheet3!CH$4,Sheet4!$A$2:$A$8408,Sheet3!$B$1,Sheet4!$B$2:$B$8408,Sheet3!$A$3)","v":8},{"$f":"+SUMIFS(Sheet4!$DM$2:$DM$8408,Sheet4!$C$2:$C$8408,Sheet3!$B30,Sheet4!$D$2:$D$8408,Sheet3!CI$3,Sheet4!$E$2:$E$8408,Sheet3!CI$4,Sheet4!$A$2:$A$8408,Sheet3!$B$1,Sheet4!$B$2:$B$8408,Sheet3!$A$3)","v":0},{"$f":"+SUMIFS(Sheet4!$DM$2:$DM$8408,Sheet4!$C$2:$C$8408,Sheet3!$B30,Sheet4!$D$2:$D$8408,Sheet3!CJ$3,Sheet4!$E$2:$E$8408,Sheet3!CJ$4,Sheet4!$A$2:$A$8408,Sheet3!$B$1,Sheet4!$B$2:$B$8408,Sheet3!$A$3)","v":0},{"$f":"+SUMIFS(Sheet4!$DM$2:$DM$8408,Sheet4!$C$2:$C$8408,Sheet3!$B30,Sheet4!$D$2:$D$8408,Sheet3!CK$3,Sheet4!$E$2:$E$8408,Sheet3!CK$4,Sheet4!$A$2:$A$8408,Sheet3!$B$1,Sheet4!$B$2:$B$8408,Sheet3!$A$3)","v":0},{"$f":"+SUMIFS(Sheet4!$DM$2:$DM$8408,Sheet4!$C$2:$C$8408,Sheet3!$B30,Sheet4!$D$2:$D$8408,Sheet3!CL$3,Sheet4!$E$2:$E$8408,Sheet3!CL$4,Sheet4!$A$2:$A$8408,Sheet3!$B$1,Sheet4!$B$2:$B$8408,Sheet3!$A$3)","v":0},{"$f":"+SUMIFS(Sheet4!$DM$2:$DM$8408,Sheet4!$C$2:$C$8408,Sheet3!$B30,Sheet4!$D$2:$D$8408,Sheet3!CM$3,Sheet4!$E$2:$E$8408,Sheet3!CM$4,Sheet4!$A$2:$A$8408,Sheet3!$B$1,Sheet4!$B$2:$B$8408,Sheet3!$A$3)","v":0},{"$f":"+SUMIFS(Sheet4!$DM$2:$DM$8408,Sheet4!$C$2:$C$8408,Sheet3!$B30,Sheet4!$D$2:$D$8408,Sheet3!CN$3,Sheet4!$E$2:$E$8408,Sheet3!CN$4,Sheet4!$A$2:$A$8408,Sheet3!$B$1,Sheet4!$B$2:$B$8408,Sheet3!$A$3)","v":0},{"$f":"+SUMIFS(Sheet4!$DM$2:$DM$8408,Sheet4!$C$2:$C$8408,Sheet3!$B30,Sheet4!$D$2:$D$8408,Sheet3!CO$3,Sheet4!$E$2:$E$8408,Sheet3!CO$4,Sheet4!$A$2:$A$8408,Sheet3!$B$1,Sheet4!$B$2:$B$8408,Sheet3!$A$3)","v":0},{"$f":"+SUMIFS(Sheet4!$DM$2:$DM$8408,Sheet4!$C$2:$C$8408,Sheet3!$B30,Sheet4!$D$2:$D$8408,Sheet3!CP$3,Sheet4!$E$2:$E$8408,Sheet3!CP$4,Sheet4!$A$2:$A$8408,Sheet3!$B$1,Sheet4!$B$2:$B$8408,Sheet3!$A$3)","v":0},{"$f":"+SUMIFS(Sheet4!$DM$2:$DM$8408,Sheet4!$C$2:$C$8408,Sheet3!$B30,Sheet4!$D$2:$D$8408,Sheet3!CQ$3,Sheet4!$E$2:$E$8408,Sheet3!CQ$4,Sheet4!$A$2:$A$8408,Sheet3!$B$1,Sheet4!$B$2:$B$8408,Sheet3!$A$3)","v":0},{"$f":"+SUMIFS(Sheet4!$DM$2:$DM$8408,Sheet4!$C$2:$C$8408,Sheet3!$B30,Sheet4!$D$2:$D$8408,Sheet3!CR$3,Sheet4!$E$2:$E$8408,Sheet3!CR$4,Sheet4!$A$2:$A$8408,Sheet3!$B$1,Sheet4!$B$2:$B$8408,Sheet3!$A$3)","v":0},{"$f":"+SUMIFS(Sheet4!$DM$2:$DM$8408,Sheet4!$C$2:$C$8408,Sheet3!$B30,Sheet4!$D$2:$D$8408,Sheet3!CS$3,Sheet4!$E$2:$E$8408,Sheet3!CS$4,Sheet4!$A$2:$A$8408,Sheet3!$B$1,Sheet4!$B$2:$B$8408,Sheet3!$A$3)","v":0},{"$f":"+SUMIFS(Sheet4!$DM$2:$DM$8408,Sheet4!$C$2:$C$8408,Sheet3!$B30,Sheet4!$D$2:$D$8408,Sheet3!CT$3,Sheet4!$E$2:$E$8408,Sheet3!CT$4,Sheet4!$A$2:$A$8408,Sheet3!$B$1,Sheet4!$B$2:$B$8408,Sheet3!$A$3)","v":0},{"$f":"+IF(SUMIFS(Sheet4!$DN$2:$DN$8408,Sheet4!$C$2:$C$8408,Sheet3!$B30,Sheet4!$D$2:$D$8408,Sheet3!CU$3,Sheet4!$A$2:$A$8408,Sheet3!$B$1,Sheet4!$B$2:$B$8408,Sheet3!$A$3)<3,0,SUMIFS(Sheet4!$DN$2:$DN$8408,Sheet4!$C$2:$C$8408,Sheet3!$B30,Sheet4!$D$2:$D$8408,Sheet3!CU$3,Sheet4!$A$2:$A$8408,Sheet3!$B$1,Sheet4!$B$2:$B$8408,Sheet3!$A$3))","v":10},{"$f":"+IF(SUMIFS(Sheet4!$DN$2:$DN$8408,Sheet4!$C$2:$C$8408,Sheet3!$B30,Sheet4!$D$2:$D$8408,Sheet3!CV$3,Sheet4!$A$2:$A$8408,Sheet3!$B$1,Sheet4!$B$2:$B$8408,Sheet3!$A$3)<3,0,SUMIFS(Sheet4!$DN$2:$DN$8408,Sheet4!$C$2:$C$8408,Sheet3!$B30,Sheet4!$D$2:$D$8408,Sheet3!CV$3,Sheet4!$A$2:$A$8408,Sheet3!$B$1,Sheet4!$B$2:$B$8408,Sheet3!$A$3))","v":6},{"$f":"+IF(SUMIFS(Sheet4!$DN$2:$DN$8408,Sheet4!$C$2:$C$8408,Sheet3!$B30,Sheet4!$D$2:$D$8408,Sheet3!CW$3,Sheet4!$A$2:$A$8408,Sheet3!$B$1,Sheet4!$B$2:$B$8408,Sheet3!$A$3)<3,0,SUMIFS(Sheet4!$DN$2:$DN$8408,Sheet4!$C$2:$C$8408,Sheet3!$B30,Sheet4!$D$2:$D$8408,Sheet3!CW$3,Sheet4!$A$2:$A$8408,Sheet3!$B$1,Sheet4!$B$2:$B$8408,Sheet3!$A$3))","v":102},{"$f":"+IF(SUMIFS(Sheet4!$DN$2:$DN$8408,Sheet4!$C$2:$C$8408,Sheet3!$B30,Sheet4!$D$2:$D$8408,Sheet3!CX$3,Sheet4!$A$2:$A$8408,Sheet3!$B$1,Sheet4!$B$2:$B$8408,Sheet3!$A$3)<3,0,SUMIFS(Sheet4!$DN$2:$DN$8408,Sheet4!$C$2:$C$8408,Sheet3!$B30,Sheet4!$D$2:$D$8408,Sheet3!CX$3,Sheet4!$A$2:$A$8408,Sheet3!$B$1,Sheet4!$B$2:$B$8408,Sheet3!$A$3))","v":0},{"$f":"+IF(SUMIFS(Sheet4!$DN$2:$DN$8408,Sheet4!$C$2:$C$8408,Sheet3!$B30,Sheet4!$D$2:$D$8408,Sheet3!CY$3,Sheet4!$A$2:$A$8408,Sheet3!$B$1,Sheet4!$B$2:$B$8408,Sheet3!$A$3)<3,0,SUMIFS(Sheet4!$DN$2:$DN$8408,Sheet4!$C$2:$C$8408,Sheet3!$B30,Sheet4!$D$2:$D$8408,Sheet3!CY$3,Sheet4!$A$2:$A$8408,Sheet3!$B$1,Sheet4!$B$2:$B$8408,Sheet3!$A$3))","v":3},{"$f":"+IF(SUMIFS(Sheet4!$DN$2:$DN$8408,Sheet4!$C$2:$C$8408,Sheet3!$B30,Sheet4!$D$2:$D$8408,Sheet3!CZ$3,Sheet4!$A$2:$A$8408,Sheet3!$B$1,Sheet4!$B$2:$B$8408,Sheet3!$A$3)<3,0,SUMIFS(Sheet4!$DN$2:$DN$8408,Sheet4!$C$2:$C$8408,Sheet3!$B30,Sheet4!$D$2:$D$8408,Sheet3!CZ$3,Sheet4!$A$2:$A$8408,Sheet3!$B$1,Sheet4!$B$2:$B$8408,Sheet3!$A$3))","v":245},{"$f":"+IF(SUMIFS(Sheet4!$DN$2:$DN$8408,Sheet4!$C$2:$C$8408,Sheet3!$B30,Sheet4!$D$2:$D$8408,Sheet3!DA$3,Sheet4!$A$2:$A$8408,Sheet3!$B$1,Sheet4!$B$2:$B$8408,Sheet3!$A$3)<3,0,SUMIFS(Sheet4!$DN$2:$DN$8408,Sheet4!$C$2:$C$8408,Sheet3!$B30,Sheet4!$D$2:$D$8408,Sheet3!DA$3,Sheet4!$A$2:$A$8408,Sheet3!$B$1,Sheet4!$B$2:$B$8408,Sheet3!$A$3))","v":9},{"$f":"+IF(SUMIFS(Sheet4!$DN$2:$DN$8408,Sheet4!$C$2:$C$8408,Sheet3!$B30,Sheet4!$D$2:$D$8408,Sheet3!DB$3,Sheet4!$A$2:$A$8408,Sheet3!$B$1,Sheet4!$B$2:$B$8408,Sheet3!$A$3)<3,0,SUMIFS(Sheet4!$DN$2:$DN$8408,Sheet4!$C$2:$C$8408,Sheet3!$B30,Sheet4!$D$2:$D$8408,Sheet3!DB$3,Sheet4!$A$2:$A$8408,Sheet3!$B$1,Sheet4!$B$2:$B$8408,Sheet3!$A$3))","v":1517},{"$f":"+IF(SUMIFS(Sheet4!$DN$2:$DN$8408,Sheet4!$C$2:$C$8408,Sheet3!$B30,Sheet4!$D$2:$D$8408,Sheet3!DC$3,Sheet4!$A$2:$A$8408,Sheet3!$B$1,Sheet4!$B$2:$B$8408,Sheet3!$A$3)<3,0,SUMIFS(Sheet4!$DN$2:$DN$8408,Sheet4!$C$2:$C$8408,Sheet3!$B30,Sheet4!$D$2:$D$8408,Sheet3!DC$3,Sheet4!$A$2:$A$8408,Sheet3!$B$1,Sheet4!$B$2:$B$8408,Sheet3!$A$3))","v":19},{"$f":"+IF(SUMIFS(Sheet4!$DN$2:$DN$8408,Sheet4!$C$2:$C$8408,Sheet3!$B30,Sheet4!$D$2:$D$8408,Sheet3!DD$3,Sheet4!$A$2:$A$8408,Sheet3!$B$1,Sheet4!$B$2:$B$8408,Sheet3!$A$3)<3,0,SUMIFS(Sheet4!$DN$2:$DN$8408,Sheet4!$C$2:$C$8408,Sheet3!$B30,Sheet4!$D$2:$D$8408,Sheet3!DD$3,Sheet4!$A$2:$A$8408,Sheet3!$B$1,Sheet4!$B$2:$B$8408,Sheet3!$A$3))","v":2311},{"$f":"+IF(SUMIFS(Sheet4!$DN$2:$DN$8408,Sheet4!$C$2:$C$8408,Sheet3!$B30,Sheet4!$D$2:$D$8408,Sheet3!DE$3,Sheet4!$A$2:$A$8408,Sheet3!$B$1,Sheet4!$B$2:$B$8408,Sheet3!$A$3)<3,0,SUMIFS(Sheet4!$DN$2:$DN$8408,Sheet4!$C$2:$C$8408,Sheet3!$B30,Sheet4!$D$2:$D$8408,Sheet3!DE$3,Sheet4!$A$2:$A$8408,Sheet3!$B$1,Sheet4!$B$2:$B$8408,Sheet3!$A$3))","v":0},{"$f":"+IF(SUMIFS(Sheet4!$DN$2:$DN$8408,Sheet4!$C$2:$C$8408,Sheet3!$B30,Sheet4!$D$2:$D$8408,Sheet3!DF$3,Sheet4!$A$2:$A$8408,Sheet3!$B$1,Sheet4!$B$2:$B$8408,Sheet3!$A$3)<3,0,SUMIFS(Sheet4!$DN$2:$DN$8408,Sheet4!$C$2:$C$8408,Sheet3!$B30,Sheet4!$D$2:$D$8408,Sheet3!DF$3,Sheet4!$A$2:$A$8408,Sheet3!$B$1,Sheet4!$B$2:$B$8408,Sheet3!$A$3))","v":35},{"$f":"+IF(SUMIFS(Sheet4!$DN$2:$DN$8408,Sheet4!$C$2:$C$8408,Sheet3!$B30,Sheet4!$D$2:$D$8408,Sheet3!DG$3,Sheet4!$A$2:$A$8408,Sheet3!$B$1,Sheet4!$B$2:$B$8408,Sheet3!$A$3)<3,0,SUMIFS(Sheet4!$DN$2:$DN$8408,Sheet4!$C$2:$C$8408,Sheet3!$B30,Sheet4!$D$2:$D$8408,Sheet3!DG$3,Sheet4!$A$2:$A$8408,Sheet3!$B$1,Sheet4!$B$2:$B$8408,Sheet3!$A$3))","v":55},{"$f":"+IF(SUMIFS(Sheet4!$DN$2:$DN$8408,Sheet4!$C$2:$C$8408,Sheet3!$B30,Sheet4!$D$2:$D$8408,Sheet3!DH$3,Sheet4!$A$2:$A$8408,Sheet3!$B$1,Sheet4!$B$2:$B$8408,Sheet3!$A$3)<3,0,SUMIFS(Sheet4!$DN$2:$DN$8408,Sheet4!$C$2:$C$8408,Sheet3!$B30,Sheet4!$D$2:$D$8408,Sheet3!DH$3,Sheet4!$A$2:$A$8408,Sheet3!$B$1,Sheet4!$B$2:$B$8408,Sheet3!$A$3))","v":37},{"$f":"+IF(SUMIFS(Sheet4!$DN$2:$DN$8408,Sheet4!$C$2:$C$8408,Sheet3!$B30,Sheet4!$D$2:$D$8408,Sheet3!DI$3,Sheet4!$A$2:$A$8408,Sheet3!$B$1,Sheet4!$B$2:$B$8408,Sheet3!$A$3)<3,0,SUMIFS(Sheet4!$DN$2:$DN$8408,Sheet4!$C$2:$C$8408,Sheet3!$B30,Sheet4!$D$2:$D$8408,Sheet3!DI$3,Sheet4!$A$2:$A$8408,Sheet3!$B$1,Sheet4!$B$2:$B$8408,Sheet3!$A$3))","v":259},{"$f":"+IF(SUMIFS(Sheet4!$DN$2:$DN$8408,Sheet4!$C$2:$C$8408,Sheet3!$B30,Sheet4!$D$2:$D$8408,Sheet3!DJ$3,Sheet4!$A$2:$A$8408,Sheet3!$B$1,Sheet4!$B$2:$B$8408,Sheet3!$A$3)<3,0,SUMIFS(Sheet4!$DN$2:$DN$8408,Sheet4!$C$2:$C$8408,Sheet3!$B30,Sheet4!$D$2:$D$8408,Sheet3!DJ$3,Sheet4!$A$2:$A$8408,Sheet3!$B$1,Sheet4!$B$2:$B$8408,Sheet3!$A$3))","v":168},{"$f":"+IF(SUMIFS(Sheet4!$DN$2:$DN$8408,Sheet4!$C$2:$C$8408,Sheet3!$B30,Sheet4!$D$2:$D$8408,Sheet3!DK$3,Sheet4!$A$2:$A$8408,Sheet3!$B$1,Sheet4!$B$2:$B$8408,Sheet3!$A$3)<3,0,SUMIFS(Sheet4!$DN$2:$DN$8408,Sheet4!$C$2:$C$8408,Sheet3!$B30,Sheet4!$D$2:$D$8408,Sheet3!DK$3,Sheet4!$A$2:$A$8408,Sheet3!$B$1,Sheet4!$B$2:$B$8408,Sheet3!$A$3))","v":251},{"$f":"+IF(SUMIFS(Sheet4!$DN$2:$DN$8408,Sheet4!$C$2:$C$8408,Sheet3!$B30,Sheet4!$D$2:$D$8408,Sheet3!DL$3,Sheet4!$A$2:$A$8408,Sheet3!$B$1,Sheet4!$B$2:$B$8408,Sheet3!$A$3)<3,0,SUMIFS(Sheet4!$DN$2:$DN$8408,Sheet4!$C$2:$C$8408,Sheet3!$B30,Sheet4!$D$2:$D$8408,Sheet3!DL$3,Sheet4!$A$2:$A$8408,Sheet3!$B$1,Sheet4!$B$2:$B$8408,Sheet3!$A$3))","v":0},{"$f":"+IF(SUMIFS(Sheet4!$DN$2:$DN$8408,Sheet4!$C$2:$C$8408,Sheet3!$B30,Sheet4!$D$2:$D$8408,Sheet3!DM$3,Sheet4!$A$2:$A$8408,Sheet3!$B$1,Sheet4!$B$2:$B$8408,Sheet3!$A$3)<3,0,SUMIFS(Sheet4!$DN$2:$DN$8408,Sheet4!$C$2:$C$8408,Sheet3!$B30,Sheet4!$D$2:$D$8408,Sheet3!DM$3,Sheet4!$A$2:$A$8408,Sheet3!$B$1,Sheet4!$B$2:$B$8408,Sheet3!$A$3))","v":0},{"$f":"+IF(SUMIFS(Sheet4!$DN$2:$DN$8408,Sheet4!$C$2:$C$8408,Sheet3!$B30,Sheet4!$E$2:$E$8408,Sheet3!DN$4,Sheet4!$A$2:$A$8408,Sheet3!$B$1,Sheet4!$B$2:$B$8408,Sheet3!$A$3)<3,0,SUMIFS(Sheet4!$DN$2:$DN$8408,Sheet4!$C$2:$C$8408,Sheet3!$B30,Sheet4!$E$2:$E$8408,Sheet3!DN$4,Sheet4!$A$2:$A$8408,Sheet3!$B$1,Sheet4!$B$2:$B$8408,Sheet3!$A$3))","v":1395},{"$f":"+IF(SUMIFS(Sheet4!$DN$2:$DN$8408,Sheet4!$C$2:$C$8408,Sheet3!$B30,Sheet4!$E$2:$E$8408,Sheet3!DO$4,Sheet4!$A$2:$A$8408,Sheet3!$B$1,Sheet4!$B$2:$B$8408,Sheet3!$A$3)<3,0,SUMIFS(Sheet4!$DN$2:$DN$8408,Sheet4!$C$2:$C$8408,Sheet3!$B30,Sheet4!$E$2:$E$8408,Sheet3!DO$4,Sheet4!$A$2:$A$8408,Sheet3!$B$1,Sheet4!$B$2:$B$8408,Sheet3!$A$3))","v":2494},{"$f":"+IF(SUMIFS(Sheet4!$DN$2:$DN$8408,Sheet4!$C$2:$C$8408,Sheet3!$B30,Sheet4!$E$2:$E$8408,Sheet3!DP$4,Sheet4!$A$2:$A$8408,Sheet3!$B$1,Sheet4!$B$2:$B$8408,Sheet3!$A$3)<3,0,SUMIFS(Sheet4!$DN$2:$DN$8408,Sheet4!$C$2:$C$8408,Sheet3!$B30,Sheet4!$E$2:$E$8408,Sheet3!DP$4,Sheet4!$A$2:$A$8408,Sheet3!$B$1,Sheet4!$B$2:$B$8408,Sheet3!$A$3))","v":701},{"$f":"+IF(SUMIFS(Sheet4!$DN$2:$DN$8408,Sheet4!$C$2:$C$8408,Sheet3!$B30,Sheet4!$E$2:$E$8408,Sheet3!DQ$4,Sheet4!$A$2:$A$8408,Sheet3!$B$1,Sheet4!$B$2:$B$8408,Sheet3!$A$3)<3,0,SUMIFS(Sheet4!$DN$2:$DN$8408,Sheet4!$C$2:$C$8408,Sheet3!$B30,Sheet4!$E$2:$E$8408,Sheet3!DQ$4,Sheet4!$A$2:$A$8408,Sheet3!$B$1,Sheet4!$B$2:$B$8408,Sheet3!$A$3))","v":324},{"$f":"+IF(SUMIFS(Sheet4!$DN$2:$DN$8408,Sheet4!$C$2:$C$8408,Sheet3!$B30,Sheet4!$E$2:$E$8408,Sheet3!DR$4,Sheet4!$A$2:$A$8408,Sheet3!$B$1,Sheet4!$B$2:$B$8408,Sheet3!$A$3)<3,0,SUMIFS(Sheet4!$DN$2:$DN$8408,Sheet4!$C$2:$C$8408,Sheet3!$B30,Sheet4!$E$2:$E$8408,Sheet3!DR$4,Sheet4!$A$2:$A$8408,Sheet3!$B$1,Sheet4!$B$2:$B$8408,Sheet3!$A$3))","v":116}]
["Continente",">999",null,{"$f":"+SUMIFS(Sheet4!$DN$2:$DN$8408,Sheet4!$D$2:$D$8408,Sheet3!D$3,Sheet4!$E$2:$E$8408,Sheet3!D$4,Sheet4!$A$2:$A$8408,Sheet3!$B$1,Sheet4!$B$2:$B$8408,Sheet3!$A$3)","v":61},{"$f":"+SUMIFS(Sheet4!$DN$2:$DN$8408,Sheet4!$D$2:$D$8408,Sheet3!E$3,Sheet4!$E$2:$E$8408,Sheet3!E$4,Sheet4!$A$2:$A$8408,Sheet3!$B$1,Sheet4!$B$2:$B$8408,Sheet3!$A$3)","v":95},{"$f":"+SUMIFS(Sheet4!$DN$2:$DN$8408,Sheet4!$D$2:$D$8408,Sheet3!F$3,Sheet4!$E$2:$E$8408,Sheet3!F$4,Sheet4!$A$2:$A$8408,Sheet3!$B$1,Sheet4!$B$2:$B$8408,Sheet3!$A$3)","v":76},{"$f":"+SUMIFS(Sheet4!$DN$2:$DN$8408,Sheet4!$D$2:$D$8408,Sheet3!G$3,Sheet4!$E$2:$E$8408,Sheet3!G$4,Sheet4!$A$2:$A$8408,Sheet3!$B$1,Sheet4!$B$2:$B$8408,Sheet3!$A$3)","v":66},{"$f":"+SUMIFS(Sheet4!$DN$2:$DN$8408,Sheet4!$D$2:$D$8408,Sheet3!H$3,Sheet4!$E$2:$E$8408,Sheet3!H$4,Sheet4!$A$2:$A$8408,Sheet3!$B$1,Sheet4!$B$2:$B$8408,Sheet3!$A$3)","v":58},{"$f":"+SUMIFS(Sheet4!$DN$2:$DN$8408,Sheet4!$D$2:$D$8408,Sheet3!I$3,Sheet4!$E$2:$E$8408,Sheet3!I$4,Sheet4!$A$2:$A$8408,Sheet3!$B$1,Sheet4!$B$2:$B$8408,Sheet3!$A$3)","v":4525},{"$f":"+SUMIFS(Sheet4!$DN$2:$DN$8408,Sheet4!$D$2:$D$8408,Sheet3!J$3,Sheet4!$E$2:$E$8408,Sheet3!J$4,Sheet4!$A$2:$A$8408,Sheet3!$B$1,Sheet4!$B$2:$B$8408,Sheet3!$A$3)","v":1055},{"$f":"+SUMIFS(Sheet4!$DN$2:$DN$8408,Sheet4!$D$2:$D$8408,Sheet3!K$3,Sheet4!$E$2:$E$8408,Sheet3!K$4,Sheet4!$A$2:$A$8408,Sheet3!$B$1,Sheet4!$B$2:$B$8408,Sheet3!$A$3)","v":295},{"$f":"+SUMIFS(Sheet4!$DN$2:$DN$8408,Sheet4!$D$2:$D$8408,Sheet3!L$3,Sheet4!$E$2:$E$8408,Sheet3!L$4,Sheet4!$A$2:$A$8408,Sheet3!$B$1,Sheet4!$B$2:$B$8408,Sheet3!$A$3)","v":248},{"$f":"+SUMIFS(Sheet4!$DN$2:$DN$8408,Sheet4!$D$2:$D$8408,Sheet3!M$3,Sheet4!$E$2:$E$8408,Sheet3!M$4,Sheet4!$A$2:$A$8408,Sheet3!$B$1,Sheet4!$B$2:$B$8408,Sheet3!$A$3)","v":36},{"$f":"+SUMIFS(Sheet4!$DN$2:$DN$8408,Sheet4!$D$2:$D$8408,Sheet3!N$3,Sheet4!$E$2:$E$8408,Sheet3!N$4,Sheet4!$A$2:$A$8408,Sheet3!$B$1,Sheet4!$B$2:$B$8408,Sheet3!$A$3)","v":5081},{"$f":"+SUMIFS(Sheet4!$DN$2:$DN$8408,Sheet4!$D$2:$D$8408,Sheet3!O$3,Sheet4!$E$2:$E$8408,Sheet3!O$4,Sheet4!$A$2:$A$8408,Sheet3!$B$1,Sheet4!$B$2:$B$8408,Sheet3!$A$3)","v":956},{"$f":"+SUMIFS(Sheet4!$DN$2:$DN$8408,Sheet4!$D$2:$D$8408,Sheet3!P$3,Sheet4!$E$2:$E$8408,Sheet3!P$4,Sheet4!$A$2:$A$8408,Sheet3!$B$1,Sheet4!$B$2:$B$8408,Sheet3!$A$3)","v":225},{"$f":"+SUMIFS(Sheet4!$DN$2:$DN$8408,Sheet4!$D$2:$D$8408,Sheet3!Q$3,Sheet4!$E$2:$E$8408,Sheet3!Q$4,Sheet4!$A$2:$A$8408,Sheet3!$B$1,Sheet4!$B$2:$B$8408,Sheet3!$A$3)","v":92},{"$f":"+SUMIFS(Sheet4!$DN$2:$DN$8408,Sheet4!$D$2:$D$8408,Sheet3!R$3,Sheet4!$E$2:$E$8408,Sheet3!R$4,Sheet4!$A$2:$A$8408,Sheet3!$B$1,Sheet4!$B$2:$B$8408,Sheet3!$A$3)","v":15},{"$f":"+SUMIFS(Sheet4!$DN$2:$DN$8408,Sheet4!$D$2:$D$8408,Sheet3!S$3,Sheet4!$E$2:$E$8408,Sheet3!S$4,Sheet4!$A$2:$A$8408,Sheet3!$B$1,Sheet4!$B$2:$B$8408,Sheet3!$A$3)","v":95},{"$f":"+SUMIFS(Sheet4!$DN$2:$DN$8408,Sheet4!$D$2:$D$8408,Sheet3!T$3,Sheet4!$E$2:$E$8408,Sheet3!T$4,Sheet4!$A$2:$A$8408,Sheet3!$B$1,Sheet4!$B$2:$B$8408,Sheet3!$A$3)","v":220},{"$f":"+SUMIFS(Sheet4!$DN$2:$DN$8408,Sheet4!$D$2:$D$8408,Sheet3!U$3,Sheet4!$E$2:$E$8408,Sheet3!U$4,Sheet4!$A$2:$A$8408,Sheet3!$B$1,Sheet4!$B$2:$B$8408,Sheet3!$A$3)","v":185},{"$f":"+SUMIFS(Sheet4!$DN$2:$DN$8408,Sheet4!$D$2:$D$8408,Sheet3!V$3,Sheet4!$E$2:$E$8408,Sheet3!V$4,Sheet4!$A$2:$A$8408,Sheet3!$B$1,Sheet4!$B$2:$B$8408,Sheet3!$A$3)","v":113},{"$f":"+SUMIFS(Sheet4!$DN$2:$DN$8408,Sheet4!$D$2:$D$8408,Sheet3!W$3,Sheet4!$E$2:$E$8408,Sheet3!W$4,Sheet4!$A$2:$A$8408,Sheet3!$B$1,Sheet4!$B$2:$B$8408,Sheet3!$A$3)","v":2},{"$f":"+SUMIFS(Sheet4!$DN$2:$DN$8408,Sheet4!$D$2:$D$8408,Sheet3!X$3,Sheet4!$E$2:$E$8408,Sheet3!X$4,Sheet4!$A$2:$A$8408,Sheet3!$B$1,Sheet4!$B$2:$B$8408,Sheet3!$A$3)","v":6},{"$f":"+SUMIFS(Sheet4!$DN$2:$DN$8408,Sheet4!$D$2:$D$8408,Sheet3!Y$3,Sheet4!$E$2:$E$8408,Sheet3!Y$4,Sheet4!$A$2:$A$8408,Sheet3!$B$1,Sheet4!$B$2:$B$8408,Sheet3!$A$3)","v":48},{"$f":"+SUMIFS(Sheet4!$DN$2:$DN$8408,Sheet4!$D$2:$D$8408,Sheet3!Z$3,Sheet4!$E$2:$E$8408,Sheet3!Z$4,Sheet4!$A$2:$A$8408,Sheet3!$B$1,Sheet4!$B$2:$B$8408,Sheet3!$A$3)","v":58},{"$f":"+SUMIFS(Sheet4!$DN$2:$DN$8408,Sheet4!$D$2:$D$8408,Sheet3!AA$3,Sheet4!$E$2:$E$8408,Sheet3!AA$4,Sheet4!$A$2:$A$8408,Sheet3!$B$1,Sheet4!$B$2:$B$8408,Sheet3!$A$3)","v":75},{"$f":"+SUMIFS(Sheet4!$DN$2:$DN$8408,Sheet4!$D$2:$D$8408,Sheet3!AB$3,Sheet4!$E$2:$E$8408,Sheet3!AB$4,Sheet4!$A$2:$A$8408,Sheet3!$B$1,Sheet4!$B$2:$B$8408,Sheet3!$A$3)","v":12},{"$f":"+SUMIFS(Sheet4!$DN$2:$DN$8408,Sheet4!$D$2:$D$8408,Sheet3!AC$3,Sheet4!$E$2:$E$8408,Sheet3!AC$4,Sheet4!$A$2:$A$8408,Sheet3!$B$1,Sheet4!$B$2:$B$8408,Sheet3!$A$3)","v":6661},{"$f":"+SUMIFS(Sheet4!$DN$2:$DN$8408,Sheet4!$D$2:$D$8408,Sheet3!AD$3,Sheet4!$E$2:$E$8408,Sheet3!AD$4,Sheet4!$A$2:$A$8408,Sheet3!$B$1,Sheet4!$B$2:$B$8408,Sheet3!$A$3)","v":7346},{"$f":"+SUMIFS(Sheet4!$DN$2:$DN$8408,Sheet4!$D$2:$D$8408,Sheet3!AE$3,Sheet4!$E$2:$E$8408,Sheet3!AE$4,Sheet4!$A$2:$A$8408,Sheet3!$B$1,Sheet4!$B$2:$B$8408,Sheet3!$A$3)","v":914},{"$f":"+SUMIFS(Sheet4!$DN$2:$DN$8408,Sheet4!$D$2:$D$8408,Sheet3!AF$3,Sheet4!$E$2:$E$8408,Sheet3!AF$4,Sheet4!$A$2:$A$8408,Sheet3!$B$1,Sheet4!$B$2:$B$8408,Sheet3!$A$3)","v":309},{"$f":"+SUMIFS(Sheet4!$DN$2:$DN$8408,Sheet4!$D$2:$D$8408,Sheet3!AG$3,Sheet4!$E$2:$E$8408,Sheet3!AG$4,Sheet4!$A$2:$A$8408,Sheet3!$B$1,Sheet4!$B$2:$B$8408,Sheet3!$A$3)","v":64},{"$f":"+SUMIFS(Sheet4!$DN$2:$DN$8408,Sheet4!$D$2:$D$8408,Sheet3!AH$3,Sheet4!$E$2:$E$8408,Sheet3!AH$4,Sheet4!$A$2:$A$8408,Sheet3!$B$1,Sheet4!$B$2:$B$8408,Sheet3!$A$3)","v":5079},{"$f":"+SUMIFS(Sheet4!$DN$2:$DN$8408,Sheet4!$D$2:$D$8408,Sheet3!AI$3,Sheet4!$E$2:$E$8408,Sheet3!AI$4,Sheet4!$A$2:$A$8408,Sheet3!$B$1,Sheet4!$B$2:$B$8408,Sheet3!$A$3)","v":4694},{"$f":"+SUMIFS(Sheet4!$DN$2:$DN$8408,Sheet4!$D$2:$D$8408,Sheet3!AJ$3,Sheet4!$E$2:$E$8408,Sheet3!AJ$4,Sheet4!$A$2:$A$8408,Sheet3!$B$1,Sheet4!$B$2:$B$8408,Sheet3!$A$3)","v":1056},{"$f":"+SUMIFS(Sheet4!$DN$2:$DN$8408,Sheet4!$D$2:$D$8408,Sheet3!AK$3,Sheet4!$E$2:$E$8408,Sheet3!AK$4,Sheet4!$A$2:$A$8408,Sheet3!$B$1,Sheet4!$B$2:$B$8408,Sheet3!$A$3)","v":206},{"$f":"+SUMIFS(Sheet4!$DN$2:$DN$8408,Sheet4!$D$2:$D$8408,Sheet3!AL$3,Sheet4!$E$2:$E$8408,Sheet3!AL$4,Sheet4!$A$2:$A$8408,Sheet3!$B$1,Sheet4!$B$2:$B$8408,Sheet3!$A$3)","v":12},{"$f":"+SUMIFS(Sheet4!$DN$2:$DN$8408,Sheet4!$D$2:$D$8408,Sheet3!AM$3,Sheet4!$E$2:$E$8408,Sheet3!AM$4,Sheet4!$A$2:$A$8408,Sheet3!$B$1,Sheet4!$B$2:$B$8408,Sheet3!$A$3)","v":5226},{"$f":"+SUMIFS(Sheet4!$DN$2:$DN$8408,Sheet4!$D$2:$D$8408,Sheet3!AN$3,Sheet4!$E$2:$E$8408,Sheet3!AN$4,Sheet4!$A$2:$A$8408,Sheet3!$B$1,Sheet4!$B$2:$B$8408,Sheet3!$A$3)","v":4619},{"$f":"+SUMIFS(Sheet4!$DN$2:$DN$8408,Sheet4!$D$2:$D$8408,Sheet3!AO$3,Sheet4!$E$2:$E$8408,Sheet3!AO$4,Sheet4!$A$2:$A$8408,Sheet3!$B$1,Sheet4!$B$2:$B$8408,Sheet3!$A$3)","v":2824},{"$f":"+SUMIFS(Sheet4!$DN$2:$DN$8408,Sheet4!$D$2:$D$8408,Sheet3!AP$3,Sheet4!$E$2:$E$8408,Sheet3!AP$4,Sheet4!$A$2:$A$8408,Sheet3!$B$1,Sheet4!$B$2:$B$8408,Sheet3!$A$3)","v":1210},{"$f":"+SUMIFS(Sheet4!$DN$2:$DN$8408,Sheet4!$D$2:$D$8408,Sheet3!AQ$3,Sheet4!$E$2:$E$8408,Sheet3!AQ$4,Sheet4!$A$2:$A$8408,Sheet3!$B$1,Sheet4!$B$2:$B$8408,Sheet3!$A$3)","v":279},{"$f":"+SUMIFS(Sheet4!$DN$2:$DN$8408,Sheet4!$D$2:$D$8408,Sheet3!AR$3,Sheet4!$E$2:$E$8408,Sheet3!AR$4,Sheet4!$A$2:$A$8408,Sheet3!$B$1,Sheet4!$B$2:$B$8408,Sheet3!$A$3)","v":8386},{"$f":"+SUMIFS(Sheet4!$DN$2:$DN$8408,Sheet4!$D$2:$D$8408,Sheet3!AS$3,Sheet4!$E$2:$E$8408,Sheet3!AS$4,Sheet4!$A$2:$A$8408,Sheet3!$B$1,Sheet4!$B$2:$B$8408,Sheet3!$A$3)","v":935},{"$f":"+SUMIFS(Sheet4!$DN$2:$DN$8408,Sheet4!$D$2:$D$8408,Sheet3!AT$3,Sheet4!$E$2:$E$8408,Sheet3!AT$4,Sheet4!$A$2:$A$8408,Sheet3!$B$1,Sheet4!$B$2:$B$8408,Sheet3!$A$3)","v":442},{"$f":"+SUMIFS(Sheet4!$DN$2:$DN$8408,Sheet4!$D$2:$D$8408,Sheet3!AU$3,Sheet4!$E$2:$E$8408,Sheet3!AU$4,Sheet4!$A$2:$A$8408,Sheet3!$B$1,Sheet4!$B$2:$B$8408,Sheet3!$A$3)","v":235},{"$f":"+SUMIFS(Sheet4!$DN$2:$DN$8408,Sheet4!$D$2:$D$8408,Sheet3!AV$3,Sheet4!$E$2:$E$8408,Sheet3!AV$4,Sheet4!$A$2:$A$8408,Sheet3!$B$1,Sheet4!$B$2:$B$8408,Sheet3!$A$3)","v":29},{"$f":"+SUMIFS(Sheet4!$DN$2:$DN$8408,Sheet4!$D$2:$D$8408,Sheet3!AW$3,Sheet4!$E$2:$E$8408,Sheet3!AW$4,Sheet4!$A$2:$A$8408,Sheet3!$B$1,Sheet4!$B$2:$B$8408,Sheet3!$A$3)","v":37499},{"$f":"+SUMIFS(Sheet4!$DN$2:$DN$8408,Sheet4!$D$2:$D$8408,Sheet3!AX$3,Sheet4!$E$2:$E$8408,Sheet3!AX$4,Sheet4!$A$2:$A$8408,Sheet3!$B$1,Sheet4!$B$2:$B$8408,Sheet3!$A$3)","v":15560},{"$f":"+SUMIFS(Sheet4!$DN$2:$DN$8408,Sheet4!$D$2:$D$8408,Sheet3!AY$3,Sheet4!$E$2:$E$8408,Sheet3!AY$4,Sheet4!$A$2:$A$8408,Sheet3!$B$1,Sheet4!$B$2:$B$8408,Sheet3!$A$3)","v":1162},{"$f":"+SUMIFS(Sheet4!$DN$2:$DN$8408,Sheet4!$D$2:$D$8408,Sheet3!AZ$3,Sheet4!$E$2:$E$8408,Sheet3!AZ$4,Sheet4!$A$2:$A$8408,Sheet3!$B$1,Sheet4!$B$2:$B$8408,Sheet3!$A$3)","v":372},{"$f":"+SUMIFS(Sheet4!$DN$2:$DN$8408,Sheet4!$D$2:$D$8408,Sheet3!BA$3,Sheet4!$E$2:$E$8408,Sheet3!BA$4,Sheet4!$A$2:$A$8408,Sheet3!$B$1,Sheet4!$B$2:$B$8408,Sheet3!$A$3)","v":70},{"$f":"+SUMIFS(Sheet4!$DN$2:$DN$8408,Sheet4!$D$2:$D$8408,Sheet3!BB$3,Sheet4!$E$2:$E$8408,Sheet3!BB$4,Sheet4!$A$2:$A$8408,Sheet3!$B$1,Sheet4!$B$2:$B$8408,Sheet3!$A$3)","v":54},{"$f":"+SUMIFS(Sheet4!$DN$2:$DN$8408,Sheet4!$D$2:$D$8408,Sheet3!BC$3,Sheet4!$E$2:$E$8408,Sheet3!BC$4,Sheet4!$A$2:$A$8408,Sheet3!$B$1,Sheet4!$B$2:$B$8408,Sheet3!$A$3)","v":233},{"$f":"+SUMIFS(Sheet4!$DN$2:$DN$8408,Sheet4!$D$2:$D$8408,Sheet3!BD$3,Sheet4!$E$2:$E$8408,Sheet3!BD$4,Sheet4!$A$2:$A$8408,Sheet3!$B$1,Sheet4!$B$2:$B$8408,Sheet3!$A$3)","v":441},{"$f":"+SUMIFS(Sheet4!$DN$2:$DN$8408,Sheet4!$D$2:$D$8408,Sheet3!BE$3,Sheet4!$E$2:$E$8408,Sheet3!BE$4,Sheet4!$A$2:$A$8408,Sheet3!$B$1,Sheet4!$B$2:$B$8408,Sheet3!$A$3)","v":978},{"$f":"+SUMIFS(Sheet4!$DN$2:$DN$8408,Sheet4!$D$2:$D$8408,Sheet3!BF$3,Sheet4!$E$2:$E$8408,Sheet3!BF$4,Sheet4!$A$2:$A$8408,Sheet3!$B$1,Sheet4!$B$2:$B$8408,Sheet3!$A$3)","v":148},{"$f":"+SUMIFS(Sheet4!$DN$2:$DN$8408,Sheet4!$D$2:$D$8408,Sheet3!BG$3,Sheet4!$E$2:$E$8408,Sheet3!BG$4,Sheet4!$A$2:$A$8408,Sheet3!$B$1,Sheet4!$B$2:$B$8408,Sheet3!$A$3)","v":433},{"$f":"+SUMIFS(Sheet4!$DN$2:$DN$8408,Sheet4!$D$2:$D$8408,Sheet3!BH$3,Sheet4!$E$2:$E$8408,Sheet3!BH$4,Sheet4!$A$2:$A$8408,Sheet3!$B$1,Sheet4!$B$2:$B$8408,Sheet3!$A$3)","v":1222},{"$f":"+SUMIFS(Sheet4!$DN$2:$DN$8408,Sheet4!$D$2:$D$8408,Sheet3!BI$3,Sheet4!$E$2:$E$8408,Sheet3!BI$4,Sheet4!$A$2:$A$8408,Sheet3!$B$1,Sheet4!$B$2:$B$8408,Sheet3!$A$3)","v":623},{"$f":"+SUMIFS(Sheet4!$DN$2:$DN$8408,Sheet4!$D$2:$D$8408,Sheet3!BJ$3,Sheet4!$E$2:$E$8408,Sheet3!BJ$4,Sheet4!$A$2:$A$8408,Sheet3!$B$1,Sheet4!$B$2:$B$8408,Sheet3!$A$3)","v":212},{"$f":"+SUMIFS(Sheet4!$DN$2:$DN$8408,Sheet4!$D$2:$D$8408,Sheet3!BK$3,Sheet4!$E$2:$E$8408,Sheet3!BK$4,Sheet4!$A$2:$A$8408,Sheet3!$B$1,Sheet4!$B$2:$B$8408,Sheet3!$A$3)","v":12},{"$f":"+SUMIFS(Sheet4!$DN$2:$DN$8408,Sheet4!$D$2:$D$8408,Sheet3!BL$3,Sheet4!$E$2:$E$8408,Sheet3!BL$4,Sheet4!$A$2:$A$8408,Sheet3!$B$1,Sheet4!$B$2:$B$8408,Sheet3!$A$3)","v":880},{"$f":"+SUMIFS(Sheet4!$DN$2:$DN$8408,Sheet4!$D$2:$D$8408,Sheet3!BM$3,Sheet4!$E$2:$E$8408,Sheet3!BM$4,Sheet4!$A$2:$A$8408,Sheet3!$B$1,Sheet4!$B$2:$B$8408,Sheet3!$A$3)","v":2040},{"$f":"+SUMIFS(Sheet4!$DN$2:$DN$8408,Sheet4!$D$2:$D$8408,Sheet3!BN$3,Sheet4!$E$2:$E$8408,Sheet3!BN$4,Sheet4!$A$2:$A$8408,Sheet3!$B$1,Sheet4!$B$2:$B$8408,Sheet3!$A$3)","v":619},{"$f":"+SUMIFS(Sheet4!$DN$2:$DN$8408,Sheet4!$D$2:$D$8408,Sheet3!BO$3,Sheet4!$E$2:$E$8408,Sheet3!BO$4,Sheet4!$A$2:$A$8408,Sheet3!$B$1,Sheet4!$B$2:$B$8408,Sheet3!$A$3)","v":127},{"$f":"+SUMIFS(Sheet4!$DN$2:$DN$8408,Sheet4!$D$2:$D$8408,Sheet3!BP$3,Sheet4!$E$2:$E$8408,Sheet3!BP$4,Sheet4!$A$2:$A$8408,Sheet3!$B$1,Sheet4!$B$2:$B$8408,Sheet3!$A$3)","v":34},{"$f":"+SUMIFS(Sheet4!$DN$2:$DN$8408,Sheet4!$D$2:$D$8408,Sheet3!BQ$3,Sheet4!$E$2:$E$8408,Sheet3!BQ$4,Sheet4!$A$2:$A$8408,Sheet3!$B$1,Sheet4!$B$2:$B$8408,Sheet3!$A$3)","v":808},{"$f":"+SUMIFS(Sheet4!$DN$2:$DN$8408,Sheet4!$D$2:$D$8408,Sheet3!BR$3,Sheet4!$E$2:$E$8408,Sheet3!BR$4,Sheet4!$A$2:$A$8408,Sheet3!$B$1,Sheet4!$B$2:$B$8408,Sheet3!$A$3)","v":3243},{"$f":"+SUMIFS(Sheet4!$DN$2:$DN$8408,Sheet4!$D$2:$D$8408,Sheet3!BS$3,Sheet4!$E$2:$E$8408,Sheet3!BS$4,Sheet4!$A$2:$A$8408,Sheet3!$B$1,Sheet4!$B$2:$B$8408,Sheet3!$A$3)","v":1597},{"$f":"+SUMIFS(Sheet4!$DN$2:$DN$8408,Sheet4!$D$2:$D$8408,Sheet3!BT$3,Sheet4!$E$2:$E$8408,Sheet3!BT$4,Sheet4!$A$2:$A$8408,Sheet3!$B$1,Sheet4!$B$2:$B$8408,Sheet3!$A$3)","v":680},{"$f":"+SUMIFS(Sheet4!$DN$2:$DN$8408,Sheet4!$D$2:$D$8408,Sheet3!BU$3,Sheet4!$E$2:$E$8408,Sheet3!BU$4,Sheet4!$A$2:$A$8408,Sheet3!$B$1,Sheet4!$B$2:$B$8408,Sheet3!$A$3)","v":33},{"$f":"+SUMIFS(Sheet4!$DN$2:$DN$8408,Sheet4!$D$2:$D$8408,Sheet3!BV$3,Sheet4!$E$2:$E$8408,Sheet3!BV$4,Sheet4!$A$2:$A$8408,Sheet3!$B$1,Sheet4!$B$2:$B$8408,Sheet3!$A$3)","v":6785},{"$f":"+SUMIFS(Sheet4!$DN$2:$DN$8408,Sheet4!$D$2:$D$8408,Sheet3!BW$3,Sheet4!$E$2:$E$8408,Sheet3!BW$4,Sheet4!$A$2:$A$8408,Sheet3!$B$1,Sheet4!$B$2:$B$8408,Sheet3!$A$3)","v":8464},{"$f":"+SUMIFS(Sheet4!$DN$2:$DN$8408,Sheet4!$D$2:$D$8408,Sheet3!BX$3,Sheet4!$E$2:$E$8408,Sheet3!BX$4,Sheet4!$A$2:$A$8408,Sheet3!$B$1,Sheet4!$B$2:$B$8408,Sheet3!$A$3)","v":2287},{"$f":"+SUMIFS(Sheet4!$DN$2:$DN$8408,Sheet4!$D$2:$D$8408,Sheet3!BY$3,Sheet4!$E$2:$E$8408,Sheet3!BY$4,Sheet4!$A$2:$A$8408,Sheet3!$B$1,Sheet4!$B$2:$B$8408,Sheet3!$A$3)","v":392},{"$f":"+SUMIFS(Sheet4!$DN$2:$DN$8408,Sheet4!$D$2:$D$8408,Sheet3!BZ$3,Sheet4!$E$2:$E$8408,Sheet3!BZ$4,Sheet4!$A$2:$A$8408,Sheet3!$B$1,Sheet4!$B$2:$B$8408,Sheet3!$A$3)","v":10},{"$f":"+SUMIFS(Sheet4!$DN$2:$DN$8408,Sheet4!$D$2:$D$8408,Sheet3!CA$3,Sheet4!$E$2:$E$8408,Sheet3!CA$4,Sheet4!$A$2:$A$8408,Sheet3!$B$1,Sheet4!$B$2:$B$8408,Sheet3!$A$3)","v":5302},{"$f":"+SUMIFS(Sheet4!$DN$2:$DN$8408,Sheet4!$D$2:$D$8408,Sheet3!CB$3,Sheet4!$E$2:$E$8408,Sheet3!CB$4,Sheet4!$A$2:$A$8408,Sheet3!$B$1,Sheet4!$B$2:$B$8408,Sheet3!$A$3)","v":4983},{"$f":"+SUMIFS(Sheet4!$DN$2:$DN$8408,Sheet4!$D$2:$D$8408,Sheet3!CC$3,Sheet4!$E$2:$E$8408,Sheet3!CC$4,Sheet4!$A$2:$A$8408,Sheet3!$B$1,Sheet4!$B$2:$B$8408,Sheet3!$A$3)","v":797},{"$f":"+SUMIFS(Sheet4!$DN$2:$DN$8408,Sheet4!$D$2:$D$8408,Sheet3!CD$3,Sheet4!$E$2:$E$8408,Sheet3!CD$4,Sheet4!$A$2:$A$8408,Sheet3!$B$1,Sheet4!$B$2:$B$8408,Sheet3!$A$3)","v":482},{"$f":"+SUMIFS(Sheet4!$DN$2:$DN$8408,Sheet4!$D$2:$D$8408,Sheet3!CE$3,Sheet4!$E$2:$E$8408,Sheet3!CE$4,Sheet4!$A$2:$A$8408,Sheet3!$B$1,Sheet4!$B$2:$B$8408,Sheet3!$A$3)","v":78},{"$f":"+SUMIFS(Sheet4!$DN$2:$DN$8408,Sheet4!$D$2:$D$8408,Sheet3!CF$3,Sheet4!$E$2:$E$8408,Sheet3!CF$4,Sheet4!$A$2:$A$8408,Sheet3!$B$1,Sheet4!$B$2:$B$8408,Sheet3!$A$3)","v":7291},{"$f":"+SUMIFS(Sheet4!$DN$2:$DN$8408,Sheet4!$D$2:$D$8408,Sheet3!CG$3,Sheet4!$E$2:$E$8408,Sheet3!CG$4,Sheet4!$A$2:$A$8408,Sheet3!$B$1,Sheet4!$B$2:$B$8408,Sheet3!$A$3)","v":2636},{"$f":"+SUMIFS(Sheet4!$DN$2:$DN$8408,Sheet4!$D$2:$D$8408,Sheet3!CH$3,Sheet4!$E$2:$E$8408,Sheet3!CH$4,Sheet4!$A$2:$A$8408,Sheet3!$B$1,Sheet4!$B$2:$B$8408,Sheet3!$A$3)","v":358},{"$f":"+SUMIFS(Sheet4!$DN$2:$DN$8408,Sheet4!$D$2:$D$8408,Sheet3!CI$3,Sheet4!$E$2:$E$8408,Sheet3!CI$4,Sheet4!$A$2:$A$8408,Sheet3!$B$1,Sheet4!$B$2:$B$8408,Sheet3!$A$3)","v":34},{"$f":"+SUMIFS(Sheet4!$DN$2:$DN$8408,Sheet4!$D$2:$D$8408,Sheet3!CJ$3,Sheet4!$E$2:$E$8408,Sheet3!CJ$4,Sheet4!$A$2:$A$8408,Sheet3!$B$1,Sheet4!$B$2:$B$8408,Sheet3!$A$3)","v":0},{"$f":"+SUMIFS(Sheet4!$DN$2:$DN$8408,Sheet4!$D$2:$D$8408,Sheet3!CK$3,Sheet4!$E$2:$E$8408,Sheet3!CK$4,Sheet4!$A$2:$A$8408,Sheet3!$B$1,Sheet4!$B$2:$B$8408,Sheet3!$A$3)","v":2},{"$f":"+SUMIFS(Sheet4!$DN$2:$DN$8408,Sheet4!$D$2:$D$8408,Sheet3!CL$3,Sheet4!$E$2:$E$8408,Sheet3!CL$4,Sheet4!$A$2:$A$8408,Sheet3!$B$1,Sheet4!$B$2:$B$8408,Sheet3!$A$3)","v":5},{"$f":"+SUMIFS(Sheet4!$DN$2:$DN$8408,Sheet4!$D$2:$D$8408,Sheet3!CM$3,Sheet4!$E$2:$E$8408,Sheet3!CM$4,Sheet4!$A$2:$A$8408,Sheet3!$B$1,Sheet4!$B$2:$B$8408,Sheet3!$A$3)","v":63},{"$f":"+SUMIFS(Sheet4!$DN$2:$DN$8408,Sheet4!$D$2:$D$8408,Sheet3!CN$3,Sheet4!$E$2:$E$8408,Sheet3!CN$4,Sheet4!$A$2:$A$8408,Sheet3!$B$1,Sheet4!$B$2:$B$8408,Sheet3!$A$3)","v":124},{"$f":"+SUMIFS(Sheet4!$DN$2:$DN$8408,Sheet4!$D$2:$D$8408,Sheet3!CO$3,Sheet4!$E$2:$E$8408,Sheet3!CO$4,Sheet4!$A$2:$A$8408,Sheet3!$B$1,Sheet4!$B$2:$B$8408,Sheet3!$A$3)","v":72},{"$f":"+SUMIFS(Sheet4!$DN$2:$DN$8408,Sheet4!$D$2:$D$8408,Sheet3!CP$3,Sheet4!$E$2:$E$8408,Sheet3!CP$4,Sheet4!$A$2:$A$8408,Sheet3!$B$1,Sheet4!$B$2:$B$8408,Sheet3!$A$3)","v":154},{"$f":"+SUMIFS(Sheet4!$DN$2:$DN$8408,Sheet4!$D$2:$D$8408,Sheet3!CQ$3,Sheet4!$E$2:$E$8408,Sheet3!CQ$4,Sheet4!$A$2:$A$8408,Sheet3!$B$1,Sheet4!$B$2:$B$8408,Sheet3!$A$3)","v":47},{"$f":"+SUMIFS(Sheet4!$DN$2:$DN$8408,Sheet4!$D$2:$D$8408,Sheet3!CR$3,Sheet4!$E$2:$E$8408,Sheet3!CR$4,Sheet4!$A$2:$A$8408,Sheet3!$B$1,Sheet4!$B$2:$B$8408,Sheet3!$A$3)","v":16},{"$f":"+SUMIFS(Sheet4!$DN$2:$DN$8408,Sheet4!$D$2:$D$8408,Sheet3!CS$3,Sheet4!$E$2:$E$8408,Sheet3!CS$4,Sheet4!$A$2:$A$8408,Sheet3!$B$1,Sheet4!$B$2:$B$8408,Sheet3!$A$3)","v":9},{"$f":"+SUMIFS(Sheet4!$DN$2:$DN$8408,Sheet4!$D$2:$D$8408,Sheet3!CT$3,Sheet4!$E$2:$E$8408,Sheet3!CT$4,Sheet4!$A$2:$A$8408,Sheet3!$B$1,Sheet4!$B$2:$B$8408,Sheet3!$A$3)","v":0},{"$f":"+SUMIFS(Sheet4!$DN$2:$DN$8408,Sheet4!$D$2:$D$8408,Sheet3!CU$3,Sheet4!$A$2:$A$8408,Sheet3!$B$1,Sheet4!$B$2:$B$8408,Sheet3!$A$3)","v":356},{"$f":"+SUMIFS(Sheet4!$DN$2:$DN$8408,Sheet4!$D$2:$D$8408,Sheet3!CV$3,Sheet4!$A$2:$A$8408,Sheet3!$B$1,Sheet4!$B$2:$B$8408,Sheet3!$A$3)","v":6159},{"$f":"+SUMIFS(Sheet4!$DN$2:$DN$8408,Sheet4!$D$2:$D$8408,Sheet3!CW$3,Sheet4!$A$2:$A$8408,Sheet3!$B$1,Sheet4!$B$2:$B$8408,Sheet3!$A$3)","v":6369},{"$f":"+SUMIFS(Sheet4!$DN$2:$DN$8408,Sheet4!$D$2:$D$8408,Sheet3!CX$3,Sheet4!$A$2:$A$8408,Sheet3!$B$1,Sheet4!$B$2:$B$8408,Sheet3!$A$3)","v":615},{"$f":"+SUMIFS(Sheet4!$DN$2:$DN$8408,Sheet4!$D$2:$D$8408,Sheet3!CY$3,Sheet4!$A$2:$A$8408,Sheet3!$B$1,Sheet4!$B$2:$B$8408,Sheet3!$A$3)","v":199},{"$f":"+SUMIFS(Sheet4!$DN$2:$DN$8408,Sheet4!$D$2:$D$8408,Sheet3!CZ$3,Sheet4!$A$2:$A$8408,Sheet3!$B$1,Sheet4!$B$2:$B$8408,Sheet3!$A$3)","v":15294},{"$f":"+SUMIFS(Sheet4!$DN$2:$DN$8408,Sheet4!$D$2:$D$8408,Sheet3!DA$3,Sheet4!$A$2:$A$8408,Sheet3!$B$1,Sheet4!$B$2:$B$8408,Sheet3!$A$3)","v":11047},{"$f":"+SUMIFS(Sheet4!$DN$2:$DN$8408,Sheet4!$D$2:$D$8408,Sheet3!DB$3,Sheet4!$A$2:$A$8408,Sheet3!$B$1,Sheet4!$B$2:$B$8408,Sheet3!$A$3)","v":14158},{"$f":"+SUMIFS(Sheet4!$DN$2:$DN$8408,Sheet4!$D$2:$D$8408,Sheet3!DC$3,Sheet4!$A$2:$A$8408,Sheet3!$B$1,Sheet4!$B$2:$B$8408,Sheet3!$A$3)","v":10027},{"$f":"+SUMIFS(Sheet4!$DN$2:$DN$8408,Sheet4!$D$2:$D$8408,Sheet3!DD$3,Sheet4!$A$2:$A$8408,Sheet3!$B$1,Sheet4!$B$2:$B$8408,Sheet3!$A$3)","v":54663},{"$f":"+SUMIFS(Sheet4!$DN$2:$DN$8408,Sheet4!$D$2:$D$8408,Sheet3!DE$3,Sheet4!$A$2:$A$8408,Sheet3!$B$1,Sheet4!$B$2:$B$8408,Sheet3!$A$3)","v":1854},{"$f":"+SUMIFS(Sheet4!$DN$2:$DN$8408,Sheet4!$D$2:$D$8408,Sheet3!DF$3,Sheet4!$A$2:$A$8408,Sheet3!$B$1,Sheet4!$B$2:$B$8408,Sheet3!$A$3)","v":2502},{"$f":"+SUMIFS(Sheet4!$DN$2:$DN$8408,Sheet4!$D$2:$D$8408,Sheet3!DG$3,Sheet4!$A$2:$A$8408,Sheet3!$B$1,Sheet4!$B$2:$B$8408,Sheet3!$A$3)","v":3700},{"$f":"+SUMIFS(Sheet4!$DN$2:$DN$8408,Sheet4!$D$2:$D$8408,Sheet3!DH$3,Sheet4!$A$2:$A$8408,Sheet3!$B$1,Sheet4!$B$2:$B$8408,Sheet3!$A$3)","v":6361},{"$f":"+SUMIFS(Sheet4!$DN$2:$DN$8408,Sheet4!$D$2:$D$8408,Sheet3!DI$3,Sheet4!$A$2:$A$8408,Sheet3!$B$1,Sheet4!$B$2:$B$8408,Sheet3!$A$3)","v":17939},{"$f":"+SUMIFS(Sheet4!$DN$2:$DN$8408,Sheet4!$D$2:$D$8408,Sheet3!DJ$3,Sheet4!$A$2:$A$8408,Sheet3!$B$1,Sheet4!$B$2:$B$8408,Sheet3!$A$3)","v":11642},{"$f":"+SUMIFS(Sheet4!$DN$2:$DN$8408,Sheet4!$D$2:$D$8408,Sheet3!DK$3,Sheet4!$A$2:$A$8408,Sheet3!$B$1,Sheet4!$B$2:$B$8408,Sheet3!$A$3)","v":10319},{"$f":"+SUMIFS(Sheet4!$DN$2:$DN$8408,Sheet4!$D$2:$D$8408,Sheet3!DL$3,Sheet4!$A$2:$A$8408,Sheet3!$B$1,Sheet4!$B$2:$B$8408,Sheet3!$A$3)","v":266},{"$f":"+SUMIFS(Sheet4!$DN$2:$DN$8408,Sheet4!$D$2:$D$8408,Sheet3!DM$3,Sheet4!$A$2:$A$8408,Sheet3!$B$1,Sheet4!$B$2:$B$8408,Sheet3!$A$3)","v":226},{"$f":"+SUMIFS(Sheet4!$DN$2:$DN$8408,Sheet4!$E$2:$E$8408,Sheet3!DN$4,Sheet4!$A$2:$A$8408,Sheet3!$B$1,Sheet4!$B$2:$B$8408,Sheet3!$A$3)","v":94328},{"$f":"+SUMIFS(Sheet4!$DN$2:$DN$8408,Sheet4!$E$2:$E$8408,Sheet3!DO$4,Sheet4!$A$2:$A$8408,Sheet3!$B$1,Sheet4!$B$2:$B$8408,Sheet3!$A$3)","v":58401},{"$f":"+SUMIFS(Sheet4!$DN$2:$DN$8408,Sheet4!$E$2:$E$8408,Sheet3!DP$4,Sheet4!$A$2:$A$8408,Sheet3!$B$1,Sheet4!$B$2:$B$8408,Sheet3!$A$3)","v":14038},{"$f":"+SUMIFS(Sheet4!$DN$2:$DN$8408,Sheet4!$E$2:$E$8408,Sheet3!DQ$4,Sheet4!$A$2:$A$8408,Sheet3!$B$1,Sheet4!$B$2:$B$8408,Sheet3!$A$3)","v":5964},{"$f":"+SUMIFS(Sheet4!$DN$2:$DN$8408,Sheet4!$E$2:$E$8408,Sheet3!DR$4,Sheet4!$A$2:$A$8408,Sheet3!$B$1,Sheet4!$B$2:$B$8408,Sheet3!$A$3)","v":964}]

{"sheet":"Sheet4","index":8,"n_rows":8408,"n_cols":119,"rows_kept":562,"cut":true,"hidden":true,"merged":[],"bounds":{"rows_first":250,"rows_last":62,"rows_between":250,"halvings":3}}
["tipo","REG_sinal","NUT3_2013","OTE_sub","cl_MG_excel","CountOfGPP_ID","SumOfVpp","SumOfSAU","SumD_RPB","SumMG_Direitos","SUmofSAU_est","SumOfSAU_IRRIG","SumOfCult_Temp","SumOf_ARV_Ind_SEQ","SumOf_ARV_Ind_Reg","SumOfSF","SumOfPousio","SumOfCP","SumOfPP","Sumpp_02cn","SumOfCNH","SumOfCNT","SumOfS_RPB","SumOfS_MAA","SumOfS_MZD","SumOfAD_Totais2015","ajudas_desligadas","SumOfRPA","RPB_total","SumOfRPBAJU","SumOfRPBJOV","SumOfGREEN","redistributivo","SumOfPag_lig","SumOfVACAS_ALEIT","SumOfPAG_OV_CAP","SumOfVACAS_leite","SumOfPAG_TOMATE","SumOfPAG_ARROZ","SumOfPAG_COMPL_Leite","2_pilar","SumOfMZD","SumOfMZD_ZCE","SumOfMZD_ZCN","SumOfMZD_ZM","MAA","SumOfMAAABC","SumOfMAAABM","SumOfMAAAPI","SumOfMAACPD","SumOfMAACPT","SumOfMAACSE","SumOfMAACSS","SumOfMAAMAF","SumOfMAAMNS","SumOfMAAPDI","SumOfMAAPGP","SumOfMAAPGS","SumOfMAAPLR","SumOfMAAPLS","SumOfMAAPMT","SumOfMAAPPL","SumOfMAARAE","SumOfMAARCV","SumOfMAARGN","SumOfMAAROA","SumOfMAAUEA","PAg_Natura","PAg_produtores","SumOfCereais_seq","SumOfMilho_grao","SumOfArroz","SumOfOleag_proteag","SumOfHorticolas","SumOfForrag_prados_temp","SumOfPousios","SumOfPomares","SumOfVinha","SumOfOlival","SumOfPast_prados_perm","SumOfVacas_leite1","SumOfVacas_aleit1","SumOfOutros_bov","SumOfOvelhas","SumOfOutros_ovinos","SumOfCabras","SumOfOutros_cap","PI_N","PI_SAU","PABC_N","PABC_SAU","PABM_N","PABM_SAU","PUEA_N","PUEA_SAU","PCPT_N","PCPT_SAU","PCSS_N","PCSS_SAU","PCSE_N","PCSE_SAU","PPLS_N","PPLS_SAU","PPLR_N","PPLR_SAU","PPMT_N","PPMT_SAU","PPPL_N","PPPL_SAU",null,null,null,null,null,"cod","Cod1"]
[1,1,"111","1_1",1,153,198525.15683194812,188.47999999999996,171.97999999999996,16589.819999999996,192.62,155.53,100.75,0,0,1.77,5.92,42.179999999999978,38.97,7.0000000000000007E-2,0.4,0.4,188.97999999999996,22.900000000000006,148.74,151616.02999999997,151616.02999999997,151616.02999999997,0,0,0,0,0,0,0,0,0,0,0,5082.1899999999987,28516.909999999996,25863.44999999999,0,0,25863.44999999999,2653.46,0,0,0,0,0,0,0,2653.46,0,0,0,0,0,0,0,0,0,0,0,0,0,0,180132.93999999994,1.5,94.380000000000052,0,0.54,4.1499999999999986,30.069999999999997,5.9200000000000008,1.2800000000000005,10.3,1.34,41.61999999999999,0,0,1,0,0,0,0,0,0,0,0,0,0,0,0,0,0,0,0,0,0,0,0,0,0,0,0,0,0,null,null,null,null,null,null,null,{"$f":"+DN2*DO2","v":153},{"$f":"+INDEX($F2:$DJ2,1,Sheet3!$C$1)","v":153},{"$f":"+IF(Sheet3!$C$1=1,IF(DN2<3,0,1),1)","v":1}]
[1,1,"111","1_1",2,1,4059.2695831690462,2.17,0.76,49.82,2.17,1.8,1.07,0,0,0,7.0000000000000007E-2,1.03,0,0,0,0,2.17,0,2.17,993.49,993.49,993.49,0,0,0,0,0,0,0,0,0,0,0,135.84,564.20000000000005,564.20000000000005,0,0,564.20000000000005,0,0,0,0,0,0,0,0,0,0,0,0,0,0,0,0,0,0,0,0,0,0,0,1557.69,0,0.78,0,0.1,0.19,0.83,7.0000000000000007E-2,0,0.1,0,0,0,0,0,0,0,0,0,0,0,0,0,0,0,0,0,0,0,0,0,0,0,0,0,0,0,0,0,0,0,null,null,null,null,null,null,null,0,{"$f":"+INDEX($F3:$DJ3,1,Sheet3!$C$1)","v":1},{"$f":"+IF(Sheet3!$C$1=1,IF(DN3<3,0,1),1)","v":0}]
[1,1,"111","1_2",1,56,66341.91335001582,68.29000000000002,61.859999999999992,6259.5800000000008,71.53,8.33,32.840000000000003,0,0,0.57999999999999996,4.26,16.239999999999995,16.18,0,0.4,0.4,66.29000000000002,10.600000000000001,49.97000000000002,55342.480000000018,55342.480000000018,55342.480000000018,0,0,0,0,0,0,0,0,0,0,0,467.76,8871.840000000002,7644.0000000000009,0,0,7644.0000000000009,1227.8400000000001,0,0,0,0,0,0,0,1227.8399999999999,0,0,0,0,0,0,0,0,0,0,0,0,0,0,64214.320000000007,3.2700000000000005,27.639999999999997,0,0.1,1.8300000000000005,12.239999999999998,4.26,0.51,3.08,0.82000000000000006,17.420000000000002,0,0,1,0,0,0,0,0,0,0,0,0,0,0,0,0,0,0,0,0,0,0,0,0,0,0,0,0,0,null,null,null,null,null,null,null,56,{"$f":"+INDEX($F4:$DJ4,1,Sheet3!$C$1)","v":56},{"$f":"+IF(Sheet3!$C$1=1,IF(DN4<3,0,1),1)","v":1}]
[1,1,"111","1_2",2,1,6233.5101264682125,6.68,6.65,435.97,6.88,0.04,1.79,0,0,4.49,0,7.0000000000000007E-2,0.33,0,0,0,6.68,0,6.68,993.52,993.52,993.52,0,0,0,0,0,0,0,0,0,0,0,259.60000000000002,494,494,0,0,494,0,0,0,0,0,0,0,0,0,0,0,0,0,0,0,0,0,0,0,0,0,0,0,1487.52,0.1,1.65,0,0,0.04,4.49,0,0,7.0000000000000007E-2,0,0.53,0,0,0,0,0,0,0,0,0,0,0,0,0,0,0,0,0,0,0,0,0,0,0,0,0,0,0,0,0,null,null,null,null,null,null,null,0,{"$f":"+INDEX($F5:$DJ5,1,Sheet3!$C$1)","v":1},{"$f":"+IF(Sheet3!$C$1=1,IF(DN5<3,0,1),1)","v":0}]
[1,1,"111",4,1,55,124129.43912582834,56.85,50.47,4988.5099999999993,58.179999999999986,30.11,18.78,0,0,0.76,6.81,8.9500000000000011,21.75,2.7300000000000004,3.6,3.6,57.1,4.47,30.4,54599.03,54599.03,54599.03,0,0,0,0,0,0,0,0,0,0,0,1141.6499999999996,5809.4600000000009,5283.2000000000007,0,0,5283.2000000000007,526.26,0,0,0,0,0,0,0,526.26,0,0,0,0,0,0,0,0,0,0,0,0,0,0,60408.49,1.19,7.5,0,0.9700000000000002,9.1199999999999957,5.0200000000000005,4.4000000000000004,0.76000000000000012,2.8,0.25,22.829999999999991,0,0,0,14,3,5,2,0,0,0,0,0,0,0,0,0,0,0,0,0,0,0,0,0,0,0,0,0,0,null,null,null,null,null,null,null,55,{"$f":"+INDEX($F6:$DJ6,1,Sheet3!$C$1)","v":55},{"$f":"+IF(Sheet3!$C$1=1,IF(DN6<3,0,1),1)","v":1}]
[1,1,"111",4,2,22,232378.23100940234,37.72999999999999,32.970000000000006,2950.1000000000004,40.379999999999988,25.06,17.23,0,0,0,0.46,9.39,12.17,2.0299999999999998,3.6,3.6,39.249999999999986,6.4399999999999995,34.4,21813.52,21813.52,21813.52,0,0,0,0,0,0,0,0,0,0,0,1484.4600000000003,6534.7200000000012,5608.2000000000007,0,0,5608.2000000000007,926.5200000000001,0,0,0,0,0,0,0,800.52,0,0,0,0,0,0,0,0,0,0,126,0,0,0,28348.239999999998,0.16,6.5600000000000014,0,0.48,10.029999999999999,5.97,0.45999999999999996,0.37,2.5100000000000002,0.17,13.300000000000004,0,0,0,10,2,7,5,0,0,0,0,0,0,0,0,0,0,0,0,0,0,0,0,0,0,0,0,0,0,null,null,null,null,null,null,null,22,{"$f":"+INDEX($F7:$DJ7,1,Sheet3!$C$1)","v":22},{"$f":"+IF(Sheet3!$C$1=1,IF(DN7<3,0,1),1)","v":1}]
[1,1,"111",4,3,7,245488.35222994367,22.855,15.989999999999998,1226.4899999999998,27.88,9.17,10.88,0,0,0,0.21,4.87,11.83,10.53,4.95,4.95,17.89,1.49,27.819999999999997,6954.5400000000009,6954.5400000000009,6954.5400000000009,0,0,0,0,0,0,0,0,0,0,0,1445.6699999999998,5758.05,5249.4000000000005,0,0,5249.4000000000005,508.65,0,0,0,0,0,0,0,0,0,508.65,0,0,0,0,0,0,0,0,0,0,0,0,12712.59,0.27,5.48,0,0,5.1300000000000008,0.3,0.21,0.78,2.8799999999999994,0.59,11.89,0,0,0,31,2,0,0,1,1.49,0,0,0,0,0,0,0,0,0,0,0,0,0,0,0,0,0,0,0,0,null,null,null,null,null,null,null,7,{"$f":"+INDEX($F8:$DJ8,1,Sheet3!$C$1)","v":7},{"$f":"+IF(Sheet3!$C$1=1,IF(DN8<3,0,1),1)","v":1}]
[1,1,"111",5,1,166,407446.78176861897,230.53999999999994,210.46999999999986,16923.430000000004,235.38999999999993,114.14,10.86,0,0,0.19,6.54,175.99000000000004,36.96,5.3499999999999988,16.600000000000001,16.600000000000001,230.58999999999992,85.979999999999976,204.48,164411.48000000001,164411.48000000001,164411.48000000001,0,0,0,0,0,0,0,0,0,0,0,13047.909999999996,59153.429999999978,44330.18,0,0,44330.18,14823.25,0,0,0,0,0,0,0,13049.5,0,1773.75,0,0,0,0,0,0,0,0,0,0,0,0,223564.91000000006,0.88,7.55,0,0.39,2.0400000000000009,16.79,6.5399999999999991,2.0000000000000004,148.5200000000001,1.2200000000000002,41.309999999999995,0,1,0,85,19,0,0,3,4.55,0,0,0,0,0,0,0,0,0,0,0,0,0,0,0,0,0,0,0,0,null,null,null,null,null,null,null,166,{"$f":"+INDEX($F9:$DJ9,1,Sheet3!$C$1)","v":166},{"$f":"+IF(Sheet3!$C$1=1,IF(DN9<3,0,1),1)","v":1}]
[1,1,"111",5,2,117,800254.61268744373,381.27,301.38,20975.539999999997,393.05,221.5,9.4,0,0,0.19,5.1100000000000003,351.06999999999988,15.5,4.9599999999999991,27.3,27.3,381.31,217.11999999999998,381.62,115946.52000000002,115946.52000000002,115946.52000000002,0,0,0,0,0,0,0,0,0,0,0,26331.329999999998,138667.18999999997,87670.959999999977,0,0,87670.959999999977,50996.230000000018,0,1302.6500000000001,0,0,0,1306.2,0,25878.36,0,22509.02,0,0,0,0,0,0,0,0,0,0,0,0,254613.7099999999,0,5.94,0,0.03,3.43,20.98,5.1099999999999994,7.18,306.82000000000011,1.6600000000000001,26.790000000000006,0,0,0,150,26,5,1,25,82.5,0,0,1,2.35,0,0,0,0,0,0,6,12.44,0,0,0,0,0,0,0,0,null,null,null,null,null,null,null,117,{"$f":"+INDEX($F10:$DJ10,1,Sheet3!$C$1)","v":117},{"$f":"+IF(Sheet3!$C$1=1,IF(DN10<3,0,1),1)","v":1}]
[1,1,"111",6,1,15,34959.901734659827,17.349999999999998,16.099999999999998,1372.3300000000002,18.46,5.38,2.04,0,0,0,0.35,11.700000000000001,3.26,0.70000000000000007,1.05,1.05,17.349999999999998,0.34,9.92,14902.52,14902.52,14902.52,0,0,0,0,0,0,0,0,0,0,0,93.7,2217.84,2176.1999999999998,0,0,2176.1999999999998,41.64,0,0,0,0,0,0,0,41.64,0,0,0,0,0,0,0,0,0,0,0,0,0,0,17120.36,0.39,1.47,0,0.02,0.16,2.3200000000000003,0.35,7.9400000000000013,0.79,0.22999999999999998,4.37,0,0,0,3,0,4,0,0,0,0,0,0,0,0,0,0,0,0,0,0,0,0,0,0,0,0,0,0,0,null,null,null,null,null,null,null,15,{"$f":"+INDEX($F11:$DJ11,1,Sheet3!$C$1)","v":15},{"$f":"+IF(Sheet3!$C$1=1,IF(DN11<3,0,1),1)","v":1}]
[1,1,"111",6,2,26,247898.84607386065,43.769999999999996,35.729999999999997,2824.4,46.23,26.58,5.03,0,0,0,0.11,35.5,3.13,0,4.5999999999999996,4.5999999999999996,43.769999999999996,8.8199999999999985,40.069999999999986,25787.500000000004,25787.500000000004,25787.500000000004,0,0,0,0,0,0,0,0,0,0,0,1773.4699999999998,11398.32,8558.9,0,0,8558.9,2839.42,1603,0,0,0,0,0,0,1236.42,0,0,0,0,0,0,0,0,0,0,0,0,0,0,37185.820000000007,0.25,3.5999999999999996,0,0.12000000000000001,1.0600000000000003,4.2999999999999989,0.11,23.080000000000002,6.8899999999999988,0.01,5.59,0,3,3,0,0,0,0,0,0,1,4.51,0,0,0,0,0,0,0,0,0,0,0,0,0,0,0,0,0,0,null,null,null,null,null,null,null,26,{"$f":"+INDEX($F12:$DJ12,1,Sheet3!$C$1)","v":26},{"$f":"+IF(Sheet3!$C$1=1,IF(DN12<3,0,1),1)","v":1}]
[1,1,"111",6,3,17,727894.0561976087,32.945,24.73,2125.71,34.480000000000004,28.39,0.71,0,0,0,0,28.014999999999997,4.22,3.06,4,6,33.92,10.56,33.94,16889.59,16889.59,16889.59,0,0,0,0,0,0,0,0,0,0,0,2463.4500000000003,13124.64,7049.2000000000016,0,0,7049.2000000000016,6075.4400000000005,1008,3106.36,0,0,0,0,0,526.5,0,988.88,0,242.4,203.3,0,0,0,0,0,0,0,0,0,30014.23,0,0.26,0,0,0.45000000000000007,4.43,0,22.7,0.94000000000000006,0.26,4.7600000000000007,0,3,1,0,0,0,0,2,1.93,1,1.1200000000000001,3,3.72,0,0,0,0,0,0,0,0,0,0,1,1.07,0,0,0,0,null,null,null,null,null,null,null,17,{"$f":"+INDEX($F13:$DJ13,1,Sheet3!$C$1)","v":17},{"$f":"+IF(Sheet3!$C$1=1,IF(DN13<3,0,1),1)","v":1}]
[1,1,"111",7,1,1,741.05391924487685,1.1100000000000001,1.1100000000000001,72.77,1.1100000000000001,0.16,0.24,0,0,0,0.14000000000000001,0.73,0,0,0,0,1.1100000000000001,0,1.1100000000000001,993.5,993.5,993.5,0,0,0,0,0,0,0,0,0,0,0,0,288.60000000000002,288.60000000000002,0,0,288.60000000000002,0,0,0,0,0,0,0,0,0,0,0,0,0,0,0,0,0,0,0,0,0,0,0,1282.0999999999999,0,0.16,0,0.08,0,0,0.14000000000000001,0,0,0.73,0,0,0,0,0,0,0,0,0,0,0,0,0,0,0,0,0,0,0,0,0,0,0,0,0,0,0,0,0,0,null,null,null,null,null,null,null,0,{"$f":"+INDEX($F14:$DJ14,1,Sheet3!$C$1)","v":1},{"$f":"+IF(Sheet3!$C$1=1,IF(DN14<3,0,1),1)","v":0}]
[1,1,"111",8,1,1127,2153253.0434144298,1428.9499999999975,1317.1,121264.55000000002,1464.6599999999987,796.96,417.23,0,0,10.130000000000001,82.53,617.76000000000136,304.24,47.109999999999992,141.20000000000005,145.20000000000005,1435.7199999999971,221.4899999999999,1151.399999999999,1116641.3900000001,1116641.3900000001,1116641.3900000001,0,0,0,0,0,0,0,0,0,0,0,37551.870000000003,247470.48999999987,216460.78999999986,0,0,216460.78999999986,31009.700000000008,0,0,0,0,0,0,0,28361,0,0,0,1416,632.70000000000005,0,0,0,0,0,600,0,0,0,1364111.8799999997,23.92,299.20000000000022,0,10.049999999999992,83.76,218.60000000000031,82.530000000000015,65.909999999999982,219.58999999999986,35.010000000000012,332.57999999999981,0,36,42,393,82,57,12,0,0,0,0,0,0,0,0,0,0,0,0,0,0,0,0,3,3.33,0,0,0,0,null,null,null,null,null,null,null,1127,{"$f":"+INDEX($F15:$DJ15,1,Sheet3!$C$1)","v":1127},{"$f":"+IF(Sheet3!$C$1=1,IF(DN15<3,0,1),1)","v":1}]
[1,1,"111",8,2,102,557390.94661337486,252.37500000000006,213.32999999999998,16619.95,261.27000000000004,138.19,61.94,0,0,0.95,5.61,148.28499999999997,36.450000000000003,22.890000000000008,49.150000000000006,49.150000000000006,256.78000000000003,58.95000000000001,253.78000000000006,101070.83,101070.83,101070.83,0,0,0,0,0,0,0,0,0,0,0,14785.980000000003,66646.239999999991,57417.46,0,0,57417.46,9228.7800000000007,0,0,0,0,200.88,0,0,7875.06,0,553.84,0,0,0,0,0,0,0,0,599,0,0,0,167717.06999999992,1.1299999999999999,44.030000000000008,0,1.56,15.219999999999997,31.080000000000005,5.61,24.619999999999997,74.999999999999986,4.0099999999999989,38.950000000000003,0,10,17,138,22,29,4,1,1.36,0,0,0,0,0,0,1,1.24,0,0,0,0,0,0,0,0,0,0,0,0,null,null,null,null,null,null,null,102,{"$f":"+INDEX($F16:$DJ16,1,Sheet3!$C$1)","v":102},{"$f":"+IF(Sheet3!$C$1=1,IF(DN16<3,0,1),1)","v":1}]
[1,1,"111",9,2,1,9944.5131457145199,6.1050000000000004,0.52,49.04,11.57,0.35,0.3,0,0,0,0,0,11.05,11.05,2.95,2.95,11.57,0.52,11.57,993.5,993.5,993.5,0,0,0,0,0,0,0,0,0,0,0,0,1441.52,1376.6,0,0,1376.6,64.92,0,0,0,0,0,0,0,64.92,0,0,0,0,0,0,0,0,0,0,0,0,0,0,2435.02,0,0.19,0,0,0.11,0.16,0,0,0.03,0.03,11.05,1,1,2,0,0,1,0,0,0,0,0,0,0,0,0,0,0,0,0,0,0,0,0,0,0,0,0,0,0,null,null,null,null,null,null,null,0,{"$f":"+INDEX($F17:$DJ17,1,Sheet3!$C$1)","v":1},{"$f":"+IF(Sheet3!$C$1=1,IF(DN17<3,0,1),1)","v":0}]
[1,1,"111","10_1",1,25,50531.177071400954,40.274999999999999,30.429999999999996,2488.35,49.59,22.33,1.77,0,0,0,0,9.3899999999999988,33.86,33.859999999999992,52.20000000000001,52.20000000000001,49.25,7.5000000000000009,47.709999999999994,24800.699999999993,24800.699999999993,24800.699999999993,0,0,0,0,0,0,0,0,0,0,0,1640.4599999999998,11849.619999999997,10243.999999999998,0,0,10243.999999999998,1605.6200000000001,0,0,0,0,0,0,0,670.62,0,0,0,151.19999999999999,383.8,0,0,0,0,0,400,0,0,0,36650.32,0.12,1.19,0,0,0.46000000000000008,11.18,0,0.48,1.8100000000000005,0.05,34.22,0,35,28,10,2,0,0,0,0,0,0,0,0,0,0,0,0,0,0,0,0,0,0,3,2.02,0,0,0,0,null,null,null,null,null,null,null,25,{"$f":"+INDEX($F18:$DJ18,1,Sheet3!$C$1)","v":25},{"$f":"+IF(Sheet3!$C$1=1,IF(DN18<3,0,1),1)","v":1}]
[1,1,"111","10_1",2,12,79696.604056812183,39.115000000000002,17.78,1383.9900000000002,53.709999999999994,18.059999999999999,3.02,0,0,5.7,0,4.7,37.299999999999997,37.300000000000004,64.199999999999989,64.199999999999989,51.27,22.070000000000004,53.27,11927.06,11927.06,11927.06,0,0,0,0,0,0,0,0,0,0,0,1480.6499999999999,13990.26,9890.5,0,0,9890.5,4099.76,0,0,0,0,0,0,0,962.46,0,0,0,60,887.3,0,0,350,0,0,1840,0,0,0,25917.320000000003,0,2.7399999999999998,0,0,0.28000000000000003,10.49,0,0.27,2.1300000000000003,0,37.760000000000005,1,26,63,3,1,0,0,0,0,0,0,0,0,0,0,0,0,0,0,0,0,0,0,3,4.67,0,0,1,9.2100000000000009,null,null,null,null,null,null,null,12,{"$f":"+INDEX($F19:$DJ19,1,Sheet3!$C$1)","v":12},{"$f":"+IF(Sheet3!$C$1=1,IF(DN19<3,0,1),1)","v":1}]
[1,1,"111","10_15",1,16,38876.610919609288,20.729999999999997,16.900000000000002,1473.47,21.119999999999997,18.12,2.4,0,0,0,0,13.19,5.14,5.14,44.2,45.2,20.729999999999997,3.35,19.579999999999998,15896.090000000002,15896.090000000002,15896.090000000002,0,0,0,0,0,0,0,0,0,0,0,1214.96,6152.2200000000012,5085.6000000000004,0,0,5085.6000000000004,1066.6199999999999,0,0,0,0,0,0,0,406.62,0,0,0,0,0,0,0,0,0,0,660,0,0,0,22048.310000000005,0,2.2200000000000002,0,0,0.18,11.69,0,0,1.3900000000000001,0.06,5.53,0,22,34,10,1,4,1,0,0,0,0,0,0,0,0,0,0,0,0,0,0,0,0,0,0,0,0,0,0,null,null,null,null,null,null,null,16,{"$f":"+INDEX($F20:$DJ20,1,Sheet3!$C$1)","v":16},{"$f":"+IF(Sheet3!$C$1=1,IF(DN20<3,0,1),1)","v":1}]
[1,1,"111","10_15",2,3,19700.913560455658,5.9499999999999993,3.66,270.25,6.49,3.52,0.71,0,0,0,0,4.04,1.2,1.2,16.55,16.55,6.4499999999999993,0.81,6.42,2980.51,2980.51,2980.51,0,0,0,0,0,0,0,0,0,0,0,408.14,1743.54,1539.1999999999998,0,0,1539.1999999999998,204.34,0,0,0,0,0,0,0,104.34,0,0,0,0,0,0,0,0,0,0,100,0,0,0,4724.0499999999993,0,0.61,0,0.04,0.06,3.44,0,0.12,0.51,0.47000000000000003,1.24,0,4,16,14,1,2,0,0,0,0,0,0,0,0,0,0,0,0,0,0,0,0,0,0,0,0,0,0,0,null,null,null,null,null,null,null,3,{"$f":"+INDEX($F21:$DJ21,1,Sheet3!$C$1)","v":3},{"$f":"+IF(Sheet3!$C$1=1,IF(DN21<3,0,1),1)","v":1}]
[1,1,"111","10_15",3,1,47076.907560394437,13.12,1.62,166.71,13.12,7.01,0.27,0,0,10.28,0,0.16,2.41,2.41,42,42,13.12,0,9.82,993.49,993.49,993.49,0,0,0,0,0,0,0,0,0,0,0,1731.12,1635,1635,0,0,1635,0,0,0,0,0,0,0,0,0,0,0,0,0,0,0,0,0,0,0,0,0,0,0,2628.49,0,0.27,0,0,0,10.28,0,0,0.13,0.03,2.41,0,7,60,0,0,0,0,0,0,0,0,0,0,0,0,0,0,0,0,0,0,0,0,0,0,0,0,0,0,null,null,null,null,null,null,null,0,{"$f":"+INDEX($F22:$DJ22,1,Sheet3!$C$1)","v":1},{"$f":"+IF(Sheet3!$C$1=1,IF(DN22<3,0,1),1)","v":0}]
[1,1,"111","10_2",1,51,118833.92225013624,110.64500000000002,64.14,5464.44,165.97,46.88,6.06,0,0,3.07,0,3.62,140.72,117.80000000000001,61.149999999999991,61.149999999999991,153.76,16.72,163.69999999999999,50626.700000000004,50626.700000000004,50626.700000000004,0,0,0,0,0,0,0,0,0,0,0,2538.59,32074.539999999997,28891.300000000003,0,0,28891.300000000003,3183.2400000000007,0,0,0,0,0,0,0,1324.74,0,0,0,403.2,1115.3,0,0,0,0,0,340,0,0,0,82701.240000000005,0,5.0900000000000007,0,7.0000000000000007E-2,0.48,14.120000000000003,0,0.25,2.4499999999999993,0.31000000000000005,143,0,36,41,13,2,2,0,0,0,0,0,0,0,0,0,0,0,0,0,0,0,0,0,6,5.87,0,0,0,0,null,null,null,null,null,null,null,51,{"$f":"+INDEX($F23:$DJ23,1,Sheet3!$C$1)","v":51},{"$f":"+IF(Sheet3!$C$1=1,IF(DN23<3,0,1),1)","v":1}]
[1,1,"111","10_2",2,21,175978.75196756152,131.27000000000001,30.24,2175.98,233.81000000000006,21.27,4.12,0,0,2.78,0,0,214.97,200.76000000000002,90.699999999999989,93.699999999999989,153.24,11.93,233.66000000000005,20784.059999999998,20784.059999999998,20784.059999999998,0,0,0,0,0,0,0,0,0,0,0,2944.69,31035.200000000004,28163.799999999996,0,0,28163.799999999996,2871.4,0,0,0,0,0,0,0,1054.2,0,0,0,638.4,478.8,0,0,0,0,0,700,0,0,0,51819.26,0.28000000000000003,3.29,0,0,0.55000000000000004,12.829999999999997,0,0.19,1.5299999999999998,0,215.12,1,45,63,34,9,7,0,0,0,0,0,0,0,0,0,0,0,0,0,0,0,0,0,3,2.52,0,0,0,0,null,null,null,null,null,null,null,21,{"$f":"+INDEX($F24:$DJ24,1,Sheet3!$C$1)","v":21},{"$f":"+IF(Sheet3!$C$1=1,IF(DN24<3,0,1),1)","v":1}]
[1,1,"111","10_2",3,1,26806.065812736306,17.445,0.76,49.82,34.18,0,0,0,0,0,0,0,33.61,33.61,21.8,34.799999999999997,34.07,0.46,34.07,993.51,993.51,993.51,0,0,0,0,0,0,0,0,0,0,0,861.24,3194.3999999999996,2579.1999999999998,0,0,2579.1999999999998,615.20000000000005,0,0,0,0,0,0,0,55.2,0,0,0,0,0,0,0,0,0,0,560,0,0,0,4187.91,0,0,0,0,0,0.46,0,0,0,0,33.72,0,17,6,0,0,0,0,0,0,0,0,0,0,0,0,0,0,0,0,0,0,0,0,0,0,0,0,0,0,null,null,null,null,null,null,null,0,{"$f":"+INDEX($F25:$DJ25,1,Sheet3!$C$1)","v":1},{"$f":"+IF(Sheet3!$C$1=1,IF(DN25<3,0,1),1)","v":0}]
[1,1,"111",11,1,216,452223.49173805286,406.17499999999995,274.81,23236.240000000002,598.28000000000009,176.24,15.35,0,0,0,0,65.245000000000005,469.87,316.13999999999982,254.9500000000001,298.95000000000005,580.83000000000015,71.72,574.47000000000014,214020.37999999995,214020.37999999995,214020.37999999995,0,0,0,0,0,0,0,0,0,0,0,5582.800000000002,113370.27,102915.36000000003,0,0,102915.36000000003,10454.91,0,0,0,0,0,0,0,6223.52,0,0,0,1058.4000000000001,2872.99,0,0,0,0,0,300,0,0,0,327390.64999999997,0.71000000000000008,11.659999999999998,0,0.18999999999999997,2.7899999999999991,87.800000000000068,0,1.6200000000000006,9.8699999999999957,0.59,481.38,0,11,15,1092,181,248,44,0,0,0,0,0,0,0,0,0,0,0,0,0,0,0,0,15,15.42,0,0,0,0,null,null,null,null,null,null,null,216,{"$f":"+INDEX($F26:$DJ26,1,Sheet3!$C$1)","v":216},{"$f":"+IF(Sheet3!$C$1=1,IF(DN26<3,0,1),1)","v":1}]
[1,1,"111",11,2,83,630859.23263647279,507.24999999999989,112.92999999999999,8588.6899999999987,901.77999999999975,82.97,12.08,0,0,10.76,0,18.774999999999999,814.19,270.36,156.15000000000003,466.14999999999992,737.42999999999972,45.61999999999999,887.4499999999997,82462.290000000037,82462.290000000037,82462.290000000037,0,0,0,0,0,0,0,0,0,0,0,6342.5700000000033,141883.37,106310.80000000003,0,0,106310.80000000003,35572.569999999985,0,0,0,0,0,0,0,4248.05,0,0,0,972,1255.52,0,0,0,0,0,29097,0,0,0,224345.66000000006,0.33,8.82,0,0.36,2.57,45.580000000000013,0,3.4999999999999996,9.99,0.93,827.76999999999975,1,36,35,468,59,119,15,0,0,0,0,0,0,0,0,0,0,0,0,0,0,0,0,7,8.09,0,0,0,0,null,null,null,null,null,null,null,83,{"$f":"+INDEX($F27:$DJ27,1,Sheet3!$C$1)","v":83},{"$f":"+IF(Sheet3!$C$1=1,IF(DN27<3,0,1),1)","v":1}]
[1,1,"111",12,1,324,751147.29723189189,500.42499999999978,412.1699999999999,36833.959999999985,584.05999999999983,333.68,87.66,0,0,5.71,0.63,161.02999999999997,282.56,248.33999999999989,355.59999999999968,372.59999999999974,566.66999999999985,123.73999999999997,547.09999999999991,321281.94000000029,321281.94000000029,321281.94000000029,0,0,0,0,0,0,0,0,0,0,0,15716.670000000006,139541.86000000007,120742.05000000005,0,0,120742.05000000005,18799.810000000001,0,0,0,0,0,0,0,13601.61,0,0,0,480,3587.2,0,0,0,0,0,1131,0,0,0,460823.7999999997,2.0500000000000003,68.92,0,1.4700000000000004,15.21999999999999,125.21999999999997,0.63,7.7399999999999949,56.730000000000025,4.05,290.06000000000006,0,72,121,1105,163,137,27,0,0,0,0,0,0,0,0,0,0,0,0,0,0,0,0,22,18.95,0,0,0,0,null,null,null,null,null,null,null,324,{"$f":"+INDEX($F28:$DJ28,1,Sheet3!$C$1)","v":324},{"$f":"+IF(Sheet3!$C$1=1,IF(DN28<3,0,1),1)","v":1}]
[1,1,"111",12,2,57,320995.01691509061,179.29,99.070000000000007,7622.6499999999987,243.09,79.31,25.96,0,0,6.21,1.69,39.534999999999997,143.21,90.539999999999978,117.25000000000001,130.25,227.73999999999998,61.030000000000015,240.52,56633.010000000017,56633.010000000017,56633.010000000017,0,0,0,0,0,0,0,0,0,0,0,7183.6699999999983,56735.999999999993,44474.3,0,0,44474.3,12261.699999999999,0,4334.12,0,0,0,0,0,5562.78,0,0,0,0,212.8,0,0,0,0,0,2152,0,0,0,113369.00999999992,0.41000000000000003,20.279999999999998,0,0.13,5.1400000000000015,34.799999999999997,1.6900000000000002,2.68,27.609999999999996,1.43,144.88,2,28,60,239,35,44,5,0,0,0,0,1,20.9,0,0,0,0,0,0,0,0,0,0,1,1.1200000000000001,0,0,0,0,null,null,null,null,null,null,null,57,{"$f":"+INDEX($F29:$DJ29,1,Sheet3!$C$1)","v":57},{"$f":"+IF(Sheet3!$C$1=1,IF(DN29<3,0,1),1)","v":1}]
[1,1,"111",13,1,135,98876.2543741603,170.08500000000001,155.48999999999995,14965.750000000004,180.02999999999997,118.23,2.5,0,0,3.81,1.51,69.829999999999984,95.28,0,0,0,173.71,24.55,105.84,133325.23999999996,133325.23999999996,133325.23999999996,0,0,0,0,0,0,0,0,0,0,0,3126.1599999999989,5467.6500000000005,2806.3600000000006,0,0,2806.3600000000006,2661.2900000000004,0,0,0,0,0,0,0,2078.56,0,0,0,554.4,28.33,0,0,0,0,0,0,0,0,0,138792.89000000004,0.4,1.5999999999999999,0,0.14000000000000001,0.36,69.939999999999984,1.51,0.36,2.64,0.58000000000000007,101.61000000000004,0,0,0,0,0,0,0,0,0,0,0,0,0,0,0,0,0,0,0,0,0,0,0,1,0.71,0,0,0,0,null,null,null,null,null,null,null,135,{"$f":"+INDEX($F30:$DJ30,1,Sheet3!$C$1)","v":135},{"$f":"+IF(Sheet3!$C$1=1,IF(DN30<3,0,1),1)","v":1}]
[1,1,"111",13,2,3,15587.54495826763,15.09,15.06,987.32,15.370000000000001,10.15,0.48,0,0,0,0,9.0500000000000007,5.56,0,0,0,15.3,0,14.989999999999998,2937.01,2937.01,2937.01,0,0,0,0,0,0,0,0,0,0,0,180.22,1284.4000000000001,1284.4000000000001,0,0,1284.4000000000001,0,0,0,0,0,0,0,0,0,0,0,0,0,0,0,0,0,0,0,0,0,0,0,4221.41,0,0.13,0,0,0.35,8.92,0,0,0.05,0,5.84,0,0,0,0,0,0,0,0,0,0,0,0,0,0,0,0,0,0,0,0,0,0,0,0,0,0,0,0,0,null,null,null,null,null,null,null,3,{"$f":"+INDEX($F31:$DJ31,1,Sheet3!$C$1)","v":3},{"$f":"+IF(Sheet3!$C$1=1,IF(DN31<3,0,1),1)","v":1}]
[1,1,"112",0,1,1,null,1.1299999999999999,1.1299999999999999,108.89,1.1299999999999999,1.1299999999999999,1.1299999999999999,0,0,0,0,0,0,0,0,3.4,1.1299999999999999,1.1299999999999999,1.1299999999999999,993.52,993.52,993.52,0,0,0,0,0,0,0,0,0,0,0,72.09,429.4,293.8,0,0,293.8,135.6,0,0,0,0,0,0,0,135.6,0,0,0,0,0,0,0,0,0,0,0,0,0,0,1422.92,0,1,0,0.13,0,0,0,0,0,0,0,0,0,0,0,0,0,0,0,0,0,0,0,0,0,0,0,0,0,0,0,0,0,0,0,0,0,0,0,0,null,null,null,null,null,null,null,0,{"$f":"+INDEX($F32:$DJ32,1,Sheet3!$C$1)","v":1},{"$f":"+IF(Sheet3!$C$1=1,IF(DN32<3,0,1),1)","v":0}]
[1,1,"112","1_1",1,418,544138.85962119093,461.97999999999979,423.26,44935.28,472.93999999999971,434.72,352.1,0,0,3.36,2.78,75.669999999999973,29.06,0.1,4.5999999999999996,5.9,462.68999999999977,39.65,152.46999999999997,412441.37,412441.37,412441.37,0,0,0,0,0,0,0,0,0,0,0,12684.930000000004,38662.729999999981,33588.249999999993,0,0,33588.249999999993,5074.4799999999987,0,0,0,0,0,0,0,4228.08,0,0,0,746.4,0,0,0,0,0,0,100,0,0,0,451104.09999999986,53.17,283.26000000000022,0,2.09,9.3399999999999928,51.190000000000012,1.03,3.1399999999999988,17.479999999999997,0.94000000000000006,39.029999999999994,0,3,1,7,1,0,0,0,0,0,0,0,0,0,0,0,0,0,0,0,0,0,0,0,0,0,0,0,0,null,null,null,null,null,null,null,418,{"$f":"+INDEX($F33:$DJ33,1,Sheet3!$C$1)","v":418},{"$f":"+IF(Sheet3!$C$1=1,IF(DN33<3,0,1),1)","v":1}]
[1,1,"112","1_1",2,33,179324.16369638508,55.95,51.999999999999993,4491.26,58.120000000000012,55.53,42.14,0,0,0,0,11.769999999999998,2.04,0,1.35,2.35,55.95,0,50.019999999999989,32742.109999999993,32742.109999999993,32742.109999999993,0,0,0,0,0,0,0,0,0,0,0,704.11000000000013,12372.490000000003,12372.490000000003,0,0,12372.490000000003,0,0,0,0,0,0,0,0,0,0,0,0,0,0,0,0,0,0,0,0,0,0,0,45114.599999999991,1.17,10.56,0,0.43999999999999995,2.7100000000000004,4.91,0,1.1499999999999999,3.8199999999999994,0.35,4.21,0,0,0,8,1,0,0,0,0,0,0,0,0,0,0,0,0,0,0,0,0,0,0,0,0,0,0,0,0,null,null,null,null,null,null,null,33,{"$f":"+INDEX($F34:$DJ34,1,Sheet3!$C$1)","v":33},{"$f":"+IF(Sheet3!$C$1=1,IF(DN34<3,0,1),1)","v":1}]
[1,1,"112","1_1",3,2,119965.10356067591,7.18,2.84,265.63,7.18,5.1100000000000003,4.9000000000000004,0,0,0,2.0699999999999998,0.21000000000000002,0,0,0,0,7.18,2.66,1,1987,1987,1987,0,0,0,0,0,0,0,0,0,0,0,810.31,1138.3200000000002,221,0,0,221,917.32,0,790.6,0,0,0,0,0,126.72,0,0,0,0,0,0,0,0,0,0,0,0,0,0,3125.32,0,3.02,0,0,1.88,0,2.0699999999999998,0.05,0,0,0,0,0,0,0,0,0,0,0,0,0,0,1,1.66,0,0,0,0,0,0,0,0,0,0,0,0,0,0,0,0,null,null,null,null,null,null,null,0,{"$f":"+INDEX($F35:$DJ35,1,Sheet3!$C$1)","v":2},{"$f":"+IF(Sheet3!$C$1=1,IF(DN35<3,0,1),1)","v":0}]
[1,1,"112","1_2",1,114,126129.29807526969,106.99000000000005,100.16000000000003,11643.860000000002,109.38000000000005,4.2699999999999996,76.77,0,0,2.34,0.03,21.810000000000002,6.04,0,0,0,106.99000000000005,0.78,2.3499999999999996,113149.79999999996,113149.79999999996,113149.79999999996,0,0,0,0,0,0,0,0,0,0,0,1245.8300000000002,376.41999999999996,278.2,0,0,278.2,98.22,0,0,0,0,0,0,0,98.22,0,0,0,0,0,0,0,0,0,0,0,0,0,0,113526.21999999996,0.41000000000000003,73.259999999999991,0,0.54,2.56,18.259999999999998,0.03,0.56000000000000005,4.3800000000000008,0.38,8.43,0,0,0,0,0,0,0,0,0,0,0,0,0,0,0,0,0,0,0,0,0,0,0,0,0,0,0,0,0,null,null,null,null,null,null,null,114,{"$f":"+INDEX($F36:$DJ36,1,Sheet3!$C$1)","v":114},{"$f":"+IF(Sheet3!$C$1=1,IF(DN36<3,0,1),1)","v":1}]
[1,1,"112","1_2",3,1,34496.781845760001,0.59,0.56000000000000005,36.71,0.59,0,0.56000000000000005,0,0,0,0,0,0.03,0,0,0,0.59,0,0,993.5,993.5,993.5,0,0,0,0,0,0,0,0,0,0,0,0,0,0,0,0,0,0,null,null,null,null,null,null,null,null,null,null,null,null,null,null,null,null,null,null,null,null,null,null,993.5,0,0,0,0,0.56000000000000005,0,0,0,0,0,0.03,0,0,0,0,0,0,0,0,0,0,0,0,0,0,0,0,0,0,0,0,0,0,0,0,0,0,0,0,0,null,null,null,null,null,null,null,0,{"$f":"+INDEX($F37:$DJ37,1,Sheet3!$C$1)","v":1},{"$f":"+IF(Sheet3!$C$1=1,IF(DN37<3,0,1),1)","v":0}]
[1,1,"112",4,1,149,349203.45118554041,127.2,119.69000000000003,13183.510000000004,129.85999999999999,81.89,83.96,0,0,0.51,6.2,20.87,15.66,0.87,2.9499999999999997,2.9499999999999997,127.08,12.069999999999999,45.79,147507.17000000001,147507.17000000001,147507.17000000001,0,0,0,0,0,0,0,0,0,0,0,3570.4199999999992,11949.349999999999,10022.090000000002,0,0,10022.090000000002,1927.2599999999995,0,0,0,0,0,0,0,1348.86,0,0,0,578.4,0,0,0,0,0,0,0,0,0,0,159456.52000000005,21.38,32.040000000000006,0,2.96,27.58,12.7,6.1999999999999993,2.25,4.1899999999999995,0.78,18.32,0,1,1,8,1,0,0,0,0,0,0,0,0,0,0,0,0,0,0,0,0,0,0,0,0,0,0,0,0,null,null,null,null,null,null,null,149,{"$f":"+INDEX($F38:$DJ38,1,Sheet3!$C$1)","v":149},{"$f":"+IF(Sheet3!$C$1=1,IF(DN38<3,0,1),1)","v":1}]
[1,1,"112",4,2,77,656977.23011156626,102.17000000000006,89.189999999999984,8885.5300000000043,106.50000000000004,64.599999999999994,65.81,0,0,0.84,5.75,23.539999999999992,6.23,0.59,5.45,5.45,102.17000000000006,13.42,42.94,76303.349999999948,76303.349999999948,76303.349999999948,0,0,0,0,0,0,0,0,0,0,0,5557.8300000000017,12305.23,10397.400000000001,0,0,10397.400000000001,1907.83,0,0,0,0,0,0,0,1720.63,0,0,0,187.2,0,0,0,0,0,0,0,0,0,0,88608.579999999973,5.88,26.82,0,1.1099999999999999,31.690000000000005,13.120000000000003,2.4000000000000004,1.9000000000000001,4.9999999999999982,0.49,10.560000000000002,0,1,6,2,0,1,0,0,0,0,0,0,0,0,0,0,0,0,0,0,0,0,0,0,0,0,0,0,0,null,null,null,null,null,null,null,77,{"$f":"+INDEX($F39:$DJ39,1,Sheet3!$C$1)","v":77},{"$f":"+IF(Sheet3!$C$1=1,IF(DN39<3,0,1),1)","v":1}]
[1,1,"112",4,3,9,400742.45130725548,15.49,11.570000000000002,1177.6400000000001,15.5,11.29,12.01,0,0,0,0.14000000000000001,1.85,1.49,0,0,0,15.49,0,7.08,8871.92,8871.92,8871.92,0,0,0,0,0,0,0,0,0,0,0,1979.1900000000003,1840.8000000000002,1840.8000000000002,0,0,1840.8000000000002,0,0,0,0,0,0,0,0,0,0,0,0,0,0,0,0,0,0,0,0,0,0,0,10712.72,0.91,3.6399999999999997,0,0,7.4599999999999991,0.6,0.14000000000000001,0.25,0.63,0,1.5,0,0,0,0,0,0,0,0,0,0,0,0,0,0,0,0,0,0,0,0,0,0,0,0,0,0,0,0,0,null,null,null,null,null,null,null,9,{"$f":"+INDEX($F40:$DJ40,1,Sheet3!$C$1)","v":9},{"$f":"+IF(Sheet3!$C$1=1,IF(DN40<3,0,1),1)","v":1}]
[1,1,"112",4,4,1,133218.25953831119,2.82,1.34,87.85,2.82,2.82,1.21,0,0,0,0,1.61,0,0,12.6,12.6,2.82,0,2.82,993.49,993.49,993.49,0,0,0,0,0,0,0,0,0,0,0,304.08,733.2,733.2,0,0,733.2,0,0,0,0,0,0,0,0,0,0,0,0,0,0,0,0,0,0,0,0,0,0,0,1726.69,0,0,0,0,1.21,1.56,0,0.05,0,0,0,0,10,6,0,0,0,0,0,0,0,0,0,0,0,0,0,0,0,0,0,0,0,0,0,0,0,0,0,0,null,null,null,null,null,null,null,0,{"$f":"+INDEX($F41:$DJ41,1,Sheet3!$C$1)","v":1},{"$f":"+IF(Sheet3!$C$1=1,IF(DN41<3,0,1),1)","v":0}]
[1,1,"112",5,1,20,48974.934560243506,30.400000000000006,27.78,2298.7199999999998,31.020000000000003,23.72,4.42,0,0,0,2.08,21.160000000000004,2.74,0,0,0,30.400000000000006,7.8699999999999992,21.61,19783.09,19783.09,19783.09,0,0,0,0,0,0,0,0,0,0,0,999.77999999999986,6425.4400000000005,4843.7999999999993,0,0,4843.7999999999993,1581.64,0,0,0,0,0,0,0,914.04,0,502,0,165.6,0,0,0,0,0,0,0,0,0,0,26208.529999999992,3.19,0.97,0,0,0.14000000000000001,1.85,0.71000000000000008,0.68,17.05,0.15,3.36,0,0,0,0,0,0,0,1,1.1200000000000001,0,0,0,0,0,0,0,0,0,0,0,0,0,0,0,0,0,0,0,0,null,null,null,null,null,null,null,20,{"$f":"+INDEX($F42:$DJ42,1,Sheet3!$C$1)","v":20},{"$f":"+IF(Sheet3!$C$1=1,IF(DN42<3,0,1),1)","v":1}]
[1,1,"112",5,2,12,105626.53281372797,51.93,43.85,3073.66,53.529999999999994,24.64,2.69,0,0,0,0.02,48.100000000000009,1.1200000000000001,0,0,0,51.93,31.21,31.67,11882.300000000001,11882.300000000001,11882.300000000001,0,0,0,0,0,0,0,0,0,0,0,3220.9599999999996,14166.43,6709.3600000000006,0,0,6709.3600000000006,7457.0700000000006,0,0,0,356.25,0,1099.3499999999999,0,1034.48,0,4966.99,0,0,0,0,0,0,0,0,0,0,0,0,26048.730000000003,0.65,1.22,0,0,0.82000000000000006,2.25,0.02,1.6500000000000001,41.9,0.09,2.7199999999999998,0,0,0,0,0,0,0,5,22.56,0,0,0,0,0,0,0,0,0,0,2,10.47,0,0,0,0,0,0,0,0,null,null,null,null,null,null,null,12,{"$f":"+INDEX($F43:$DJ43,1,Sheet3!$C$1)","v":12},{"$f":"+IF(Sheet3!$C$1=1,IF(DN43<3,0,1),1)","v":1}]
[1,1,"112",5,3,2,65009.921801636294,29.369999999999997,24.05,1576.71,29.47,16.48,1.0900000000000001,0,0,0,0,28.22,0.06,0,0.45,0.45,29.299999999999997,15.61,12.9,1987.01,1987.01,1987.01,0,0,0,0,0,0,0,0,0,0,0,2563.9,5341.77,2284,0,0,2284,3057.77,0,0,0,0,0,0,0,0,0,3057.77,0,0,0,0,0,0,0,0,0,0,0,0,7328.7800000000007,0,0.93,0,0,0.11,0,0,0.61,26.15,0,0.16,0,0,0,2,1,0,0,1,15.61,0,0,0,0,0,0,0,0,0,0,0,0,0,0,0,0,0,0,0,0,null,null,null,null,null,null,null,0,{"$f":"+INDEX($F44:$DJ44,1,Sheet3!$C$1)","v":2},{"$f":"+IF(Sheet3!$C$1=1,IF(DN44<3,0,1),1)","v":0}]
[1,1,"112",6,1,12,30192.081901890564,15.98,15.149999999999999,1122.3400000000001,16.080000000000002,13.06,2.5099999999999998,0,0,0,1.39,9.48,2.6,1.95,1.05,1.05,15.93,4.04,8.82,11878.52,11878.52,11878.52,0,0,0,0,0,0,0,0,0,0,0,507.91999999999996,2541.1999999999998,1968.2,0,0,1968.2,573,0,0,0,0,0,0,0,573,0,0,0,0,0,0,0,0,0,0,0,0,0,0,14419.720000000001,0.59,1.87,0,0,0.05,1.06,1.3900000000000001,8.17,0.06,0.17,2.7,0,0,0,5,2,0,0,0,0,0,0,0,0,0,0,0,0,0,0,0,0,0,0,0,0,0,0,0,0,null,null,null,null,null,null,null,12,{"$f":"+INDEX($F45:$DJ45,1,Sheet3!$C$1)","v":12},{"$f":"+IF(Sheet3!$C$1=1,IF(DN45<3,0,1),1)","v":1}]
[1,1,"112",6,2,36,403382.31060879782,67.67,57.08,4659.9499999999989,68,59.81,10.35,0,0,0,0.92,54.81,1.59,0,0,0,67.649999999999991,33.28,48.89,35766.029999999992,35766.029999999992,35766.029999999992,0,0,0,0,0,0,0,0,0,0,0,5320.7700000000013,29154.609999999997,11958.800000000001,0,0,11958.800000000001,17195.810000000001,3411,5382,0,0,432.54,0,0,1950.84,0,6019.43,0,0,0,0,0,0,0,0,0,0,0,0,64920.639999999999,1.85,6.660000000000001,0,0.16,1.6600000000000001,2.4299999999999997,0.92,44.67,3.9700000000000006,0.65,1.9200000000000002,0,0,0,0,0,0,0,4,10.82,1,3.79,3,5.98,0,0,1,2.67,0,0,0,0,0,0,0,0,0,0,0,0,null,null,null,null,null,null,null,36,{"$f":"+INDEX($F46:$DJ46,1,Sheet3!$C$1)","v":36},{"$f":"+IF(Sheet3!$C$1=1,IF(DN46<3,0,1),1)","v":1}]
[1,1,"112",6,3,45,1886106.4536075925,80.900000000000006,64.760000000000005,6096.619999999999,85.34,72.19,4.4800000000000004,0,0,0,0.14000000000000001,69.359999999999985,8.6999999999999993,5.78,2.4,2.4,77.900000000000006,41.88,76.930000000000007,44568.460000000006,44568.460000000006,44568.460000000006,0,0,0,0,0,0,0,0,0,0,0,6665.74,34616.939999999995,17583.560000000001,0,0,17583.560000000001,17033.379999999997,1799.16,2304,0,0,0,0,0,3876.84,0,7589.38,0,1464,0,0,0,0,0,0,0,0,0,0,79185.399999999994,2.8799999999999994,0.59,0,0,0.65,7.12,0.14000000000000001,58.030000000000008,2.62,0.18,10.25,0,0,0,15,1,0,0,11,14.99,1,5.09,2,2.56,0,0,0,0,0,0,0,0,0,0,0,0,0,0,0,0,null,null,null,null,null,null,null,45,{"$f":"+INDEX($F47:$DJ47,1,Sheet3!$C$1)","v":45},{"$f":"+IF(Sheet3!$C$1=1,IF(DN47<3,0,1),1)","v":1}]
[1,1,"112",6,4,1,102639.59186154058,3.75,1.59,151.74,3.75,3.15,0.1,0,0,0,0.03,3.62,0,0,0,0,3.75,2.2400000000000002,3.75,993.51,993.51,993.51,0,0,0,0,0,0,0,0,0,0,0,0,2089.96,922.5,0,0,922.5,1167.46,0,0,0,0,0,0,0,357.42,0,810.04,0,0,0,0,0,0,0,0,0,0,0,0,3083.4700000000003,0,0,0,0,0.1,0,0.03,3.18,0,0,0,0,0,0,0,0,0,0,1,1.54,0,0,0,0,0,0,0,0,0,0,0,0,0,0,0,0,0,0,0,0,null,null,null,null,null,null,null,0,{"$f":"+INDEX($F48:$DJ48,1,Sheet3!$C$1)","v":1},{"$f":"+IF(Sheet3!$C$1=1,IF(DN48<3,0,1),1)","v":0}]
[1,1,"112",8,1,944,1773365.8976201608,1035.2499999999989,945.87999999999977,98723.639999999868,1061.3099999999986,817.59,577.24,0,0,17.68,23.49,329.95,86.89,6.6899999999999995,83.299999999999983,85.299999999999969,1034.8099999999988,156.38999999999993,484.06000000000006,934624.13000000047,934624.13000000047,934624.13000000047,0,0,0,0,0,0,0,0,0,0,0,37233.129999999997,127992.70000000003,105626.46000000002,0,0,105626.46000000002,22366.240000000009,0,661.1,0,0,0,0,0,19480.46,0,0,0,1624.68,0,0,0,0,0,0,600,0,0,0,1062616.83,135.38999999999999,351.02000000000032,0,10.989999999999993,77.889999999999915,156.51000000000002,20.349999999999998,39.13000000000001,87.199999999999989,14.009999999999994,112.94999999999995,0,38,29,150,28,17,7,0,0,0,0,1,1.08,0,0,0,0,0,0,0,0,0,0,0,0,0,0,0,0,null,null,null,null,null,null,null,944,{"$f":"+INDEX($F49:$DJ49,1,Sheet3!$C$1)","v":944},{"$f":"+IF(Sheet3!$C$1=1,IF(DN49<3,0,1),1)","v":1}]
[1,1,"112",8,2,114,725315.59478303371,247.04000000000005,219.36000000000007,18213.549999999996,253.68000000000006,212.08,107.75,0,0,5.96,3.79,123.47999999999999,6.06,2.39,32.25,32.754000000000005,247.02000000000007,50.47,169.75000000000003,113127.04000000005,113127.04000000005,113127.04000000005,0,0,0,0,0,0,0,0,0,0,0,13757.480000000001,56399.38,41591.539999999986,0,0,41591.539999999986,14807.839999999998,2340.52,4237.87,0,0,0,172.2,0,3952.34,0,2399.5,0,1617.6,0,0,0,0,0,0,87.81,0,0,0,169526.41999999998,10.029999999999999,66.460000000000008,0,1.2200000000000002,24.929999999999993,27.99,3.79,37.829999999999991,40.299999999999997,3.7100000000000004,12.7,0,7,5,127,22,1,1,4,6.22,1,3.64,1,6.73,0,0,0,0,0,0,1,1.64,0,0,0,0,0,0,0,0,null,null,null,null,null,null,null,114,{"$f":"+INDEX($F50:$DJ50,1,Sheet3!$C$1)","v":114},{"$f":"+IF(Sheet3!$C$1=1,IF(DN50<3,0,1),1)","v":1}]
[1,1,"112",9,2,3,20874.636657501283,2.9,2.73,375.16,2.9,1.1399999999999999,0.87,0,0,0.92,0,1.03,0.08,0.08,10.15,10.15,2.9,0,0,2936.99,2936.99,2936.99,0,0,0,0,0,0,0,0,0,0,0,224.31,0,0,0,0,0,0,null,null,null,null,null,null,null,null,null,null,null,null,null,null,null,null,null,null,null,null,null,null,2936.99,0,0.8,0,0,7.0000000000000007E-2,1.6800000000000002,0,0,0.22,0.05,0.08,6,0,8,0,0,0,1,0,0,0,0,0,0,0,0,0,0,0,0,0,0,0,0,0,0,0,0,0,0,null,null,null,null,null,null,null,3,{"$f":"+INDEX($F51:$DJ51,1,Sheet3!$C$1)","v":3},{"$f":"+IF(Sheet3!$C$1=1,IF(DN51<3,0,1),1)","v":1}]
[1,1,"112","10_1",1,7,15708.519574644401,10.41,8.2199999999999989,704.7,11.41,8.48,1.59,0,0,2.41,0,1.5100000000000002,5.9,5.9,16.399999999999999,16.399999999999999,11.41,1.08,10.1,6892.0499999999993,6892.0499999999993,6892.0499999999993,0,0,0,0,0,0,0,0,0,0,0,725.54,2862.62,2335.61,0,0,2335.61,527.01,0,0,0,0,0,0,0,127.01,0,0,0,0,0,0,0,0,0,0,400,0,0,0,9754.67,0,1.1800000000000002,0,0.23000000000000004,0.18000000000000002,3.6300000000000003,0,0,0.2,0,5.9,0,11,11,0,0,0,0,0,0,0,0,0,0,0,0,0,0,0,0,0,0,0,0,0,0,0,0,0,0,null,null,null,null,null,null,null,7,{"$f":"+INDEX($F52:$DJ52,1,Sheet3!$C$1)","v":7},{"$f":"+IF(Sheet3!$C$1=1,IF(DN52<3,0,1),1)","v":1}]
[1,1,"112","10_1",2,4,20527.149443767172,11.225000000000001,9.629999999999999,752.28000000000009,12.360000000000001,9.58,1.19,0,0,1.06,0,2.5100000000000002,6.87,6.8699999999999992,16.3,19.3,10.26,1.54,10.700000000000001,3974,3974,3974,0,0,0,0,0,0,0,0,0,0,0,521.74,3093.22,2421.1999999999998,0,0,2421.1999999999998,672.02,0,0,0,0,0,0,0,168.12,0,0,0,369.6,0,0,0,0,0,0,134.30000000000001,0,0,0,7067.2199999999993,0,1.01,0,0,0.18000000000000002,3.2,0,0.33,0.45999999999999996,0,7.0399999999999991,0,7,16,1,1,0,0,0,0,0,0,0,0,0,0,0,0,0,0,0,0,0,0,0,0,0,0,0,0,null,null,null,null,null,null,null,4,{"$f":"+INDEX($F53:$DJ53,1,Sheet3!$C$1)","v":4},{"$f":"+IF(Sheet3!$C$1=1,IF(DN53<3,0,1),1)","v":1}]
[1,1,"112","10_15",1,37,87801.774829045593,36.430000000000007,34.110000000000007,3949.4100000000003,40.460000000000008,28,5.24,0,0,0.81,0,27.64,2.74,2.74,72.800000000000011,72.800000000000011,36.430000000000007,7.9300000000000006,11.879999999999999,36464.499999999993,36464.499999999993,36464.499999999993,0,0,0,0,0,0,0,0,0,0,0,2723.95,4255.8,2908.0499999999997,0,0,2908.0499999999997,1347.75,0,0,0,0,0,0,0,947.75,0,0,0,0,0,0,0,0,0,0,400,0,0,0,40720.299999999996,0.19,4.1100000000000003,0,0.22,0.7200000000000002,25.869999999999997,0,9.0000000000000011E-2,2.0900000000000003,0.08,6.77,0,39,55,9,1,2,0,0,0,0,0,0,0,0,0,0,0,0,0,0,0,0,0,0,0,0,0,0,0,null,null,null,null,null,null,null,37,{"$f":"+INDEX($F54:$DJ54,1,Sheet3!$C$1)","v":37},{"$f":"+IF(Sheet3!$C$1=1,IF(DN54<3,0,1),1)","v":1}]
[1,1,"112","10_15",2,17,99018.949262760201,21.39,18.82,1808.2799999999997,21.39,16.88,4.17,0,0,0,0,16.559999999999999,0.66,0.65999999999999992,85.34999999999998,85.34999999999998,21.39,0,8,16889.63,16889.63,16889.63,0,0,0,0,0,0,0,0,0,0,0,1754.4299999999998,2498.09,1978.1,0,0,1978.1,519.99,0,0,0,0,0,0,0,0,0,0,0,0,0,0,0,0,0,0,519.99,0,0,0,19387.72,0.45,3.2800000000000007,0,0,0.44000000000000006,14.350000000000001,0,0.05,1.44,0.12,0.65999999999999992,1,16,118,5,0,0,0,0,0,0,0,0,0,0,0,0,0,0,0,0,0,0,0,0,0,0,0,0,0,null,null,null,null,null,null,null,17,{"$f":"+INDEX($F55:$DJ55,1,Sheet3!$C$1)","v":17},{"$f":"+IF(Sheet3!$C$1=1,IF(DN55<3,0,1),1)","v":1}]
[1,1,"112","10_2",1,3,7337.8914478822271,6.0449999999999999,3.6399999999999997,483.43999999999994,8.42,2.73,0.04,0,0,0.81,0,0.32,6.23,6.23,3.2,3.2,7.66,0.48,7.3599999999999994,2980.49,2980.49,2980.49,0,0,0,0,0,0,0,0,0,0,0,115.73,1381.34,1320.8,0,0,1320.8,60.54,0,0,0,0,0,0,0,60.54,0,0,0,0,0,0,0,0,0,0,0,0,0,0,4361.83,0,0,0,0.04,0,1.8299999999999998,0,0.01,0.18,0,6.29,0,2,2,0,0,0,0,0,0,0,0,0,0,0,0,0,0,0,0,0,0,0,0,0,0,0,0,0,0,null,null,null,null,null,null,null,3,{"$f":"+INDEX($F56:$DJ56,1,Sheet3!$C$1)","v":3},{"$f":"+IF(Sheet3!$C$1=1,IF(DN56<3,0,1),1)","v":1}]
[1,1,"112","10_2",2,8,60056.555956562865,51.429999999999993,17.29,1229.6199999999999,123.09,15.68,1.46,0,0,0,0,0,80,80,36.799999999999997,36.799999999999997,61.349999999999994,9.7099999999999991,85.06,7948.8300000000008,7948.8300000000008,7948.8300000000008,0,0,0,0,0,0,0,0,0,0,0,1617.6,14966.4,11067.1,0,0,11067.1,3899.3000000000006,0,0,0,0,0,0,0,337.5,0,0,0,1396.8,665,0,0,0,0,0,1500,0,0,0,22915.230000000003,0,0.96,0,0.03,0.47000000000000008,2.93,0,0,0.28000000000000003,0,118.03,0,29,15,4,0,0,0,0,0,0,0,0,0,0,0,0,0,0,0,0,0,0,0,1,3.5,0,0,0,0,null,null,null,null,null,null,null,8,{"$f":"+INDEX($F57:$DJ57,1,Sheet3!$C$1)","v":8},{"$f":"+IF(Sheet3!$C$1=1,IF(DN57<3,0,1),1)","v":1}]
[1,1,"112",11,1,62,124702.74304079432,100.67500000000004,72.050000000000011,6637.8099999999995,124.75000000000003,74.569999999999993,7.43,0,0,3.55,0,38.83000000000002,70.03,37.31,72.549999999999983,102.54999999999998,121.06000000000002,16.16,109,61408.19999999999,61408.19999999999,61408.19999999999,0,0,0,0,0,0,0,0,0,0,0,2241.2200000000003,26895.049999999992,22703.149999999991,0,0,22703.149999999991,4191.9000000000005,0,0,0,0,0,0,0,2029.5,0,0,0,362.4,0,0,0,0,0,0,1800,0,0,0,88303.250000000015,0.99,5.7600000000000007,0,0.12000000000000001,0.56000000000000005,41.460000000000015,0,0.51999999999999991,1.9300000000000002,0.91000000000000014,71.719999999999985,0,4,5,293,39,93,16,0,0,0,0,0,0,0,0,0,0,0,0,0,0,0,0,0,0,0,0,0,0,null,null,null,null,null,null,null,62,{"$f":"+INDEX($F58:$DJ58,1,Sheet3!$C$1)","v":62},{"$f":"+IF(Sheet3!$C$1=1,IF(DN58<3,0,1),1)","v":1}]
[1,1,"112",11,2,17,142341.40150119603,119.85500000000002,23.98,1678.0599999999995,223.97,16.29,1.4,0,0,0,0,0,216.33,41.9,16.5,126.5,199.59000000000003,10.299999999999999,223.09000000000003,16893.009999999998,16893.009999999998,16893.009999999998,0,0,0,0,0,0,0,0,0,0,0,518.95000000000005,41304.159999999996,25447.700000000004,0,0,25447.700000000004,15856.46,0,0,0,0,0,0,0,519.66,0,0,0,1936.8,0,0,0,0,0,0,13400,0,0,0,58197.169999999991,0.6,0.3,0,0.1,0.4,4.9300000000000006,0,0.02,0.02,0,217.21,0,3,1,57,6,21,2,0,0,0,0,0,0,0,0,0,0,0,0,0,0,0,0,0,0,0,0,0,0,null,null,null,null,null,null,null,17,{"$f":"+INDEX($F59:$DJ59,1,Sheet3!$C$1)","v":17},{"$f":"+IF(Sheet3!$C$1=1,IF(DN59<3,0,1),1)","v":1}]
[1,1,"112",12,1,158,362157.2665202411,209.28999999999996,183.7,18144.009999999998,219.74999999999994,181.19,68.459999999999994,0,0,7.76,1.07,88.034999999999968,45.47,40.209999999999987,211.59999999999988,218.89999999999986,208.53999999999996,27.700000000000003,141.94999999999996,156142.5199999999,156142.5199999999,156142.5199999999,0,0,0,0,0,0,0,0,0,0,0,10269.289999999999,40668.029999999992,35659.299999999996,0,0,35659.299999999996,5008.7299999999996,0,0,0,0,0,0,0,3243.33,0,0,0,398.4,0,0,0,0,0,0,1367,0,0,0,196810.55000000008,3.63,53.359999999999992,0,1.7400000000000002,9.2599999999999927,70.380000000000024,1.07,6.0599999999999987,13.3,2.25,52.54999999999999,0,79,113,391,63,9,5,0,0,0,0,0,0,0,0,0,0,0,0,0,0,0,0,0,0,0,0,0,0,null,null,null,null,null,null,null,158,{"$f":"+INDEX($F60:$DJ60,1,Sheet3!$C$1)","v":158},{"$f":"+IF(Sheet3!$C$1=1,IF(DN60<3,0,1),1)","v":1}]
[1,1,"112",12,2,43,249568.86518509538,113.39000000000001,83.350000000000009,7309.9899999999989,141.35,83.16,28.74,0,0,1.77,0,34.989999999999995,61.05,48.370000000000005,118.95,124.45,119.69000000000003,29.589999999999996,114.22999999999999,42360.739999999991,42360.739999999991,42360.739999999991,0,0,0,0,0,0,0,0,0,0,0,6825.7000000000007,29536.34,21911.08,0,0,21911.08,7625.26,0,0,0,0,0,0,0,3541.26,0,0,0,2520,0,0,0,0,0,0,1564,0,0,0,71897.08,1.03,19.71,0,0.3,7.7,36.33,0,3.9,5.2300000000000013,0.22000000000000003,64.360000000000014,1,38,90,162,16,30,5,0,0,0,0,0,0,0,0,0,0,0,0,0,0,0,0,0,0,0,0,0,0,null,null,null,null,null,null,null,43,{"$f":"+INDEX($F61:$DJ61,1,Sheet3!$C$1)","v":43},{"$f":"+IF(Sheet3!$C$1=1,IF(DN61<3,0,1),1)","v":1}]
[1,1,"112",13,1,255,345359.72794771922,262.56999999999994,242.45999999999984,26154.709999999992,269.88000000000005,197.45,12.59,0,0,8.74,7.43,185.60999999999987,48.2,0,0,0,262.56999999999994,23.429999999999996,43.97,252655.61999999997,252655.61999999997,252655.61999999997,0,0,0,0,0,0,0,0,0,0,0,4869.0999999999985,4291.49,473.81,0,0,473.81,3817.6800000000003,0,0,0,0,0,0,0,1770.48,0,0,0,2047.2,0,0,0,0,0,0,0,0,0,0,256947.10999999996,0.39,9.1500000000000021,0,0.86,2.19,182.9199999999999,1.33,1.8400000000000005,7.4499999999999966,0.39,55.510000000000005,0,0,0,0,0,0,0,0,0,0,0,0,0,0,0,0,0,0,0,0,0,0,0,0,0,0,0,0,0,null,null,null,null,null,null,null,255,{"$f":"+INDEX($F62:$DJ62,1,Sheet3!$C$1)","v":255},{"$f":"+IF(Sheet3!$C$1=1,IF(DN62<3,0,1),1)","v":1}]
[1,1,"112",13,2,5,25377.559912306911,12.809999999999999,9.33,938.05000000000007,12.809999999999999,10.67,0.7,0,0,0,0,12.11,0,0,0,0,12.809999999999999,0,2.09,4967.5,4967.5,4967.5,0,0,0,0,0,0,0,0,0,0,0,561.75,543.4,543.4,0,0,543.4,0,0,0,0,0,0,0,0,0,0,0,0,0,0,0,0,0,0,0,0,0,0,0,5510.9000000000005,0,0.51,0,0,0.19,11.84,0,0,0.22,0,0,0,0,0,0,0,0,0,0,0,0,0,0,0,0,0,0,0,0,0,0,0,0,0,0,0,0,0,0,0,null,null,null,null,null,null,null,5,{"$f":"+INDEX($F63:$DJ63,1,Sheet3!$C$1)","v":5},{"$f":"+IF(Sheet3!$C$1=1,IF(DN63<3,0,1),1)","v":1}]
[1,1,"119",0,4,1,25364.04,1.69,1.68,124.1,1.69,1.69,0,0,0,0,0,1.69,0,0,13.6,363.6,1.69,0,1.69,993.51,993.51,993.51,0,0,0,0,0,0,0,0,0,0,0,15836.7,439.4,439.4,0,0,439.4,0,0,0,0,0,0,0,0,0,0,0,0,0,0,0,0,0,0,0,0,0,0,0,1432.9099999999999,0,0,0,0,0,1.69,0,0,0,0,0,0,0,20,0,0,0,0,0,0,0,0,0,0,0,0,0,0,0,0,0,0,0,0,0,0,0,0,0,0,null,null,null,null,null,null,null,0,{"$f":"+INDEX($F64:$DJ64,1,Sheet3!$C$1)","v":1},{"$f":"+IF(Sheet3!$C$1=1,IF(DN64<3,0,1),1)","v":0}]
[1,1,"119","1_1",1,215,270765.96705260448,261.53999999999985,242.75000000000011,23065.540000000012,283.40000000000009,248.59,184.52,0,0,0.83,0.62,41.609999999999992,34.4,0.33,8.1,8.1,261.9799999999999,108.30000000000004,140.47000000000003,212951.06999999989,212951.06999999989,212951.06999999989,0,0,0,0,0,0,0,0,0,0,0,9366.7199999999975,35527.81,23235.55,0,0,23235.55,12292.26,0,0,0,0,0,0,0,12292.26,0,0,0,0,0,0,0,0,0,0,0,0,0,0,248478.87999999998,36.619999999999997,140.75000000000006,0,0.38,6.0199999999999969,30.619999999999997,0.62,2.2999999999999998,5.0599999999999961,2.4500000000000002,55.77,0,4,4,9,1,0,0,0,0,0,0,0,0,0,0,0,0,0,0,0,0,0,0,0,0,0,0,0,0,null,null,null,null,null,null,null,215,{"$f":"+INDEX($F65:$DJ65,1,Sheet3!$C$1)","v":215},{"$f":"+IF(Sheet3!$C$1=1,IF(DN65<3,0,1),1)","v":1}]
[1,1,"119","1_1",2,2,27938.311409197882,7.74,4.79,325.89,8.7799999999999994,7.13,7.11,0,0,0,0,0.48,0.15,0,3.6,3.6,7.74,0,0,1987,1987,1987,0,0,0,0,0,0,0,0,0,0,0,0,0,0,0,0,0,0,null,null,null,null,null,null,null,null,null,null,null,null,null,null,null,null,null,null,null,null,null,null,1987,0,4.62,0,0,2.4900000000000002,0,0,0,0.48,0,1.19,0,0,6,0,0,0,0,0,0,0,0,0,0,0,0,0,0,0,0,0,0,0,0,0,0,0,0,0,0,null,null,null,null,null,null,null,{"$f":"+DN66*DO66","v":0},{"$f":"+INDEX($F66:$DJ66,1,Sheet3!$C$1)","v":2},{"$f":"+IF(Sheet3!$C$1=1,IF(DN66<3,0,1),1)","v":0}]
[1,1,"119","1_1",3,1,57037.516398688524,1.21,1.1200000000000001,106.45,1.21,1.21,0.98,0,0,0,0,0.23,0,0,0,0,1.21,0.92,1.21,993.51,993.51,993.51,0,0,0,0,0,0,0,0,0,0,0,174.94,866.6,314.60000000000002,0,0,314.60000000000002,552,0,552,0,0,0,0,0,0,0,0,0,0,0,0,0,0,0,0,0,0,0,0,1860.1100000000001,0,0.05,0,0,0.93,0.19,0,0,0.04,0,0,0,0,0,0,0,0,0,0,0,0,0,1,0.92,0,0,0,0,0,0,0,0,0,0,0,0,0,0,0,0,null,null,null,null,null,null,null,0,{"$f":"+INDEX($F67:$DJ67,1,Sheet3!$C$1)","v":1},{"$f":"+IF(Sheet3!$C$1=1,IF(DN67<3,0,1),1)","v":0}]
[1,1,"119","1_1",4,1,117229.82725632,3.86,1.03,97.33,3.86,1.9,1.9,0,0,0,1.96,0,0,0,0,0,3.86,0.82,0,993.5,993.5,993.5,0,0,0,0,0,0,0,0,0,0,0,321.10000000000002,0,0,0,0,0,0,null,null,null,null,null,null,null,null,null,null,null,null,null,null,null,null,null,null,null,null,null,null,993.5,0,0,0,0,1.9,0,1.96,0,0,0,0,0,0,0,0,0,0,0,0,0,0,0,0,0,0,0,0,0,0,0,0,0,0,0,0,0,0,0,0,0,null,null,null,null,null,null,null,0,{"$f":"+INDEX($F68:$DJ68,1,Sheet3!$C$1)","v":1},{"$f":"+IF(Sheet3!$C$1=1,IF(DN68<3,0,1),1)","v":0}]
[1,1,"119","1_2",1,81,102789.35575285101,83.97,77.039999999999964,8648.69,84.309999999999988,3.82,63.42,0,0,0.14000000000000001,1.1100000000000001,16.729999999999997,2.57,0,1.4,1.4,83.97,3.68,3.68,80201.590000000011,80201.590000000011,80201.590000000011,0,0,0,0,0,0,0,0,0,0,0,2647.8399999999997,1395.8000000000002,954.2,0,0,954.2,441.6,0,0,0,0,0,0,0,441.6,0,0,0,0,0,0,0,0,0,0,0,0,0,0,81597.39,3.3400000000000003,58.73,0,0,0.84000000000000008,8.99,1.1100000000000001,1.4800000000000002,5.6099999999999994,0,2.91,0,1,1,0,0,0,0,0,0,0,0,0,0,0,0,0,0,0,0,0,0,0,0,0,0,0,0,0,0,null,null,null,null,null,null,null,81,{"$f":"+INDEX($F69:$DJ69,1,Sheet3!$C$1)","v":81},{"$f":"+IF(Sheet3!$C$1=1,IF(DN69<3,0,1),1)","v":1}]
[1,1,"119",4,1,34,76792.596675022505,29.799999999999994,28.069999999999993,2822.44,30.619999999999994,24.27,12.13,0,0,0,1.27,5.1499999999999986,11.25,1.01,0.9,0.9,29.799999999999994,5.3000000000000007,5.85,33679.670000000006,33679.670000000006,33679.670000000006,0,0,0,0,0,0,0,0,0,0,0,599.53,1337.74,652.6,0,0,652.6,685.1400000000001,0,0,0,0,0,0,0,593.94000000000005,0,0,0,0,91.2,0,0,0,0,0,0,0,0,0,35017.409999999989,0.21,5.41,0,0.55000000000000004,5.96,3.8099999999999996,0,0.18,1.0100000000000002,0.06,12.070000000000002,0,0,0,2,1,2,1,0,0,0,0,0,0,0,0,0,0,0,0,0,0,0,0,1,0.48,0,0,0,0,null,null,null,null,null,null,null,34,{"$f":"+INDEX($F70:$DJ70,1,Sheet3!$C$1)","v":34},{"$f":"+IF(Sheet3!$C$1=1,IF(DN70<3,0,1),1)","v":1}]
[1,1,"119",4,2,20,158640.67325955204,33.69,31.560000000000002,2672.32,47.24,29.34,16.809999999999999,0,0,0,0,7.2000000000000011,9.68,2.21,5.4499999999999993,11.45,33.69,7.28,15.04,19776.920000000002,19776.920000000002,19776.920000000002,0,0,0,0,0,0,0,0,0,0,0,2795.9300000000003,4313.3600000000006,3536.18,0,0,3536.18,777.18000000000006,0,0,0,0,0,0,0,735.18,0,0,0,0,0,0,0,0,0,0,42,0,0,0,24090.280000000002,0,8.4,0,0,8.41,3.59,0,0.65,2.38,7.0000000000000007E-2,23.23,0,2,4,7,0,0,0,0,0,0,0,0,0,0,0,0,0,0,0,0,0,0,0,0,0,0,0,0,0,null,null,null,null,null,null,null,20,{"$f":"+INDEX($F71:$DJ71,1,Sheet3!$C$1)","v":20},{"$f":"+IF(Sheet3!$C$1=1,IF(DN71<3,0,1),1)","v":1}]
[1,1,"119",4,3,2,109611.12921109781,2.98,2.95,274.15999999999997,2.98,1.65,2.02,0,0,0,0,0.96,0,0,0,0,2.98,1.74,0,1986.97,1986.97,1986.97,0,0,0,0,0,0,0,0,0,0,0,522.07000000000005,213.84,0,0,0,0,213.84,0,0,0,0,0,0,0,213.84,0,0,0,0,0,0,0,0,0,0,0,0,0,0,2200.81,0,0,0,0,2.02,0.84000000000000008,0,0,0.12,0,0,0,0,0,0,0,0,0,0,0,0,0,0,0,0,0,0,0,0,0,0,0,0,0,0,0,0,0,0,0,null,null,null,null,null,null,null,0,{"$f":"+INDEX($F72:$DJ72,1,Sheet3!$C$1)","v":2},{"$f":"+IF(Sheet3!$C$1=1,IF(DN72<3,0,1),1)","v":0}]
[1,1,"119",5,1,35,74030.990681629672,47.63000000000001,43.359999999999992,3609.6100000000006,51.779999999999994,33.14,2.3199999999999998,0,0,0,0.28999999999999998,34.97,10.050000000000001,0,1.2,1.2,47.530000000000008,14.550000000000002,34.32,34728.900000000009,34728.900000000009,34728.900000000009,0,0,0,0,0,0,0,0,0,0,0,1473.5699999999997,8955.2800000000007,7056.4,0,0,7056.4,1898.8800000000003,0,0,0,0,0,0,0,1898.88,0,0,0,0,0,0,0,0,0,0,0,0,0,0,43684.180000000008,0.97,1.1600000000000001,0,0,0.19,3.6999999999999997,0.29000000000000004,0.8,28.39,0.16,14.200000000000003,0,0,0,7,1,0,0,0,0,0,0,0,0,0,0,0,0,0,0,0,0,0,0,0,0,0,0,0,0,null,null,null,null,null,null,null,35,{"$f":"+INDEX($F73:$DJ73,1,Sheet3!$C$1)","v":35},{"$f":"+IF(Sheet3!$C$1=1,IF(DN73<3,0,1),1)","v":1}]
[1,1,"119",5,2,29,243989.58912207684,120.82,92.64,6293.329999999999,124.09,41.03,5.03,0,0,0,0,109.71000000000002,6.08,0.86,1.3499999999999999,1.95,120.82,73.41,86.78,28811.680000000008,28811.680000000008,28811.680000000008,0,0,0,0,0,0,0,0,0,0,0,9102.3499999999985,39033.240000000005,19918.199999999997,0,0,19918.199999999997,19115.04,0,0,0,0,0,1491,0,6725.34,0,10898.7,0,0,0,0,0,0,0,0,0,0,0,0,67844.919999999984,3.14,1.46,0,0,0.33,2.3799999999999994,0,1,100.6,1.4300000000000002,9.35,0,0,0,7,1,0,1,10,42.62,0,0,0,0,0,0,0,0,0,0,2,14.2,0,0,0,0,0,0,0,0,null,null,null,null,null,null,null,29,{"$f":"+INDEX($F74:$DJ74,1,Sheet3!$C$1)","v":29},{"$f":"+IF(Sheet3!$C$1=1,IF(DN74<3,0,1),1)","v":1}]
[1,1,"119",5,3,3,95039.810184331058,40.07,25.9,1710.07,40.07,1.03,0.25,0,0,0,0.15,39.36,0.31,0,0,0,39.81,38.01,12.49,2980.5,2980.5,2980.5,0,0,0,0,0,0,0,0,0,0,0,1824.1299999999999,9744.380000000001,2232.4,0,0,2232.4,7511.9800000000005,0,0,0,0,0,1768.61,0,1822.2,0,3921.17,0,0,0,0,0,0,0,0,0,0,0,0,12724.880000000001,0,0,0,0,0.25,0.16,0.15,0.54,37.049999999999997,0.19,0.31,0,0,0,0,0,0,0,2,21.03,0,0,0,0,0,0,0,0,0,0,2,17.010000000000002,0,0,0,0,0,0,0,0,null,null,null,null,null,null,null,3,{"$f":"+INDEX($F75:$DJ75,1,Sheet3!$C$1)","v":3},{"$f":"+IF(Sheet3!$C$1=1,IF(DN75<3,0,1),1)","v":1}]
[1,1,"119",6,1,3,3120.6141131914383,3.27,2.88,255.19,3.27,2.48,0,0,0,0,0,1.6800000000000002,1.59,0,0,0,3.27,0.56000000000000005,1.5,2980.51,2980.51,2980.51,0,0,0,0,0,0,0,0,0,0,0,0,236.32,145.6,0,0,145.6,90.72,0,0,0,0,0,0,0,90.72,0,0,0,0,0,0,0,0,0,0,0,0,0,0,3216.83,0,0,0,0,0,0,0,1.6700000000000002,0,0,1.5899999999999999,0,0,0,0,0,0,0,0,0,0,0,0,0,0,0,0,0,0,0,0,0,0,0,0,0,0,0,0,0,null,null,null,null,null,null,null,3,{"$f":"+INDEX($F76:$DJ76,1,Sheet3!$C$1)","v":3},{"$f":"+IF(Sheet3!$C$1=1,IF(DN76<3,0,1),1)","v":1}]
[1,1,"119",6,2,15,139427.52981539673,21.069999999999997,19.16,1784.41,22.939999999999998,8.77,4.1900000000000004,0,0,0.81,0,14.599999999999998,1.47,0,3.95,3.95,21.069999999999997,5.37,5.38,14771.99,14771.99,14771.99,0,0,0,0,0,0,0,0,0,0,0,412.71999999999997,2454.9499999999998,1398.8,0,0,1398.8,1056.1500000000001,0,396,0,0,0,82.95,0,577.20000000000005,0,0,0,0,0,0,0,0,0,0,0,0,0,0,17226.940000000002,1.71,2.31,0,0,0.17,3.0300000000000002,0,9.4500000000000011,2.39,0,3.3400000000000003,0,1,1,13,0,0,0,0,0,0,0,1,0.75,0,0,0,0,0,0,1,0.79,0,0,0,0,0,0,0,0,null,null,null,null,null,null,null,15,{"$f":"+INDEX($F77:$DJ77,1,Sheet3!$C$1)","v":15},{"$f":"+IF(Sheet3!$C$1=1,IF(DN77<3,0,1),1)","v":1}]
[1,1,"119",6,3,20,863700.65441765636,40.130000000000003,31.949999999999996,2757.68,41.660000000000004,38,6.89,0,0,0,0.03,32.970000000000006,0.24,0,0,0,40.130000000000003,25.370000000000005,26.330000000000005,19871.04,19871.04,19871.04,0,0,0,0,0,0,0,0,0,0,0,4105.0199999999995,13905.220000000001,6113.03,0,0,6113.03,7792.1900000000005,0,3402,0,0,0,134.4,0,2290.92,0,1964.87,0,0,0,0,0,0,0,0,0,0,0,0,33776.26,6.33,0,0,0,0.56000000000000005,1.58,0.03,25.679999999999996,2.4300000000000002,2.2399999999999998,1.7700000000000002,0,0,0,0,0,0,0,3,3.67,0,0,2,3.78,0,0,0,0,0,0,1,1.28,0,0,0,0,0,0,0,0,null,null,null,null,null,null,null,20,{"$f":"+INDEX($F78:$DJ78,1,Sheet3!$C$1)","v":20},{"$f":"+IF(Sheet3!$C$1=1,IF(DN78<3,0,1),1)","v":1}]
[1,1,"119",6,4,1,228462.29940575999,7.17,2.0099999999999998,190.42,7.2,6.87,0,0,0,0,0,7.17,0,0,0,0,4.79,1.89,0,993.5,993.5,993.5,0,0,0,0,0,0,0,0,0,0,0,0,396.92,0,0,0,0,396.92,0,0,0,0,0,0,0,0,0,396.92,0,0,0,0,0,0,0,0,0,0,0,0,1390.42,0,0,0,0,0,0.04,0,6.87,0,0,0.03,0,0,0,0,0,0,0,1,1.89,0,0,0,0,0,0,0,0,0,0,0,0,0,0,0,0,0,0,0,0,null,null,null,null,null,null,null,0,{"$f":"+INDEX($F79:$DJ79,1,Sheet3!$C$1)","v":1},{"$f":"+IF(Sheet3!$C$1=1,IF(DN79<3,0,1),1)","v":0}]
[1,1,"119",7,1,1,1127.4080908799999,1.06,1,65.56,1.85,1.06,0,0,0,0,0,0.96,0.1,0,0,0,1.06,0.96,1.06,993.49,993.49,993.49,0,0,0,0,0,0,0,0,0,0,0,137.15,405.12,249.6,0,0,249.6,155.52000000000001,0,0,0,0,0,0,0,155.52000000000001,0,0,0,0,0,0,0,0,0,0,0,0,0,0,1398.6100000000001,0,0,0,0,0,0,0,0,0,0.96,0.89,0,0,0,0,0,0,0,0,0,0,0,0,0,0,0,0,0,0,0,0,0,0,0,0,0,0,0,0,0,null,null,null,null,null,null,null,0,{"$f":"+INDEX($F80:$DJ80,1,Sheet3!$C$1)","v":1},{"$f":"+IF(Sheet3!$C$1=1,IF(DN80<3,0,1),1)","v":0}]
[1,1,"119",8,1,337,607439.60760694742,424.74499999999995,392.24000000000018,37400.679999999986,452.96999999999997,331.54,163.24,0,0,5.14,7.4,160.75500000000002,88.21,4.5600000000000005,35.549999999999997,37.849999999999994,425.6,145.52000000000001,233.14000000000004,334669.99999999988,334669.99999999988,334669.99999999988,0,0,0,0,0,0,0,0,0,0,0,14688.519999999997,56850.530000000028,37652.900000000016,0,0,37652.900000000016,19197.629999999997,0,0,0,0,0,0,0,18997.63,0,0,0,0,0,0,0,0,0,0,200,0,0,0,391520.52999999997,19.16,121.04999999999997,0,2.06,20.969999999999992,76.210000000000008,1.97,14.009999999999989,55.489999999999988,11.420000000000002,115.46000000000009,0,14,11,74,10,17,4,0,0,0,0,0,0,0,0,0,0,0,0,0,0,0,0,0,0,0,0,0,0,null,null,null,null,null,null,null,337,{"$f":"+INDEX($F81:$DJ81,1,Sheet3!$C$1)","v":337},{"$f":"+IF(Sheet3!$C$1=1,IF(DN81<3,0,1),1)","v":1}]
[1,1,"119",8,2,50,327909.60690072051,138.28,107.47,8606.32,145.07,92.82,53.93,0,0,4.1900000000000004,4.87,66.740000000000009,8.5500000000000007,1.33,23.5,23.5,138.28,55.34,76.66,49634.099999999991,49634.099999999991,49634.099999999991,0,0,0,0,0,0,0,0,0,0,0,8463.7099999999991,28652.979999999996,16509.699999999997,0,0,16509.699999999997,12143.280000000002,0,2674.12,0,0,0,244.65,0,7005.96,0,2218.5500000000002,0,0,0,0,0,0,0,0,0,0,0,0,78287.079999999987,1.56,40.319999999999993,0,7.0000000000000007E-2,11.959999999999997,20.970000000000006,0.77,13.199999999999996,27.529999999999998,5.0399999999999991,15.339999999999996,0,10,19,17,1,0,0,2,7.72,0,0,1,4.84,0,0,0,0,0,0,1,2.33,0,0,0,0,0,0,0,0,null,null,null,null,null,null,null,50,{"$f":"+INDEX($F82:$DJ82,1,Sheet3!$C$1)","v":50},{"$f":"+IF(Sheet3!$C$1=1,IF(DN82<3,0,1),1)","v":1}]
[1,1,"119",8,3,1,25713.604254192662,1.71,1.64,155.55000000000001,1.71,1.71,1.38,0,0,0,0,0.33,0,0,0,0,1.71,1.71,0,993.48,993.48,993.48,0,0,0,0,0,0,0,0,0,0,0,860.74,1070,0,0,0,0,1070,0,1070,0,0,0,0,0,0,0,0,0,0,0,0,0,0,0,0,0,0,0,0,2063.48,0,0.25,0,0,1.1299999999999999,0,0,0.33,0,0,0,0,0,0,0,0,0,0,0,0,0,0,1,1.71,0,0,0,0,0,0,0,0,0,0,0,0,0,0,0,0,null,null,null,null,null,null,null,0,{"$f":"+INDEX($F83:$DJ83,1,Sheet3!$C$1)","v":1},{"$f":"+IF(Sheet3!$C$1=1,IF(DN83<3,0,1),1)","v":0}]
[1,1,"119",9,1,2,7291.6352589271901,1.19,1.1499999999999999,103.16,1.24,0.57999999999999996,0.11,0,0,0,0,1.08,0,0,2.6,2.6,1.19,0,0,1986.98,1986.98,1986.98,0,0,0,0,0,0,0,0,0,0,0,173.28,0,0,0,0,0,0,null,null,null,null,null,null,null,null,null,null,null,null,null,null,null,null,null,null,null,null,null,null,1986.98,0,0.11,0,0,0,0.80999999999999994,0,0,0.27,0,0.05,2,0,1,0,0,0,0,0,0,0,0,0,0,0,0,0,0,0,0,0,0,0,0,0,0,0,0,0,0,null,null,null,null,null,null,null,0,{"$f":"+INDEX($F84:$DJ84,1,Sheet3!$C$1)","v":2},{"$f":"+IF(Sheet3!$C$1=1,IF(DN84<3,0,1),1)","v":0}]
[1,1,"119",9,2,6,42066.950637123155,21.125,6.3400000000000007,666.18000000000006,34.93,4.33,3.34,0,0,0,0,2.39,27.78,7.7799999999999994,13.1,13.1,7.45,1.68,31.369999999999997,5960.99,5960.99,5960.99,0,0,0,0,0,0,0,0,0,0,0,944.02,3869.2200000000003,3665.1000000000004,0,0,3665.1000000000004,204.12,0,0,0,0,0,0,0,204.12,0,0,0,0,0,0,0,0,0,0,0,0,0,0,9830.2099999999991,0.38,2.88,0,0.04,0.04,2.41,0,0.12,0.86999999999999988,0.17,27.909999999999997,6,4,4,0,0,5,1,0,0,0,0,0,0,0,0,0,0,0,0,0,0,0,0,0,0,0,0,0,0,null,null,null,null,null,null,null,6,{"$f":"+INDEX($F85:$DJ85,1,Sheet3!$C$1)","v":6},{"$f":"+IF(Sheet3!$C$1=1,IF(DN85<3,0,1),1)","v":1}]
[1,1,"119","10_1",1,5,8503.2528602278635,6.9899999999999993,6.7700000000000005,532.15000000000009,7.0099999999999989,6.99,0.57999999999999996,0,0,1.05,0,3.1,2.2599999999999998,2.2599999999999998,6,6,6.9899999999999993,0.71,5.24,4967.5,4967.5,4967.5,0,0,0,0,0,0,0,0,0,0,0,132.69,1497.3000000000002,1362.4,0,0,1362.4,134.9,0,0,0,0,0,0,0,0,0,0,0,0,134.9,0,0,0,0,0,0,0,0,0,6464.8000000000011,0,0.57000000000000006,0,0,0.01,4.07,0,0.02,0.04,0,2.2800000000000002,0,3,6,0,0,0,0,0,0,0,0,0,0,0,0,0,0,0,0,0,0,0,0,1,0.71,0,0,0,0,null,null,null,null,null,null,null,5,{"$f":"+INDEX($F86:$DJ86,1,Sheet3!$C$1)","v":5},{"$f":"+IF(Sheet3!$C$1=1,IF(DN86<3,0,1),1)","v":1}]
[1,1,"119","10_1",2,1,13797.119797119994,6.68,0.5,44.86,14.52,0.79,0,0,0,0,0,0,11.95,11.95,12,12,0.79,5.61,12.57,993.5,993.5,993.5,0,0,0,0,0,0,0,0,0,0,0,257.06,1924.5,1500.1,0,0,1500.1,424.4,0,0,0,0,0,0,0,74.400000000000006,0,0,0,0,0,0,0,350,0,0,0,0,0,0,2918,0,0,0,0,0,0.62,0,0,0,0,13.9,1,3,10,0,0,0,0,0,0,0,0,0,0,0,0,0,0,0,0,0,0,0,0,0,0,0,0,1,4.99,null,null,null,null,null,null,null,0,{"$f":"+INDEX($F87:$DJ87,1,Sheet3!$C$1)","v":1},{"$f":"+IF(Sheet3!$C$1=1,IF(DN87<3,0,1),1)","v":0}]
[1,1,"119","10_15",1,21,51686.702139422821,24.29,20.940000000000005,2454.2699999999995,26.06,17.690000000000001,4.09,0,0,0,0,16.11,4.09,4.09,47.25,47.25,24.29,7.59,14.78,20865.84,20865.84,20865.84,0,0,0,0,0,0,0,0,0,0,0,3254.1800000000003,5026.26,3842.8,0,0,3842.8,1183.46,0,0,0,0,0,0,0,789.66,0,0,0,0,193.8,0,0,0,0,0,200,0,0,0,25892.100000000006,0.41,3.29,0,0,0.39,15.200000000000001,0,7.0000000000000007E-2,0.84000000000000008,0,5.8599999999999994,0,25,37,4,1,1,1,0,0,0,0,0,0,0,0,0,0,0,0,0,0,0,0,1,1.02,0,0,0,0,null,null,null,null,null,null,null,21,{"$f":"+INDEX($F88:$DJ88,1,Sheet3!$C$1)","v":21},{"$f":"+IF(Sheet3!$C$1=1,IF(DN88<3,0,1),1)","v":1}]
[1,1,"119","10_15",2,5,33382.327322004865,8.75,6.4799999999999995,699.8,8.75,6.28,0.79,0,0,3.83,0,2.39,1.74,1.74,32.950000000000003,38.950000000000003,8.75,1.31,4.58,4968.34,4968.34,4968.34,0,0,0,0,0,0,0,0,0,0,0,1146.26,1849.6800000000003,1190.8,0,0,1190.8,658.88,0,0,0,0,0,0,0,158.88,0,0,0,0,0,0,0,0,0,0,500,0,0,0,6818.02,0,0.74,0,0,0.05,6.0500000000000007,0,0,0.17,0,1.74,1,13,32,0,0,1,0,0,0,0,0,0,0,0,0,0,0,0,0,0,0,0,0,0,0,0,0,0,0,null,null,null,null,null,null,null,5,{"$f":"+INDEX($F89:$DJ89,1,Sheet3!$C$1)","v":5},{"$f":"+IF(Sheet3!$C$1=1,IF(DN89<3,0,1),1)","v":1}]
[1,1,"119","10_2",1,9,23587.753349504026,28.650000000000002,16.22,1191.3499999999999,42.11,14.24,1.03,0,0,0,0,3.94,33.22,28.020000000000003,14,14,30.42,7.67,34.460000000000008,8941.5300000000007,8941.5300000000007,8941.5300000000007,0,0,0,0,0,0,0,0,0,0,0,747.29,7988.3399999999992,6164.0000000000009,0,0,6164.0000000000009,1824.3400000000001,0,0,0,0,0,0,0,407.34,0,0,0,0,817,0,0,0,0,0,600,0,0,0,16929.87,0.22,0.74,0,0,7.0000000000000007E-2,3.9400000000000004,0,0,0.32,0.25,36.57,0,11,6,0,0,0,0,0,0,0,0,0,0,0,0,0,0,0,0,0,0,0,0,3,4.3,0,0,0,0,null,null,null,null,null,null,null,9,{"$f":"+INDEX($F90:$DJ90,1,Sheet3!$C$1)","v":9},{"$f":"+IF(Sheet3!$C$1=1,IF(DN90<3,0,1),1)","v":1}]
[1,1,"119","10_2",2,26,190037.50874995143,164.70499999999998,28.930000000000003,2095.23,307.68,32.130000000000003,2.4,0,0,3.38,0,0.86499999999999999,276.02,157.99999999999997,75.600000000000009,80.600000000000023,191.29000000000002,17.580000000000005,294.53000000000003,25833.58,25833.58,25833.58,0,0,0,0,0,0,0,0,0,0,0,2970.7900000000009,40315.53,36853,0,0,36853,3462.53,0,0,0,0,0,0,0,1331.33,0,0,0,0,851.2,0,0,0,0,0,1280,0,0,0,66149.109999999986,0.6,1.32,0,0.05,0.43,14.400000000000002,0,0.11,0.33,0.32,289.16999999999996,0,40,59,7,4,1,0,0,0,0,0,0,0,0,0,0,0,0,0,0,0,0,0,4,4.4800000000000004,0,0,0,0,null,null,null,null,null,null,null,26,{"$f":"+INDEX($F91:$DJ91,1,Sheet3!$C$1)","v":26},{"$f":"+IF(Sheet3!$C$1=1,IF(DN91<3,0,1),1)","v":1}]
[1,1,"119",11,1,71,129661.46406550014,141.46,94.470000000000013,7358.9199999999992,200.35,102.03,4.67,0,0,0,0,33.28,134.72,48.22,62.649999999999991,100.706,159.10000000000002,41.88,169.16000000000003,70408.160000000003,70408.160000000003,70408.160000000003,0,0,0,0,0,0,0,0,0,0,0,1591.87,40931.249999999978,33505.699999999997,0,0,33505.699999999997,7425.5500000000011,0,0,0,0,0,0,0,2749.8,0,0,0,0,3279.4,0,0,0,0,0,1396.35,0,0,0,111339.41000000005,0.46,3.7100000000000004,0,0,0.49999999999999994,35.33,0,1.19,0.83000000000000007,0.64,157.06999999999996,0,1,0,335,38,29,9,0,0,0,0,0,0,0,0,0,0,0,0,0,0,0,0,13,17.260000000000002,0,0,0,0,null,null,null,null,null,null,null,71,{"$f":"+INDEX($F92:$DJ92,1,Sheet3!$C$1)","v":71},{"$f":"+IF(Sheet3!$C$1=1,IF(DN92<3,0,1),1)","v":1}]
[1,1,"119",11,2,68,487299.99722240196,469.20499999999993,66.410000000000011,5136.8999999999969,882.55000000000018,73.680000000000007,6.97,0,0,0.22,0.28999999999999998,1.74,823.08,92.37,61.199999999999982,200.20000000000002,593.51,41.679999999999993,856.81000000000006,67473.890000000014,67473.890000000014,67473.890000000014,0,0,0,0,0,0,0,0,0,0,0,1978.6200000000001,115576.98000000001,100987.40000000002,0,0,100987.40000000002,14589.580000000004,0,0,0,0,0,0,0,3561.38,0,0,0,0,1060.2,0,0,0,0,0,9968,0,0,0,183050.87000000002,2.1199999999999997,3.4899999999999998,0,0,1.3600000000000003,20.939999999999994,0.28999999999999998,1.2600000000000002,3.0700000000000003,0.8,847.7800000000002,0,18,9,211,17,20,4,0,0,0,0,0,0,0,0,0,0,0,0,0,0,0,0,6,5.58,0,0,0,0,null,null,null,null,null,null,null,68,{"$f":"+INDEX($F93:$DJ93,1,Sheet3!$C$1)","v":68},{"$f":"+IF(Sheet3!$C$1=1,IF(DN93<3,0,1),1)","v":1}]
[1,1,"119",11,3,2,71519.708895510805,65.069999999999993,1.64,119.59,118.36,15.12,0.06,0,0,0,0,0,111.27,0,10,55,115.02,50.16,115.02,1986.99,1986.99,1986.99,0,0,0,0,0,0,0,0,0,0,0,0,12760.4,6722.4,0,0,6722.4,6038,0,0,0,0,0,0,0,0,0,0,0,0,1288,0,0,350,0,0,4400,0,0,0,14747.39,0,0,0,0,0.06,2.6,0,0,0.72,0.37,114.61,0,6,7,0,0,0,0,0,0,0,0,0,0,0,0,0,0,0,0,0,0,0,0,1,10.199999999999999,0,0,1,39.96,null,null,null,null,null,null,null,0,{"$f":"+INDEX($F94:$DJ94,1,Sheet3!$C$1)","v":2},{"$f":"+IF(Sheet3!$C$1=1,IF(DN94<3,0,1),1)","v":0}]
[1,1,"119",12,1,102,221414.78256746256,139.79000000000002,121.44999999999999,11080.759999999993,157.23999999999995,125.99,49.04,0,0,2.7,0.14000000000000001,54.03,35.119999999999997,32.129999999999995,143.89999999999989,147.89999999999989,141.29,52.96,107.49000000000001,101339.57999999999,101339.57999999999,101339.57999999999,0,0,0,0,0,0,0,0,0,0,0,8507.81,34900.299999999988,27511.899999999991,0,0,27511.899999999991,7388.4000000000005,0,0,0,0,0,0,0,6490.8,0,0,0,0,197.6,0,0,0,0,0,700,0,0,0,136239.87999999995,2.3699999999999997,41.669999999999995,0,0.13,4.8699999999999992,42.580000000000013,0.14000000000000001,1.7400000000000007,9.3299999999999947,0.79,51.070000000000022,0,53,67,269,32,49,8,0,0,0,0,0,0,0,0,0,0,0,0,0,0,0,0,2,1.04,0,0,0,0,null,null,null,null,null,null,null,102,{"$f":"+INDEX($F95:$DJ95,1,Sheet3!$C$1)","v":102},{"$f":"+IF(Sheet3!$C$1=1,IF(DN95<3,0,1),1)","v":1}]
[1,1,"119",12,2,16,116076.26670065391,66.295000000000002,26.56,1925.94,107.48999999999998,24.55,6.7,0,0,0.79,0,3.7699999999999996,81.33,18.61,27.050000000000004,34.050000000000004,63.159999999999989,16.700000000000003,102.72999999999999,15853.35,15853.35,15853.35,0,0,0,0,0,0,0,0,0,0,0,1628.4,17007.18,14471.800000000001,0,0,14471.800000000001,2535.38,0,0,0,0,0,0,0,2415.1799999999998,0,0,0,0,0,0,0,0,0,0,120.2,0,0,0,32860.530000000006,0.14000000000000001,4.51,0,0,2.0499999999999998,5.339999999999999,0,3.68,5.75,1.02,84.039999999999992,0,6,25,33,10,0,0,0,0,0,0,0,0,0,0,0,0,0,0,0,0,0,0,0,0,0,0,0,0,null,null,null,null,null,null,null,16,{"$f":"+INDEX($F96:$DJ96,1,Sheet3!$C$1)","v":16},{"$f":"+IF(Sheet3!$C$1=1,IF(DN96<3,0,1),1)","v":1}]
[1,1,"119",13,1,207,201480.77547191794,247.14000000000004,228.32,21505.549999999981,285.8900000000001,192.83,3.82,0,0,7.98,2.5099999999999998,123.62000000000005,110.32,0,0,0,248.12000000000003,48.430000000000007,75.5,205368.90999999989,205368.90999999989,205368.90999999989,0,0,0,0,0,0,0,0,0,0,0,2382.71,7504.48,1841.3800000000003,0,0,1841.3800000000003,5663.1000000000013,0,0,0,0,0,0,0,5663.1,0,0,0,0,0,0,0,0,0,0,0,0,0,0,212873.38999999978,0,2.4700000000000002,0,0.22,1.1300000000000006,124.38000000000001,0,1.0600000000000003,4.4499999999999993,0.35,147.96000000000004,0,0,0,0,0,0,0,0,0,0,0,0,0,0,0,0,0,0,0,0,0,0,0,0,0,0,0,0,0,null,null,null,null,null,null,null,207,{"$f":"+INDEX($F97:$DJ97,1,Sheet3!$C$1)","v":207},{"$f":"+IF(Sheet3!$C$1=1,IF(DN97<3,0,1),1)","v":1}]
[1,1,"119",13,2,5,27321.687940296106,14.020000000000001,12.280000000000001,1002.3,14.15,0.02,0.69,0,0,1.66,0,11.67,0,0,0,0,14.020000000000001,0,0,4967.5200000000004,4967.5200000000004,4967.5200000000004,0,0,0,0,0,0,0,0,0,0,0,256.83,0,0,0,0,0,0,null,null,null,null,null,null,null,null,null,null,null,null,null,null,null,null,null,null,null,null,null,null,4967.5200000000004,0,0.67,0,0,0.02,12.290000000000001,0,0.49,0.42000000000000004,0.13,0.13,0,0,0,0,0,0,0,0,0,0,0,0,0,0,0,0,0,0,0,0,0,0,0,0,0,0,0,0,0,null,null,null,null,null,null,null,5,{"$f":"+INDEX($F98:$DJ98,1,Sheet3!$C$1)","v":5},{"$f":"+IF(Sheet3!$C$1=1,IF(DN98<3,0,1),1)","v":1}]
[1,1,"11A","1_1",1,396,429294.96369514323,379.70999999999975,350.03999999999974,42110.18,394.34999999999991,345.22,293.66000000000003,0,0,1.79,0.93,43.260000000000034,40.07,0,4.3500000000000005,4.8500000000000005,379.28999999999979,65.800000000000011,107.83000000000001,392764.04000000004,392764.04000000004,392764.04000000004,0,0,0,0,0,0,0,0,0,0,0,11789.300000000003,31185.269999999982,23096.040000000008,0,0,23096.040000000008,8089.2300000000005,0,0,0,0,0,0,0,8089.23,0,0,0,0,0,0,0,0,0,0,0,0,0,0,423949.31000000006,36.290000000000013,243.98999999999981,0,1.61,11.769999999999991,26.760000000000009,0.93,4.4299999999999988,10.73999999999999,1.31,54.710000000000008,0,2,2,2,0,1,2,0,0,0,0,0,0,0,0,0,0,0,0,0,0,0,0,0,0,0,0,0,0,null,null,null,null,null,null,null,396,{"$f":"+INDEX($F99:$DJ99,1,Sheet3!$C$1)","v":396},{"$f":"+IF(Sheet3!$C$1=1,IF(DN99<3,0,1),1)","v":1}]
[1,1,"11A","1_1",2,3,13818.141355098644,9.8500000000000014,10.85,794.37,9.8500000000000014,9.76,6.91,0,0,0,0,2.9000000000000004,0.04,0,0,0,9.8500000000000014,0,2.94,2980.52,2980.52,2980.52,0,0,0,0,0,0,0,0,0,0,0,304.66000000000003,764.4,764.4,0,0,764.4,0,0,0,0,0,0,0,0,0,0,0,0,0,0,0,0,0,0,0,0,0,0,0,3744.9199999999996,0,6.91,0,0,0,2.2999999999999998,0,0,0.09,0,0.04,0,0,0,0,0,0,0,0,0,0,0,0,0,0,0,0,0,0,0,0,0,0,0,0,0,0,0,0,0,null,null,null,null,null,null,null,3,{"$f":"+INDEX($F100:$DJ100,1,Sheet3!$C$1)","v":3},{"$f":"+IF(Sheet3!$C$1=1,IF(DN100<3,0,1),1)","v":1}]
[1,1,"11A","1_1",3,1,63915.210346259773,1.06,1.06,95.1,1.06,1.06,1.06,0,0,0,0,0,0,0,0,0,1.06,1.06,0,993.49,993.49,993.49,0,0,0,0,0,0,0,0,0,0,0,0,636,0,0,0,0,636,0,636,0,0,0,0,0,0,0,0,0,0,0,0,0,0,0,0,0,0,0,0,1629.49,0,0,0,0,1.06,0,0,0,0,0,0,0,0,0,0,0,0,0,0,0,0,0,1,1.06,0,0,0,0,0,0,0,0,0,0,0,0,0,0,0,0,null,null,null,null,null,null,null,0,{"$f":"+INDEX($F101:$DJ101,1,Sheet3!$C$1)","v":1},{"$f":"+IF(Sheet3!$C$1=1,IF(DN101<3,0,1),1)","v":0}]
[1,1,"11A","1_1",4,2,209426.40000000002,3.4,3.18,303.75,3.4,3.36,3.4,0,0,0,0,0,0,0,0,0,3.4,3.4,1.67,1987.01,1987.01,1987.01,0,0,0,0,0,0,0,0,0,0,0,574.6,1472.2,434.2,0,0,434.2,1038,0,1038,0,0,0,0,0,0,0,0,0,0,0,0,0,0,0,0,0,0,0,0,3459.21,0,0,0,0,3.4,0,0,0,0,0,0,0,0,0,0,0,0,0,0,0,0,0,1,1.73,0,0,0,0,0,0,0,0,0,0,0,0,0,0,0,0,null,null,null,null,null,null,null,0,{"$f":"+INDEX($F102:$DJ102,1,Sheet3!$C$1)","v":2},{"$f":"+IF(Sheet3!$C$1=1,IF(DN102<3,0,1),1)","v":0}]
[1,1,"11A","1_2",1,71,49519.733541161208,63.770000000000017,58.290000000000013,6587.4599999999982,64.270000000000024,9.3800000000000008,49.11,0,0,0.94,0.32,8.9599999999999973,4.4400000000000004,0,0,0,63.770000000000017,5.27,11.08,70245.169999999969,70245.169999999969,70245.169999999969,0,0,0,0,0,0,0,0,0,0,0,566.58999999999992,2785.2999999999997,2142.4,0,0,2142.4,642.9,0,0,0,0,0,0,0,642.9,0,0,0,0,0,0,0,0,0,0,0,0,0,0,73030.469999999972,29.919999999999991,17.739999999999998,0,0.51,0.94000000000000017,7.85,0.32,0.5,0.91000000000000025,0.12,4.9399999999999995,0,0,0,0,0,0,0,0,0,0,0,0,0,0,0,0,0,0,0,0,0,0,0,0,0,0,0,0,0,null,null,null,null,null,null,null,71,{"$f":"+INDEX($F103:$DJ103,1,Sheet3!$C$1)","v":71},{"$f":"+IF(Sheet3!$C$1=1,IF(DN103<3,0,1),1)","v":1}]
[1,1,"11A","1_2",3,1,64042.289281350982,1.1499999999999999,1.1399999999999999,102.28,1.1499999999999999,0.02,1.06,0,0,0,0,0.09,0,0,0,0,1.1499999999999999,1.06,1.1499999999999999,993.5,993.5,993.5,0,0,0,0,0,0,0,0,0,0,0,0,935,299,0,0,299,636,0,636,0,0,0,0,0,0,0,0,0,0,0,0,0,0,0,0,0,0,0,0,1928.5,0,0,0,0,1.06,0,0,7.0000000000000007E-2,0,0,0,0,0,0,0,0,0,0,0,0,0,0,1,1.06,0,0,0,0,0,0,0,0,0,0,0,0,0,0,0,0,null,null,null,null,null,null,null,0,{"$f":"+INDEX($F104:$DJ104,1,Sheet3!$C$1)","v":1},{"$f":"+IF(Sheet3!$C$1=1,IF(DN104<3,0,1),1)","v":0}]
[1,1,"11A",4,1,31,70863.241530735875,22.009999999999998,20.07,2599.41,22.36,17.46,15.18,0,0,0,0,3.7300000000000004,3.1,0.08,0.45,0.45,22.009999999999998,4.7300000000000004,4.34,30754.950000000004,30754.950000000004,30754.950000000004,0,0,0,0,0,0,0,0,0,0,0,639.93999999999994,1273.98,694.2,0,0,694.2,579.78,0,0,0,0,0,0,0,579.78,0,0,0,0,0,0,0,0,0,0,0,0,0,0,32028.93,2.7300000000000004,5.9899999999999984,0,0.32,6.1400000000000006,2.69,0,0.06,0.80000000000000027,0,3.45,0,0,0,0,0,3,0,0,0,0,0,0,0,0,0,0,0,0,0,0,0,0,0,0,0,0,0,0,0,null,null,null,null,null,null,null,31,{"$f":"+INDEX($F105:$DJ105,1,Sheet3!$C$1)","v":31},{"$f":"+IF(Sheet3!$C$1=1,IF(DN105<3,0,1),1)","v":1}]
[1,1,"11A",4,2,33,298663.78030835988,42.339999999999996,37.99,3553.72,45.16,33.54,28.57,0,0,0.31,0,9.1900000000000013,4.2699999999999996,0.98,4.05,4.05,42.129999999999995,5.42,13.950000000000001,32696.080000000002,32696.080000000002,32696.080000000002,0,0,0,0,0,0,0,0,0,0,0,3763.4099999999989,3660.42,2989.48,0,0,2989.48,670.94,0,0,0,0,0,0,0,670.94,0,0,0,0,0,0,0,0,0,0,0,0,0,0,36356.500000000007,0.91,8.4899999999999984,0,0,18.73,5.1000000000000005,0,2.15,2.2999999999999998,0.28999999999999998,7.09,0,0,3,0,0,12,3,0,0,0,0,0,0,0,0,0,0,0,0,0,0,0,0,0,0,0,0,0,0,null,null,null,null,null,null,null,33,{"$f":"+INDEX($F106:$DJ106,1,Sheet3!$C$1)","v":33},{"$f":"+IF(Sheet3!$C$1=1,IF(DN106<3,0,1),1)","v":1}]
[1,1,"11A",4,3,15,700853.75192679069,29.689999999999998,24.02,2070.4500000000003,30.2,26.25,25.26,0,0,0,0.17,3.96,0.3,0,0,0,29.389999999999997,0,4.87,14902.59,14902.59,14902.59,0,0,0,0,0,0,0,0,0,0,0,5989.8700000000008,941.2,941.2,0,0,941.2,0,0,0,0,0,0,0,0,0,0,0,0,0,0,0,0,0,0,0,0,0,0,0,15843.789999999999,0.13,1.02,0,0,24.09,2.2799999999999998,0.17,0.32000000000000006,1.2000000000000002,0,0.80999999999999994,0,0,0,0,0,0,0,0,0,0,0,0,0,0,0,0,0,0,0,0,0,0,0,0,0,0,0,0,0,null,null,null,null,null,null,null,15,{"$f":"+INDEX($F107:$DJ107,1,Sheet3!$C$1)","v":15},{"$f":"+IF(Sheet3!$C$1=1,IF(DN107<3,0,1),1)","v":1}]
[1,1,"11A",5,1,17,40376.161339470156,23.720000000000002,22.13,2097.0300000000002,23.85,13.96,1.56,0,0,0,0,17.720000000000002,4.4400000000000004,0,1.65,2.65,23.720000000000002,7.7100000000000009,18.86,16889.489999999998,16889.489999999998,16889.489999999998,0,0,0,0,0,0,0,0,0,0,0,1043.6499999999999,6203.62,4214.6000000000004,0,0,4214.6000000000004,1989.02,0,0,0,0,0,129.15,0,844.62,0,1015.25,0,0,0,0,0,0,0,0,0,0,0,0,23093.110000000004,0.68,0.49,0,0.03,0.36000000000000004,0.82000000000000006,0,0.84000000000000008,15.420000000000002,0,4.57,0,0,0,10,1,0,0,2,2.29,0,0,0,0,0,0,0,0,0,0,1,1.23,0,0,0,0,0,0,0,0,null,null,null,null,null,null,null,17,{"$f":"+INDEX($F108:$DJ108,1,Sheet3!$C$1)","v":17},{"$f":"+IF(Sheet3!$C$1=1,IF(DN108<3,0,1),1)","v":1}]
[1,1,"11A",5,2,12,136612.24466106371,67.62,55.17,3727.19,68.33,29.61,1.61,0,0,1.46,0.37,62.449999999999996,1.73,0,0,0,67.62,41.550000000000004,51.2,11922.12,11922.12,11922.12,0,0,0,0,0,0,0,0,0,0,0,4098.63,21333.58,10118.200000000001,0,0,10118.200000000001,11215.38,0,0,0,0,215.46,2093.6999999999998,0,1894.98,0,7011.24,0,0,0,0,0,0,0,0,0,0,0,0,33255.700000000004,0,0.39,0,0,0.74,2.2799999999999998,0.37,0.96,54.1,2.88,2.44,0,0,0,0,0,0,0,4,29.16,0,0,0,0,0,0,1,1.33,0,0,4,19.940000000000001,0,0,0,0,0,0,0,0,null,null,null,null,null,null,null,12,{"$f":"+INDEX($F109:$DJ109,1,Sheet3!$C$1)","v":12},{"$f":"+IF(Sheet3!$C$1=1,IF(DN109<3,0,1),1)","v":1}]
[1,1,"11A",6,1,24,50651.122661040703,19.48,17.760000000000002,2002.93,19.990000000000002,13.79,9.84,0,0,0,0,7.3899999999999988,2.25,0,0,0,19.48,2.2400000000000002,6.2899999999999991,23550.500000000004,23550.500000000004,23550.500000000004,0,0,0,0,0,0,0,0,0,0,0,382.59000000000003,1621.06,1292.2,0,0,1292.2,328.86,0,0,0,0,0,0,0,328.86,0,0,0,0,0,0,0,0,0,0,0,0,0,0,25171.56,6.2399999999999993,3.47,0,0.04,0.09,1.0899999999999999,0,6.0400000000000009,0.16,0.02,2.76,0,0,0,0,0,0,0,0,0,0,0,0,0,0,0,0,0,0,0,0,0,0,0,0,0,0,0,0,0,null,null,null,null,null,null,null,24,{"$f":"+INDEX($F110:$DJ110,1,Sheet3!$C$1)","v":24},{"$f":"+IF(Sheet3!$C$1=1,IF(DN110<3,0,1),1)","v":1}]
[1,1,"11A",6,2,37,414269.99838845257,69.33,51.539999999999992,4328.7000000000007,72.88,53.2,11.71,0,0,0,0.02,52.769999999999989,4.83,0.77,4.75,4.75,69.33,38.29999999999999,42.499999999999993,36696.19,36696.19,36696.19,0,0,0,0,0,0,0,0,0,0,0,6674.34,22620.26,9739.2000000000007,0,0,9739.2000000000007,12881.06,0,0,0,0,0,215.25,0,3652.32,0,9013.49,0,0,0,0,0,0,0,0,0,0,0,0,59316.44999999999,5.32,4.8100000000000005,0,0.19,1.3900000000000003,3.95,0.02,45.46,1.37,0.92,8.379999999999999,0,0,2,23,2,0,0,9,16.510000000000002,0,0,0,0,0,0,0,0,0,0,1,2.0499999999999998,0,0,0,0,0,0,0,0,null,null,null,null,null,null,null,37,{"$f":"+INDEX($F111:$DJ111,1,Sheet3!$C$1)","v":37},{"$f":"+IF(Sheet3!$C$1=1,IF(DN111<3,0,1),1)","v":1}]
[1,1,"11A",6,3,21,784283.75677890645,53.530000000000008,38.560000000000009,3136.6299999999997,55.2,50.84,1,0,0,0,0.05,52.209999999999994,0.27,0,0,0,53.530000000000008,39.92,27.18,20863.649999999998,20863.649999999998,20863.649999999998,0,0,0,0,0,0,0,0,0,0,0,6427.2200000000012,25904.880000000008,6502.5499999999993,0,0,6502.5499999999993,19402.330000000002,0,3357.4,0,0,0,194.25,0,3314.34,0,12536.34,0,0,0,0,0,0,0,0,0,0,0,0,46768.53,0.37,0.09,0,0,0.54,1.1200000000000001,0.05,50.28,0.21,0,1.9400000000000002,0,0,0,0,0,0,0,4,24.9,0,0,3,3.94,0,0,0,0,0,0,1,1.85,0,0,0,0,0,0,0,0,null,null,null,null,null,null,null,21,{"$f":"+INDEX($F112:$DJ112,1,Sheet3!$C$1)","v":21},{"$f":"+IF(Sheet3!$C$1=1,IF(DN112<3,0,1),1)","v":1}]
[1,1,"11A",6,4,3,786035.72594653093,67.47,24.51,1705.1200000000001,67.87,65.83,0.18,0,0,0,0,67.289999999999992,0,0,0,0,67.47,59.15,10.600000000000001,2980.52,2980.52,2980.52,0,0,0,0,0,0,0,0,0,0,0,80329.97,20282.64,2405.5,0,0,2405.5,17877.14,0,0,0,0,0,333.9,0,1500.9,0,16042.34,0,0,0,0,0,0,0,0,0,0,0,0,23263.16,0.18,0,0,0,0,0.28000000000000003,0,65.81,0,0,0.4,0,0,0,0,0,0,0,3,46.7,0,0,0,0,0,0,0,0,0,0,1,3.18,0,0,0,0,0,0,0,0,null,null,null,null,null,null,null,3,{"$f":"+INDEX($F113:$DJ113,1,Sheet3!$C$1)","v":3},{"$f":"+IF(Sheet3!$C$1=1,IF(DN113<3,0,1),1)","v":1}]
[1,1,"11A",7,1,1,1142.1682270521744,2.0299999999999998,1.97,129.15,2.0299999999999998,1.1100000000000001,0,0,0,0,0,1.28,0.75,0,0,0,2.0299999999999998,1.28,2.0299999999999998,993.48,993.48,993.48,0,0,0,0,0,0,0,0,0,0,0,70.290000000000006,531.1,325,0,0,325,206.1,0,0,0,0,0,0,0,206.1,0,0,0,0,0,0,0,0,0,0,0,0,0,0,1524.58,0,0,0,0,0,0.03,0,0,0,1.25,0.75,0,0,0,0,0,0,0,0,0,0,0,0,0,0,0,0,0,0,0,0,0,0,0,0,0,0,0,0,0,null,null,null,null,null,null,null,0,{"$f":"+INDEX($F114:$DJ114,1,Sheet3!$C$1)","v":1},{"$f":"+IF(Sheet3!$C$1=1,IF(DN114<3,0,1),1)","v":0}]
[1,1,"11A",8,1,376,645842.55807649228,365.8299999999997,332.44999999999993,39096.969999999987,376.70999999999975,286.94,185.86,0,0,2.7,0.34,125.99999999999987,50.93,5.86,37.5,37.5,365.22999999999968,110.58,140.30000000000004,373069.04000000004,373069.04000000004,373069.04000000004,0,0,0,0,0,0,0,0,0,0,0,14179.89,42714.840000000026,28125.340000000015,0,0,28125.340000000015,14589.500000000004,0,0,0,0,0,0,0,14449.5,0,0,0,0,0,0,0,0,0,0,140,0,0,0,415783.88000000006,25.5,126.82999999999996,0,2.62,30.659999999999982,51.86,0.33999999999999997,21.959999999999987,42.950000000000017,6.6199999999999992,61.809999999999974,0,11,19,66,9,25,6,0,0,0,0,0,0,0,0,0,0,0,0,0,0,0,0,0,0,0,0,0,0,null,null,null,null,null,null,null,376,{"$f":"+INDEX($F115:$DJ115,1,Sheet3!$C$1)","v":376},{"$f":"+IF(Sheet3!$C$1=1,IF(DN115<3,0,1),1)","v":1}]
[1,1,"11A",8,2,32,197043.08461951875,62.46,53.93,4756.6500000000005,66.61,46.97,27.72,0,0,0.19,0.52,31.629999999999995,2.4,1.1800000000000002,5.15,5.15,62.49,26.26,38.32,31714.059999999998,31714.059999999998,31714.059999999998,0,0,0,0,0,0,0,0,0,0,0,4459.66,13481.300000000001,8675.6,0,0,8675.6,4805.7000000000007,0,0,0,0,0,128.1,0,3459.3,0,1218.3,0,0,0,0,0,0,0,0,0,0,0,0,45195.359999999986,3.4800000000000004,13.95,0,0.14000000000000001,10.150000000000002,10.74,0.52,4.3,14.05,0.8899999999999999,6.5500000000000007,0,0,5,10,1,5,1,2,2.54,0,0,0,0,0,0,0,0,0,0,1,1.22,0,0,0,0,0,0,0,0,null,null,null,null,null,null,null,32,{"$f":"+INDEX($F116:$DJ116,1,Sheet3!$C$1)","v":32},{"$f":"+IF(Sheet3!$C$1=1,IF(DN116<3,0,1),1)","v":1}]
[1,1,"11A",8,3,1,25813.160209557005,13.03,8.08,529.72,13.41,3.43,0.38,0,0,4.01,0,8.49,0.15,0.15,2.1,2.1,13.03,12.5,12.82,993.52,993.52,993.52,0,0,0,0,0,0,0,0,0,0,0,0,5329.03,2279.1999999999998,0,0,2279.1999999999998,3049.83,0,0,0,0,0,810.6,0,1795.98,0,443.25,0,0,0,0,0,0,0,0,0,0,0,0,6322.5499999999993,0,0.38,0,0,0,4.01,0,0.37,7.41,0,0.53,0,0,0,8,5,1,0,1,1.97,0,0,0,0,0,0,0,0,0,0,1,7.72,0,0,0,0,0,0,0,0,null,null,null,null,null,null,null,0,{"$f":"+INDEX($F117:$DJ117,1,Sheet3!$C$1)","v":1},{"$f":"+IF(Sheet3!$C$1=1,IF(DN117<3,0,1),1)","v":0}]
[1,1,"11A",9,1,7,24121.031942672122,6.66,6.1899999999999995,687.91000000000008,6.8400000000000007,6,2.58,0,0,0,0,1.1000000000000001,2.98,2.98,9.7999999999999989,9.7999999999999989,6.66,0,3.0700000000000003,6956.02,6956.02,6956.02,0,0,0,0,0,0,0,0,0,0,0,205.73,793,793,0,0,793,0,0,0,0,0,0,0,0,0,0,0,0,0,0,0,0,0,0,0,0,0,0,0,7749.02,0,2.4800000000000004,0,0,0.1,0.94000000000000006,0,0,0.1,0,3.1599999999999997,7,1,4,0,0,0,0,0,0,0,0,0,0,0,0,0,0,0,0,0,0,0,0,0,0,0,0,0,0,null,null,null,null,null,null,null,7,{"$f":"+INDEX($F118:$DJ118,1,Sheet3!$C$1)","v":7},{"$f":"+IF(Sheet3!$C$1=1,IF(DN118<3,0,1),1)","v":1}]
[1,1,"11A",9,2,5,32953.166265707747,6.32,4.67,558.54,6.7700000000000005,6.32,2.8,0,0,0,0,0.94000000000000006,2.58,2.58,12.8,12.8,6.32,0,5.05,4968.2900000000009,4968.2900000000009,4968.2900000000009,0,0,0,0,0,0,0,0,0,0,0,512.87,1313,1313,0,0,1313,0,0,0,0,0,0,0,0,0,0,0,0,0,0,0,0,0,0,0,0,0,0,0,6281.29,0,2.5299999999999998,0,0,0.27,0.78,0,0.15,0,0,3.03,10,1,4,0,0,0,0,0,0,0,0,0,0,0,0,0,0,0,0,0,0,0,0,0,0,0,0,0,0,null,null,null,null,null,null,null,5,{"$f":"+INDEX($F119:$DJ119,1,Sheet3!$C$1)","v":5},{"$f":"+IF(Sheet3!$C$1=1,IF(DN119<3,0,1),1)","v":1}]
[1,1,"11A","10_1",1,9,14944.987466680139,9.5499999999999989,8.0600000000000023,1043.6500000000001,11.439999999999998,7.3,3.21,0,0,0.59,0,0.61,5.14,5.14,11.599999999999998,11.599999999999998,9.5499999999999989,1.38,6.0600000000000005,8898.01,8898.01,8898.01,0,0,0,0,0,0,0,0,0,0,0,541.39,2010.4,1424.8,0,0,1424.8,585.6,0,0,0,0,0,0,0,165.6,0,0,0,0,0,0,0,0,0,0,420,0,0,0,10908.41,1.38,1.82,0,0.01,0,0.88,0,0.04,0.28000000000000003,0,7.0299999999999994,0,3,15,0,0,0,0,0,0,0,0,0,0,0,0,0,0,0,0,0,0,0,0,0,0,0,0,0,0,null,null,null,null,null,null,null,9,{"$f":"+INDEX($F120:$DJ120,1,Sheet3!$C$1)","v":9},{"$f":"+IF(Sheet3!$C$1=1,IF(DN120<3,0,1),1)","v":1}]
[1,1,"11A","10_15",1,29,70815.569752436713,26.940000000000008,25.52,3322.2400000000007,27.000000000000004,26.55,7.18,0,0,0.79,0,15.879999999999997,3.09,3.09,45.349999999999994,45.349999999999994,26.940000000000008,9.4600000000000009,10.59,28811.47,28811.47,28811.47,0,0,0,0,0,0,0,0,0,0,0,1454.3799999999999,3546.4999999999991,1840.8,0,0,1840.8,1705.6999999999998,0,0,0,0,0,0,0,1145.7,0,0,0,0,0,0,0,0,0,0,560,0,0,0,32357.969999999998,0.54,5.98,0,0.11,0.55000000000000004,15.52,0,0.09,0.77,0.27,3.15,0,10,61,2,0,5,2,0,0,0,0,0,0,0,0,0,0,0,0,0,0,0,0,0,0,0,0,0,0,null,null,null,null,null,null,null,29,{"$f":"+INDEX($F121:$DJ121,1,Sheet3!$C$1)","v":29},{"$f":"+IF(Sheet3!$C$1=1,IF(DN121<3,0,1),1)","v":1}]
[1,1,"11A","10_15",2,17,141045.26733354817,31.91,24.49,2384.4700000000003,32.769999999999996,28.65,7.5,0,0,0.89,0,21.49,2.0299999999999998,2.0300000000000002,115.14999999999999,115.14999999999999,31.91,3.59,22.59,16889.54,16889.54,16889.54,0,0,0,0,0,0,0,0,0,0,0,2139.9399999999996,5184.84,4734.3,0,0,4734.3,450.53999999999996,0,0,0,0,0,0,0,450.54,0,0,0,0,0,0,0,0,0,0,0,0,0,0,22074.38,0.61,5.77,0,0.04,1.08,20.239999999999998,0,0.18,1.7700000000000002,0,2.89,4,19,157,16,2,6,1,0,0,0,0,0,0,0,0,0,0,0,0,0,0,0,0,0,0,0,0,0,0,null,null,null,null,null,null,null,17,{"$f":"+INDEX($F122:$DJ122,1,Sheet3!$C$1)","v":17},{"$f":"+IF(Sheet3!$C$1=1,IF(DN122<3,0,1),1)","v":1}]
[1,1,"11A","10_2",1,1,958.62819799517092,0.9,0.86,88.2,0.93,0.9,0,0,0,0,0,0,0.9,0.9,0.6,0.6,0.9,0,0,993.51,993.51,993.51,0,0,0,0,0,0,0,0,0,0,0,0,0,0,0,0,0,0,null,null,null,null,null,null,null,null,null,null,null,null,null,null,null,null,null,null,null,null,null,null,993.51,0,0,0,0,0,0,0,0,0,0,0.93,0,0,1,0,0,0,0,0,0,0,0,0,0,0,0,0,0,0,0,0,0,0,0,0,0,0,0,0,0,null,null,null,null,null,null,null,0,{"$f":"+INDEX($F123:$DJ123,1,Sheet3!$C$1)","v":1},{"$f":"+IF(Sheet3!$C$1=1,IF(DN123<3,0,1),1)","v":0}]
[1,1,"11A","10_2",2,2,9625.7524690062182,8.1999999999999993,3.71,263.36,15.59,0.18,0,0,0,0,0,0,14.86,14.86,3.6,3.6,15.58,0.72,15.58,1987,1987,1987,0,0,0,0,0,0,0,0,0,0,0,0,2066.3000000000002,1979.9,0,0,1979.9,86.4,0,0,0,0,0,0,0,86.4,0,0,0,0,0,0,0,0,0,0,0,0,0,0,4053.3,0,0,0,0,0,0.72,0,0,0,0,14.870000000000001,0,3,1,0,0,0,0,0,0,0,0,0,0,0,0,0,0,0,0,0,0,0,0,0,0,0,0,0,0,null,null,null,null,null,null,null,0,{"$f":"+INDEX($F124:$DJ124,1,Sheet3!$C$1)","v":2},{"$f":"+IF(Sheet3!$C$1=1,IF(DN124<3,0,1),1)","v":0}]
[1,1,"11A",11,1,19,32898.028811264398,25.04,20.22,1723.7999999999997,27.11,16,1.59,0,0,0.13,0,12.700000000000003,12.62,8.620000000000001,29.7,30.7,27.04,7.11,20.71,18876.460000000003,18876.460000000003,18876.460000000003,0,0,0,0,0,0,0,0,0,0,0,620.01,5476.7,4619.6000000000004,0,0,4619.6000000000004,857.1,0,0,0,0,0,0,0,857.1,0,0,0,0,0,0,0,0,0,0,0,0,0,0,24353.16,0,1.22,0,0.01,0.36,11.91,0,0.38,0.24000000000000002,0.1,12.690000000000001,0,2,4,116,15,32,7,0,0,0,0,0,0,0,0,0,0,0,0,0,0,0,0,0,0,0,0,0,0,null,null,null,null,null,null,null,19,{"$f":"+INDEX($F125:$DJ125,1,Sheet3!$C$1)","v":19},{"$f":"+IF(Sheet3!$C$1=1,IF(DN125<3,0,1),1)","v":1}]
[1,1,"11A",11,2,2,9727.9882053157344,8.7550000000000008,5.7,552.14,13.059999999999999,4.6500000000000004,0.3,0,0,0,0,0.56999999999999995,11.85,3.03,6.9499999999999993,6.9499999999999993,12.75,0,9.06,1987.01,1987.01,1987.01,0,0,0,0,0,0,0,0,0,0,0,24.86,1173.3,1173.3,0,0,1173.3,0,0,0,0,0,0,0,0,0,0,0,0,0,0,0,0,0,0,0,0,0,0,0,3160.31,0,0.21,0,0,0.09,0,0,0.45,0.12,0,12.16,0,1,1,25,12,0,0,0,0,0,0,0,0,0,0,0,0,0,0,0,0,0,0,0,0,0,0,0,0,null,null,null,null,null,null,null,0,{"$f":"+INDEX($F126:$DJ126,1,Sheet3!$C$1)","v":2},{"$f":"+IF(Sheet3!$C$1=1,IF(DN126<3,0,1),1)","v":0}]
[1,1,"11A",11,3,1,44217.410738079932,9.0399999999999991,1.1399999999999999,74.73,9.25,3.65,0.85,0,0,6.39,0,0.35,1.45,1.45,62.15,62.15,9.0399999999999991,4.41,9.0399999999999991,993.5,993.5,993.5,0,0,0,0,0,0,0,0,0,0,0,0,2380.3599999999997,1927.6,0,0,1927.6,452.76,0,0,0,0,0,0,0,452.76,0,0,0,0,0,0,0,0,0,0,0,0,0,0,3373.8599999999997,0,0.8,0,0,0.05,6.39,0,0.05,0.3,0,1.66,0,4,13,100,9,215,9,0,0,0,0,0,0,0,0,0,0,0,0,0,0,0,0,0,0,0,0,0,0,null,null,null,null,null,null,null,0,{"$f":"+INDEX($F127:$DJ127,1,Sheet3!$C$1)","v":1},{"$f":"+IF(Sheet3!$C$1=1,IF(DN127<3,0,1),1)","v":0}]
[1,1,"11A",12,1,129,274604.7986883166,131.6,116.71000000000001,14263.959999999995,135.35000000000002,113.04,66.709999999999994,0,0,0.8,0.25,38.27000000000001,25.57,25.569999999999993,157.89999999999998,157.89999999999998,131.49,45.41,72.499999999999986,128144.04999999999,128144.04999999999,128144.04999999999,0,0,0,0,0,0,0,0,0,0,0,7744.079999999999,22193.759999999998,15664.999999999998,0,0,15664.999999999998,6528.76,0,0,0,0,0,0,0,5708.76,0,0,0,0,0,0,0,0,0,0,820,0,0,0,150337.80999999997,2.4900000000000002,54.420000000000023,0,1.39,8.4099999999999984,25,0.25,2.8700000000000006,8.2799999999999994,2.08,29.319999999999986,0,36,136,191,29,68,6,0,0,0,0,0,0,0,0,0,0,0,0,0,0,0,0,0,0,0,0,0,0,null,null,null,null,null,null,null,129,{"$f":"+INDEX($F128:$DJ128,1,Sheet3!$C$1)","v":129},{"$f":"+IF(Sheet3!$C$1=1,IF(DN128<3,0,1),1)","v":1}]
[1,1,"11A",12,2,14,102455.73979641376,37.17,31.150000000000002,2643.54,37.200000000000003,30.06,14.74,0,0,1.06,0,17.32,4.05,4.05,47.95,49.45,37.17,0.61,18.220000000000002,13911.08,13911.08,13911.08,0,0,0,0,0,0,0,0,0,0,0,2366.5900000000006,4188.5,4115.3,0,0,4115.3,73.2,0,0,0,0,0,0,0,73.2,0,0,0,0,0,0,0,0,0,0,0,0,0,0,18099.580000000002,1.9700000000000002,9.629999999999999,0,0.36,2.78,12.799999999999999,0,0.21000000000000002,4.8,0,4.08,2,12,52,12,1,8,0,0,0,0,0,0,0,0,0,0,0,0,0,0,0,0,0,0,0,0,0,0,0,null,null,null,null,null,null,null,14,{"$f":"+INDEX($F129:$DJ129,1,Sheet3!$C$1)","v":14},{"$f":"+IF(Sheet3!$C$1=1,IF(DN129<3,0,1),1)","v":1}]
[1,1,"11A",13,1,144,197578.95986158686,154.07999999999993,140.0499999999999,16856.100000000006,162.03000000000003,131.6,6.11,0,0,5.3,0.16,97.01,48.48,0,0,0,157.07999999999996,11.629999999999997,34.909999999999997,142558.22000000003,142558.22000000003,142558.22000000003,0,0,0,0,0,0,0,0,0,0,0,3423.39,4540.6100000000006,3111.01,0,0,3111.01,1429.6000000000001,0,0,0,0,0,0,0,1429.6,0,0,0,0,0,0,0,0,0,0,0,0,0,0,147098.83000000005,0.41,3.99,0,0.65,1.0100000000000002,97.580000000000027,0.16,1.3700000000000003,2.6099999999999994,0.55000000000000004,53.43,0,0,0,0,0,0,0,0,0,0,0,0,0,0,0,0,0,0,0,0,0,0,0,0,0,0,0,0,0,null,null,null,null,null,null,null,{"$f":"+DN130*DO130","v":144},{"$f":"+INDEX($F130:$DJ130,1,Sheet3!$C$1)","v":144},{"$f":"+IF(Sheet3!$C$1=1,IF(DN130<3,0,1),1)","v":1}]
[1,1,"11A",13,2,12,74169.345061168089,39.320000000000007,30.37,2466.9900000000002,40.35,39,2.5099999999999998,0,0,3.25,0,32.950000000000003,0.61,0,0,0,39.320000000000007,5.0999999999999996,6.63,11922.1,11922.1,11922.1,0,0,0,0,0,0,0,0,0,0,0,2201.86,1774.6399999999999,1149.1999999999998,0,0,1149.1999999999998,625.44000000000005,0,0,0,0,0,0,0,625.44000000000005,0,0,0,0,0,0,0,0,0,0,0,0,0,0,13696.74,0,2.25,0,0,0.26,35.21,0,0.43999999999999995,0.27,0,1.6400000000000001,0,0,0,0,0,0,0,0,0,0,0,0,0,0,0,0,0,0,0,0,0,0,0,0,0,0,0,0,0,null,null,null,null,null,null,null,12,{"$f":"+INDEX($F131:$DJ131,1,Sheet3!$C$1)","v":12},{"$f":"+IF(Sheet3!$C$1=1,IF(DN131<3,0,1),1)","v":1}]
[1,1,"11A",15,1,4,6491.2909695772832,2.7800000000000002,2.42,346.56,2.7800000000000002,2.56,2.0099999999999998,0,0,0,0,0.28999999999999998,0.48,0,0,0,2.7800000000000002,0,0,3954.1399999999994,3954.1399999999994,3954.1399999999994,0,0,0,0,0,0,0,0,0,0,0,0,0,0,0,0,0,0,null,null,null,null,null,null,null,null,null,null,null,null,null,null,null,null,null,null,null,null,null,null,3954.1399999999994,0,7.0000000000000007E-2,0,0,1.94,0,0,0.17,7.0000000000000007E-2,0,0.48,0,0,0,0,0,0,0,0,0,0,0,0,0,0,0,0,0,0,0,0,0,0,0,0,0,0,0,0,0,null,null,null,null,null,null,null,4,{"$f":"+INDEX($F132:$DJ132,1,Sheet3!$C$1)","v":4},{"$f":"+IF(Sheet3!$C$1=1,IF(DN132<3,0,1),1)","v":1}]
[1,1,"11B",0,1,1,null,0.87,0.71,46.54,0.87,0.68,0.01,0,0,0,0.18,0.11,0.56999999999999995,0,0,0.9,0.87,0.87,0,993.51,993.51,993.51,0,0,0,0,0,0,0,0,0,0,0,0,244.8,0,0,0,0,244.8,0,0,0,0,0,0,0,36,0,0,0,208.8,0,0,0,0,0,0,0,0,0,0,1238.31,0,0,0,0,0.01,0.11,0.18,0,0,0,0.56999999999999995,0,0,0,0,0,0,0,0,0,0,0,0,0,0,0,0,0,0,0,0,0,0,0,0,0,0,0,0,0,null,null,null,null,null,null,null,0,{"$f":"+INDEX($F133:$DJ133,1,Sheet3!$C$1)","v":1},{"$f":"+IF(Sheet3!$C$1=1,IF(DN133<3,0,1),1)","v":0}]
[1,1,"11B",0,2,1,841.64166666666665,2.9,2.81,184.22,2.9,0,0.69,0,0,0,7.0000000000000007E-2,1.1299999999999999,1.01,0,0,11.3,2.9,0,2.9,993.5,993.5,993.5,0,0,0,0,0,0,0,0,0,0,0,653.67999999999995,754,754,0,0,754,0,0,0,0,0,0,0,0,0,0,0,0,0,0,0,0,0,0,0,0,0,0,0,1747.5,0.69,0,0,0,0,0,7.0000000000000007E-2,0,0.61,0.49,1.01,0,0,0,0,0,0,0,0,0,0,0,0,0,0,0,0,0,0,0,0,0,0,0,0,0,0,0,0,0,null,null,null,null,null,null,null,0,{"$f":"+INDEX($F134:$DJ134,1,Sheet3!$C$1)","v":1},{"$f":"+IF(Sheet3!$C$1=1,IF(DN134<3,0,1),1)","v":0}]
[1,1,"11B","1_1",1,38,37766.235439217526,77.12,58.000000000000007,4516.4399999999996,88.22999999999999,60.39,56.58,0,0,0.19,0.93,7.0700000000000012,12.35,0,0,0,77.250000000000014,35.119999999999997,68.460000000000008,37753.01999999999,37753.01999999999,37753.01999999999,0,0,0,0,0,0,0,0,0,0,0,2541.92,18997.079999999998,14020.8,0,0,14020.8,4976.2800000000007,0,0,0,0,119.88,0,0,3841.2,0,0,0,1015.2,0,0,0,0,0,0,0,0,0,0,56750.1,7.0500000000000007,47.810000000000009,0,0,1.7200000000000002,2.2799999999999998,0.93,1.1800000000000002,3.0999999999999996,0.25,23.46,0,0,0,0,0,0,0,0,0,0,0,0,0,0,0,1,0.74,0,0,0,0,0,0,0,0,0,0,0,0,null,null,null,null,null,null,null,38,{"$f":"+INDEX($F135:$DJ135,1,Sheet3!$C$1)","v":38},{"$f":"+IF(Sheet3!$C$1=1,IF(DN135<3,0,1),1)","v":1}]
[1,1,"11B","1_1",3,1,31181.308174803369,1.25,0.5,44.86,1.26,0.52,1.01,0,0,0,0.24,0,0,0,0,0,1.25,0.76,1.25,993.51,993.51,993.51,0,0,0,0,0,0,0,0,0,0,0,0,416.2,325,0,0,325,91.2,0,0,0,0,0,0,0,91.2,0,0,0,0,0,0,0,0,0,0,0,0,0,0,1409.71,0,0.28000000000000003,0,0,0.73,0,0.24,0,0,0,0.01,0,0,0,0,0,0,0,0,0,0,0,0,0,0,0,0,0,0,0,0,0,0,0,0,0,0,0,0,0,null,null,null,null,null,null,null,0,{"$f":"+INDEX($F136:$DJ136,1,Sheet3!$C$1)","v":1},{"$f":"+IF(Sheet3!$C$1=1,IF(DN136<3,0,1),1)","v":0}]
[1,1,"11B","1_2",1,146,111122.1003862478,335.63,294.13,22210.509999999991,439.43999999999988,28.56,170.97,0,0,0.3,32.909999999999997,57.849999999999987,73.599999999999994,0,0,2,334.98,165.87,324.89,144938.41999999998,144938.41999999998,144938.41999999998,0,0,0,0,0,0,0,0,0,0,0,3781.7000000000003,76685.160000000047,57069.350000000006,0,0,57069.350000000006,19615.809999999998,0,0,0,0,317.52,0,0,19071.09,0,0,0,213.6,0,0,0,0,0,0,0,0,0,13.6,221623.5799999999,122.73999999999998,36.479999999999997,0,1.1200000000000001,10.629999999999999,28.9,28.889999999999993,14.640000000000004,8.7999999999999989,4.9799999999999995,177.41,0,0,0,0,0,0,0,0,0,0,0,0,0,0,0,2,1.96,0,0,0,0,0,0,0,0,0,0,0,0,null,null,null,null,null,null,null,146,{"$f":"+INDEX($F137:$DJ137,1,Sheet3!$C$1)","v":146},{"$f":"+IF(Sheet3!$C$1=1,IF(DN137<3,0,1),1)","v":1}]
[1,1,"11B","1_2",2,1,4271.7291613129337,4.66,4.63,303.54000000000002,5.44,0.43,4,0,0,0,0.64,0.02,0,0,0,0,4.66,4.66,4.66,993.52,993.52,993.52,0,0,0,0,0,0,0,0,0,0,0,182.91,1557.04,1095.4000000000001,0,0,1095.4000000000001,461.64,0,0,0,0,0,0,0,461.64,0,0,0,0,0,0,0,0,0,0,0,0,0,0,2550.56,3.22,0,0,0,0.78,0,0.64,0.02,0,0,0.78,0,0,0,0,0,0,0,0,0,0,0,0,0,0,0,0,0,0,0,0,0,0,0,0,0,0,0,0,0,null,null,null,null,null,null,null,0,{"$f":"+INDEX($F138:$DJ138,1,Sheet3!$C$1)","v":1},{"$f":"+IF(Sheet3!$C$1=1,IF(DN138<3,0,1),1)","v":0}]
[1,1,"11B",3,1,1,883.0895707633365,1.27,1.27,119.96,1.42,0.1,0.1,0,0,0,0,0.87,0.3,0,0,0,1.27,0.8,1.27,993.5,993.5,993.5,0,0,0,0,0,0,0,0,0,0,0,0,304,208,0,0,208,96,0,0,0,0,0,0,0,96,0,0,0,0,0,0,0,0,0,0,0,0,0,0,1297.5,0,0,0,0,0.1,0.87,0,0,0,0,0.45,0,0,0,0,0,0,0,0,0,0,0,0,0,0,0,0,0,0,0,0,0,0,0,0,0,0,0,0,0,null,null,null,null,null,null,null,0,{"$f":"+INDEX($F139:$DJ139,1,Sheet3!$C$1)","v":1},{"$f":"+IF(Sheet3!$C$1=1,IF(DN139<3,0,1),1)","v":0}]
[1,1,"11B",4,1,239,555986.48971227836,403.73000000000008,351.68000000000012,26639.840000000007,495.92000000000007,75.02,111.04,0,0,1.06,41.31,184.25000000000003,67.040000000000006,1.35,0.6,13.6,404.56000000000006,171.37999999999991,379.97000000000014,237323.02999999997,237323.02999999997,237323.02999999997,0,0,0,0,0,0,0,0,0,0,0,10693.499999999998,105564.25999999998,81061.23,0,0,81061.23,24503.03,0,0,0,0,3492.4,0,0,20816.23,0,0,0,194.4,0,0,0,0,0,0,0,0,0,0,342887.29000000004,45.15000000000002,15.989999999999998,0,2.2000000000000002,47.699999999999974,10.199999999999999,41.309999999999981,55.829999999999991,33.369999999999983,81.199999999999989,158.26000000000013,0,0,0,1,0,2,1,0,0,0,0,0,0,0,0,33,21.56,0,0,0,0,0,0,0,0,0,0,0,0,null,null,null,null,null,null,null,239,{"$f":"+INDEX($F140:$DJ140,1,Sheet3!$C$1)","v":239},{"$f":"+IF(Sheet3!$C$1=1,IF(DN140<3,0,1),1)","v":1}]
[1,1,"11B",4,2,177,1294903.403962682,474.81999999999988,390.49999999999983,27889.899999999991,563.25000000000023,113.36,161.27000000000001,0,0,1.49,40.9,220.75999999999996,52.3,9.5299999999999994,10.95,36.950000000000003,474.55999999999977,200.53999999999996,467.53999999999985,175422.5199999999,175422.5199999999,175422.5199999999,0,0,0,0,0,0,0,0,0,0,0,17796.29,138909.20999999996,107593.85999999997,0,0,107593.85999999997,31315.35,960.87,0,0,0,4529.62,405.3,0,23053.14,0,2042.52,0,177.6,146.30000000000001,0,0,0,0,0,0,0,0,0,314331.7300000001,37.449999999999996,19.369999999999997,0,3.3099999999999996,100.93999999999993,9.2699999999999978,35.28,101.66999999999999,44.379999999999995,52.550000000000011,138.83000000000007,0,1,6,41,4,0,0,3,8.52,1,2.62,0,0,0,0,22,29.1,0,0,1,3.86,0,0,1,0.77,0,0,0,0,null,null,null,null,null,null,null,177,{"$f":"+INDEX($F141:$DJ141,1,Sheet3!$C$1)","v":177},{"$f":"+IF(Sheet3!$C$1=1,IF(DN141<3,0,1),1)","v":1}]
[1,1,"11B",4,3,2,63186.073320380194,5.55,5.3699999999999992,387.19,6.25,1.63,1.63,0,0,0,0.34,3.19,0.39,0,0,0,5.55,0.77,5.55,1986.98,1986.98,1986.98,0,0,0,0,0,0,0,0,0,0,0,413.51,1462.08,1331.1,0,0,1331.1,130.97999999999999,0,0,0,0,130.97999999999999,0,0,0,0,0,0,0,0,0,0,0,0,0,0,0,0,0,3449.0600000000004,0,0,0,0,1.63,0,0.34,0.57999999999999996,0.51,1.31,1.0899999999999999,0,0,0,0,0,0,0,0,0,0,0,0,0,0,0,1,0.77,0,0,0,0,0,0,0,0,0,0,0,0,null,null,null,null,null,null,null,0,{"$f":"+INDEX($F142:$DJ142,1,Sheet3!$C$1)","v":2},{"$f":"+IF(Sheet3!$C$1=1,IF(DN142<3,0,1),1)","v":0}]
[1,1,"11B",4,4,1,106719.22954283196,4.2699999999999996,3.34,218.97,4.5199999999999996,1.43,2.6,0,0,0,0.56999999999999995,0.84,0.26,0,0,0,4.2699999999999996,4.01,4.2699999999999996,993.51,993.51,993.51,0,0,0,0,0,0,0,0,0,0,0,316,1375.98,905.4,0,0,905.4,470.58,0,0,0,0,0,0,0,470.58,0,0,0,0,0,0,0,0,0,0,0,0,0,0,2369.4899999999998,1,0.23,0,0,1.37,0.35,0.56999999999999995,0.49,0,0,0.51,0,0,0,0,0,0,0,0,0,0,0,0,0,0,0,0,0,0,0,0,0,0,0,0,0,0,0,0,0,null,null,null,null,null,null,null,0,{"$f":"+INDEX($F143:$DJ143,1,Sheet3!$C$1)","v":1},{"$f":"+IF(Sheet3!$C$1=1,IF(DN143<3,0,1),1)","v":0}]
[1,1,"11B",5,1,22,27798.22328276913,45.620000000000012,38.370000000000005,2671.0299999999997,47.519999999999996,0.22,0.77,0,0,0,2.1800000000000002,40.67,2,0,0,0,45.620000000000012,32.65,44.510000000000012,21856.929999999997,21856.929999999997,21856.929999999997,0,0,0,0,0,0,0,0,0,0,0,1210.25,20641.330000000002,10683.400000000001,0,0,10683.400000000001,9957.93,3749.88,0,0,0,114.29,417.9,0,4588.4399999999996,0,1087.42,0,0,0,0,0,0,0,0,0,0,0,0,42498.260000000009,0.55000000000000004,0.2,0,0,0.02,0.14000000000000001,2.1800000000000002,2.4000000000000004,27.909999999999997,9.379999999999999,3.9,0,0,0,0,0,0,0,2,2.89,2,5.89,0,0,0,0,2,0.69,0,0,1,3.98,0,0,0,0,0,0,0,0,null,null,null,null,null,null,null,22,{"$f":"+INDEX($F144:$DJ144,1,Sheet3!$C$1)","v":22},{"$f":"+IF(Sheet3!$C$1=1,IF(DN144<3,0,1),1)","v":1}]
[1,1,"11B",5,2,6,40540.773926884511,32,21.38,1401.6399999999999,35.17,3.79,1.82,0,0,0,1.78,28.4,0,0,0,0,32,30.549999999999997,32,5961.05,5961.05,5961.05,0,0,0,0,0,0,0,0,0,0,0,1508.6399999999999,16567.54,6988.5,0,0,6988.5,9579.0400000000009,3780.74,0,0,0,0,456.75,0,3167.58,0,2173.9699999999998,0,0,0,0,0,0,0,0,0,0,0,0,22528.59,1.8,0,0,0,0.02,7.0000000000000007E-2,1.78,0.58000000000000007,26.430000000000003,0.6,3.17,0,0,0,0,0,0,0,2,7.57,1,5.4,0,0,0,0,0,0,0,0,1,4.3499999999999996,0,0,0,0,0,0,0,0,null,null,null,null,null,null,null,6,{"$f":"+INDEX($F145:$DJ145,1,Sheet3!$C$1)","v":6},{"$f":"+IF(Sheet3!$C$1=1,IF(DN145<3,0,1),1)","v":1}]
[1,1,"11B",6,1,290,442952.11297744227,898.63000000000011,726.55000000000018,49998.860000000022,974.60999999999979,18.760000000000002,21.85,0,0,1.37,15.22,807.74999999999966,52.44,0.48,2.25,3.25,886.72000000000025,619.9000000000002,886.46000000000015,287879.03999999992,287879.03999999992,287879.03999999992,0,0,0,0,0,0,0,0,0,0,0,21801.1,352417.42000000004,204335.90999999997,0,0,204335.90999999997,148081.51,40953.870000000003,1225,0,0,52143.42,1966.65,0,42418.22,0,9313.9500000000007,0,0,0,0,0,0,0,0,0,0,0,60.4,640296.46000000031,9.7100000000000009,7.8100000000000005,0,1.2500000000000002,2.78,13.079999999999995,14.539999999999997,744.93,9.36,39.549999999999983,128.41999999999999,0,0,1,9,1,1,0,12,38.17,30,107.72,1,3.9,0,0,152,330.25,0,0,6,18.73,0,0,0,0,0,0,0,0,null,null,null,null,null,null,null,290,{"$f":"+INDEX($F146:$DJ146,1,Sheet3!$C$1)","v":290},{"$f":"+IF(Sheet3!$C$1=1,IF(DN146<3,0,1),1)","v":1}]
[1,1,"11B",6,2,21,162146.74563989884,139.85999999999999,74.12,5023.08,158.05000000000004,6.87,8.91,0,0,0.98,1.57,122.30000000000001,6.1,0.47,1.05,1.05,131.64999999999995,107.4,139.73999999999998,20863.660000000003,20863.660000000003,20863.660000000003,0,0,0,0,0,0,0,0,0,0,0,5811.0899999999992,58044.320000000007,27564.999999999993,0,0,27564.999999999993,30479.32,12888.36,620.12,0,0,4848.0200000000004,0,0,9522.06,0,2600.7600000000002,0,0,0,0,0,0,0,0,0,0,0,0,78907.980000000025,4.18,2.4500000000000002,0,0.17,1.8499999999999996,2.02,1.57,105.37,3.5699999999999994,11.759999999999998,24.289999999999992,0,0,0,6,1,0,0,3,11.02,3,36.409999999999997,1,1,0,0,9,30.14,0,0,0,0,0,0,0,0,0,0,0,0,null,null,null,null,null,null,null,21,{"$f":"+INDEX($F147:$DJ147,1,Sheet3!$C$1)","v":21},{"$f":"+IF(Sheet3!$C$1=1,IF(DN147<3,0,1),1)","v":1}]
[1,1,"11B",6,3,6,252799.5402298249,16.419999999999998,9.77,894.23,18.849999999999998,8.01,0.72,0,0,0,0.91,14.09,0.7,0,0,0,16.419999999999998,13.220000000000002,16.419999999999998,5960.98,5960.98,5960.98,0,0,0,0,0,0,0,0,0,0,0,1704.4799999999998,9578.18,3757.1000000000004,0,0,3757.1000000000004,5821.08,1705.96,2178,0,20,231.66,0,0,1685.46,0,0,0,0,0,0,0,0,0,0,0,0,0,0,15539.16,0,0,0,0,0.72000000000000008,0,0.90999999999999992,11.209999999999997,0.28000000000000003,1.73,3.13,0,0,0,0,0,0,0,0,0,1,4.9000000000000004,2,2.42,0,0,1,1.43,0,0,0,0,0,0,0,0,0,0,0,0,null,null,null,null,null,null,null,6,{"$f":"+INDEX($F148:$DJ148,1,Sheet3!$C$1)","v":6},{"$f":"+IF(Sheet3!$C$1=1,IF(DN148<3,0,1),1)","v":1}]
[1,1,"11B",7,1,78,37244.907064393388,135.24000000000004,123.66,9733.340000000002,150.34000000000009,0,1.27,0,0,0,3.56,127.14000000000001,3.27,0,0,0,135.21000000000004,55.779999999999994,125.24000000000004,77452.439999999988,77452.439999999988,77452.439999999988,0,0,0,0,0,0,0,0,0,0,0,2000.7799999999997,43902.770000000004,30844.299999999992,0,0,30844.299999999992,13058.47,4839.25,0,0,0,4162.92,0,0,3372.36,0,683.94,0,0,0,0,0,0,0,0,0,0,0,0,121355.21000000004,0.83,0,0,0.42,0.02,0.42000000000000004,3.5600000000000009,2.0200000000000005,2.83,121.49,18.369999999999997,0,0,0,0,0,0,0,1,2.52,4,12.51,0,0,0,0,27,25.41,0,0,0,0,0,0,0,0,0,0,0,0,null,null,null,null,null,null,null,78,{"$f":"+INDEX($F149:$DJ149,1,Sheet3!$C$1)","v":78},{"$f":"+IF(Sheet3!$C$1=1,IF(DN149<3,0,1),1)","v":1}]
[1,1,"11B",8,1,1075,1865996.9477446582,2532.8099999999986,2117.3799999999978,154711.46000000005,2973.3200000000024,284.88,461.42,0,0,14.28,130.02000000000001,1622.1500000000015,305.20999999999998,4.1500000000000004,16.900000000000002,109.90000000000002,2522.1399999999981,1348.5500000000013,2483.159999999998,1066271.9800000018,1066271.9800000018,1066271.9800000018,0,0,0,0,0,0,0,0,0,0,0,66375.250000000015,773886.96000000089,544691.23000000033,0,163.80000000000001,544527.4300000004,229195.73,20951.7,3450.94,0,1503.75,33161.18,1155,0,158906.14000000001,0,7524.82,0,2361.6,72.2,24.8,0,0,0,0,0,0,0,83.6,1840158.939999999,220.2,118.50000000000004,0,15.349999999999996,106.86,106.86000000000001,128.70000000000002,675.1500000000002,218.20000000000013,505.66000000000031,742.92999999999893,0,3,5,50,21,3,0,10,29.21,17,51.57,1,6.47,0,0,201,211.8,0,0,5,11,1,0.31,1,0.38,0,0,0,0,null,null,null,null,null,null,null,1075,{"$f":"+INDEX($F150:$DJ150,1,Sheet3!$C$1)","v":1075},{"$f":"+IF(Sheet3!$C$1=1,IF(DN150<3,0,1),1)","v":1}]
[1,1,"11B",8,2,117,644657.12613510364,566.15500000000009,405.28999999999991,27572.809999999994,647.37,54.6,86.5,0,0,0,23.95,404.78000000000014,52.15,13.39,24.5,47.5,562.42000000000019,320.54000000000013,564.36000000000013,116201.40999999999,116201.40999999999,116201.40999999999,0,0,0,0,0,0,0,0,0,0,0,21421.609999999993,193503.5400000001,124531.49999999999,0,0,124531.49999999999,68972.039999999964,21337.119999999999,0,0,0,8211.2199999999993,602.70000000000005,0,35834.800000000003,0,2851,0,0,0,135.19999999999999,0,0,0,0,0,0,0,0,309704.9499999999,30.539999999999996,13.400000000000002,0,1.95,40.61,10.93,23.949999999999996,214.01,53.230000000000011,85.080000000000041,131.37,0,2,7,80,10,28,4,3,11.1,13,55.55,0,0,0,0,29,56.07,0,0,1,5.74,2,1.69,0,0,0,0,0,0,null,null,null,null,null,null,null,117,{"$f":"+INDEX($F151:$DJ151,1,Sheet3!$C$1)","v":117},{"$f":"+IF(Sheet3!$C$1=1,IF(DN151<3,0,1),1)","v":1}]
[1,1,"11B",9,2,1,6627.5815145618863,5.2549999999999999,3.14,205.85,7.33,1.02,1.02,0,0,0,0,0,5.78,5.78,2.8,3.8,3.47,3.47,7.04,993.52,993.52,993.52,0,0,0,0,0,0,0,0,0,0,0,108.4,1577.3,1249.3,0,0,1249.3,328,0,0,0,0,0,0,0,151.19999999999999,0,0,0,0,0,176.8,0,0,0,0,0,0,0,0,2570.8199999999997,0,0.27,0,0,0.75,0.24,0,0,0,0,6.07,1,1,2,0,0,0,0,0,0,0,0,0,0,0,0,0,0,0,0,0,0,1,2.21,0,0,0,0,0,0,null,null,null,null,null,null,null,0,{"$f":"+INDEX($F152:$DJ152,1,Sheet3!$C$1)","v":1},{"$f":"+IF(Sheet3!$C$1=1,IF(DN152<3,0,1),1)","v":0}]
[1,1,"11B","10_1",1,3,4854.5734023407786,6.5549999999999997,4.09,376,8.0399999999999991,0.76,1.31,0,0,0,0.72,0.19,4.34,4.34,7.4,7.4,5.6400000000000006,3.61,7.9500000000000011,2980.54,2980.54,2980.54,0,0,0,0,0,0,0,0,0,0,0,58.74,1995.2,1562,0,0,1562,433.2,0,0,0,0,0,0,0,433.2,0,0,0,0,0,0,0,0,0,0,0,0,0,0,4975.74,1.22,0.09,0,0,0,1.58,0.72,0,0,0,4.43,0,5,4,0,0,0,0,0,0,0,0,0,0,0,0,0,0,0,0,0,0,0,0,0,0,0,0,0,0,null,null,null,null,null,null,null,3,{"$f":"+INDEX($F153:$DJ153,1,Sheet3!$C$1)","v":3},{"$f":"+IF(Sheet3!$C$1=1,IF(DN153<3,0,1),1)","v":1}]
[1,1,"11B","10_1",2,2,19267.62458308191,11.49,5.83,438.31,18.29,4.21,0,0,0,0,0,0,16.989999999999998,16.990000000000002,32,32,11.57,10.83,17.560000000000002,1987,1987,1987,0,0,0,0,0,0,0,0,0,0,0,473.11,4005.2200000000003,2779.8,0,0,2779.8,1225.42,0,0,0,0,0,0,0,79.319999999999993,0,0,0,0,796.1,0,0,350,0,0,0,0,0,0,5992.22,0,0,0,0,0,0.31,0,0.26,0,0,17.72,1,18,18,0,0,0,0,0,0,0,0,0,0,0,0,0,0,0,0,0,0,0,0,2,4.1900000000000004,0,0,1,7.26,null,null,null,null,null,null,null,0,{"$f":"+INDEX($F154:$DJ154,1,Sheet3!$C$1)","v":2},{"$f":"+IF(Sheet3!$C$1=1,IF(DN154<3,0,1),1)","v":0}]
[1,1,"11B","10_15",1,2,1884.0032972638051,0.56999999999999995,3.11,215.97000000000003,0.56999999999999995,0.56999999999999995,0.56999999999999995,0,0,0,0,0,0,0,2.8,3.8,0.56999999999999995,0.56999999999999995,0,1987.01,1987.01,1987.01,0,0,0,0,0,0,0,0,0,0,0,224.54,1395.18,1184.7,0,0,1184.7,210.48000000000002,0,0,0,0,0,0,0,68.400000000000006,0,0,0,0,0,142.08000000000001,0,0,0,0,0,0,0,0,3382.1899999999996,0,0.56999999999999995,0,0,0,0,0,0,0,0,0,0,2,2,0,0,0,0,0,0,0,0,0,0,0,0,0,0,0,0,0,0,1,0,0,0,0,0,0,0,null,null,null,null,null,null,null,0,{"$f":"+INDEX($F155:$DJ155,1,Sheet3!$C$1)","v":2},{"$f":"+IF(Sheet3!$C$1=1,IF(DN155<3,0,1),1)","v":0}]
[1,1,"11B","10_2",1,23,60254.931828073823,77.924999999999997,30.849999999999998,2278.08,145.46,10.8,2.74,0,0,2.37,0,0,114.33,81.960000000000008,38,41,90.01,28.21,125.26000000000002,22850.99,22850.99,22850.99,0,0,0,0,0,0,0,0,0,0,0,1044.81,23046.82,19917.200000000004,0,0,19917.200000000004,3129.6200000000003,0,0,0,0,226.8,0,0,1732.44,0,0,0,144,555.17999999999995,271.2,0,0,0,0,200,0,0,0,45897.81,0.71,1.49,0,0,0.54,6.0299999999999994,0,2.0499999999999998,0.05,0.31,134.22,0,20,30,0,0,0,0,0,0,0,0,0,0,0,0,2,1.4,0,0,0,0,4,3.39,3,3,0,0,0,0,null,null,null,null,null,null,null,23,{"$f":"+INDEX($F156:$DJ156,1,Sheet3!$C$1)","v":23},{"$f":"+IF(Sheet3!$C$1=1,IF(DN156<3,0,1),1)","v":1}]
[1,1,"11B","10_2",2,32,260183.94812243222,328.875,49.539999999999985,3474.2200000000003,596.83000000000004,38.64,16.440000000000001,0,0,8.27,1.63,2,546.83000000000004,273.93000000000006,141.20000000000005,157.20000000000005,450.58000000000004,141.01999999999998,577.00000000000011,31765.689999999991,31765.689999999991,31765.689999999991,0,0,0,0,0,0,0,0,0,0,0,5744.92,73208.399999999994,62084.939999999988,0,0,62084.939999999988,11123.46,0,0,0,0,66.42,0,0,3889.54,0,0,0,1296,2420.6,98.4,0,1732.5,0,0,1620,0,0,0,104974.08999999998,4.25,10.809999999999999,0,0,1.3800000000000003,20.079999999999998,1.63,1.3900000000000001,0.8899999999999999,0.01,556.15,0,98,77,0,0,0,0,0,0,0,0,0,0,0,0,1,0.41,0,0,0,0,2,1.23,9,12.74,0,0,4,91.92,null,null,null,null,null,null,null,32,{"$f":"+INDEX($F157:$DJ157,1,Sheet3!$C$1)","v":32},{"$f":"+IF(Sheet3!$C$1=1,IF(DN157<3,0,1),1)","v":1}]
[1,1,"11B",11,1,144,316450.98865298677,542.65999999999974,222.44000000000005,16526.809999999998,908.12,57.16,34.729999999999997,0,0,2.44,6.22,21.62,743.86,53.989999999999995,39.200000000000003,222.2,718.16000000000031,97.02,851.3,142890.19999999995,142890.19999999995,142890.19999999995,0,0,0,0,0,0,0,0,0,0,0,6800.8100000000013,144350.19,130877.37,0,0,130877.37,13472.819999999996,0,0,0,0,170.1,0,0,11464.25,0,0,0,187.2,715.27,136,0,0,0,0,800,0,0,0,287240.39,14.920000000000003,15.38,0,0.14000000000000001,4.2899999999999983,46.829999999999991,6.2200000000000006,11.810000000000002,7.3899999999999988,1.1099999999999999,798.59999999999991,0,0,5,166,24,45,5,0,0,0,0,0,0,0,0,2,1.05,0,0,0,0,2,1.7,3,4.04,0,0,0,0,null,null,null,null,null,null,null,144,{"$f":"+INDEX($F158:$DJ158,1,Sheet3!$C$1)","v":144},{"$f":"+IF(Sheet3!$C$1=1,IF(DN158<3,0,1),1)","v":1}]
[1,1,"11B",11,2,85,573160.40880741749,810.98000000000047,132.19,9747.3800000000047,1510.1299999999997,66.22,32.94,0,0,3.7,11.22,0,1357.92,138.4,62.100000000000016,216.09999999999997,1110.01,115.25000000000003,1452.93,84042.979999999967,84042.979999999967,84042.979999999967,0,0,0,0,0,0,0,0,0,0,0,5394.3500000000013,175942.20999999993,159294.86999999991,0,0,159294.86999999991,16647.339999999997,1594,0,0,0,1031.94,0,0,10138.799999999999,0,0,0,511.2,741.4,0,0,350,0,0,2280,0,0,0,259985.18999999997,13.940000000000001,13.309999999999997,0,0.04,5.65,23.019999999999996,10.579999999999998,22.09,3.6100000000000008,1.46,1414.48,0,3,8,237,30,79,12,0,0,1,4.4800000000000004,0,0,0,0,3,6.43,0,0,0,0,0,0,2,3.93,0,0,1,13.87,null,null,null,null,null,null,null,85,{"$f":"+INDEX($F159:$DJ159,1,Sheet3!$C$1)","v":85},{"$f":"+IF(Sheet3!$C$1=1,IF(DN159<3,0,1),1)","v":1}]
[1,1,"11B",12,1,72,137955.063904838,197.14000000000004,130.07999999999998,9601.81,291.39000000000004,33.130000000000003,33.17,0,0,2.85,6.87,38.485000000000014,147.09,19.080000000000002,24.3,90.4,213.15000000000003,80.39,240.12,71533.050000000017,71533.050000000017,71533.050000000017,0,0,0,0,0,0,0,0,0,0,0,5214.8700000000008,59117.030000000013,48854.899999999994,0,0,48854.899999999994,10262.129999999996,0,0,0,0,152.28,0,0,9323.4500000000007,0,0,0,0,668.8,117.6,0,0,0,0,0,0,0,0,130650.08000000003,13.639999999999999,10.200000000000001,0,0.61,8.7199999999999989,27.42,3.2600000000000002,19.040000000000003,4.97,2.88,194.48999999999995,0,5,6,66,12,28,4,0,0,0,0,0,0,0,0,2,0.94,0,0,0,0,2,1.47,2,3.52,0,0,0,0,null,null,null,null,null,null,null,72,{"$f":"+INDEX($F160:$DJ160,1,Sheet3!$C$1)","v":72},{"$f":"+IF(Sheet3!$C$1=1,IF(DN160<3,0,1),1)","v":1}]
[1,1,"11B",12,2,38,319055.72419635917,286.27999999999997,91.58,6341.4699999999993,488.88999999999993,38.17,22.76,0,0,0,10.15,15.559999999999999,384.68,18.009999999999998,36.75,136.05000000000001,401.20999999999992,70.990000000000009,460.69999999999987,37544.51,37544.51,37544.51,0,0,0,0,0,0,0,0,0,0,0,4293.17,72099.12,59310.240000000005,0,0,59310.240000000005,12788.880000000003,3026.94,0,0,0,1736.64,0,0,6922.95,0,0,0,498.62,503.73,0,0,0,0,0,100,0,0,0,109643.63000000003,6.26,8.33,0,0.1,8.0699999999999985,11.18,10.149999999999999,24.480000000000004,3.8699999999999997,1.9100000000000001,412.86999999999995,0,14,18,58,5,26,4,0,0,2,7.76,0,0,0,0,4,10.78,0,0,0,0,0,0,2,2.7,0,0,0,0,null,null,null,null,null,null,null,38,{"$f":"+INDEX($F161:$DJ161,1,Sheet3!$C$1)","v":38},{"$f":"+IF(Sheet3!$C$1=1,IF(DN161<3,0,1),1)","v":1}]
[1,1,"11B",13,1,90,46397.47492652345,208.35000000000011,188.97999999999996,14228.75,267.71000000000009,50.05,9.6999999999999993,0,0,9.84,9.15,37.889999999999993,141.77000000000001,0,0,0,208.34000000000009,41.609999999999992,165.99999999999994,89351.700000000026,89351.700000000026,89351.700000000026,0,0,0,0,0,0,0,0,0,0,0,1634.4599999999998,12506.04,6684.78,0,0,6684.78,5821.2599999999984,0,0,0,0,0,0,0,4177.26,0,0,0,1644,0,0,0,0,0,0,0,0,0,0,101857.74000000005,6.43,2.75,0,0,0.52,44.169999999999995,5.98,1.78,0.43000000000000005,1.04,201.13,0,0,0,0,0,0,0,0,0,0,0,0,0,0,0,0,0,0,0,0,0,0,0,0,0,0,0,0,0,null,null,null,null,null,null,null,90,{"$f":"+INDEX($F162:$DJ162,1,Sheet3!$C$1)","v":90},{"$f":"+IF(Sheet3!$C$1=1,IF(DN162<3,0,1),1)","v":1}]
[1,1,"11B",15,1,12,16553.758550824292,18.250000000000004,16.389999999999997,1236.9999999999998,22.400000000000002,6.02,11.17,0,0,0,1.22,3.8200000000000003,2.04,0,0,0,18.250000000000004,11.48,17.560000000000002,11921.99,11921.99,11921.99,0,0,0,0,0,0,0,0,0,0,0,465.20000000000005,5486.66,4019.6,0,0,4019.6,1467.06,0,0,0,0,0,0,0,1467.06,0,0,0,0,0,0,0,0,0,0,0,0,0,0,17408.650000000001,1.9700000000000002,4.22,0,0,4.9800000000000013,0.65,1.22,1.2899999999999998,1.82,0,6.1899999999999995,0,0,0,0,0,0,0,0,0,0,0,0,0,0,0,0,0,0,0,0,0,0,0,0,0,0,0,0,0,null,null,null,null,null,null,null,12,{"$f":"+INDEX($F163:$DJ163,1,Sheet3!$C$1)","v":12},{"$f":"+IF(Sheet3!$C$1=1,IF(DN163<3,0,1),1)","v":1}]
[1,1,"11C",0,2,1,25364.04,0.73,0.5,59.73,0.73,0.73,0.73,0,0,0,0,0,0,0,0,22.4,0.73,0,0,993.5,993.5,993.5,0,0,0,0,0,0,0,0,0,0,0,885.8,0,0,0,0,0,0,null,null,null,null,null,null,null,null,null,null,null,null,null,null,null,null,null,null,null,null,null,null,993.5,0,0.73,0,0,0,0,0,0,0,0,0,0,0,0,0,0,0,0,0,0,0,0,0,0,0,0,0,0,0,0,0,0,0,0,0,0,0,0,0,0,null,null,null,null,null,null,null,0,{"$f":"+INDEX($F164:$DJ164,1,Sheet3!$C$1)","v":1},{"$f":"+IF(Sheet3!$C$1=1,IF(DN164<3,0,1),1)","v":0}]
[1,1,"11C","1_1",1,208,276507.14580075286,229.61,210.1100000000001,22640.29,240.90999999999997,208.65,159.18,0,0,1.31,5.29,45.959999999999965,17.87,0.09,2.8,2.8,229.55,68.680000000000007,102.55000000000007,206323.91,206323.91,206323.91,0,0,0,0,0,0,0,0,0,0,0,8205.99,29683.519999999986,21200.399999999994,0,0,21200.399999999994,8483.1199999999972,0,0,0,0,0,0,0,8483.1200000000008,0,0,0,0,0,0,0,0,0,0,0,0,0,0,236007.43000000005,14.58,135.11999999999995,0,1,7.5399999999999983,30.45999999999999,5.2899999999999991,1.1900000000000002,13.209999999999996,1.1000000000000001,29.169999999999995,0,1,1,4,2,1,1,0,0,0,0,0,0,0,0,0,0,0,0,0,0,0,0,0,0,0,0,0,0,null,null,null,null,null,null,null,208,{"$f":"+INDEX($F165:$DJ165,1,Sheet3!$C$1)","v":208},{"$f":"+IF(Sheet3!$C$1=1,IF(DN165<3,0,1),1)","v":1}]
[1,1,"11C","1_1",2,5,24946.764700876309,18.78,15.43,1086.48,20.69,16.55,10.7,0,0,0,0,7.09,0.99,0,0,0,18.78,6.48,10.210000000000001,4967.5200000000004,4967.5200000000004,4967.5200000000004,0,0,0,0,0,0,0,0,0,0,0,719.37,2867.2799999999997,2079,0,0,2079,788.28,0,0,0,0,0,0,0,788.28,0,0,0,0,0,0,0,0,0,0,0,0,0,0,7834.8,0,9.3699999999999992,0,0,1.33,5.13,0,0.03,1.37,0.56000000000000005,2.8999999999999995,0,0,0,0,0,0,0,0,0,0,0,0,0,0,0,0,0,0,0,0,0,0,0,0,0,0,0,0,0,null,null,null,null,null,null,null,5,{"$f":"+INDEX($F166:$DJ166,1,Sheet3!$C$1)","v":5},{"$f":"+IF(Sheet3!$C$1=1,IF(DN166<3,0,1),1)","v":1}]
[1,1,"11C","1_1",4,2,413696.14118609054,6.9399999999999995,3.29,264.31,7.64,6.74,6.74,0,0,0,0,0.18000000000000002,0.02,0,0,0,6.9399999999999995,6.77,6.9399999999999995,1987,1987,1987,0,0,0,0,0,0,0,0,0,0,0,648.66,6362.4699999999993,1703.3,0,0,1703.3,4659.17,0,4049.15,0,0,0,0,0,610.02,0,0,0,0,0,0,0,0,0,0,0,0,0,0,8349.4699999999993,0,0,0,0,6.74,0,0,0,0.01,0,0.72,0,0,0,0,0,0,0,0,0,0,0,2,6.77,0,0,0,0,0,0,0,0,0,0,0,0,0,0,0,0,null,null,null,null,null,null,null,0,{"$f":"+INDEX($F167:$DJ167,1,Sheet3!$C$1)","v":2},{"$f":"+IF(Sheet3!$C$1=1,IF(DN167<3,0,1),1)","v":0}]
[1,1,"11C","1_2",1,17,20792.515736014131,22.680000000000003,19.629999999999995,1912.0499999999997,25.340000000000003,4.04,12.17,0,0,0,0.41,5.1800000000000006,4.92,0,0,0,22.680000000000003,5.05,10.220000000000001,16703.210000000003,16703.210000000003,16703.210000000003,0,0,0,0,0,0,0,0,0,0,0,349.21000000000004,2622.5200000000004,2009.8,0,0,2009.8,612.72,0,0,0,0,0,0,0,612.72,0,0,0,0,0,0,0,0,0,0,0,0,0,0,19325.730000000003,7.63,3.0500000000000003,0,0,0.72,3.3399999999999994,0.41,0.01,1.6400000000000001,0.17,7.58,0,0,0,0,0,0,0,0,0,0,0,0,0,0,0,0,0,0,0,0,0,0,0,0,0,0,0,0,0,null,null,null,null,null,null,null,17,{"$f":"+INDEX($F168:$DJ168,1,Sheet3!$C$1)","v":17},{"$f":"+IF(Sheet3!$C$1=1,IF(DN168<3,0,1),1)","v":1}]
[1,1,"11C",4,1,118,293350.05539566965,99.900000000000063,90.29,9903.81,104.57000000000011,71.349999999999994,48.95,0,0,0,8.08,24.029999999999998,18.84,3.12,5.3999999999999995,5.3999999999999995,99.900000000000063,27.659999999999997,38.72,117106.17000000007,117106.17000000007,117106.17000000007,0,0,0,0,0,0,0,0,0,0,0,3173.0400000000004,10983.060000000003,7526.58,0,0,7526.58,3456.4799999999996,0,0,0,0,71.28,0,0,3385.2,0,0,0,0,0,0,0,0,0,0,0,0,0,0,128089.23000000001,6.9700000000000006,15.450000000000001,0,1.5400000000000005,24.99,11.780000000000003,8.08,1.0800000000000003,8.0299999999999976,1.6300000000000001,23.51,0,0,1,20,8,2,2,0,0,0,0,0,0,0,0,1,0.44,0,0,0,0,0,0,0,0,0,0,0,0,null,null,null,null,null,null,null,118,{"$f":"+INDEX($F169:$DJ169,1,Sheet3!$C$1)","v":118},{"$f":"+IF(Sheet3!$C$1=1,IF(DN169<3,0,1),1)","v":1}]
[1,1,"11C",4,2,94,680541.40398508648,133.36999999999998,113.58999999999997,9775.5399999999954,144.28000000000006,102.06,72.67,0,0,1.84,6.04,43.27000000000001,9.5500000000000007,2.79,8.5499999999999989,9.85,133.14999999999998,54.499999999999993,86.4,92965.07,92965.07,92965.07,0,0,0,0,0,0,0,0,0,0,0,9483.52,28394.18,20079.130000000005,0,0,20079.130000000005,8315.0500000000029,0,0,0,1460.24,100.44,0,0,6202.44,0,479.73,0,0,72.2,0,0,0,0,0,0,0,0,0,121359.24999999994,4.12,15.749999999999996,0,1.2700000000000002,51.530000000000008,13.510000000000005,6.04,5.6999999999999993,18.179999999999996,3.23,20.46,0,0,0,40,6,8,3,1,1.35,0,0,0,0,0,0,1,0.62,0,0,0,0,0,0,1,0.38,0,0,0,0,null,null,null,null,null,null,null,94,{"$f":"+INDEX($F170:$DJ170,1,Sheet3!$C$1)","v":94},{"$f":"+IF(Sheet3!$C$1=1,IF(DN170<3,0,1),1)","v":1}]
[1,1,"11C",4,3,3,119317.52635887849,15.43,11.35,830.19,15.53,8.49,8.25,0,0,0,0,7.1800000000000006,0,0,0,0,15.43,5.86,4.33,2980.52,2980.52,2980.52,0,0,0,0,0,0,0,0,0,0,0,900.07999999999993,2450.58,1125.8,0,0,1125.8,1324.78,0,0,0,0,0,0,0,0,0,1324.78,0,0,0,0,0,0,0,0,0,0,0,0,5431.1,0,0.85,0,0,7.4,0.04,0,0.13,6.5100000000000007,0,0.1,0,0,0,0,0,0,0,1,5.86,0,0,0,0,0,0,0,0,0,0,0,0,0,0,0,0,0,0,0,0,null,null,null,null,null,null,null,3,{"$f":"+INDEX($F171:$DJ171,1,Sheet3!$C$1)","v":3},{"$f":"+IF(Sheet3!$C$1=1,IF(DN171<3,0,1),1)","v":1}]
[1,1,"11C",4,5,1,1256908.5694157726,26.92,14.5,950.62,26.92,26.92,22.19,0,0,0,0,4.7300000000000004,0,0,0,0,26.92,0,26.92,993.49,993.49,993.49,0,0,0,0,0,0,0,0,0,0,0,512.17999999999995,2841.4,2841.4,0,0,2841.4,0,0,0,0,0,0,0,0,0,0,0,0,0,0,0,0,0,0,0,0,0,0,0,3834.8900000000003,0,0,0,0,22.19,4.7300000000000004,0,0,0,0,0,0,0,0,0,0,0,0,0,0,0,0,0,0,0,0,0,0,0,0,0,0,0,0,0,0,0,0,0,0,null,null,null,null,null,null,null,0,{"$f":"+INDEX($F172:$DJ172,1,Sheet3!$C$1)","v":1},{"$f":"+IF(Sheet3!$C$1=1,IF(DN172<3,0,1),1)","v":0}]
[1,1,"11C",5,1,120,267171.57689401892,141.08999999999989,130.37999999999997,12991.18,142.94999999999987,64.180000000000007,12.96,0,0,0.33,3.94,113.47000000000001,10.39,0.15,3.1500000000000004,3.1500000000000004,141.0799999999999,29.20999999999999,91,119001.01999999999,119001.01999999999,119001.01999999999,0,0,0,0,0,0,0,0,0,0,0,5246.9400000000005,27459.000000000004,21346.490000000009,0,0,21346.490000000009,6112.51,0,0,0,1970.71,0,0,0,4141.8,0,0,0,0,0,0,0,0,0,0,0,0,0,0,146460.01999999996,2.46,7.8100000000000005,0,0.34,2.35,7.6299999999999981,3.9399999999999995,1.7000000000000004,97.969999999999985,1.2000000000000002,12.250000000000002,0,0,0,19,2,0,0,0,0,0,0,0,0,0,0,0,0,0,0,0,0,0,0,0,0,0,0,0,0,null,null,null,null,null,null,null,120,{"$f":"+INDEX($F173:$DJ173,1,Sheet3!$C$1)","v":120},{"$f":"+IF(Sheet3!$C$1=1,IF(DN173<3,0,1),1)","v":1}]
[1,1,"11C",5,2,123,966859.64000201516,476.28,400.74999999999989,27853.659999999974,492.90999999999997,143.49,19.95,0,0,0,11.17,430.1999999999997,14.96,1.73,4.75,4.75,476.12,253.92000000000002,386.64000000000004,121962.44,121962.44,121962.44,0,0,0,0,0,0,0,0,0,0,0,24899.919999999998,157273.69999999998,87409.010000000024,0,0,87409.010000000024,69864.690000000017,0,1632.55,0,12345.22,0,7902.3,0,20782.62,0,27202,0,0,0,0,0,0,0,0,0,0,0,0,279236.14,3.31,11.06,0,0.2,4.79,16.839999999999996,11.17,10.249999999999995,371.62000000000006,5.4,31.590000000000003,0,1,2,14,3,0,0,30,107.58,0,0,1,3.17,0,0,0,0,0,0,20,76.16,0,0,0,0,0,0,0,0,null,null,null,null,null,null,null,123,{"$f":"+INDEX($F174:$DJ174,1,Sheet3!$C$1)","v":123},{"$f":"+IF(Sheet3!$C$1=1,IF(DN174<3,0,1),1)","v":1}]
[1,1,"11C",5,3,6,194802.0927286763,85.98,54.660000000000011,3583.4700000000003,86.37,20.05,2.88,0,0,0,0.24,82.8,0.06,0,0,0,85.97,63.38,53.08,5911.3900000000012,5911.3900000000012,5911.3900000000012,0,0,0,0,0,0,0,0,0,0,0,5092.8600000000006,24948.809999999998,9393.7900000000009,0,0,9393.7900000000009,15555.019999999999,0,3505.22,0,0,0,1165.75,0,6329.15,0,4554.8999999999996,0,0,0,0,0,0,0,0,0,0,0,0,30860.199999999997,0.86,0.27,0,0,0.7,1.22,0.24,0,78.12,0,0.45,0,0,0,0,0,0,0,4,32.72,0,0,1,6.28,0,0,0,0,0,0,1,11.99,0,0,0,0,0,0,0,0,null,null,null,null,null,null,null,6,{"$f":"+INDEX($F175:$DJ175,1,Sheet3!$C$1)","v":6},{"$f":"+IF(Sheet3!$C$1=1,IF(DN175<3,0,1),1)","v":1}]
[1,1,"11C",6,1,37,94562.283947741787,50.350000000000016,43.140000000000008,3150.8100000000004,57.410000000000011,43.47,2.52,0,0,0,1.54,44.48,1.81,0.21,0.9,0.9,49.960000000000015,18.840000000000003,43.88,36759.550000000003,36759.550000000003,36759.550000000003,0,0,0,0,0,0,0,0,0,0,0,4851.25,16819.270000000008,11073.400000000003,0,0,11073.400000000003,5745.8700000000008,0,0,0,0,0,0,0,2234.52,0,3511.35,0,0,0,0,0,0,0,0,0,0,0,0,53578.819999999992,0.13,1.21,0,0.08,1.1000000000000001,2.3200000000000003,1.54,38.4,0.83,1.4200000000000002,8.8699999999999992,0,0,0,4,2,0,0,5,4.72,0,0,0,0,0,0,0,0,0,0,0,0,0,0,0,0,0,0,0,0,null,null,null,null,null,null,null,37,{"$f":"+INDEX($F176:$DJ176,1,Sheet3!$C$1)","v":37},{"$f":"+IF(Sheet3!$C$1=1,IF(DN176<3,0,1),1)","v":1}]
[1,1,"11C",6,2,48,448066.05071136082,144.06,117.93000000000002,8106.590000000002,150.63999999999999,129.59,6.41,0,0,3.6,4.28,124.26999999999995,5.5,0,0.75,0.75,143.06,85.069999999999979,126.4,47515.649999999994,47515.649999999994,47515.649999999994,0,0,0,0,0,0,0,0,0,0,0,19911.510000000002,74364.11,30108.32,0,0,30108.32,44255.79,3420,2481.2800000000002,0,0,314.27999999999997,275.10000000000002,0,3775.38,0,33989.75,0,0,0,0,0,0,0,0,0,0,0,0,121879.76000000005,0.89,2.66,0,0.11,2.75,5.24,4.2799999999999994,113.39999999999996,4.1099999999999994,0.29000000000000004,12.080000000000002,0,0,0,4,0,1,0,21,57.82,1,3.8,2,3.83,0,0,1,1.94,0,0,2,2.62,0,0,0,0,0,0,0,0,null,null,null,null,null,null,null,48,{"$f":"+INDEX($F177:$DJ177,1,Sheet3!$C$1)","v":48},{"$f":"+IF(Sheet3!$C$1=1,IF(DN177<3,0,1),1)","v":1}]
[1,1,"11C",6,3,42,2133712.9087350448,117.88000000000002,91.979999999999976,7476.4599999999982,130.78,104.5,6.28,0,0,0.38,0.8,108.52000000000001,1.9,0,3.45,3.45,115.66000000000001,81.820000000000007,94.04,41647.459999999992,41647.459999999992,41647.459999999992,0,0,0,0,0,0,0,0,0,0,0,15038.909999999998,72755.839999999982,22071.359999999997,0,0,22071.359999999997,50684.480000000003,9843,12344.46,0,0,108.54,233.1,0,4177.26,0,23768.12,0,0,0,0,0,0,0,0,210,0,0,0,114403.3,0.82000000000000006,2.11,0,0.76,2.39,8.759999999999998,0.8,93.36,3.94,1.05,14.799999999999999,0,0,0,14,9,0,0,18,43.99,6,11.33,9,16.21,0,0,1,0.67,0,0,2,2.2200000000000002,0,0,0,0,0,0,0,0,null,null,null,null,null,null,null,42,{"$f":"+INDEX($F178:$DJ178,1,Sheet3!$C$1)","v":42},{"$f":"+IF(Sheet3!$C$1=1,IF(DN178<3,0,1),1)","v":1}]
[1,1,"11C",7,1,4,3677.2672228800002,4.0500000000000007,3.57,325.27000000000004,4.0500000000000007,2.99,0.14000000000000001,0,0,0,0,3.52,0.39,0,0,0,4.0500000000000007,1.57,1.82,3974.0299999999997,3974.0299999999997,3974.0299999999997,0,0,0,0,0,0,0,0,0,0,0,222.87,626.1400000000001,371.8,0,0,371.8,254.34000000000003,0,0,0,0,108.54,0,0,145.80000000000001,0,0,0,0,0,0,0,0,0,0,0,0,0,0,4600.17,0.14000000000000001,0,0,0,0,0,0,0,0,3.52,0.39,0,0,0,0,0,0,0,0,0,0,0,0,0,0,0,1,0.67,0,0,0,0,0,0,0,0,0,0,0,0,null,null,null,null,null,null,null,4,{"$f":"+INDEX($F179:$DJ179,1,Sheet3!$C$1)","v":4},{"$f":"+IF(Sheet3!$C$1=1,IF(DN179<3,0,1),1)","v":1}]
[1,1,"11C",8,1,1083,2253028.4213886871,1254.2300000000002,1140.6399999999985,111729.98999999996,1333.6399999999994,946.53,470.38,0,0,3.72,41.55,602.90999999999974,135.66999999999999,23.56,123.05000000000004,125.05000000000004,1254.0399999999997,482.60999999999967,801.82999999999925,1073765.1400000015,1073765.1400000015,1073765.1400000015,0,0,0,0,0,0,0,0,0,0,0,50381.279999999977,248590.87999999995,175973.54999999993,0,0,175973.54999999993,72617.329999999944,0,0,0,9537.25,899.83,0,0,61421.87,0,0,0,0,198.38,0,0,0,0,0,560,0,0,0,1322356.0199999996,57.29000000000002,300.81999999999977,0,11.439999999999987,100.36000000000013,168.37,34.610000000000014,61.700000000000053,221.17000000000013,51.260000000000012,215.08000000000015,0,20,25,459,78,50,4,0,0,0,0,0,0,0,0,7,5.61,0,0,0,0,0,0,2,1.06,0,0,0,0,null,null,null,null,null,null,null,1083,{"$f":"+INDEX($F180:$DJ180,1,Sheet3!$C$1)","v":1083},{"$f":"+IF(Sheet3!$C$1=1,IF(DN180<3,0,1),1)","v":1}]
[1,1,"11C",8,2,229,1475058.0759382152,603.38000000000022,498.05999999999989,37085.930000000008,630.61999999999989,429.85,138.72999999999999,0,0,3.82,10.210000000000001,425.62,25,8.9399999999999977,60.050000000000011,60.050000000000011,597.77000000000021,290.54000000000002,548.67999999999984,227214.16999999995,227214.16999999995,227214.16999999995,0,0,0,0,0,0,0,0,0,0,0,45074.289999999979,204697.64000000004,131411.50000000003,0,0,131411.50000000003,73286.14,0,6370.88,0,14388.67,267.3,2297.4,0,33065.86,0,16283.96,0,0,215.94,0,0,0,0,0,364,0,0,32.130000000000003,431911.80999999988,21.16,67.400000000000034,0,2.96,46.900000000000027,46.710000000000008,10.210000000000003,106.97000000000007,183.35999999999996,11.49,52.239999999999974,0,13,20,203,26,8,2,14,36.92,0,0,3,10.029999999999999,0,0,2,1.65,0,0,5,21.88,0,0,2,1.1100000000000001,0,0,0,0,null,null,null,null,null,null,null,229,{"$f":"+INDEX($F181:$DJ181,1,Sheet3!$C$1)","v":229},{"$f":"+IF(Sheet3!$C$1=1,IF(DN181<3,0,1),1)","v":1}]
[1,1,"11C",8,3,4,162238.41550897615,48.809999999999995,30.119999999999997,1974.6499999999999,49.12,11.48,6.04,0,0,0,0,41.51,1.26,0.51,1.2,1.2,48.809999999999995,26.800000000000004,21.16,3974.05,3974.05,3974.05,0,0,0,0,0,0,0,0,0,0,0,3917.4100000000003,12937.789999999999,4289.6000000000004,0,0,4289.6000000000004,8648.19,0,0,0,0,0,1140.3,0,0,0,7507.89,0,0,0,0,0,0,0,0,0,0,0,0,16911.84,0,0.4,0,0,5.64,2.48,0,5.1599999999999993,32.03,0,1.57,0,0,2,0,0,0,0,4,26.67,0,0,0,0,0,0,0,0,0,0,2,10.86,0,0,0,0,0,0,0,0,null,null,null,null,null,null,null,4,{"$f":"+INDEX($F182:$DJ182,1,Sheet3!$C$1)","v":4},{"$f":"+IF(Sheet3!$C$1=1,IF(DN182<3,0,1),1)","v":1}]
[1,1,"11C","10_1",1,9,17830.744407377471,13.89,11.049999999999999,786.31999999999994,18.61,12.61,1.83,0,0,0.78,0,1.3700000000000003,9.91,9.91,15.6,15.6,13.89,8.32,13.89,8941.52,8941.52,8941.52,0,0,0,0,0,0,0,0,0,0,0,325.69,5565.0099999999993,3603.5999999999995,0,0,3603.5999999999995,1961.4099999999999,0,0,0,0,0,0,0,514.88,0,0,0,0,662.53,0,0,0,0,0,784,0,0,0,14506.53,0.14000000000000001,1.4100000000000001,0,0,0.28000000000000003,2.04,0,0.04,0,0,14.629999999999999,0,9,10,3,0,1,0,0,0,0,0,0,0,0,0,0,0,0,0,0,0,0,0,3,3.42,0,0,0,0,null,null,null,null,null,null,null,9,{"$f":"+INDEX($F183:$DJ183,1,Sheet3!$C$1)","v":9},{"$f":"+IF(Sheet3!$C$1=1,IF(DN183<3,0,1),1)","v":1}]
[1,1,"11C","10_1",2,1,4311.6013341982316,3.01,0.9,83.93,3.32,3.01,0.62,0,0,1.63,0,0,0.76,0.76,2.85,2.85,2.93,0.93,2.93,993.5,993.5,993.5,0,0,0,0,0,0,0,0,0,0,0,312.66000000000003,873.4,761.8,0,0,761.8,111.6,0,0,0,0,0,0,0,111.6,0,0,0,0,0,0,0,0,0,0,0,0,0,0,1866.9,0,0.62,0,0,0,1.63,0,0,0,0,1.07,0,0,4,2,1,0,0,0,0,0,0,0,0,0,0,0,0,0,0,0,0,0,0,0,0,0,0,0,0,null,null,null,null,null,null,null,0,{"$f":"+INDEX($F184:$DJ184,1,Sheet3!$C$1)","v":1},{"$f":"+IF(Sheet3!$C$1=1,IF(DN184<3,0,1),1)","v":0}]
[1,1,"11C","10_15",1,8,17265.470477624203,8.8000000000000007,8.2000000000000011,736.38000000000011,12.55,8.77,1.01,0,0,0,0,4.34,3.45,3.45,24.9,24.9,8.8000000000000007,10.210000000000001,7.3999999999999986,7948.01,7948.01,7948.01,0,0,0,0,0,0,0,0,0,0,0,227.27,4534.49,2238.6,0,0,2238.6,2295.89,0,0,0,0,0,0,0,714.89,0,0,0,0,741,0,0,0,0,0,840,0,0,0,12482.5,0,0.88,0,0,0.13,3.92,0,0,0.23,0.05,7.2,0,16,14,10,0,0,0,0,0,0,0,0,0,0,0,0,0,0,0,0,0,0,0,4,2.69,0,0,0,0,null,null,null,null,null,null,null,8,{"$f":"+INDEX($F185:$DJ185,1,Sheet3!$C$1)","v":8},{"$f":"+IF(Sheet3!$C$1=1,IF(DN185<3,0,1),1)","v":1}]
[1,1,"11C","10_15",2,6,41367.978500420541,7.0600000000000005,6.65,735.22,9.74,6.65,2.13,0,0,0.47,0,3.11,1.35,1.35,44.000000000000007,44.000000000000007,7.0600000000000005,2.7199999999999998,2.3200000000000003,5961.02,5961.02,5961.02,0,0,0,0,0,0,0,0,0,0,0,1144.81,1007.27,603.20000000000005,0,0,603.20000000000005,404.07,0,0,0,0,0,0,0,216.54,0,0,0,0,187.53,0,0,0,0,0,0,0,0,0,6968.29,0.08,1.99,0,0,6.0000000000000005E-2,3.45,0,0.05,0.08,0,4.03,2,21,38,0,0,0,0,0,0,0,0,0,0,0,0,0,0,0,0,0,0,0,0,1,0.94,0,0,0,0,null,null,null,null,null,null,null,6,{"$f":"+INDEX($F186:$DJ186,1,Sheet3!$C$1)","v":6},{"$f":"+IF(Sheet3!$C$1=1,IF(DN186<3,0,1),1)","v":1}]
[1,1,"11C","10_2",1,5,6937.4429724030933,7.0700000000000012,5.33,472.13,8.6,4.91,0.4,0,0,1.45,0,0.26,4.96,4.96,4.2,4.2,7.0700000000000012,3,5.19,4868.17,4868.17,4868.17,0,0,0,0,0,0,0,0,0,0,0,424.59,1978.8999999999999,1349.4,0,0,1349.4,629.5,0,0,0,0,0,0,0,138,0,0,0,0,351.5,0,0,0,0,0,140,0,0,0,6847.07,0,0.32999999999999996,0,0,7.0000000000000007E-2,1.4900000000000002,0,0.03,0.15000000000000002,0,6.49,0,2,4,0,0,0,0,0,0,0,0,0,0,0,0,0,0,0,0,0,0,0,0,2,1.85,0,0,0,0,null,null,null,null,null,null,null,5,{"$f":"+INDEX($F187:$DJ187,1,Sheet3!$C$1)","v":5},{"$f":"+IF(Sheet3!$C$1=1,IF(DN187<3,0,1),1)","v":1}]
[1,1,"11C","10_2",2,2,24154.669896427084,19.935000000000002,1,98.47,39.36,0.08,0.08,0,0,0,0,0,38.979999999999997,0,3.2,6.2,39.36,0.38,39.36,1987.01,1987.01,1987.01,0,0,0,0,0,0,0,0,0,0,0,0,4266.2,4220.6000000000004,0,0,4220.6000000000004,45.6,0,0,0,0,0,0,0,45.6,0,0,0,0,0,0,0,0,0,0,0,0,0,0,6253.21,0,0,0,0.03,0.05,0.3,0,0,0,0,38.980000000000004,0,0,7,0,0,0,0,0,0,0,0,0,0,0,0,0,0,0,0,0,0,0,0,0,0,0,0,0,0,null,null,null,null,null,null,null,0,{"$f":"+INDEX($F188:$DJ188,1,Sheet3!$C$1)","v":2},{"$f":"+IF(Sheet3!$C$1=1,IF(DN188<3,0,1),1)","v":0}]
[1,1,"11C",11,1,67,118261.84220823881,110.44499999999996,84.829999999999984,7078.9199999999992,144.35999999999999,94.49,6.58,0,0,4.4000000000000004,0.3,31.220000000000006,74.400000000000006,60.53,89.15,97.15,113.37999999999997,48.16,103.37999999999998,66523.419999999984,66523.419999999984,66523.419999999984,0,0,0,0,0,0,0,0,0,0,0,3226.7799999999997,32513.520000000008,25064.9,0,0,25064.9,7448.6200000000008,0,0,0,0,0,0,0,3749.82,0,0,0,0,2728.4,0,0,0,0,0,940,0,0,30.4,99036.940000000031,0.4,4.3100000000000005,0,0.36,1.5100000000000005,31.510000000000005,0.3,0.68,2.0700000000000003,0.62,101.37999999999997,0,3,4,427,71,57,6,0,0,0,0,0,0,0,0,0,0,0,0,0,0,0,0,16,13.86,0,0,0,0,null,null,null,null,null,null,null,67,{"$f":"+INDEX($F189:$DJ189,1,Sheet3!$C$1)","v":67},{"$f":"+IF(Sheet3!$C$1=1,IF(DN189<3,0,1),1)","v":1}]
[1,1,"11C",11,2,7,53804.588762645653,43.065000000000005,9.6599999999999984,783.13000000000011,78.010000000000005,6.97,1.23,0,0,0,0,1.32,71.56,10.62,21.2,26.2,55.05,5.46,76.03,6912.65,6912.65,6912.65,0,0,0,0,0,0,0,0,0,0,0,164.14,10374.68,9548.4,0,0,9548.4,826.28,0,0,0,0,0,0,0,508.98,0,0,0,0,317.3,0,0,0,0,0,0,0,0,0,17287.330000000002,0.43,0.51,0,0.09,0.2,1.2700000000000002,0,0,1.87,0,73.540000000000006,0,6,4,34,2,47,5,0,0,0,0,0,0,0,0,0,0,0,0,0,0,0,0,1,1.67,0,0,0,0,null,null,null,null,null,null,null,7,{"$f":"+INDEX($F190:$DJ190,1,Sheet3!$C$1)","v":7},{"$f":"+IF(Sheet3!$C$1=1,IF(DN190<3,0,1),1)","v":1}]
[1,1,"11C",11,3,1,27399.07084983684,23.21,1.54,100.96,43.2,0.19,0.66,0,0,0,0,0,39.99,0,7.6,7.6,43.2,3.21,43.2,993.5,993.5,993.5,0,0,0,0,0,0,0,0,0,0,0,269.13,3311.92,2903.2,0,0,2903.2,408.72,0,0,0,0,0,0,0,408.72,0,0,0,0,0,0,0,0,0,0,0,0,0,0,4305.42,0,0,0,0,0.66,1.99,0,0,0.39,0.16,39.99,0,3,1,0,0,21,7,0,0,0,0,0,0,0,0,0,0,0,0,0,0,0,0,0,0,0,0,0,0,null,null,null,null,null,null,null,0,{"$f":"+INDEX($F191:$DJ191,1,Sheet3!$C$1)","v":1},{"$f":"+IF(Sheet3!$C$1=1,IF(DN191<3,0,1),1)","v":0}]
[1,1,"11C",12,1,175,370111.58720362571,236.85000000000005,206.01000000000005,18914.599999999999,256.37,206.5,67.02,0,0,5.26,0.7,98.229999999999961,66.64,62.36,194.44999999999996,200.44999999999996,235.85000000000005,129.15999999999997,199.42000000000016,173570.82,173570.82,173570.82,0,0,0,0,0,0,0,0,0,0,0,10073.179999999995,68848.789999999994,50600.560000000012,0,0,50600.560000000012,18248.23,0,0,0,0,0,0,0,14110.86,0,0,0,0,2877.37,0,0,0,0,0,1260,0,0,0,242419.61,7.1499999999999995,45.080000000000013,0,2.19,12.599999999999994,73.859999999999985,0.7,3.41,18.899999999999984,2.4400000000000008,85.160000000000011,0,33,61,699,103,46,7,0,0,0,0,0,0,0,0,0,0,0,0,0,0,0,0,18,15.08,0,0,0,0,null,null,null,null,null,null,null,175,{"$f":"+INDEX($F192:$DJ192,1,Sheet3!$C$1)","v":175},{"$f":"+IF(Sheet3!$C$1=1,IF(DN192<3,0,1),1)","v":1}]
[1,1,"11C",12,2,17,99482.824994059367,49.635000000000005,29.149999999999995,2548.35,58.68,31.1,9.18,0,0,0.98,0.01,15.790000000000001,26.16,4.34,44.099999999999994,49.400000000000006,50.530000000000008,24.46,50.66,16892.61,16892.61,16892.61,0,0,0,0,0,0,0,0,0,0,0,2463.9100000000003,13526.660000000003,10113.700000000001,0,0,10113.700000000001,3412.96,0,0,0,0,0,0,0,3208.56,0,0,0,0,144.4,0,0,0,0,0,60,0,0,0,30419.27,0.55000000000000004,5.0999999999999996,0,0.62,2.9100000000000006,9.67,0.01,2.0100000000000002,3.95,1.19,30.310000000000006,0,5,31,116,14,11,1,0,0,0,0,0,0,0,0,0,0,0,0,0,0,0,0,1,0.76,0,0,0,0,null,null,null,null,null,null,null,17,{"$f":"+INDEX($F193:$DJ193,1,Sheet3!$C$1)","v":17},{"$f":"+IF(Sheet3!$C$1=1,IF(DN193<3,0,1),1)","v":1}]
[1,1,"11C",13,1,124,132181.41131951229,148.79000000000002,138.16000000000003,14839.569999999996,166.27999999999997,124.11,3.9,0,0,2.08,4.13,88.86,49.82,0,0,0,148.59,38.31,72.210000000000022,122937.41000000003,122937.41000000003,122937.41000000003,0,0,0,0,0,0,0,0,0,0,0,2713.72,12469.329999999998,7749.9100000000008,0,0,7749.9100000000008,4719.42,0,0,0,0,0,0,0,4685.42,0,0,0,0,0,0,0,0,0,0,0,0,0,34,135406.74000000002,0.1,1.29,0,1.2900000000000003,1.2200000000000002,85.16,0.41000000000000003,0.84000000000000008,3.6100000000000003,0.5,67.31,0,0,0,0,0,0,0,0,0,0,0,0,0,0,0,0,0,0,0,0,0,0,0,0,0,0,0,0,0,null,null,null,null,null,null,null,{"$f":"+DN194*DO194","v":124},{"$f":"+INDEX($F194:$DJ194,1,Sheet3!$C$1)","v":124},{"$f":"+IF(Sheet3!$C$1=1,IF(DN194<3,0,1),1)","v":1}]
[1,1,"11C",13,2,2,13631.848105941321,10.23,9.9600000000000009,660.3,10.27,8.83,0.02,0,0,0,0,9.2800000000000011,0.93,0,0,0,10.23,0,5.49,1987.02,1987.02,1987.02,0,0,0,0,0,0,0,0,0,0,0,315.39999999999998,1076.4000000000001,1076.4000000000001,0,0,1076.4000000000001,0,0,0,0,0,0,0,0,0,0,0,0,0,0,0,0,0,0,0,0,0,0,0,3063.42,0,0.02,0,0,0,9.02,0,0.13,0.13,0,0.97000000000000008,0,0,0,0,0,0,0,0,0,0,0,0,0,0,0,0,0,0,0,0,0,0,0,0,0,0,0,0,0,null,null,null,null,null,null,null,0,{"$f":"+INDEX($F195:$DJ195,1,Sheet3!$C$1)","v":2},{"$f":"+IF(Sheet3!$C$1=1,IF(DN195<3,0,1),1)","v":0}]
[1,1,"11C",15,1,1,1099.5877149844634,0.53,0.5,65.8,0.53,0.51,0.43,0,0,0,0,0.1,0,0,0,0,0.53,0,0,993.5,993.5,993.5,0,0,0,0,0,0,0,0,0,0,0,40.69,0,0,0,0,0,0,null,null,null,null,null,null,null,null,null,null,null,null,null,null,null,null,null,null,null,null,null,null,993.5,0.11,0.03,0,0,0.28999999999999998,0,0,0,0.05,0,0,0,0,0,0,0,0,0,0,0,0,0,0,0,0,0,0,0,0,0,0,0,0,0,0,0,0,0,0,0,null,null,null,null,null,null,null,0,{"$f":"+INDEX($F196:$DJ196,1,Sheet3!$C$1)","v":1},{"$f":"+IF(Sheet3!$C$1=1,IF(DN196<3,0,1),1)","v":0}]
[1,1,"11D","1_1",1,5,4493.5191159326878,9.51,8.33,627.89,10.860000000000001,5.41,5.68,0,0,0,0.27,1.17,2.39,0,0,0,9.51,7.08,7.08,4967.53,4967.53,4967.53,0,0,0,0,0,0,0,0,0,0,0,151.82999999999998,2691.16,1794.1,0,0,1794.1,897.06,0,0,0,0,0,0,0,897.06,0,0,0,0,0,0,0,0,0,0,0,0,0,0,7658.69,0.72,4.13,0,0,0.83,0,0.27,0.84000000000000008,0.19,0.1,3.74,0,0,0,0,0,0,0,0,0,0,0,0,0,0,0,0,0,0,0,0,0,0,0,0,0,0,0,0,0,null,null,null,null,null,null,null,5,{"$f":"+INDEX($F197:$DJ197,1,Sheet3!$C$1)","v":5},{"$f":"+IF(Sheet3!$C$1=1,IF(DN197<3,0,1),1)","v":1}]
[1,1,"11D","1_1",4,1,133794.96696377086,2.23,2.17,194.69,2.5299999999999998,2.17,2.17,0,0,0,0,0.06,0,0,0,0,2.23,2.13,2.23,993.5,993.5,993.5,0,0,0,0,0,0,0,0,0,0,0,0,1857.8,579.79999999999995,0,0,579.79999999999995,1278,0,1278,0,0,0,0,0,0,0,0,0,0,0,0,0,0,0,0,0,0,0,0,2851.3,0,0,0,0,2.17,0,0,0.06,0,0,0.3,0,0,0,0,0,0,0,0,0,0,0,1,2.13,0,0,0,0,0,0,0,0,0,0,0,0,0,0,0,0,null,null,null,null,null,null,null,0,{"$f":"+INDEX($F198:$DJ198,1,Sheet3!$C$1)","v":1},{"$f":"+IF(Sheet3!$C$1=1,IF(DN198<3,0,1),1)","v":0}]
[1,1,"11D","1_2",1,34,45796.87666286555,76.984999999999999,52.61,3679.2400000000002,112.25999999999998,4.58,39.450000000000003,0,0,0.9,3.85,19.440000000000001,16.84,0.97,0.3,1.3,79.69,44.150000000000006,77.819999999999979,33735.520000000004,33735.520000000004,33735.520000000004,0,0,0,0,0,0,0,0,0,0,0,1313.02,20798.36,15229.400000000001,0,0,15229.400000000001,5568.9599999999991,0,0,0,0,626.94000000000005,0,0,4942.0200000000004,0,0,0,0,0,0,0,0,0,0,0,0,0,0,54533.88,21.559999999999995,10.95,0,0.23,4.8500000000000005,4,3.85,9.51,1.2400000000000002,4.82,48.620000000000012,0,0,0,1,1,0,0,0,0,0,0,0,0,0,0,6,3.88,0,0,0,0,0,0,0,0,0,0,0,0,null,null,null,null,null,null,null,34,{"$f":"+INDEX($F199:$DJ199,1,Sheet3!$C$1)","v":34},{"$f":"+IF(Sheet3!$C$1=1,IF(DN199<3,0,1),1)","v":1}]
[1,1,"11D","1_2",2,3,36310.240685619923,13.19,11.100000000000001,811,16.18,1.57,5.34,0,0,0,0,7.85,0,0,0,0,13.19,4.12,13.19,2937.0299999999997,2937.0299999999997,2937.0299999999997,0,0,0,0,0,0,0,0,0,0,0,1303,3680.48,3043.7000000000003,0,0,3043.7000000000003,636.78,0,0,0,0,121.5,0,0,515.28,0,0,0,0,0,0,0,0,0,0,0,0,0,0,6617.51,0,0,0,0,0.74,0.53,0,5.73,0.63,0.94,2.9899999999999998,0,0,0,0,0,0,0,0,0,0,0,0,0,0,0,1,0.75,0,0,0,0,0,0,0,0,0,0,0,0,null,null,null,null,null,null,null,3,{"$f":"+INDEX($F200:$DJ200,1,Sheet3!$C$1)","v":3},{"$f":"+IF(Sheet3!$C$1=1,IF(DN200<3,0,1),1)","v":1}]
[1,1,"11D","1_2",3,1,40054.170803092267,3.89,1.23,80.63,3.94,0.96,1.53,0,0,0,0,2.36,0,0,0,0,3.89,3.89,3.89,993.51,993.51,993.51,0,0,0,0,0,0,0,0,0,0,0,0,1868.3000000000002,949.1,0,0,949.1,919.2,0,363,0,0,144.18,0,0,412.02,0,0,0,0,0,0,0,0,0,0,0,0,0,0,2861.8100000000004,0.56999999999999995,0,0,0,0.96,0,0,0.65,0.67,1.04,0.05,0,0,0,0,0,0,0,0,0,0,0,1,0.64,0,0,1,0.89,0,0,0,0,0,0,0,0,0,0,0,0,null,null,null,null,null,null,null,0,{"$f":"+INDEX($F201:$DJ201,1,Sheet3!$C$1)","v":1},{"$f":"+IF(Sheet3!$C$1=1,IF(DN201<3,0,1),1)","v":0}]
[1,1,"11D",4,1,367,904990.40776205529,466.2849999999998,407.95999999999992,32147.099999999988,578.55000000000007,77.069999999999993,106.61,0,0,1.73,13.8,301.87499999999989,43.74,3.8999999999999995,9.2999999999999989,17.3,467.9699999999998,253.83000000000004,366.45000000000005,363882.3299999999,363882.3299999999,363882.3299999999,0,0,0,0,0,0,0,0,0,0,0,12160.079999999996,146849.29,87815.790000000023,0,0,87815.790000000023,59033.5,0,0,0,24829.84,2588.92,0,0,31339.24,0,0,0,0,275.5,0,0,0,0,0,0,0,0,0,510731.62000000011,15.949999999999998,9.7500000000000018,0,4.4700000000000015,76.440000000000026,18.689999999999998,9.11,64.130000000000024,52.949999999999974,154.24000000000004,153.99999999999986,0,0,2,40,5,5,4,0,0,0,0,0,0,0,0,24,16.14,0,0,0,0,0,0,1,1.45,0,0,0,0,null,null,null,null,null,null,null,367,{"$f":"+INDEX($F202:$DJ202,1,Sheet3!$C$1)","v":367},{"$f":"+IF(Sheet3!$C$1=1,IF(DN202<3,0,1),1)","v":1}]
[1,1,"11D",4,2,351,2763563.8988403217,840.76999999999964,677.63,48577.210000000014,1062.4600000000003,145.97,273.02,0,0,0,14.13,495.52499999999969,68.19,15.500000000000004,29.45,58.449999999999996,841.70999999999935,473.32999999999987,821.77999999999963,347602.0900000002,347602.0900000002,347602.0900000002,0,0,0,0,0,0,0,0,0,0,0,33498.469999999994,296107.0299999998,193326.2600000001,0,0,193326.2600000001,102780.77,5857.88,0,0,31260.6,3610.01,690.9,0,56280.74,0,5006.24,0,0,0,0,0,0,0,0,0,0,0,74.400000000000006,643709.12000000011,38.19,12.68,0,3.6799999999999997,218.37000000000018,23.83,13.799999999999997,139.78000000000003,131.31000000000006,157.39999999999998,278.31000000000012,0,2,10,107,20,16,4,6,14.98,4,15.89,0,0,0,0,20,23.11,0,0,1,6.58,0,0,0,0,0,0,0,0,null,null,null,null,null,null,null,351,{"$f":"+INDEX($F203:$DJ203,1,Sheet3!$C$1)","v":351},{"$f":"+IF(Sheet3!$C$1=1,IF(DN203<3,0,1),1)","v":1}]
[1,1,"11D",4,3,8,431716.22697916214,45.339999999999996,25.13,1710.3899999999999,60.54,6.75,9.1300000000000008,0,0,0,0.01,17.849999999999998,28.24,20.16,8.65,10.65,31.86,42.75,58.45,7904.5300000000007,7904.5300000000007,7904.5300000000007,0,0,0,0,0,0,0,0,0,0,0,5840.4299999999994,17448.41,9649.5000000000018,0,0,9649.5000000000018,7798.9100000000008,0,0,0,958.13,100.44,387.45,0,2335.92,0,3468.17,0,0,0,0,0,548.79999999999995,0,0,0,0,0,0,25352.94,0,0,0,0,9.129999999999999,0.75,0.01,6.66,8.43,1.48,29.8,0,1,7,22,1,0,0,2,10.51,0,0,0,0,0,0,1,0.62,0,0,1,3.69,0,0,0,0,0,0,1,20,null,null,null,null,null,null,null,8,{"$f":"+INDEX($F204:$DJ204,1,Sheet3!$C$1)","v":8},{"$f":"+IF(Sheet3!$C$1=1,IF(DN204<3,0,1),1)","v":1}]
[1,1,"11D",4,4,1,101741.68900657957,2.5099999999999998,2.14,140.29,2.5099999999999998,0,0.27,0,0,0,0,2.2400000000000002,0,0,0,0,2.5099999999999998,0,2.5099999999999998,993.51,993.51,993.51,0,0,0,0,0,0,0,0,0,0,0,58.27,652.6,652.6,0,0,652.6,0,0,0,0,0,0,0,0,0,0,0,0,0,0,0,0,0,0,0,0,0,0,0,1646.1100000000001,0,0,0,0,0,0,0,0.12,0,0,0,0,0,0,0,0,0,0,0,0,0,0,0,0,0,0,0,0,0,0,0,0,0,0,0,0,0,0,0,0,null,null,null,null,null,null,null,0,{"$f":"+INDEX($F205:$DJ205,1,Sheet3!$C$1)","v":1},{"$f":"+IF(Sheet3!$C$1=1,IF(DN205<3,0,1),1)","v":0}]
[1,1,"11D",5,1,1356,2605776.6513480186,2315.21,2036.6299999999974,147113.04000000004,2447.7700000000023,13.14,27.94,0,0,0,6.24,2262.5299999999993,18.5,0,0.6,1.6,2313.17,1387.85,2098.6700000000005,1343798.0100000009,1343798.0100000009,1343798.0100000009,0,0,0,0,0,0,0,0,0,0,0,50204.450000000026,1271650.6699999992,536709.14000000036,0,0,536709.14000000036,734941.53000000038,2897.8,1079.1500000000001,0,628175.67000000004,4556.57,2212.35,0,50576.34,0,45316.85,0,0,0,0,0,0,0,0,0,0,0,126.8,2615448.680000003,7.5200000000000005,1.08,0,2.09,16.779999999999941,7.87,6.2399999999999984,39.929999999999993,1746.3899999999992,396.86999999999966,150.07000000000008,0,0,1,0,0,0,0,66,137.49,3,5.03,1,1.61,0,0,45,28.58,0,0,11,21.08,0,0,0,0,0,0,0,0,null,null,null,null,null,null,null,1356,{"$f":"+INDEX($F206:$DJ206,1,Sheet3!$C$1)","v":1356},{"$f":"+IF(Sheet3!$C$1=1,IF(DN206<3,0,1),1)","v":1}]
[1,1,"11D",5,2,567,4166042.6664352501,3458.4949999999981,2701.7400000000025,179625.21000000014,3674.34,23.61,48.18,0,0,0,13.2,3367.934999999999,29.18,1.9,3.75,11.35,3454.1099999999983,2428.0199999999995,3441.4399999999978,561584.10000000289,561584.10000000289,561584.10000000289,0,0,0,0,0,0,0,0,0,0,0,160373.52000000002,1742097.64,741399.67999999959,0,0,741399.67999999959,1000697.9599999997,23402.62,13449.34,0,548025.43999999994,5852.65,28454.35,0,88610.31,0,292693.65000000002,0,0,0,0,0,0,0,0,0,0,0,209.6,2303681.7400000007,12.950000000000001,1.39,0,0.42000000000000004,33.359999999999971,23.27,13.2,72.100000000000065,2800.2400000000025,345.65999999999997,242.1,0,0,0,19,6,0,0,217,1160.5,13,47.94,4,27.69,0,0,31,37.43,0,0,42,273.7,0,0,0,0,0,0,0,0,null,null,null,null,null,null,null,567,{"$f":"+INDEX($F207:$DJ207,1,Sheet3!$C$1)","v":567},{"$f":"+IF(Sheet3!$C$1=1,IF(DN207<3,0,1),1)","v":1}]
[1,1,"11D",5,3,3,110975.51086544893,88.550000000000011,41.28,2862.73,108.27,0.01,0.52,0,0,0,0.19,87.84,0,0,0,1,88.550000000000011,65.3,88.35,2980.52,2980.52,2980.52,0,0,0,0,0,0,0,0,0,0,0,4869.1499999999996,31995.73,9246,0,0,9246,22749.73,10776.7,0,0,4239.99,102.06,2648.79,0,1778.82,0,3203.37,0,0,0,0,0,0,0,0,0,0,0,0,34976.25,0,0,0,0,0.52,0.36,0.19,0.42,79.11,6.0600000000000005,19.72,0,0,0,0,0,0,0,1,16.420000000000002,1,29.98,0,0,0,0,1,0.63,0,0,1,28.56,0,0,0,0,0,0,0,0,null,null,null,null,null,null,null,3,{"$f":"+INDEX($F208:$DJ208,1,Sheet3!$C$1)","v":3},{"$f":"+IF(Sheet3!$C$1=1,IF(DN208<3,0,1),1)","v":1}]
[1,1,"11D",6,1,192,318919.61777039565,480.88000000000028,383.39000000000027,25973.190000000006,540.73999999999978,47.26,18.600000000000001,0,0,0,5.24,443.93000000000023,13.11,0,0.6,1.6,478.61000000000018,337.61,466.10000000000019,190248.25999999995,190248.25999999995,190248.25999999995,0,0,0,0,0,0,0,0,0,0,0,16860.340000000007,188346.9499999999,111298.55999999995,0,0,111298.55999999995,77048.390000000014,9530.16,2360.0300000000002,0,6763.69,11548.67,1471.26,0,38146.629999999997,0,7101.15,0,0,0,0,0,0,0,0,0,0,0,126.8,378595.20999999996,11.879999999999999,1.1299999999999999,0,3.2800000000000002,2.2600000000000002,8.5,5.24,381.10000000000019,9.2899999999999991,41.03,72.96999999999997,0,0,1,0,0,0,0,8,13.84,8,26.11,2,8.2200000000000006,0,0,41,72.27,0,0,6,14.1,0,0,0,0,0,0,0,0,null,null,null,null,null,null,null,192,{"$f":"+INDEX($F209:$DJ209,1,Sheet3!$C$1)","v":192},{"$f":"+IF(Sheet3!$C$1=1,IF(DN209<3,0,1),1)","v":1}]
[1,1,"11D",6,2,87,730486.97445121536,472.7299999999999,317.6400000000001,21310.690000000021,546.16000000000008,245.16,4.8899999999999997,0,0,1.1200000000000001,13.32,451.11000000000007,2.29,0,1.7999999999999998,1.7999999999999998,463.96999999999997,405.58,470.63999999999993,86391.609999999957,86391.609999999957,86391.609999999957,0,0,0,0,0,0,0,0,0,0,0,67609.189999999973,267241.93999999989,101194.8,0,0,101194.8,166047.13999999998,16967.259999999998,0,0,4024.44,4635.91,3014.08,0,43365.54,0,93976.71,0,0,0,0,0,0,0,0,0,0,0,63.2,353633.54999999993,0.2,0.13,0,0.06,4.16,7.2500000000000009,13.32,391.33000000000004,20.100000000000001,20.829999999999995,75.719999999999985,0,0,3,0,0,0,0,45,190.19,4,35.979999999999997,0,0,0,0,8,30.05,0,0,7,29.33,0,0,0,0,0,0,0,0,null,null,null,null,null,null,null,87,{"$f":"+INDEX($F210:$DJ210,1,Sheet3!$C$1)","v":87},{"$f":"+IF(Sheet3!$C$1=1,IF(DN210<3,0,1),1)","v":1}]
[1,1,"11D",6,3,14,538712.65549220017,86.38,71.27,5096.6899999999996,88.579999999999984,63.11,0.84,0,0,0,1.99,83.27,0.28000000000000003,0,0,0,86.20999999999998,76.44,83.259999999999991,13909,13909,13909,0,0,0,0,0,0,0,0,0,0,0,9967.4399999999987,54930.33,14516.1,0,0,14516.1,40414.230000000003,2197.7199999999998,0,0,2445.0500000000002,260.82,0,0,7526.64,0,27984,0,0,0,0,0,0,0,0,0,0,0,0,68839.33,0,7.0000000000000007E-2,0,0,0.77,0.48,1.99,73.089999999999989,3.38,3.53,2.4800000000000004,0,0,0,0,0,0,0,11,60.16,1,4.6399999999999997,0,0,0,0,1,1.61,0,0,0,0,0,0,0,0,0,0,0,0,null,null,null,null,null,null,null,14,{"$f":"+INDEX($F211:$DJ211,1,Sheet3!$C$1)","v":14},{"$f":"+IF(Sheet3!$C$1=1,IF(DN211<3,0,1),1)","v":1}]
[1,1,"11D",7,1,179,75340.8878527872,262.37999999999988,227.3300000000001,19061.100000000006,300.38999999999987,3.48,1.52,0,0,0,3.19,244.11999999999998,13.55,0,0,0,262.13999999999982,176.56999999999994,210.47999999999996,177626.57999999993,177626.57999999993,177626.57999999993,0,0,0,0,0,0,0,0,0,0,0,2317.5099999999998,96744.079999999987,52170.660000000011,0,0,52170.660000000011,44573.420000000027,1259.8699999999999,0,0,16836.25,5263.46,0,0,20594.240000000002,0,586.20000000000005,0,0,0,0,0,0,0,0,0,0,0,33.4,274370.66000000003,1.05,0,0,0.38,9.0000000000000011E-2,3.6600000000000006,3.1899999999999995,3.07,1.4900000000000004,234.93999999999986,51.56,0,0,0,0,0,0,0,1,2.0499999999999998,2,2.59,0,0,0,0,32,34.200000000000003,0,0,0,0,0,0,0,0,0,0,0,0,null,null,null,null,null,null,null,179,{"$f":"+INDEX($F212:$DJ212,1,Sheet3!$C$1)","v":179},{"$f":"+IF(Sheet3!$C$1=1,IF(DN212<3,0,1),1)","v":1}]
[1,1,"11D",8,1,2315,4497348.040804957,4357.6100000000115,3607.8100000000045,270557.86000000022,5394.3200000000043,259.08999999999997,373.5,0,0,5.3,40.340000000000003,3694.8050000000007,246.57,7.77,28.400000000000009,71.399999999999977,4340.720000000013,2736.0400000000045,4053.3500000000058,2295403.4400000009,2295403.4400000009,2295403.4400000009,0,0,0,0,0,0,0,0,0,0,0,92122.989999999874,1855832.7600000033,980630.06000000064,145.6,0,980484.46000000066,875202.69999999984,22087.43,5599.23,0,512896.49,36842.720000000001,647.85,0,286334.59000000003,0,9397.2000000000007,0,0,0,0,0,0,0,0,0,0,0,1397.19,4151236.2000000053,118.52999999999999,50.79000000000002,0,17.629999999999995,181.48000000000053,128.41000000000008,37.430000000000007,757.1099999999991,997.7399999999991,1370.1099999999976,1274.0799999999979,0,0,7,123,25,10,2,16,28.37,19,56.84,5,16.420000000000002,0,0,238,233.12,0,0,5,6.17,0,0,0,0,0,0,0,0,null,null,null,null,null,null,null,2315,{"$f":"+INDEX($F213:$DJ213,1,Sheet3!$C$1)","v":2315},{"$f":"+IF(Sheet3!$C$1=1,IF(DN213<3,0,1),1)","v":1}]
[1,1,"11D",8,2,649,4149828.1067912458,2868.7349999999997,2172.7500000000014,149116.72999999984,3473.839999999997,250.17,226.55,0,0,0.54,24.71,2510.7649999999999,107.61,10.139999999999999,42.600000000000016,72.600000000000009,2854.8200000000011,1739.9999999999993,2833.9400000000019,643333.99000000162,643333.99000000162,643333.99000000162,0,0,0,0,0,0,0,0,0,0,0,117200.87000000004,1258660.0100000002,639913.54000000039,767.15,139.1,639007.29000000039,618746.4700000002,42106.23,0,0,325841.8,16171.58,2745.75,0,161916.6,0,68808.31,0,0,0,0,0,0,0,0,0,0,0,1156.2,1901994.0000000005,41.669999999999995,16.859999999999992,0,4.7299999999999995,160.15999999999985,58.019999999999989,18.209999999999994,547.96999999999991,1043.9400000000003,559.87999999999988,702.52999999999986,0,4,14,100,20,66,14,67,225.27,16,106.67,0,0,0,0,61,102.88,0,0,9,26.15,0,0,0,0,0,0,0,0,null,null,null,null,null,null,null,649,{"$f":"+INDEX($F214:$DJ214,1,Sheet3!$C$1)","v":649},{"$f":"+IF(Sheet3!$C$1=1,IF(DN214<3,0,1),1)","v":1}]
[1,1,"11D",8,3,6,191710.22809004082,85.84,60.7,4350.82,105.26,13.54,13.66,0,0,0,0.21,71.14,0.83,0,0,0,85.84,61.64,85.84,5931.24,5931.24,5931.24,0,0,0,0,0,0,0,0,0,0,0,4546.6399999999994,29083.72,13592.38,0,0,13592.38,15491.340000000002,0,0,0,3974.23,197.64,0,0,2403.25,0,8479.6200000000008,0,0,0,0,0,0,0,0,0,0,0,436.6,35014.959999999999,4.95,1.38,0,0,7.3299999999999992,0.04,0.21,19.149999999999999,23.229999999999997,11.399999999999999,20.25,0,0,0,0,0,0,0,3,34.630000000000003,0,0,0,0,0,0,1,1.22,0,0,0,0,0,0,0,0,0,0,0,0,null,null,null,null,null,null,null,6,{"$f":"+INDEX($F215:$DJ215,1,Sheet3!$C$1)","v":6},{"$f":"+IF(Sheet3!$C$1=1,IF(DN215<3,0,1),1)","v":1}]
[1,1,"11D",9,2,3,30336.200997489934,25.89,8.49,556.86,41.370000000000005,1.0900000000000001,1.81,0,0,0,0,2.29,32.93,3.2,9,11,11.17,7.6899999999999995,40.61,2982.02,2982.02,2982.02,0,0,0,0,0,0,0,0,0,0,0,466.22,6599.81,4293.1000000000004,0,0,4293.1000000000004,2306.71,0,0,0,1314,76.14,0,0,767.1,0,0,0,0,149.47,0,0,0,0,0,0,0,0,0,9581.83,1.3900000000000001,0,0,0,0.42,1.8199999999999998,0,0.53,3.27,0.23,33.69,5,1,6,0,0,0,0,0,0,0,0,0,0,0,0,1,0.47,0,0,0,0,0,0,1,0.84,0,0,0,0,null,null,null,null,null,null,null,3,{"$f":"+INDEX($F216:$DJ216,1,Sheet3!$C$1)","v":3},{"$f":"+IF(Sheet3!$C$1=1,IF(DN216<3,0,1),1)","v":1}]
[1,1,"11D",9,3,1,37605.751789571681,13.44,2.0099999999999998,131.77000000000001,21.84,0.83,0.39,0,0,0,0,0,20.07,20.07,13.6,13.6,21.84,1.77,21.84,993.5,993.5,993.5,0,0,0,0,0,0,0,0,0,0,0,310.67,2658.4,2412.4,0,0,2412.4,246,0,0,0,0,0,0,0,246,0,0,0,0,0,0,0,0,0,0,0,0,0,0,3651.9,0,0,0,0,0.39,0.57999999999999996,0,0.8,0,0,20.07,11,0,5,0,0,0,0,0,0,0,0,0,0,0,0,0,0,0,0,0,0,0,0,0,0,0,0,0,0,null,null,null,null,null,null,null,0,{"$f":"+INDEX($F217:$DJ217,1,Sheet3!$C$1)","v":1},{"$f":"+IF(Sheet3!$C$1=1,IF(DN217<3,0,1),1)","v":0}]
[1,1,"11D","10_1",1,3,7693.4229596666373,5.7850000000000001,2.77,255.51,9.56,2.2200000000000002,0.8,0,0,0,0,0.36499999999999999,5.62,5.62,9,9,6.21,1.73,8.2100000000000009,2980.52,2980.52,2980.52,0,0,0,0,0,0,0,0,0,0,0,114.49,1981.8400000000001,1510.6,0,0,1510.6,471.24,0,0,0,0,0,0,0,156.84,0,0,0,0,0,34.4,0,0,0,0,280,0,0,0,4962.3600000000006,0.19,0.33999999999999997,0,0,0.27,1.71,0,0.02,0.06,0,6.9700000000000006,0,6,5,0,0,0,0,0,0,0,0,0,0,0,0,0,0,0,0,0,0,1,0.43,0,0,0,0,0,0,null,null,null,null,null,null,null,3,{"$f":"+INDEX($F218:$DJ218,1,Sheet3!$C$1)","v":3},{"$f":"+IF(Sheet3!$C$1=1,IF(DN218<3,0,1),1)","v":1}]
[1,1,"11D","10_1",2,2,13586.709144209966,11.744999999999999,5.45,367,15.89,1.86,0.13,0,0,0,0,2.57,11.9,11.9,13.6,15.6,7.82,3.39,15.67,1987.8400000000001,1987.8400000000001,1987.8400000000001,0,0,0,0,0,0,0,0,0,0,0,35.020000000000003,3578.23,2665.8,0,0,2665.8,912.43000000000006,0,653.95000000000005,0,0,93.96,0,0,164.52,0,0,0,0,0,0,0,0,0,0,0,0,0,0,5566.07,0,0,0,0,0.13,2.0500000000000003,0,1.43,0.01,0,12.12,0,2,20,0,0,0,0,0,0,0,0,1,2.81,0,0,1,0.57999999999999996,0,0,0,0,0,0,0,0,0,0,0,0,null,null,null,null,null,null,null,0,{"$f":"+INDEX($F219:$DJ219,1,Sheet3!$C$1)","v":2},{"$f":"+IF(Sheet3!$C$1=1,IF(DN219<3,0,1),1)","v":0}]
[1,1,"11D","10_15",1,2,1761.5117335269404,1.08,1.87,145.82,1.08,0.86,0.6,0,0,0,0,0,0.48,0.48,3.2,3.2,1.08,0,1.08,1987.02,1987.02,1987.02,0,0,0,0,0,0,0,0,0,0,0,0,756.46,582.40000000000009,0,0,582.40000000000009,174.06,0,0,0,0,0,0,0,174.06,0,0,0,0,0,0,0,0,0,0,0,0,0,0,2743.48,0,0.6,0,0,0,0,0,0,0,0,0.48,0,2,2,0,0,0,0,0,0,0,0,0,0,0,0,0,0,0,0,0,0,0,0,0,0,0,0,0,0,null,null,null,null,null,null,null,0,{"$f":"+INDEX($F220:$DJ220,1,Sheet3!$C$1)","v":2},{"$f":"+IF(Sheet3!$C$1=1,IF(DN220<3,0,1),1)","v":0}]
[1,1,"11D","10_2",1,23,54232.390121099481,70.079999999999984,23.870000000000005,2201.6999999999998,124.93,12.23,4.54,0,0,0,0.03,0.08,111.9,56.170000000000009,30.400000000000002,30.400000000000002,71.929999999999993,5.7900000000000009,119.07000000000001,22851.34,22851.34,22851.34,0,0,0,0,0,0,0,0,0,0,0,1068.26,18610.300000000003,17237.2,0,0,17237.2,1373.1000000000001,0,0,0,0,0,0,0,583.20000000000005,0,0,0,0,229.9,0,0,0,0,0,560,0,0,0,41461.64,1.7200000000000002,1.9700000000000002,0,0,0.85000000000000009,3.79,0.03,0.59000000000000008,0.56000000000000005,0,115.27999999999996,0,13,29,0,0,0,0,0,0,0,0,0,0,0,0,0,0,0,0,0,0,0,0,2,1.21,0,0,0,0,null,null,null,null,null,null,null,23,{"$f":"+INDEX($F221:$DJ221,1,Sheet3!$C$1)","v":23},{"$f":"+IF(Sheet3!$C$1=1,IF(DN221<3,0,1),1)","v":1}]
[1,1,"11D","10_2",2,18,171597.04782092321,207.88000000000002,18.43,1622.0899999999997,396.96999999999997,7.88,2.92,0,0,0.6,0.05,0,377.84,175.43,91.549999999999983,96.549999999999983,222.24000000000004,84.230000000000018,393.49999999999994,17888.91,17888.91,17888.91,0,0,0,0,0,0,0,0,0,0,0,2167.9499999999998,42946.86,37667.200000000004,0,0,37667.200000000004,5279.66,0,0,0,1232.0999999999999,0,0,0,1702.56,0,0,0,0,133,0,0,700,0,0,1512,0,0,0,60835.77,1.44,1.03,0,0,0.44999999999999996,8.1900000000000013,0.05,0.97000000000000008,2.66,0.26,381.30999999999995,0,48,76,5,0,0,0,0,0,0,0,0,0,0,0,0,0,0,0,0,0,0,0,1,0.7,0,0,2,70.63,null,null,null,null,null,null,null,18,{"$f":"+INDEX($F222:$DJ222,1,Sheet3!$C$1)","v":18},{"$f":"+IF(Sheet3!$C$1=1,IF(DN222<3,0,1),1)","v":1}]
[1,1,"11D",11,1,78,157854.07752000363,249.29999999999995,97.480000000000032,7214.1800000000021,420.3499999999998,35.33,10.94,0,0,5.44,4.92,17.195,327.31,76.139999999999986,59.70000000000001,136.69999999999999,271.20000000000005,49.55,385.15000000000003,77405.910000000018,77405.910000000018,77405.910000000018,0,0,0,0,0,0,0,0,0,0,0,3073.8300000000008,67279.099999999977,59948.729999999996,0,0,59948.729999999996,7330.369999999999,0,0,0,1050,72.900000000000006,0,0,5373.87,0,0,0,0,608,25.6,0,0,0,0,200,0,0,0,144685.00999999995,6.37,2.68,0,0.2,1.6900000000000004,32.409999999999997,4.92,5.57,3.42,2.4500000000000002,359.41,0,0,1,262,43,77,12,0,0,0,0,0,0,0,0,1,0.45,0,0,0,0,1,0.32,5,3.2,0,0,0,0,null,null,null,null,null,null,null,78,{"$f":"+INDEX($F223:$DJ223,1,Sheet3!$C$1)","v":78},{"$f":"+IF(Sheet3!$C$1=1,IF(DN223<3,0,1),1)","v":1}]
[1,1,"11D",11,2,51,463245.24343163305,565.4699999999998,65.859999999999985,4961.9999999999973,1086.1400000000001,25.3,10.78,0,0,0.69,0.04,0,1007.69,187.29,90.25,194.25000000000003,422.68999999999994,122.14999999999998,1056.3,50432.350000000013,50432.350000000013,50432.350000000013,0,0,0,0,0,0,0,0,0,0,0,2666.6099999999992,111819.04000000002,103461.20000000003,0,0,103461.20000000003,8357.840000000002,772,0,0,1647,502.2,0,0,4404.84,0,0,0,0,307.8,24,0,700,0,0,0,0,0,0,162251.39000000004,3.6700000000000004,3.98,0,0,3.1299999999999994,19.290000000000003,0.04,7.89,4.37,5.8199999999999994,1036.8599999999999,0,0,10,373,47,125,18,0,0,1,1.74,0,0,0,0,2,3.1,0,0,0,0,1,0.3,3,1.62,0,0,2,80.38,null,null,null,null,null,null,null,51,{"$f":"+INDEX($F224:$DJ224,1,Sheet3!$C$1)","v":51},{"$f":"+IF(Sheet3!$C$1=1,IF(DN224<3,0,1),1)","v":1}]
[1,1,"11D",11,5,1,44630345.379108422,2.11,1.33,109.63,2.11,0.03,0.03,0,0,0,0,2.08,0,0,0,251994,2.11,1.91,2.08,993.49,993.49,993.49,0,0,0,0,0,0,0,0,0,0,0,78.92,2259.8000000000002,540.79999999999995,0,0,540.79999999999995,1719,0,0,0,1719,0,0,0,0,0,0,0,0,0,0,0,0,0,0,0,0,0,0,3253.29,0,0,0,0,0.03,0,0,0,1.53,0.55000000000000004,0,0,0,0,0,0,0,0,0,0,0,0,0,0,0,0,0,0,0,0,0,0,0,0,0,0,0,0,0,0,null,null,null,null,null,null,null,0,{"$f":"+INDEX($F225:$DJ225,1,Sheet3!$C$1)","v":1},{"$f":"+IF(Sheet3!$C$1=1,IF(DN225<3,0,1),1)","v":0}]
[1,1,"11D",12,1,61,139535.08651083196,143.31000000000003,80.929999999999993,6210.3799999999992,217.19,27.48,14.42,0,0,2.78,1.78,27.74,131.55000000000001,31.71,49.850000000000009,80.850000000000009,154.07,55.240000000000009,196.04999999999995,60543.890000000007,60543.890000000007,60543.890000000007,0,0,0,0,0,0,0,0,0,0,0,2452,43632.9,35656.219999999994,0,0,35656.219999999994,7976.6799999999994,0,0,0,779.44,238.14,0,0,6959.1,0,0,0,0,0,0,0,0,0,0,0,0,0,0,104176.79,4.59,3.1400000000000006,0,0.01,6.68,17.139999999999997,0.15,10.85,10.74,9.5200000000000014,148.18000000000004,0,1,24,157,21,45,8,0,0,0,0,0,0,0,0,2,1.8,0,0,0,0,0,0,0,0,0,0,0,0,null,null,null,null,null,null,null,61,{"$f":"+INDEX($F226:$DJ226,1,Sheet3!$C$1)","v":61},{"$f":"+IF(Sheet3!$C$1=1,IF(DN226<3,0,1),1)","v":1}]
[1,1,"11D",12,2,26,188854.39406121333,154.29499999999999,52.19,3757.9700000000003,288.08,25.15,15.63,0,0,0.38,0.05,10.850000000000001,204.91,61.750000000000014,58.750000000000014,92.750000000000014,179.05000000000004,56.660000000000004,248.58999999999997,25767.719999999998,25767.719999999998,25767.719999999998,0,0,0,0,0,0,0,0,0,0,0,2762.4800000000005,45281.010000000009,35121.17,0,0,35121.17,10159.84,0,0,0,3815.05,0,0,0,5794.98,0,0,0,0,515.09,34.72,0,0,0,0,0,0,0,0,71048.73,4.4000000000000004,3.4099999999999997,0,0.1,7.7200000000000015,8.0800000000000018,0.05,9.5300000000000011,5.4899999999999993,3.73,243.57,1,12,17,179,15,39,4,0,0,0,0,0,0,0,0,0,0,0,0,0,0,1,0.62,3,3.53,0,0,0,0,null,null,null,null,null,null,null,26,{"$f":"+INDEX($F227:$DJ227,1,Sheet3!$C$1)","v":26},{"$f":"+IF(Sheet3!$C$1=1,IF(DN227<3,0,1),1)","v":1}]
[1,1,"11D",13,1,27,6172.3835054553838,40.755000000000003,30.750000000000004,2617.96,60.210000000000008,5.49,0.05,0,0,0,10.77,8.370000000000001,24.73,0,0,0,43.150000000000006,7.6900000000000013,20.67,26625.789999999994,26625.789999999994,26625.789999999994,0,0,0,0,0,0,0,0,0,0,0,164.26,2429.8300000000004,1476.1200000000001,0,0,1476.1200000000001,953.71,0,0,0,323.75,0,0,0,629.96,0,0,0,0,0,0,0,0,0,0,0,0,0,0,29055.619999999995,0,0.05,0,0,0,7.9300000000000006,0.30000000000000004,0.08,0.02,0.64,40.70000000000001,0,0,0,0,0,0,0,0,0,0,0,0,0,0,0,0,0,0,0,0,0,0,0,0,0,0,0,0,0,null,null,null,null,null,null,null,27,{"$f":"+INDEX($F228:$DJ228,1,Sheet3!$C$1)","v":27},{"$f":"+IF(Sheet3!$C$1=1,IF(DN228<3,0,1),1)","v":1}]
[1,1,"11D",15,1,8,11838.939188228171,9.5500000000000007,8.34,602.88999999999987,11.14,0.96,4.01,0,0,0,0,4.7,0.84,0,0,0,9.06,5.7399999999999993,6.91,7947.98,7947.98,7947.98,0,0,0,0,0,0,0,0,0,0,0,29.92,2718.3199999999997,1687.4,0,0,1687.4,1030.9199999999998,0,0,0,198,63.18,0,0,769.74,0,0,0,0,0,0,0,0,0,0,0,0,0,0,10666.3,0.11,0,0,7.0000000000000007E-2,3.8299999999999996,0,0,1.59,0.93,2.1799999999999997,2.4300000000000002,0,0,0,0,0,0,0,0,0,0,0,0,0,0,0,1,0.39,0,0,0,0,0,0,0,0,0,0,0,0,null,null,null,null,null,null,null,8,{"$f":"+INDEX($F229:$DJ229,1,Sheet3!$C$1)","v":8},{"$f":"+IF(Sheet3!$C$1=1,IF(DN229<3,0,1),1)","v":1}]
[1,1,"11D",15,2,5,25883.264437925398,15.030000000000001,13.68,955.09999999999991,19.23,1.97,8.32,0,0,0,0,5.32,1.39,0,0,0,15.030000000000001,9.32,15.030000000000001,4967.47,4967.47,4967.47,0,0,0,0,0,0,0,0,0,0,0,303.29999999999995,5175.7700000000004,3458.7999999999997,0,0,3458.7999999999997,1716.97,0,0,0,718.75,0,0,0,998.22,0,0,0,0,0,0,0,0,0,0,0,0,0,0,10143.24,0,0,0,0,8.32,0.1,0,1.6,2.1100000000000003,1.03,5.5900000000000007,0,0,0,0,0,0,0,0,0,0,0,0,0,0,0,0,0,0,0,0,0,0,0,0,0,0,0,0,0,null,null,null,null,null,null,null,5,{"$f":"+INDEX($F230:$DJ230,1,Sheet3!$C$1)","v":5},{"$f":"+IF(Sheet3!$C$1=1,IF(DN230<3,0,1),1)","v":1}]
[1,1,"11E",0,2,3,1683.2833333333333,14.98,9.52,624.29999999999995,24.99,0.5,3.77,0,0,0,0.31,9.1999999999999993,1.7,0,0,21.6,14.98,6.16,14.98,2980.5299999999997,2980.5299999999997,2980.5299999999997,0,0,0,0,0,0,0,0,0,0,0,1347.98,5149.84,3226,0,0,3226,1923.8400000000001,0,0,0,0,511.92,0,0,391.92,0,0,0,0,0,0,0,0,0,0,1020,0,0,0,8130.3700000000008,1.27,0,0,2,0.5,0.39,0.31000000000000005,2.4,2.4700000000000002,3.88,11.71,0,0,0,0,0,0,0,0,0,0,0,0,0,0,0,1,3.16,0,0,0,0,0,0,0,0,0,0,0,0,null,null,null,null,null,null,null,3,{"$f":"+INDEX($F231:$DJ231,1,Sheet3!$C$1)","v":3},{"$f":"+IF(Sheet3!$C$1=1,IF(DN231<3,0,1),1)","v":1}]
[1,1,"11E",0,3,1,null,3.26,0.89,97.45,5.08,0.15,0.15,0,0,0,0.93,2.1800000000000002,0,0,0,74,3.26,0.44,3.26,993.49,993.49,993.49,0,0,0,0,0,0,0,0,0,0,0,0,794.07999999999993,722.8,0,0,722.8,71.28,0,0,0,0,0,0,0,71.28,0,0,0,0,0,0,0,0,0,0,0,0,0,0,1787.57,0,0,0,0,0.15,1.55,0.93,0.02,0,0.44,1.82,0,0,0,0,0,0,0,0,0,0,0,0,0,0,0,0,0,0,0,0,0,0,0,0,0,0,0,0,0,null,null,null,null,null,null,null,0,{"$f":"+INDEX($F232:$DJ232,1,Sheet3!$C$1)","v":1},{"$f":"+IF(Sheet3!$C$1=1,IF(DN232<3,0,1),1)","v":0}]
[1,1,"11E","1_2",1,69,60600.382120959272,281.37,204.57999999999998,13769.550000000001,322.65000000000009,0.16,120.73,0,0,0,79.38,36.63000000000001,44.63,0,0,0,276.31,33.520000000000003,246.94000000000003,68551.91,68551.91,68551.91,0,0,0,0,0,0,0,0,0,0,0,2403.0399999999995,55032.999999999993,49979.19999999999,0,0,49979.19999999999,5053.7999999999993,196.5,0,0,549,1545.72,0,0,2762.58,0,0,0,0,0,0,0,0,0,0,0,0,0,0,123584.91000000002,93.15000000000002,22.9,0,1.72,0.32,7.4399999999999995,57.660000000000004,2.2599999999999998,2.7899999999999996,23.599999999999998,85.91,0,0,0,0,0,0,0,0,0,1,1.31,0,0,0,0,16,9.66,0,0,0,0,0,0,0,0,0,0,0,0,null,null,null,null,null,null,null,69,{"$f":"+INDEX($F233:$DJ233,1,Sheet3!$C$1)","v":69},{"$f":"+IF(Sheet3!$C$1=1,IF(DN233<3,0,1),1)","v":1}]
[1,1,"11E","1_2",2,9,62084.050404246023,24.97,17.369999999999997,1248.81,28.239999999999995,0,11.99,0,0,0,0,12.05,0.93,0,0,0,24.97,10.199999999999999,24.97,8942.34,8942.34,8942.34,0,0,0,0,0,0,0,0,0,0,0,436.52,7842.7000000000007,6190.2999999999984,0,0,6190.2999999999984,1652.3999999999999,0,0,0,0,831.06,0,0,821.34,0,0,0,0,0,0,0,0,0,0,0,0,0,0,16785.04,0,0,0,0,0.24,0,0,3.06,1.01,7.22,4.2,0,0,0,0,0,0,0,0,0,0,0,0,0,0,0,6,5.13,0,0,0,0,0,0,0,0,0,0,0,0,null,null,null,null,null,null,null,9,{"$f":"+INDEX($F234:$DJ234,1,Sheet3!$C$1)","v":9},{"$f":"+IF(Sheet3!$C$1=1,IF(DN234<3,0,1),1)","v":1}]
[1,1,"11E",3,1,1,2073.8635399516202,1.29,0.71,89.2,1.61,0.25,0.25,0,0,0,0,0.71,0.33,0,0,0,1.29,0.69,1.07,993.48,993.48,993.48,0,0,0,0,0,0,0,0,0,0,0,58.58,388.36,278.2,0,0,278.2,110.16,0,0,0,0,110.16,0,0,0,0,0,0,0,0,0,0,0,0,0,0,0,0,0,1381.8400000000001,0,0,0,0,0.25,0,0,0,0,0.71,0.65,0,0,0,0,0,0,0,0,0,0,0,0,0,0,0,1,0.69,0,0,0,0,0,0,0,0,0,0,0,0,null,null,null,null,null,null,null,0,{"$f":"+INDEX($F235:$DJ235,1,Sheet3!$C$1)","v":1},{"$f":"+IF(Sheet3!$C$1=1,IF(DN235<3,0,1),1)","v":0}]
[1,1,"11E",3,2,2,17301.001464361667,7.82,5.4499999999999993,397.45,11.98,0.2,2.04,0,0,0,0.82,3.84,1.1200000000000001,0,0,0,7.82,5.03,7.82,1987.04,1987.04,1987.04,0,0,0,0,0,0,0,0,0,0,0,104.75,2515.7600000000002,1757.6,0,0,1757.6,758.16,0,0,0,0,346.68,0,0,411.48,0,0,0,0,0,0,0,0,0,0,0,0,0,0,4502.8,0,0,0,0,1.94,0,0.82,0.15,0.66,3.02,5.2799999999999994,0,0,0,0,0,0,0,0,0,0,0,0,0,0,0,2,2.14,0,0,0,0,0,0,0,0,0,0,0,0,null,null,null,null,null,null,null,0,{"$f":"+INDEX($F236:$DJ236,1,Sheet3!$C$1)","v":2},{"$f":"+IF(Sheet3!$C$1=1,IF(DN236<3,0,1),1)","v":0}]
[1,1,"11E",4,1,600,1417255.8655040979,1161.9499999999991,979.81000000000006,74674.099999999962,1382.7699999999975,63.36,195.75,0,0,1.84,120.72,722.98000000000036,120.66,0.79,0.6,11.600000000000001,1160.1599999999992,498.12000000000035,1093.0699999999993,593835.53000000014,593835.53000000014,593835.53000000014,0,0,0,0,0,0,0,0,0,0,0,31909.08,336583.37999999977,259690.76000000013,0,0,259690.76000000013,76892.619999999966,769,0,0,682.2,40578.480000000003,0,0,34437.94,0,0,0,0,0,0,0,0,0,0,0,0,0,425,930418.91000000038,50.22,9.9799999999999986,0,20.729999999999993,114.72999999999998,10.430000000000001,109.42999999999995,95.410000000000096,54.360000000000007,547.89,341.47999999999996,0,0,0,3,1,0,0,0,0,1,1.73,0,0,0,0,303,253.54,0,0,0,0,0,0,0,0,0,0,0,0,null,null,null,null,null,null,null,600,{"$f":"+INDEX($F237:$DJ237,1,Sheet3!$C$1)","v":600},{"$f":"+IF(Sheet3!$C$1=1,IF(DN237<3,0,1),1)","v":1}]
[1,1,"11E",4,2,452,3387587.6088067931,1765.1199999999994,1300.6600000000005,89702.78,2086.0700000000002,88.31,450.08,0,0,0.63,223.25,893.23000000000025,197.93,1.5,6.3999999999999995,22.4,1758.2199999999996,632.50999999999965,1681.17,448801.39000000089,448801.39000000089,448801.39000000089,0,0,0,0,0,0,0,0,0,0,0,76769.650000000009,481029.3299999999,379843.10000000003,0,0,379843.10000000003,101186.22999999998,6664,482.1,0,0,38804.03,0,0,51923.58,0,2600.12,0,0,0,0,0,0,0,0,0,0,0,712.4,929830.72,113.07,23.109999999999996,0,28.320000000000004,284.50999999999993,16.25,200.16999999999996,277.94000000000005,97.780000000000044,465.27,518.87999999999965,0,1,1,24,3,5,0,3,8.56,6,18.32,1,1.27,0,0,213,251.01,0,0,0,0,0,0,0,0,0,0,0,0,null,null,null,null,null,null,null,452,{"$f":"+INDEX($F238:$DJ238,1,Sheet3!$C$1)","v":452},{"$f":"+IF(Sheet3!$C$1=1,IF(DN238<3,0,1),1)","v":1}]
[1,1,"11E",4,3,10,448190.00445602549,103.59,53.29,3493.6400000000003,115.28,0.76,39.31,0,0,0,12.28,35.06,16.940000000000001,0,0,6,103.59,34.450000000000003,103.47,9891.6600000000017,9891.6600000000017,9891.6600000000017,0,0,0,0,0,0,0,0,0,0,0,6217.76,20956.37,17440.099999999999,0,0,17440.099999999999,3516.27,0,0,0,0,1133.03,0,0,2153.64,0,0,0,0,0,0,0,0,0,0,0,0,0,229.6,30848.029999999995,7.1,1.38,0,0,30.78,7.51,12.280000000000001,16.279999999999998,3.39,7.81,28.63,0,0,0,0,0,0,0,0,0,0,0,0,0,0,0,3,6.92,0,0,0,0,0,0,0,0,0,0,0,0,null,null,null,null,null,null,null,10,{"$f":"+INDEX($F239:$DJ239,1,Sheet3!$C$1)","v":10},{"$f":"+IF(Sheet3!$C$1=1,IF(DN239<3,0,1),1)","v":1}]
[1,1,"11E",4,4,1,225959.49750329996,23.26,1.07,70.14,24.4,0,23.26,0,0,0,0,0,0,0,0,0,23.26,0,23.26,993.5,993.5,993.5,0,0,0,0,0,0,0,0,0,0,0,3930.94,2905.6,2905.6,0,0,2905.6,0,0,0,0,0,0,0,0,0,0,0,0,0,0,0,0,0,0,0,0,0,0,0,3899.1,0,0,0,0,23.26,0,0,0,0,0,1.1399999999999999,0,0,0,0,0,0,0,0,0,0,0,0,0,0,0,0,0,0,0,0,0,0,0,0,0,0,0,0,0,null,null,null,null,null,null,null,0,{"$f":"+INDEX($F240:$DJ240,1,Sheet3!$C$1)","v":1},{"$f":"+IF(Sheet3!$C$1=1,IF(DN240<3,0,1),1)","v":0}]
[1,1,"11E",5,1,37,63643.488041808043,85.899999999999991,76.509999999999991,5406.6900000000005,104.1,0.59,1.48,0,0,0,3.17,75.95,5.3,0,0,0,85.899999999999991,43.059999999999988,83.16,36716.05999999999,36716.05999999999,36716.05999999999,0,0,0,0,0,0,0,0,0,0,0,2027.38,28646.739999999991,20208.500000000011,0,0,20208.500000000011,8438.2400000000016,0,0,0,850.5,1054.6199999999999,0,0,5657.88,0,818.04,0,0,0,0,0,0,0,0,0,0,0,57.2,65362.799999999988,0.42,0.60000000000000009,0,0.3,0.13,0.33999999999999997,3.17,4.66,42.93,26.139999999999997,23.5,0,0,0,0,0,0,0,1,2.69,0,0,0,0,0,0,8,6.51,0,0,0,0,0,0,0,0,0,0,0,0,null,null,null,null,null,null,null,37,{"$f":"+INDEX($F241:$DJ241,1,Sheet3!$C$1)","v":37},{"$f":"+IF(Sheet3!$C$1=1,IF(DN241<3,0,1),1)","v":1}]
[1,1,"11E",5,2,4,34521.534807453834,35.76,29.64,1943.18,44.84,0.72,0.72,0,0,0,0.23,29.599999999999998,5.21,0,0,0,35.76,25.300000000000004,35.76,3974.07,3974.07,3974.07,0,0,0,0,0,0,0,0,0,0,0,1615.77,15486.68,6942.1,0,0,6942.1,8544.58,0,0,0,3962.5,226.8,0,0,1579.5,0,2775.78,0,0,0,0,0,0,0,0,0,0,0,0,19460.75,0,0.72,0,0,0,0.08,0.23,0.56000000000000005,21.93,5.1300000000000008,14.29,0,0,0,0,0,0,0,1,13.44,0,0,0,0,0,0,1,1.4,0,0,0,0,0,0,0,0,0,0,0,0,null,null,null,null,null,null,null,4,{"$f":"+INDEX($F242:$DJ242,1,Sheet3!$C$1)","v":4},{"$f":"+IF(Sheet3!$C$1=1,IF(DN242<3,0,1),1)","v":1}]
[1,1,"11E",6,1,267,469777.1975485803,1013.7599999999998,763.86000000000024,51692.939999999988,1104.0399999999995,6.08,31.37,0,0,0,72.2,848.4700000000006,61.72,0,0,4,1011.2199999999997,693.37,949.23999999999967,265268.16999999975,265268.16999999975,265268.16999999975,0,0,0,0,0,0,0,0,0,0,0,23928.55999999999,351457.88000000006,215265.3,0,0,215265.3,136192.57999999996,25246,3295,0,0,58355.32,1360.8,0,44271.18,444,577.28,0,0,0,0,0,0,0,0,0,0,0,2643,616726.04999999981,20.670000000000005,4.7300000000000013,0,3.5899999999999994,2.3800000000000008,4.919999999999999,45.180000000000021,741.66000000000065,7.129999999999999,89.299999999999983,151.99999999999997,0,0,0,0,0,0,0,1,3.52,15,69.05,3,10.18,0,0,162,363.52,0,0,4,12.96,0,0,0,0,0,0,0,0,null,null,null,null,null,null,null,267,{"$f":"+INDEX($F243:$DJ243,1,Sheet3!$C$1)","v":267},{"$f":"+IF(Sheet3!$C$1=1,IF(DN243<3,0,1),1)","v":1}]
[1,1,"11E",6,2,42,287412.19674802554,474.62,247.08,16534.100000000002,509.55999999999983,27.43,15.05,0,0,0.34,26.84,397.13999999999993,35.25,0.77,1.7999999999999998,3.8,464.54,349.86,438.40999999999997,41683.900000000009,41683.900000000009,41683.900000000009,0,0,0,0,0,0,0,0,0,0,0,16078.479999999996,188013.96000000002,77962.569999999992,0,0,77962.569999999992,110051.39000000001,47908.79,5176.25,0,0,25684.09,867.3,0,20356.5,3723,5039.0600000000004,0,0,0,0,0,0,0,0,0,0,0,1296.4000000000001,229697.86,10.07,0.28999999999999998,0,1.58,2.7300000000000009,2.75,13.749999999999998,366.66,2.97,22.689999999999998,70.189999999999984,0,0,0,9,3,0,0,3,18.850000000000001,13,137.87,4,17.670000000000002,0,0,29,169.49,0,0,2,8.26,0,0,0,0,0,0,0,0,null,null,null,null,null,null,null,42,{"$f":"+INDEX($F244:$DJ244,1,Sheet3!$C$1)","v":42},{"$f":"+IF(Sheet3!$C$1=1,IF(DN244<3,0,1),1)","v":1}]
[1,1,"11E",6,3,2,86648.367868429574,10.130000000000001,5.5200000000000005,395.95,14.55,0.73,2.5,0,0,0,1.0900000000000001,5.97,0.56999999999999995,0,0,0,10.130000000000001,9.1499999999999986,10.130000000000001,1987.02,1987.02,1987.02,0,0,0,0,0,0,0,0,0,0,0,684.91000000000008,5370.6200000000008,2217.5,0,0,2217.5,3153.12,1919.1,0,0,0,71.28,0,0,1162.74,0,0,0,0,0,0,0,0,0,0,0,0,0,0,7357.64,2.2799999999999998,0,0,7.0000000000000007E-2,0.15,0,1.0900000000000001,5.2,0,0.7,4.99,0,0,0,0,0,0,0,0,0,1,2.86,0,0,0,0,1,0.44,0,0,0,0,0,0,0,0,0,0,0,0,null,null,null,null,null,null,null,0,{"$f":"+INDEX($F245:$DJ245,1,Sheet3!$C$1)","v":2},{"$f":"+IF(Sheet3!$C$1=1,IF(DN245<3,0,1),1)","v":0}]
[1,1,"11E",7,1,594,290245.22981522116,1086.2500000000002,920.29000000000008,73543.61000000003,1208.3900000000001,9.69,20.22,0,0,0,41.27,959.36999999999955,65.39,0,0,1,1083.25,641.23999999999978,982.30000000000086,588650.55000000075,588650.55000000075,588650.55000000075,0,0,0,0,0,0,0,0,0,0,0,12501.670000000002,350741.4499999996,236575.0399999998,0,0,236575.0399999998,114166.40999999999,8646.06,980,0,3433.05,71516.66,383.25,0,28410.59,0,742,0,0,0,0,0,0,0,0,0,0,0,54.8,939391.99999999988,6.81,1.04,0,11.959999999999999,0.33,10.080000000000002,41.270000000000017,14.439999999999998,9.42,923.9799999999999,187.53000000000009,0,0,0,0,0,0,0,1,3,7,19.79,1,0,0,0,395,447.43,0,0,2,3.65,0,0,0,0,0,0,0,0,null,null,null,null,null,null,null,594,{"$f":"+INDEX($F246:$DJ246,1,Sheet3!$C$1)","v":594},{"$f":"+IF(Sheet3!$C$1=1,IF(DN246<3,0,1),1)","v":1}]
[1,1,"11E",7,2,5,32065.757273678406,51.690000000000005,19.63,1293.3399999999999,70.92,23.39,0.12,0,0,0,0,48.010000000000005,3.56,0,0,0,51.690000000000005,37.980000000000004,51.059999999999995,4838.41,4838.41,4838.41,0,0,0,0,0,0,0,0,0,0,0,4180.26,25599.71,8930.15,0,0,8930.15,16669.559999999998,13939.2,515,0,0,314.3,0,0,724.14,0,1176.92,0,0,0,0,0,0,0,0,0,0,0,0,30438.120000000003,0,0,0,0,0.12,0.19,0,6.7899999999999991,0.89,39.979999999999997,22.79,0,0,0,0,0,0,0,1,4.03,3,30.67,1,1.06,0,0,2,2.1800000000000002,0,0,0,0,0,0,0,0,0,0,0,0,null,null,null,null,null,null,null,5,{"$f":"+INDEX($F247:$DJ247,1,Sheet3!$C$1)","v":5},{"$f":"+IF(Sheet3!$C$1=1,IF(DN247<3,0,1),1)","v":1}]
[1,1,"11E",8,1,1782,3056068.1477034222,5310.4600000000028,4112.8399999999992,296361.16999999981,6489.08,91.24,519.58000000000004,0,0,0,487.44,3700.3799999999937,603.05999999999995,6.07,13.050000000000002,50.65,5288.9200000000019,2643.9999999999991,4954.8000000000038,1766732.1900000051,1766732.1900000051,1766732.1900000051,0,0,0,0,0,0,0,0,0,0,0,122483.77000000006,1590808.5899999989,1123159.8099999975,0,0,1123159.8099999975,467648.77999999997,50475.34,8604.9500000000007,0,9569.2199999999993,176510.82,1471.05,0,212838.37,1458,4433.43,0,0,0,0,0,0,0,0,0,0,0,2287.6,3357540.7800000003,270.33000000000015,67.529999999999973,0,58.080000000000005,114.63999999999993,111.08000000000003,387.35000000000019,1034.2,261.02,2095.9800000000009,1781.6799999999955,0,0,3,55,9,9,2,5,17.77,37,144.1,7,26.87,0,0,922,1109.52,0,0,4,14.01,0,0,0,0,0,0,0,0,null,null,null,null,null,null,null,1782,{"$f":"+INDEX($F248:$DJ248,1,Sheet3!$C$1)","v":1782},{"$f":"+IF(Sheet3!$C$1=1,IF(DN248<3,0,1),1)","v":1}]
[1,1,"11E",8,2,330,2006536.8107089468,2151.8699999999994,1410.5099999999995,95699.749999999942,2494.52,79.760000000000005,229.62,0,0,3.31,115.52,1632.2799999999993,171.14,10.119999999999999,21.55,53.15,2137.059999999999,1228.7100000000003,2074.09,327548.99,327548.99,327548.99,0,0,0,0,0,0,0,0,0,0,0,86109.459999999992,732687.39000000025,433763.42000000016,0,0,433763.42000000016,298923.97000000003,101385.67,6536.59,108.3,9188.59,64457.46,1005.9,0,102627.77,708,10891.09,0,0,0,181.6,0,0,0,0,200,151.19999999999999,0,1481.8,1060236.3799999999,82.449999999999989,16.310000000000002,0,21.560000000000006,95.560000000000088,45.640000000000008,100.60999999999999,772.83000000000015,136.71000000000012,575.4400000000004,513.78999999999951,0,1,1,114,13,4,2,12,39.520000000000003,46,269.70999999999998,4,18.98,0,0,191,408.1,0,0,2,9.64,1,2.27,0,0,0,0,0,0,null,null,null,null,null,null,null,330,{"$f":"+INDEX($F249:$DJ249,1,Sheet3!$C$1)","v":330},{"$f":"+IF(Sheet3!$C$1=1,IF(DN249<3,0,1),1)","v":1}]
[1,1,"11E","10_1",1,1,1103.6273728021984,1.06,1.05,87.31,1.1499999999999999,0.56000000000000005,0,0,0,0,0,0.5,0.56000000000000005,0.56000000000000005,1.6,1.6,1.06,0.3,1.06,993.5,993.5,993.5,0,0,0,0,0,0,0,0,0,0,0,160,311.60000000000002,275.60000000000002,0,0,275.60000000000002,36,0,0,0,0,0,0,0,36,0,0,0,0,0,0,0,0,0,0,0,0,0,0,1305.0999999999999,0,0,0,0,0,0.3,0,0,0,0.1,0.65,0,1,1,0,0,0,0,0,0,0,0,0,0,0,0,0,0,0,0,0,0,0,0,0,0,0,0,0,0,null,null,null,null,null,null,null,0,{"$f":"+INDEX($F250:$DJ250,1,Sheet3!$C$1)","v":1},{"$f":"+IF(Sheet3!$C$1=1,IF(DN250<3,0,1),1)","v":0}]
[1,1,"150",8,3,8,355831.64600000001,204.29999999999998,65.22,4295.8499999999995,218.65000000000003,8,10.75,0,0,0,0.26,139.61000000000001,53.68,0,0,0,148.86999999999998,15.94,153.60999999999999,7948.0400000000009,7948.0400000000009,7948.0400000000009,0,0,0,0,0,0,0,0,0,0,0,1510.34,19937.73,18720.7,0,433.7,18287,1217.03,0,0,0,0,678.78,349.65,0,0,0,0,0,0,0,0,0,0,0,0,0,0,0,188.6,27885.77,8.4700000000000006,0,0,0,2.2799999999999998,2.2799999999999998,0.26,9.8099999999999987,2.37,1.8699999999999999,68.029999999999987,0,0,0,0,0,0,0,0,0,0,0,0,0,0,0,3,4.1900000000000004,0,0,1,3.33,0,0,0,0,0,0,0,0,null,null,null,null,null,null,null,8,{"$f":"+INDEX($F276:$DJ276,1,Sheet3!$C$1)","v":8},{"$f":"+IF(Sheet3!$C$1=1,IF(DN276<3,0,1),1)","v":1}]
[1,1,"16B",5,1,2,3514.8940404142077,2.58,2.54,212.24,2.58,0,0,0,0,0,0,1.27,1.31,0,0,0,2.58,0,0,1947.28,1947.28,1947.28,0,0,0,0,0,0,0,0,0,0,0,0,0,0,0,0,0,0,null,null,null,null,null,null,null,null,null,null,null,null,null,null,null,null,null,null,null,null,null,null,1947.28,0,0,0,0,0,0,0,0,1.27,0,1.31,0,0,0,0,0,0,0,0,0,0,0,0,0,0,0,0,0,0,0,0,0,0,0,0,0,0,0,0,0,null,null,null,null,null,null,null,0,{"$f":"+INDEX($F293:$DJ293,1,Sheet3!$C$1)","v":2},{"$f":"+IF(Sheet3!$C$1=1,IF(DN293<3,0,1),1)","v":0}]
[1,1,"16D",9,1,2,7059.8964284643898,1.79,1.78,170.09,1.79,1.53,0.95,0,0,0,0,0.28999999999999998,0.55000000000000004,0.55000000000000004,3,3,1.79,0,0,1986.98,1986.98,1986.98,0,0,0,0,0,0,0,0,0,0,0,93.34,0,0,0,0,0,0,null,null,null,null,null,null,null,null,null,null,null,null,null,null,null,null,null,null,null,null,null,null,1986.98,0.04,0.89,0,0,0.02,0.22,0,7.0000000000000007E-2,0,0,0.55000000000000004,2,0,2,0,0,0,0,0,0,0,0,0,0,0,0,0,0,0,0,0,0,0,0,0,0,0,0,0,0,null,null,null,null,null,null,null,0,{"$f":"+INDEX($F334:$DJ334,1,Sheet3!$C$1)","v":2},{"$f":"+IF(Sheet3!$C$1=1,IF(DN334<3,0,1),1)","v":0}]
[1,1,"16E",5,1,22,31007.038302484012,33.83,27.26,2380.8999999999996,34.14,0.97,4.01,0,0,0,1.2,22.399999999999995,6.22,0,0,0,33.83,4.62,2.5,21813.440000000002,21813.440000000002,21813.440000000002,0,0,0,0,0,0,0,0,0,0,0,875.16,1773.02,644.79999999999995,0,0,644.79999999999995,1128.22,0,0,0,0,0,0,0,396.72,0,731.5,0,0,0,0,0,0,0,0,0,0,0,0,23586.460000000003,3.38,0.25,0,0.31,7.0000000000000007E-2,0.21,1.2,0.13,16.7,4.1400000000000006,6.5299999999999994,0,0,0,0,0,0,0,1,2.14,0,0,0,0,0,0,0,0,0,0,0,0,0,0,0,0,0,0,0,0,null,null,null,null,null,null,null,22,{"$f":"+INDEX($F360:$DJ360,1,Sheet3!$C$1)","v":22},{"$f":"+IF(Sheet3!$C$1=1,IF(DN360<3,0,1),1)","v":1}]
[1,1,"16F","10_2",1,1,955.88028906278805,1.67,1.67,109.48,1.7,0,0,0,0,0,0,0.74,0.93,0.93,0.6,0.6,1.67,0,1.67,993.53,993.53,993.53,0,0,0,0,0,0,0,0,0,0,0,0,135.19999999999999,135.19999999999999,0,0,135.19999999999999,0,0,0,0,0,0,0,0,0,0,0,0,0,0,0,0,0,0,0,0,0,0,0,1128.73,0,0,0,0,0,0.35,0,0,0.21,0.14000000000000001,0.96,0,0,1,0,0,0,0,0,0,0,0,0,0,0,0,0,0,0,0,0,0,0,0,0,0,0,0,0,0,null,null,null,null,null,null,null,0,{"$f":"+INDEX($F409:$DJ409,1,Sheet3!$C$1)","v":1},{"$f":"+IF(Sheet3!$C$1=1,IF(DN409<3,0,1),1)","v":0}]
[1,1,"16G","1_2",3,2,175018.26921392273,8.18,3.8099999999999996,249.78,10.72,0.67,2.95,0,0,0,0,1.04,4.1900000000000004,0,0,2,8.18,2.77,7.9399999999999995,1986.99,1986.99,1986.99,0,0,0,0,0,0,0,0,0,0,0,645.03,3403.8,1741.8,0,0,1741.8,1662,0,1662,0,0,0,0,0,0,0,0,0,0,0,0,0,0,0,0,0,0,0,0,5390.79,0,0,0,0,2.95,1.04,0,0,0,0,6.73,0,0,0,0,0,0,0,0,0,0,0,2,2.77,0,0,0,0,0,0,0,0,0,0,0,0,0,0,0,0,null,null,null,null,null,null,null,0,{"$f":"+INDEX($F420:$DJ420,1,Sheet3!$C$1)","v":2},{"$f":"+IF(Sheet3!$C$1=1,IF(DN420<3,0,1),1)","v":0}]
[1,1,"16H",15,1,2,745.33223947754595,1.48,1.08,84.6,1.9,0.09,0.2,0,0,0,0,1.28,0,0,0,0,1.48,1.48,0,1957.19,1957.19,1957.19,0,0,0,0,0,0,0,0,0,0,0,0,227.49,0,0,0,0,227.49,0,0,0,0,0,0,0,227.49,0,0,0,0,0,0,0,0,0,0,0,0,0,0,2184.6800000000003,0,0,0,0,0.2,0,0,0,0,1.28,0.42,0,0,0,0,0,0,0,0,0,0,0,0,0,0,0,0,0,0,0,0,0,0,0,0,0,0,0,0,0,null,null,null,null,null,null,null,0,{"$f":"+INDEX($F476:$DJ476,1,Sheet3!$C$1)","v":2},{"$f":"+IF(Sheet3!$C$1=1,IF(DN476<3,0,1),1)","v":0}]
[1,1,"16I",12,1,74,130697.26690579722,135.38000000000002,120.68,9350.5899999999983,147.02999999999997,5.01,5.15,0,0,0.61,0.39,107.99000000000001,21.24,21.24,90.250000000000028,90.250000000000028,135.34000000000003,67.019999999999982,84.11,73247.849999999991,73247.849999999991,73247.849999999991,0,0,0,0,0,0,0,0,0,0,0,4840.53,25192.19,15032.249999999998,2534.4499999999998,4079.0000000000005,8418.7999999999993,10159.940000000004,0,0,0,0,6714.74,0,0,3445.2,0,0,0,0,0,0,0,0,0,0,0,0,0,0,98440.03999999995,3.1799999999999993,0.43,0,0.27,1.1300000000000001,18.000000000000007,0.39,1.1000000000000001,6.9899999999999993,76.429999999999964,32.89,0,0,7,319,52,177,23,0,0,0,0,0,0,0,0,40,43.58,0,0,0,0,0,0,0,0,0,0,0,0,null,null,null,null,null,null,null,74,{"$f":"+INDEX($F501:$DJ501,1,Sheet3!$C$1)","v":74},{"$f":"+IF(Sheet3!$C$1=1,IF(DN501<3,0,1),1)","v":1}]
[1,1,"16J",5,1,119,206884.53076256771,330.47999999999996,267.23999999999995,18129.900000000001,373.90000000000003,3.83,35.159999999999997,0,0,0,8.01,259.95,27.36,0,0,0,330.12999999999994,222.35000000000008,303.93999999999994,117552.77000000002,117552.77000000002,117552.77000000002,0,0,0,0,0,0,0,0,0,0,0,11544.350000000002,120271.78000000007,71597.160000000047,0,0,71597.160000000047,48674.619999999995,6107.33,2615.65,0,218.75,1842.75,277.2,0,32151.84,0,5461.1,0,0,0,0,0,0,0,0,0,0,0,0,237824.55000000013,20.319999999999997,7.8999999999999986,0,6.1499999999999995,0.79000000000000015,6.7499999999999982,8.01,4.09,190.43999999999997,49.660000000000011,70.780000000000015,0,0,0,0,0,0,0,7,18.829999999999998,4,10.37,2,5.0599999999999996,0,0,14,11.56,0,0,1,2.64,0,0,0,0,0,0,0,0,null,null,null,null,null,null,null,119,{"$f":"+INDEX($F511:$DJ511,1,Sheet3!$C$1)","v":119},{"$f":"+IF(Sheet3!$C$1=1,IF(DN511<3,0,1),1)","v":1}]
[1,1,"181",6,4,1,362178.6245050531,7.75,6.62,434,12.02,0,1.68,0,0,0,2.39,3.47,0.21,0,0,0,7.8,3.47,7.8,993.52,993.52,993.52,0,0,0,0,0,0,0,0,0,0,0,0,1946.8399999999997,1384.6999999999998,0,515.4,869.3,562.14,0,0,0,0,0,0,0,562.14,0,0,0,0,0,0,0,0,0,0,0,0,0,0,2940.3599999999997,0,0,0,0,1.68,0,2.39,3.47,0,0,4.4800000000000004,0,0,0,0,0,0,0,0,0,0,0,0,0,0,0,0,0,0,0,0,0,0,0,0,0,0,0,0,0,null,null,null,null,null,null,null,0,{"$f":"+INDEX($F560:$DJ560,1,Sheet3!$C$1)","v":1},{"$f":"+IF(Sheet3!$C$1=1,IF(DN560<3,0,1),1)","v":0}]
[1,1,"184",8,2,15,104489.51304995487,86.75,68.22,4557.59,92.43,6.68,19.52,0,0,0,0.22,60.09,6.92,0.54,3.9,3.9,86.83,33.36,82.52,14882.780000000002,14882.780000000002,14882.780000000002,0,0,0,0,0,0,0,0,0,0,0,2761.7999999999993,13441.630000000003,8704.34,0,7911.04,793.3,4737.29,1770.51,0,0,0,2779.89,0,0,0,0,0,0,0,0,0,0,0,0,0,0,0,0,186.89,28324.41,18.470000000000002,0,0,0,1.05,8.8000000000000007,0.22,1.35,15.959999999999999,25.02,12.6,0,0,0,16,1,9,0,0,0,1,10.59,0,0,0,0,7,16.91,0,0,0,0,0,0,0,0,0,0,0,0,null,null,null,null,null,null,null,15,{"$f":"+INDEX($F587:$DJ587,1,Sheet3!$C$1)","v":15},{"$f":"+IF(Sheet3!$C$1=1,IF(DN587<3,0,1),1)","v":1}]
[1,1,"186",6,3,1,33385.982512558956,3.31,2.89,189.46,4.41,0.11,0.11,0,0,0,0,2.84,0.36,0.36,0.3,0.3,3.31,0,3.31,993.49,993.49,993.49,0,0,0,0,0,0,0,0,0,0,0,157.19999999999999,419.45,419.45,0,419.45,0,0,0,0,0,0,0,0,0,0,0,0,0,0,0,0,0,0,0,0,0,0,0,0,1412.94,0,0,0,0,0.11,0.22,0,0.54,0.7,1.34,1.46,0,0,0,2,0,0,0,0,0,0,0,0,0,0,0,0,0,0,0,0,0,0,0,0,0,0,0,0,0,null,null,null,null,null,null,null,0,{"$f":"+INDEX($F627:$DJ627,1,Sheet3!$C$1)","v":1},{"$f":"+IF(Sheet3!$C$1=1,IF(DN627<3,0,1),1)","v":0}]
[1,1,"187",4,2,11,109910.91650046069,25.959999999999997,22.57,1743.65,28.519999999999996,4.33,7.66,0,0,0,2.34,10.780000000000001,5.18,0.72,4.8,4.8,25.33,6.51,18.68,10928.49,10928.49,10928.49,0,0,0,0,0,0,0,0,0,0,0,877.04,3562.2200000000003,2428.4,0,2428.4,0,1133.82,0,0,0,0,1054.6199999999999,0,0,0,0,0,0,0,0,0,0,0,0,0,0,0,0,79.2,14490.710000000003,0.95,0,0,0,6.7099999999999991,1.44,2.34,1.08,0,7.42,7.74,0,0,0,23,6,2,1,0,0,0,0,0,0,0,0,5,6.51,0,0,0,0,0,0,0,0,0,0,0,0,null,null,null,null,null,null,null,11,{"$f":"+INDEX($F644:$DJ644,1,Sheet3!$C$1)","v":11},{"$f":"+IF(Sheet3!$C$1=1,IF(DN644<3,0,1),1)","v":1}]
[1,2,"111",5,3,24,983607.9296462487,493.50999999999988,416.08,36717.9,518.33999999999992,183.53,4.33,0,0,2.38,0.63,448.66,37.51,12.09,24.099999999999998,27.099999999999998,493.2399999999999,337.38000000000005,488.39999999999992,90301.34,61191.44000000001,0,33548.160000000003,33548.160000000003,0,27643.279999999999,27369.340000000011,1740.56,506.64,1233.92,0,0,0,29148.179999999997,142793.35999999999,62296.090000000004,0,0,62296.090000000004,80497.270000000019,0,11469.9,0,0,0,7330.56,0,13142.82,0,48153.99,0,0,0,0,0,0,0,0,400,0,0,0,233094.69999999995,1.45,2.06,0,0,0.82000000000000006,22.27,0.63,15.639999999999999,376.51000000000005,1.36,62.34,0,3,6,60,11,40,7,18,244.18,0,0,2,28.5,0,0,0,0,0,0,6,74.53,0,0,0,0,0,0,0,0,null,null,null,null,null,null,null,24,{"$f":"+INDEX($F673:$DJ673,1,Sheet3!$C$1)","v":24},{"$f":"+IF(Sheet3!$C$1=1,IF(DN673<3,0,1),1)","v":1}]
[1,2,"112","1_1",2,74,480050.79341576871,312.75,280.74000000000007,62044.390000000014,316.03000000000003,286.12,237.57,0,0,13.77,3.66,51.740000000000023,6.01,0,11.45,11.75,312.54999999999995,15.959999999999999,106.37999999999998,140430.41,106621.97999999997,0,58540.600000000006,58366.55,174.05,48081.37999999999,33175.109999999986,633.32000000000005,633.32000000000005,0,0,0,0,27484.59,27166.369999999988,24285.249999999993,0,0,24285.249999999993,2881.12,0,0,0,0,0,0,0,837.12,0,1644,0,0,0,0,0,0,0,0,400,0,0,0,167596.78,12.049999999999999,202.43999999999994,0,0.38,4,46.32,3.66,3.2199999999999998,11.88,1.46,9.2899999999999974,0,8,6,2,1,0,0,1,8.94,0,0,0,0,0,0,0,0,0,0,0,0,0,0,0,0,0,0,0,0,null,null,null,null,null,null,null,74,{"$f":"+INDEX($F711:$DJ711,1,Sheet3!$C$1)","v":74},{"$f":"+IF(Sheet3!$C$1=1,IF(DN711<3,0,1),1)","v":1}]
[1,2,"112",12,3,14,568240.22345661907,138.77000000000001,121.29999999999998,33016.89,140.28,119.13,19.86,0,0,30.68,0,77.69,10.54,10.54,239.79999999999998,240.39999999999998,138.44000000000003,18.45,42.89,77831.689999999988,55482.33,0,31234.559999999998,31234.559999999998,0,24247.769999999997,12454.91,9894.4499999999989,4686.51,2650.67,2557.27,0,0,25736.76,13070.25,6976.3,0,0,6976.3,6093.95,0,0,0,0,0,0,0,0,0,4053.95,0,0,0,0,0,0,0,0,2040,0,0,0,90901.939999999973,0,10.760000000000002,0,0.13,8.870000000000001,68.17,0,7.7699999999999987,28.43,0.35,12.049999999999999,21,75,207,138,14,0,0,3,18.45,0,0,0,0,0,0,0,0,0,0,0,0,0,0,0,0,0,0,0,0,null,null,null,null,null,null,null,14,{"$f":"+INDEX($F754:$DJ754,1,Sheet3!$C$1)","v":14},{"$f":"+IF(Sheet3!$C$1=1,IF(DN754<3,0,1),1)","v":1}]
[1,2,"119",7,1,1,658.47584064,0.82,0.82,53.75,0.99,0.56999999999999995,0,0,0,0,0,0.56999999999999995,0.25,0,0,0,0.82,0.56999999999999995,0,190.9,93.14,0,51.06,51.06,0,42.08,97.76,0,0,0,0,0,0,0,92.34,0,0,0,0,92.34,0,0,0,0,0,0,0,92.34,0,0,0,0,0,0,0,0,0,0,0,0,0,0,283.24,0,0,0,0,0,0,0,0,0,0.56999999999999995,0.42,0,0,0,0,0,0,0,0,0,0,0,0,0,0,0,0,0,0,0,0,0,0,0,0,0,0,0,0,0,null,null,null,null,null,null,null,0,{"$f":"+INDEX($F778:$DJ778,1,Sheet3!$C$1)","v":1},{"$f":"+IF(Sheet3!$C$1=1,IF(DN778<3,0,1),1)","v":0}]
[1,2,"11A",8,2,185,1668817.7173825558,665.57999999999993,642.43000000000006,141054.63000000003,694.87000000000012,502.43,294.55,0,0,20.67,6.85,304.41000000000008,39.1,10.06,82.149999999999991,82.45,662.7299999999999,160.77999999999997,287.44999999999993,311056.93000000011,235769.24999999997,0,129177.82000000004,129005.35000000002,172.47,106591.43000000005,73432.850000000006,1854.8300000000004,506.64,1348.19,0,0,0,53984.44999999999,81050.42,58863.69999999999,0,0,58863.69999999999,22186.720000000008,0,1095.04,0,0,0,452.55,0,18507.38,0,1991.75,0,0,0,0,0,0,0,0,140,0,0,0,392107.35000000003,35.019999999999996,185.43999999999994,0,1.81,70.88000000000001,168.13999999999993,6.8500000000000005,34.119999999999983,111.09000000000003,3.4399999999999995,68.389999999999986,0,9,80,129,20,10,2,2,6.63,0,0,1,1.53,0,0,0,0,0,0,2,4.3099999999999996,0,0,0,0,0,0,0,0,null,null,null,null,null,null,null,185,{"$f":"+INDEX($F827:$DJ827,1,Sheet3!$C$1)","v":185},{"$f":"+IF(Sheet3!$C$1=1,IF(DN827<3,0,1),1)","v":1}]
[1,2,"11A","10_15",2,246,2791472.6457814369,776.6099999999999,745.32000000000016,227933.07000000004,838.11999999999989,716.79,101.56,0,0,8.65,7.06,618.9599999999997,40.380000000000003,40.379999999999995,2057.3500000000008,2060.9640000000009,776.14999999999986,218.26999999999995,243.89,537187.94999999984,384926.39000000007,0,211100.68999999983,210973.18999999983,127.5,173825.69999999998,85684.220000000016,66577.34,64977.789999999994,1599.5500000000002,0,0,0,136477.86000000002,97408.559999999983,50350.500000000007,0,0,50350.500000000007,47058.059999999969,0,0,0,0,0,0,0,19747.8,0,705,0,0,271.7,0,0,0,0,0,26333.56,0,0,0,634596.50999999989,11.639999999999999,69.890000000000015,0,0.73,16.54,601.68999999999971,7.06,5.9399999999999959,19.559999999999999,1.1600000000000004,101.89000000000006,64,633,2321,86,19,15,5,1,2.6,0,0,0,0,0,0,0,0,0,0,0,0,0,0,1,1.43,0,0,0,0,null,null,null,null,null,null,null,246,{"$f":"+INDEX($F840:$DJ840,1,Sheet3!$C$1)","v":246},{"$f":"+IF(Sheet3!$C$1=1,IF(DN840<3,0,1),1)","v":1}]
[1,2,"11B","10_15",2,33,310675.84560059907,215.4,295.92,35787.71,249.23,40.15,34.74,0,0,5.86,1.67,97.130000000000024,76,76.000000000000014,577.60000000000014,582.20000000000016,215.48,168.63000000000002,214.31999999999996,129111.02999999997,59473.010000000009,0,32606.020000000004,32606.020000000004,0,26866.989999999998,25758.69000000001,43879.33,43445.17,434.16,0,0,0,43597.099999999984,94060.080000000016,55498.200000000004,0,0,55498.200000000004,38561.880000000005,3929.7,0,0,0,3193.02,0,0,12500.56,0,0,0,0,5828.75,1837.1,0,4323.55,0,0,6900,0,0,49.2,223171.11000000004,26.91,5.9899999999999993,0,0,1.8400000000000003,49.19,1.67,44.800000000000004,4.13,4.75,109.72999999999999,5,356,392,19,1,0,0,0,0,3,23.94,0,0,0,0,9,24.11,0,0,0,0,9,18.190000000000001,12,8.18,0,0,9,21.56,null,null,null,null,null,null,null,33,{"$f":"+INDEX($F894:$DJ894,1,Sheet3!$C$1)","v":33},{"$f":"+IF(Sheet3!$C$1=1,IF(DN894<3,0,1),1)","v":1}]
[1,2,"11C",3,2,1,14577.117641854809,4.4800000000000004,1.73,164.54,4.5199999999999996,4.4800000000000004,1.1100000000000001,0,0,0,2.67,0.7,0,0,0,0,4.4800000000000004,0,4.4800000000000004,537.07000000000005,330.82000000000005,0,202.05,156.28,45.77,128.77000000000001,206.25,0,0,0,0,0,0,0,1061.2,1061.2,0,0,1061.2,0,0,0,0,0,0,0,0,0,0,0,0,0,0,0,0,0,0,0,0,0,0,0,1598.27,0,0,0,0,1.1100000000000001,0,2.67,0.7,0,0,0.04,0,0,0,0,0,0,0,0,0,0,0,0,0,0,0,0,0,0,0,0,0,0,0,0,0,0,0,0,0,null,null,null,null,null,null,null,0,{"$f":"+INDEX($F921:$DJ921,1,Sheet3!$C$1)","v":1},{"$f":"+IF(Sheet3!$C$1=1,IF(DN921<3,0,1),1)","v":0}]
[1,2,"11C",12,1,227,580136.70309845696,388.34,385.88999999999976,52310.829999999987,437.7799999999998,337.59,120.45,0,0,5,0.45,119.50999999999996,144.37,142.9200000000001,392.30000000000007,393.30000000000007,388.78,200.68,341.24,159345.32000000007,86461.090000000055,0,47509.109999999979,47509.109999999979,0,38951.980000000032,43817.539999999986,29066.690000000024,19240.940000000006,9825.75,0,0,0,41237.940000000017,124559.61000000002,88200.81,0,0,88200.81,36358.799999999981,0,0,0,0,0,0,0,20796.79,0,0,0,0,6385.01,0,0,0,0,0,9177,0,0,0,283904.93000000005,16.64,83.820000000000007,0,2.9899999999999998,16.999999999999996,86.659999999999926,0.45,7.85,21.030000000000005,4.24,191.80999999999997,0,173,144,771,88,74,13,0,0,0,0,0,0,0,0,0,0,0,0,0,0,0,0,34,30.3,0,0,0,0,null,null,null,null,null,null,null,227,{"$f":"+INDEX($F961:$DJ961,1,Sheet3!$C$1)","v":227},{"$f":"+IF(Sheet3!$C$1=1,IF(DN961<3,0,1),1)","v":1}]
[1,2,"11D",4,3,29,1239152.6225744996,351.15999999999991,308.72000000000003,22615.549999999996,520.97,73.8,104.96,0,0,0,12.24,198.50000000000003,35.68,33.17,50.949999999999996,50.949999999999996,351.70999999999987,241.50000000000006,345.03999999999991,71742.679999999993,39288.999999999993,0,21723.95,21317.119999999999,406.83,17565.050000000003,26398.890000000003,6054.79,1393.28,4661.51,0,0,0,28129.819999999992,129498.76,55113.999999999993,0,0,55113.999999999993,74384.759999999995,25117.200000000001,2854.88,0,5177.8599999999997,2950.2,0,0,17675.5,0,16684.919999999998,0,0,0,0,0,0,0,0,3855,0,0,69.2,201241.43999999997,12.6,0,0,12.209999999999997,77.739999999999995,20.8,12.239999999999998,66.900000000000006,57.19,45.960000000000008,202.48999999999998,0,12,7,189,24,19,1,8,50.52,3,36.130000000000003,1,9.93,0,0,4,19.600000000000001,0,0,0,0,0,0,0,0,0,0,0,0,null,null,null,null,null,null,null,29,{"$f":"+INDEX($F978:$DJ978,1,Sheet3!$C$1)","v":29},{"$f":"+IF(Sheet3!$C$1=1,IF(DN978<3,0,1),1)","v":1}]
[1,2,"11D","10_2",3,21,870965.40385516046,1003.3199999999998,664.23000000000013,69939.76999999999,1899.1299999999997,83.18,13.64,0,0,15.42,0,0,1795.57,1209.05,634.00000000000011,635.00000000000011,1790.0500000000002,869.13,1853.16,194146.83000000002,126038.63,0,71360.140000000014,66358.34,5001.7999999999993,54678.490000000005,23271.770000000008,44836.429999999993,44585.069999999992,251.36,0,0,0,30564.530000000002,164201.42999999996,76584.400000000009,0,0,76584.400000000009,87617.030000000013,32486.720000000001,0,0,75,0,0,0,5738.92,0,0,0,0,6363.72,546.4,0,6650,0,0,35756.269999999997,0,0,0,358348.26000000007,11.29,1.83,0,0,0.52,25,0,14.63,2.6599999999999997,0.83,1841.5300000000002,16,415,377,11,1,4,0,0,0,3,168.06,0,0,0,0,0,0,0,0,0,0,4,6.83,10,42.63,0,0,11,704.18,null,null,null,null,null,null,null,21,{"$f":"+INDEX($F1007:$DJ1007,1,Sheet3!$C$1)","v":21},{"$f":"+IF(Sheet3!$C$1=1,IF(DN1007<3,0,1),1)","v":1}]
[1,2,"11E",7,1,999,1072046.9280329125,3958.8400000000029,3752.91,323284.63999999972,4481.1100000000024,53.05,118.43,0,0,0,202.66,3400.8800000000015,236.87,0,3.9,6.9,3947.850000000004,2736.820000000002,3755.83,961825.1399999999,542675.2100000002,0,297704.5499999997,297533.14999999973,171.4,244970.66,417276.19000000053,1873.74,0,1873.74,0,0,0,77200.09,1527055.7500000007,819091.40999999887,0,0,819091.40999999887,707964.3400000002,206914.51,48141.599999999999,0,7322.86,243414.77,15682.24,0,119760.8,0,66509.16,0,0,0,0,0,0,0,0,0,0,0,218.4,2488880.8899999978,35.380000000000003,7.1800000000000015,0,74.05,1.7200000000000004,20.010000000000002,168.22000000000006,80.230000000000047,34.460000000000008,3255.2399999999989,759.13999999999919,0,0,0,22,4,0,0,56,323.01,92,551.88,25,158.34,0,0,666,1525.42,0,0,23,150.26,0,0,0,0,0,0,0,0,null,null,null,null,null,null,null,999,{"$f":"+INDEX($F1045:$DJ1045,1,Sheet3!$C$1)","v":999},{"$f":"+IF(Sheet3!$C$1=1,IF(DN1045<3,0,1),1)","v":1}]
[1,2,"11E","10_15",2,28,256023.9361024714,275.71000000000004,282.2,29617.52,374.74,0.26,57.37,0,0,1.19,10.79,130.94,75.42,75.419999999999973,429.6500000000002,429.6500000000002,274.79000000000002,144.78000000000003,275.32,97473.87,48290.59,0,26901.560000000005,25895.85,1005.71,21389.03,21850.31,27332.969999999994,26830.249999999993,502.72,0,0,0,20776.86,77150.110000000015,46599.549999999996,0,0,46599.549999999996,30550.560000000001,1452.64,1285.1500000000001,0,0,4078.67,0,0,6670.1,0,0,0,0,0,2784.55,0,2450,0,0,11368,0,0,461.45,174623.98000000004,50.5,6.07,0,0,0.8,78.860000000000014,10.79,8.4700000000000006,3.03,39.770000000000003,174.44999999999996,4,259,291,25,2,0,0,0,0,1,4.46,1,2.0099999999999998,0,0,13,25.62,0,0,0,0,9,34.049999999999997,0,0,0,0,5,31.45,null,null,null,null,null,null,null,28,{"$f":"+INDEX($F1062:$DJ1062,1,Sheet3!$C$1)","v":28},{"$f":"+IF(Sheet3!$C$1=1,IF(DN1062<3,0,1),1)","v":1}]
[1,2,"150",4,1,9,23052.27,62.809999999999988,59.150000000000006,4898.8500000000004,81.789999999999992,1.53,6.58,0,0,0,8.4700000000000006,4.8099999999999996,42.95,0,0,1,63.029999999999994,1.45,62.919999999999995,13948.400000000001,8382.42,0,4604.2800000000007,4604.2800000000007,0,3778.14,5565.9800000000005,0,0,0,0,0,0,165.70999999999998,6699.0000000000009,6660.5999999999995,0,0,6660.5999999999995,38.4,0,0,0,0,0,0,0,0,0,0,0,0,0,0,0,0,0,0,0,0,0,38.4,20647.400000000001,5,7.0000000000000007E-2,0,0.2,1.31,3.2800000000000002,8.4700000000000006,0.09,0.25,0.9,61.930000000000007,0,0,0,0,0,0,0,0,0,0,0,0,0,0,0,0,0,0,0,0,0,0,0,0,0,0,0,0,0,null,null,null,null,null,null,null,9,{"$f":"+INDEX($F1093:$DJ1093,1,Sheet3!$C$1)","v":9},{"$f":"+IF(Sheet3!$C$1=1,IF(DN1093<3,0,1),1)","v":1}]
[1,2,"150",12,3,26,1199124.3539214598,1858.6899999999998,1614.8300000000004,127982.21999999997,2589.6399999999994,52.94,203.04,0,0,87.01,309.33999999999997,640.23,619.07000000000005,579.87999999999988,1091.9000000000001,1099,1845.1199999999997,343.79999999999995,1625.84,368733.83,216227.41999999995,0,118858.74999999999,118858.74999999999,0,97368.670000000027,30499.100000000013,122007.31,29638.959999999995,92368.349999999991,0,0,0,90118.28,114964.12000000002,87563.459999999992,0,5976.58,81586.880000000005,27400.660000000003,0,0,0,0,6362.64,0,0,2931.48,0,4171.9399999999996,0,0,0,0,0,0,0,0,9935.4,0,0,3999.2,483697.95000000007,171.73,1.1100000000000001,0,25.630000000000003,4.5699999999999994,435.07,309.34000000000003,189.93000000000004,2.86,16.350000000000001,1350.0200000000002,4,309,245,3093,132,1059,50,1,7.37,0,0,0,0,0,0,4,54,0,0,0,0,0,0,0,0,0,0,0,0,null,null,null,null,null,null,null,26,{"$f":"+INDEX($F1129:$DJ1129,1,Sheet3!$C$1)","v":26},{"$f":"+IF(Sheet3!$C$1=1,IF(DN1129<3,0,1),1)","v":1}]
[1,2,"16B","10_1",4,2,238428.8727732859,278.91000000000003,218.9,17930.29,297.07,0,0,0,0,93.83,0,3.95,181.13,181.13000000000002,396.95000000000005,396.95000000000005,278.67,0,0,70644.81,30768.39,0,16868.75,16868.75,0,13899.640000000001,2384.4,37492.020000000004,37492.020000000004,0,0,0,0,19886.89,0,0,0,0,0,0,null,null,null,null,null,null,null,null,null,null,null,null,null,null,null,null,null,null,null,null,null,null,70644.81,0,0,0,0,0,93.83,0,1.87,0,2.08,199.29000000000002,1,274,241,0,0,0,1,0,0,0,0,0,0,0,0,0,0,0,0,0,0,0,0,0,0,0,0,0,0,null,null,null,null,null,null,null,0,{"$f":"+INDEX($F1174:$DJ1174,1,Sheet3!$C$1)","v":2},{"$f":"+IF(Sheet3!$C$1=1,IF(DN1174<3,0,1),1)","v":0}]
[1,2,"16B",15,1,2,7166.5456819407627,2.63,2.2800000000000002,1836.29,2.63,0,1.03,0,0,0,0,0.93,0.67,0.67,0.6,0.6,2.48,0,0,3453.04,3181.2200000000003,0,1744.1,1744.1,0,1437.12,271.82,0,0,0,0,0,0,0,0,0,0,0,0,0,null,null,null,null,null,null,null,null,null,null,null,null,null,null,null,null,null,null,null,null,null,null,3453.04,0,0,0,0,1.03,0.8,0,0,0.13,0,0.67,0,0,1,0,0,0,0,0,0,0,0,0,0,0,0,0,0,0,0,0,0,0,0,0,0,0,0,0,0,null,null,null,null,null,null,null,0,{"$f":"+INDEX($F1196:$DJ1196,1,Sheet3!$C$1)","v":2},{"$f":"+IF(Sheet3!$C$1=1,IF(DN1196<3,0,1),1)","v":0}]
[1,2,"16D","10_2",1,2,4953.3268096992952,20.279999999999998,20.3,1568.0800000000002,20.279999999999998,0,0,0,0,0,0,1.88,18.399999999999999,18.399999999999999,5.6,5.6,20.279999999999998,0,0,4747.18,2709.75,0,1485.63,1485.63,0,1224.1199999999999,1530.79,506.64,506.64,0,0,0,0,331.14,0,0,0,0,0,0,null,null,null,null,null,null,null,null,null,null,null,null,null,null,null,null,null,null,null,null,null,null,4747.18,0,0,0,0,0,1.41,0,0,0,0,18.399999999999999,0,4,4,0,0,0,0,0,0,0,0,0,0,0,0,0,0,0,0,0,0,0,0,0,0,0,0,0,0,null,null,null,null,null,null,null,0,{"$f":"+INDEX($F1245:$DJ1245,1,Sheet3!$C$1)","v":2},{"$f":"+IF(Sheet3!$C$1=1,IF(DN1245<3,0,1),1)","v":0}]
[1,2,"16D",15,3,1,69463.369470045844,19.920000000000002,17.04,1976.46,19.920000000000002,19.260000000000002,18.52,0,0,0,1.4,0,0,0,0,0,19.920000000000002,0,0,4616.24,3424.04,0,1877.23,1877.23,0,1546.81,1192.2,0,0,0,0,0,0,2331.0700000000002,0,0,0,0,0,0,null,null,null,null,null,null,null,null,null,null,null,null,null,null,null,null,null,null,null,null,null,null,4616.24,0,5.52,0,0,13,0,1.4,0,0,0,0,0,0,0,0,0,0,0,0,0,0,0,0,0,0,0,0,0,0,0,0,0,0,0,0,0,0,0,0,0,null,null,null,null,null,null,null,0,{"$f":"+INDEX($F1260:$DJ1260,1,Sheet3!$C$1)","v":1},{"$f":"+IF(Sheet3!$C$1=1,IF(DN1260<3,0,1),1)","v":0}]
[1,2,"16E","10_2",2,7,76674.771191067557,118.76,110.43,22373.66,119.94999999999999,32.119999999999997,4.76,0,0,10.220000000000001,0,26.08,77.7,77.699999999999989,53.400000000000006,53.400000000000006,118.76,0,41.839999999999996,50134.329999999994,38580.14,0,21151.52,21151.52,0,17428.62,7121.0099999999993,4433.18,4433.18,0,0,0,0,2527.58,2699.6800000000003,2699.6800000000003,0,2699.6800000000003,0,0,0,0,0,0,0,0,0,0,0,0,0,0,0,0,0,0,0,0,0,0,0,0,52834.01,2.8,1.08,0,0.54,0.34,33.730000000000004,0,0.88,0.8,0.87,78.89,0,32,38,0,0,0,0,0,0,0,0,0,0,0,0,0,0,0,0,0,0,0,0,0,0,0,0,0,0,null,null,null,null,null,null,null,7,{"$f":"+INDEX($F1312:$DJ1312,1,Sheet3!$C$1)","v":7},{"$f":"+IF(Sheet3!$C$1=1,IF(DN1312<3,0,1),1)","v":1}]
[1,2,"16F",3,3,1,63001.085697104099,7.35,2.75,246.73,7.35,4.99,7.08,0,0,0,0,0.27,0,0,0,0,7.35,0,0,755.29,427.44,0,234.34,234.34,0,193.1,327.85,0,0,0,0,0,0,17.22,0,0,0,0,0,0,null,null,null,null,null,null,null,null,null,null,null,null,null,null,null,null,null,null,null,null,null,null,755.29,0,0,0,0,7.08,0,0,0.27,0,0,0,0,0,0,0,0,0,0,0,0,0,0,0,0,0,0,0,0,0,0,0,0,0,0,0,0,0,0,0,0,null,null,null,null,null,null,null,0,{"$f":"+INDEX($F1341:$DJ1341,1,Sheet3!$C$1)","v":1},{"$f":"+IF(Sheet3!$C$1=1,IF(DN1341<3,0,1),1)","v":0}]
[1,2,"16F",13,1,43,38971.646091654278,126.51,123.97999999999999,25984.540000000005,129.31000000000003,1.37,0.63,0,0,9.01,0,41.419999999999995,75.45,0,0,0,126.21000000000002,1.44,19.71,57806.950000000004,44437.860000000015,0,24365.349999999995,24365.349999999995,0,20072.509999999998,13369.09,0,0,0,0,0,0,1011.1999999999999,328.44,144.30000000000001,144.30000000000001,0,0,184.14,0,0,0,0,0,0,0,184.14,0,0,0,0,0,0,0,0,0,0,0,0,0,0,58135.390000000007,0.47,0.16,0,0,0,45.36,0,0.19,0.04,4.21,78.250000000000028,0,0,0,0,0,0,0,0,0,0,0,0,0,0,0,0,0,0,0,0,0,0,0,0,0,0,0,0,0,null,null,null,null,null,null,null,43,{"$f":"+INDEX($F1379:$DJ1379,1,Sheet3!$C$1)","v":43},{"$f":"+IF(Sheet3!$C$1=1,IF(DN1379<3,0,1),1)","v":1}]
[1,2,"16G",4,4,1,255795.96898636833,8.2899999999999991,6.87,651.61,8.2899999999999991,8.2899999999999991,8.2100000000000009,0,0,0,0.08,0,0,0,0.3,0.3,8.2899999999999991,8.11,5.34,1908.94,1106.28,0,606.52,606.52,0,499.76,802.66,0,0,0,0,0,0,727.17,5921.75,1200.1099999999999,0,0,1200.1099999999999,4721.6400000000003,0,4721.6400000000003,0,0,0,0,0,0,0,0,0,0,0,0,0,0,0,0,0,0,0,0,7830.6900000000005,0,0,0,0,8.2100000000000009,0,0.08,0,0,0,0,0,0,0,0,0,2,0,0,0,0,0,1,8.11,0,0,0,0,0,0,0,0,0,0,0,0,0,0,0,0,null,null,null,null,null,null,null,0,{"$f":"+INDEX($F1396:$DJ1396,1,Sheet3!$C$1)","v":1},{"$f":"+IF(Sheet3!$C$1=1,IF(DN1396<3,0,1),1)","v":0}]
[1,2,"16G",11,2,288,2820510.0214387337,1826.9800000000009,1420.2699999999991,138412.58999999991,2526.83,313.14,188.43,0,0,134.16999999999999,0.65,371.96999999999997,1534.52,998.88999999999942,2220.8999999999992,2248.9,1925.95,757.25999999999988,2222.4300000000021,674705.28999999992,235924.66999999998,0,129947.94999999995,128624.28999999994,1323.6599999999999,105976.7200000001,141589.16000000003,297191.4600000002,12412.949999999995,284778.51000000007,0,0,0,240242.41999999998,392800.5399999998,315624.89999999997,0,31629.149999999994,283995.75,77175.640000000014,0,0,0,0,100.44,0,0,43065.97,0,0,0,0,6432.55,0,0,9377.07,0,0,14804.48,0,0,3395.13,1067505.8300000003,84.57000000000005,89.339999999999961,0,0.58000000000000007,13.939999999999994,456.65999999999997,0.64999999999999991,12.169999999999998,17.739999999999998,36.189999999999991,1805.7599999999993,6,107,130,10582,525,2301,178,0,0,0,0,0,0,0,0,1,0.62,0,0,0,0,0,0,15,31.59,0,0,17,114,null,null,null,null,null,null,null,288,{"$f":"+INDEX($F1427:$DJ1427,1,Sheet3!$C$1)","v":288},{"$f":"+IF(Sheet3!$C$1=1,IF(DN1427<3,0,1),1)","v":1}]
[1,2,"16H",7,3,4,215418.59067894498,400.39000000000004,358.8,27396.5,436.96000000000004,210.36,0,0,0,0,121.36,248.26,30.77,0,0,0,396.87,212.54000000000002,218.6,51511.42,46742.619999999995,0,25532.17,25532.17,0,21210.449999999997,4768.8,0,0,0,0,0,0,30132.010000000002,62023.57,8085.59,0,8085.59,0,53937.98,23950.81,0,0,0,2331.9,6427.14,0,0,0,21228.13,0,0,0,0,0,0,0,0,0,0,0,0,113534.98999999999,0,0,0,0,0,26.970000000000002,0,0.7,5.6,213.95,67.34,0,0,0,0,0,0,0,2,136.43,1,55.99,0,0,0,0,2,17.03,0,0,2,74.89,0,0,0,0,0,0,0,0,null,null,null,null,null,null,null,4,{"$f":"+INDEX($F1463:$DJ1463,1,Sheet3!$C$1)","v":4},{"$f":"+IF(Sheet3!$C$1=1,IF(DN1463<3,0,1),1)","v":1}]
[1,2,"16I",5,1,8,16383.367550084111,17.52,20.57,1600.2600000000002,17.88,0,0.3,0,0,0,0.5,15.679999999999998,1.04,0,0,0,17.52,6.9399999999999995,7.52,4317.51,2296.62,0,1259.1199999999999,1259.1199999999999,0,1037.5,2020.8899999999999,0,0,0,0,0,0,113.69,2246.4299999999998,1201.71,569.4,0,632.30999999999995,1044.7199999999998,0,0,0,0,658.43,0,0,386.29,0,0,0,0,0,0,0,0,0,0,0,0,0,0,6563.9400000000005,0,0,0,0,0,0.8,0.5,0,6.419999999999999,8.2099999999999991,1.4,0,0,0,0,0,0,0,0,0,0,0,0,0,0,0,4,4.1100000000000003,0,0,0,0,0,0,0,0,0,0,0,0,null,null,null,null,null,null,null,8,{"$f":"+INDEX($F1512:$DJ1512,1,Sheet3!$C$1)","v":8},{"$f":"+IF(Sheet3!$C$1=1,IF(DN1512<3,0,1),1)","v":1}]
[1,2,"16I",5,2,11,139164.8040080572,107.16999999999999,98.43,8829.35,109.60999999999999,12.7,0.2,0,0,0,0.18,92.76,14.03,0.24,1.95,1.95,106.91999999999999,32.21,47.77,24410.54,15242.72,0,8356.8200000000015,8356.8200000000015,0,6885.9,8916.4599999999991,251.36,0,251.36,0,0,0,2868.98,10255.34,4385.26,2370.1999999999998,2015.06,0,5870.08,0,0,0,0,937.98,592.20000000000005,0,1764.78,0,2575.12,0,0,0,0,0,0,0,0,0,0,0,0,34665.879999999997,0,0,0,0,0.02,17.060000000000002,0.18,0.75,49.14,20.990000000000002,16.470000000000002,0,0,0,9,0,3,1,2,10.53,0,0,0,0,0,0,6,6.41,0,0,1,7.06,0,0,0,0,0,0,0,0,null,null,null,null,null,null,null,11,{"$f":"+INDEX($F1513:$DJ1513,1,Sheet3!$C$1)","v":11},{"$f":"+IF(Sheet3!$C$1=1,IF(DN1513<3,0,1),1)","v":1}]
[1,2,"16I",11,3,27,1211197.6434669667,1750.3200000000002,1578.7399999999998,123280.08999999997,1827.8,51.82,59.93,0,0,83.53,12.52,417.90999999999997,1176.43,1163.1600000000001,1476.7500000000002,1558.7500000000002,1750.23,968.86,1599,435472.48,216571.18000000002,0,120802.04,116112.08999999998,4689.95,95769.14,27916.55000000001,190984.75,2153.27,188831.48,0,0,0,100490.91999999998,134640.07,51109.93,1666.7199999999998,37105.61,12337.6,83530.14,0,24915.5,0,0,12902.99,0,0,7401.74,0,19612.43,0,0,0,0,15476.88,0,0,0,1282.2,0,0,1938.4,570112.55000000005,49.550000000000004,0.55000000000000004,0,0,0.13,349.56,12.520000000000001,4.7299999999999995,2.63,148.57,1253.9100000000001,3,21,66,7809,309,1259,68,2,365,0,0,2,198.68,0,0,13,92.72,0,0,0,0,0,0,0,0,5,513.37,0,0,null,null,null,null,null,null,null,27,{"$f":"+INDEX($F1547:$DJ1547,1,Sheet3!$C$1)","v":27},{"$f":"+IF(Sheet3!$C$1=1,IF(DN1547<3,0,1),1)","v":1}]
[1,2,"16J","10_1",1,13,41069.214796324726,80.989999999999995,74.27000000000001,7133.9399999999987,99.38,4.51,18.46,0,0,5.56,0.08,20.619999999999997,36.270000000000003,36.270000000000003,73.999999999999986,74.999999999999986,80.989999999999995,77.86,80.989999999999995,25788.79,12339.64,0,6765.2,6765.2,0,5574.4400000000005,8255.99,5193.16,5193.16,0,0,0,0,4650.8600000000006,37176.019999999997,17476.400000000001,0,0,17476.400000000001,19699.62,12719.24,0,0,0,0,0,0,5415.88,0,0,0,0,758.1,0,0,700,0,0,0,0,0,106.4,62964.81,3.6300000000000003,0.37,0,14.31,0.15,24.549999999999997,0.08,0,0,1.4300000000000002,54.66,0,43,54,0,0,0,0,0,0,4,36.69,0,0,0,0,0,0,0,0,0,0,0,0,5,3.99,0,0,2,6.13,null,null,null,null,null,null,null,13,{"$f":"+INDEX($F1594:$DJ1594,1,Sheet3!$C$1)","v":13},{"$f":"+IF(Sheet3!$C$1=1,IF(DN1594<3,0,1),1)","v":1}]
[1,2,"16J",13,1,209,215769.77553970687,2055.5000000000005,1923.2300000000007,168414.01999999987,2845.090000000002,20.2,72.56,0,0,41.11,662.8,412.74000000000012,866.29,0,0,0,2043.27,280.40999999999991,945.15000000000009,435752.06000000006,281100.61999999994,0,154293.22000000009,153758.37000000008,534.85,126807.39999999997,154651.44000000006,0,0,0,0,0,0,10841.210000000003,93064.96000000005,59179.130000000019,0,2991.6499999999996,56187.480000000025,33885.830000000009,11357.86,799.9,420.3,0,3799.45,0,0,16427.12,0,690,0,0,0,0,0,0,0,0,0,0,0,391.2,528817.0199999999,15.120000000000003,1.66,0,55.75,0.03,389.58,66.570000000000007,4.6000000000000005,12.780000000000001,43.140000000000008,1655.8800000000006,0,0,0,0,0,0,0,1,1.1499999999999999,3,35.65,1,8.2799999999999994,0,0,25,23.36,0,0,0,0,0,0,0,0,0,0,0,0,null,null,null,null,null,null,null,209,{"$f":"+INDEX($F1614:$DJ1614,1,Sheet3!$C$1)","v":209},{"$f":"+IF(Sheet3!$C$1=1,IF(DN1614<3,0,1),1)","v":1}]
[1,2,"170","10_1",3,10,452126.68178378232,423.06000000000006,386.42999999999995,35424.090000000004,435.74999999999994,26.09,2.25,0,0,105.4,0,53.3,262.11,262.10999999999996,657.55,657.55,423.06000000000006,63.400000000000006,151.24,118462.36000000002,61278.98,0,33596.14,33596.14,0,27682.839999999993,11922.000000000002,45261.38,41925.21,3336.17,0,0,0,34253.94,15185.82,5793.2599999999993,0,5793.2599999999993,0,9392.5600000000013,0,8056.56,0,0,0,0,0,0,0,486,0,0,0,0,0,0,0,0,850,0,0,0,133648.18000000002,2.15,0,0,0,0.1,152.4,0,2.35,0,3.3699999999999997,274.8,12,413,365,96,10,50,9,1,12.98,0,0,1,50.42,0,0,0,0,0,0,0,0,0,0,0,0,0,0,0,0,null,null,null,null,null,null,null,10,{"$f":"+INDEX($F1663:$DJ1663,1,Sheet3!$C$1)","v":10},{"$f":"+IF(Sheet3!$C$1=1,IF(DN1663<3,0,1),1)","v":1}]
[1,2,"170",12,3,8,610068.44234858081,584.33000000000004,563.87,90081.43,603.09,186.36,78.959999999999994,0,0,112.72,9.69,158.13000000000002,224.83,112.50999999999999,283.45,283.45,584.33000000000004,103.88,39.489999999999995,190691.11,154895.29,0,84921.2,84921.2,0,69974.09,8576.68,27219.14,17226.080000000002,3998.84,0,430.22,5564,53495.14,23912.720000000001,2196.5300000000002,0,2196.5300000000002,0,21716.19,19396.7,0,0,0,0,0,0,0,0,2196.8200000000002,0,0,0,0,122.67,0,0,0,0,0,0,0,214603.82999999996,27.64,23.43,18.940000000000001,3.1700000000000004,5.78,222.55999999999997,9.6900000000000013,1.8900000000000001,29.52,12.27,243.58999999999997,2,122,233,15,2,165,5,1,6.46,1,97.42,0,0,0,0,0,0,0,0,0,0,0,0,0,0,1,42.96,0,0,null,null,null,null,null,null,null,8,{"$f":"+INDEX($F1680:$DJ1680,1,Sheet3!$C$1)","v":8},{"$f":"+IF(Sheet3!$C$1=1,IF(DN1680<3,0,1),1)","v":1}]
[1,2,"181",7,4,5,812998.07299999997,1002.1999999999999,1000.8999999999999,106407.95999999999,1006.5500000000001,806.52,0,0,0,0,0,838.54,163.66,0,0,0,1002.1999999999999,354.06,972.52,190302.11999999997,184341.12,0,101064.83,101064.83,0,83276.290000000008,5961,0,0,0,0,0,0,110155.03000000001,42091.31,17945.38,0,17945.38,0,24145.93,0,0,0,0,0,13293.14,0,0,0,10852.79,0,0,0,0,0,0,0,0,0,0,0,0,232393.43,0,0,0,0,0,27.16,0,0,0,806.54,168.01,0,0,0,0,0,0,0,1,78.17,0,0,0,0,0,0,0,0,0,0,2,275.89,0,0,0,0,0,0,0,0,null,null,null,null,null,null,null,{"$f":"+DN1730*DO1730","v":5},{"$f":"+INDEX($F1730:$DJ1730,1,Sheet3!$C$1)","v":5},{"$f":"+IF(Sheet3!$C$1=1,IF(DN1730<3,0,1),1)","v":1}]
[1,2,"181",12,5,6,5061094.7221061904,9385.4000000000015,9096.15,628497.13,9582.27,294.89,431.44,0,0,1885.19,39.54,1392.2799999999997,5636.95,5636.95,2269.6499999999996,3059.05,9385.4000000000015,5886,9157.91,1381343.3800000001,1073785.8500000001,0,587239.36,587239.36,0,486546.49,7117.43,300440.09999999998,175356.35,56555,0,0,68528.75,164629.57,315883.73000000004,22417.35,0,22417.35,0,293466.38,46125.65,16078.75,0,0,0,273,0,0,0,144087.26999999999,0,0,0,0,37116.35,0,0,0,14356,0,0,35429.360000000001,1697227.11,130.45000000000002,0,241.2,34.6,25.19,2014.0100000000002,39.54,743.61999999999989,242.72000000000003,24.75,5833.82,0,1425,923,2456,145,19,7,3,3108.08,1,581.84,1,468.87,0,0,0,0,0,0,1,2.6,0,0,0,0,4,1595.21,0,0,null,null,null,null,null,null,null,6,{"$f":"+INDEX($F1761:$DJ1761,1,Sheet3!$C$1)","v":6},{"$f":"+IF(Sheet3!$C$1=1,IF(DN1761<3,0,1),1)","v":1}]
[1,2,"184",6,1,11,25736.7343096935,33.93,33.25,2710.65,33.93,2.4900000000000002,3.73,0,0,0,7.72,13.9,8.58,0,0,0,33.93,5.5299999999999994,22.679999999999996,8626.73,4679.4600000000009,0,2565.52,2565.52,0,2113.94,3947.2700000000004,0,0,0,0,0,0,741.69,3927.17,2255.2600000000002,0,2255.2600000000002,0,1671.9099999999999,1096.8900000000001,0,0,0,575.02,0,0,0,0,0,0,0,0,0,0,0,0,0,0,0,0,0,12553.9,1.4,0,0,2.33,0,0.06,7.7200000000000006,4.3600000000000003,0.33999999999999997,8.9300000000000015,8.58,0,0,0,0,0,0,0,0,0,2,2.09,0,0,0,0,2,3.44,0,0,0,0,0,0,0,0,0,0,0,0,null,null,null,null,null,null,null,11,{"$f":"+INDEX($F1797:$DJ1797,1,Sheet3!$C$1)","v":11},{"$f":"+IF(Sheet3!$C$1=1,IF(DN1797<3,0,1),1)","v":1}]
[1,2,"184","10_1",2,33,544190.33860363055,1056.1649999999997,973.88,96338.760000000009,1143.56,9.6,86.82,0,0,26.04,14.81,331.58,601.70000000000005,601.70000000000005,889.69999999999982,889.69999999999982,1062.9799999999996,515.16,1008.0499999999998,269833.07000000007,161850.20999999996,0,89178.17,88195.48,982.69,72672.039999999994,36399.030000000006,71583.83,65129.729999999989,6454.0999999999995,0,0,0,66632.260000000009,116362.78999999998,55158.48,0,43495.280000000006,11663.199999999999,61204.31,19922.04,0,0,0,8643.1299999999992,3091.18,0,278.39999999999998,0,0,0,0,0,0,179.53,350,7962,1775.23,2320,0,0,16682.8,386195.86,53.779999999999994,0.65,0,32.26,0.13,285.84000000000009,14.809999999999999,1.1499999999999999,0.01,70.36999999999999,684.29999999999973,3,606,454,281,16,11,2,0,0,3,103.37,0,0,0,0,13,54.61,0,0,4,30.06,0,0,0,0,1,9.66,1,9.59,null,null,null,null,null,null,null,33,{"$f":"+INDEX($F1814:$DJ1814,1,Sheet3!$C$1)","v":33},{"$f":"+IF(Sheet3!$C$1=1,IF(DN1814<3,0,1),1)","v":1}]
[1,2,"185",0,3,7,3408.6000000000004,62.11,60.429999999999993,9333.369999999999,67.41,1.22,6.37,0,0,3.04,0,34.15,18.55,7.76,20.2,623.69999999999993,62.03,2.8600000000000003,0,23404.97,15905.45,0,8720.1400000000012,8720.1400000000012,0,7185.3099999999995,5306.48,2193.04,1393.28,799.76,0,0,0,20722.72,463.32000000000005,0,0,0,0,463.32000000000005,0,0,0,0,463.32,0,0,0,0,0,0,0,0,0,0,0,0,0,0,0,0,0,23868.29,5.29,0,0,0,1.08,23.599999999999998,0,0.15000000000000002,2.5300000000000002,10.49,23.85,0,12,4,36,1,3,0,0,0,0,0,0,0,0,0,2,2.86,0,0,0,0,0,0,0,0,0,0,0,0,null,null,null,null,null,null,null,7,{"$f":"+INDEX($F1847:$DJ1847,1,Sheet3!$C$1)","v":7},{"$f":"+IF(Sheet3!$C$1=1,IF(DN1847<3,0,1),1)","v":1}]
[1,2,"185",7,1,62,80226.020587687177,257.7,259.50999999999993,23740.799999999999,276.23000000000008,2.27,0.33,0,0,0,1.44,186.83999999999995,69.09,0.36,0.44999999999999996,0.44999999999999996,257.58999999999997,124.57000000000004,0,68999.06,39766.029999999984,0,21821.610000000004,21821.610000000004,0,17944.419999999998,29233.03,0,0,0,0,0,0,1347.8100000000002,20178.72,0,0,0,0,20178.72,0,0,0,0,20178.72,0,0,0,0,0,0,0,0,0,0,0,0,0,0,0,0,0,89177.779999999984,0,0,0,0.33,0,8.0699999999999985,1.44,0.05,0.47,177.95000000000002,87.620000000000019,0,0,0,3,0,0,0,0,0,0,0,0,0,0,0,49,124.57,0,0,0,0,0,0,0,0,0,0,0,0,null,null,null,null,null,null,null,62,{"$f":"+INDEX($F1881:$DJ1881,1,Sheet3!$C$1)","v":62},{"$f":"+IF(Sheet3!$C$1=1,IF(DN1881<3,0,1),1)","v":1}]
[1,2,"186",0,1,2,841.64166666666665,26.22,26.36,2753.4300000000003,26.22,0,26.22,0,0,0,0,0,0,0,0,0,26.38,26.38,26.38,6558.33,4770.04,0,2615.17,2615.17,0,2154.87,1788.29,0,0,0,0,0,0,1115,17275.060000000001,1943.62,0,1943.62,0,15331.44,14477.04,0,0,0,0,0,0,0,0,0,0,0,0,0,0,0,0,0,0,0,0,854.4,23833.39,0,0,0,26.22,0,0,0,0,0,0,0,0,0,0,0,0,0,0,0,0,2,26.38,0,0,0,0,0,0,0,0,0,0,0,0,0,0,0,0,0,0,null,null,null,null,null,null,null,0,{"$f":"+INDEX($F1930:$DJ1930,1,Sheet3!$C$1)","v":2},{"$f":"+IF(Sheet3!$C$1=1,IF(DN1930<3,0,1),1)","v":0}]
[1,2,"186",8,3,59,3095184.3069429211,7415.4700000000012,6494.9100000000008,517454.36000000016,7712.6799999999994,487.17,279.26,0,0,247.41,288.48,2413.81,4186.51,190.36,330.20000000000005,356.50000000000006,7416.5500000000011,2352.3600000000006,6735.3100000000013,1006992.6500000003,899667.48999999987,0,499689.07000000007,488256.25000000006,11432.82,399978.41999999993,68986.669999999925,38338.489999999991,5319.81,33018.68,0,0,0,153277.55000000005,665268.63000000012,131337.68999999997,0,131337.68999999997,0,533930.94000000006,179766.08,70015.69,0,0,85518.01,36200.410000000003,5084.2,0,0,112457.34,0,0,0,0,1317.89,0,8700,0,0,0,6106.6,28764.720000000001,1672261.2799999998,133.98999999999998,21.240000000000002,0,81.47,33.68,818.09,107.80999999999999,314.22999999999996,136.96,1218.3399999999999,4483.7199999999993,2,47,45,1595,98,12,3,18,727.62,13,640.87,5,345.36,3,53.56,36,820.76,2,116.81,17,412.66,0,0,0,0,1,32.17,0,0,null,null,null,null,null,null,null,59,{"$f":"+INDEX($F1966:$DJ1966,1,Sheet3!$C$1)","v":59},{"$f":"+IF(Sheet3!$C$1=1,IF(DN1966<3,0,1),1)","v":1}]
[1,2,"186",13,3,25,1067129.7580397257,7387.7899999999991,7103.9599999999991,590765.91999999981,7716.8499999999995,49.53,42.25,0,0,153.04,44.03,1502.24,5646.23,0,0,0,7387.57,381.88999999999993,6139.3099999999986,1058105.5,1028300.5,0,566991.2300000001,559849.19000000018,7142.0399999999991,461309.27,29805.000000000011,0,0,0,0,0,0,32984.950000000004,91027.59,50369.9,0,50369.9,0,40657.69,18621.93,3702.08,0,0,3528.36,0,0,0,0,7554.12,0,0,0,0,0,0,0,0,0,0,0,7251.2,1149133.0900000001,14.68,0,0,27.130000000000003,7.0000000000000007E-2,1558.0800000000002,9.7199999999999989,34.47,2.85,55.59,5975.2900000000009,0,0,0,0,0,0,0,2,50.63,2,76.73,1,42.8,0,0,6,21.78,0,0,0,0,0,0,0,0,0,0,0,0,null,null,null,null,null,null,null,25,{"$f":"+INDEX($F1997:$DJ1997,1,Sheet3!$C$1)","v":25},{"$f":"+IF(Sheet3!$C$1=1,IF(DN1997<3,0,1),1)","v":1}]
[1,2,"187","1_2",4,13,3170957.447821348,2552.4299999999994,2603.37,234089.53,2578.2200000000003,529.58000000000004,785.11,0,0,203.02,88.25,439.28,1036.77,406.53,440.6,440.6,2553.5899999999997,1526.55,2340.71,453726.59,396960.33999999997,0,218094.53,217073.21999999997,1021.31,178865.81000000003,13067.760000000002,43698.49,43698.49,0,0,0,0,139717.49,269766.39,29131,0,29131,0,240635.39,70601.77,14913.98,0,0,8301.65,3819.76,0,348,0,86656.18,0,0,0,0,2577.5500000000002,0,0,0,0,0,39671.620000000003,13744.88,723492.9800000001,367.06,254.67999999999998,0,116.72999999999999,46.64,502.47,88.25,55.559999999999995,7.07,76.14,1062.56,0,314,250,0,0,0,0,5,740.11,4,589.55999999999995,5,158.22999999999999,4,324.75,4,69.45,0,0,3,39.119999999999997,0,0,0,0,1,87.17,0,0,null,null,null,null,null,null,null,13,{"$f":"+INDEX($F2014:$DJ2014,1,Sheet3!$C$1)","v":13},{"$f":"+IF(Sheet3!$C$1=1,IF(DN2014<3,0,1),1)","v":1}]
[1,2,"187",6,1,22,46806.231309705487,50.439999999999991,52.239999999999988,4180.54,51.45,10.48,7.19,0,0,0,0.4,32.21,10.64,0,0,0,50.439999999999991,11.43,47.18,13019.150000000001,7021.4400000000005,0,3849.4700000000003,3849.4700000000003,0,3171.97,5997.7099999999991,0,0,0,0,0,0,1718.66,10376.42,4401.2099999999991,0,4401.2099999999991,0,5975.21,5536.46,0,0,0,259.2,179.55,0,0,0,0,0,0,0,0,0,0,0,0,0,0,0,0,23395.57,0,0,0,7.12,0.04,2.9300000000000006,0.4,21.600000000000005,7.0000000000000007E-2,7.4799999999999995,11.649999999999999,0,0,0,0,0,0,0,0,0,1,8.8699999999999992,0,0,0,0,2,1.6,0,0,1,1.71,0,0,0,0,0,0,0,0,null,null,null,null,null,null,null,22,{"$f":"+INDEX($F2032:$DJ2032,1,Sheet3!$C$1)","v":22},{"$f":"+IF(Sheet3!$C$1=1,IF(DN2032<3,0,1),1)","v":1}]
[1,3,"111",5,1,1,3730.9925295564226,1.56,0,0,1.74,0,0,0,0,0,0,1.38,0.18,0.18,1.95,1.95,0,0,1.56,274.2,0,0,0,0,0,0,0,274.2,0,274.2,0,0,0,0,405.6,405.6,0,0,405.6,0,0,0,0,0,0,0,0,0,0,0,0,0,0,0,0,0,0,0,0,0,0,0,679.8,0,0,0,0,0,0.18,0,0,1.2,0,0.36,0,0,0,12,1,0,0,0,0,0,0,0,0,0,0,0,0,0,0,0,0,0,0,0,0,0,0,0,0,null,null,null,null,null,null,null,0,{"$f":"+INDEX($F2081:$DJ2081,1,Sheet3!$C$1)","v":1},{"$f":"+IF(Sheet3!$C$1=1,IF(DN2081<3,0,1),1)","v":0}]
[1,3,"112",4,2,1,8616.5984867306888,0.54,0,0,0.54,0.2,0.41,0,0,0,0,0,0.13,0.13,2,2,0,0,0,253.33,0,0,0,0,0,0,0,253.33,253.33,0,0,0,0,47.09,0,0,0,0,0,0,null,null,null,null,null,null,null,null,null,null,null,null,null,null,null,null,null,null,null,null,null,null,253.33,0,0.21,0,0,0.2,0,0,0,0,0,0.13,0,2,0,0,0,0,0,0,0,0,0,0,0,0,0,0,0,0,0,0,0,0,0,0,0,0,0,0,0,null,null,null,null,null,null,null,0,{"$f":"+INDEX($F2100:$DJ2100,1,Sheet3!$C$1)","v":1},{"$f":"+IF(Sheet3!$C$1=1,IF(DN2100<3,0,1),1)","v":0}]
[1,3,"11B","10_15",2,1,5711.4791969739199,1.48,0,0,1.48,1,0,0,0,0,0,0.68,0.8,0.8,11.2,11.2,1.48,0.68,1.48,1013.3,0,0,0,0,0,0,0,1013.3,1013.3,0,0,0,0,1052.8,494.96000000000004,384.8,0,0,384.8,110.16,0,0,0,0,0,0,0,110.16,0,0,0,0,0,0,0,0,0,0,0,0,0,0,1508.26,0,0,0,0,0,0,0,0,0,0.48,0.8,0,7,7,0,0,0,0,0,0,0,0,0,0,0,0,0,0,0,0,0,0,0,0,0,0,0,0,0,0,null,null,null,null,null,null,null,0,{"$f":"+INDEX($F2148:$DJ2148,1,Sheet3!$C$1)","v":1},{"$f":"+IF(Sheet3!$C$1=1,IF(DN2148<3,0,1),1)","v":0}]
[1,3,"11D",8,3,1,27946.737862995469,3.01,0,0,4.49,0,1.9,0,0,0,0,0.97,0.14000000000000001,0.14000000000000001,15,15,0,0,3.01,2170.8000000000002,0,0,0,0,0,0,0,2170.8000000000002,0,2170.8000000000002,0,0,0,0,781.9,781.9,0,0,781.9,0,0,0,0,0,0,0,0,0,0,0,0,0,0,0,0,0,0,0,0,0,0,0,2952.7000000000003,0,0,0,0,1.9,0,0,0,0.17,0.74,1.62,0,0,0,0,0,95,5,0,0,0,0,0,0,0,0,0,0,0,0,0,0,0,0,0,0,0,0,0,0,null,null,null,null,null,null,null,0,{"$f":"+INDEX($F2181:$DJ2181,1,Sheet3!$C$1)","v":1},{"$f":"+IF(Sheet3!$C$1=1,IF(DN2181<3,0,1),1)","v":0}]
[1,3,"150",6,3,4,186706.44,27.51,0,0,30.71,2.5099999999999998,5.8,0,0,0,0,18.63,3.08,3.08,21.3,22.352,0,0,26.79,2406.38,0,0,0,0,0,0,0,2406.38,0,2406.38,0,0,0,1086.8800000000001,5695.64,5695.64,0,0,5695.64,0,0,0,0,0,0,0,0,0,0,0,0,0,0,0,0,0,0,0,0,0,0,0,8102.02,4.87,0,0,0,0.92999999999999994,14.260000000000002,0,2.76,7.0000000000000007E-2,1.19,6.28,0,0,0,91,15,30,6,0,0,0,0,0,0,0,0,0,0,0,0,0,0,0,0,0,0,0,0,0,0,null,null,null,null,null,null,null,4,{"$f":"+INDEX($F2215:$DJ2215,1,Sheet3!$C$1)","v":4},{"$f":"+IF(Sheet3!$C$1=1,IF(DN2215<3,0,1),1)","v":1}]
[1,3,"16B",0,4,2,25364.04,2.5,0,0,9.0599999999999987,0,0,0,0,0,0,2.5,0,0,4.95,288.95000000000005,0,0,0,868.31,0,0,0,0,0,0,0,868.31,0,868.31,0,0,0,3655.2,336,0,0,0,0,336,0,0,0,0,0,0,0,0,0,0,0,0,0,0,0,0,0,0,336,0,0,0,1204.31,0,0,0,0,0,1.44,0,0.15,0.52,0.39,6.5600000000000005,0,0,0,31,2,0,0,0,0,0,0,0,0,0,0,0,0,0,0,0,0,0,0,0,0,0,0,0,0,null,null,null,null,null,null,null,0,{"$f":"+INDEX($F2232:$DJ2232,1,Sheet3!$C$1)","v":2},{"$f":"+IF(Sheet3!$C$1=1,IF(DN2232<3,0,1),1)","v":0}]
[1,3,"16E",9,3,3,140772.17087184309,0,0,0,0,0,0,0,0,0,0,0,0,0,76.600000000000009,76.600000000000009,0,0,0,6509.41,0,0,0,0,0,0,0,6509.41,0,0,6509.41,0,0,18612.129999999997,0,0,0,0,0,0,null,null,null,null,null,null,null,null,null,null,null,null,null,null,null,null,null,null,null,null,null,null,6509.41,0,0,0,0,0,0,0,0,0,0,0,55,4,31,0,0,0,0,0,0,0,0,0,0,0,0,0,0,0,0,0,0,0,0,0,0,0,0,0,0,null,null,null,null,null,null,null,3,{"$f":"+INDEX($F2267:$DJ2267,1,Sheet3!$C$1)","v":3},{"$f":"+IF(Sheet3!$C$1=1,IF(DN2267<3,0,1),1)","v":1}]
[1,3,"16G",0,2,1,null,1.68,0,0,1.68,0,0,0,0,0,0,0,1.68,1.68,2.7,15.3,0,0,1.68,297.05,0,0,0,0,0,0,0,297.05,0,297.05,0,0,0,522.73,218.4,218.4,0,218.4,0,0,0,0,0,0,0,0,0,0,0,0,0,0,0,0,0,0,0,0,0,0,0,0,515.45000000000005,0,0,0,0,0,0,0,0,0,0,1.68,0,0,0,0,0,14,4,0,0,0,0,0,0,0,0,0,0,0,0,0,0,0,0,0,0,0,0,0,0,null,null,null,null,null,null,null,0,{"$f":"+INDEX($F2299:$DJ2299,1,Sheet3!$C$1)","v":1},{"$f":"+IF(Sheet3!$C$1=1,IF(DN2299<3,0,1),1)","v":0}]
[1,3,"16I",12,1,26,61966.919626771014,35.339999999999996,0,0,36.289999999999992,4.32,3.52,0,0,1.63,0,25.470000000000006,4.72,4.7200000000000015,64.55,64.55,4.5,18.18,22.130000000000003,8434.68,0,0,0,0,0,0,0,8434.68,0,8434.68,0,0,0,2762.85,6126.78,3597.9,744.4,1397.5,1456,2528.88,0,0,0,0,1464.48,0,0,1064.4000000000001,0,0,0,0,0,0,0,0,0,0,0,0,0,0,14561.460000000003,2.6599999999999997,0.19,0,0,0.54,6.5200000000000005,0,1.22,0.86999999999999988,14.99,5.6700000000000008,0,2,0,329,28,49,11,0,0,0,0,0,0,0,0,10,10.15,0,0,0,0,0,0,0,0,0,0,0,0,null,null,null,null,null,null,null,26,{"$f":"+INDEX($F2348:$DJ2348,1,Sheet3!$C$1)","v":26},{"$f":"+IF(Sheet3!$C$1=1,IF(DN2348<3,0,1),1)","v":1}]
[1,3,"170",11,2,70,635020.13469461456,154.05999999999997,0,0,161.79999999999998,13.15,5.4,0,0,4.4000000000000004,0,85.310000000000016,58.95,58.949999999999989,1072.3999999999999,1086.3999999999999,0,0,5.8199999999999994,137594.77000000002,0,0,0,0,0,0,0,137594.77000000002,499.04999999999995,137095.72,0,0,0,41056.530000000006,2203.1999999999998,633.48,0,633.48,0,1569.72,0,0,0,0,0,0,0,0,0,0,0,0,0,0,0,0,0,0,1569.72,0,0,0,139797.97,4.38,0.6,0,0,0.42,86.34,0,1.32,0.61,0.7,66.690000000000012,0,21,29,4632,271,1795,198,0,0,0,0,0,0,0,0,0,0,0,0,0,0,0,0,0,0,0,0,0,0,null,null,null,null,null,null,null,70,{"$f":"+INDEX($F2386:$DJ2386,1,Sheet3!$C$1)","v":70},{"$f":"+IF(Sheet3!$C$1=1,IF(DN2386<3,0,1),1)","v":1}]
[1,3,"181",14,4,1,154837.163917342,24,0,0,24,24,24,0,0,0,0,0,0,0,0.6,0.6,0,0,24,4033.35,0,0,0,0,0,0,0,4033.35,0,0,0,4033.35,0,3129,1433,1433,0,1433,0,0,0,0,0,0,0,0,0,0,0,0,0,0,0,0,0,0,0,0,0,0,0,0,5466.35,0,9,0,0,15,0,0,0,0,0,0,0,0,0,2,2,0,0,0,0,0,0,0,0,0,0,0,0,0,0,0,0,0,0,0,0,0,0,0,0,null,null,null,null,null,null,null,0,{"$f":"+INDEX($F2415:$DJ2415,1,Sheet3!$C$1)","v":1},{"$f":"+IF(Sheet3!$C$1=1,IF(DN2415<3,0,1),1)","v":0}]
[1,3,"184",11,3,25,946644.63732584158,234.81999999999996,0,0,271.84999999999997,0,0,0,0,94.61,0,66.38,73.83,73.83,1755.3500000000001,1773.45,0,32.92,233.45000000000002,237440.75,0,0,0,0,0,0,0,237440.75,4559.82,232880.93,0,0,0,56325.030000000006,16771.18,13270.380000000001,0,9303.18,3967.2,3500.8,0,0,0,0,0,0,0,0,0,0,0,0,0,0,0,0,0,0,2184,0,0,1316.8,254211.92999999996,0,0,0,0,0,152.64000000000001,0,0.83000000000000007,0,6.41,110.85999999999999,3,88,76,9921,381,513,30,0,0,0,0,0,0,0,0,0,0,0,0,0,0,0,0,0,0,0,0,0,0,null,null,null,null,null,null,null,{"$f":"+DN2434*DO2434","v":25},{"$f":"+INDEX($F2434:$DJ2434,1,Sheet3!$C$1)","v":25},{"$f":"+IF(Sheet3!$C$1=1,IF(DN2434<3,0,1),1)","v":1}]
[1,3,"186","10_2",3,1,44814.467452364079,127.26,0,0,135.86000000000001,0,0,0,0,0,0,24.53,102.73,102.73,54.4,54.4,127.26,125.57,127.26,4306.51,0,0,0,0,0,0,0,4306.51,4306.51,0,0,0,0,3829.43,23033.9,3345.68,0,3345.68,0,19688.22,17593.22,0,0,0,0,0,0,0,0,0,0,0,0,0,2095,0,0,0,0,0,0,0,27340.410000000003,0,0,0,0,0,24.53,0,0,0,0,111.33,0,35,34,0,0,0,0,0,0,1,125.57,0,0,0,0,0,0,0,0,0,0,0,0,0,0,1,55,0,0,null,null,null,null,null,null,null,0,{"$f":"+INDEX($F2482:$DJ2482,1,Sheet3!$C$1)","v":1},{"$f":"+IF(Sheet3!$C$1=1,IF(DN2482<3,0,1),1)","v":0}]
[1,3,"187",8,2,8,79038.87089997773,78.27000000000001,0,0,78.27000000000001,16.260000000000002,4.1900000000000004,0,0,2.67,0.03,43.01,28.37,28.370000000000005,35.4,35.4,0,26.09,78.240000000000009,3587.56,0,0,0,0,0,0,0,3587.56,0,3587.56,0,0,0,3665.4400000000005,14773.21,6708.75,0,6708.75,0,8064.4599999999991,4372.6000000000004,0,0,0,3164.76,527.1,0,0,0,0,0,0,0,0,0,0,0,0,0,0,0,0,18360.77,3.54,0,0,0,0.65,6.4700000000000006,0.03,4.97,9.4500000000000011,22.69,28.370000000000005,0,0,0,178,58,0,0,0,0,1,12.77,0,0,0,0,4,19.940000000000001,0,0,1,5.0199999999999996,0,0,0,0,0,0,0,0,null,null,null,null,null,null,null,8,{"$f":"+INDEX($F2499:$DJ2499,1,Sheet3!$C$1)","v":8},{"$f":"+IF(Sheet3!$C$1=1,IF(DN2499<3,0,1),1)","v":1}]
[1,4,"111","1_1",1,29,45834.948361614355,49.44,7.91,860.55,53,42.22,35.65,0,0,0.19,2.21,7.18,4.91,0,0,0,13.090000000000002,21.21,50.44,0,0,0,0,0,0,0,0,0,0,0,0,0,0,1408.3,12288.029999999999,9721.99,0,0,9721.99,2566.0400000000004,0,0,0,0,0,0,0,2125.04,0,441,0,0,0,0,0,0,0,0,0,0,0,0,12288.029999999999,10.89,23.47,0,0.42000000000000004,0.87000000000000011,5.1099999999999994,2.21,0.27,1.35,0.42000000000000004,7.47,0,0,0,0,0,0,0,1,2.52,0,0,0,0,0,0,0,0,0,0,0,0,0,0,0,0,0,0,0,0,null,null,null,null,null,null,null,29,{"$f":"+INDEX($F2520:$DJ2520,1,Sheet3!$C$1)","v":29},{"$f":"+IF(Sheet3!$C$1=1,IF(DN2520<3,0,1),1)","v":1}]
[1,4,"112",5,2,8,83059.657467851968,41.21,0,0,41.459999999999994,19.59,2.63,0,0,0,0.32,37.94,0.32,0,0,0,8.08,13.51,23.55,0,0,0,0,0,0,0,0,0,0,0,0,0,0,1416.5700000000002,9222.6999999999989,5445.8600000000006,0,0,5445.8600000000006,3776.84,0,0,0,0,0,657.3,0,319.14,0,2800.4,0,0,0,0,0,0,0,0,0,0,0,0,9222.6999999999989,0.04,2.15,0,0,0,0.18,0.32,3.39,32.93,0,0.56999999999999995,0,0,0,0,0,0,0,2,10.28,0,0,0,0,0,0,0,0,0,0,1,6.26,0,0,0,0,0,0,0,0,null,null,null,null,null,null,null,8,{"$f":"+INDEX($F2566:$DJ2566,1,Sheet3!$C$1)","v":8},{"$f":"+IF(Sheet3!$C$1=1,IF(DN2566<3,0,1),1)","v":1}]
[1,4,"119",5,3,5,257841.37524245199,113.24000000000001,0,0,113.47,36.11,0.78,0,0,0,0,111.65,0.81,0,0,0,0,58.599999999999994,23.14,0,0,0,0,0,0,0,0,0,0,0,0,0,0,12537.31,13713.55,2855.8,0,0,2855.8,10857.75,0,0,0,0,0,2269.62,0,0,0,8588.1299999999992,0,0,0,0,0,0,0,0,0,0,0,0,13713.55,0,0,0,0,0.25,2.9099999999999997,0,0.99,103.21,0.3,1.04,0,0,0,0,0,0,0,3,45.23,0,0,0,0,0,0,0,0,0,0,2,22.12,0,0,0,0,0,0,0,0,null,null,null,null,null,null,null,5,{"$f":"+INDEX($F2601:$DJ2601,1,Sheet3!$C$1)","v":5},{"$f":"+IF(Sheet3!$C$1=1,IF(DN2601<3,0,1),1)","v":1}]
[1,4,"11A",5,2,13,88827.897830745147,43.47,0,0,43.529999999999994,16.850000000000001,0.42,0,0,0,0,40.169999999999995,2.88,0,0,0,0,14.790000000000001,42.589999999999996,0,0,0,0,0,0,0,0,0,0,0,0,0,0,1499.28,14499.320000000002,10052.900000000001,0,0,10052.900000000001,4446.42,0,0,0,0,69.66,769.65,0,247.86,0,3359.25,0,0,0,0,0,0,0,0,0,0,0,0,14499.320000000002,0,0.12,0,0,0.30000000000000004,0.14000000000000001,0,1.1399999999999999,35.699999999999996,0.43,2.94,0,0,0,0,0,0,0,5,10.4,0,0,0,0,0,0,1,0.43,0,0,3,7.33,0,0,0,0,0,0,0,0,null,null,null,null,null,null,null,13,{"$f":"+INDEX($F2633:$DJ2633,1,Sheet3!$C$1)","v":13},{"$f":"+IF(Sheet3!$C$1=1,IF(DN2633<3,0,1),1)","v":1}]
[1,4,"11A",13,1,11,14928.823975388188,13.61,6.01,896.2,16.820000000000004,5.73,1.17,0,0,0.55000000000000004,0,5.2499999999999991,9.52,0,0,0,12.120000000000001,0.96,8.83,0,0,0,0,0,0,0,0,0,0,0,0,0,0,60.16,426.2,306.8,0,0,306.8,119.4,0,0,0,0,0,0,0,119.4,0,0,0,0,0,0,0,0,0,0,0,0,0,0,426.2,0,1.1500000000000001,0,0,0.02,5.4499999999999993,0,0,0.25,0.1,9.73,0,0,0,0,0,0,0,0,0,0,0,0,0,0,0,0,0,0,0,0,0,0,0,0,0,0,0,0,0,null,null,null,null,null,null,null,11,{"$f":"+INDEX($F2650:$DJ2650,1,Sheet3!$C$1)","v":11},{"$f":"+IF(Sheet3!$C$1=1,IF(DN2650<3,0,1),1)","v":1}]
[1,4,"11B",12,3,1,73007.102572762466,5.77,0,0,5.77,3.14,5.77,0,0,0,0,0,0,0,0,22.1,0,5.77,5.77,0,0,0,0,0,0,0,0,0,0,0,0,0,0,607.91,1832.5,1306.3,0,0,1306.3,526.20000000000005,0,0,0,0,0,0,0,526.20000000000005,0,0,0,0,0,0,0,0,0,0,0,0,0,0,1832.5,0,4.79,0,0,0.98,0,0,0,0,0,0,0,0,0,0,0,0,0,0,0,0,0,0,0,0,0,0,0,0,0,0,0,0,0,0,0,0,0,0,0,null,null,null,null,null,null,null,0,{"$f":"+INDEX($F2687:$DJ2687,1,Sheet3!$C$1)","v":1},{"$f":"+IF(Sheet3!$C$1=1,IF(DN2687<3,0,1),1)","v":0}]
[1,4,"11C","10_2",2,3,37051.290939978346,29.975000000000001,0,0,59.3,1.78,0.52,0,0,0,0,0,56.84,19.989999999999998,8.1999999999999993,9.1999999999999993,0,1.33,58.17,0,0,0,0,0,0,0,0,0,0,0,0,0,0,140.94,6326.9400000000005,6151.8,0,0,6151.8,175.14,0,0,0,0,0,0,0,175.14,0,0,0,0,0,0,0,0,0,0,0,0,0,0,6326.9400000000005,0,0.28000000000000003,0,0,0.24,0.44,0,0,0,0.37,57.97,0,2,12,0,0,0,0,0,0,0,0,0,0,0,0,0,0,0,0,0,0,0,0,0,0,0,0,0,0,null,null,null,null,null,null,null,3,{"$f":"+INDEX($F2717:$DJ2717,1,Sheet3!$C$1)","v":3},{"$f":"+IF(Sheet3!$C$1=1,IF(DN2717<3,0,1),1)","v":1}]
[1,4,"11E","1_2",1,138,148708.9462554277,613.93000000000006,6.93,605,764.03000000000009,0.34,291.52,0,0,2.48,160.78,64.919999999999987,94.23,0,0,0,46.900000000000006,177.54999999999993,581.26999999999987,0,0,0,0,0,0,0,0,0,0,0,0,0,0,4371.42,137447.70000000004,117485.57999999996,0,0,117485.57999999996,19962.119999999995,392.08,0,0,1062,2007.18,0,0,16168.86,0,0,0,0,0,0,0,0,0,0,0,0,0,332,137447.70000000004,216.0800000000001,59.359999999999992,0,7.4399999999999995,2.08,13.830000000000002,160.78,13.1,5.62,34.020000000000003,244.32999999999998,0,0,0,0,0,0,0,0,0,1,4.17,0,0,0,0,16,10.51,0,0,0,0,0,0,0,0,0,0,0,0,null,null,null,null,null,null,null,138,{"$f":"+INDEX($F2766:$DJ2766,1,Sheet3!$C$1)","v":138},{"$f":"+IF(Sheet3!$C$1=1,IF(DN2766<3,0,1),1)","v":1}]
[1,4,"150",0,3,2,36354.58531007752,3.43,0,0,3.43,0.43,0.43,0,0,0,0,2.04,0.96,0,0,104.6,0,0,3.43,0,0,0,0,0,0,0,0,0,0,0,0,0,0,0,2166.1,2166.1,0,0,2166.1,0,0,0,0,0,0,0,0,0,0,0,0,0,0,0,0,0,0,0,0,0,0,0,2166.1,0,0,0,0,0.43,2.04,0,0,0,0,0.96,0,0,0,0,0,0,0,0,0,0,0,0,0,0,0,0,0,0,0,0,0,0,0,0,0,0,0,0,0,null,null,null,null,null,null,null,0,{"$f":"+INDEX($F2806:$DJ2806,1,Sheet3!$C$1)","v":2},{"$f":"+IF(Sheet3!$C$1=1,IF(DN2806<3,0,1),1)","v":0}]
[1,4,"150",11,2,3,22985.360000000001,36.61,0,0,60.839999999999996,0.2,3.25,0,0,0,0,15.09,18.27,0.83,17.25,29.25,0,0,36.67,0,0,0,0,0,0,0,0,0,0,0,0,0,0,123.35,3345.3,3345.3,0,0,3345.3,0,0,0,0,0,0,0,0,0,0,0,0,0,0,0,0,0,0,0,0,0,0,0,3345.3,3.11,0,0,0,0.14000000000000001,14.31,0,0,0.06,0,42.499999999999993,0,0,0,90,13,8,4,0,0,0,0,0,0,0,0,0,0,0,0,0,0,0,0,0,0,0,0,0,0,null,null,null,null,null,null,null,3,{"$f":"+INDEX($F2833:$DJ2833,1,Sheet3!$C$1)","v":3},{"$f":"+IF(Sheet3!$C$1=1,IF(DN2833<3,0,1),1)","v":1}]
[1,4,"16B",6,5,2,1255727.3947018697,122.62,0,0,125.37,69.91,5.08,0,0,0,2.5299999999999998,114.97999999999999,0.03,0,1.2,1.2,0,110.66999999999999,0,0,0,0,0,0,0,0,0,0,0,0,0,0,0,12684.189999999999,27785.190000000002,0,0,0,0,27785.190000000002,0,13202.11,0,0,0,0,0,0,0,14583.08,0,0,0,0,0,0,0,0,0,0,0,0,27785.190000000002,5.08,0,0,0,0,11.72,2.5299999999999998,81.31,19.579999999999998,0,2.78,0,0,0,6,2,0,0,1,63.8,0,0,1,46.87,0,0,0,0,0,0,0,0,0,0,0,0,0,0,0,0,null,null,null,null,null,null,null,0,{"$f":"+INDEX($F2854:$DJ2854,1,Sheet3!$C$1)","v":2},{"$f":"+IF(Sheet3!$C$1=1,IF(DN2854<3,0,1),1)","v":0}]
[1,4,"16E","1_2",2,3,16061.555201396723,7.98,4.0999999999999996,545.01,8.86,0.6,3.44,0,0,0,0,1.75,2.79,0,0,0,4.33,1.23,7.98,0,0,0,0,0,0,0,0,0,0,0,0,0,0,0,439.18,367.9,0,209.3,158.6,71.28,0,0,0,0,71.28,0,0,0,0,0,0,0,0,0,0,0,0,0,0,0,0,0,439.18,1.22,0,0,0,0.06,0,0,0.18,0.02,1.47,3.67,0,0,0,0,0,0,0,0,0,0,0,0,0,0,0,1,0.44,0,0,0,0,0,0,0,0,0,0,0,0,null,null,null,null,null,null,null,3,{"$f":"+INDEX($F2900:$DJ2900,1,Sheet3!$C$1)","v":3},{"$f":"+IF(Sheet3!$C$1=1,IF(DN2900<3,0,1),1)","v":1}]
[1,4,"16E",8,2,32,236631.73370880354,119.27999999999999,3.42,282.35000000000002,122.13999999999999,32.79,30.16,0,0,0.5,1.45,81.580000000000013,5.59,0.79,8.8500000000000014,13.750000000000002,15.29,57.26,87.570000000000007,0,0,0,0,0,0,0,0,0,0,0,0,0,0,4338.6500000000005,25271.74,14289.28,2360.3999999999996,3072.18,8856.7000000000007,10982.46,0,0,0,0,139.32,0,0,5715.78,0,5127.3599999999997,0,0,0,0,0,0,0,0,0,0,0,0,25271.74,10.19,6.18,0,3.9099999999999993,8.0400000000000009,6.24,1.4500000000000002,16.259999999999998,24.43,29.49,8.4499999999999993,0,0,2,38,9,4,0,6,12.3,0,0,0,0,0,0,2,0.86,0,0,0,0,0,0,0,0,0,0,0,0,null,null,null,null,null,null,null,32,{"$f":"+INDEX($F2917:$DJ2917,1,Sheet3!$C$1)","v":32},{"$f":"+IF(Sheet3!$C$1=1,IF(DN2917<3,0,1),1)","v":1}]
[1,4,"16F",6,2,21,206380.11046965377,61.029999999999994,0,0,61.599999999999994,18.940000000000001,1.1599999999999999,0,0,0,0,57.75,2.12,0,2.4,2.4,3.9,19.97,54.059999999999995,0,0,0,0,0,0,0,0,0,0,0,0,0,0,3843.29,13347.77,8078.3600000000015,4508.46,0,3569.9,5269.41,0,0,0,0,0,0,0,2543.64,0,2725.77,0,0,0,0,0,0,0,0,0,0,0,0,13347.77,0.28999999999999998,0,0,0.77,0.1,3.8000000000000003,0,40.600000000000009,2.25,9.69,2.6899999999999995,0,0,0,3,1,10,2,2,4.03,0,0,0,0,0,0,0,0,0,0,0,0,0,0,0,0,0,0,0,0,null,null,null,null,null,null,null,21,{"$f":"+INDEX($F2940:$DJ2940,1,Sheet3!$C$1)","v":21},{"$f":"+IF(Sheet3!$C$1=1,IF(DN2940<3,0,1),1)","v":1}]
[1,4,"16G",8,2,174,1140399.2630883993,468.88999999999987,14.15,942.70999999999992,501.19999999999982,132.44,141.04,0,0,2.61,17.149999999999999,293.01000000000005,15.08,2.79,18.049999999999997,21.849999999999998,51.64,173.38000000000002,461.54999999999995,0,0,0,0,0,0,0,0,0,0,0,0,0,0,29859.620000000006,125215.38999999996,97919.069999999978,0,9545.94,88373.129999999961,27296.320000000003,0,3742.8,0,0,215.46,0,0,22410.7,0,927.36,0,0,0,0,0,0,0,0,0,0,0,0,125215.38999999996,11.54,62.389999999999986,0,5.27,61.04999999999999,20.36,15.9,68.550000000000026,102.35999999999999,59.599999999999987,47.389999999999979,0,3,7,47,6,16,2,1,4.08,0,0,1,5.7,0,0,2,1.33,0,0,0,0,0,0,0,0,0,0,0,0,null,null,null,null,null,null,null,174,{"$f":"+INDEX($F2984:$DJ2984,1,Sheet3!$C$1)","v":174},{"$f":"+IF(Sheet3!$C$1=1,IF(DN2984<3,0,1),1)","v":1}]
[1,4,"16H",9,1,1,3475.4761209618446,3.55,0,0,4.03,0,0,0,0,0,0,2.62,0.93,0.93,4.2,4.2,0,0,3.55,0,0,0,0,0,0,0,0,0,0,0,0,0,0,0,442.25,442.25,0,442.25,0,0,0,0,0,0,0,0,0,0,0,0,0,0,0,0,0,0,0,0,0,0,0,0,442.25,0,0,0,0,0,1.93,0,0.04,0,0.65,1.41,2,0,4,0,0,0,0,0,0,0,0,0,0,0,0,0,0,0,0,0,0,0,0,0,0,0,0,0,0,null,null,null,null,null,null,null,0,{"$f":"+INDEX($F3021:$DJ3021,1,Sheet3!$C$1)","v":1},{"$f":"+IF(Sheet3!$C$1=1,IF(DN3021<3,0,1),1)","v":0}]
[1,4,"16I",8,2,46,330619.44226540945,248.97000000000006,3.06,290.36,274.38,15.36,14.26,0,0,1.5,2.38,171.37999999999997,59.45,5.18,11.1,11.1,7.57,89.289999999999992,163.05000000000001,0,0,0,0,0,0,0,0,0,0,0,0,0,0,3101.47,39416.36,20889.340000000004,3924.3500000000008,5653.55,11311.439999999999,18527.02,215,7489.36,0,0,6166.84,277.2,0,4266.62,0,0,0,0,0,0,0,0,0,0,0,0,0,112,39416.36,5.7899999999999991,1.56,0,0.54,4.47,23.779999999999994,2.38,21.35,16.420000000000002,79.209999999999994,84.860000000000014,0,2,5,30,3,4,1,0,0,1,5.39,5,14.17,0,0,22,39.159999999999997,0,0,1,2.64,0,0,0,0,0,0,0,0,null,null,null,null,null,null,null,46,{"$f":"+INDEX($F3051:$DJ3051,1,Sheet3!$C$1)","v":46},{"$f":"+IF(Sheet3!$C$1=1,IF(DN3051<3,0,1),1)","v":1}]
[1,4,"16J","1_1",3,1,74434.975838252678,3.37,0,0,4.0199999999999996,1.64,1.64,0,0,0,1.19,0.54,0,0,0,0,0,1.1100000000000001,3.37,0,0,0,0,0,0,0,0,0,0,0,0,0,0,0,1470.81,824.79,0,0,824.79,646.02,0,646.02,0,0,0,0,0,0,0,0,0,0,0,0,0,0,0,0,0,0,0,0,1470.81,0,0,0,0,1.64,0,1.19,0,0.08,0.15,0.65,0,0,0,0,0,0,0,0,0,0,0,1,1.1100000000000001,0,0,0,0,0,0,0,0,0,0,0,0,0,0,0,0,null,null,null,null,null,null,null,0,{"$f":"+INDEX($F3068:$DJ3068,1,Sheet3!$C$1)","v":1},{"$f":"+IF(Sheet3!$C$1=1,IF(DN3068<3,0,1),1)","v":0}]
[1,4,"16J",13,3,1,66010.295149203637,120.11,0,0,240.24,0,0,0,0,0,0,0,240.22,0,0,0,0,0,0,0,0,0,0,0,0,0,0,0,0,0,0,0,0,0,0,0,0,0,0,0,null,null,null,null,null,null,null,null,null,null,null,null,null,null,null,null,null,null,null,null,null,null,0,0,0,0,0,0,0,0,0,0,0,240.24,0,0,0,0,0,0,0,0,0,0,0,0,0,0,0,0,0,0,0,0,0,0,0,0,0,0,0,0,0,null,null,null,null,null,null,null,0,{"$f":"+INDEX($F3107:$DJ3107,1,Sheet3!$C$1)","v":1},{"$f":"+IF(Sheet3!$C$1=1,IF(DN3107<3,0,1),1)","v":0}]
[1,4,"170",12,1,2,4785.2080704702857,5.3800000000000008,4,320.44,6.82,0.5,0,0,0,0.7,0,3.34,1.34,1.34,1.05,1.05,4.2300000000000004,0,0,0,0,0,0,0,0,0,0,0,0,0,0,0,0,55.91,0,0,0,0,0,0,null,null,null,null,null,null,null,null,null,null,null,null,null,null,null,null,null,null,null,null,null,null,0,0,0,0,0,0,3.0199999999999996,0,0.23,0.32,0,2.7800000000000002,0,0,0,3,1,2,1,0,0,0,0,0,0,0,0,0,0,0,0,0,0,0,0,0,0,0,0,0,0,null,null,null,null,null,null,null,0,{"$f":"+INDEX($F3135:$DJ3135,1,Sheet3!$C$1)","v":2},{"$f":"+IF(Sheet3!$C$1=1,IF(DN3135<3,0,1),1)","v":0}]
[1,4,"184",4,3,2,110245.94633333341,3.5700000000000003,0,0,3.5700000000000003,2.12,2.12,0,0,0,1.45,0,0,0,0,0,2.31,0,3.5700000000000003,0,0,0,0,0,0,0,0,0,0,0,0,0,0,418.3,464.1,464.1,0,464.1,0,0,0,0,0,0,0,0,0,0,0,0,0,0,0,0,0,0,0,0,0,0,0,0,464.1,0,0,0,0,2.12,0,1.45,0,0,0,0,0,0,0,0,0,0,0,0,0,0,0,0,0,0,0,0,0,0,0,0,0,0,0,0,0,0,0,0,0,null,null,null,null,null,null,null,0,{"$f":"+INDEX($F3184:$DJ3184,1,Sheet3!$C$1)","v":2},{"$f":"+IF(Sheet3!$C$1=1,IF(DN3184<3,0,1),1)","v":0}]
[1,4,"185",5,2,7,110553.50180382299,56.95,0,0,63.809999999999995,0,0,0,0,0,3.13,47.359999999999992,6.46,0,0,0,0,37.97,0,0,0,0,0,0,0,0,0,0,0,0,0,0,0,6820.4700000000012,8962.9,0,0,0,0,8962.9,0,0,0,0,0,0,0,0,0,8962.9,0,0,0,0,0,0,0,0,0,0,0,0,8962.9,0,0,0,0,0,4.2,3.13,0.09,40.83,1.02,13.32,0,0,0,0,0,0,0,6,37.97,0,0,0,0,0,0,0,0,0,0,0,0,0,0,0,0,0,0,0,0,null,null,null,null,null,null,null,7,{"$f":"+INDEX($F3226:$DJ3226,1,Sheet3!$C$1)","v":7},{"$f":"+IF(Sheet3!$C$1=1,IF(DN3226<3,0,1),1)","v":1}]
[1,4,"186",0,2,1,3408.6000000000004,7.87,0,0,7.87,0,0,0,0,0,0,3.31,4.5599999999999996,0,0.3,11.9,0,0.54,7.87,0,0,0,0,0,0,0,0,0,0,0,0,0,0,0,940.13,852.65,0,852.65,0,87.48,0,0,0,0,87.48,0,0,0,0,0,0,0,0,0,0,0,0,0,0,0,0,0,940.13,0,0,0,0,0,2.77,0,0,0,0.54,4.5599999999999996,0,0,0,2,0,0,0,0,0,0,0,0,0,0,0,1,0.54,0,0,0,0,0,0,0,0,0,0,0,0,null,null,null,null,null,null,null,0,{"$f":"+INDEX($F3251:$DJ3251,1,Sheet3!$C$1)","v":1},{"$f":"+IF(Sheet3!$C$1=1,IF(DN3251<3,0,1),1)","v":0}]
[1,4,"186","10_1",2,1,10553.82568902966,17.5,0,0,17.79,0,0,0,0,0,0,16,1.5,1.5,4,4,0,0,17.5,0,0,0,0,0,0,0,0,0,0,0,0,0,0,0,195,195,0,195,0,0,0,0,0,0,0,0,0,0,0,0,0,0,0,0,0,0,0,0,0,0,0,0,195,0,0,0,0,0,16,0,0,0,0,1.79,0,0,10,0,0,0,0,0,0,0,0,0,0,0,0,0,0,0,0,0,0,0,0,0,0,0,0,0,0,null,null,null,null,null,null,null,0,{"$f":"+INDEX($F3274:$DJ3274,1,Sheet3!$C$1)","v":1},{"$f":"+IF(Sheet3!$C$1=1,IF(DN3274<3,0,1),1)","v":0}]
[1,4,"187","10_15",2,1,12134.851634156117,19.829999999999998,20.22,1823.23,23.1,0,0,0,0,0,0,15.47,4.3600000000000003,4.3600000000000003,17.45,17.45,20.260000000000002,20.260000000000002,20.260000000000002,0,0,0,0,0,0,0,0,0,0,0,0,0,0,0,0,0,0,0,0,0,null,null,null,null,null,null,null,null,null,null,null,null,null,null,null,null,null,null,null,null,null,null,0,0,0,0,0,0,14.39,0,0,0,1.08,7.63,0,11,9,10,1,0,0,0,0,0,0,0,0,0,0,0,0,0,0,0,0,0,0,0,0,0,0,0,0,null,null,null,null,null,null,null,0,{"$f":"+INDEX($F3318:$DJ3318,1,Sheet3!$C$1)","v":1},{"$f":"+IF(Sheet3!$C$1=1,IF(DN3318<3,0,1),1)","v":0}]
[2,1,"111",5,1,267,988599.27418320568,506.07999999999981,433.04,32732.249999999985,518.81999999999982,261.5,19.829999999999998,0,0,0.38,10.68,425.9899999999999,49.2,10.139999999999999,40.9,40.9,506.16999999999979,234.74,480.36999999999989,264461.75999999989,264461.75999999989,264461.75999999989,0,0,0,0,0,0,0,0,0,0,0,32316.170000000016,157583.95000000001,109918.33999999997,0,0,109918.33999999997,47665.610000000008,0,1302.6500000000001,0,0,0,1306.2,0,32129.38,0,12927.38,0,0,0,0,0,0,0,0,0,0,0,0,422045.71000000008,0.88,13.340000000000003,0,0.42000000000000004,5.1899999999999968,33.619999999999983,10.679999999999998,5.8099999999999987,367.44000000000028,2.4800000000000004,60.949999999999974,0,1,0,216,44,5,1,19,38.369999999999997,0,0,1,2.35,0,0,0,0,0,0,6,12.44,0,0,0,0,0,0,0,0,null,null,null,null,null,null,null,267,{"$f":"+INDEX($F3335:$DJ3335,1,Sheet3!$C$1)","v":267},{"$f":"+IF(Sheet3!$C$1=1,IF(DN3335<3,0,1),1)","v":1}]
[2,1,"112",6,2,1,41307.500844932561,5.12,1.4,125.6,5.12,5.03,0,0,0,0,0,5.12,0,0,0,0,5.12,5.09,5.12,993.5,993.5,993.5,0,0,0,0,0,0,0,0,0,0,0,170,2981.96,1182.8,0,0,1182.8,1799.16,1799.16,0,0,0,0,0,0,0,0,0,0,0,0,0,0,0,0,0,0,0,0,0,3975.46,0,0,0,0,0,3.46,0,1.54,0,0.03,0,0,0,0,0,0,0,0,0,0,1,5.09,0,0,0,0,0,0,0,0,0,0,0,0,0,0,0,0,0,0,null,null,null,null,null,null,null,0,{"$f":"+INDEX($F3360:$DJ3360,1,Sheet3!$C$1)","v":1},{"$f":"+IF(Sheet3!$C$1=1,IF(DN3360<3,0,1),1)","v":0}]
[2,1,"11A",5,1,25,97137.413127725842,51.19,46.460000000000008,3802.3599999999992,51.609999999999992,28.6,2.74,0,0,1.46,0,40.82,6.17,0,1.65,2.65,51.19,14.82,29.930000000000003,24837.57,24837.57,24837.57,0,0,0,0,0,0,0,0,0,0,0,2580.12,10804.5,6491.4,0,0,6491.4,4313.1000000000004,0,0,0,0,0,648.9,0,1735.2,0,1929,0,0,0,0,0,0,0,0,0,0,0,0,35642.07,0.68,0.88000000000000012,0,0.03,1.1000000000000001,2.6799999999999997,0,1.5,36.399999999999991,0,6.59,0,0,0,10,1,0,0,3,5.24,0,0,0,0,0,0,0,0,0,0,3,6.18,0,0,0,0,0,0,0,0,null,null,null,null,null,null,null,25,{"$f":"+INDEX($F3402:$DJ3402,1,Sheet3!$C$1)","v":25},{"$f":"+IF(Sheet3!$C$1=1,IF(DN3402<3,0,1),1)","v":1}]
[2,1,"11B","10_15",1,2,1884.0032972638051,0.56999999999999995,3.11,215.97000000000003,0.56999999999999995,0.56999999999999995,0.56999999999999995,0,0,0,0,0,0,0,2.8,3.8,0.56999999999999995,0.56999999999999995,0,1987.01,1987.01,1987.01,0,0,0,0,0,0,0,0,0,0,0,224.54,1395.18,1184.7,0,0,1184.7,210.48000000000002,0,0,0,0,0,0,0,68.400000000000006,0,0,0,0,0,142.08000000000001,0,0,0,0,0,0,0,0,3382.1899999999996,0,0.56999999999999995,0,0,0,0,0,0,0,0,0,0,2,2,0,0,0,0,0,0,0,0,0,0,0,0,0,0,0,0,0,0,1,0,0,0,0,0,0,0,null,null,null,null,null,null,null,0,{"$f":"+INDEX($F3441:$DJ3441,1,Sheet3!$C$1)","v":2},{"$f":"+IF(Sheet3!$C$1=1,IF(DN3441<3,0,1),1)","v":0}]
[2,1,"11C",11,2,4,59321.211880959927,50.975000000000009,3.56,289.62,96.87,0.76,1.1100000000000001,0,0,0,0,0,90.94,0,9.25,13.25,80.45,4.82,96.44,3930.51,3930.51,3930.51,0,0,0,0,0,0,0,0,0,0,0,425.27,9460.16,8813.2999999999993,0,0,8813.2999999999993,646.86,0,0,0,0,0,0,0,646.86,0,0,0,0,0,0,0,0,0,0,0,0,0,0,13390.670000000002,0,0.24,0,0.09,0.78,2.08,0,0,2.04,0.16,91.37,0,3,1,10,1,21,7,0,0,0,0,0,0,0,0,0,0,0,0,0,0,0,0,0,0,0,0,0,0,null,null,null,null,null,null,null,4,{"$f":"+INDEX($F3469:$DJ3469,1,Sheet3!$C$1)","v":4},{"$f":"+IF(Sheet3!$C$1=1,IF(DN3469<3,0,1),1)","v":1}]
[2,1,"11E",7,2,18,52582.756019716835,132.29999999999998,71.05,4859.75,157.47999999999999,23.43,0.68,0,0,0,2.5099999999999998,113.08,16.03,0,0,0,129.78,80,120.10999999999999,17611.13,17611.13,17611.13,0,0,0,0,0,0,0,0,0,0,0,5553.8,48799.48,24292.73,0,0,24292.73,24506.749999999996,15995.4,515,0,0,3362.3,0,0,3457.13,0,1176.92,0,0,0,0,0,0,0,0,0,0,0,0,66410.61,0.44,0,0,0,0.24,0.62,2.5099999999999998,7.34,2.6799999999999997,102.05,41.21,0,0,0,0,0,0,0,1,4.03,4,36.630000000000003,1,1.06,0,0,13,21.49,0,0,0,0,0,0,0,0,0,0,0,0,null,null,null,null,null,null,null,18,{"$f":"+INDEX($F3518:$DJ3518,1,Sheet3!$C$1)","v":18},{"$f":"+IF(Sheet3!$C$1=1,IF(DN3518<3,0,1),1)","v":1}]
[2,1,"11E",12,2,11,184193.79761544397,118.28999999999999,47.019999999999996,3203.98,145.45000000000002,4.63,25.55,0,0,0,13.14,37.434999999999995,44.69,33.75,27.300000000000004,67.8,128.83000000000001,42.95,128.6,10928.59,10928.59,10928.59,0,0,0,0,0,0,0,0,0,0,0,3109.69,32531.919999999998,20771,0,0,20771,11760.919999999998,1819.84,0,0,0,1200.42,0,0,2260.86,0,0,0,0,623.20000000000005,584,0,0,0,0,5230,0,0,42.6,43460.510000000009,15.09,0.59000000000000008,0,0.73,9.14,12.14,13.14,19.240000000000002,4.6099999999999994,8.98,61.310000000000009,0,0,0,108,15,54,5,0,0,1,7.96,0,0,0,0,5,7.41,0,0,0,0,1,7.3,1,3.28,0,0,0,0,null,null,null,null,null,null,null,11,{"$f":"+INDEX($F3527:$DJ3527,1,Sheet3!$C$1)","v":11},{"$f":"+IF(Sheet3!$C$1=1,IF(DN3527<3,0,1),1)","v":1}]
[2,1,"16D",8,2,4,132754.1997846684,37.44,31.58,2091.1999999999998,37.51,11.12,5.67,0,0,0,0,30.86,0.91,0,0,12.9,37.44,28.320000000000004,0,3974.04,3974.04,3974.04,0,0,0,0,0,0,0,0,0,0,0,2655.1,9117.99,0,0,0,0,9117.99,0,0,0,0,0,0,0,0,0,9117.99,0,0,0,0,0,0,0,0,0,0,0,0,13092.03,0,0.98,0,0,4.6900000000000004,0.54,0,6.6,22.759999999999998,0.11,0.98,0,0,0,0,0,0,0,3,28.32,0,0,0,0,0,0,0,0,0,0,0,0,0,0,0,0,0,0,0,0,null,null,null,null,null,null,null,4,{"$f":"+INDEX($F3585:$DJ3585,1,Sheet3!$C$1)","v":4},{"$f":"+IF(Sheet3!$C$1=1,IF(DN3585<3,0,1),1)","v":1}]
[2,1,"16E",4,1,331,1893499.1308399814,384.29999999999984,344.07999999999976,34182.530000000013,390.32000000000005,121.13,148.65,0,0,6.86,10.68,160.86999999999995,57.24,2.0699999999999998,5.8500000000000005,9.4499999999999993,384.10999999999984,53.35,106.14,328067.55000000016,328067.55000000016,328067.55000000016,0,0,0,0,0,0,0,0,0,0,0,12784.14,25705.589999999997,17708.449999999993,3928.3999999999992,2569.2400000000002,11210.809999999998,7997.1399999999958,0,0,0,0,1239.3,0,0,6258.09,0,499.75,0,0,0,0,0,0,0,0,0,0,0,0,353773.14,22.860000000000007,23.830000000000002,0.63,6.9699999999999989,93.709999999999951,34.149999999999984,10.68,8.8999999999999932,21.110000000000003,82.659999999999982,63.259999999999955,0,0,0,21,2,14,2,1,1.1100000000000001,0,0,0,0,0,0,11,7.65,0,0,0,0,0,0,0,0,0,0,0,0,null,null,null,null,null,null,null,331,{"$f":"+INDEX($F3602:$DJ3602,1,Sheet3!$C$1)","v":331},{"$f":"+IF(Sheet3!$C$1=1,IF(DN3602<3,0,1),1)","v":1}]
[2,1,"16F",13,1,72,28816.140643926035,72.510000000000005,68.11,7556.9799999999987,73.90000000000002,2.4900000000000002,0.36,0,0,3.15,0.47,37.42,31.11,0,0,0,72.400000000000006,0.44,1.59,71128.11,71128.11,71128.11,0,0,0,0,0,0,0,0,0,0,0,971.31000000000017,83.34,23.4,23.4,0,0,59.94,0,0,0,0,0,0,0,59.94,0,0,0,0,0,0,0,0,0,0,0,0,0,0,71211.45,0,0.21,0,0.15000000000000002,0,36.929999999999993,0.47,0.15,0.98999999999999988,2.33,32.499999999999993,0,0,0,0,0,0,0,0,0,0,0,0,0,0,0,0,0,0,0,0,0,0,0,0,0,0,0,0,0,null,null,null,null,null,null,null,72,{"$f":"+INDEX($F3646:$DJ3646,1,Sheet3!$C$1)","v":72},{"$f":"+IF(Sheet3!$C$1=1,IF(DN3646<3,0,1),1)","v":1}]
[2,1,"16G",12,1,356,1074612.4702464105,566.02500000000009,457.31999999999971,39186.390000000014,640.97000000000037,240.79,159.37,0,0,31.83,0.66,208.69000000000003,184.92,174.07999999999993,524.55000000000041,544.65000000000032,561.98,186.70000000000007,542.7399999999999,352435.10000000038,352435.10000000038,352435.10000000038,0,0,0,0,0,0,0,0,0,0,0,49315.889999999985,146262.93000000005,122736.87999999999,0,7027.5900000000011,115709.29000000001,23526.049999999996,0,0,0,0,367.74,0,0,22878.31,0,0,0,0,0,0,0,0,0,0,280,0,0,0,498698.03,23.45,94.749999999999972,0,4.9399999999999995,36.22999999999999,180.77000000000004,0.66,10.809999999999997,13.659999999999991,22.979999999999993,239.47000000000006,7,56,135,1502,181,793,109,0,0,0,0,0,0,0,0,2,2.27,0,0,0,0,0,0,0,0,0,0,0,0,null,null,null,null,null,null,null,356,{"$f":"+INDEX($F3669:$DJ3669,1,Sheet3!$C$1)","v":356},{"$f":"+IF(Sheet3!$C$1=1,IF(DN3669<3,0,1),1)","v":1}]
[2,1,"16H",15,1,2,745.33223947754595,1.48,1.08,84.6,1.9,0.09,0.2,0,0,0,0,1.28,0,0,0,0,1.48,1.48,0,1957.19,1957.19,1957.19,0,0,0,0,0,0,0,0,0,0,0,0,227.49,0,0,0,0,227.49,0,0,0,0,0,0,0,227.49,0,0,0,0,0,0,0,0,0,0,0,0,0,0,2184.6800000000003,0,0,0,0,0.2,0,0,0,0,1.28,0.42,0,0,0,0,0,0,0,0,0,0,0,0,0,0,0,0,0,0,0,0,0,0,0,0,0,0,0,0,0,null,null,null,null,null,null,null,0,{"$f":"+INDEX($F3694:$DJ3694,1,Sheet3!$C$1)","v":2},{"$f":"+IF(Sheet3!$C$1=1,IF(DN3694<3,0,1),1)","v":0}]
[2,1,"16J",11,1,80,218120.6885278564,187.68999999999994,149.02999999999997,10779.500000000002,243.05,13.48,22.72,0,0,7.14,1.26,77.150000000000048,79.42,34.139999999999993,132.25,224.25,187.67999999999995,47.309999999999988,180.36999999999998,79367.169999999984,79367.169999999984,79367.169999999984,0,0,0,0,0,0,0,0,0,0,0,2676.1499999999992,52344.919999999991,45537.63999999997,0,1224.6000000000001,44313.039999999979,6807.2799999999988,0,0,0,0,2003.92,0,0,4121.46,0,0,0,0,290.7,0,0,0,0,0,200,0,0,191.2,131712.09000000003,17.559999999999999,3.49,0,0.18,1.4300000000000004,55.100000000000009,0.31000000000000005,2.06,1.3800000000000001,24.290000000000003,134.77999999999997,0,1,4,695,66,92,6,0,0,0,0,0,0,0,0,15,12.39,0,0,0,0,0,0,2,1.53,0,0,0,0,null,null,null,null,null,null,null,80,{"$f":"+INDEX($F3736:$DJ3736,1,Sheet3!$C$1)","v":80},{"$f":"+IF(Sheet3!$C$1=1,IF(DN3736<3,0,1),1)","v":1}]
[2,1,"170","10_15",1,2,36863.428857357329,2.79,1.3599999999999999,101.24000000000001,3.09,0,0,0,0,0,0,1.35,1.44,1.44,34,34,2.79,0,0,1991.24,1991.24,1991.24,0,0,0,0,0,0,0,0,0,0,0,71.28,0,0,0,0,0,0,null,null,null,null,null,null,null,null,null,null,null,null,null,null,null,null,null,null,null,null,null,null,1991.24,0,0,0,0,0,1.3,0,0.05,0,0,1.7400000000000002,2,5,45,0,0,0,0,0,0,0,0,0,0,0,0,0,0,0,0,0,0,0,0,0,0,0,0,0,0,null,null,null,null,null,null,null,0,{"$f":"+INDEX($F3753:$DJ3753,1,Sheet3!$C$1)","v":2},{"$f":"+IF(Sheet3!$C$1=1,IF(DN3753<3,0,1),1)","v":0}]
[2,1,"184",4,1,23,175389.26748984691,40.75,37.980000000000004,3014.1299999999997,40.75,12.53,17.73,0,0,0,4.25,13.72,5.05,0,0.3,0.3,40.75,16.09,37.009999999999991,22763.540000000005,22763.540000000005,22763.540000000005,0,0,0,0,0,0,0,0,0,0,0,1704.58,7835.9299999999994,4134.7400000000007,0,4134.7400000000007,0,3701.1899999999991,0,2292,0,0,1333.99,0,0,0,0,0,0,0,0,0,0,0,0,0,0,0,0,75.2,30599.47,3.4699999999999998,0,0,2.68,11.579999999999998,1.19,4.25,1.1900000000000002,0.19,10.46,5.0500000000000007,0,0,0,1,1,0,0,0,0,0,0,1,3.98,0,0,9,8.08,0,0,0,0,0,0,0,0,0,0,0,0,null,null,null,null,null,null,null,23,{"$f":"+INDEX($F3780:$DJ3780,1,Sheet3!$C$1)","v":23},{"$f":"+IF(Sheet3!$C$1=1,IF(DN3780<3,0,1),1)","v":1}]
[2,1,"186",4,1,23,115571.23781443956,38.599999999999987,32.96,2363.04,40.079999999999991,5.75,5.87,0,0,0,1.43,22.140000000000004,9.16,2.33,0.6,0.6,38.489999999999988,18.580000000000002,32.29,22850.600000000002,22850.600000000002,22850.600000000002,0,0,0,0,0,0,0,0,0,0,0,757.92000000000007,6910.3499999999995,3688.55,0,3688.55,0,3221.7999999999997,0,0,0,0,2741.04,0,0,93.96,0,0,0,0,0,0,0,0,0,0,0,0,0,386.8,29760.950000000004,0.3,0,0,0.41,5.160000000000001,1.51,1.43,0.63,0.09,18.97,10.64,0,0,0,1,3,0,0,0,0,0,0,0,0,0,0,15,16.93,0,0,0,0,0,0,0,0,0,0,0,0,null,null,null,null,null,null,null,23,{"$f":"+INDEX($F3820:$DJ3820,1,Sheet3!$C$1)","v":23},{"$f":"+IF(Sheet3!$C$1=1,IF(DN3820<3,0,1),1)","v":1}]
[2,2,"111","1_2",1,66,100631.96077524431,125.50999999999999,124.86999999999999,17253.370000000006,130.08999999999995,16.04,49.18,0,0,7.02,16.88,16.05,38.020000000000003,0.41000000000000003,2.2000000000000002,2.2000000000000002,127.68,22.950000000000003,111.49,42873.910000000018,28507.260000000006,0,15729.739999999996,15628.689999999995,101.05,12777.519999999995,14113.320000000003,253.33,253.33,0,0,0,0,1875.62,20046.980000000007,17247.200000000004,0,0,17247.200000000004,2799.78,0,0,0,0,0,0,0,2799.78,0,0,0,0,0,0,0,0,0,0,0,0,0,0,62920.89,5.2399999999999984,41.20999999999998,0,0.35000000000000003,2.3799999999999994,17.209999999999997,16.880000000000003,0.66000000000000014,4.4699999999999989,0.82000000000000006,40.369999999999997,0,1,2,0,0,0,0,0,0,0,0,0,0,0,0,0,0,0,0,0,0,0,0,0,0,0,0,0,0,null,null,null,null,null,null,null,66,{"$f":"+INDEX($F3861:$DJ3861,1,Sheet3!$C$1)","v":66},{"$f":"+IF(Sheet3!$C$1=1,IF(DN3861<3,0,1),1)","v":1}]
[2,2,"111",11,2,258,2779862.0497935917,2348.6200000000008,1610.0599999999993,191734.56999999995,4180.6799999999985,396.31,49.86,0,0,44.32,1.1499999999999999,44.435000000000009,3908.85,1495.15,1133.5,1598.9620000000009,4055.8599999999969,471.2700000000001,4135.2399999999971,631020.25999999966,328633.62999999989,0,180177.99999999997,180177.99999999997,0,148455.63000000006,173762.72000000012,128623.91000000003,26179.620000000024,102444.29000000002,0,0,0,95723.39,580160.62000000011,455106.48999999987,0,0,455106.48999999987,125054.13000000003,958.15,18065.150000000001,0,0,0,0,0,13981.41,0,820.6,0,4283.6400000000003,4705.0200000000004,0,0,6289.5,0,0,75950.66,0,0,0,1211180.8800000004,4.6399999999999997,33.659999999999997,0,0.95000000000000018,8.9299999999999944,163.94999999999996,1.1499999999999999,4.129999999999999,19.330000000000005,2.2700000000000005,3937.58,0,240,146,3388,335,1527,144,1,6.54,2,2.42,3,101.14,0,0,0,0,0,0,0,0,0,0,19,25.17,0,0,15,271.45999999999998,null,null,null,null,null,null,null,258,{"$f":"+INDEX($F3887:$DJ3887,1,Sheet3!$C$1)","v":258},{"$f":"+IF(Sheet3!$C$1=1,IF(DN3887<3,0,1),1)","v":1}]
[2,2,"119","1_2",2,5,47973.553644736669,39.25,38.590000000000003,8797.869999999999,39.33,0,36.71,0,0,0,0,2.44,0.1,0,0.6,0.6,39.21,0,0,19769.43,15241.450000000003,0,8356.1200000000008,8356.1200000000008,0,6885.3300000000008,4527.9800000000005,0,0,0,0,0,0,2897.99,0,0,0,0,0,0,null,null,null,null,null,null,null,null,null,null,null,null,null,null,null,null,null,null,null,null,null,null,19769.43,0,36.53,0,0,0.18,0.73,0,0.49,0.84,0,0.18,0,0,1,0,0,0,0,0,0,0,0,0,0,0,0,0,0,0,0,0,0,0,0,0,0,0,0,0,0,null,null,null,null,null,null,null,5,{"$f":"+INDEX($F3936:$DJ3936,1,Sheet3!$C$1)","v":5},{"$f":"+IF(Sheet3!$C$1=1,IF(DN3936<3,0,1),1)","v":1}]
[2,2,"119",8,2,44,808921.01122989971,368.09999999999991,317.65000000000003,40463.589999999997,398.07,199.55,83.75,0,0,13.11,1.75,215.90500000000003,58.66,31.64,30.200000000000003,30.200000000000003,373.46,120.77000000000001,147.94,106251.22000000002,69594.400000000009,0,38192.689999999995,38109.369999999995,83.32,31401.710000000006,34632.180000000008,2024.6399999999999,1773.28,251.36,0,0,0,31142.09,52504.189999999995,23188.200000000004,0,0,23188.200000000004,29315.99,0,2020.79,0,0,0,2156.6999999999998,0,10149.959999999999,0,14159.84,0,0,328.7,0,0,0,0,0,500,0,0,0,158755.41,2.58,69.650000000000006,0,0.62,7.2499999999999991,70.34,1.75,20.22,134.86999999999998,1.3800000000000001,76.740000000000009,0,14,20,19,1,0,0,8,54.03,0,0,1,3.52,0,0,0,0,0,0,4,20.54,0,0,1,1.73,0,0,0,0,null,null,null,null,null,null,null,44,{"$f":"+INDEX($F3947:$DJ3947,1,Sheet3!$C$1)","v":44},{"$f":"+IF(Sheet3!$C$1=1,IF(DN3947<3,0,1),1)","v":1}]
[2,2,"11A",13,2,166,2450751.3172363839,1346.8999999999994,1291.8700000000006,363299.13999999984,1362.0699999999993,1241.3399999999999,42.6,0,0,100.36,45.24,1116.6899999999998,42.01,0,0,0,1345.5099999999995,66.42,43.49,767207.11999999965,623641.05000000051,0,341942.2900000001,341942.2900000001,0,281698.75999999983,143566.06999999995,0,0,0,0,0,0,104719.19999999995,13477.24,7615.7400000000007,0,0,7615.7400000000007,5861.5,0,0,0,0,0,0,640.29999999999995,5221.2,0,0,0,0,0,0,0,0,0,0,0,0,0,0,780684.35999999975,3.63,25.53,0,0.33999999999999997,10.19,1202.4700000000005,36.65,7.4400000000000013,8.9299999999999979,0.33,57.180000000000007,0,0,0,0,0,0,0,0,0,0,0,0,0,0,0,0,0,1,6.74,0,0,0,0,0,0,0,0,0,0,null,null,null,null,null,null,null,166,{"$f":"+INDEX($F4003:$DJ4003,1,Sheet3!$C$1)","v":166},{"$f":"+IF(Sheet3!$C$1=1,IF(DN4003<3,0,1),1)","v":1}]
[2,2,"11B",6,1,459,1340786.6060328349,1323.6699999999987,1217.4599999999996,107200.76999999995,1505.3699999999976,55.72,63.4,0,0,1.3,33.119999999999997,1129.82,96.4,1.85,1.8,12.8,1314.6799999999987,898.28000000000009,1305.5199999999991,314587.5299999998,177393.88,0,97636.229999999938,97314.579999999929,321.65000000000003,79757.649999999965,137193.65000000011,0,0,0,0,0,0,31484.37,499002.56999999972,298216.60000000056,0,0,298216.60000000056,200785.96999999997,51420.22,8713.0400000000009,106,0,50727.96,1142.4000000000001,0,80568.789999999994,0,8041.16,0,0,0,0,0,0,0,0,0,0,0,66.400000000000006,813590.10000000033,40.869999999999997,9.6900000000000013,0,6.72,6.1199999999999983,24.960000000000004,32.520000000000003,1024.2300000000002,18.089999999999996,60.300000000000026,277.22000000000025,0,0,1,6,1,1,0,10,30.39,40,133,7,17.12,0,0,162,320.02999999999997,0,0,5,10.88,0,0,0,0,0,0,0,0,null,null,null,null,null,null,null,459,{"$f":"+INDEX($F4020:$DJ4020,1,Sheet3!$C$1)","v":459},{"$f":"+IF(Sheet3!$C$1=1,IF(DN4020<3,0,1),1)","v":1}]
[2,2,"11C",5,4,1,968775.41055410705,555.25,473.28,35668.19,593.21,377.66,0.22,0,0,0,0,533.78,21.25,0,0,0,554.11,323.61,242.62,60429.760000000002,59273.33,0,31594.76,31594.76,0,27678.57,1156.43,0,0,0,0,0,0,22810.7,38219.589999999997,5538.7,0,0,5538.7,32680.89,0,0,0,4204.66,1499.12,4625.66,0,9934.26,0,12417.19,0,0,0,0,0,0,0,0,0,0,0,0,98649.35,0,0,0,0,0.22,36.880000000000003,0,0.14000000000000001,457.59,13.85,59.21,0,0,0,0,0,0,0,1,195.66,0,0,0,0,0,0,1,9.7799999999999994,0,0,1,65.72,0,0,0,0,0,0,0,0,null,null,null,null,null,null,null,0,{"$f":"+INDEX($F4066:$DJ4066,1,Sheet3!$C$1)","v":1},{"$f":"+IF(Sheet3!$C$1=1,IF(DN4066<3,0,1),1)","v":0}]
[2,2,"11C",11,2,48,599260.67097292421,534.46500000000003,365.01,40943.040000000001,930.76000000000022,145.91,17.45,0,0,9.73,1.1200000000000001,44.199999999999996,794.73,166.24999999999997,228.14999999999998,267.15000000000003,841.47999999999979,118.57999999999997,879.16999999999973,133336.79,70513.139999999985,0,39673.64,36906.769999999997,2766.8700000000003,30839.500000000004,35428.61,27395.040000000005,4179.8799999999992,23215.159999999996,0,0,0,25608.65,103807.62,89616.459999999992,0,0,89616.459999999992,14191.160000000002,0,0,0,0,0,0,0,7695.92,0,0,0,0,3316.17,0,0,350,0,0,2829.07,0,0,0,237144.40999999995,5.72,8.8500000000000014,0,0.24,2.6399999999999997,68.740000000000009,1.1200000000000001,0.29000000000000004,1.1600000000000001,3.9200000000000004,837.00999999999976,0,36,26,799,58,307,17,0,0,0,0,0,0,0,0,0,0,0,0,0,0,0,0,5,17.34,0,0,1,19.97,null,null,null,null,null,null,null,48,{"$f":"+INDEX($F4087:$DJ4087,1,Sheet3!$C$1)","v":48},{"$f":"+IF(Sheet3!$C$1=1,IF(DN4087<3,0,1),1)","v":1}]
[2,2,"11D",8,1,2586,6828473.6547170226,6588.2150000000011,6271.2700000000068,537102.08000000042,8895.800000000012,432.03,560.03,0,0,15.03,62.69,5570.4500000000044,386.94,52.860000000000007,96.85,184.84999999999994,6556.8500000000085,4672.100000000004,6375.2500000000045,1608757.3099999989,891234.3699999993,0,488876.8900000017,488791.98000000173,84.91,402357.47999999946,712170.52999999898,5352.409999999998,253.32,5099.0899999999983,0,0,0,206386.09999999966,2705384.7800000045,1519402.0500000012,0,0,1519402.0500000012,1185982.7300000014,65213.47,7164.93,0,436848.89,65396.73,2501.1,0,540782.09,0,64790.33,0,0,300.49,0,0,0,0,0,0,0,0,2984.7,4314142.0900000092,185.8599999999999,74.64,0,21.059999999999992,272.82000000000039,208.58999999999997,62.690000000000005,1369.6799999999976,1350.8799999999997,2063.8300000000004,2669.9800000000027,2,3,31,361,59,61,14,83,216.36,51,148.69,7,19.84,0,0,334,412.22,0,0,11,24.17,0,0,2,1.67,0,0,0,0,null,null,null,null,null,null,null,2586,{"$f":"+INDEX($F4114:$DJ4114,1,Sheet3!$C$1)","v":2586},{"$f":"+IF(Sheet3!$C$1=1,IF(DN4114<3,0,1),1)","v":1}]
[2,2,"11E",5,4,1,552395.26163305331,537.23,537.23,36678.33,537.23,1.06,1.06,0,0,0,12.14,504.48,19.55,0,0,0,537.23,458.23,506.98,64733.72,63541.520000000004,0,34836.58,34836.58,0,28704.94,1192.2,0,0,0,0,0,0,8740,94477.89,5710,0,0,5710,88767.89,12488.59,33779.65,0,12060,1148.58,5327.46,0,12215.5,0,11748.11,0,0,0,0,0,0,0,0,0,0,0,0,159211.60999999999,0,0,0,0,1.06,0,12.14,1.95,390.88,96.86,19.55,0,0,0,0,0,0,0,1,173.04,1,30.36,1,198.69,0,0,1,7.09,0,0,1,87.21,0,0,0,0,0,0,0,0,null,null,null,null,null,null,null,0,{"$f":"+INDEX($F4154:$DJ4154,1,Sheet3!$C$1)","v":1},{"$f":"+IF(Sheet3!$C$1=1,IF(DN4154<3,0,1),1)","v":0}]
[2,2,"11E","10_1",4,1,182400.33243847327,284.26,196.9,15580.69,291.69,0,15.63,0,0,0,102.53,42.93,123.17,123.17,412.7,412.7,284.26,47.48,284.26,62391.24,25642.39,0,14058.41,14058.41,0,11583.98,1132.5899999999999,35616.26,35616.26,0,0,0,0,12102.39,47779.8,5424.48,0,0,5424.48,42355.32,0,0,0,0,0,0,0,0,0,0,0,0,0,2854.25,0,665,0,0,38836.07,0,0,0,110171.04000000001,15.63,0,0,0,0,42.93,102.53,0,0,0,130.6,0,304,204,51,3,0,0,0,0,0,0,0,0,0,0,0,0,0,0,0,0,1,47.48,0,0,0,0,1,47.42,null,null,null,null,null,null,null,0,{"$f":"+INDEX($F4171:$DJ4171,1,Sheet3!$C$1)","v":1},{"$f":"+IF(Sheet3!$C$1=1,IF(DN4171<3,0,1),1)","v":0}]
[2,2,"150",12,3,39,1484329.42492146,2281.39,1988.0700000000004,161179.88999999998,3137.0499999999997,54.2,194.77,0,0,130.1,39.94,896.41,1020.17,861.91000000000008,1505.65,1512.75,2267.8299999999995,282.18000000000006,2004.08,486750.46000000014,271658.84999999992,0,149296.00999999998,149296.00999999998,0,122362.84000000003,45945.499999999978,169146.11000000002,84737.04,84409.07,0,0,0,92912.730000000025,170271.9,137328.56,0,6272.88,131055.67999999999,32943.340000000004,0,0,0,0,4799.5200000000004,0,0,4786.08,0,4171.9399999999996,0,0,0,0,0,0,0,0,13100.4,0,0,6085.4,657022.36,159.87999999999997,0.2,0,30.060000000000002,4.6300000000000008,630.51,15.519999999999998,236.78000000000003,12.700000000000001,20.999999999999996,1875.8300000000006,2,691,401,2688,154,1089,56,1,7.37,0,0,0,0,0,0,3,44.24,0,0,0,0,0,0,0,0,0,0,0,0,null,null,null,null,null,null,null,39,{"$f":"+INDEX($F4233:$DJ4233,1,Sheet3!$C$1)","v":39},{"$f":"+IF(Sheet3!$C$1=1,IF(DN4233<3,0,1),1)","v":1}]
[2,2,"150",13,4,2,98358.538,689.34999999999991,654.29,52337.63,1078.9000000000001,0,41.92,0,0,0,0,57.27,590.16,0,0,0,689.96,280.76,281.37,93054.069999999992,90669.67,0,49709.56,49709.56,0,40960.11,2384.4,0,0,0,0,0,0,0,5228.2,3551.4,0,0,3551.4,1676.8,0,0,0,0,0,0,0,0,0,0,0,0,0,0,0,0,0,0,0,0,0,1676.8,98282.26999999999,41.92,0,0,0,0,57.27,0,0,0,0,979.71,0,0,0,0,0,0,0,0,0,0,0,0,0,0,0,0,0,0,0,0,0,0,0,0,0,0,0,0,0,null,null,null,null,null,null,null,0,{"$f":"+INDEX($F4238:$DJ4238,1,Sheet3!$C$1)","v":2},{"$f":"+IF(Sheet3!$C$1=1,IF(DN4238<3,0,1),1)","v":0}]
[2,2,"16B",11,2,29,381716.74615424371,252.48000000000002,231.77,26937.3,272.42000000000007,1.36,11.63,0,0,51.37,0,108.22000000000001,81.260000000000005,76.800000000000011,442.14999999999992,442.14999999999992,249.65000000000003,0,0,126174.38,46371.209999999992,0,25422.979999999996,25422.979999999996,0,20948.230000000003,25536.040000000012,54267.130000000012,0,54267.130000000012,0,0,0,27448.970000000005,7315.82,0,0,0,0,7315.82,0,0,0,0,0,0,0,0,0,0,0,0,0,0,0,0,0,0,7315.82,0,0,0,133490.20000000001,10.67,0,0,0.08,0.60000000000000009,153.49999999999997,0,0.95000000000000007,2.7399999999999998,2.1,101.2,2,3,18,1365,65,1295,128,0,0,0,0,0,0,0,0,0,0,0,0,0,0,0,0,0,0,0,0,0,0,null,null,null,null,null,null,null,29,{"$f":"+INDEX($F4281:$DJ4281,1,Sheet3!$C$1)","v":29},{"$f":"+IF(Sheet3!$C$1=1,IF(DN4281<3,0,1),1)","v":1}]
[2,2,"16D",4,2,12,609438.82781530253,95.3,88,11366.739999999998,95.35,43.62,67.790000000000006,0,0,2.4,2.2599999999999998,11.75,11.1,2.27,8.15,9.15,95.3,11.36,0,29450.559999999998,19235.629999999997,0,10502.93,10502.93,0,8732.7000000000007,10088.27,126.66,126.66,0,0,0,0,14143.36,6734.09,0,0,0,0,6734.09,0,6734.09,0,0,0,0,0,0,0,0,0,0,0,0,0,0,0,0,0,0,0,0,36184.65,9.49,13.62,0,1.98,42.699999999999996,11.99,2.2599999999999998,1.77,0,0.25,11.15,0,2,9,0,0,4,1,0,0,0,0,1,11.36,0,0,0,0,0,0,0,0,0,0,0,0,0,0,0,0,null,null,null,null,null,null,null,12,{"$f":"+INDEX($F4305:$DJ4305,1,Sheet3!$C$1)","v":12},{"$f":"+IF(Sheet3!$C$1=1,IF(DN4305<3,0,1),1)","v":1}]
[2,2,"16E",5,1,27,82857.315196049036,67.929999999999993,62.969999999999992,10361.98,68.53,2.77,7.46,0,0,0,1.06,53.199999999999989,6.21,0,0.3,0.6,67.91,13.530000000000001,17.420000000000002,23670.77,16512.82,0,9058.010000000002,9058.010000000002,0,7454.8099999999995,7157.9500000000007,0,0,0,0,0,0,3112.3500000000004,6816.9400000000005,2989.2,894.5,288.60000000000002,1806.1,3827.74,0,947.6,0,0,111.78,193.2,0,932.16,0,1643,0,0,0,0,0,0,0,0,0,0,0,0,30487.709999999995,4.79,1.2100000000000002,0,0.75,0.71,2.7700000000000005,1.06,0.44999999999999996,42.600000000000009,6.1899999999999986,6.8100000000000014,0,0,0,0,0,2,0,2,5.08,0,0,1,1.84,0,0,2,0.69,0,0,1,1.84,0,0,0,0,0,0,0,0,null,null,null,null,null,null,null,{"$f":"+DN4354*DO4354","v":27},{"$f":"+INDEX($F4354:$DJ4354,1,Sheet3!$C$1)","v":27},{"$f":"+IF(Sheet3!$C$1=1,IF(DN4354<3,0,1),1)","v":1}]
[2,2,"16E",9,2,44,6082216.8541750545,396.97999999999996,374.29999999999984,171263.66999999995,398.63999999999993,245.84,59.68,0,0,25.85,8.25,252.28000000000003,50.92,50.919999999999995,3146.2000000000007,3154.3000000000011,395.82999999999993,3.73,0,603007.03,291764.49,0,160015.12999999995,160015.12999999995,0,131749.35999999999,39726.500000000007,271516.03999999998,2786.5699999999997,0,268729.47000000003,0,0,595295.3899999999,902.75,0,0,0,0,902.75,0,0,0,0,0,0,0,0,0,902.75,0,0,0,0,0,0,0,0,0,0,0,0,603909.78,24.670000000000005,26.87,0,2.7399999999999998,5.4,272.71000000000004,8.25,1.9200000000000004,1.47,1.51,52.580000000000013,2102,216,1512,0,0,0,0,1,3.73,0,0,0,0,0,0,0,0,0,0,0,0,0,0,0,0,0,0,0,0,null,null,null,null,null,null,null,44,{"$f":"+INDEX($F4367:$DJ4367,1,Sheet3!$C$1)","v":44},{"$f":"+IF(Sheet3!$C$1=1,IF(DN4367<3,0,1),1)","v":1}]
[2,2,"16F","10_15",2,18,381409.7911455931,222.43000000000004,201.29,31376.739999999994,279.56999999999994,0,0.27,0,0,0,0,121.59999999999998,100.56,100.56,607.14999999999986,607.14999999999986,212.71,47.5,215.35000000000002,111522.84,51272.369999999995,0,28110.03,28110.03,0,23162.34,16580.629999999997,43669.84,41514.829999999994,2155.0100000000002,0,0,0,34641.99,25431.25,18633.419999999998,18447.52,185.9,0,6797.8300000000008,0,0,0,0,6084.85,0,0,712.98,0,0,0,0,0,0,0,0,0,0,0,0,0,0,136954.09000000003,0,0.11,0,0,0.16,31.029999999999994,0,0,0.34,90.219999999999985,157.70000000000002,15,360,397,36,13,88,4,0,0,0,0,0,0,0,0,8,37.79,0,0,0,0,0,0,0,0,0,0,0,0,null,null,null,null,null,null,null,18,{"$f":"+INDEX($F4421:$DJ4421,1,Sheet3!$C$1)","v":18},{"$f":"+IF(Sheet3!$C$1=1,IF(DN4421<3,0,1),1)","v":1}]
[2,2,"16G","1_1",1,72,175744.50531997741,132.81,130.63,16933.150000000001,163.91000000000008,93.68,76.040000000000006,0,0,1.79,1.78,23.549999999999994,29.65,2.95,5.8000000000000007,5.8000000000000007,131.38,39.770000000000003,122.18999999999997,42499.180000000008,27825.010000000006,0,15241.540000000003,15241.540000000003,0,12583.470000000001,14547.509999999998,126.66,126.66,0,0,0,0,4178.6600000000008,27342.60999999999,22506.070000000003,0,0,22506.070000000003,4836.5400000000009,0,0,0,0,0,0,0,4836.54,0,0,0,0,0,0,0,0,0,0,0,0,0,0,69841.790000000008,4.4300000000000006,62.150000000000013,0,1.8100000000000005,7.6499999999999995,16.54,1.7799999999999998,0.77,1.35,5.0500000000000007,60.75,0,2,2,4,1,10,1,0,0,0,0,0,0,0,0,0,0,0,0,0,0,0,0,0,0,0,0,0,0,null,null,null,null,null,null,null,72,{"$f":"+INDEX($F4438:$DJ4438,1,Sheet3!$C$1)","v":72},{"$f":"+IF(Sheet3!$C$1=1,IF(DN4438<3,0,1),1)","v":1}]
[2,2,"16H",3,3,1,45116.711907410681,46.7,46.7,3980.24,46.7,6.05,6.05,0,0,0,0,14.66,25.99,0,0,0,46.7,0,46.7,8087.57,6895.37,0,3780.38,3780.38,0,3114.99,1192.2,0,0,0,0,0,0,1388.95,679.75,679.75,0,679.75,0,0,0,0,0,0,0,0,0,0,0,0,0,0,0,0,0,0,0,0,0,0,0,0,8767.32,0,0,0,0,6.05,14.66,0,0,0,0,25.99,0,0,0,0,0,0,0,0,0,0,0,0,0,0,0,0,0,0,0,0,0,0,0,0,0,0,0,0,0,null,null,null,null,null,null,null,0,{"$f":"+INDEX($F4486:$DJ4486,1,Sheet3!$C$1)","v":1},{"$f":"+IF(Sheet3!$C$1=1,IF(DN4486<3,0,1),1)","v":0}]
[2,2,"16H",9,4,2,1820593.650261688,884.78,777.69999999999993,122663.20999999999,901.74,0,0,0,0,0,0,411.29999999999995,473.48,473.48,1178.5999999999999,1178.5999999999999,884.78,10.92,45.79,313224.63,212501.61,0,116503.81,116503.81,0,95997.799999999988,2384.4,98338.62,0,0,98338.62,0,0,73127.08,4713.8999999999996,1879.22,0,1879.22,0,2834.68,0,0,0,0,1702.8,1131.8800000000001,0,0,0,0,0,0,0,0,0,0,0,0,0,0,0,0,317938.53000000003,0,0,0,0,0,353.92,0,45.79,0,11.59,490.44,738,77,727,0,0,0,0,0,0,0,0,0,0,0,0,1,10.92,0,0,1,10.92,0,0,0,0,0,0,0,0,null,null,null,null,null,null,null,0,{"$f":"+INDEX($F4505:$DJ4505,1,Sheet3!$C$1)","v":2},{"$f":"+IF(Sheet3!$C$1=1,IF(DN4505<3,0,1),1)","v":0}]
[2,2,"16I","1_1",3,21,2720615.8985754787,1837.74,1739.8700000000003,226152.66,1849.4699999999998,1422.62,1408.4,0,0,59.06,159.86000000000001,140.94,69.48,3.1599999999999997,10.350000000000001,10.350000000000001,1835.5299999999997,940.71,916.9,412286.80999999994,386304.79000000004,0,212471.83999999997,212471.83999999997,0,173832.95,24976.590000000007,1005.43,0,1005.43,0,0,0,178242.56,268250.21000000002,24562.080000000002,0,24562.080000000002,0,243688.13000000006,1256.98,0,0,0,1386.4,184.8,14359.85,0,0,161013.51,0,0,0,0,0,0,0,0,0,0,65486.59,0,680537.02000000025,138.01,1058.8399999999999,0,175.01000000000002,10.09,170.35000000000002,159.86000000000001,8.3899999999999988,3.05,43.82,81.20999999999998,0,1,2,47,2,0,0,14,903.33,1,12.47,0,0,10,614.61,4,8.4499999999999993,4,160.82,1,8.65,0,0,0,0,0,0,0,0,null,null,null,null,null,null,null,21,{"$f":"+INDEX($F4534:$DJ4534,1,Sheet3!$C$1)","v":21},{"$f":"+IF(Sheet3!$C$1=1,IF(DN4534<3,0,1),1)","v":1}]
[2,2,"16I",11,4,1,71055.589143709803,241.83,241.83,15854.37,242.28,14.61,0,0,0,0,0,6.37,235.46,235.46,80.849999999999994,80.849999999999994,241.83,237.37,241.83,40609.1,27466.09,0,15058.26,15058.26,0,12407.83,1192.2,11950.81,0,11950.81,0,0,0,6294.04,19639.39,3755,0,3755,0,15884.39,0,0,0,0,0,0,0,0,0,10232.11,0,0,0,0,5652.28,0,0,0,0,0,0,0,60248.49,0,0,0,0,0,4.25,0,1.33,0,0.79,235.91,0,0,0,521,18,0,0,1,233.35,0,0,0,0,0,0,0,0,0,0,0,0,0,0,0,0,1,178.74,0,0,null,null,null,null,null,null,null,0,{"$f":"+INDEX($F4572:$DJ4572,1,Sheet3!$C$1)","v":1},{"$f":"+IF(Sheet3!$C$1=1,IF(DN4572<3,0,1),1)","v":0}]
[2,2,"16J","10_2",4,15,1280417.9330810399,4673.8399999999992,4486.3099999999995,330737.04000000004,5395.119999999999,142.79,225.67,0,0,188.29,24.81,233.39999999999998,4001.67,4001.6699999999996,2114,2124,4673.6600000000008,5144.5200000000004,4667.95,781016.46000000008,569793.42999999993,0,312388.71000000002,312388.71000000002,0,257404.71999999997,17811.460000000003,193411.56999999998,189110.71,0,4300.8599999999997,0,0,140489.41999999998,508390.18,87241.18,0,1933.76,85307.42,421149,102624.77,43350.58,0,0,1237.68,0,0,51679.7,0,123955.85,0,0,6623.85,0,12308.67,350,0,0,0,0,0,79017.899999999994,1289406.6400000004,132.75,0,0,90.92,2,388.90999999999997,24.810000000000002,15.09,5.28,9.9099999999999984,4722.95,32,1586,966,0,0,0,0,9,2392.12,4,849.39,3,441.84,0,0,1,7.64,0,0,0,0,0,0,5,57.79,5,289.24,1,14.3,null,null,null,null,null,null,null,15,{"$f":"+INDEX($F4621:$DJ4621,1,Sheet3!$C$1)","v":15},{"$f":"+IF(Sheet3!$C$1=1,IF(DN4621<3,0,1),1)","v":1}]
[2,2,"170",4,2,32,2362375.6904683197,386.24000000000007,384.05,39877.090000000004,417.22,191.57,211.01,0,0,4.6500000000000004,47.88,64.010000000000005,58.69,0,3.6,3.6,385.67,78.960000000000008,78.97,98064.400000000009,65154.030000000013,0,35912.810000000005,35912.810000000005,0,29241.220000000005,31891.360000000008,1019.01,0,411.32,0,607.69000000000005,0,52735.88,37175.5,4872.3900000000012,0,4848.9900000000007,23.4,32303.11,5478,12027.96,0,0,0,0,0,0,0,14797.15,0,0,0,0,0,0,0,0,0,0,0,0,135239.90000000002,40.94,10.26,0,0.43,159.38,49.67,47.88000000000001,9.7999999999999989,1.3399999999999999,5.6700000000000008,89.67,0,0,1,4,1,14,1,4,28.93,1,10.65,2,19.09,0,0,0,0,0,0,0,0,0,0,0,0,0,0,0,0,null,null,null,null,null,null,null,32,{"$f":"+INDEX($F4653:$DJ4653,1,Sheet3!$C$1)","v":32},{"$f":"+IF(Sheet3!$C$1=1,IF(DN4653<3,0,1),1)","v":1}]
[2,2,"170",5,1,19,157800.48157420094,67.89,75.55,8778.69,72.5,25.4,0.1,0,0,0,0.01,62.830000000000005,4.95,0,2.7,2.7,67.2,44.74,10.210000000000001,22150.279999999995,14011.33,0,7681.68,7681.68,0,6329.65,7750.4999999999991,388.45,0,388.45,0,0,0,3533.1299999999997,13416.08,1236.3000000000002,0,1236.3000000000002,0,12179.78,0,0,0,0,0,0,0,0,0,12179.78,0,0,0,0,0,0,0,0,0,0,0,0,35566.36,0,0,0,0,0.1,1.47,0.01,0.37,58.940000000000005,0,9.5599999999999987,0,0,0,17,1,0,0,13,44.74,0,0,0,0,0,0,0,0,0,0,0,0,0,0,0,0,0,0,0,0,null,null,null,null,null,null,null,19,{"$f":"+INDEX($F4656:$DJ4656,1,Sheet3!$C$1)","v":19},{"$f":"+IF(Sheet3!$C$1=1,IF(DN4656<3,0,1),1)","v":1}]
[2,2,"181",0,1,1,null,2.86,2.57,1661.22,3.01,0,0,0,0,0,0,1.06,1.8,0,0,18.8,2.86,0,0,3184.2999999999997,2877.8999999999996,0,1577.8,1577.8,0,1300.0999999999999,306.39999999999998,0,0,0,0,0,0,10.72,0,0,0,0,0,0,null,null,null,null,null,null,null,null,null,null,null,null,null,null,null,null,null,null,null,null,null,null,3184.2999999999997,0,0,0,0,0,1.06,0,0,0,0,1.95,0,0,0,0,0,0,0,0,0,0,0,0,0,0,0,0,0,0,0,0,0,0,0,0,0,0,0,0,0,null,null,null,null,null,null,null,0,{"$f":"+INDEX($F4705:$DJ4705,1,Sheet3!$C$1)","v":1},{"$f":"+IF(Sheet3!$C$1=1,IF(DN4705<3,0,1),1)","v":0}]
[2,2,"181",7,1,8,7662.1369999999997,20.939999999999998,24.24,2951.13,20.939999999999998,3.46,0,0,0,0,0,15.89,5.05,0,0,0,20.939999999999998,5.0400000000000009,19.34,6617.7100000000009,4413.33,0,2436.58,2436.58,0,1976.75,2204.38,0,0,0,0,0,0,851.34,2734.99,1939.65,0,1939.65,0,795.34,0,0,0,0,795.34,0,0,0,0,0,0,0,0,0,0,0,0,0,0,0,0,0,9352.6999999999989,0,0,0,0,0,0.11,0,0,0,15.780000000000001,5.0500000000000007,0,0,0,0,0,0,0,0,0,0,0,0,0,0,0,4,5.04,0,0,0,0,0,0,0,0,0,0,0,0,null,null,null,null,null,null,null,8,{"$f":"+INDEX($F4739:$DJ4739,1,Sheet3!$C$1)","v":8},{"$f":"+IF(Sheet3!$C$1=1,IF(DN4739<3,0,1),1)","v":1}]
[2,2,"181",13,1,66,41842.500394646653,168.46000000000004,240.25,47743.299999999996,174.35000000000005,7.49,2.96,0,0,9.9700000000000006,12.32,70.179999999999993,73.03,0,0,0,168.45000000000005,15.830000000000002,99.29000000000002,91829.800000000047,72945.549999999974,0,40016.589999999997,39984.849999999991,31.74,32928.959999999992,18884.25,0,0,0,0,0,0,1965.54,7544.4499999999989,7093.4099999999989,0,5372.21,1721.2,451.03999999999996,0,0,0,0,115.02,0,0,0,0,0,0,0,0,0,0,0,0,0,0,0,0,336.02,99374.249999999985,0,0,0,0,2.96,77.63000000000001,0,0.24,0,1.3,78.919999999999987,0,0,0,0,0,0,0,0,0,0,0,0,0,0,0,1,0.71,0,0,0,0,0,0,0,0,0,0,0,0,null,null,null,null,null,null,null,66,{"$f":"+INDEX($F4772:$DJ4772,1,Sheet3!$C$1)","v":66},{"$f":"+IF(Sheet3!$C$1=1,IF(DN4772<3,0,1),1)","v":1}]
[2,2,"184","1_2",3,207,8399571.4906795733,15334.709999999995,15208.250000000002,1337725.9500000002,15882.970000000001,606.1,7774.61,0,0,375.15,2278.94,2837.0900000000006,2068.92,119.17,357.2,370.3,15342.66,6043.82,14129.839999999998,2536654.6799999997,2255362.1199999992,0,1248200.2799999998,1236296.8799999999,11903.4,1007161.8400000008,246464.79000000088,34827.76999999999,15326.13,16680.900000000001,0,0,2820.74,420840.37000000017,1098902.8500000001,422940.76999999996,0,408060.06999999995,14880.7,675962.07999999973,81273.39,33776.5,0,0,31782.48,1939.35,7692.58,0,0,69887.14,0,0,0,0,296.10000000000002,0,37036,285909.90000000002,820,0,6902.48,118646.16,3635557.5300000012,5769.1900000000023,270.81,13.85,1611.8300000000002,102.17000000000002,2769.6599999999994,2205.420000000001,45.499999999999993,32.96,363.83999999999975,2617.1800000000007,0,169,69,959,52,7,2,14,644.91,8,436.02,5,340.17,3,61.75,45,218.56,4,235.26,3,18.47,0,0,0,0,1,8.4600000000000009,0,0,null,null,null,null,null,null,null,207,{"$f":"+INDEX($F4787:$DJ4787,1,Sheet3!$C$1)","v":207},{"$f":"+IF(Sheet3!$C$1=1,IF(DN4787<3,0,1),1)","v":1}]
[2,2,"184",12,2,110,1230086.3600914967,1575.7299999999998,1473.2800000000009,119016.20999999999,1596.8199999999997,108.35,243.04,0,0,71.510000000000005,37.270000000000003,843.8900000000001,380.02,334.71999999999997,825.55,850.85,1575.68,597.62000000000012,1523.53,404660.56999999995,200421.74999999994,0,110369.01,110222.73,146.28,90052.74,112162.8599999999,92075.959999999992,1773.28,90302.68,0,0,0,96625.38,262379.0799999999,118652.73999999998,0,115981.23999999998,2671.5,143726.33999999997,40439.47,13111.04,0,0,66524.240000000005,9599,0,0,0,3984.88,0,0,0,0,0,0,944,1119,150,0,0,7854.71,667039.65000000014,186.23,1.9,0,32.590000000000003,15.030000000000001,263.90000000000003,23.18,19.72,13.59,615.07000000000016,401.10999999999996,0,25,20,4428,290,511,20,3,27.92,8,117.4,3,49.87,0,0,73,424.98,0,0,11,93.89,0,0,0,0,0,0,0,0,null,null,null,null,null,null,null,110,{"$f":"+INDEX($F4839:$DJ4839,1,Sheet3!$C$1)","v":110},{"$f":"+IF(Sheet3!$C$1=1,IF(DN4839<3,0,1),1)","v":1}]
[2,2,"185","1_1",1,44,467363.91395024478,130.88,129.39999999999998,22088.070000000003,131.84000000000003,117.73,118.67,0,0,0,0.75,6.76,4.7,0.19,0.15,0.15,130.88,8.2099999999999991,16.8,51010.92,36427.239999999983,0,19973.66,19973.66,0,16453.580000000002,14583.679999999998,0,0,0,0,0,0,15212.62,5755.2599999999993,1979.9499999999998,0,1979.9499999999998,0,3775.31,0,2088,0,0,137.69999999999999,0,0,0,0,996.9,0,0,0,0,0,0,0,0,0,0,552.71,0,56766.18,2.56,111.83,0,0,4.28,2.9799999999999995,0.75,0.38,0.2,2.99,5.6599999999999993,0,0,0,1,0,0,0,1,3.88,0,0,1,3.48,1,3.88,1,0.85,0,0,0,0,0,0,0,0,0,0,0,0,null,null,null,null,null,null,null,44,{"$f":"+INDEX($F4856:$DJ4856,1,Sheet3!$C$1)","v":44},{"$f":"+IF(Sheet3!$C$1=1,IF(DN4856<3,0,1),1)","v":1}]
[2,2,"185","10_2",2,6,38433.163220967326,75.33,73.83,5649.3899999999994,81.97999999999999,0,2.37,0,0,5.28,0,16.18,51.5,41.699999999999996,34,34,75.33,0,42.480000000000004,17157.370000000003,9713.68,0,5325.5300000000007,5325.5300000000007,0,4388.1499999999996,6050.41,1393.28,1393.28,0,0,0,0,2612.7300000000005,2716.96,2716.96,0,2716.96,0,0,0,0,0,0,0,0,0,0,0,0,0,0,0,0,0,0,0,0,0,0,0,0,19874.330000000002,2.37,0,0,0,0,14.72,0,0.28999999999999998,1.3,5.13,58.149999999999991,0,20,23,0,0,0,0,0,0,0,0,0,0,0,0,0,0,0,0,0,0,0,0,0,0,0,0,0,0,null,null,null,null,null,null,null,6,{"$f":"+INDEX($F4906:$DJ4906,1,Sheet3!$C$1)","v":6},{"$f":"+IF(Sheet3!$C$1=1,IF(DN4906<3,0,1),1)","v":1}]
[2,2,"185",14,1,2,43233.401220677464,7.27,7.15,619.56999999999994,7.27,4.79,4.79,0,0,0,0,0,2.48,0,0,0,7.27,0,0,3103.1299999999997,1071.48,0,587.45000000000005,587.45000000000005,0,484.03,851.23,1180.42,0,0,0,1180.42,0,286.60000000000002,0,0,0,0,0,0,null,null,null,null,null,null,null,null,null,null,null,null,null,null,null,null,null,null,null,null,null,null,3103.1299999999997,0,0,0,0,4.79,0,0,0,0,0,2.48,0,0,0,0,0,0,0,0,0,0,0,0,0,0,0,0,0,0,0,0,0,0,0,0,0,0,0,0,0,null,null,null,null,null,null,null,0,{"$f":"+INDEX($F4923:$DJ4923,1,Sheet3!$C$1)","v":2},{"$f":"+IF(Sheet3!$C$1=1,IF(DN4923<3,0,1),1)","v":0}]
[2,2,"186",6,3,32,3033708.0856084079,2500.3099999999995,2381.2600000000007,207929.76,2555.4700000000003,459.13,51.99,0,0,41.01,42.23,1142.4299999999998,1222.6500000000001,193.32,126.35000000000001,126.35000000000001,2499.9599999999996,1274.6100000000004,2304.0099999999993,420407.93000000005,369351.35,0,208637.74000000002,195043.53,13594.21,160713.61000000007,38150.400000000001,12906.18,5319.82,7586.3599999999988,0,0,0,107605.20999999999,341229.0500000001,69035.44,0,66793.439999999988,2242,272193.6100000001,102810.55,51568.68,0,0,7866.05,12559.66,231.5,11854.68,0,74781.83,0,0,0,0,5615.85,0,0,0,0,0,2472.41,2432.4,761636.9800000001,15.57,0.72,0,35.4,0.3,150.45999999999998,23.35,922.50999999999988,7.9,80.350000000000009,1277.81,0,61,17,334,51,0,0,7,325.14999999999998,12,472.31,5,298.27,1,13.41,8,54.97,1,4.63,8,131.58000000000001,0,0,0,0,3,109.6,0,0,null,null,null,null,null,null,null,32,{"$f":"+INDEX($F4954:$DJ4954,1,Sheet3!$C$1)","v":32},{"$f":"+IF(Sheet3!$C$1=1,IF(DN4954<3,0,1),1)","v":1}]
[2,2,"186",12,5,15,12165468.901781809,27791.989999999998,25703.470000000005,1779808.5399999998,28602.329999999998,1637.32,1080.82,0,0,2615.7600000000002,1020.93,3441.81,19632.669999999998,16928.580000000002,6954.7999999999993,7828.4,27780.540000000005,19470.23,21632.670000000006,3731314.9,3069830.3200000003,0,1679692.31,1679692.31,0,1390138.0100000002,17883.000000000004,643601.57999999984,523499.33,120102.25,0,0,0,392940,1363868.97,56325,0,56325,0,1307543.97,349596.55,345902.51,0,0,43308.22,4507.16,3980.82,1698.05,0,205184.62,0,0,0,0,74929.3,0,0,0,58680,0,27544.02,192212.72,5095183.870000001,682.16,0,0,280.09000000000003,98.03,3235.5099999999998,652.80999999999995,1418.8700000000001,221.09,999.75,20443.010000000002,1,4279,3586,5573,213,12,2,6,6677.54,8,4248.51,6,6471.23,2,715.23,9,562.36,1,68.510000000000005,1,55.66,0,0,0,0,10,3478.76,0,0,null,null,null,null,null,null,null,15,{"$f":"+INDEX($F4990:$DJ4990,1,Sheet3!$C$1)","v":15},{"$f":"+IF(Sheet3!$C$1=1,IF(DN4990<3,0,1),1)","v":1}]
[2,2,"187",8,4,39,12297916.620934807,15264.69,14063.06,1122865.68,15523.800000000003,2878.76,1108.1500000000001,0,0,760.81,164.67,4909.1200000000008,8321.94,3153.01,2433.9,2501.6999999999998,15214.280000000002,8207.86,13866.469999999998,2222508.71,1942907.4000000004,0,1068562.9800000002,1059040.28,9522.7000000000007,874344.41999999993,46495.799999999981,233105.51,181760.45,51345.06,0,0,0,486272.06000000006,960869.54000000015,136495.78,0,130857.45000000001,5638.33,824373.76000000013,274134.28999999998,151591.65,0,0,50458.54,33958.53,12916.73,0,0,237017.96,0,0,0,0,27219.24,0,0,0,0,0,26398.42,10678.4,3183378.2499999995,639.11,0,0,228.13,240.91000000000003,1522.18,73.56,1762.01,716.82,1129.78,8581.0499999999993,0,1569,975,2275,175,0,0,12,3107.84,11,2450.2399999999998,6,1031.45,5,720.79,18,520.32000000000005,3,433.28,10,573.96,0,0,0,0,11,918.43,0,0,null,null,null,null,null,null,null,39,{"$f":"+INDEX($F5039:$DJ5039,1,Sheet3!$C$1)","v":39},{"$f":"+IF(Sheet3!$C$1=1,IF(DN5039<3,0,1),1)","v":1}]
[2,2,"187",14,3,11,5827503.314119257,1205.5600000000002,1111.1300000000001,138641.46,1207.53,740.26,775.76,0,0,30.9,133.26,198.59,67.05,10.24,5.85,5.85,1205.5600000000002,353.00000000000006,1084.1100000000001,413853.03,240182.56999999998,0,131679.87,131679.87,0,108502.70000000001,13114.200000000003,160556.25999999998,0,822.61,0,159733.65,0,135046.74000000002,79931.839999999997,28321.039999999997,0,28321.039999999997,0,51610.8,95.52,46522.44,0,0,1888.84,0,0,0,0,0,0,0,0,0,0,0,0,0,0,0,0,3104,493784.87,122.27000000000001,43.21,0,0,610.28,202.26999999999998,133.26000000000002,4,0,17.649999999999999,69.019999999999982,0,0,0,36,3,0,0,0,0,1,1.99,4,247.08,0,0,3,11.18,0,0,0,0,0,0,0,0,0,0,0,0,null,null,null,null,null,null,null,11,{"$f":"+INDEX($F5073:$DJ5073,1,Sheet3!$C$1)","v":11},{"$f":"+IF(Sheet3!$C$1=1,IF(DN5073<3,0,1),1)","v":1}]
[2,3,"119",8,1,3,14453.189360603268,5.3100000000000005,0,0,5.5200000000000005,4.42,2.92,0,0,0,0,2.39,0,0,12,12,0,2.2799999999999998,2.2799999999999998,886.65000000000009,0,0,0,0,0,0,0,886.65000000000009,886.65000000000009,0,0,0,0,591.15,923.93999999999994,592.79999999999995,0,0,592.79999999999995,331.14,0,0,0,0,0,0,0,331.14,0,0,0,0,0,0,0,0,0,0,0,0,0,0,1810.5900000000001,0,2.68,0,0,0.24,0.21,0,0,1.9000000000000001,0.17,0.21000000000000002,0,8,9,0,0,0,0,0,0,0,0,0,0,0,0,0,0,0,0,0,0,0,0,0,0,0,0,0,0,null,null,null,null,null,null,null,3,{"$f":"+INDEX($F5106:$DJ5106,1,Sheet3!$C$1)","v":3},{"$f":"+IF(Sheet3!$C$1=1,IF(DN5106<3,0,1),1)","v":1}]
[2,3,"11A","10_15",1,28,170077.31392715496,12.609999999999998,0,0,12.659999999999998,8.9499999999999993,1.1000000000000001,0,0,0,0,10.229999999999999,1.28,1.28,312.3,312.3,1.1299999999999999,4.37,1.1299999999999999,16831.539999999997,0,0,0,0,0,0,0,16831.539999999997,16534.489999999994,297.05,0,0,0,6053.1600000000008,5836.9799999999987,293.8,0,0,293.8,5543.1799999999994,0,0,0,0,0,0,0,623.16,0,0,0,0,0,0,0,0,0,0,4920.0200000000004,0,0,0,22668.520000000008,0.5,0.48,0,0,0.12,9.3699999999999992,0,0,0.32999999999999996,0,1.33,4,167,238,21,1,0,0,0,0,0,0,0,0,0,0,0,0,0,0,0,0,0,0,0,0,0,0,0,0,null,null,null,null,null,null,null,28,{"$f":"+INDEX($F5123:$DJ5123,1,Sheet3!$C$1)","v":28},{"$f":"+IF(Sheet3!$C$1=1,IF(DN5123<3,0,1),1)","v":1}]
[2,3,"11C",11,2,7,50884.004144855084,59.52,0,0,86.11999999999999,20.3,1.66,0,0,0,0,8.67,72,26.08,27.15,27.15,0,24.150000000000002,82.47999999999999,3533.36,0,0,0,0,0,0,0,3533.36,379.99,3153.37,0,0,0,2776.66,16470.400000000001,11718,0,0,11718,4752.3999999999996,0,3272.5,0,0,0,0,0,67.5,0,0,0,0,752.4,0,0,0,0,0,660,0,0,0,20003.759999999998,0,1.2,0,0,0.45999999999999996,7.5300000000000011,0,0.98,0.29000000000000004,0,75.64,0,3,0,106,8,44,3,0,0,0,0,1,19.68,0,0,0,0,0,0,0,0,0,0,1,3.96,0,0,0,0,null,null,null,null,null,null,null,7,{"$f":"+INDEX($F5159:$DJ5159,1,Sheet3!$C$1)","v":7},{"$f":"+IF(Sheet3!$C$1=1,IF(DN5159<3,0,1),1)","v":1}]
[2,3,"11E","10_2",1,1,1262.6071561463918,4.6900000000000004,0,0,6.19,0,0.97,0,0,0,2.0499999999999998,0,1.67,1.67,2.4,2.4,0,1.67,4.6900000000000004,253.33,0,0,0,0,0,0,0,253.33,253.33,0,0,0,0,132.32,1521.3799999999999,1101.0999999999999,0,0,1101.0999999999999,420.28,0,0,0,0,0,0,0,0,0,0,0,0,0,140.28,0,0,0,0,280,0,0,0,1774.7099999999998,0.97,0,0,0,0,0,2.0499999999999998,0,0,0,3.17,0,2,1,0,0,0,0,0,0,0,0,0,0,0,0,0,0,0,0,0,0,1,1.67,0,0,0,0,0,0,null,null,null,null,null,null,null,0,{"$f":"+INDEX($F5190:$DJ5190,1,Sheet3!$C$1)","v":1},{"$f":"+IF(Sheet3!$C$1=1,IF(DN5190<3,0,1),1)","v":0}]
[2,3,"150","10_1",2,1,7325.47,8.75,0,0,11.21,0,0.51,0,0,7.35,0,0.08,0.81,0.81,9,9,0,0,8.75,506.64,0,0,0,0,0,0,0,506.64,506.64,0,0,0,0,212.4,1872.5,1872.5,0,0,1872.5,0,0,0,0,0,0,0,0,0,0,0,0,0,0,0,0,0,0,0,0,0,0,0,2379.14,0.51,0,0,0,0,7.35,0,0.08,0,0,3.27,1,5,6,0,0,0,0,0,0,0,0,0,0,0,0,0,0,0,0,0,0,0,0,0,0,0,0,0,0,null,null,null,null,null,null,null,0,{"$f":"+INDEX($F5207:$DJ5207,1,Sheet3!$C$1)","v":1},{"$f":"+IF(Sheet3!$C$1=1,IF(DN5207<3,0,1),1)","v":0}]
[2,3,"16F",8,2,2,22034.957693869881,18.82,0,0,24.349999999999998,0,0.31,0,0,0.23,0,14.77,3.51,3.51,6,6,0,1.42,18.82,845.48,0,0,0,0,0,0,0,845.48,0,845.48,0,0,0,868.22,2139.8199999999997,1909.78,1909.78,0,0,230.04,0,0,0,0,230.04,0,0,0,0,0,0,0,0,0,0,0,0,0,0,0,0,0,2985.2999999999997,0.12,0,0,0,0.19,1.4,0,2.23,0.15,11.219999999999999,9.0399999999999991,0,0,0,23,2,14,1,0,0,0,0,0,0,0,0,1,1.42,0,0,0,0,0,0,0,0,0,0,0,0,null,null,null,null,null,null,null,0,{"$f":"+INDEX($F5257:$DJ5257,1,Sheet3!$C$1)","v":2},{"$f":"+IF(Sheet3!$C$1=1,IF(DN5257<3,0,1),1)","v":0}]
[2,3,"16G","10_1",2,1,7299.3853685781187,9.93,0,0,10.27,7.37,0.49,0,0,0,0,0.39,9.0500000000000007,9.0500000000000007,15.2,15.2,9.93,8.57,9.93,1519.94,0,0,0,0,0,0,0,1519.94,1519.94,0,0,0,0,1393.33,4745.1000000000004,2096.6999999999998,0,0,2096.6999999999998,2648.4,0,0,0,0,0,0,0,0,0,0,0,0,1038.4000000000001,0,0,350,0,0,1260,0,0,0,6265.0400000000009,0,0.49,0,0,0,0.33,0,0,0,0,9.39,0,10,12,0,0,0,0,0,0,0,0,0,0,0,0,0,0,0,0,0,0,0,0,1,6.36,0,0,1,8.57,null,null,null,null,null,null,null,0,{"$f":"+INDEX($F5274:$DJ5274,1,Sheet3!$C$1)","v":1},{"$f":"+IF(Sheet3!$C$1=1,IF(DN5274<3,0,1),1)","v":0}]
[2,3,"16J",11,1,172,1131159.7152172404,283.84499999999997,8.1999999999999993,690.66,419.13000000000011,40.14,45.89,0,0,20.9,0.13,154.51000000000008,66.91,66.91,896.70000000000016,898.70000000000016,43.839999999999996,135.26,272.63,131794.30000000008,0,0,0,0,0,0,0,131794.30000000008,253.33,131540.97000000006,0,0,0,40102.46,91145.73000000004,68593.329999999973,0,1340.35,67252.979999999967,22552.400000000001,5383.81,0,0,0,2951.71,0,0,11791.05,0,0,0,0,87.4,0,0,0,0,0,1575,0,0,763.43,222940.03000000003,33.849999999999994,7.7799999999999994,0,1.1099999999999999,2.8699999999999997,122.53999999999996,0.13,6.7700000000000005,5.129999999999999,36.879999999999988,197.6999999999999,1,14,8,4058,335,1326,123,0,0,2,2.3199999999999998,0,0,0,0,20,18.28,0,0,0,0,0,0,1,0.46,0,0,0,0,null,null,null,null,null,null,null,172,{"$f":"+INDEX($F5326:$DJ5326,1,Sheet3!$C$1)","v":172},{"$f":"+IF(Sheet3!$C$1=1,IF(DN5326<3,0,1),1)","v":1}]
[2,3,"170","10_15",1,32,628203.09544663818,29.499999999999996,0,0,31.200000000000003,2.52,0.53,0,0,4.32,0,16.98,7.67,7.67,1366.9,1366.9,0,0,1.52,128841.57000000002,0,0,0,0,0,0,0,128841.57000000002,126282.31,2559.2599999999998,0,0,0,21639.33,197.6,197.6,0,197.6,0,0,0,0,0,0,0,0,0,0,0,0,0,0,0,0,0,0,0,0,0,0,0,0,129039.17000000001,0,0.35,0,0,0.18,20.99,0,0.04,0,0.27,9.3699999999999992,5,909,795,121,15,18,4,0,0,0,0,0,0,0,0,0,0,0,0,0,0,0,0,0,0,0,0,0,0,null,null,null,null,null,null,null,32,{"$f":"+INDEX($F5341:$DJ5341,1,Sheet3!$C$1)","v":32},{"$f":"+IF(Sheet3!$C$1=1,IF(DN5341<3,0,1),1)","v":1}]
[2,3,"181",12,3,3,33205.43591496595,121.47999999999999,0,0,122.32,7.0000000000000007E-2,1.63,0,0,20.66,0,8.7800000000000011,90.41,18.190000000000001,24.85,24.85,0,0,121.47999999999999,2811.9700000000003,0,0,0,0,0,0,0,2811.9700000000003,1646.6,1165.3700000000001,0,0,0,2028.25,7084.02,7084.02,0,3596.62,3487.4,0,0,0,0,0,0,0,0,0,0,0,0,0,0,0,0,0,0,0,0,0,0,0,9895.9900000000016,1.1000000000000001,0,0,0.46,7.0000000000000007E-2,21.529999999999998,0,4.43,0,1.39,91.25,0,14,5,48,3,3,1,0,0,0,0,0,0,0,0,0,0,0,0,0,0,0,0,0,0,0,0,0,0,null,null,null,null,null,null,null,3,{"$f":"+INDEX($F5374:$DJ5374,1,Sheet3!$C$1)","v":3},{"$f":"+IF(Sheet3!$C$1=1,IF(DN5374<3,0,1),1)","v":1}]
[2,3,"185",9,1,3,1752080.8322336623,1.86,0,0,3.87,0,0,0,0,0,0,0,1.86,1.86,900.2,900.2,0,0,1.86,84273.64,0,0,0,0,0,0,0,84273.64,0,0,84273.64,0,0,99782.95,0,0,0,0,0,0,null,null,null,null,null,null,null,null,null,null,null,null,null,null,null,null,null,null,null,null,null,null,84273.64,0,0,0,0,0,0,0,0,0,0,3.87,614,52,426,0,0,0,0,0,0,0,0,0,0,0,0,0,0,0,0,0,0,0,0,0,0,0,0,0,0,null,null,null,null,null,null,null,3,{"$f":"+INDEX($F5408:$DJ5408,1,Sheet3!$C$1)","v":3},{"$f":"+IF(Sheet3!$C$1=1,IF(DN5408<3,0,1),1)","v":1}]
[2,3,"187","10_15",2,5,78568.487148704851,53.02,0,0,53.02,0.1,0.1,0,0,0,0,41.3,11.62,11.62,154.89999999999998,154.89999999999998,0,0.83,53.02,13819.189999999999,0,0,0,0,0,0,0,13819.189999999999,12539.55,1279.6399999999999,0,0,0,5863.97,5210.84,5076.3799999999992,0,5076.3799999999992,0,134.46,0,0,0,0,134.46,0,0,0,0,0,0,0,0,0,0,0,0,0,0,0,0,0,19030.03,0,0,0,0,0.1,40.47,0,0,0,0.83,11.62,2,101,75,71,10,1,0,0,0,0,0,0,0,0,0,1,0.83,0,0,0,0,0,0,0,0,0,0,0,0,null,null,null,null,null,null,null,5,{"$f":"+INDEX($F5457:$DJ5457,1,Sheet3!$C$1)","v":5},{"$f":"+IF(Sheet3!$C$1=1,IF(DN5457<3,0,1),1)","v":1}]
[2,4,"111",13,1,22,35930.637161492254,36.445,6.51,1344.73,47.66,22.1,1.84,0,0,0,0,18.599999999999998,23.38,0,0,0,8.1100000000000012,8.51,45.26,0,0,0,0,0,0,0,0,0,0,0,0,0,0,758.5200000000001,2788.610000000001,1648.0099999999998,0,0,1648.0099999999998,1140.5999999999999,0,0,0,0,0,0,0,910.2,0,0,0,230.4,0,0,0,0,0,0,0,0,0,0,2788.610000000001,0,1.43,0,0,0.41,20.090000000000003,0,0.1,0.54,0,25.01,0,0,0,0,0,0,0,0,0,0,0,0,0,0,0,0,0,0,0,0,0,0,0,0,0,0,0,0,0,null,null,null,null,null,null,null,22,{"$f":"+INDEX($F5493:$DJ5493,1,Sheet3!$C$1)","v":22},{"$f":"+IF(Sheet3!$C$1=1,IF(DN5493<3,0,1),1)","v":1}]
[2,4,"119",3,1,1,7196.9382541697987,1.56,0,0,1.56,1.56,0.74,0,0,0,0,0.53,0.28999999999999998,0,0,0,0,0,1.56,0,0,0,0,0,0,0,0,0,0,0,0,0,0,0,221.68,221.68,0,0,221.68,0,0,0,0,0,0,0,0,0,0,0,0,0,0,0,0,0,0,0,0,0,0,0,221.68,0,0,0,0,0.74,0.4,0,0,0.13,0,0.28999999999999998,0,0,0,0,0,0,0,0,0,0,0,0,0,0,0,0,0,0,0,0,0,0,0,0,0,0,0,0,0,null,null,null,null,null,null,null,0,{"$f":"+INDEX($F5524:$DJ5524,1,Sheet3!$C$1)","v":1},{"$f":"+IF(Sheet3!$C$1=1,IF(DN5524<3,0,1),1)","v":0}]
[2,4,"119",11,2,51,487835.36225515808,460.52500000000003,13.829999999999998,923.23,889.57,30.22,3.27,0,0,10.53,0,0.31,841.49,13.99,12.549999999999999,148.55000000000001,65.48,18.850000000000001,864.48000000000013,0,0,0,0,0,0,0,0,0,0,0,0,0,0,1631.7399999999998,98521.01999999999,92226.6,0,0,92226.6,6294.42,0,0,0,0,0,0,0,2094.42,0,0,0,0,0,0,0,0,0,0,4200,0,0,0,98521.01999999999,2.0699999999999998,0.79,0,0.08,0.33,29.14,0,0.56000000000000005,1.8800000000000001,0.41000000000000003,854.24000000000012,0,3,1,35,5,14,3,0,0,0,0,0,0,0,0,0,0,0,0,0,0,0,0,0,0,0,0,0,0,null,null,null,null,null,null,null,51,{"$f":"+INDEX($F5541:$DJ5541,1,Sheet3!$C$1)","v":51},{"$f":"+IF(Sheet3!$C$1=1,IF(DN5541<3,0,1),1)","v":1}]
[2,4,"11B",8,1,525,930328.50816193433,1102.9899999999993,52.940000000000012,4962.75,1316.1000000000001,111.87,239.18,0,0,7.57,56.31,732.65000000000055,68.489999999999995,1.98,10.200000000000001,38.000000000000007,247.92000000000002,545.36999999999966,1096.1399999999992,0,0,0,0,0,0,0,0,0,0,0,0,0,0,24554.710000000014,342008.72000000003,250421.74000000022,0,0,250421.74000000022,91586.979999999981,11589.06,0,0,300,10326.290000000001,155.4,0,67060.039999999994,0,797.79,0,758.4,0,0,0,0,0,0,600,0,0,0,342008.72000000003,128.08000000000001,49.27,0,5.43,56.329999999999991,49.31,56.310000000000045,360.74999999999989,97.330000000000013,158.09,278.86999999999989,0,0,3,35,17,3,1,1,2.95,10,27.68,0,0,0,0,66,66.34,0,0,1,1.48,0,0,0,0,0,0,0,0,null,null,null,null,null,null,null,525,{"$f":"+INDEX($F5579:$DJ5579,1,Sheet3!$C$1)","v":525},{"$f":"+IF(Sheet3!$C$1=1,IF(DN5579<3,0,1),1)","v":1}]
[2,4,"11C",5,3,1,54684.79215684798,25.17,0,0,25.17,0,0,0,0,0,0,25.17,0,0,0,0,0,25.17,25.17,0,0,0,0,0,0,0,0,0,0,0,0,0,0,658.5,6004,3017.2,0,0,3017.2,2986.8,0,0,0,0,0,0,0,2986.8,0,0,0,0,0,0,0,0,0,0,0,0,0,0,6004,0,0,0,0,0,0.05,0,0,23.63,0.15,0,0,0,0,0,0,0,0,0,0,0,0,0,0,0,0,0,0,0,0,0,0,0,0,0,0,0,0,0,0,null,null,null,null,null,null,null,0,{"$f":"+INDEX($F5608:$DJ5608,1,Sheet3!$C$1)","v":1},{"$f":"+IF(Sheet3!$C$1=1,IF(DN5608<3,0,1),1)","v":0}]
[2,4,"11D","1_1",1,3,38336.370254991714,6.58,0,0,50.54,4.41,4.62,0,0,0,0,1.96,0,0,0.4,0.4,0,1.94,6.58,0,0,0,0,0,0,0,0,0,0,0,0,0,0,87.12,1959.84,1688.3999999999999,0,0,1688.3999999999999,271.44,0,0,0,0,0,0,0,271.44,0,0,0,0,0,0,0,0,0,0,0,0,0,0,1959.84,0,1.49,0,0,1.81,0,0,1.4100000000000001,0.11,0.08,43.96,0,0,1,0,0,0,0,0,0,0,0,0,0,0,0,0,0,0,0,0,0,0,0,0,0,0,0,0,0,null,null,null,null,null,null,null,3,{"$f":"+INDEX($F5627:$DJ5627,1,Sheet3!$C$1)","v":3},{"$f":"+IF(Sheet3!$C$1=1,IF(DN5627<3,0,1),1)","v":1}]
[2,4,"11E",6,3,4,103185.09191939019,186.56,0,0,210.82,56.17,7.05,0,0,0,22.22,154.72,2.57,0,0,0,65.11,153.96999999999997,185.03,0,0,0,0,0,0,0,0,0,0,0,0,0,0,16843.910000000003,73653.100000000006,14374.2,0,0,14374.2,59278.899999999994,9222.5400000000009,35597.230000000003,0,0,6173.31,4698,0,3587.82,0,0,0,0,0,0,0,0,0,0,0,0,0,0,73653.100000000006,6.16,0.22,0,0,0.66999999999999993,0,22.22,150.75,0.4,1.9300000000000002,26.830000000000002,0,0,0,0,0,0,0,0,0,2,35.229999999999997,2,91.12,0,0,2,56.8,0,0,1,63,0,0,0,0,0,0,0,0,null,null,null,null,null,null,null,4,{"$f":"+INDEX($F5675:$DJ5675,1,Sheet3!$C$1)","v":4},{"$f":"+IF(Sheet3!$C$1=1,IF(DN5675<3,0,1),1)","v":1}]
[2,4,"11E",13,1,87,20401.629912171291,143.96,17.54,1267.28,330.64,0.2,9.98,0,0,3.03,24.25,23.78,82.92,0,0,0,22.5,29.25,121.26,0,0,0,0,0,0,0,0,0,0,0,0,0,0,1258.3499999999999,24976.140000000003,23232.600000000002,0,0,23232.600000000002,1743.5400000000002,0,0,0,0,356.4,0,0,1387.14,0,0,0,0,0,0,0,0,0,0,0,0,0,0,24976.140000000003,1.23,0.2,0,8.5499999999999989,0,18.22,16.169999999999998,1.1600000000000001,0,7.2499999999999991,269.60000000000002,0,0,0,0,0,0,0,0,0,0,0,0,0,0,0,2,2.2000000000000002,0,0,0,0,0,0,0,0,0,0,0,0,null,null,null,null,null,null,null,87,{"$f":"+INDEX($F5692:$DJ5692,1,Sheet3!$C$1)","v":87},{"$f":"+IF(Sheet3!$C$1=1,IF(DN5692<3,0,1),1)","v":1}]
[2,4,"16B",12,2,1,5230.031611161141,5.95,0,0,6.01,0,3.77,0,0,0,0,0.21,1.97,1.97,1,1,0,0,0,0,0,0,0,0,0,0,0,0,0,0,0,0,0,0,0,0,0,0,0,0,null,null,null,null,null,null,null,null,null,null,null,null,null,null,null,null,null,null,null,null,null,null,0,0,0.27,0,0.08,3.42,0.21,0,0,0,0,2.0299999999999998,0,1,0,0,0,0,0,0,0,0,0,0,0,0,0,0,0,0,0,0,0,0,0,0,0,0,0,0,0,null,null,null,null,null,null,null,0,{"$f":"+INDEX($F5746:$DJ5746,1,Sheet3!$C$1)","v":1},{"$f":"+IF(Sheet3!$C$1=1,IF(DN5746<3,0,1),1)","v":0}]
[2,4,"16D",6,2,4,492737.55983433884,43.82,0,0,44.11,34.5,0.32,0,0,1.8,0.42,41.28,0,0,9.1999999999999993,9.1999999999999993,0,38.869999999999997,30.06,0,0,0,0,0,0,0,0,0,0,0,0,0,0,7205.28,21348.66,4719.3999999999996,0,0,4719.3999999999996,16629.260000000002,4230,3215.4,0,0,0,249.9,0,2542.1999999999998,0,5663.76,0,0,0,0,0,0,0,0,728,0,0,0,21348.66,0,0.09,0,0,0.22999999999999998,5.26,0.42,27.14,10.489999999999998,0,0.28999999999999998,0,7,3,0,0,0,0,2,9.5,1,5.81,1,4.16,0,0,0,0,0,0,1,2.38,0,0,0,0,0,0,0,0,null,null,null,null,null,null,null,4,{"$f":"+INDEX($F5759:$DJ5759,1,Sheet3!$C$1)","v":4},{"$f":"+IF(Sheet3!$C$1=1,IF(DN5759<3,0,1),1)","v":1}]
[2,4,"16E",13,2,2,8850.8811802940309,15.190000000000001,15.18,2315.33,16.170000000000002,2.0499999999999998,0.23,0,0,0,0,7.41,7.55,0,0,0,15.190000000000001,0,9.23,0,0,0,0,0,0,0,0,0,0,0,0,0,0,0,0,0,0,0,0,0,null,null,null,null,null,null,null,null,null,null,null,null,null,null,null,null,null,null,null,null,null,null,0,0,0,0,0,0.23,6.91,0,0,0,0.5,8.5300000000000011,0,0,0,0,0,0,0,0,0,0,0,0,0,0,0,0,0,0,0,0,0,0,0,0,0,0,0,0,0,null,null,null,null,null,null,null,0,{"$f":"+INDEX($F5794:$DJ5794,1,Sheet3!$C$1)","v":2},{"$f":"+IF(Sheet3!$C$1=1,IF(DN5794<3,0,1),1)","v":0}]
[2,4,"16G",5,2,26,421404.34408383426,268.22000000000003,0,0,282.99,14.94,3.75,0,0,0.57999999999999996,19.43,244.17999999999998,0.28000000000000003,0,0,1,39.200000000000003,176.19,265.84000000000003,0,0,0,0,0,0,0,0,0,0,0,0,0,0,10587.400000000001,82373.48,37821.919999999991,0,9194.3200000000015,28627.599999999999,44551.56,3695.53,4524.79,0,0,0,4265.1000000000004,0,15877.8,0,16188.34,0,0,0,0,0,0,0,0,0,0,0,0,82373.48,1.27,1.79,0,0,0.69000000000000006,2.14,19.43,1.3599999999999999,219.6,8.9599999999999991,15.050000000000002,0,0,0,0,0,0,0,7,76.17,1,5.25,1,8.3000000000000007,0,0,0,0,0,0,5,40.619999999999997,0,0,0,0,0,0,0,0,null,null,null,null,null,null,null,{"$f":"+DN5826*DO5826","v":26},{"$f":"+INDEX($F5826:$DJ5826,1,Sheet3!$C$1)","v":26},{"$f":"+IF(Sheet3!$C$1=1,IF(DN5826<3,0,1),1)","v":1}]
[2,4,"16I",0,1,1,null,0.83,1.03,559.96,1.18,0,0,0,0,0,0,0,0.83,0,0,236.3,0.83,0,0,0,0,0,0,0,0,0,0,0,0,0,0,0,0,0,0,0,0,0,0,0,null,null,null,null,null,null,null,null,null,null,null,null,null,null,null,null,null,null,null,null,null,null,0,0,0,0,0,0,0,0,0,0,0,1.18,0,0,0,0,0,0,0,0,0,0,0,0,0,0,0,0,0,0,0,0,0,0,0,0,0,0,0,0,0,null,null,null,null,null,null,null,0,{"$f":"+INDEX($F5875:$DJ5875,1,Sheet3!$C$1)","v":1},{"$f":"+IF(Sheet3!$C$1=1,IF(DN5875<3,0,1),1)","v":0}]
[2,4,"16J",4,2,23,354070.59558343323,166.50999999999996,0,0,203.45,12.9,51.8,0,0,4.32,36.49,38.9,35,0,0,4,21.689999999999998,90.710000000000008,161.52999999999997,0,0,0,0,0,0,0,0,0,0,0,0,0,0,3020.54,40672.469999999994,30875.869999999995,0,206.7,30669.169999999995,9796.6,0,0,0,0,322.38,0,0,9218.82,0,0,0,0,0,0,0,0,0,0,0,0,0,255.4,40672.469999999994,23.04,5.1400000000000006,0,3.12,20.5,15.47,36.49,8.9899999999999984,9.0399999999999991,7.68,71.939999999999984,0,0,0,0,0,0,0,0,0,0,0,0,0,0,0,1,1.99,0,0,0,0,0,0,0,0,0,0,0,0,null,null,null,null,null,null,null,23,{"$f":"+INDEX($F5913:$DJ5913,1,Sheet3!$C$1)","v":23},{"$f":"+IF(Sheet3!$C$1=1,IF(DN5913<3,0,1),1)","v":1}]
[2,4,"16J",13,2,20,54255.122567970779,195.29500000000007,6.06,397.29,363.55999999999995,9.2899999999999991,9.35,0,0,0,33.85,107.14999999999999,62.62,0,0,0,22.81,83.449999999999974,151.35000000000002,0,0,0,0,0,0,0,0,0,0,0,0,0,0,2193.79,14475.570000000002,12334.949999999999,0,1128.3999999999999,11206.549999999997,2140.62,0,0,0,0,800.12,0,0,1182.9000000000001,0,0,0,0,0,0,0,0,0,0,0,0,0,157.6,14475.570000000002,6.14,2.11,0,1.1000000000000001,0,93.29,18.57,1.03,2.14,10.809999999999999,212.91,0,0,0,0,0,0,0,0,0,0,0,0,0,0,0,2,5.03,0,0,0,0,0,0,0,0,0,0,0,0,null,null,null,null,null,null,null,20,{"$f":"+INDEX($F5942:$DJ5942,1,Sheet3!$C$1)","v":20},{"$f":"+IF(Sheet3!$C$1=1,IF(DN5942<3,0,1),1)","v":1}]
[2,4,"170",8,1,5,73510.260528222396,12.500000000000002,7.8,1741.6799999999998,12.57,3.73,4.43,0,0,0,4.37,3.37,0.33,0,0,1.484,7.82,0,4.13,0,0,0,0,0,0,0,0,0,0,0,0,0,0,0,598.15,497.35,0,497.35,0,100.8,0,0,0,0,0,0,0,0,0,0,0,0,0,0,0,0,0,0,100.8,0,0,0,598.15,0.4,0.84,0,0,3.19,1.0900000000000001,4.37,1.47,0.80999999999999994,0,0.4,0,0,0,0,0,0,0,0,0,0,0,0,0,0,0,0,0,0,0,0,0,0,0,0,0,0,0,0,0,null,null,null,null,null,null,null,5,{"$f":"+INDEX($F5959:$DJ5959,1,Sheet3!$C$1)","v":5},{"$f":"+IF(Sheet3!$C$1=1,IF(DN5959<3,0,1),1)","v":1}]
[2,4,"181",11,3,4,56141.349742875973,260.09000000000003,92.41,6818.2199999999993,271.79000000000002,0.19,0,0,0,0,0,61.970000000000006,198.12,0,21.45,46.45,189.08,3.12,250.47,0,0,0,0,0,0,0,0,0,0,0,0,0,0,669.08999999999992,4827.24,4044.6000000000004,0,4044.6000000000004,0,782.64,0,0,0,0,505.44,277.2,0,0,0,0,0,0,0,0,0,0,0,0,0,0,0,0,4827.24,0,0,0,0,0,58.180000000000007,0,0.39,0,3.12,209.82,0,0,0,136,5,2,0,0,0,0,0,0,0,0,0,2,3.12,0,0,1,2.64,0,0,0,0,0,0,0,0,null,null,null,null,null,null,null,4,{"$f":"+INDEX($F5999:$DJ5999,1,Sheet3!$C$1)","v":4},{"$f":"+IF(Sheet3!$C$1=1,IF(DN5999<3,0,1),1)","v":1}]
[2,4,"184",7,3,11,398663.53063367109,519.22,0,0,520.61,349.54,2.2599999999999998,0,0,0,0,509.33,7.63,0,0,0,0,398.13,516.41,0,0,0,0,0,0,0,0,0,0,0,0,0,0,39326.25,89244.789999999979,19093.52,0,19093.52,0,70151.27,0,0,0,0,18744.98,18043.689999999999,0,0,0,29202.2,0,0,0,0,0,0,0,0,0,0,0,4160.3999999999996,89244.789999999979,2.2599999999999998,0,0,0,0,1.3,0,0.62,0,502.84999999999997,9.02,0,0,0,0,0,0,0,4,183.46,0,0,0,0,0,0,5,169.19,0,0,7,197.04,0,0,0,0,0,0,0,0,null,null,null,null,null,null,null,11,{"$f":"+INDEX($F6026:$DJ6026,1,Sheet3!$C$1)","v":11},{"$f":"+IF(Sheet3!$C$1=1,IF(DN6026<3,0,1),1)","v":1}]
[2,4,"185","1_1",1,2,8668.4528616003718,4.5,0.91,143.97999999999999,4.62,4.05,4.5,0,0,0,0,0,0,0,0,0,0.92,3.58,0,0,0,0,0,0,0,0,0,0,0,0,0,0,0,349.28,939.15,0,0,0,0,939.15,0,0,0,0,0,0,0,0,0,939.15,0,0,0,0,0,0,0,0,0,0,0,0,939.15,0.45,4.05,0,0,0,0,0,0,0,0,0.12,0,0,0,0,0,0,0,1,3.58,0,0,0,0,0,0,0,0,0,0,0,0,0,0,0,0,0,0,0,0,null,null,null,null,null,null,null,0,{"$f":"+INDEX($F6047:$DJ6047,1,Sheet3!$C$1)","v":2},{"$f":"+IF(Sheet3!$C$1=1,IF(DN6047<3,0,1),1)","v":0}]
[2,4,"186",7,1,167,121066.69633724538,348.13999999999976,6.7700000000000005,445.3,349.25999999999982,23.58,7.0000000000000007E-2,0,0,0,0.54,320.85999999999984,26.67,0,0.15,0.15,8.0500000000000007,237.43,306.66000000000003,0,0,0,0,0,0,0,0,0,0,0,0,0,0,7569.1900000000014,78785.400000000052,36706.450000000012,0,36706.450000000012,0,42078.950000000026,4293.8,0,0,0,33358.980000000003,800.1,0,440.16,0,0,0,0,0,0,0,0,0,0,0,0,0,3185.91,78785.400000000052,0,0,0,6.9999999999999993E-2,0,10.53,0.54,0.24,0.13,309.60999999999996,27.790000000000003,0,0,0,0,1,0,0,0,0,2,7.62,0,0,0,0,123,205.73,0,0,2,7.62,0,0,0,0,0,0,0,0,null,null,null,null,null,null,null,167,{"$f":"+INDEX($F6093:$DJ6093,1,Sheet3!$C$1)","v":167},{"$f":"+IF(Sheet3!$C$1=1,IF(DN6093<3,0,1),1)","v":1}]
[2,4,"187",11,2,13,84937.548415749188,112.50999999999998,10.17,666.73,121.27,0.09,1.35,0,0,14.52,0,65.399999999999991,31.24,22.43,77.649999999999991,93.649999999999991,14.71,3.79,112.50999999999998,0,0,0,0,0,0,0,0,0,0,0,0,0,0,1092.49,8002.99,7615.130000000001,0,7615.130000000001,0,387.86,0,0,0,0,247.86,0,0,0,0,0,0,0,0,0,0,0,0,0,140,0,0,0,8002.99,0.84,0,0,0,0,66.459999999999994,0,1.27,0,12.64,40,0,1,0,378,43,73,17,0,0,0,0,0,0,0,0,1,1.53,0,0,0,0,0,0,0,0,0,0,0,0,null,null,null,null,null,null,null,13,{"$f":"+INDEX($F6142:$DJ6142,1,Sheet3!$C$1)","v":13},{"$f":"+IF(Sheet3!$C$1=1,IF(DN6142<3,0,1),1)","v":1}]
[3,1,"112","1_2",1,115,160626.07992102977,107.58000000000006,100.72000000000003,11680.570000000003,109.97000000000004,4.2699999999999996,77.33,0,0,2.34,0.03,21.810000000000002,6.07,0,0,0,107.58000000000006,0.78,2.3499999999999996,114143.29999999996,114143.29999999996,114143.29999999996,0,0,0,0,0,0,0,0,0,0,0,1245.8300000000002,376.41999999999996,278.2,0,0,278.2,98.22,0,0,0,0,0,0,0,98.22,0,0,0,0,0,0,0,0,0,0,0,0,0,0,114519.71999999996,0.41000000000000003,73.259999999999991,0,0.54,3.1199999999999997,18.259999999999998,0.03,0.56000000000000005,4.3800000000000008,0.38,8.4600000000000009,0,0,0,0,0,0,0,0,0,0,0,0,0,0,0,0,0,0,0,0,0,0,0,0,0,0,0,0,0,null,null,null,null,null,null,null,115,{"$f":"+INDEX($F6166:$DJ6166,1,Sheet3!$C$1)","v":115},{"$f":"+IF(Sheet3!$C$1=1,IF(DN6166<3,0,1),1)","v":1}]
[3,1,"112",13,1,260,370737.28786002623,275.38000000000005,251.78999999999982,27092.759999999991,282.69,208.12,13.29,0,0,8.74,7.43,197.71999999999986,48.2,0,0,0,275.38000000000005,23.429999999999996,46.06,257623.11999999997,257623.11999999997,257623.11999999997,0,0,0,0,0,0,0,0,0,0,0,5430.8499999999976,4834.8900000000003,1017.2099999999999,0,0,1017.2099999999999,3817.6800000000003,0,0,0,0,0,0,0,1770.48,0,0,0,2047.2,0,0,0,0,0,0,0,0,0,0,262458.00999999995,0.39,9.6600000000000019,0,0.86,2.3799999999999994,194.75999999999991,1.33,1.8400000000000005,7.6699999999999964,0.39,55.510000000000005,0,0,0,0,0,0,0,0,0,0,0,0,0,0,0,0,0,0,0,0,0,0,0,0,0,0,0,0,0,null,null,null,null,null,null,null,260,{"$f":"+INDEX($F6177:$DJ6177,1,Sheet3!$C$1)","v":260},{"$f":"+IF(Sheet3!$C$1=1,IF(DN6177<3,0,1),1)","v":1}]
[3,1,"11B",6,1,317,857898.3988471654,1054.9100000000005,810.4400000000004,55916.170000000027,1151.5100000000007,33.64,31.48,0,0,2.35,17.7,944.14,59.24,0.95,3.3,4.3,1034.7900000000002,740.52000000000044,1042.6200000000001,314703.68000000011,314703.68000000011,314703.68000000011,0,0,0,0,0,0,0,0,0,0,0,29316.670000000002,420039.92000000004,235658.01000000007,0,0,235658.01000000007,184381.91000000006,55548.19,4023.12,0,20,57223.1,1966.65,0,53625.74,0,11914.71,0,0,0,0,0,0,0,0,0,0,0,60.4,734743.60000000044,13.889999999999999,10.259999999999998,0,1.4200000000000002,5.3499999999999979,15.099999999999998,17.019999999999996,861.51000000000022,13.209999999999999,53.039999999999992,155.83999999999995,0,0,1,15,2,1,0,15,49.19,34,149.03,4,7.32,0,0,162,361.82,0,0,6,18.73,0,0,0,0,0,0,0,0,null,null,null,null,null,null,null,317,{"$f":"+INDEX($F6214:$DJ6214,1,Sheet3!$C$1)","v":317},{"$f":"+IF(Sheet3!$C$1=1,IF(DN6214<3,0,1),1)","v":1}]
[3,1,"11D",6,1,293,1588119.247713811,1039.9900000000002,772.29999999999973,52380.569999999956,1175.4800000000009,355.53,24.33,0,0,1.1200000000000001,20.55,978.30999999999972,15.68,0,2.4,3.4,1028.7899999999997,819.63000000000011,1020,290548.86999999988,290548.86999999988,290548.86999999988,0,0,0,0,0,0,0,0,0,0,0,94436.969999999914,510519.22000000003,227009.45999999996,0,0,227009.45999999996,283509.76000000007,28695.14,2360.0300000000002,0,13233.18,16445.400000000001,4485.34,0,89038.81,0,129061.86,0,0,0,0,0,0,0,0,0,0,0,190,801068.09,12.08,1.33,0,3.3400000000000003,7.1899999999999959,16.23,20.549999999999994,845.51999999999987,32.769999999999996,65.390000000000029,151.1700000000001,0,0,4,0,0,0,0,64,264.19,13,66.73,2,8.2200000000000006,0,0,50,103.93,0,0,13,43.43,0,0,0,0,0,0,0,0,null,null,null,null,null,null,null,293,{"$f":"+INDEX($F6244:$DJ6244,1,Sheet3!$C$1)","v":293},{"$f":"+IF(Sheet3!$C$1=1,IF(DN6244<3,0,1),1)","v":1}]
[3,1,"16B",12,1,12,40106.157696544215,20.770000000000003,16.29,1366.5399999999995,21.730000000000004,1.1499999999999999,7.81,0,0,0,1.53,7.35,4.08,3.5900000000000003,24.449999999999996,29.449999999999996,20.72,0,2.5499999999999998,11880.8,11880.8,11880.8,0,0,0,0,0,0,0,0,0,0,0,622.24,331.5,331.5,331.5,0,0,0,0,0,0,0,0,0,0,0,0,0,0,0,0,0,0,0,0,0,0,0,0,0,12212.300000000001,5.73,0.78,0,0.72000000000000008,0.57999999999999996,4.7699999999999996,0,0.11,0.86,1.33,5.04,0,0,13,88,15,7,1,0,0,0,0,0,0,0,0,0,0,0,0,0,0,0,0,0,0,0,0,0,0,null,null,null,null,null,null,null,12,{"$f":"+INDEX($F6293:$DJ6293,1,Sheet3!$C$1)","v":12},{"$f":"+IF(Sheet3!$C$1=1,IF(DN6293<3,0,1),1)","v":1}]
[3,1,"16F",5,1,4,15485.690553804074,11.55,10.98,866.83999999999992,11.94,0.1,0.45,0,0,0,0,9.8899999999999988,1.21,0,0,0,11.55,7.31,0,3974.0099999999998,3974.0099999999998,3974.0099999999998,0,0,0,0,0,0,0,0,0,0,0,501.65,1790.8,0,0,0,0,1790.8,0,0,0,0,0,0,0,0,0,1790.8,0,0,0,0,0,0,0,0,0,0,0,0,5764.8099999999995,0,0.1,0,0.35,0,0.35,0,0,8.85,0.54,1.6,0,0,0,0,0,0,0,1,7.31,0,0,0,0,0,0,0,0,0,0,0,0,0,0,0,0,0,0,0,0,null,null,null,null,null,null,null,4,{"$f":"+INDEX($F6333:$DJ6333,1,Sheet3!$C$1)","v":4},{"$f":"+IF(Sheet3!$C$1=1,IF(DN6333<3,0,1),1)","v":1}]
[3,1,"16H",0,1,2,841.64166666666665,3.9299999999999997,3.8,274.98,4.51,0,0,0,0,0,0,3.2199999999999998,0.71,0,0,13.8,3.9299999999999997,1.23,3.9299999999999997,1987.02,1987.02,1987.02,0,0,0,0,0,0,0,0,0,0,0,0,701.06,501.79999999999995,0,0,501.79999999999995,199.26,0,0,0,0,199.26,0,0,0,0,0,0,0,0,0,0,0,0,0,0,0,0,0,2688.08,0,0,0,0,0,1.29,0,0.04,0,1.8199999999999998,1.29,0,0,0,0,0,0,0,0,0,0,0,0,0,0,0,1,1.23,0,0,0,0,0,0,0,0,0,0,0,0,null,null,null,null,null,null,null,0,{"$f":"+INDEX($F6360:$DJ6360,1,Sheet3!$C$1)","v":2},{"$f":"+IF(Sheet3!$C$1=1,IF(DN6360<3,0,1),1)","v":0}]
[3,1,"16I",4,1,121,527159.09310481744,203.18,177.48000000000005,13816.719999999994,272.78000000000009,39.85,50.03,0,0,2.11,0.6,131.07000000000005,19.37,4.09,17.7,17.7,202.82,113.07,149.86000000000004,119956.71999999999,119956.71999999999,119956.71999999999,0,0,0,0,0,0,0,0,0,0,0,6365.4500000000007,48433.340000000018,31642.309999999998,1353.3000000000002,2242.5000000000005,28046.509999999995,16791.03,0,0,0,0,8747.51,0,0,8017.12,0,0,0,0,0,0,0,0,0,0,0,0,0,26.4,168390.06000000003,9.18,2.0700000000000003,0,0,38.559999999999995,15.98,0.60000000000000009,3.069999999999999,7.95,100.89999999999995,88.969999999999942,0,0,0,30,7,74,7,0,0,0,0,0,0,0,0,68,54.61,0,0,0,0,0,0,0,0,0,0,0,0,null,null,null,null,null,null,null,121,{"$f":"+INDEX($F6377:$DJ6377,1,Sheet3!$C$1)","v":121},{"$f":"+IF(Sheet3!$C$1=1,IF(DN6377<3,0,1),1)","v":1}]
[3,1,"181",13,1,35,21920.580517536775,193.84,155.01000000000005,10382.73,213.45000000000002,2.31,0.87,0,0,7.94,82.47,21.68,80.88,0,0,0,193.57000000000002,0.85000000000000009,89.1,34772.849999999991,34772.849999999991,34772.849999999991,0,0,0,0,0,0,0,0,0,0,0,379,6052.9400000000005,5921.7200000000012,0,2490.3000000000002,3431.42,131.22,0,0,0,0,131.22,0,0,0,0,0,0,0,0,0,0,0,0,0,0,0,0,0,40825.79,0,0,0,0,0.87,27.799999999999997,0,0,0.11,1.42,100.49,0,0,0,0,0,0,0,0,0,0,0,0,0,0,0,2,0.85,0,0,0,0,0,0,0,0,0,0,0,0,null,null,null,null,null,null,null,35,{"$f":"+INDEX($F6419:$DJ6419,1,Sheet3!$C$1)","v":35},{"$f":"+IF(Sheet3!$C$1=1,IF(DN6419<3,0,1),1)","v":1}]
[3,1,"185",13,1,73,53072.860835065134,186,153.07999999999998,11238.970000000005,205.12,0.05,2.2599999999999998,0,0,6.02,23.45,68.179999999999993,86.09,0,0,0,181.7,4.16,12.6,71881.94,71881.94,71881.94,0,0,0,0,0,0,0,0,0,0,0,1155.3800000000001,1972.42,1298.5,0,1298.5,0,673.92000000000007,0,0,0,0,673.92,0,0,0,0,0,0,0,0,0,0,0,0,0,0,0,0,0,73854.36,0.8,0,0,1.42,0.04,64.990000000000009,1.75,0.01,0.01,8.77,105.20999999999997,0,0,0,0,0,0,0,0,0,0,0,0,0,0,0,5,4.16,0,0,0,0,0,0,0,0,0,0,0,0,null,null,null,null,null,null,null,73,{"$f":"+INDEX($F6444:$DJ6444,1,Sheet3!$C$1)","v":73},{"$f":"+IF(Sheet3!$C$1=1,IF(DN6444<3,0,1),1)","v":1}]
[3,2,"111",12,1,462,1662318.6208790445,1033.3250000000005,885.53000000000031,102945.86999999995,1272.3099999999997,560.32000000000005,196.24,0,0,14.86,3.41,268.43499999999995,661.75,533.79,797.24999999999989,851.63600000000008,1216.9599999999996,211.59999999999994,1225.1300000000001,327921.28999999998,174299.31000000003,0,95571.36,95571.36,0,78727.950000000099,103021.3099999999,50600.670000000122,25693.570000000022,24907.1,0,0,0,71331.260000000024,288420.93000000017,252928.24999999991,0,0,252928.24999999991,35492.679999999993,0,0,0,0,0,0,0,25255.93,0,0,0,0,2779.3,0,0,350,0,0,7107.45,0,0,0,616342.21999999974,9.5899999999999981,154.12000000000006,0,2.7000000000000011,29.830000000000002,216.68999999999988,3.41,20.069999999999993,114.93000000000006,7.7399999999999993,686.63999999999965,1,246,365,1832,225,196,34,0,0,0,0,0,0,0,0,0,0,0,0,0,0,0,0,15,14.65,0,0,1,2.69,null,null,null,null,null,null,null,462,{"$f":"+INDEX($F6500:$DJ6500,1,Sheet3!$C$1)","v":462},{"$f":"+IF(Sheet3!$C$1=1,IF(DN6500<3,0,1),1)","v":1}]
[3,2,"112","1_2",1,156,302648.36661228182,244.76000000000002,235.37,44419.910000000025,260.63,9.19,173.01,0,0,8.25,1.08,46.14,16.28,0,0,0,244.50000000000003,0.89,2.3199999999999998,102926.55000000006,75467.030000000057,0,41384.829999999994,41384.829999999994,0,34082.199999999983,27459.520000000008,0,0,0,0,0,0,4988.09,717.1400000000001,603.20000000000005,0,0,603.20000000000005,113.94,0,0,0,0,0,0,0,113.94,0,0,0,0,0,0,0,0,0,0,0,0,0,0,103643.69000000005,1.28,162.14999999999998,0,1.8600000000000003,7.719999999999998,43.010000000000005,1.08,1.6800000000000004,8.08,0.44999999999999996,32.149999999999991,0,0,0,0,0,0,0,0,0,0,0,0,0,0,0,0,0,0,0,0,0,0,0,0,0,0,0,0,0,null,null,null,null,null,null,null,156,{"$f":"+INDEX($F6511:$DJ6511,1,Sheet3!$C$1)","v":156},{"$f":"+IF(Sheet3!$C$1=1,IF(DN6511<3,0,1),1)","v":1}]
[3,2,"119",6,1,85,2539973.1037462624,213.82500000000007,174.95999999999998,16456.739999999998,254.40999999999997,158.25,12.16,0,0,1.1299999999999999,0.53,150.12499999999997,66.5,17.97,12.9,19.899999999999999,190.53,105.85000000000001,157.42000000000004,50512.880000000005,28700.849999999995,0,16011.819999999994,15405.769999999995,606.04999999999984,12689.03,20545.399999999994,1266.6299999999999,1266.6299999999999,0,0,0,0,26907.280000000013,60395.340000000026,29787.8,0,0,29787.8,30607.54,5670,0,0,0,0,2380.35,0,11595.24,0,10761.95,0,0,0,0,0,0,0,0,200,0,0,0,110908.22,5.9399999999999995,4.33,0,0.15000000000000002,1.7399999999999998,11.309999999999993,0.53,140.37000000000006,5.0199999999999996,1.2400000000000002,78.559999999999988,0,9,5,2,1,3,0,9,20.86,4,6.3,0,0,0,0,0,0,0,0,11,22.67,0,0,0,0,0,0,0,0,null,null,null,null,null,null,null,85,{"$f":"+INDEX($F6560:$DJ6560,1,Sheet3!$C$1)","v":85},{"$f":"+IF(Sheet3!$C$1=1,IF(DN6560<3,0,1),1)","v":1}]
[3,2,"119",13,1,241,513112.50757102651,447.07,432.53999999999985,60460.869999999995,529.78,284.42,8.3699999999999992,0,0,16.95,5.07,279.50999999999993,143.12,0,0,0,452.24,65.86,131.73999999999998,150871.10999999993,101105.31999999998,0,55528.120000000017,55528.120000000017,0,45577.200000000019,49491.590000000011,274.2,0,274.2,0,0,0,11351.180000000002,11323.279999999995,3633.12,0,0,3633.12,7690.1600000000017,0,0,0,0,0,0,0,7547.28,0,0,0,0,142.88,0,0,0,0,0,0,0,0,0,162194.3899999999,0,6.2899999999999983,0,0.6,1.4800000000000004,281.75000000000006,0.33,2.71,9.5899999999999981,1.46,219.41000000000003,0,0,0,0,0,0,0,0,0,0,0,0,0,0,0,0,0,0,0,0,0,0,0,1,0.8,0,0,0,0,null,null,null,null,null,null,null,241,{"$f":"+INDEX($F6586:$DJ6586,1,Sheet3!$C$1)","v":241},{"$f":"+IF(Sheet3!$C$1=1,IF(DN6586<3,0,1),1)","v":1}]
[3,2,"11A",13,1,264,783670.84440941596,463.55000000000013,432.49999999999994,77760.820000000022,483.2700000000001,409.31,18.309999999999999,0,0,16.09,3.23,378.25000000000006,47.67,0,0,0,463.26000000000016,49.370000000000005,50.54,181444.00000000015,131414.13999999998,0,72185.579999999987,72107.809999999983,77.77,59228.559999999976,50029.859999999993,0,0,0,0,0,0,21503.14,10982.19,6438.2200000000012,0,0,6438.2200000000012,4543.97,0,0,0,0,0,0,0,4543.97,0,0,0,0,0,0,0,0,0,0,0,0,0,0,192426.19000000006,2.5700000000000003,9.6899999999999959,0,0.38,4.8399999999999972,383.84000000000009,3.23,3.0799999999999996,6.5399999999999974,0.26,67.389999999999986,0,0,0,0,0,0,0,0,0,0,0,0,0,0,0,0,0,0,0,0,0,0,0,0,0,0,0,0,0,null,null,null,null,null,null,null,264,{"$f":"+INDEX($F6627:$DJ6627,1,Sheet3!$C$1)","v":264},{"$f":"+IF(Sheet3!$C$1=1,IF(DN6627<3,0,1),1)","v":1}]
[3,2,"11B","1_1",1,74,79425.495383510628,193.49999999999991,175.25999999999996,18550.470000000005,242.17000000000004,132.02000000000001,90.61,0,0,1.23,2.83,23.82,75.010000000000005,0,1,2,193.00999999999991,76.309999999999988,192.44999999999993,50777.75,30602.359999999997,0,16910.940000000006,16910.940000000006,0,13691.419999999996,20175.39,0,0,0,0,0,0,5758.579999999999,34070.089999999989,24514.629999999997,0,0,24514.629999999997,9555.4599999999955,0,0,0,0,0,0,0,7426.86,0,0,0,2124,0,0,0,0,0,0,0,0,0,4.5999999999999996,84847.84,22.500000000000007,62.489999999999988,0,0,5.620000000000001,15.249999999999998,2.8300000000000005,1.9800000000000002,5.2100000000000009,1.6800000000000002,123.67999999999998,0,1,0,0,0,0,0,0,0,0,0,0,0,0,0,0,0,0,0,0,0,0,0,0,0,0,0,0,0,null,null,null,null,null,null,null,74,{"$f":"+INDEX($F6634:$DJ6634,1,Sheet3!$C$1)","v":74},{"$f":"+IF(Sheet3!$C$1=1,IF(DN6634<3,0,1),1)","v":1}]
[3,2,"11C",6,2,112,5116120.2740353961,952.68,868.88,79201.909999999945,1004.8399999999998,823.9,15.8,0,0,1,10.96,882.68000000000018,42.24,16.62,60.6,62.6,950.68999999999994,692.23999999999978,738.3900000000001,235769.41000000003,137884.89000000001,0,76571.77999999997,74295.079999999973,2276.7000000000003,61313.11,92966.93,4917.5900000000011,3546.56,1371.0300000000002,0,0,0,128295.63999999998,530480.22000000009,146497.14000000001,0,0,146497.14000000001,383983.07999999978,91808.56,60717.43,0,2242.1,1018.98,9112,0,35999.300000000003,0,177335.34,0,0,1336.53,0,0,686,0,0,3726.84,0,0,0,766249.63,2.23,6.089999999999999,0,0.22,4.7899999999999991,21.35,10.959999999999997,770.56,71.410000000000011,6.4999999999999991,94.4,0,33,25,71,8,4,1,55,369.22,22,123.31,17,80.260000000000005,0,0,2,6.29,0,0,11,96.1,0,0,2,7.33,0,0,1,5.68,null,null,null,null,null,null,null,112,{"$f":"+INDEX($F6694:$DJ6694,1,Sheet3!$C$1)","v":112},{"$f":"+IF(Sheet3!$C$1=1,IF(DN6694<3,0,1),1)","v":1}]
[3,2,"11C","10_2",1,23,113847.33634489328,103.82,49.51,5494.3799999999992,175.74999999999997,46.56,4.49,0,0,5.27,0,1.41,142.69,105.85,56.000000000000007,56.000000000000007,103.82000000000001,49.160000000000004,159.44,19968.82,9031.5399999999991,0,4951.5499999999993,4951.5499999999993,0,4079.9900000000007,5617.4400000000005,5319.8399999999983,5319.8399999999983,0,0,0,0,6428.2699999999995,32752.67,23537.58,0,0,23537.58,9215.090000000002,0,0,0,450,0,0,0,1537,0,0,0,0,3350.09,0,0,350,0,0,3528,0,0,0,52721.49,0.31,3.1499999999999995,0,0.14000000000000001,0.8899999999999999,10.229999999999999,0,0.38,1.56,0.05,158.99999999999997,0,41,27,0,0,0,0,0,0,0,0,0,0,0,0,0,0,0,0,0,0,0,0,11,17.47,0,0,1,17.440000000000001,null,null,null,null,null,null,null,23,{"$f":"+INDEX($F6711:$DJ6711,1,Sheet3!$C$1)","v":23},{"$f":"+IF(Sheet3!$C$1=1,IF(DN6711<3,0,1),1)","v":1}]
[3,2,"11D","10_15",3,2,39128.321742535903,43.45,41.81,3701.8900000000003,79.989999999999995,16.78,2.74,0,0,0,0,32.85,7.86,7.86,62.8,64.8,43.45,72.290000000000006,43.45,14143.73,6099.32,0,3306.36,3306.36,0,2792.96,2372.4700000000003,5671.9400000000005,5671.9400000000005,0,0,0,0,6138.61,10526.42,5135.55,0,0,5135.55,5390.87,0,0,0,0,0,0,0,4690.87,0,0,0,0,0,0,0,700,0,0,0,0,0,0,24670.15,2.74,0,0,0,0,28.43,0,1.34,0.39,2.4,44.400000000000006,0,46,32,0,0,0,0,0,0,0,0,0,0,0,0,0,0,0,0,0,0,0,0,0,0,0,0,1,3.16,null,null,null,null,null,null,null,0,{"$f":"+INDEX($F6753:$DJ6753,1,Sheet3!$C$1)","v":2},{"$f":"+IF(Sheet3!$C$1=1,IF(DN6753<3,0,1),1)","v":0}]
[3,2,"11E",4,3,134,6995680.116389757,5210.8899999999976,4856.4599999999982,417708.7899999998,5827.0099999999993,123.09,1531.77,0,0,96.92,1261.7,898.41000000000031,1422.09,802.30999999999983,1191.6000000000001,1231.4000000000001,5207.1699999999973,1661.8499999999992,5070.7999999999956,996400.99000000011,713830.81999999983,0,393788.16999999987,387825.5999999998,5962.5700000000006,320042.6500000002,159619.13000000006,122951.04000000004,66392.39,56558.65,0,0,0,265353.65000000002,820549.97999999952,433391.42999999988,0,0,433391.42999999988,387158.54999999993,127453.92,39367.67,0,0,40665.980000000003,10633.13,0,44865.51,0,28211,0,0,0,33412.93,0,12950,0,0,38191.11,10058.700000000001,0,1348.6,1816950.9700000004,870.53,67.44,0,46.949999999999982,546.07999999999993,264.29000000000002,1212.5099999999991,284.09000000000003,57.329999999999991,377.03999999999996,2038.2099999999996,12,541,411,2678,126,34,2,9,178.41,21,374.4,7,126.94,0,0,50,293.41000000000003,0,0,6,142.46,54,455.97,0,0,0,0,23,170.34,null,null,null,null,null,null,null,134,{"$f":"+INDEX($F6778:$DJ6778,1,Sheet3!$C$1)","v":134},{"$f":"+IF(Sheet3!$C$1=1,IF(DN6778<3,0,1),1)","v":1}]
[3,2,"11E","10_1",1,3,6259.0427104667369,9.6700000000000017,8.92,813.65,11.629999999999999,0,0,0,0,0,0,1.3299999999999998,8.34,8.34,13.2,13.2,9.6700000000000017,2.52,9.6700000000000017,2731.2699999999995,1339.1100000000001,0,734.17000000000007,734.17000000000007,0,604.94000000000005,1012.1699999999998,379.99,379.99,0,0,0,0,406.87,2640.49,2400.1,0,0,2400.1,240.39,0,0,0,0,0,0,0,143.69999999999999,0,0,0,0,0,96.69,0,0,0,0,0,0,0,0,5371.76,0,0,0,0,0,1.25,0,0.05,0,0.03,10.3,0,7,10,0,0,0,0,0,0,0,0,0,0,0,0,0,0,0,0,0,0,1,1.34,0,0,0,0,0,0,null,null,null,null,null,null,null,3,{"$f":"+INDEX($F6795:$DJ6795,1,Sheet3!$C$1)","v":3},{"$f":"+IF(Sheet3!$C$1=1,IF(DN6795<3,0,1),1)","v":1}]
[3,2,"150",7,2,1,12382.62,14,14,1739.22,14,11.98,0,0,0,0,0,14,0,0,0,0,14,11.91,11.98,4205.2300000000005,3013.03,0,1651.89,1651.89,0,1361.14,1192.2,0,0,0,0,0,0,0,5330.55,2228.8000000000002,0,0,2228.8000000000002,3101.75,0,0,0,0,0,0,0,0,0,3101.75,0,0,0,0,0,0,0,0,0,0,0,0,9535.7800000000007,0,0,0,0,0,2.02,0,0,0,11.92,0,0,0,0,0,0,0,0,1,11.91,0,0,0,0,0,0,0,0,0,0,0,0,0,0,0,0,0,0,0,0,null,null,null,null,null,null,null,0,{"$f":"+INDEX($F6839:$DJ6839,1,Sheet3!$C$1)","v":1},{"$f":"+IF(Sheet3!$C$1=1,IF(DN6839<3,0,1),1)","v":0}]
[3,2,"150",13,1,39,23705.749500000002,177.33,117.42,9553.2099999999991,268.17000000000013,1.08,5.37,0,0,8.7899999999999991,45.8,45.530000000000008,71.84,0,0,0,176.23,5.83,113.38999999999997,28682.490000000005,15595.949999999999,0,8547.4599999999991,8420.2199999999993,127.24,7048.4900000000007,13086.539999999997,0,0,0,0,0,0,725.1,10717.19,10656.280000000002,0,0,10656.280000000002,60.91,59.04,0,0,0,0,0,0,0,0,0,0,0,0,0,0,0,0,0,0,0,0,1.87,39399.68,5.37,0,0,0,0,49.540000000000006,1.68,1.7300000000000002,0.05,1.3800000000000001,162.68,0,0,0,0,0,0,0,0,0,1,1.23,0,0,0,0,0,0,0,0,0,0,0,0,0,0,0,0,0,0,null,null,null,null,null,null,null,39,{"$f":"+INDEX($F6862:$DJ6862,1,Sheet3!$C$1)","v":39},{"$f":"+IF(Sheet3!$C$1=1,IF(DN6862<3,0,1),1)","v":1}]
[3,2,"16D","1_1",3,20,767361.23940881295,562.1099999999999,552.99,102226.84000000001,563.43999999999994,411.5,496.7,0,0,8.64,42.9,10.36,3.51,0.9,5,5,562.13999999999987,74.59,0,203278.91,169956.33000000002,0,94617.720000000016,94617.720000000016,0,75338.61,22853.280000000006,10469.299999999999,0,0,0,0,10469.299999999999,43231.669999999991,25286.03,0,0,0,0,25286.03,0,0,0,0,0,0,0,0,0,25286.03,0,0,0,0,0,0,0,0,0,0,0,0,228564.94000000003,77.069999999999993,328.96,40.159999999999997,35.15,15.360000000000003,16.52,42.9,0.99,0.9,0,4.8400000000000007,1,0,7,0,0,0,0,3,74.59,0,0,0,0,0,0,0,0,0,0,0,0,0,0,0,0,0,0,0,0,null,null,null,null,null,null,null,20,{"$f":"+INDEX($F6920:$DJ6920,1,Sheet3!$C$1)","v":20},{"$f":"+IF(Sheet3!$C$1=1,IF(DN6920<3,0,1),1)","v":1}]
[3,2,"16D",4,2,25,1161956.4816115953,158.03,147.90999999999997,26354.53,158.04,88.05,123.44,0,0,2.4,3.1,15.440000000000001,13.65,1.77,2.75,5.55,158.03,37.019999999999996,0,58490.299999999996,43460.09,0,24657.429999999997,24657.429999999997,0,18802.66,14903.550000000001,126.66,126.66,0,0,0,0,25124.92,15216.41,0,0,0,0,15216.41,0,6734.09,0,0,0,0,0,0,0,8482.32,0,0,0,0,0,0,0,0,0,0,0,0,73706.709999999992,14.43,19.430000000000003,0,2.91,86.670000000000016,14.990000000000002,3.0999999999999996,2.08,0.38,0.25,13.659999999999998,0,2,0,0,0,4,1,1,25.66,0,0,1,11.36,0,0,0,0,0,0,0,0,0,0,0,0,0,0,0,0,null,null,null,null,null,null,null,25,{"$f":"+INDEX($F6929:$DJ6929,1,Sheet3!$C$1)","v":25},{"$f":"+IF(Sheet3!$C$1=1,IF(DN6929<3,0,1),1)","v":1}]
[3,2,"16E",2,4,11,2017503.9209465496,1309.8000000000002,1220.8600000000001,340571.08999999997,1315.15,1252.3900000000001,1251.94,0,0,0,0.85,38.64,18.37,5.54,8.8000000000000007,8.8000000000000007,1309.1200000000001,1174.26,0,922243.72000000009,590005.27,0,323469.82999999996,323469.82999999996,0,266535.44,13114.200000000003,319124.25,506.64,0,0,0,318617.61,147059.28,340665.52999999997,0,0,0,0,340665.52999999997,0,0,0,0,0,0,0,0,0,340665.53,0,0,0,0,0,0,0,0,0,0,0,0,1262909.25,0,39.959999999999994,1206.4000000000001,5.58,0,8.9899999999999984,0.85,0,0,7.0000000000000007E-2,23.72,0,5,6,0,0,0,0,11,1174.26,0,0,0,0,0,0,0,0,0,0,0,0,0,0,0,0,0,0,0,0,null,null,null,null,null,null,null,{"$f":"+DN6978*DO6978","v":11},{"$f":"+INDEX($F6978:$DJ6978,1,Sheet3!$C$1)","v":11},{"$f":"+IF(Sheet3!$C$1=1,IF(DN6978<3,0,1),1)","v":1}]
[3,2,"16E","10_2",1,6,9724.4714023503584,16.12,15.040000000000001,1799.8400000000001,16.740000000000002,0.41,0.78,0,0,2.16,0,3.8,9.3800000000000008,5.73,4.5999999999999996,4.5999999999999996,15.91,0,0,4695.29,2994.0199999999995,0,1641.48,1641.48,0,1352.54,1701.27,0,0,0,0,0,0,89.76,0,0,0,0,0,0,null,null,null,null,null,null,null,null,null,null,null,null,null,null,null,null,null,null,null,null,null,null,4695.29,0.42,0.36,0,0,0,4.79,0,0,0.2,0.97,10,0,1,6,0,0,0,0,0,0,0,0,0,0,0,0,0,0,0,0,0,0,0,0,0,0,0,0,0,0,null,null,null,null,null,null,null,6,{"$f":"+INDEX($F7006:$DJ7006,1,Sheet3!$C$1)","v":6},{"$f":"+IF(Sheet3!$C$1=1,IF(DN7006<3,0,1),1)","v":1}]
[3,2,"16F",8,2,53,296122.73727822286,300.28000000000003,287.56000000000006,44594.970000000008,315.17000000000007,51.54,72.95,0,0,9.16,1.29,130.06000000000003,86.82,7.9700000000000006,12.700000000000001,14.3,300.2,54.160000000000004,158.76,108828.15,76118.249999999985,0,41757.94,41757.94,0,34360.310000000005,30768.520000000004,1941.38,379.99,228.51,0,0,1332.88,12236.13,21827.439999999995,13702.899999999998,9935.9999999999982,0,3766.8999999999996,8124.5400000000009,0,0,0,0,3400.38,0,0,4724.16,0,0,0,0,0,0,0,0,0,0,0,0,0,0,130655.59000000001,18.790000000000006,31.299999999999997,6.12,6.51,10.15,55.870000000000005,1.29,9.7099999999999991,15.06,55.029999999999994,101.71000000000001,0,4,8,20,4,2,0,0,0,0,0,0,0,0,0,7,20.99,0,0,0,0,0,0,0,0,0,0,0,0,null,null,null,null,null,null,null,53,{"$f":"+INDEX($F7045:$DJ7045,1,Sheet3!$C$1)","v":53},{"$f":"+IF(Sheet3!$C$1=1,IF(DN7045<3,0,1),1)","v":1}]
[3,2,"16F","10_15",2,31,702697.52048033592,155.26000000000002,125.88000000000002,31561.370000000003,167.75,6.35,5.79,0,0,4.63,0,90.86,53.98,53.97999999999999,930.00000000000011,935.6,145.22000000000003,46.120000000000005,107.56,94526.51999999999,53521.829999999994,0,29343.310000000005,29343.310000000005,0,24178.52,13571.530000000002,27433.159999999996,26016.409999999996,1416.75,0,0,0,22211.589999999993,18621.5,11436.63,11034.929999999998,185.9,215.8,7184.87,0,0,0,0,5360.11,0,0,824.76,0,0,0,0,0,0,0,0,0,0,1000,0,0,0,113148.02000000003,0.46,3.5700000000000003,0,0,1.29,25.280000000000005,0,0.36000000000000004,2.5300000000000002,67.3,66.47,15,260,1091,63,17,46,6,0,0,0,0,0,0,0,0,8,33.159999999999997,0,0,0,0,0,0,0,0,0,0,0,0,null,null,null,null,null,null,null,31,{"$f":"+INDEX($F7054:$DJ7054,1,Sheet3!$C$1)","v":31},{"$f":"+IF(Sheet3!$C$1=1,IF(DN7054<3,0,1),1)","v":1}]
[3,2,"16H","1_1",1,5,546284.33727233286,13.27,13.239999999999998,1195.57,14.299999999999999,12.75,12.47,0,0,0,0.12,0.68,0,0,0,0,13.27,9.36,13.27,3641.2400000000002,2066.35,0,1132.8600000000001,1132.8600000000001,0,933.49,1574.89,0,0,0,0,0,0,403.89,5956.25,1673.4500000000003,0,1673.4500000000003,0,4282.8,0,4218,0,0,64.8,0,0,0,0,0,0,0,0,0,0,0,0,0,0,0,0,0,9597.49,3.63,0,0,0,8.84,0,0.12,0,0,0.4,1.03,0,0,0,0,0,0,0,0,0,0,0,3,7.15,0,0,1,0.4,0,0,0,0,0,0,0,0,0,0,0,0,null,null,null,null,null,null,null,5,{"$f":"+INDEX($F7112:$DJ7112,1,Sheet3!$C$1)","v":5},{"$f":"+IF(Sheet3!$C$1=1,IF(DN7112<3,0,1),1)","v":1}]
[3,2,"16H",6,4,3,1343232.3873561874,1757.2399999999998,1799.88,135626.31,1774.29,1073.47,0,0,0,0,22.57,1291.0700000000002,443.6,397.24,152.6,152.6,1757.2399999999998,1134.1399999999999,1728.53,246045.94999999998,226636.56,0,124253.29000000001,124253.29000000001,0,102383.26999999999,3576.6000000000004,15832.79,15832.79,0,0,0,0,76792.58,84333.57,16975,0,11265,5710,67358.570000000007,0,30343.66,0,0,1830.47,19665.16,0,0,0,10724.7,0,0,0,0,2047.3,0,0,0,0,0,2747.28,0,330379.52000000002,0,0,0,0,0,161.36000000000001,22.57,1076.1500000000001,0,11.37,460.65,0,110,90,0,0,0,0,1,27.45,0,0,1,468.03,1,27.45,1,11.37,0,0,1,638.66,0,0,0,0,1,51.82,0,0,null,null,null,null,null,null,null,3,{"$f":"+INDEX($F7129:$DJ7129,1,Sheet3!$C$1)","v":3},{"$f":"+IF(Sheet3!$C$1=1,IF(DN7129<3,0,1),1)","v":1}]
[3,2,"16I",5,1,12,51397.282479968824,39.169999999999995,35.74,2860.9200000000005,40.029999999999994,0.96,0.48,0,0,0,0.5,36.159999999999989,2.0299999999999998,0,0,0,39.169999999999995,7.3599999999999994,21.78,8310.0600000000013,4480.6000000000013,0,2456.4799999999991,2456.4799999999991,0,2024.1200000000001,3829.46,0,0,0,0,0,0,737.98,3810.77,2698.01,2065.6999999999998,0,632.30999999999995,1112.76,0,0,0,0,726.47,0,0,386.29,0,0,0,0,0,0,0,0,0,0,0,0,0,0,12120.83,0,0,0,0,0,2.71,0.5,0,17.059999999999999,13.16,2.89,0,0,0,0,0,0,0,0,0,0,0,0,0,0,0,5,4.53,0,0,0,0,0,0,0,0,0,0,0,0,null,null,null,null,null,null,null,12,{"$f":"+INDEX($F7173:$DJ7173,1,Sheet3!$C$1)","v":12},{"$f":"+IF(Sheet3!$C$1=1,IF(DN7173<3,0,1),1)","v":1}]
[3,2,"16I","10_2",3,4,79467.304705966395,245.84000000000003,264.8,24540.230000000003,286.10000000000002,9.07,0.79,0,0,9.35,0,5.96,229.74,160.68,117.4,117.4,245.84000000000003,74.03,220.68,50746.05,39517.480000000003,0,21665.43,21665.43,0,17852.05,4768.8,6459.77,6459.77,0,0,0,0,1509.77,17191.57,8184.77,1572.59,6612.18,0,9006.7999999999993,0,8446.4,0,0,0,0,0,560.4,0,0,0,0,0,0,0,0,0,0,0,0,0,0,67937.62000000001,0.79,0,0,0,0,14.8,0,0,0,0.51,270,0,92,48,0,0,0,0,0,0,0,0,1,67.69,0,0,0,0,0,0,0,0,0,0,0,0,0,0,0,0,null,null,null,null,null,null,null,4,{"$f":"+INDEX($F7196:$DJ7196,1,Sheet3!$C$1)","v":4},{"$f":"+IF(Sheet3!$C$1=1,IF(DN7196<3,0,1),1)","v":1}]
[3,2,"16J","1_1",3,7,287199.36695328145,458.55999999999995,464.64000000000004,43556.31,492.67999999999995,355.15,347.78,0,0,0,68.19,32.51,10.08,0,4.3,4.3,458.17000000000007,145.94999999999999,458.12,81536.59,73191.19,0,40126.99,40126.99,0,33064.199999999997,8345.4,0,0,0,0,0,0,42494.36,65811.110000000015,24197.11,0,1766.36,22430.75,41614,19297.07,0,0,0,0,912.45,0,2770.32,0,18634.16,0,0,0,0,0,0,0,0,0,0,0,0,147347.70000000001,29.52,263.28999999999996,0,28.700000000000003,26.269999999999996,12.399999999999999,68.19,2.54,5.5600000000000005,11.99,44.2,0,0,4,0,0,2,0,2,84.76,2,45.73,0,0,0,0,0,0,0,0,1,8.69,0,0,0,0,0,0,0,0,null,null,null,null,null,null,null,7,{"$f":"+INDEX($F7213:$DJ7213,1,Sheet3!$C$1)","v":7},{"$f":"+IF(Sheet3!$C$1=1,IF(DN7213<3,0,1),1)","v":1}]
[3,2,"16J",13,2,137,263219.23549882241,1880.4400000000003,1781.0300000000007,143543.37,2725.1000000000026,34.35,80.84,0,0,14.42,512.45000000000005,594.16999999999985,678.56,0,0,0,1869.1600000000003,448.73999999999972,977.56999999999994,369583.74999999994,229782.67000000004,0,127063.61999999998,126528.76999999999,534.85,102719.04999999999,139801.07999999999,0,0,0,0,0,0,11516.97,87324.390000000014,50392.480000000003,0,2054.4,48338.080000000009,36931.910000000011,11357.86,2069.7399999999998,399.5,0,2914.83,0,0,19657.52,0,0,0,0,13.2,0,6.06,0,0,0,0,0,0,513.20000000000005,456908.1399999999,16.460000000000004,5.45,0,58.78,0.15000000000000002,554.42999999999995,61.469999999999992,4.2300000000000004,11.54,34.529999999999994,1523.2200000000003,0,0,0,0,0,0,0,0,0,3,35.65,2,122.66,0,0,17,19.170000000000002,0,0,0,0,0,0,1,3.34,1,5.83,0,0,null,null,null,null,null,null,null,137,{"$f":"+INDEX($F7259:$DJ7259,1,Sheet3!$C$1)","v":137},{"$f":"+IF(Sheet3!$C$1=1,IF(DN7259<3,0,1),1)","v":1}]
[3,2,"170",4,3,12,4395773.5527392346,746.2,689.36999999999989,61712.479999999996,755.45999999999992,418.86,444.57,0,0,21.41,35.880000000000003,30.630000000000003,213.71,194.91000000000003,100.4,100.4,745.75,497.49,278.66999999999996,129232.91,107258.18000000002,0,59116.560000000005,58425.109999999993,691.45,48141.62000000001,13029.560000000001,8945.17,6966.44,1371.04,0,607.69000000000005,0,121119.21999999999,111314.43000000001,6871.74,0,6871.74,0,104442.68999999999,20575.89,16259.44,0,0,0,0,0,0,0,62016.01,0,0,0,0,3419.35,0,0,0,0,0,0,2172,240547.34000000003,3.72,8.35,0,0,432.5,37.79,35.880000000000003,13.209999999999999,0.04,0,222.97000000000003,0,62,52,31,12,29,4,5,287.93,1,155.26,1,54.3,0,0,0,0,0,0,0,0,0,0,0,0,1,143.29,0,0,null,null,null,null,null,null,null,12,{"$f":"+INDEX($F7280:$DJ7280,1,Sheet3!$C$1)","v":12},{"$f":"+IF(Sheet3!$C$1=1,IF(DN7280<3,0,1),1)","v":1}]
[3,2,"181",2,2,22,176980.17230022413,107.14,96.52000000000001,26259.159999999996,107.24000000000002,98.1,98.1,0,0,0,0.14000000000000001,8.8600000000000012,0.04,0,0,0,107.14,45.41,107.14,80436.960000000006,44275.1,0,24273.759999999998,24273.759999999998,0,20001.34,11240.09,24921.769999999997,0,0,0,0,24921.769999999997,8869.4,31453.670000000002,12126.4,0,12126.4,0,19327.27,0,0,0,0,0,0,0,0,0,19327.27,0,0,0,0,0,0,0,0,0,0,0,0,111890.63,0,0,98.1,0,0,1.38,0.14000000000000001,0,0,0,0.14000000000000001,0,0,0,0,0,0,0,10,45.41,0,0,0,0,0,0,0,0,0,0,0,0,0,0,0,0,0,0,0,0,null,null,null,null,null,null,null,22,{"$f":"+INDEX($F7340:$DJ7340,1,Sheet3!$C$1)","v":22},{"$f":"+IF(Sheet3!$C$1=1,IF(DN7340<3,0,1),1)","v":1}]
[3,2,"181",4,2,22,1599092.3469366478,287.62,230.82,18732.189999999995,360.95,95.65,95.3,0,0,0,57.23,54.919999999999995,80.17,4.55,4.5,4.5,285.83000000000004,21.08,199.39,52497.569999999992,31725.359999999997,0,17393.400000000001,17393.400000000001,0,14331.96,20158.670000000006,613.54,0,613.54,0,0,0,23944.29,21185.090000000004,12620.170000000002,0,10425.77,2194.4,8564.92,0,6562.82,0,0,2002.1,0,0,0,0,0,0,0,0,0,0,0,0,0,0,0,0,0,73682.659999999989,8.69,0.35,0,1,85.259999999999977,31.64,12.12,2.31,1.58,17.489999999999998,153.5,0,0,0,22,2,5,1,0,0,0,0,1,21.08,0,0,1,15.92,0,0,0,0,0,0,0,0,0,0,0,0,null,null,null,null,null,null,null,22,{"$f":"+INDEX($F7347:$DJ7347,1,Sheet3!$C$1)","v":22},{"$f":"+IF(Sheet3!$C$1=1,IF(DN7347<3,0,1),1)","v":1}]
[3,2,"184","1_1",1,1,142297.38,2.34,2.34,210.22,2.34,2.34,2.31,0,0,0,0,0.03,0,0,0,0,2.34,2.34,2.34,643.18000000000006,364.2,0,199.67,199.67,0,164.53,278.98,0,0,0,0,0,0,854.25,1686.3,300.3,0,300.3,0,1386,0,1386,0,0,0,0,0,0,0,0,0,0,0,0,0,0,0,0,0,0,0,0,2329.48,0,0,0,0,2.31,0.03,0,0,0,0,0,0,0,0,0,0,0,0,0,0,0,0,1,2.34,0,0,0,0,0,0,0,0,0,0,0,0,0,0,0,0,null,null,null,null,null,null,null,0,{"$f":"+INDEX($F7396:$DJ7396,1,Sheet3!$C$1)","v":1},{"$f":"+IF(Sheet3!$C$1=1,IF(DN7396<3,0,1),1)","v":0}]
[3,2,"184",8,3,263,22026844.425793789,29035.550000000007,26996.100000000009,2344954.0199999986,31410.54,7794.1,4788.3599999999997,0,0,679.36,1308.05,15042,7217.78,1442.18,1734.8000000000011,1762.0000000000011,28440.880000000008,12849.8,25426.169999999995,4552313.6900000013,4057164.6799999988,0,2250411.1400000011,2201831.8200000003,48579.320000000007,1806753.5399999998,313444.20000000153,181704.81000000006,53324.83,128379.98,0,0,0,1433491.27,2861759.2499999981,618133.71000000008,0,567520.03000000014,50613.680000000008,2243625.5400000014,651048.78,233944.37,0,0,228744.75,137773.31,0,191.16,0,687915.29,0,0,0,0,5953.62,0,14448.5,61178.8,4806.04,0,119188.92,98432,7414072.9400000023,2869.2000000000003,564.07999999999993,0,1137.3399999999995,200.17000000000002,4639.47,897.44999999999993,3324.6400000000012,994.7,6340.7100000000037,9592.77,0,485,340,6586,519,31,0,74,5152.2700000000004,41,2549.0500000000002,13,969.78,23,1519.81,118,1940,0,0,61,1765.87,0,0,0,0,6,160.36000000000001,0,0,null,null,null,null,null,null,null,{"$f":"+DN7426*DO7426","v":263},{"$f":"+INDEX($F7426:$DJ7426,1,Sheet3!$C$1)","v":263},{"$f":"+IF(Sheet3!$C$1=1,IF(DN7426<3,0,1),1)","v":1}]
[3,2,"185",0,4,4,2524.9250000000002,2827.24,2841.26,217719.36999999997,2867.8199999999997,151.41,105.92,0,0,317.88,6.06,124.16,2273.2199999999998,2273.2200000000003,1176.8499999999999,14978.75,2827.24,828.07,2229.3599999999997,467765.68,368024.95,0,201033.93,201033.93,0,166991.02000000002,4768.8,94971.930000000008,94743.420000000013,228.51,0,0,0,229265.16,72132.47,11265,0,11265,0,60867.47,0,0,0,0,1526.04,0,0,0,0,39835.339999999997,0,0,0,0,6002.97,0,0,0,5800,0,7703.12,0,539898.15,5.82,85.12,0,7.42,7.5600000000000005,331.32,6.06,78.86,0.86,19.2,2313.8000000000002,0,782,732,10,1,0,0,2,673.51,0,0,0,0,1,101.31,1,9.42,0,0,0,0,0,0,0,0,2,238.84,0,0,null,null,null,null,null,null,null,4,{"$f":"+INDEX($F7463:$DJ7463,1,Sheet3!$C$1)","v":4},{"$f":"+IF(Sheet3!$C$1=1,IF(DN7463<3,0,1),1)","v":1}]
[3,2,"185",2,3,80,6363419.4467295837,3946.6099999999983,3651.639999999999,672945.70000000007,3963.3799999999987,3265.5,3241.09,0,0,0,19.96,315.05000000000007,370.51,40.93,78.149999999999991,78.149999999999991,3946.2299999999987,2231.5700000000002,2702.09,2080816.6,1139457.9999999998,0,626776.14000000025,622313.16000000027,4462.9799999999996,512681.85999999987,93853.819999999891,847504.77999999991,5826.4599999999991,2307.89,0,0,839370.43,329667.91000000015,976109.6599999998,100581.01000000001,0,100581.01000000001,0,875528.64999999979,0,19300.63,0,0,0,0,8855.94,0,0,844762.4,0,0,0,0,0,0,0,0,0,0,2609.6799999999998,0,3056926.2600000012,27.300000000000004,43.650000000000006,3168.3599999999992,0,1.78,178.14999999999998,19.96,25.41,7.32,0.62,387.27999999999992,0,49,22,110,7,0,0,55,2082.8200000000002,0,0,1,33.659999999999997,1,18.32,0,0,1,103.2,0,0,0,0,0,0,0,0,0,0,null,null,null,null,null,null,null,80,{"$f":"+INDEX($F7474:$DJ7474,1,Sheet3!$C$1)","v":80},{"$f":"+IF(Sheet3!$C$1=1,IF(DN7474<3,0,1),1)","v":1}]
[3,2,"185",14,3,85,21467421.746325146,3695.04,2718.9500000000007,729435.65999999992,3719.5800000000004,2789.67,2818.47,0,0,50.05,255.12,477.82000000000016,93.58,15,143.25000000000003,143.25000000000003,3694.94,119.30999999999999,240.85,1912417.1199999994,1241322.2900000003,0,687606.99000000022,687137.20000000019,469.79,553715.29999999993,99768.069999999861,571326.76,8866.3700000000008,5552.6799999999994,0,556907.71000000008,0,617142.82999999973,49672.78,9001.66,0,9001.66,0,40671.120000000003,7032,14852.24,0,0,525.6,0,0,0,0,18261.28,0,0,0,0,0,0,0,0,0,0,0,0,1962089.899999999,116.86999999999998,421.99000000000007,0,24.31,2255.2999999999988,458.36,255.11999999999995,4.42,39.9,22.900000000000002,118.12000000000002,0,72,66,245,13,5,0,3,57.3,2,20.71,2,9.66,0,0,3,3.09,0,0,0,0,0,0,0,0,0,0,0,0,null,null,null,null,null,null,null,85,{"$f":"+INDEX($F7530:$DJ7530,1,Sheet3!$C$1)","v":85},{"$f":"+IF(Sheet3!$C$1=1,IF(DN7530<3,0,1),1)","v":1}]
[3,2,"186",3,3,13,2206574.3794084424,1332.2099999999998,1332.91,132161.31,1358.9,193.12,399.95,0,0,83.18,8.59,206.43,634.05999999999995,627.43999999999994,490.8,517.80000000000007,1332.95,1264.3299999999997,1332.95,299507.61,231708.68999999997,0,128567.10999999997,125173.57999999999,3393.5299999999997,103141.58,15498.600000000004,52300.320000000007,49398.310000000005,2902.01,0,0,0,73972.489999999991,275683.68,34394.480000000003,0,34394.480000000003,0,241289.2,66034.899999999994,95375.679999999993,0,0,8520.1299999999992,6042.05,1827.9,1445.86,0,41007.03,0,0,0,0,9371.09,0,0,0,0,0,4322.6400000000003,7341.92,575191.29,123.02000000000001,8.91,0,233.55000000000004,34.47,208.64,8.59,0.58000000000000007,0,80.250000000000014,660.75,0,384,181,127,9,0,0,3,246.67,4,390.53,4,539.97,1,50.62,6,68.430000000000007,1,30.96,3,65.650000000000006,0,0,0,0,3,264.82,0,0,null,null,null,null,null,null,null,13,{"$f":"+INDEX($F7547:$DJ7547,1,Sheet3!$C$1)","v":13},{"$f":"+IF(Sheet3!$C$1=1,IF(DN7547<3,0,1),1)","v":1}]
[3,2,"186",13,4,12,799302.84197637287,5978.23,5640.37,541093.31000000006,6545.7800000000016,5.77,0,0,0,123.92,34.31,928.08999999999992,4891.91,0,0,0,5977.42,18.66,4023.38,953248.6,938942.20000000007,0,515849.65,513468.97000000009,2380.6799999999998,423092.54999999993,14306.400000000003,0,0,0,0,0,0,7760.7300000000005,30166.719999999998,27731.339999999997,0,27731.339999999997,0,2435.38,0,0,0,0,2404.98,0,0,0,0,0,0,0,0,0,0,0,0,0,0,0,0,30.4,983415.32000000007,0,0,0,0,0,956.15,0,19.599999999999998,0,75.19,5459.4599999999991,0,0,0,0,0,0,0,0,0,0,0,0,0,0,0,2,17.45,0,0,0,0,0,0,0,0,0,0,0,0,null,null,null,null,null,null,null,12,{"$f":"+INDEX($F7593:$DJ7593,1,Sheet3!$C$1)","v":12},{"$f":"+IF(Sheet3!$C$1=1,IF(DN7593<3,0,1),1)","v":1}]
[3,2,"187",4,2,20,1150987.9826286042,277.02,255.73999999999998,20279.010000000002,277.70999999999998,33.69,113.09,0,0,7.32,23.52,93.11,39.979999999999997,26.31,34.650000000000006,34.650000000000006,276.81,167.67999999999995,270.72000000000003,59736.560000000012,34908.82,0,19690.93,19244.419999999998,446.51,15217.890000000001,20006.280000000006,4821.46,0,4821.46,0,0,0,19144.960000000003,75441,19803.509999999998,0,19803.509999999998,0,55637.489999999991,42507.23,2685.84,0,0,7517.35,1917.11,0,102.06,0,0,0,0,0,0,315.5,0,0,0,0,0,0,592.4,135177.56000000003,23.44,1.72,0,22.93,65.000000000000014,39.690000000000005,23.52,6.0399999999999991,1.51,51.99,40.669999999999987,0,0,0,212,18,1,0,0,0,7,132.34,1,6.92,0,0,9,47.7,0,0,2,18.79,0,0,0,0,1,6.31,0,0,null,null,null,null,null,null,null,20,{"$f":"+INDEX($F7614:$DJ7614,1,Sheet3!$C$1)","v":20},{"$f":"+IF(Sheet3!$C$1=1,IF(DN7614<3,0,1),1)","v":1}]
[3,2,"187",13,4,20,1228587.1368418692,9679.41,9377.4300000000021,992465.03999999992,10630.12,0.33,59.34,0,0,944.32,465.31,1138.4000000000001,7072.04,0,0,0,9665.9499999999989,608.31999999999994,6707.4100000000008,1737322.01,1713537.6199999996,0,942671.80999999994,935529.79,7142.02,770865.81,23784.390000000007,0,0,0,0,0,0,43032.93,77472.59,42983.6,0,42983.6,0,34488.990000000005,7935,0,0,0,22553.64,2273.75,0,0,0,838.2,0,0,0,0,0,0,0,0,0,0,0,888.4,1814794.6000000003,0,0,0,59.34,0,1848.7199999999998,0,9.61,0,219.06,8022.7500000000009,0,0,0,0,0,0,0,1,384.08,1,23.75,0,0,0,0,7,198.86,0,0,1,23.75,0,0,0,0,0,0,0,0,null,null,null,null,null,null,null,20,{"$f":"+INDEX($F7663:$DJ7663,1,Sheet3!$C$1)","v":20},{"$f":"+IF(Sheet3!$C$1=1,IF(DN7663<3,0,1),1)","v":1}]
[3,3,"111",12,1,28,98591.13407014792,50.515000000000001,0,0,58.120000000000005,32.07,12.12,0,0,1.46,0,17.574999999999999,23.4,23.4,71.59999999999998,77.435999999999979,16.190000000000001,6.88,56.260000000000012,7741.2299999999977,0,0,0,0,0,0,0,7741.2299999999977,2279.9300000000003,5461.2999999999993,0,0,0,3788.0599999999995,13900.85,12746.209999999997,0,0,12746.209999999997,1154.6400000000001,0,0,0,0,0,0,0,874.74,0,0,0,0,146.30000000000001,0,0,0,0,0,133.6,0,0,0,21642.080000000002,1.35,8.85,0,0,1.5000000000000004,12.860000000000001,0,0.57000000000000006,5.76,0.12000000000000001,24.56,0,17,19,196,26,62,12,0,0,0,0,0,0,0,0,0,0,0,0,0,0,0,0,1,0.77,0,0,0,0,null,null,null,null,null,null,null,28,{"$f":"+INDEX($F7679:$DJ7679,1,Sheet3!$C$1)","v":28},{"$f":"+IF(Sheet3!$C$1=1,IF(DN7679<3,0,1),1)","v":1}]
[3,3,"11B",11,2,26,392299.37528587389,344.21499999999997,0,0,670.2299999999999,6.25,6.07,0,0,0.81,0,1.98,646.82000000000005,646.81999999999994,382.90000000000003,383.90000000000003,2.09,433.73999999999995,663.44999999999982,51595.920000000006,0,0,0,0,0,0,0,51595.920000000006,1519.94,50075.98,0,0,0,30091.85,101447.31,50717.479999999989,0,0,50717.479999999989,50729.83,29579.06,0,0,0,0,0,0,1993.72,0,0,0,0,290.7,157.6,0,8960.7000000000007,0,0,9748.0499999999993,0,0,0,153043.23000000001,0.67,5.39,0,0,0.01,3.7099999999999995,0,7.3100000000000005,0.17,0,652.94000000000005,0,15,9,1198,83,1060,85,0,0,3,171.98,0,0,0,0,0,0,0,0,0,0,2,1.97,1,1.53,0,0,15,415,null,null,null,null,null,null,null,26,{"$f":"+INDEX($F7730:$DJ7730,1,Sheet3!$C$1)","v":26},{"$f":"+IF(Sheet3!$C$1=1,IF(DN7730<3,0,1),1)","v":1}]
[3,3,"11E",9,1,1,18365.885725512166,16.024999999999999,0,0,32.049999999999997,0,0,0,0,0,0,0,32.049999999999997,0,4.5999999999999996,6.6,0,0,32.049999999999997,126.66,0,0,0,0,0,0,0,126.66,126.66,0,0,0,0,54.03,2479,2479,0,0,2479,0,0,0,0,0,0,0,0,0,0,0,0,0,0,0,0,0,0,0,0,0,0,0,2605.66,0,0,0,0,0,0,0,0,0,0,32.049999999999997,3,1,1,0,0,0,0,0,0,0,0,0,0,0,0,0,0,0,0,0,0,0,0,0,0,0,0,0,0,null,null,null,null,null,null,null,0,{"$f":"+INDEX($F7760:$DJ7760,1,Sheet3!$C$1)","v":1},{"$f":"+IF(Sheet3!$C$1=1,IF(DN7760<3,0,1),1)","v":0}]
[3,3,"11E","10_2",2,1,46895.31889237593,63.854999999999997,0,0,158.1,1.82,0,0,0,0,0,0,120.55,0,18.399999999999999,18.399999999999999,123.22,4.49,123.22,1266.6300000000001,0,0,0,0,0,0,0,1266.6300000000001,1266.6300000000001,0,0,0,0,1694.14,6107.57,3999.8,0,0,3999.8,2107.77,0,0,0,0,320.76,0,0,82.8,0,0,0,0,363.09,0,0,0,0,0,1287.72,0,0,53.4,7374.2,0,0,0,0,0,0.69,0,1.98,0,0,155.43,0,8,19,0,0,0,0,0,0,0,0,0,0,0,0,1,1.98,0,0,0,0,0,0,1,1.82,0,0,0,0,null,null,null,null,null,null,null,0,{"$f":"+INDEX($F7765:$DJ7765,1,Sheet3!$C$1)","v":1},{"$f":"+IF(Sheet3!$C$1=1,IF(DN7765<3,0,1),1)","v":0}]
[3,3,"16E",9,2,3,140772.17087184309,0,0,0,0,0,0,0,0,0,0,0,0,0,76.600000000000009,76.600000000000009,0,0,0,6509.41,0,0,0,0,0,0,0,6509.41,0,0,6509.41,0,0,18612.129999999997,0,0,0,0,0,0,null,null,null,null,null,null,null,null,null,null,null,null,null,null,null,null,null,null,null,null,null,null,6509.41,0,0,0,0,0,0,0,0,0,0,0,55,4,31,0,0,0,0,0,0,0,0,0,0,0,0,0,0,0,0,0,0,0,0,0,0,0,0,0,0,null,null,null,null,null,null,null,3,{"$f":"+INDEX($F7814:$DJ7814,1,Sheet3!$C$1)","v":3},{"$f":"+IF(Sheet3!$C$1=1,IF(DN7814<3,0,1),1)","v":1}]
[3,3,"16G","10_15",1,14,48812.545689002865,13.410000000000002,0,0,69.210000000000008,7.19,0.3,0,0,0.27,0,11.720000000000002,1.1200000000000001,1.1200000000000001,68.95,68.95,4.8600000000000003,1.99,12.64,4813.1899999999996,0,0,0,0,0,0,0,4813.1899999999996,4813.1899999999996,0,0,0,0,1639.12,3059.3,2816.3,0,322.39999999999998,2493.9,243,0,0,0,0,0,0,0,243,0,0,0,0,0,0,0,0,0,0,0,0,0,0,7872.4899999999989,0.3,0,0,0,0,11.400000000000002,0,0.49,0,0.1,56.92,1,41,49,6,2,0,1,0,0,0,0,0,0,0,0,0,0,0,0,0,0,0,0,0,0,0,0,0,0,null,null,null,null,null,null,null,14,{"$f":"+INDEX($F7846:$DJ7846,1,Sheet3!$C$1)","v":14},{"$f":"+IF(Sheet3!$C$1=1,IF(DN7846<3,0,1),1)","v":1}]
[3,3,"16J",8,1,2,23029.813129003069,8.98,0,0,10.74,1.58,0.17,0,0,0,0.18,8.629999999999999,0,0,4.5,4.5,0,4.05,8.98,616.97,0,0,0,0,0,0,0,616.97,0,616.97,0,0,0,378.91,2720.38,2092,0,0,2092,628.38,0,0,0,0,0,0,0,628.38,0,0,0,0,0,0,0,0,0,0,0,0,0,0,3337.35,0,0,0,0,0.17,2.25,0.18,3.02,0.33,0.77,1.76,0,0,0,10,2,17,1,0,0,0,0,0,0,0,0,0,0,0,0,0,0,0,0,0,0,0,0,0,0,null,null,null,null,null,null,null,0,{"$f":"+INDEX($F7881:$DJ7881,1,Sheet3!$C$1)","v":2},{"$f":"+IF(Sheet3!$C$1=1,IF(DN7881<3,0,1),1)","v":0}]
[3,3,"16J",12,1,38,273422.91293512465,192.03000000000003,0,0,238.09,19.04,35.68,0,0,18.77,6.22,84.269999999999968,47.09,47.09,130.19999999999999,133.99999999999997,48.89,117.64,190.86,16067.290000000003,0,0,0,0,0,0,0,16067.290000000003,1899.95,14167.340000000002,0,0,0,8424.119999999999,55233.49,36728.6,0,261.3,36467.299999999996,18504.89,7885.49,0,0,0,2922.48,0,0,6129.12,0,0,0,0,0,0,0,0,0,0,330,0,0,1237.8,71300.78,19.38,5.7700000000000005,0,2.1599999999999997,8.3699999999999992,54.309999999999988,6.2200000000000006,17.100000000000001,9.2799999999999994,17.43,93.15,0,14,15,503,46,157,10,0,0,2,22.78,0,0,0,0,9,18.04,0,0,0,0,0,0,0,0,0,0,0,0,null,null,null,null,null,null,null,38,{"$f":"+INDEX($F7894:$DJ7894,1,Sheet3!$C$1)","v":38},{"$f":"+IF(Sheet3!$C$1=1,IF(DN7894<3,0,1),1)","v":1}]
[3,3,"184","10_15",3,9,322787.27711178013,0.86,0,0,0.86,0,0,0,0,0,0,0,0.86,0.86,700.95,700.95,0,0,0,106233.45,0,0,0,0,0,0,0,106233.45,98669.930000000008,7563.52,0,0,0,6165.57,0,0,0,0,0,0,null,null,null,null,null,null,null,null,null,null,null,null,null,null,null,null,null,null,null,null,null,null,106233.45,0,0,0,0,0,0,0,0,0,0,0.86,0,508,295,268,9,0,0,0,0,0,0,0,0,0,0,0,0,0,0,0,0,0,0,0,0,0,0,0,0,null,null,null,null,null,null,null,9,{"$f":"+INDEX($F7948:$DJ7948,1,Sheet3!$C$1)","v":9},{"$f":"+IF(Sheet3!$C$1=1,IF(DN7948<3,0,1),1)","v":1}]
[3,3,"185",8,3,1,374347.42532696977,74.95,0,0,74.95,74.83,27.72,0,0,0,0,47.23,0,0,0,0,0,0,0,6187.14,0,0,0,0,0,0,0,6187.14,0,0,0,6187.14,0,8508.14,0,0,0,0,0,0,null,null,null,null,null,null,null,null,null,null,null,null,null,null,null,null,null,null,null,null,null,null,6187.14,0,0,0,0,27.72,0,0,0,47.11,0,0,0,0,0,0,0,0,0,0,0,0,0,0,0,0,0,0,0,0,0,0,0,0,0,0,0,0,0,0,0,null,null,null,null,null,null,null,0,{"$f":"+INDEX($F7965:$DJ7965,1,Sheet3!$C$1)","v":1},{"$f":"+IF(Sheet3!$C$1=1,IF(DN7965<3,0,1),1)","v":0}]
[3,3,"187","10_15",3,12,424625.81270707649,13.45,0,0,14.7,0.08,0,0,0,0,0,4.43,9.02,9.02,1153.4000000000001,1153.4000000000001,0,0,12.120000000000001,114304.74999999999,0,0,0,0,0,0,0,114304.74999999999,111082.81999999999,3221.93,0,0,0,30434.080000000002,1271.8900000000001,1271.8900000000001,0,1271.8900000000001,0,0,0,0,0,0,0,0,0,0,0,0,0,0,0,0,0,0,0,0,0,0,0,0,115576.63999999998,0,0,0,0,0,4.3499999999999996,0,0,0,0,10.27,0,850,539,129,6,16,1,0,0,0,0,0,0,0,0,0,0,0,0,0,0,0,0,0,0,0,0,0,0,null,null,null,null,null,null,null,12,{"$f":"+INDEX($F8013:$DJ8013,1,Sheet3!$C$1)","v":12},{"$f":"+IF(Sheet3!$C$1=1,IF(DN8013<3,0,1),1)","v":1}]
[3,4,"111",11,1,156,701638.86267669918,581.505,13.09,2883.7500000000005,1068.7,69.66,6.14,0,0,0.34,0.81,26.080000000000005,997.25,302.56000000000012,160.6,545.60000000000014,102.15999999999998,162.40000000000003,930.72000000000025,0,0,0,0,0,0,0,0,0,0,0,0,0,0,3489.38,162903.51000000007,123582.68,0,0,123582.68,39320.830000000009,0,0,0,0,0,0,0,3246.75,0,0,11400.6,475.2,504.98,0,0,0,0,0,23693.3,0,0,0,162903.51000000007,0,4.93,0,0.04,1.17,50.260000000000005,0.80999999999999994,2.1500000000000004,4.0099999999999989,0.32,1003.6700000000001,0,17,10,448,76,350,38,0,0,0,0,0,0,0,0,0,0,0,0,0,0,0,0,4,2.91,0,0,0,0,null,null,null,null,null,null,null,156,{"$f":"+INDEX($F8032:$DJ8032,1,Sheet3!$C$1)","v":156},{"$f":"+IF(Sheet3!$C$1=1,IF(DN8032<3,0,1),1)","v":1}]
[3,4,"11B",7,1,67,46624.765415136295,159.83999999999995,3.3200000000000003,217.64999999999998,169.85999999999999,6.05,1.46,0,0,0,5.13,148.42000000000002,4.83,0,0,0,16.16,76.169999999999987,158.50999999999996,0,0,0,0,0,0,0,0,0,0,0,0,0,0,2939.94,49805.240000000005,32649,0,0,32649,17156.240000000002,4031.5,0,0,0,3102.46,1682.92,0,5624.7,0,2714.66,0,0,0,0,0,0,0,0,0,0,0,0,49805.240000000005,0.57999999999999996,0,0,0.87,0.01,1.98,5.1299999999999981,1.65,2.13,142.29000000000005,14.85,0,0,0,0,0,0,0,1,11.63,4,9.86,0,0,0,0,17,18.850000000000001,0,0,3,21.11,0,0,0,0,0,0,0,0,null,null,null,null,null,null,null,67,{"$f":"+INDEX($F8081:$DJ8081,1,Sheet3!$C$1)","v":67},{"$f":"+IF(Sheet3!$C$1=1,IF(DN8081<3,0,1),1)","v":1}]
[3,4,"11C",9,1,1,4356.9568085301598,1.45,0,0,1.6,1.08,0.57999999999999996,0,0,0.84,0,0.03,0,0,3,3,0,1.45,1.45,0,0,0,0,0,0,0,0,0,0,0,0,0,0,0,552.26,377,0,0,377,175.26,0,0,0,0,0,0,0,175.26,0,0,0,0,0,0,0,0,0,0,0,0,0,0,552.26,0.37,0.15,0,0,0.06,0.84,0,0,0.03,0,0.15,1,0,2,0,0,0,0,0,0,0,0,0,0,0,0,0,0,0,0,0,0,0,0,0,0,0,0,0,0,null,null,null,null,null,null,null,0,{"$f":"+INDEX($F8099:$DJ8099,1,Sheet3!$C$1)","v":1},{"$f":"+IF(Sheet3!$C$1=1,IF(DN8099<3,0,1),1)","v":0}]
[3,4,"150",11,1,16,50264.17,78.709999999999994,0,0,131.75000000000003,0.2,13.32,0,0,0,0.2,31.089999999999996,34.1,8.35,50.550000000000011,70.550000000000011,0,6.63,78.48,0,0,0,0,0,0,0,0,0,0,0,0,0,0,185.72,12427.919999999998,12274.519999999999,0,0,12274.519999999999,153.39999999999998,0,0,0,0,0,0,0,0,0,0,0,0,0,0,0,0,0,0,0,0,0,153.4,12427.919999999998,6.22,0,0,6.96,0.14000000000000001,29.53,0.2,0.43,0.06,0.32,87.14,0,0,0,184,23,119,11,0,0,0,0,0,0,0,0,0,0,0,0,0,0,0,0,0,0,0,0,0,0,null,null,null,null,null,null,null,16,{"$f":"+INDEX($F8148:$DJ8148,1,Sheet3!$C$1)","v":16},{"$f":"+IF(Sheet3!$C$1=1,IF(DN8148<3,0,1),1)","v":1}]
[3,4,"16E",2,1,1,2805.1776,2.0099999999999998,0,0,2.0099999999999998,1.8,1.8,0,0,0,0,0.21,0,0,0,0,0,0,0,0,0,0,0,0,0,0,0,0,0,0,0,0,0,375.8,0,0,0,0,0,0,null,null,null,null,null,null,null,null,null,null,null,null,null,null,null,null,null,null,null,null,null,null,0,0,0,1.8,0,0,0,0,0,0,0,0,0,0,0,0,0,0,0,0,0,0,0,0,0,0,0,0,0,0,0,0,0,0,0,0,0,0,0,0,0,null,null,null,null,null,null,null,0,{"$f":"+INDEX($F8180:$DJ8180,1,Sheet3!$C$1)","v":1},{"$f":"+IF(Sheet3!$C$1=1,IF(DN8180<3,0,1),1)","v":0}]
[3,4,"16G","10_15",1,6,20188.855610897808,1.6800000000000002,0,0,1.6800000000000002,0.96,0.15,0,0,0,0,1.2000000000000002,0.33,0.33,40.85,40.85,0,1.23,1.18,0,0,0,0,0,0,0,0,0,0,0,0,0,0,0,456.5,306.8,0,0,306.8,149.69999999999999,0,0,0,0,0,0,0,149.69999999999999,0,0,0,0,0,0,0,0,0,0,0,0,0,0,456.5,0,0.09,0,0,0.06,1.04,0,0,0.05,0,0.33,1,12,36,1,1,5,0,0,0,0,0,0,0,0,0,0,0,0,0,0,0,0,0,0,0,0,0,0,0,null,null,null,null,null,null,null,6,{"$f":"+INDEX($F8215:$DJ8215,1,Sheet3!$C$1)","v":6},{"$f":"+IF(Sheet3!$C$1=1,IF(DN8215<3,0,1),1)","v":1}]
[3,4,"16H",12,1,21,85460.310988220517,137.77999999999994,18.07,1663.48,158.76,5.32,41.08,0,0,1.02,3.48,70.97999999999999,21.22,18,48.8,53.8,18.579999999999998,43.34,132.61999999999998,0,0,0,0,0,0,0,0,0,0,0,0,0,0,1188.19,17516.939999999995,12381.87,0,7905.97,4475.8999999999996,5135.07,0,0,0,0,4186.08,0,0,748.99,0,0,0,0,0,0,0,0,0,0,200,0,0,0,17516.939999999995,29.79,9.4599999999999991,0,1.1599999999999999,0.67,25.08,3.48,0.53,3.27,41.68,42.2,0,15,10,104,32,39,9,0,0,0,0,0,0,0,0,11,25.85,0,0,0,0,0,0,0,0,0,0,0,0,null,null,null,null,null,null,null,21,{"$f":"+INDEX($F8232:$DJ8232,1,Sheet3!$C$1)","v":21},{"$f":"+IF(Sheet3!$C$1=1,IF(DN8232<3,0,1),1)","v":1}]
[3,4,"170",4,1,14,5570874.069114944,434.92,1.1100000000000001,72.77,439.49999999999994,340.62,340.28,0,0,0,50.6,4.41,39.630000000000003,0,1.65,1.65,7.15,305.51000000000005,16.04,0,0,0,0,0,0,0,0,0,0,0,0,0,0,93991.090000000011,45512.33,1218.08,0,1218.08,0,44294.25,0,5739.6,0,0,0,0,0,0,0,38554.65,0,0,0,0,0,0,0,0,0,0,0,0,45512.33,6.7,0,0,0,333.5800000000001,0.83,50.600000000000009,3,0,0,44.21,0,0,0,0,0,10,1,4,289.20999999999998,0,0,6,16.3,0,0,0,0,0,0,0,0,0,0,0,0,0,0,0,0,null,null,null,null,null,null,null,14,{"$f":"+INDEX($F8266:$DJ8266,1,Sheet3!$C$1)","v":14},{"$f":"+IF(Sheet3!$C$1=1,IF(DN8266<3,0,1),1)","v":1}]
[3,4,"184","10_15",1,3,48291.594206940805,10.210000000000001,0,0,10.210000000000001,0,0,0,0,0,0,10.210000000000001,0,0,97.149999999999991,97.149999999999991,0,0,10.210000000000001,0,0,0,0,0,0,0,0,0,0,0,0,0,0,585.64,1060.67,1060.67,0,1060.67,0,0,0,0,0,0,0,0,0,0,0,0,0,0,0,0,0,0,0,0,0,0,0,0,1060.67,0,0,0,0,0,10.210000000000001,0,0,0,0,0,0,64,32,70,8,10,1,0,0,0,0,0,0,0,0,0,0,0,0,0,0,0,0,0,0,0,0,0,0,null,null,null,null,null,null,null,3,{"$f":"+INDEX($F8299:$DJ8299,1,Sheet3!$C$1)","v":3},{"$f":"+IF(Sheet3!$C$1=1,IF(DN8299<3,0,1),1)","v":1}]
[3,4,"185",12,1,3,27541.230385279974,87.039999999999992,0,0,87.039999999999992,0.17,0.15,0,0,0,0,4.4399999999999995,82.45,82.45,18.899999999999999,21.9,0,0.78,78.91,0,0,0,0,0,0,0,0,0,0,0,0,0,0,29.299999999999997,2741.7400000000002,2475.38,0,2475.38,0,266.36,0,0,0,0,126.36,0,0,0,0,0,0,0,0,0,0,0,0,0,140,0,0,0,2741.7400000000002,0,0,0,0,0.15,1.03,0,2.0299999999999998,0,1.38,82.45,0,0,0,124,2,0,0,0,0,0,0,0,0,0,0,1,0.78,0,0,0,0,0,0,0,0,0,0,0,0,null,null,null,null,null,null,null,3,{"$f":"+INDEX($F8314:$DJ8314,1,Sheet3!$C$1)","v":3},{"$f":"+IF(Sheet3!$C$1=1,IF(DN8314<3,0,1),1)","v":1}]
[null,null,null,null,null,null,null,null,null,null,null,null,null,null,null,null,null,null,null,null,null,null,null,null,null,null,null,null,null,null,null,null,null,null,null,null,null,null,null,null,null,null,null,null,null,null,null,null,null,null,null,null,null,null,null,null,null,null,null,null,null,null,null,null,null,null,null,null,null,null,null,null,null,null,null,null,null,null,null,null,null,null,null,null,null,null,null,null,null,null,null,null,null,null,null,null,null,null,null,null,null,null,null,null,null,null,null,null,null,null,null,null,null,null,null,null,0,{"$f":"+INDEX($F8347:$DJ8347,1,Sheet3!$C$1)","v":0},{"$f":"+IF(Sheet3!$C$1=1,IF(DN8347<3,0,1),1)","v":0}]
[null,null,null,null,null,null,null,null,null,null,null,null,null,null,null,null,null,null,null,null,null,null,null,null,null,null,null,null,null,null,null,null,null,null,null,null,null,null,null,null,null,null,null,null,null,null,null,null,null,null,null,null,null,null,null,null,null,null,null,null,null,null,null,null,null,null,null,null,null,null,null,null,null,null,null,null,null,null,null,null,null,null,null,null,null,null,null,null,null,null,null,null,null,null,null,null,null,null,null,null,null,null,null,null,null,null,null,null,null,null,null,null,null,null,null,null,0,{"$f":"+INDEX($F8348:$DJ8348,1,Sheet3!$C$1)","v":0},{"$f":"+IF(Sheet3!$C$1=1,IF(DN8348<3,0,1),1)","v":0}]
[null,null,null,null,null,null,null,null,null,null,null,null,null,null,null,null,null,null,null,null,null,null,null,null,null,null,null,null,null,null,null,null,null,null,null,null,null,null,null,null,null,null,null,null,null,null,null,null,null,null,null,null,null,null,null,null,null,null,null,null,null,null,null,null,null,null,null,null,null,null,null,null,null,null,null,null,null,null,null,null,null,null,null,null,null,null,null,null,null,null,null,null,null,null,null,null,null,null,null,null,null,null,null,null,null,null,null,null,null,null,null,null,null,null,null,null,0,{"$f":"+INDEX($F8349:$DJ8349,1,Sheet3!$C$1)","v":0},{"$f":"+IF(Sheet3!$C$1=1,IF(DN8349<3,0,1),1)","v":0}]
[null,null,null,null,null,null,null,null,null,null,null,null,null,null,null,null,null,null,null,null,null,null,null,null,null,null,null,null,null,null,null,null,null,null,null,null,null,null,null,null,null,null,null,null,null,null,null,null,null,null,null,null,null,null,null,null,null,null,null,null,null,null,null,null,null,null,null,null,null,null,null,null,null,null,null,null,null,null,null,null,null,null,null,null,null,null,null,null,null,null,null,null,null,null,null,null,null,null,null,null,null,null,null,null,null,null,null,null,null,null,null,null,null,null,null,null,0,{"$f":"+INDEX($F8350:$DJ8350,1,Sheet3!$C$1)","v":0},{"$f":"+IF(Sheet3!$C$1=1,IF(DN8350<3,0,1),1)","v":0}]
[null,null,null,null,null,null,null,null,null,null,null,null,null,null,null,null,null,null,null,null,null,null,null,null,null,null,null,null,null,null,null,null,null,null,null,null,null,null,null,null,null,null,null,null,null,null,null,null,null,null,null,null,null,null,null,null,null,null,null,null,null,null,null,null,null,null,null,null,null,null,null,null,null,null,null,null,null,null,null,null,null,null,null,null,null,null,null,null,null,null,null,null,null,null,null,null,null,null,null,null,null,null,null,null,null,null,null,null,null,null,null,null,null,null,null,null,0,{"$f":"+INDEX($F8351:$DJ8351,1,Sheet3!$C$1)","v":0},{"$f":"+IF(Sheet3!$C$1=1,IF(DN8351<3,0,1),1)","v":0}]
[null,null,null,null,null,null,null,null,null,null,null,null,null,null,null,null,null,null,null,null,null,null,null,null,null,null,null,null,null,null,null,null,null,null,null,null,null,null,null,null,null,null,null,null,null,null,null,null,null,null,null,null,null,null,null,null,null,null,null,null,null,null,null,null,null,null,null,null,null,null,null,null,null,null,null,null,null,null,null,null,null,null,null,null,null,null,null,null,null,null,null,null,null,null,null,null,null,null,null,null,null,null,null,null,null,null,null,null,null,null,null,null,null,null,null,null,0,{"$f":"+INDEX($F8352:$DJ8352,1,Sheet3!$C$1)","v":0},{"$f":"+IF(Sheet3!$C$1=1,IF(DN8352<3,0,1),1)","v":0}]
[null,null,null,null,null,null,null,null,null,null,null,null,null,null,null,null,null,null,null,null,null,null,null,null,null,null,null,null,null,null,null,null,null,null,null,null,null,null,null,null,null,null,null,null,null,null,null,null,null,null,null,null,null,null,null,null,null,null,null,null,null,null,null,null,null,null,null,null,null,null,null,null,null,null,null,null,null,null,null,null,null,null,null,null,null,null,null,null,null,null,null,null,null,null,null,null,null,null,null,null,null,null,null,null,null,null,null,null,null,null,null,null,null,null,null,null,0,{"$f":"+INDEX($F8353:$DJ8353,1,Sheet3!$C$1)","v":0},{"$f":"+IF(Sheet3!$C$1=1,IF(DN8353<3,0,1),1)","v":0}]
[null,null,null,null,null,null,null,null,null,null,null,null,null,null,null,null,null,null,null,null,null,null,null,null,null,null,null,null,null,null,null,null,null,null,null,null,null,null,null,null,null,null,null,null,null,null,null,null,null,null,null,null,null,null,null,null,null,null,null,null,null,null,null,null,null,null,null,null,null,null,null,null,null,null,null,null,null,null,null,null,null,null,null,null,null,null,null,null,null,null,null,null,null,null,null,null,null,null,null,null,null,null,null,null,null,null,null,null,null,null,null,null,null,null,null,null,0,{"$f":"+INDEX($F8354:$DJ8354,1,Sheet3!$C$1)","v":0},{"$f":"+IF(Sheet3!$C$1=1,IF(DN8354<3,0,1),1)","v":0}]
[null,null,null,null,null,null,null,null,null,null,null,null,null,null,null,null,null,null,null,null,null,null,null,null,null,null,null,null,null,null,null,null,null,null,null,null,null,null,null,null,null,null,null,null,null,null,null,null,null,null,null,null,null,null,null,null,null,null,null,null,null,null,null,null,null,null,null,null,null,null,null,null,null,null,null,null,null,null,null,null,null,null,null,null,null,null,null,null,null,null,null,null,null,null,null,null,null,null,null,null,null,null,null,null,null,null,null,null,null,null,null,null,null,null,null,null,0,{"$f":"+INDEX($F8355:$DJ8355,1,Sheet3!$C$1)","v":0},{"$f":"+IF(Sheet3!$C$1=1,IF(DN8355<3,0,1),1)","v":0}]
[null,null,null,null,null,null,null,null,null,null,null,null,null,null,null,null,null,null,null,null,null,null,null,null,null,null,null,null,null,null,null,null,null,null,null,null,null,null,null,null,null,null,null,null,null,null,null,null,null,null,null,null,null,null,null,null,null,null,null,null,null,null,null,null,null,null,null,null,null,null,null,null,null,null,null,null,null,null,null,null,null,null,null,null,null,null,null,null,null,null,null,null,null,null,null,null,null,null,null,null,null,null,null,null,null,null,null,null,null,null,null,null,null,null,null,null,0,{"$f":"+INDEX($F8356:$DJ8356,1,Sheet3!$C$1)","v":0},{"$f":"+IF(Sheet3!$C$1=1,IF(DN8356<3,0,1),1)","v":0}]
[null,null,null,null,null,null,null,null,null,null,null,null,null,null,null,null,null,null,null,null,null,null,null,null,null,null,null,null,null,null,null,null,null,null,null,null,null,null,null,null,null,null,null,null,null,null,null,null,null,null,null,null,null,null,null,null,null,null,null,null,null,null,null,null,null,null,null,null,null,null,null,null,null,null,null,null,null,null,null,null,null,null,null,null,null,null,null,null,null,null,null,null,null,null,null,null,null,null,null,null,null,null,null,null,null,null,null,null,null,null,null,null,null,null,null,null,0,{"$f":"+INDEX($F8357:$DJ8357,1,Sheet3!$C$1)","v":0},{"$f":"+IF(Sheet3!$C$1=1,IF(DN8357<3,0,1),1)","v":0}]
[null,null,null,null,null,null,null,null,null,null,null,null,null,null,null,null,null,null,null,null,null,null,null,null,null,null,null,null,null,null,null,null,null,null,null,null,null,null,null,null,null,null,null,null,null,null,null,null,null,null,null,null,null,null,null,null,null,null,null,null,null,null,null,null,null,null,null,null,null,null,null,null,null,null,null,null,null,null,null,null,null,null,null,null,null,null,null,null,null,null,null,null,null,null,null,null,null,null,null,null,null,null,null,null,null,null,null,null,null,null,null,null,null,null,null,null,0,{"$f":"+INDEX($F8358:$DJ8358,1,Sheet3!$C$1)","v":0},{"$f":"+IF(Sheet3!$C$1=1,IF(DN8358<3,0,1),1)","v":0}]
[null,null,null,null,null,null,null,null,null,null,null,null,null,null,null,null,null,null,null,null,null,null,null,null,null,null,null,null,null,null,null,null,null,null,null,null,null,null,null,null,null,null,null,null,null,null,null,null,null,null,null,null,null,null,null,null,null,null,null,null,null,null,null,null,null,null,null,null,null,null,null,null,null,null,null,null,null,null,null,null,null,null,null,null,null,null,null,null,null,null,null,null,null,null,null,null,null,null,null,null,null,null,null,null,null,null,null,null,null,null,null,null,null,null,null,null,0,{"$f":"+INDEX($F8359:$DJ8359,1,Sheet3!$C$1)","v":0},{"$f":"+IF(Sheet3!$C$1=1,IF(DN8359<3,0,1),1)","v":0}]
[null,null,null,null,null,null,null,null,null,null,null,null,null,null,null,null,null,null,null,null,null,null,null,null,null,null,null,null,null,null,null,null,null,null,null,null,null,null,null,null,null,null,null,null,null,null,null,null,null,null,null,null,null,null,null,null,null,null,null,null,null,null,null,null,null,null,null,null,null,null,null,null,null,null,null,null,null,null,null,null,null,null,null,null,null,null,null,null,null,null,null,null,null,null,null,null,null,null,null,null,null,null,null,null,null,null,null,null,null,null,null,null,null,null,null,null,0,{"$f":"+INDEX($F8360:$DJ8360,1,Sheet3!$C$1)","v":0},{"$f":"+IF(Sheet3!$C$1=1,IF(DN8360<3,0,1),1)","v":0}]
[null,null,null,null,null,null,null,null,null,null,null,null,null,null,null,null,null,null,null,null,null,null,null,null,null,null,null,null,null,null,null,null,null,null,null,null,null,null,null,null,null,null,null,null,null,null,null,null,null,null,null,null,null,null,null,null,null,null,null,null,null,null,null,null,null,null,null,null,null,null,null,null,null,null,null,null,null,null,null,null,null,null,null,null,null,null,null,null,null,null,null,null,null,null,null,null,null,null,null,null,null,null,null,null,null,null,null,null,null,null,null,null,null,null,null,null,0,{"$f":"+INDEX($F8361:$DJ8361,1,Sheet3!$C$1)","v":0},{"$f":"+IF(Sheet3!$C$1=1,IF(DN8361<3,0,1),1)","v":0}]
[null,null,null,null,null,null,null,null,null,null,null,null,null,null,null,null,null,null,null,null,null,null,null,null,null,null,null,null,null,null,null,null,null,null,null,null,null,null,null,null,null,null,null,null,null,null,null,null,null,null,null,null,null,null,null,null,null,null,null,null,null,null,null,null,null,null,null,null,null,null,null,null,null,null,null,null,null,null,null,null,null,null,null,null,null,null,null,null,null,null,null,null,null,null,null,null,null,null,null,null,null,null,null,null,null,null,null,null,null,null,null,null,null,null,null,null,0,{"$f":"+INDEX($F8362:$DJ8362,1,Sheet3!$C$1)","v":0},{"$f":"+IF(Sheet3!$C$1=1,IF(DN8362<3,0,1),1)","v":0}]
[null,null,null,null,null,null,null,null,null,null,null,null,null,null,null,null,null,null,null,null,null,null,null,null,null,null,null,null,null,null,null,null,null,null,null,null,null,null,null,null,null,null,null,null,null,null,null,null,null,null,null,null,null,null,null,null,null,null,null,null,null,null,null,null,null,null,null,null,null,null,null,null,null,null,null,null,null,null,null,null,null,null,null,null,null,null,null,null,null,null,null,null,null,null,null,null,null,null,null,null,null,null,null,null,null,null,null,null,null,null,null,null,null,null,null,null,0,{"$f":"+INDEX($F8363:$DJ8363,1,Sheet3!$C$1)","v":0},{"$f":"+IF(Sheet3!$C$1=1,IF(DN8363<3,0,1),1)","v":0}]
[null,null,null,null,null,null,null,null,null,null,null,null,null,null,null,null,null,null,null,null,null,null,null,null,null,null,null,null,null,null,null,null,null,null,null,null,null,null,null,null,null,null,null,null,null,null,null,null,null,null,null,null,null,null,null,null,null,null,null,null,null,null,null,null,null,null,null,null,null,null,null,null,null,null,null,null,null,null,null,null,null,null,null,null,null,null,null,null,null,null,null,null,null,null,null,null,null,null,null,null,null,null,null,null,null,null,null,null,null,null,null,null,null,null,null,null,0,{"$f":"+INDEX($F8364:$DJ8364,1,Sheet3!$C$1)","v":0},{"$f":"+IF(Sheet3!$C$1=1,IF(DN8364<3,0,1),1)","v":0}]
[null,null,null,null,null,null,null,null,null,null,null,null,null,null,null,null,null,null,null,null,null,null,null,null,null,null,null,null,null,null,null,null,null,null,null,null,null,null,null,null,null,null,null,null,null,null,null,null,null,null,null,null,null,null,null,null,null,null,null,null,null,null,null,null,null,null,null,null,null,null,null,null,null,null,null,null,null,null,null,null,null,null,null,null,null,null,null,null,null,null,null,null,null,null,null,null,null,null,null,null,null,null,null,null,null,null,null,null,null,null,null,null,null,null,null,null,0,{"$f":"+INDEX($F8365:$DJ8365,1,Sheet3!$C$1)","v":0},{"$f":"+IF(Sheet3!$C$1=1,IF(DN8365<3,0,1),1)","v":0}]
[null,null,null,null,null,null,null,null,null,null,null,null,null,null,null,null,null,null,null,null,null,null,null,null,null,null,null,null,null,null,null,null,null,null,null,null,null,null,null,null,null,null,null,null,null,null,null,null,null,null,null,null,null,null,null,null,null,null,null,null,null,null,null,null,null,null,null,null,null,null,null,null,null,null,null,null,null,null,null,null,null,null,null,null,null,null,null,null,null,null,null,null,null,null,null,null,null,null,null,null,null,null,null,null,null,null,null,null,null,null,null,null,null,null,null,null,0,{"$f":"+INDEX($F8366:$DJ8366,1,Sheet3!$C$1)","v":0},{"$f":"+IF(Sheet3!$C$1=1,IF(DN8366<3,0,1),1)","v":0}]
[null,null,null,null,null,null,null,null,null,null,null,null,null,null,null,null,null,null,null,null,null,null,null,null,null,null,null,null,null,null,null,null,null,null,null,null,null,null,null,null,null,null,null,null,null,null,null,null,null,null,null,null,null,null,null,null,null,null,null,null,null,null,null,null,null,null,null,null,null,null,null,null,null,null,null,null,null,null,null,null,null,null,null,null,null,null,null,null,null,null,null,null,null,null,null,null,null,null,null,null,null,null,null,null,null,null,null,null,null,null,null,null,null,null,null,null,0,{"$f":"+INDEX($F8367:$DJ8367,1,Sheet3!$C$1)","v":0},{"$f":"+IF(Sheet3!$C$1=1,IF(DN8367<3,0,1),1)","v":0}]
[null,null,null,null,null,null,null,null,null,null,null,null,null,null,null,null,null,null,null,null,null,null,null,null,null,null,null,null,null,null,null,null,null,null,null,null,null,null,null,null,null,null,null,null,null,null,null,null,null,null,null,null,null,null,null,null,null,null,null,null,null,null,null,null,null,null,null,null,null,null,null,null,null,null,null,null,null,null,null,null,null,null,null,null,null,null,null,null,null,null,null,null,null,null,null,null,null,null,null,null,null,null,null,null,null,null,null,null,null,null,null,null,null,null,null,null,0,{"$f":"+INDEX($F8368:$DJ8368,1,Sheet3!$C$1)","v":0},{"$f":"+IF(Sheet3!$C$1=1,IF(DN8368<3,0,1),1)","v":0}]
[null,null,null,null,null,null,null,null,null,null,null,null,null,null,null,null,null,null,null,null,null,null,null,null,null,null,null,null,null,null,null,null,null,null,null,null,null,null,null,null,null,null,null,null,null,null,null,null,null,null,null,null,null,null,null,null,null,null,null,null,null,null,null,null,null,null,null,null,null,null,null,null,null,null,null,null,null,null,null,null,null,null,null,null,null,null,null,null,null,null,null,null,null,null,null,null,null,null,null,null,null,null,null,null,null,null,null,null,null,null,null,null,null,null,null,null,0,{"$f":"+INDEX($F8369:$DJ8369,1,Sheet3!$C$1)","v":0},{"$f":"+IF(Sheet3!$C$1=1,IF(DN8369<3,0,1),1)","v":0}]
[null,null,null,null,null,null,null,null,null,null,null,null,null,null,null,null,null,null,null,null,null,null,null,null,null,null,null,null,null,null,null,null,null,null,null,null,null,null,null,null,null,null,null,null,null,null,null,null,null,null,null,null,null,null,null,null,null,null,null,null,null,null,null,null,null,null,null,null,null,null,null,null,null,null,null,null,null,null,null,null,null,null,null,null,null,null,null,null,null,null,null,null,null,null,null,null,null,null,null,null,null,null,null,null,null,null,null,null,null,null,null,null,null,null,null,null,0,{"$f":"+INDEX($F8370:$DJ8370,1,Sheet3!$C$1)","v":0},{"$f":"+IF(Sheet3!$C$1=1,IF(DN8370<3,0,1),1)","v":0}]
[null,null,null,null,null,null,null,null,null,null,null,null,null,null,null,null,null,null,null,null,null,null,null,null,null,null,null,null,null,null,null,null,null,null,null,null,null,null,null,null,null,null,null,null,null,null,null,null,null,null,null,null,null,null,null,null,null,null,null,null,null,null,null,null,null,null,null,null,null,null,null,null,null,null,null,null,null,null,null,null,null,null,null,null,null,null,null,null,null,null,null,null,null,null,null,null,null,null,null,null,null,null,null,null,null,null,null,null,null,null,null,null,null,null,null,null,0,{"$f":"+INDEX($F8371:$DJ8371,1,Sheet3!$C$1)","v":0},{"$f":"+IF(Sheet3!$C$1=1,IF(DN8371<3,0,1),1)","v":0}]
[null,null,null,null,null,null,null,null,null,null,null,null,null,null,null,null,null,null,null,null,null,null,null,null,null,null,null,null,null,null,null,null,null,null,null,null,null,null,null,null,null,null,null,null,null,null,null,null,null,null,null,null,null,null,null,null,null,null,null,null,null,null,null,null,null,null,null,null,null,null,null,null,null,null,null,null,null,null,null,null,null,null,null,null,null,null,null,null,null,null,null,null,null,null,null,null,null,null,null,null,null,null,null,null,null,null,null,null,null,null,null,null,null,null,null,null,0,{"$f":"+INDEX($F8372:$DJ8372,1,Sheet3!$C$1)","v":0},{"$f":"+IF(Sheet3!$C$1=1,IF(DN8372<3,0,1),1)","v":0}]
[null,null,null,null,null,null,null,null,null,null,null,null,null,null,null,null,null,null,null,null,null,null,null,null,null,null,null,null,null,null,null,null,null,null,null,null,null,null,null,null,null,null,null,null,null,null,null,null,null,null,null,null,null,null,null,null,null,null,null,null,null,null,null,null,null,null,null,null,null,null,null,null,null,null,null,null,null,null,null,null,null,null,null,null,null,null,null,null,null,null,null,null,null,null,null,null,null,null,null,null,null,null,null,null,null,null,null,null,null,null,null,null,null,null,null,null,0,{"$f":"+INDEX($F8373:$DJ8373,1,Sheet3!$C$1)","v":0},{"$f":"+IF(Sheet3!$C$1=1,IF(DN8373<3,0,1),1)","v":0}]
[null,null,null,null,null,null,null,null,null,null,null,null,null,null,null,null,null,null,null,null,null,null,null,null,null,null,null,null,null,null,null,null,null,null,null,null,null,null,null,null,null,null,null,null,null,null,null,null,null,null,null,null,null,null,null,null,null,null,null,null,null,null,null,null,null,null,null,null,null,null,null,null,null,null,null,null,null,null,null,null,null,null,null,null,null,null,null,null,null,null,null,null,null,null,null,null,null,null,null,null,null,null,null,null,null,null,null,null,null,null,null,null,null,null,null,null,0,{"$f":"+INDEX($F8374:$DJ8374,1,Sheet3!$C$1)","v":0},{"$f":"+IF(Sheet3!$C$1=1,IF(DN8374<3,0,1),1)","v":0}]
[null,null,null,null,null,null,null,null,null,null,null,null,null,null,null,null,null,null,null,null,null,null,null,null,null,null,null,null,null,null,null,null,null,null,null,null,null,null,null,null,null,null,null,null,null,null,null,null,null,null,null,null,null,null,null,null,null,null,null,null,null,null,null,null,null,null,null,null,null,null,null,null,null,null,null,null,null,null,null,null,null,null,null,null,null,null,null,null,null,null,null,null,null,null,null,null,null,null,null,null,null,null,null,null,null,null,null,null,null,null,null,null,null,null,null,null,0,{"$f":"+INDEX($F8375:$DJ8375,1,Sheet3!$C$1)","v":0},{"$f":"+IF(Sheet3!$C$1=1,IF(DN8375<3,0,1),1)","v":0}]
[null,null,null,null,null,null,null,null,null,null,null,null,null,null,null,null,null,null,null,null,null,null,null,null,null,null,null,null,null,null,null,null,null,null,null,null,null,null,null,null,null,null,null,null,null,null,null,null,null,null,null,null,null,null,null,null,null,null,null,null,null,null,null,null,null,null,null,null,null,null,null,null,null,null,null,null,null,null,null,null,null,null,null,null,null,null,null,null,null,null,null,null,null,null,null,null,null,null,null,null,null,null,null,null,null,null,null,null,null,null,null,null,null,null,null,null,0,{"$f":"+INDEX($F8376:$DJ8376,1,Sheet3!$C$1)","v":0},{"$f":"+IF(Sheet3!$C$1=1,IF(DN8376<3,0,1),1)","v":0}]
[null,null,null,null,null,null,null,null,null,null,null,null,null,null,null,null,null,null,null,null,null,null,null,null,null,null,null,null,null,null,null,null,null,null,null,null,null,null,null,null,null,null,null,null,null,null,null,null,null,null,null,null,null,null,null,null,null,null,null,null,null,null,null,null,null,null,null,null,null,null,null,null,null,null,null,null,null,null,null,null,null,null,null,null,null,null,null,null,null,null,null,null,null,null,null,null,null,null,null,null,null,null,null,null,null,null,null,null,null,null,null,null,null,null,null,null,0,{"$f":"+INDEX($F8377:$DJ8377,1,Sheet3!$C$1)","v":0},{"$f":"+IF(Sheet3!$C$1=1,IF(DN8377<3,0,1),1)","v":0}]
[null,null,null,null,null,null,null,null,null,null,null,null,null,null,null,null,null,null,null,null,null,null,null,null,null,null,null,null,null,null,null,null,null,null,null,null,null,null,null,null,null,null,null,null,null,null,null,null,null,null,null,null,null,null,null,null,null,null,null,null,null,null,null,null,null,null,null,null,null,null,null,null,null,null,null,null,null,null,null,null,null,null,null,null,null,null,null,null,null,null,null,null,null,null,null,null,null,null,null,null,null,null,null,null,null,null,null,null,null,null,null,null,null,null,null,null,0,{"$f":"+INDEX($F8378:$DJ8378,1,Sheet3!$C$1)","v":0},{"$f":"+IF(Sheet3!$C$1=1,IF(DN8378<3,0,1),1)","v":0}]
[null,null,null,null,null,null,null,null,null,null,null,null,null,null,null,null,null,null,null,null,null,null,null,null,null,null,null,null,null,null,null,null,null,null,null,null,null,null,null,null,null,null,null,null,null,null,null,null,null,null,null,null,null,null,null,null,null,null,null,null,null,null,null,null,null,null,null,null,null,null,null,null,null,null,null,null,null,null,null,null,null,null,null,null,null,null,null,null,null,null,null,null,null,null,null,null,null,null,null,null,null,null,null,null,null,null,null,null,null,null,null,null,null,null,null,null,0,{"$f":"+INDEX($F8379:$DJ8379,1,Sheet3!$C$1)","v":0},{"$f":"+IF(Sheet3!$C$1=1,IF(DN8379<3,0,1),1)","v":0}]
[null,null,null,null,null,null,null,null,null,null,null,null,null,null,null,null,null,null,null,null,null,null,null,null,null,null,null,null,null,null,null,null,null,null,null,null,null,null,null,null,null,null,null,null,null,null,null,null,null,null,null,null,null,null,null,null,null,null,null,null,null,null,null,null,null,null,null,null,null,null,null,null,null,null,null,null,null,null,null,null,null,null,null,null,null,null,null,null,null,null,null,null,null,null,null,null,null,null,null,null,null,null,null,null,null,null,null,null,null,null,null,null,null,null,null,null,0,{"$f":"+INDEX($F8380:$DJ8380,1,Sheet3!$C$1)","v":0},{"$f":"+IF(Sheet3!$C$1=1,IF(DN8380<3,0,1),1)","v":0}]
[null,null,null,null,null,null,null,null,null,null,null,null,null,null,null,null,null,null,null,null,null,null,null,null,null,null,null,null,null,null,null,null,null,null,null,null,null,null,null,null,null,null,null,null,null,null,null,null,null,null,null,null,null,null,null,null,null,null,null,null,null,null,null,null,null,null,null,null,null,null,null,null,null,null,null,null,null,null,null,null,null,null,null,null,null,null,null,null,null,null,null,null,null,null,null,null,null,null,null,null,null,null,null,null,null,null,null,null,null,null,null,null,null,null,null,null,0,{"$f":"+INDEX($F8381:$DJ8381,1,Sheet3!$C$1)","v":0},{"$f":"+IF(Sheet3!$C$1=1,IF(DN8381<3,0,1),1)","v":0}]
[null,null,null,null,null,null,null,null,null,null,null,null,null,null,null,null,null,null,null,null,null,null,null,null,null,null,null,null,null,null,null,null,null,null,null,null,null,null,null,null,null,null,null,null,null,null,null,null,null,null,null,null,null,null,null,null,null,null,null,null,null,null,null,null,null,null,null,null,null,null,null,null,null,null,null,null,null,null,null,null,null,null,null,null,null,null,null,null,null,null,null,null,null,null,null,null,null,null,null,null,null,null,null,null,null,null,null,null,null,null,null,null,null,null,null,null,0,{"$f":"+INDEX($F8382:$DJ8382,1,Sheet3!$C$1)","v":0},{"$f":"+IF(Sheet3!$C$1=1,IF(DN8382<3,0,1),1)","v":0}]
[null,null,null,null,null,null,null,null,null,null,null,null,null,null,null,null,null,null,null,null,null,null,null,null,null,null,null,null,null,null,null,null,null,null,null,null,null,null,null,null,null,null,null,null,null,null,null,null,null,null,null,null,null,null,null,null,null,null,null,null,null,null,null,null,null,null,null,null,null,null,null,null,null,null,null,null,null,null,null,null,null,null,null,null,null,null,null,null,null,null,null,null,null,null,null,null,null,null,null,null,null,null,null,null,null,null,null,null,null,null,null,null,null,null,null,null,0,{"$f":"+INDEX($F8383:$DJ8383,1,Sheet3!$C$1)","v":0},{"$f":"+IF(Sheet3!$C$1=1,IF(DN8383<3,0,1),1)","v":0}]
[null,null,null,null,null,null,null,null,null,null,null,null,null,null,null,null,null,null,null,null,null,null,null,null,null,null,null,null,null,null,null,null,null,null,null,null,null,null,null,null,null,null,null,null,null,null,null,null,null,null,null,null,null,null,null,null,null,null,null,null,null,null,null,null,null,null,null,null,null,null,null,null,null,null,null,null,null,null,null,null,null,null,null,null,null,null,null,null,null,null,null,null,null,null,null,null,null,null,null,null,null,null,null,null,null,null,null,null,null,null,null,null,null,null,null,null,0,{"$f":"+INDEX($F8384:$DJ8384,1,Sheet3!$C$1)","v":0},{"$f":"+IF(Sheet3!$C$1=1,IF(DN8384<3,0,1),1)","v":0}]
[null,null,null,null,null,null,null,null,null,null,null,null,null,null,null,null,null,null,null,null,null,null,null,null,null,null,null,null,null,null,null,null,null,null,null,null,null,null,null,null,null,null,null,null,null,null,null,null,null,null,null,null,null,null,null,null,null,null,null,null,null,null,null,null,null,null,null,null,null,null,null,null,null,null,null,null,null,null,null,null,null,null,null,null,null,null,null,null,null,null,null,null,null,null,null,null,null,null,null,null,null,null,null,null,null,null,null,null,null,null,null,null,null,null,null,null,0,{"$f":"+INDEX($F8385:$DJ8385,1,Sheet3!$C$1)","v":0},{"$f":"+IF(Sheet3!$C$1=1,IF(DN8385<3,0,1),1)","v":0}]
[null,null,null,null,null,null,null,null,null,null,null,null,null,null,null,null,null,null,null,null,null,null,null,null,null,null,null,null,null,null,null,null,null,null,null,null,null,null,null,null,null,null,null,null,null,null,null,null,null,null,null,null,null,null,null,null,null,null,null,null,null,null,null,null,null,null,null,null,null,null,null,null,null,null,null,null,null,null,null,null,null,null,null,null,null,null,null,null,null,null,null,null,null,null,null,null,null,null,null,null,null,null,null,null,null,null,null,null,null,null,null,null,null,null,null,null,{"$f":"+DN8386*DO8386","v":0},{"$f":"+INDEX($F8386:$DJ8386,1,Sheet3!$C$1)","v":0},{"$f":"+IF(Sheet3!$C$1=1,IF(DN8386<3,0,1),1)","v":0}]
[null,null,null,null,null,null,null,null,null,null,null,null,null,null,null,null,null,null,null,null,null,null,null,null,null,null,null,null,null,null,null,null,null,null,null,null,null,null,null,null,null,null,null,null,null,null,null,null,null,null,null,null,null,null,null,null,null,null,null,null,null,null,null,null,null,null,null,null,null,null,null,null,null,null,null,null,null,null,null,null,null,null,null,null,null,null,null,null,null,null,null,null,null,null,null,null,null,null,null,null,null,null,null,null,null,null,null,null,null,null,null,null,null,null,null,null,0,{"$f":"+INDEX($F8387:$DJ8387,1,Sheet3!$C$1)","v":0},{"$f":"+IF(Sheet3!$C$1=1,IF(DN8387<3,0,1),1)","v":0}]
[null,null,null,null,null,null,null,null,null,null,null,null,null,null,null,null,null,null,null,null,null,null,null,null,null,null,null,null,null,null,null,null,null,null,null,null,null,null,null,null,null,null,null,null,null,null,null,null,null,null,null,null,null,null,null,null,null,null,null,null,null,null,null,null,null,null,null,null,null,null,null,null,null,null,null,null,null,null,null,null,null,null,null,null,null,null,null,null,null,null,null,null,null,null,null,null,null,null,null,null,null,null,null,null,null,null,null,null,null,null,null,null,null,null,null,null,0,{"$f":"+INDEX($F8388:$DJ8388,1,Sheet3!$C$1)","v":0},{"$f":"+IF(Sheet3!$C$1=1,IF(DN8388<3,0,1),1)","v":0}]
[null,null,null,null,null,null,null,null,null,null,null,null,null,null,null,null,null,null,null,null,null,null,null,null,null,null,null,null,null,null,null,null,null,null,null,null,null,null,null,null,null,null,null,null,null,null,null,null,null,null,null,null,null,null,null,null,null,null,null,null,null,null,null,null,null,null,null,null,null,null,null,null,null,null,null,null,null,null,null,null,null,null,null,null,null,null,null,null,null,null,null,null,null,null,null,null,null,null,null,null,null,null,null,null,null,null,null,null,null,null,null,null,null,null,null,null,0,{"$f":"+INDEX($F8389:$DJ8389,1,Sheet3!$C$1)","v":0},{"$f":"+IF(Sheet3!$C$1=1,IF(DN8389<3,0,1),1)","v":0}]
[null,null,null,null,null,null,null,null,null,null,null,null,null,null,null,null,null,null,null,null,null,null,null,null,null,null,null,null,null,null,null,null,null,null,null,null,null,null,null,null,null,null,null,null,null,null,null,null,null,null,null,null,null,null,null,null,null,null,null,null,null,null,null,null,null,null,null,null,null,null,null,null,null,null,null,null,null,null,null,null,null,null,null,null,null,null,null,null,null,null,null,null,null,null,null,null,null,null,null,null,null,null,null,null,null,null,null,null,null,null,null,null,null,null,null,null,0,{"$f":"+INDEX($F8390:$DJ8390,1,Sheet3!$C$1)","v":0},{"$f":"+IF(Sheet3!$C$1=1,IF(DN8390<3,0,1),1)","v":0}]
[null,null,null,null,null,null,null,null,null,null,null,null,null,null,null,null,null,null,null,null,null,null,null,null,null,null,null,null,null,null,null,null,null,null,null,null,null,null,null,null,null,null,null,null,null,null,null,null,null,null,null,null,null,null,null,null,null,null,null,null,null,null,null,null,null,null,null,null,null,null,null,null,null,null,null,null,null,null,null,null,null,null,null,null,null,null,null,null,null,null,null,null,null,null,null,null,null,null,null,null,null,null,null,null,null,null,null,null,null,null,null,null,null,null,null,null,0,{"$f":"+INDEX($F8391:$DJ8391,1,Sheet3!$C$1)","v":0},{"$f":"+IF(Sheet3!$C$1=1,IF(DN8391<3,0,1),1)","v":0}]
[null,null,null,null,null,null,null,null,null,null,null,null,null,null,null,null,null,null,null,null,null,null,null,null,null,null,null,null,null,null,null,null,null,null,null,null,null,null,null,null,null,null,null,null,null,null,null,null,null,null,null,null,null,null,null,null,null,null,null,null,null,null,null,null,null,null,null,null,null,null,null,null,null,null,null,null,null,null,null,null,null,null,null,null,null,null,null,null,null,null,null,null,null,null,null,null,null,null,null,null,null,null,null,null,null,null,null,null,null,null,null,null,null,null,null,null,0,{"$f":"+INDEX($F8392:$DJ8392,1,Sheet3!$C$1)","v":0},{"$f":"+IF(Sheet3!$C$1=1,IF(DN8392<3,0,1),1)","v":0}]
[null,null,null,null,null,null,null,null,null,null,null,null,null,null,null,null,null,null,null,null,null,null,null,null,null,null,null,null,null,null,null,null,null,null,null,null,null,null,null,null,null,null,null,null,null,null,null,null,null,null,null,null,null,null,null,null,null,null,null,null,null,null,null,null,null,null,null,null,null,null,null,null,null,null,null,null,null,null,null,null,null,null,null,null,null,null,null,null,null,null,null,null,null,null,null,null,null,null,null,null,null,null,null,null,null,null,null,null,null,null,null,null,null,null,null,null,0,{"$f":"+INDEX($F8393:$DJ8393,1,Sheet3!$C$1)","v":0},{"$f":"+IF(Sheet3!$C$1=1,IF(DN8393<3,0,1),1)","v":0}]
[null,null,null,null,null,null,null,null,null,null,null,null,null,null,null,null,null,null,null,null,null,null,null,null,null,null,null,null,null,null,null,null,null,null,null,null,null,null,null,null,null,null,null,null,null,null,null,null,null,null,null,null,null,null,null,null,null,null,null,null,null,null,null,null,null,null,null,null,null,null,null,null,null,null,null,null,null,null,null,null,null,null,null,null,null,null,null,null,null,null,null,null,null,null,null,null,null,null,null,null,null,null,null,null,null,null,null,null,null,null,null,null,null,null,null,null,0,{"$f":"+INDEX($F8394:$DJ8394,1,Sheet3!$C$1)","v":0},{"$f":"+IF(Sheet3!$C$1=1,IF(DN8394<3,0,1),1)","v":0}]
[null,null,null,null,null,null,null,null,null,null,null,null,null,null,null,null,null,null,null,null,null,null,null,null,null,null,null,null,null,null,null,null,null,null,null,null,null,null,null,null,null,null,null,null,null,null,null,null,null,null,null,null,null,null,null,null,null,null,null,null,null,null,null,null,null,null,null,null,null,null,null,null,null,null,null,null,null,null,null,null,null,null,null,null,null,null,null,null,null,null,null,null,null,null,null,null,null,null,null,null,null,null,null,null,null,null,null,null,null,null,null,null,null,null,null,null,0,{"$f":"+INDEX($F8395:$DJ8395,1,Sheet3!$C$1)","v":0},{"$f":"+IF(Sheet3!$C$1=1,IF(DN8395<3,0,1),1)","v":0}]
[null,null,null,null,null,null,null,null,null,null,null,null,null,null,null,null,null,null,null,null,null,null,null,null,null,null,null,null,null,null,null,null,null,null,null,null,null,null,null,null,null,null,null,null,null,null,null,null,null,null,null,null,null,null,null,null,null,null,null,null,null,null,null,null,null,null,null,null,null,null,null,null,null,null,null,null,null,null,null,null,null,null,null,null,null,null,null,null,null,null,null,null,null,null,null,null,null,null,null,null,null,null,null,null,null,null,null,null,null,null,null,null,null,null,null,null,0,{"$f":"+INDEX($F8396:$DJ8396,1,Sheet3!$C$1)","v":0},{"$f":"+IF(Sheet3!$C$1=1,IF(DN8396<3,0,1),1)","v":0}]
[null,null,null,null,null,null,null,null,null,null,null,null,null,null,null,null,null,null,null,null,null,null,null,null,null,null,null,null,null,null,null,null,null,null,null,null,null,null,null,null,null,null,null,null,null,null,null,null,null,null,null,null,null,null,null,null,null,null,null,null,null,null,null,null,null,null,null,null,null,null,null,null,null,null,null,null,null,null,null,null,null,null,null,null,null,null,null,null,null,null,null,null,null,null,null,null,null,null,null,null,null,null,null,null,null,null,null,null,null,null,null,null,null,null,null,null,0,{"$f":"+INDEX($F8397:$DJ8397,1,Sheet3!$C$1)","v":0},{"$f":"+IF(Sheet3!$C$1=1,IF(DN8397<3,0,1),1)","v":0}]
[null,null,null,null,null,null,null,null,null,null,null,null,null,null,null,null,null,null,null,null,null,null,null,null,null,null,null,null,null,null,null,null,null,null,null,null,null,null,null,null,null,null,null,null,null,null,null,null,null,null,null,null,null,null,null,null,null,null,null,null,null,null,null,null,null,null,null,null,null,null,null,null,null,null,null,null,null,null,null,null,null,null,null,null,null,null,null,null,null,null,null,null,null,null,null,null,null,null,null,null,null,null,null,null,null,null,null,null,null,null,null,null,null,null,null,null,0,{"$f":"+INDEX($F8398:$DJ8398,1,Sheet3!$C$1)","v":0},{"$f":"+IF(Sheet3!$C$1=1,IF(DN8398<3,0,1),1)","v":0}]
[null,null,null,null,null,null,null,null,null,null,null,null,null,null,null,null,null,null,null,null,null,null,null,null,null,null,null,null,null,null,null,null,null,null,null,null,null,null,null,null,null,null,null,null,null,null,null,null,null,null,null,null,null,null,null,null,null,null,null,null,null,null,null,null,null,null,null,null,null,null,null,null,null,null,null,null,null,null,null,null,null,null,null,null,null,null,null,null,null,null,null,null,null,null,null,null,null,null,null,null,null,null,null,null,null,null,null,null,null,null,null,null,null,null,null,null,0,{"$f":"+INDEX($F8399:$DJ8399,1,Sheet3!$C$1)","v":0},{"$f":"+IF(Sheet3!$C$1=1,IF(DN8399<3,0,1),1)","v":0}]
[null,null,null,null,null,null,null,null,null,null,null,null,null,null,null,null,null,null,null,null,null,null,null,null,null,null,null,null,null,null,null,null,null,null,null,null,null,null,null,null,null,null,null,null,null,null,null,null,null,null,null,null,null,null,null,null,null,null,null,null,null,null,null,null,null,null,null,null,null,null,null,null,null,null,null,null,null,null,null,null,null,null,null,null,null,null,null,null,null,null,null,null,null,null,null,null,null,null,null,null,null,null,null,null,null,null,null,null,null,null,null,null,null,null,null,null,0,{"$f":"+INDEX($F8400:$DJ8400,1,Sheet3!$C$1)","v":0},{"$f":"+IF(Sheet3!$C$1=1,IF(DN8400<3,0,1),1)","v":0}]
[null,null,null,null,null,null,null,null,null,null,null,null,null,null,null,null,null,null,null,null,null,null,null,null,null,null,null,null,null,null,null,null,null,null,null,null,null,null,null,null,null,null,null,null,null,null,null,null,null,null,null,null,null,null,null,null,null,null,null,null,null,null,null,null,null,null,null,null,null,null,null,null,null,null,null,null,null,null,null,null,null,null,null,null,null,null,null,null,null,null,null,null,null,null,null,null,null,null,null,null,null,null,null,null,null,null,null,null,null,null,null,null,null,null,null,null,0,{"$f":"+INDEX($F8401:$DJ8401,1,Sheet3!$C$1)","v":0},{"$f":"+IF(Sheet3!$C$1=1,IF(DN8401<3,0,1),1)","v":0}]
[null,null,null,null,null,null,null,null,null,null,null,null,null,null,null,null,null,null,null,null,null,null,null,null,null,null,null,null,null,null,null,null,null,null,null,null,null,null,null,null,null,null,null,null,null,null,null,null,null,null,null,null,null,null,null,null,null,null,null,null,null,null,null,null,null,null,null,null,null,null,null,null,null,null,null,null,null,null,null,null,null,null,null,null,null,null,null,null,null,null,null,null,null,null,null,null,null,null,null,null,null,null,null,null,null,null,null,null,null,null,null,null,null,null,null,null,0,{"$f":"+INDEX($F8402:$DJ8402,1,Sheet3!$C$1)","v":0},{"$f":"+IF(Sheet3!$C$1=1,IF(DN8402<3,0,1),1)","v":0}]
[null,null,null,null,null,null,null,null,null,null,null,null,null,null,null,null,null,null,null,null,null,null,null,null,null,null,null,null,null,null,null,null,null,null,null,null,null,null,null,null,null,null,null,null,null,null,null,null,null,null,null,null,null,null,null,null,null,null,null,null,null,null,null,null,null,null,null,null,null,null,null,null,null,null,null,null,null,null,null,null,null,null,null,null,null,null,null,null,null,null,null,null,null,null,null,null,null,null,null,null,null,null,null,null,null,null,null,null,null,null,null,null,null,null,null,null,0,{"$f":"+INDEX($F8403:$DJ8403,1,Sheet3!$C$1)","v":0},{"$f":"+IF(Sheet3!$C$1=1,IF(DN8403<3,0,1),1)","v":0}]
[null,null,null,null,null,null,null,null,null,null,null,null,null,null,null,null,null,null,null,null,null,null,null,null,null,null,null,null,null,null,null,null,null,null,null,null,null,null,null,null,null,null,null,null,null,null,null,null,null,null,null,null,null,null,null,null,null,null,null,null,null,null,null,null,null,null,null,null,null,null,null,null,null,null,null,null,null,null,null,null,null,null,null,null,null,null,null,null,null,null,null,null,null,null,null,null,null,null,null,null,null,null,null,null,null,null,null,null,null,null,null,null,null,null,null,null,0,{"$f":"+INDEX($F8404:$DJ8404,1,Sheet3!$C$1)","v":0},{"$f":"+IF(Sheet3!$C$1=1,IF(DN8404<3,0,1),1)","v":0}]
[null,null,null,null,null,null,null,null,null,null,null,null,null,null,null,null,null,null,null,null,null,null,null,null,null,null,null,null,null,null,null,null,null,null,null,null,null,null,null,null,null,null,null,null,null,null,null,null,null,null,null,null,null,null,null,null,null,null,null,null,null,null,null,null,null,null,null,null,null,null,null,null,null,null,null,null,null,null,null,null,null,null,null,null,null,null,null,null,null,null,null,null,null,null,null,null,null,null,null,null,null,null,null,null,null,null,null,null,null,null,null,null,null,null,null,null,0,{"$f":"+INDEX($F8405:$DJ8405,1,Sheet3!$C$1)","v":0},{"$f":"+IF(Sheet3!$C$1=1,IF(DN8405<3,0,1),1)","v":0}]
[null,null,null,null,null,null,null,null,null,null,null,null,null,null,null,null,null,null,null,null,null,null,null,null,null,null,null,null,null,null,null,null,null,null,null,null,null,null,null,null,null,null,null,null,null,null,null,null,null,null,null,null,null,null,null,null,null,null,null,null,null,null,null,null,null,null,null,null,null,null,null,null,null,null,null,null,null,null,null,null,null,null,null,null,null,null,null,null,null,null,null,null,null,null,null,null,null,null,null,null,null,null,null,null,null,null,null,null,null,null,null,null,null,null,null,null,0,{"$f":"+INDEX($F8406:$DJ8406,1,Sheet3!$C$1)","v":0},{"$f":"+IF(Sheet3!$C$1=1,IF(DN8406<3,0,1),1)","v":0}]
[null,null,null,null,null,null,null,null,null,null,null,null,null,null,null,null,null,null,null,null,null,null,null,null,null,null,null,null,null,null,null,null,null,null,null,null,null,null,null,null,null,null,null,null,null,null,null,null,null,null,null,null,null,null,null,null,null,null,null,null,null,null,null,null,null,null,null,null,null,null,null,null,null,null,null,null,null,null,null,null,null,null,null,null,null,null,null,null,null,null,null,null,null,null,null,null,null,null,null,null,null,null,null,null,null,null,null,null,null,null,null,null,null,null,null,null,0,{"$f":"+INDEX($F8407:$DJ8407,1,Sheet3!$C$1)","v":0},{"$f":"+IF(Sheet3!$C$1=1,IF(DN8407<3,0,1),1)","v":0}]
[null,null,null,null,null,null,null,null,null,null,null,null,null,null,null,null,null,null,null,null,null,null,null,null,null,null,null,null,null,null,null,null,null,null,null,null,null,null,null,null,null,null,null,null,null,null,null,null,null,null,null,null,null,null,null,null,null,null,null,null,null,null,null,null,null,null,null,null,null,null,null,null,null,null,null,null,null,null,null,null,null,null,null,null,null,null,null,null,null,null,null,null,null,null,null,null,null,null,null,null,null,null,null,null,null,null,null,null,null,null,null,null,null,null,null,null,0,{"$f":"+INDEX($F8408:$DJ8408,1,Sheet3!$C$1)","v":0},{"$f":"+IF(Sheet3!$C$1=1,IF(DN8408<3,0,1),1)","v":0}]

{"sheet":"Ajuda","index":9,"n_rows":234,"n_cols":16,"rows_kept":234,"cut":false,"hidden":true,"merged":[[219,2,226,2],[228,2,232,2],[209,5,209,6],[138,2,138,3],[139,2,139,3],[140,2,140,3],[211,2,218,2],[138,4,138,6],[140,4,140,6],[139,4,139,6],[145,2,152,2],[153,2,160,2],[162,2,166,2],[137,2,137,3],[134,2,134,3],[136,2,136,3],[134,4,134,6],[135,4,135,6],[136,4,136,6],[23,2,23,5],[208,5,208,6],[208,2,209,4],[199,2,199,3],[199,4,199,5],[200,2,200,3],[200,4,200,5],[204,2,204,3],[204,4,204,5],[202,2,202,3],[202,4,202,5],[203,2,203,3],[203,4,203,5],[201,2,201,3],[201,4,201,5],[137,4,137,6]]}
[]
[null,null,null,null,null,null,null,null,null,null,null,null,null,null,null,"Fonte:"]
[]
[]
[null,"Classes de Dimensão"]
[null,"Variáveis disponíveis"]
[null,"Grandes Orientações Produtivas"]
[null,"Mapa das NUTS"]
[null,"Alguns conceitos"]
[null,"Estrutura da Base de Dados"]
[]
[null,"Intervalos considerados nas três classificações associadas à Dimensão "]
[]
[null,null,null,null,"Dimensão económica","Dimensão física","Dimensão - Valor global de \nAjudas Diretas recebidas"]
[null,null,"Classes","Descritivo","Classe de DE","Classe de Superfície Agrícola (elegível)","Classe de AD"]
[null,null,"MP","Muito Pequenas","< 4 000 € de VPP","< 4 ha","<  1250 €"]
[null,null,"P","Pequenas",">= 4 000 e < 25 000 € de VPP",">= 4  e < 25 ha",">= 1 250 e < 5 000 €"]
[null,null,"M","Médias",">= 25 000 e < 100 000 € de VPP",">= 25  e < 200 ha",">= 5 000 e < 50 000 €"]
[null,null,"G","Grandes",">= 100 000 e < 500 000 € de VPP","= 200  e < 1 000 ha",">= 50 000 e < 300 000 €"]
[null,null,"MG","Muito Grandes",">= 500 000  € de VPP",">= 1 000 ha",">= 300 000 €"]
[]
[null,"Variáveis disponíveis"]
[]
[null,null,"Listagem de variáveis ordenada por tipos afins",null,null,null,"Unidade"]
[null,null,{"$f":"+Sheet6!D2","v":"(1) - Nº de Beneficiários"},null,null,null,{"$f":"+Sheet6!G2","v":"Nº "}]
[null,null,{"$f":"+Sheet6!D3","v":"(2) - Valor de Produção Padrão"},null,null,null,{"$f":"+Sheet6!G3","v":"1000 €"}]
[null,null,{"$f":"+Sheet6!D4","v":"(3) - Superfície Elegível (inclui Superfície Agrícola e Agro-Florestal Elegível)"},null,null,null,{"$f":"+Sheet6!G4","v":"ha"}]
[null,null,{"$f":"+Sheet6!D5","v":"(3a) - Nº de Direitos de RPB"},null,null,null,{"$f":"+Sheet6!G5","v":"Nº "}]
[null,null,{"$f":"+Sheet6!D6","v":"(3b) - Montante Global dos Direitos de RPB"},null,null,null,{"$f":"+Sheet6!G6","v":"1000 €"}]
[null,null,{"$f":"+Sheet6!D7","v":"(3c) - Superfície Agrícola (inc. Pastagens arbustivas)"},null,null,null,{"$f":"+Sheet6!G7","v":"ha"}]
[null,null,{"$f":"+Sheet6!D8","v":"(4) - Superfície Agrícola de Regadio"},null,null,null,{"$f":"+Sheet6!G8","v":"ha"}]
[null,null,{"$f":"+Sheet6!D9","v":"(5) - Culturas Temporárias"},null,null,null,{"$f":"+Sheet6!G9","v":"ha"}]
[null,null,{"$f":"+Sheet6!D10","v":"(5a) - Culturas Arvenses e Indústriais de sequeiro"},null,null,null,{"$f":"+Sheet6!G10","v":"ha"}]
[null,null,{"$f":"+Sheet6!D11","v":"(5b) - Culturas Arvenses e Indústriais de regadio"},null,null,null,{"$f":"+Sheet6!G11","v":"ha"}]
[null,null,{"$f":"+Sheet6!D12","v":"(6) - Superfície Forrageira Temporária"},null,null,null,{"$f":"+Sheet6!G12","v":"ha"}]
[null,null,{"$f":"+Sheet6!D13","v":"(7) - Superfície de Pousio"},null,null,null,{"$f":"+Sheet6!G13","v":"ha"}]
[null,null,{"$f":"+Sheet6!D14","v":"(8) - Culturas Permanentes"},null,null,null,{"$f":"+Sheet6!G14","v":"ha"}]
[null,null,{"$f":"+Sheet6!D15","v":"(9) - Superfície de Pastagens Permanentes"},null,null,null,{"$f":"+Sheet6!G15","v":"ha"}]
[null,null,{"$f":"+Sheet6!D16","v":"(9a) - Superfície de Pastagens com encabeçamento inferior a 0,2CN/ha de PP"},null,null,null,{"$f":"+Sheet6!G16","v":"ha"}]
[null,null,{"$f":"+Sheet6!D17","v":"(10) - Nº de Cabeças Normais (Cn) de Herbívoros"},null,null,null,{"$f":"+Sheet6!G17","v":"CN"}]
[null,null,{"$f":"+Sheet6!D18","v":"(11) - Nº de Cabeças Normais (Cn) Totais"},null,null,null,{"$f":"+Sheet6!G18","v":"CN"}]
[null,null,{"$f":"+Sheet6!D19","v":"(12) - Superfície Agrícola Declarada para Activar Direitos de RPB"},null,null,null,{"$f":"+Sheet6!G19","v":"ha"}]
[null,null,{"$f":"+Sheet6!D20","v":"(13) - Superfície Agrícola Declarada para Medidas Agroambientais"},null,null,null,{"$f":"+Sheet6!G20","v":"ha"}]
[null,null,{"$f":"+Sheet6!D21","v":"(14) - Superfície Agrícola Declarada para MZDs"},null,null,null,{"$f":"+Sheet6!G21","v":"ha"}]
[null,null,{"$f":"+Sheet6!D22","v":"(15) - Montante Total das AD 1º Pilar (16+22)"},null,null,null,{"$f":"+Sheet6!G22","v":"1000 €"}]
[null,null,{"$f":"+Sheet6!D23","v":"    (16) - Total de pagamentos desligados (17+18+21+21a)"},null,null,null,{"$f":"+Sheet6!G23","v":"1000 €"}]
[null,null,{"$f":"+Sheet6!D24","v":"        (17) - Montante Regime Pequena Agricultura"},null,null,null,{"$f":"+Sheet6!G24","v":"1000 €"}]
[null,null,{"$f":"+Sheet6!D25","v":"        (18) - Regime Pagamento Base (RPB) [(19)+(20)]"},null,null,null,{"$f":"+Sheet6!G25","v":"1000 €"}]
[null,null,{"$f":"+Sheet6!D26","v":"            (19) - RPB normal"},null,null,null,{"$f":"+Sheet6!G26","v":"1000 €"}]
[null,null,{"$f":"+Sheet6!D27","v":"            (20) - RPB Jovens agricultores"},null,null,null,{"$f":"+Sheet6!G27","v":"1000 €"}]
[null,null,{"$f":"+Sheet6!D28","v":"        (21) - Pagamento por Práticas Agrícolas Benéficas para o Ambiente (Greening)"},null,null,null,{"$f":"+Sheet6!G28","v":"1000 €"}]
[null,null,{"$f":"+Sheet6!D29","v":"        (21a) - Pagamento Redistributivo"},null,null,null,{"$f":"+Sheet6!G29","v":"1000 €"}]
[null,null,{"$f":"+Sheet6!D30","v":"    (22) - Total de pagamentos ligados (23+…..+27)"},null,null,null,{"$f":"+Sheet6!G30","v":"1000 €"}]
[null,null,{"$f":"+Sheet6!D31","v":"        (23) - Prémio às vacas em aleitamento"},null,null,null,{"$f":"+Sheet6!G31","v":"1000 €"}]
[null,null,{"$f":"+Sheet6!D32","v":"        (24) - Prémio aos ovinos e caprinos"},null,null,null,{"$f":"+Sheet6!G32","v":"1000 €"}]
[null,null,{"$f":"+Sheet6!D33","v":"        (25) - Prémio à vaca leiteira"},null,null,null,{"$f":"+Sheet6!G33","v":"1000 €"}]
[null,null,{"$f":"+Sheet6!D34","v":"        (26) - Pagamento Específico por superfície ao tomate "},null,null,null,{"$f":"+Sheet6!G34","v":"1000 €"}]
[null,null,{"$f":"+Sheet6!D35","v":"        (27) - Pagamento Específico por superfície ao arroz"},null,null,null,{"$f":"+Sheet6!G35","v":"1000 €"}]
[null,null,{"$f":"+Sheet6!D36","v":"(28) - Medida Extraordinária Pacto"},null,null,null,{"$f":"+Sheet6!G36","v":"1000 €"}]
[null,null,{"$f":"+Sheet6!D37","v":"(29) - Total de Pagamentos Superfície Desenvolvimento Rural ((30)+(34))"},null,null,null,{"$f":"+Sheet6!G37","v":"1000 €"}]
[null,null,{"$f":"+Sheet6!D38","v":"     (30) - Medida Zonas Desfavorecidas (MZD)"},null,null,null,{"$f":"+Sheet6!G38","v":"1000 €"}]
[null,null,{"$f":"+Sheet6!D39","v":"            (31) - Zona Condicionantes Específicas"},null,null,null,{"$f":"+Sheet6!G39","v":"1000 €"}]
[null,null,{"$f":"+Sheet6!D40","v":"            (32) - Zona Outras Condicionantes Naturais"},null,null,null,{"$f":"+Sheet6!G40","v":"1000 €"}]
[null,null,{"$f":"+Sheet6!D41","v":"            (33) - Zona De Montanha"},null,null,null,{"$f":"+Sheet6!G41","v":"1000 €"}]
[null,null,{"$f":"+Sheet6!D42","v":"     (34) - Medidas Agroambientais"},null,null,null,{"$f":"+Sheet6!G42","v":"1000 €"}]
[null,null,{"$f":"+Sheet6!D43","v":"            (35) - Maa-Agric.Biológica - Conv"},null,null,null,{"$f":"+Sheet6!G43","v":"1000 €"}]
[null,null,{"$f":"+Sheet6!D44","v":"            (36) - Maa-Agric.Biológica - Manut"},null,null,null,{"$f":"+Sheet6!G44","v":"1000 €"}]
[null,null,{"$f":"+Sheet6!D45","v":"            (37) - Apoio Agroambiental À Apicultura"},null,null,null,{"$f":"+Sheet6!G45","v":"1000 €"}]
[null,null,{"$f":"+Sheet6!D46","v":"            (38) - Maa - Douro Vinhateiro"},null,null,null,{"$f":"+Sheet6!G46","v":"1000 €"}]
[null,null,{"$f":"+Sheet6!D47","v":"            (39) - Culturas Permanentes Tradicionais"},null,null,null,{"$f":"+Sheet6!G47","v":"1000 €"}]
[null,null,{"$f":"+Sheet6!D48","v":"            (40) - Maa-Conservação Solo-Enr.Entr"},null,null,null,{"$f":"+Sheet6!G48","v":"1000 €"}]
[null,null,{"$f":"+Sheet6!D49","v":"            (41) - Maa-Conservação Solo-Sem Dir"},null,null,null,{"$f":"+Sheet6!G49","v":"1000 €"}]
[null,null,{"$f":"+Sheet6!D50","v":"            (42) - Mosaico Agroflorestal"},null,null,null,{"$f":"+Sheet6!G50","v":"1000 €"}]
[null,null,{"$f":"+Sheet6!D51","v":"            (43) - Maa - Soutos Notáveis"},null,null,null,{"$f":"+Sheet6!G51","v":"1000 €"}]
[null,null,{"$f":"+Sheet6!D52","v":"            (44) - Maa - Produçao Integrada"},null,null,null,{"$f":"+Sheet6!G52","v":"1000 €"}]
[null,null,{"$f":"+Sheet6!D53","v":"            (45) - Maa - Az Peneda/Gerês"},null,null,null,{"$f":"+Sheet6!G53","v":"1000 €"}]
[null,null,{"$f":"+Sheet6!D54","v":"            (46) - Maa - Manut. Socalcos"},null,null,null,{"$f":"+Sheet6!G54","v":"1000 €"}]
[null,null,{"$f":"+Sheet6!D55","v":"            (47) - Maa - Lameiros De Regadio"},null,null,null,{"$f":"+Sheet6!G55","v":"1000 €"}]
[null,null,{"$f":"+Sheet6!D56","v":"            (48) - Maa - Lameiros De Sequeiro"},null,null,null,{"$f":"+Sheet6!G56","v":"1000 €"}]
[null,null,{"$f":"+Sheet6!D57","v":"            (49) - Maa - Pastoreio Extensivo Ii"},null,null,null,{"$f":"+Sheet6!G57","v":"1000 €"}]
[null,null,{"$f":"+Sheet6!D58","v":"            (50) - Maa - Pastoreio Extensivo Iii"},null,null,null,{"$f":"+Sheet6!G58","v":"1000 €"}]
[null,null,{"$f":"+Sheet6!D59","v":"            (51) - Maa - Rot. De Seq Iii"},null,null,null,{"$f":"+Sheet6!G59","v":"1000 €"}]
[null,null,{"$f":"+Sheet6!D60","v":"            (52) - Maa - Rot. De Seq Ii"},null,null,null,{"$f":"+Sheet6!G60","v":"1000 €"}]
[null,null,{"$f":"+Sheet6!D61","v":"            (53) - Raças"},null,null,null,{"$f":"+Sheet6!G61","v":"1000 €"}]
[null,null,{"$f":"+Sheet6!D62","v":"            (54) - Maa - Rot. De Seq I"},null,null,null,{"$f":"+Sheet6!G62","v":"1000 €"}]
[null,null,{"$f":"+Sheet6!D63","v":"            (55) - Uso Eficiente Da Água Na Agricultura"},null,null,null,{"$f":"+Sheet6!G63","v":"1000 €"}]
[null,null,{"$f":"+Sheet6!D64","v":"            (56) - Pagamentos Natura"},null,null,null,{"$f":"+Sheet6!G64","v":"1000 €"}]
[null,null,{"$f":"+Sheet6!D65","v":"(57) - Total de Pagamentos aos Produtores (15+29)"},null,null,null,{"$f":"+Sheet6!G65","v":"1000 €"}]
[null,null,{"$f":"+Sheet6!D66","v":"     (58) - Superfície de Cereais De Outono-Inverno"},null,null,null,{"$f":"+Sheet6!G66","v":"ha"}]
[null,null,{"$f":"+Sheet6!D67","v":"     (59) - Superfície de Milho Grão; "},null,null,null,{"$f":"+Sheet6!G67","v":"ha"}]
[null,null,{"$f":"+Sheet6!D68","v":"     (60) - Superfície de Arroz; "},null,null,null,{"$f":"+Sheet6!G68","v":"ha"}]
[null,null,{"$f":"+Sheet6!D69","v":"     (61) - Superfície de Oleaginosas E Proteaginosas; "},null,null,null,{"$f":"+Sheet6!G69","v":"ha"}]
[null,null,{"$f":"+Sheet6!D70","v":"     (62) - Superfície de Hortícolas, Batata, Plantas E Flores; "},null,null,null,{"$f":"+Sheet6!G70","v":"ha"}]
[null,null,{"$f":"+Sheet6!D71","v":"     (63) - Superfície de Forragens E Prados Temporários; "},null,null,null,{"$f":"+Sheet6!G71","v":"ha"}]
[null,null,{"$f":"+Sheet6!D72","v":"     (64) - Superfície de Pousios; "},null,null,null,{"$f":"+Sheet6!G72","v":"ha"}]
[null,null,{"$f":"+Sheet6!D73","v":"     (65) - Superfície de Pomares; "},null,null,null,{"$f":"+Sheet6!G73","v":"ha"}]
[null,null,{"$f":"+Sheet6!D74","v":"     (66) - Superfície de Vinha; "},null,null,null,{"$f":"+Sheet6!G74","v":"ha"}]
[null,null,{"$f":"+Sheet6!D75","v":"     (67) - Superfície de Olival; "},null,null,null,{"$f":"+Sheet6!G75","v":"ha"}]
[null,null,{"$f":"+Sheet6!D76","v":"     (68) - Superfície de Prados E Pastagens Permanentes; "},null,null,null,{"$f":"+Sheet6!G76","v":"ha"}]
[null,null,{"$f":"+Sheet6!D77","v":"     (69) - Cabeças de Vacas Leiteiras"},null,null,null,{"$f":"+Sheet6!G77","v":"Cab."}]
[null,null,{"$f":"+Sheet6!D78","v":"     (70) - Cabeças de Vacas Aleitantes"},null,null,null,{"$f":"+Sheet6!G78","v":"Cab."}]
[null,null,{"$f":"+Sheet6!D79","v":"     (71) - Cabeças de Outros Bovinos"},null,null,null,{"$f":"+Sheet6!G79","v":"Cab."}]
[null,null,{"$f":"+Sheet6!D80","v":"     (72) - Cabeças de Ovelhas"},null,null,null,{"$f":"+Sheet6!G80","v":"Cab."}]
[null,null,{"$f":"+Sheet6!D81","v":"     (73) - Cabeças de Outros Ovinos"},null,null,null,{"$f":"+Sheet6!G81","v":"Cab."}]
[null,null,{"$f":"+Sheet6!D82","v":"     (74) - Cabeças de Cabras"},null,null,null,{"$f":"+Sheet6!G82","v":"Cab."}]
[null,null,{"$f":"+Sheet6!D83","v":"     (75) - Cabeças de Outros Caprinos"},null,null,null,{"$f":"+Sheet6!G83","v":"Cab."}]
[null,null,{"$f":"+Sheet6!D84","v":"            (76) - Número de Produtores Maa - Produçao Integrada"},null,null,null,{"$f":"+Sheet6!G84","v":"Nº "}]
[null,null,{"$f":"+Sheet6!D85","v":"            (77) - SA Declarada para Maa - Produçao Integrada"},null,null,null,{"$f":"+Sheet6!G85","v":"ha"}]
[null,null,{"$f":"+Sheet6!D86","v":"            (78) - Número de Produtores Maa-Agric.Biológica - Conv"},null,null,null,{"$f":"+Sheet6!G86","v":"Nº "}]
[null,null,{"$f":"+Sheet6!D87","v":"            (79) - SA Declarada para Maa-Agric.Biológica - Conv"},null,null,null,{"$f":"+Sheet6!G87","v":"ha"}]
[null,null,{"$f":"+Sheet6!D88","v":"            (80) - Número de Produtores Maa-Agric.Biológica - Manut"},null,null,null,{"$f":"+Sheet6!G88","v":"Nº "}]
[null,null,{"$f":"+Sheet6!D89","v":"            (81) - SA Declarada para Maa-Agric.Biológica - Manut"},null,null,null,{"$f":"+Sheet6!G89","v":"ha"}]
[null,null,{"$f":"+Sheet6!D90","v":"            (82) - Número de Produtores Uso Eficiente Da Água Na Agricultura"},null,null,null,{"$f":"+Sheet6!G90","v":"Nº "}]
[null,null,{"$f":"+Sheet6!D91","v":"            (83) - SA Declarada para Uso Eficiente Da Água Na Agricultura"},null,null,null,{"$f":"+Sheet6!G91","v":"ha"}]
[null,null,{"$f":"+Sheet6!D92","v":"            (84) - Número de Produtores Culturas Permanentes Tradicionais"},null,null,null,{"$f":"+Sheet6!G92","v":"Nº "}]
[null,null,{"$f":"+Sheet6!D93","v":"            (85) - SA Declarada para Culturas Permanentes Tradicionais"},null,null,null,{"$f":"+Sheet6!G93","v":"ha"}]
[null,null,{"$f":"+Sheet6!D94","v":"            (86) - Número de Produtores Maa-Conservação Solo-Sem Dir"},null,null,null,{"$f":"+Sheet6!G94","v":"Nº "}]
[null,null,{"$f":"+Sheet6!D95","v":"            (87) - SA Declarada para Maa-Conservação Solo-Sem Dir"},null,null,null,{"$f":"+Sheet6!G95","v":"ha"}]
[null,null,{"$f":"+Sheet6!D96","v":"            (88) - Número de Produtores Maa-Conservação Solo-Enr.Entr"},null,null,null,{"$f":"+Sheet6!G96","v":"Nº "}]
[null,null,{"$f":"+Sheet6!D97","v":"            (89) - SA Declarada para Maa-Conservação Solo-Enr.Entr"},null,null,null,{"$f":"+Sheet6!G97","v":"ha"}]
[null,null,{"$f":"+Sheet6!D98","v":"            (90) - Número de Produtores Maa - Lameiros De Sequeiro"},null,null,null,{"$f":"+Sheet6!G98","v":"Nº "}]
[null,null,{"$f":"+Sheet6!D99","v":"            (91) - SA Declarada para Maa - Lameiros De Sequeiro"},null,null,null,{"$f":"+Sheet6!G99","v":"ha"}]
[null,null,{"$f":"+Sheet6!D100","v":"            (92) - Número de Produtores Maa - Lameiros De Regadio"},null,null,null,{"$f":"+Sheet6!G100","v":"Nº "}]
[null,null,{"$f":"+Sheet6!D101","v":"            (93) - SA Declarada para Maa - Lameiros De Regadio"},null,null,null,{"$f":"+Sheet6!G101","v":"ha"}]
[null,null,{"$f":"+Sheet6!D102","v":"            (94) - Número de Produtores Maa -Pastoreio Extensivo -Apoio à Manutenção de Sistemas Agro-silvo-pastoris sob Montado Ii"},null,null,null,{"$f":"+Sheet6!G102","v":"Nº "}]
[null,null,{"$f":"+Sheet6!D103","v":"            (95) - SA Declarada para Maa - Pastoreio Extensivo -Apoio à Manutenção de Sistemas Agro-silvo-pastoris sob Montado Ii"},null,null,null,{"$f":"+Sheet6!G103","v":"ha"}]
[null,null,{"$f":"+Sheet6!D104","v":"            (96) - Número de Produtores Maa - Pastoreio Extensivo Apoio à Proteção do Lobo Ibérico"},null,null,null,{"$f":"+Sheet6!G104","v":"Nº "}]
[null,null,{"$f":"+Sheet6!D105","v":"            (97) - SA Declarada para Maa - Pastoreio Extensivo Apoio à Proteção do Lobo Ibérico"},null,null,null,{"$f":"+Sheet6!G105","v":"ha"}]
[]
[]
[]
[]
[null,"Grandes Orientações Produtivas"]
[]
[null,null,"GOP",null,"OTE incluídas"]
[null,null,"Grandes Culturas (Arvenses e Industriais)",null,"Arvenses e Outras Culturas predominantemente de Regadio; Arvenses e Outras Culturas predominantemente de Sequeiro; Arroz; Horticultura e Industriais; Tomate Indústria; Plantas tuberosas"]
[null,null,"Horticultura Intensiva",null,"Horticultura e Floricultura"]
[null,null,"Culturas Permanentes",null,"Vinhos; Fruticultura; Olival"]
[null,null,"Leite",null,"Bovinos Leite"]
[null,null,"Outros herbívoros",null,"Bovinos Carne predominantemente Intensivos; Bovinos Carne predominantemente Extensivos; Outros Ruminantes"]
[null,null,"Mistas",null,"Não classificadas; Policultura; Mistas; Pousio e Pastagem"]
[]
[null,"Mapa das NUTS"]
[]
[null,null,"NUTS II","Código NUTS III","NUTS III"]
[null,null,"Norte ",111,"Alto Minho"]
[null,null,null,112,"Cávado"]
[null,null,null,119,"Ave"]
[null,null,null,"11A","Área Metropolitana do Porto"]
[null,null,null,"11B","Alto Tâmega"]
[null,null,null,"11C","Tâmega e Sousa"]
[null,null,null,"11D","Douro"]
[null,null,null,"11E","Terras de Trás-os-Montes"]
[null,null,"Centro","16B","Oeste"]
[null,null,null,"16D","Região de Aveiro"]
[null,null,null,"16E","Região de Coimbra"]
[null,null,null,"16F","Região de Leiria"]
[null,null,null,"16G","Viseu Dão Lafões"]
[null,null,null,"16H","Beira Baixa"]
[null,null,null,"16I","Médio Tejo"]
[null,null,null,"16J","Beiras e Serra da Estrela"]
[null,null,"AML",170,"Área Metropolitana de Lisboa"]
[null,null,"Alentejo",181,"Alentejo Litoral"]
[null,null,null,184,"Baixo Alentejo"]
[null,null,null,185,"Lezíria do Tejo"]
[null,null,null,186,"Alto Alentejo"]
[null,null,null,187,"Alentejo Central"]
[null,null,"Algarve",150,"Algarve"]
[]
[]
[]
[]
[]
[]
[]
[]
[]
[]
[]
[]
[]
[]
[]
[]
[]
[]
[]
[]
[]
[]
[]
[]
[]
[]
[]
[]
[]
[]
[null,"Alguns conceitos"]
[null,null,"Conceito",null,"Descritivo",null,"Observações"]
[null,null,"VPP - Valores de Produção Padrão",null,"Valores médios de produção, para cada região agrária (7 DRA) e cada atividade (87 rubricas), determinados a partir de recolha de informação realizada pelas DRAPs e GPP de acordo com a regulamentação comunitária. ",null,"Reg. (CE) n.º 1242/2008"]
[null,null,"DE - Dimensão Económica ",null,"VPP total da exploração, expresso em euros, corresponde à soma dos valores obtidos para cada atividade, multiplicando os VPP pelo número de unidades existentes das atividades."]
[null,null,"OTE - Orientação Técnico-Económica",null,"Sistema de produção de uma exploração que se caracteriza pela contribuição relativa dos VPP das atividades para o VPP total da exploração "]
[null,null,"CN - Cabeça Normal",null,"Medida pecuária que relaciona os efetivos, convertidos em cabeças normais, em função das espécies e das idades, através de uma tabela de conversão em que um animal adulto da espécie bovina corresponde a 1 CN.",null,"INE - Conceitos"]
[null,null,"Localização da exploração agrícola",null,"Freguesia onde se situa a maior área declarada da exploração."]
[]
[null,"Estrutura da Base de Dados"]
[]
[null,null,"Em linha",null,null,"Em coluna"]
[null,null,null,null,null,"OTE por Classes de Dimensão    |    OTE    |    Classes de Dimensão"]
[null,null,"NUTS II","Código NUTS III","NUTS III","OTE","Dimensão"]
[null,null,"Norte ",111,"Alto Minho","Explorações não Classificadas","MP – muito pequenas"]
[null,null,null,112,"Cávado","Arvenses e Outras Cult pred. Regadio","P – pequenas"]
[null,null,null,119,"Ave","Arvenses e Outras Cult pred. Sequeiro","M – médias"]
[null,null,null,"11A","Área Metropolitana do Porto","Arroz","G – grandes"]
[null,null,null,"11B","Alto Tâmega","Horticultura e Industriais","MG – muito grandes"]
[null,null,null,"11C","Tâmega e Sousa","Horticultura e Floricultura"]
[null,null,null,"11D","Douro","Vinhos"]
[null,null,null,"11E","Terras de Trás-os-Montes","Fruticultura"]
[null,null,"Centro","16B","Oeste","Olival"]
[null,null,null,"16D","Região de Aveiro","Policultura"]
[null,null,null,"16E","Região de Coimbra","Bovinos Leite"]
[null,null,null,"16F","Região de Leiria","Bovinos Carne predomin. Intensivos"]
[null,null,null,"16G","Viseu Dão Lafões","Bovinos Carne predomin. Extensivos"]
[null,null,null,"16H","Beira Baixa","Outros Ruminantes"]
[null,null,null,"16I","Médio Tejo","Mistas"]
[null,null,null,"16J","Beiras e Serra da Estrela","Pousio e Pastagem"]
[null,null,"AML",170,"Área Metropolitana de Lisboa","Tomate Indústria"]
[null,null,"Alentejo",181,"Alentejo Litoral","Plantas tuberosas"]
[null,null,null,184,"Baixo Alentejo"]
[null,null,null,185,"Lezíria do Tejo"]
[null,null,null,186,"Alto Alentejo"]
[null,null,null,187,"Alentejo Central"]
[null,null,"Algarve",150,"Algarve"]

{"sheet":"EspecificacoesOTE","index":10,"n_rows":71,"n_cols":6,"rows_kept":71,"cut":false,"hidden":true,"merged":[[2,1,9,1],[22,1,29,1],[40,1,46,1],[0,0,0,3],[48,3,55,3],[10,1,19,1],[30,1,32,1],[33,1,38,1],[48,1,51,1],[52,1,55,1],[56,3,68,3],[69,3,70,3],[2,2,9,2],[10,2,14,2],[15,2,19,2],[22,2,29,2],[30,2,32,2],[2,3,9,3],[10,3,21,3],[22,3,29,3],[30,3,39,3],[40,3,46,3],[56,2,67,2],[56,1,67,1],[33,2,38,2],[40,2,46,2],[50,2,51,2],[52,2,55,2]]}
["Agregação de OTE - Orientação Técnico-económica"]
["Descritivo das OTE","Classes OTE","Grupos OTE","GOP - Grande Orientação Produtiva"]
["Explorações não classificadas","Não classificadas","Não Classificadas","Mistas",null,""]
["Expl. especializadas em suínos para criação"]
["Expl. especializadas em suínos de engorda"]
["Expl. combinando criação e engorda de suínos"]
["Expl. espec. de galinhas poedeiras"]
["Expl. espec. em aves de carne"]
["Expl. combinados de galinhas poedeiras e aves de carne"]
["Expl. com diversas combinações de granívoros"]
["Explorações especializadas em cerealiculrura (exceto arroz), plantas oleaginosas e plantas proteínicas","Arvenses e Outras Culturas Extensivas","Arvenses e Outras Cult pred. Regadio*","Grandes Culturas (Arvenses e Industriais)"]
["Explorações que combinam cereais, arroz, plantas oleaginosas e proteínicas"]
["Explorações de culturas de cereais e de plantas tuberosas combinadas"]
["Explorações especializadas em cultura de tabaco"]
["Explorações com combinação de diversas culturas arvenses"]
["Explorações especializadas em cerealiculrura (excepto arroz), plantas oleaginosas e plantas proteínicas",null,"Arvenses e Outras Cult pred. Sequeiro*"]
["Explorações que combinam cereais, arroz, plantas oleaginosas e proteínicas"]
["Explorações de culturas de cereais e de plantas tuberosas combinadas"]
["Explorações especializadas em cultura de tabaco"]
["Explorações com combinação de diversas culturas arvenses"]
["Explorações especializadas orizícolas","Arroz","Arroz"]
["Explorações especializadas em horticultura extensiva","Horticultura e Industriais","Horticultura e Indústria"]
["Expl. espec. em hortícola sob coberto","Horticultura e Floricultura","Horticultura e Floricultura","Horticultura Intensiva"]
["Expl. espec. em floricultura e plantas ornamentais sob coberto"]
["Expl. espec. em horticultura mistas sob coberto"]
["Expl. espec. em horticultura ao ar lvre"]
["Expl. espec. em floricultura e cultura de plantas ornamentais ao ar livre"]
["Expl. espec. em horticultura mistas ao ar livre"]
["Expl. com viveiros especializados"]
["Explorações com diversas culturas hortícolas"]
["Expl. espec. vinícolas produtoras de vinhos de qualidade","Vinhos","Vinhos","Culturas Permanentes"]
["Expl. espec. vinícolas produtoras de vinhos comuns"]
["Outras explorações vitivinícolas"]
["Expl. espec. na produção de uva de mesa","Fruticultura","Fruticultura"]
["Expl. espec.frutícolas (com excepção dos citrinos, frutos tropicais e frutos de casca rija)"]
["Expl. espec. em citrinos"]
["Expl. espec. na produção de frutos secos"]
["Expl. frutícolas especializadas em frutos tropicais"]
["Expl. esp. que combinam a produção de citrinos, frutos tropicais e frutos de casca rija"]
["Expl. olivícolas especializadas","Olival","Olival"]
["Expl. com diversas combinações de culturas permanentes","Policultura","Policultura","Mistas"]
["Expl. combinando horticultura e culturas permanentes"]
["Expl. combinando culturas arvenses e horticultura"]
["Expl. combinando culturas arvenses e vinhas"]
["Expl. combinando culturas arvenses e culturas permanentes"]
["Expl. de policultura orientadas para culturas arvenses"]
["Outras explorações de policultura"]
["Expl. bovinas especializadas - orientação leite","Bovinos Leite","Bovinos Leite","Leite"]
["Expl. bovinas especializadas - orientação criação e carne","Bovinos Carne","Bov. Carne semi-int*","Outros herbívoros"]
["Expl. bovinas - leite, criação e carne combinadas",null,"Bov. Carne Int*"]
["Expl. bovinas especializadas - orientação criação e carne",null,"Bov. Carne Extensivos*"]
["Expl. bovinas - leite, criação e carne combinadas"]
["Expl. com ovinos especializadas","Outros Ruminantes","Outros Ruminantes"]
["Expl. com ovinos e bovinos combinados"]
["Expl. com caprinos especializadas"]
["Expl. com diversos herbívoros"]
["Expl. de polipecuária orientadas para o leite","Mistas","Mistas","Mistas"]
["Expl. de polipecuária orientadas para os herbívoros não leiteiros"]
["Expl. de polipecuária: granívoros e bovinos leiteiros"]
["Expl. de polipecuária: granívoros e herbívoros não leiteiros"]
["Expl. mistas de culturas arvenses com bovinos leiteiros"]
["Expl. mistas de bovinos leiteiros com culturas arvenses"]
["Expl. mistas de culturas arvenses com herbívoros não leiteiros"]
["Expl. mistas de herbívoros não leiteiros com culturas arvenses"]
["Expl. mistas de culturas arvenses e granívoros"]
["Expl. mistas de culturas permanentes e herbívoros"]
["Expl. Apícolas"]
["Expl. com diversas culturas e criações mistas"]
["Explorações Especializadas em Pousio e Pastagem","Pousio e Pastagem","Pousio e Pastagem"]
["Explorações especializadas em Tomate Indústria","Tomate Indústria","Tomate Indústria","Grandes Culturas (Arvenses e Industriais)"]
["Explorações especializadas em cultura de plantas tuberosas","Plantas tuberosas","Plantas Tuberosas"]

{"sheet":"ClassesAnimais","index":11,"n_rows":23,"n_cols":3,"rows_kept":23,"cut":false,"hidden":true,"merged":[[2,5,9,5],[0,0,0,2]]}
["Tabela de conversão em CN - Cabeças Normais"]
["Classe de animais","Coeficiente CN","Herbívoros"]
["Vacas Leiteiras",1,1]
["Bovinos Fêmeas com mais de 2 Anos não leiteiras",1,1]
["Bovinos Fêmeas com menos de 6 meses",0.4,1]
["Bovinos Fêmeas de 6 Meses a 2 Anos",0.6,1]
["Bovinos Machos com mais de 2 Anos",1,1]
["Bovinos Machos com menos de 6 meses",0.4,1]
["Bovinos Machos de 6 Meses a 2 Anos",0.6,1]
["Caprinos Fêmeas com mais de 12 meses",0.15,1]
["Caprinos Femeas de 6 Meses a 12 Meses",0.15,1]
["Caprinos machos com mais de 12 meses",0.15,1]
["Colónias de Abelhas",0,0]
["Equídeos Fêmeas com mais de 6 meses",1,0]
["Equídeos Machos com mais de 6 meses",1,0]
["Galináceos",1.4E-2,0]
["Galinhas Poedeiras",1.4E-2,0]
["Outras Aves de Capoeira",0.03,0]
["Ovinos Fêmeas com mais de 12 Meses",0.15,1]
["Ovinos Femeas de 6 Meses a 12 Meses",0.15,1]
["Ovinos Machos com mais de 12 Meses",0.15,1]
["Porcas Reprodutoras (mais de 50 Kgs)",0.5,0]
["Outros Suínos (+3 meses)",0.3,0]