{"text_format":"1","workbook":"xlsx","n_sheets":12,"sheets":["Inicio","Base","CHART-Geral","CHART-NUTIII-DE","CHART-NUTIII-GOP","CHART-OTE-DE","Sheet6","Sheet3","Sheet4","Ajuda","EspecificacoesOTE","ClassesAnimais"],"not_rendered":{"charts":8,"images":18,"macros":1,"external_links":1,"defined_names":20,"comments":0,"pivot_tables":0},"unopened":[],"bounds":{"document_bytes":16777216,"sheet_cells":100000,"rows_first":2000,"rows_last":500,"rows_between":2000,"halvings":0,"cell_chars":16384,"cell_head_chars":4096},"cells_cut":0,"cells_raw":0,"read":"whole","date_system":"1900"}

{"sheet":"Inicio","index":0,"n_rows":25,"n_cols":14,"rows_kept":25,"cut":false,"hidden":false,"merged":[[3,0,3,16]]}
[]
[null,null,null,null,null,null,null,null,null,null,null,null,null,"Fonte: GPP a partir de dados "]
[]
["Caracterização dos Apoios e Agricultores Portugueses no âmbito do Pedido Único da PAC - 2021"]
[]
[]
[]
[]
[]
["1. ","Seleccione a variável, o tipo de classes de dimensão e o grupo de produtores a representar:"]
[]
[]
[]
[]
["2. ","Visualize os gráficos respetivos:"]
[]
[]
[]
[]
[null,"Visualize a base de dados:"]
[]
[]
[]
[]
[null,"Copie os dados obtidos para um novo ficheiro:"]

{"sheet":"Base","index":1,"n_rows":82,"n_cols":123,"rows_kept":82,"cut":false,"hidden":true,"merged":[[46,110,47,110],[7,120,8,120],[7,113,8,113],[7,114,8,114],[7,108,8,108],[7,109,8,109],[7,119,8,119],[7,111,8,111],[42,0,42,2],[7,99,8,99],[7,100,8,100],[7,98,8,98],[7,106,8,106],[7,107,8,107],[33,0,33,2],[7,3,7,7],[7,43,7,47],[18,0,25,0],[7,8,7,12],[7,13,7,17],[7,63,7,67],[7,110,8,110],[46,3,46,7],[46,8,46,12],[4,117,4,122],[4,3,4,32],[4,68,4,97],[10,0,17,0],[27,0,31,0],[7,122,8,122],[7,102,8,102],[7,103,8,103],[7,104,8,104],[7,105,8,105],[7,121,8,121],[7,117,8,117],[7,118,8,118],[7,101,8,101],[7,115,8,115],[7,116,8,116],[7,73,7,77],[7,78,7,82],[7,83,7,87],[7,53,7,57],[7,93,7,97],[4,33,4,62],[7,68,7,72],[7,88,7,92],[46,13,46,17],[46,18,46,22],[46,23,46,27],[3,3,3,5],[3,15,3,16],[3,13,3,14],[4,98,4,116],[7,58,7,62],[7,33,7,37],[7,38,7,42],[7,48,7,52],[7,18,7,22],[7,23,7,27],[7,28,7,32],[7,112,8,112],[46,53,46,57],[46,58,46,62],[46,68,46,72],[46,73,46,77],[46,78,46,82],[46,28,46,32],[46,33,46,37],[46,38,46,42],[46,43,46,47],[46,48,46,52],[46,107,47,107],[46,108,47,108],[46,109,47,109],[46,100,47,100],[46,101,47,101],[46,102,47,102],[46,103,47,103],[46,104,47,104],[46,83,46,87],[46,88,46,92],[46,93,46,97],[46,98,47,98],[46,99,47,99],[46,63,46,67],[44,117,44,122],[81,0,81,2],[72,0,72,2],[44,3,44,32],[44,33,44,62],[44,68,44,97],[44,98,44,116],[46,121,47,121],[46,122,47,122],[49,0,56,0],[57,0,64,0],[66,0,70,0],[46,116,47,116],[46,117,47,117],[46,118,47,118],[46,119,47,119],[46,120,47,120],[46,111,47,111],[46,112,47,112],[46,113,47,113],[46,114,47,114],[46,115,47,115],[46,105,47,105],[46,106,47,106]]}
[]
[]
[]
[null,null,null,"Tipo de Beneficiário:",null,null,{"$f":"INDEX(Sheet6!$P$1:$P$6,Sheet3!$A$2)","v":"Todos os Produtores do PU"},null,null,null,null,null,null,"Valor total:",null,{"$f":"+Base!$DS$34","v":5623.0813999999991},null,{"$f":"+\"(\" & (INDEX(Sheet6!$G$2:$G$117,Sheet3!$C$1)) & \")\"","v":"(1000 €)"}]
[null,null,null,{"$f":"+INDEX(Sheet6!$D$2:$D$117,Sheet3!$C$1)&\" segundo Orientação Técnico Económica e \"&INDEX(Sheet6!$M$3:$M$6,Sheet3!$B$1)&\" e por NUTSIII em \" &Sheet6!$B$1","v":"            (49) - Maa - Pastoreio Extensivo Ii segundo Orientação Técnico Económica e Classes de Superfície Agrícola e por NUTSIII em 2021"},null,null,null,null,null,null,null,null,null,null,null,null,null,null,null,null,null,null,null,null,null,null,null,null,null,null,null,null,null,{"$f":"+D5& \" (cont.)\"","v":"            (49) - Maa - Pastoreio Extensivo Ii segundo Orientação Técnico Económica e Classes de Superfície Agrícola e por NUTSIII em 2021 (cont.)"},null,null,null,null,null,null,null,null,null,null,null,null,null,null,null,null,null,null,null,null,null,null,null,null,null,null,null,null,null,null,null,null,null,null,{"$f":"+AH5","v":"            (49) - Maa - Pastoreio Extensivo Ii segundo Orientação Técnico Económica e Classes de Superfície Agrícola e por NUTSIII em 2021 (cont.)"},null,null,null,null,null,null,null,null,null,null,null,null,null,null,null,null,null,null,null,null,null,null,null,null,null,null,null,null,null,{"$f":"+INDEX(Sheet6!$D$2:$D$117,Sheet3!$C$1)&\" segundo Orientação Técnico Económica por NUTSIII em \" &Sheet6!B1","v":"            (49) - Maa - Pastoreio Extensivo Ii segundo Orientação Técnico Económica por NUTSIII em 2021"},null,null,null,null,null,null,null,null,null,null,null,null,null,null,null,null,null,null,{"$f":"+INDEX(Sheet6!$D$2:$D$117,Sheet3!$C$1)&CHAR(10)& \"segundo \"&INDEX(Sheet6!$M$3:$M$6,Sheet3!$B$1)& \" por NUTSIII em \" &Sheet6!$B$1","v":"            (49) - Maa - Pastoreio Extensivo Ii\nsegundo Classes de Superfície Agrícola por NUTSIII em 2021"}]
[]
[null,null,{"$f":"+\"Unidade: \"&INDEX(Sheet6!$G$2:$G$117,Sheet3!$C$1)","v":"Unidade: 1000 €"}]
[null,null,"OTE","Não classificadas",null,null,null,null,"Arvenses e Outras Cult pred. Regadio",null,null,null,null,"Arvenses e Outras Cult pred. Sequeiro",null,null,null,null,"Arroz",null,null,null,null,"Horticultura e Industriais",null,null,null,null,"Horticultura e Floricultura",null,null,null,null,"Vinhos",null,null,null,null,"Fruticultura",null,null,null,null,"Olival",null,null,null,null,"Policultura",null,null,null,null,"Bovinos Leite",null,null,null,null,"Bov. Carne semi-int. (>1 < 3CN por ha SF)",null,null,null,null,"Bov. Carne Int (>= 3CN por ha SF)",null,null,null,null,"Bov. Carne Extensivos (<1 CN por ha SF)",null,null,null,null,"Outros Ruminantes",null,null,null,null,"Mistas",null,null,null,null,"Pousio e Pastagem",null,null,null,null,"Tomate Indústria",null,null,null,null,"Plantas tuberosas",null,null,null,null,"Não classificadas","Arvenses e Outras Cult pred. Regadio","Arvenses e Outras Cult pred. Sequeiro","Arroz","Horticultura e Industriais","Horticultura e Floricultura","Vinhos","Fruticultura","Olival","Policultura","Bovinos Leite",{"$f":"+BG8","v":"Bov. Carne semi-int. (>1 < 3CN por ha SF)"},{"$f":"+BL8","v":"Bov. Carne Int (>= 3CN por ha SF)"},{"$f":"+BQ8","v":"Bov. Carne Extensivos (<1 CN por ha SF)"},"Outros Ruminantes","Mistas","Pousio e Pastagem","Tomate Indústria","Plantas tuberosas","MP","P","M","G","MG","Total"]
[null,null,{"$f":"+INDEX(Sheet6!M3:M6,Sheet3!B1)","v":"Classes de Superfície Agrícola"},"MP","P","M","G","MG","MP","P","M","G","MG","MP","P","M","G","MG","MP","P","M","G","MG","MP","P","M","G","MG","MP","P","M","G","MG","MP","P","M","G","MG","MP","P","M","G","MG","MP","P","M","G","MG","MP","P","M","G","MG","MP","P","M","G","MG","MP","P","M","G","MG","MP","P","M","G","MG","MP","P","M","G","MG","MP","P","M","G","MG","MP","P","M","G","MG","MP","P","M","G","MG","MP","P","M","G","MG","MP","P","M","G","MG",null,"Arvenses e Outras Cult pred. Regadio"]
["NUTS II","Cód.","NUTS III",null,null,null,null,null,null,null,null,null,null,null,null,null,null,null,null,null,null,null,null,null,null,null,null,null,null,null,null,null,{"$f":"+\"Unidade: \"&INDEX(Sheet6!$G$2:$G$117,Sheet3!$C$1)","v":"Unidade: 1000 €"},null,null,null,null,null,null,null,null,null,null,null,null,null,null,null,null,null,null,null,null,null,null,null,null,null,null,null,null,null,{"$f":"+\"Unidade: \"&INDEX(Sheet6!$G$2:$G$117,Sheet3!$C$1)","v":"Unidade: 1000 €"},null,null,null,null,{"$f":"+\"Unidade: \"&INDEX(Sheet6!$G$2:$G$117,Sheet3!$C$1)","v":"Unidade: 1000 €"},null,null,null,null,null,null,null,null,null,null,null,null,null,null,null,null,null,null,null,null,null,null,null,null,null,null,null,null,null,{"$f":"+\"Unidade: \"&INDEX(Sheet6!$G$2:$G$117,Sheet3!$C$1)","v":"Unidade: 1000 €"},null,null,null,null,null,null,null,null,null,null,null,null,null,null,null,null,null,null,null,null,null,null,null,null,{"$f":"+\"Unidade: \"&INDEX(Sheet6!$G$2:$G$117,Sheet3!$C$1)","v":"Unidade: 1000 €"}]
["Norte ","111","Alto Minho",{"$f":"+Sheet3!D8/Sheet3!$F$1","v":0},{"$f":"+Sheet3!E8/Sheet3!$F$1","v":0},{"$f":"+Sheet3!F8/Sheet3!$F$1","v":0},{"$f":"+Sheet3!G8/Sheet3!$F$1","v":0},{"$f":"+Sheet3!H8/Sheet3!$F$1","v":0},{"$f":"+Sheet3!I8/Sheet3!$F$1","v":0},{"$f":"+Sheet3!J8/Sheet3!$F$1","v":0},{"$f":"+Sheet3!K8/Sheet3!$F$1","v":0},{"$f":"+Sheet3!L8/Sheet3!$F$1","v":0},{"$f":"+Sheet3!M8/Sheet3!$F$1","v":0},{"$f":"+Sheet3!N8/Sheet3!$F$1","v":0},{"$f":"+Sheet3!O8/Sheet3!$F$1","v":0},{"$f":"+Sheet3!P8/Sheet3!$F$1","v":0},{"$f":"+Sheet3!Q8/Sheet3!$F$1","v":0},{"$f":"+Sheet3!R8/Sheet3!$F$1","v":0},{"$f":"+Sheet3!S8/Sheet3!$F$1","v":0},{"$f":"+Sheet3!T8/Sheet3!$F$1","v":0},{"$f":"+Sheet3!U8/Sheet3!$F$1","v":0},{"$f":"+Sheet3!V8/Sheet3!$F$1","v":0},{"$f":"+Sheet3!W8/Sheet3!$F$1","v":0},{"$f":"+Sheet3!X8/Sheet3!$F$1","v":0},{"$f":"+Sheet3!Y8/Sheet3!$F$1","v":0},{"$f":"+Sheet3!Z8/Sheet3!$F$1","v":0},{"$f":"+Sheet3!AA8/Sheet3!$F$1","v":0},{"$f":"+Sheet3!AB8/Sheet3!$F$1","v":0},{"$f":"+Sheet3!AC8/Sheet3!$F$1","v":0},{"$f":"+Sheet3!AD8/Sheet3!$F$1","v":0},{"$f":"+Sheet3!AE8/Sheet3!$F$1","v":0},{"$f":"+Sheet3!AF8/Sheet3!$F$1","v":0},{"$f":"+Sheet3!AG8/Sheet3!$F$1","v":0},{"$f":"+Sheet3!AH8/Sheet3!$F$1","v":0},{"$f":"+Sheet3!AI8/Sheet3!$F$1","v":0},{"$f":"+Sheet3!AJ8/Sheet3!$F$1","v":0},{"$f":"+Sheet3!AK8/Sheet3!$F$1","v":0},{"$f":"+Sheet3!AL8/Sheet3!$F$1","v":0},{"$f":"+Sheet3!AM8/Sheet3!$F$1","v":0},{"$f":"+Sheet3!AN8/Sheet3!$F$1","v":0},{"$f":"+Sheet3!AO8/Sheet3!$F$1","v":0},{"$f":"+Sheet3!AP8/Sheet3!$F$1","v":0},{"$f":"+Sheet3!AQ8/Sheet3!$F$1","v":0},{"$f":"+Sheet3!AR8/Sheet3!$F$1","v":0},{"$f":"+Sheet3!AS8/Sheet3!$F$1","v":0},{"$f":"+Sheet3!AT8/Sheet3!$F$1","v":0},{"$f":"+Sheet3!AU8/Sheet3!$F$1","v":0},{"$f":"+Sheet3!AV8/Sheet3!$F$1","v":0},{"$f":"+Sheet3!AW8/Sheet3!$F$1","v":0},{"$f":"+Sheet3!AX8/Sheet3!$F$1","v":0},{"$f":"+Sheet3!AY8/Sheet3!$F$1","v":0},{"$f":"+Sheet3!AZ8/Sheet3!$F$1","v":0},{"$f":"+Sheet3!BA8/Sheet3!$F$1","v":0},{"$f":"+Sheet3!BB8/Sheet3!$F$1","v":0},{"$f":"+Sheet3!BC8/Sheet3!$F$1","v":0},{"$f":"+Sheet3!BD8/Sheet3!$F$1","v":0},{"$f":"+Sheet3!BE8/Sheet3!$F$1","v":0},{"$f":"+Sheet3!BF8/Sheet3!$F$1","v":0},{"$f":"+Sheet3!BG8/Sheet3!$F$1","v":0},{"$f":"+Sheet3!BH8/Sheet3!$F$1","v":0},{"$f":"+Sheet3!BI8/Sheet3!$F$1","v":0},{"$f":"+Sheet3!BJ8/Sheet3!$F$1","v":0},{"$f":"+Sheet3!BK8/Sheet3!$F$1","v":0},{"$f":"+Sheet3!BL8/Sheet3!$F$1","v":0},{"$f":"+Sheet3!BM8/Sheet3!$F$1","v":0},{"$f":"+Sheet3!BN8/Sheet3!$F$1","v":0},{"$f":"+Sheet3!BO8/Sheet3!$F$1","v":0},{"$f":"+Sheet3!BP8/Sheet3!$F$1","v":0},{"$f":"+Sheet3!BQ8/Sheet3!$F$1","v":0},{"$f":"+Sheet3!BR8/Sheet3!$F$1","v":0},{"$f":"+Sheet3!BS8/Sheet3!$F$1","v":0},{"$f":"+Sheet3!BT8/Sheet3!$F$1","v":0},{"$f":"+Sheet3!BU8/Sheet3!$F$1","v":0},{"$f":"+Sheet3!BV8/Sheet3!$F$1","v":0},{"$f":"+Sheet3!BW8/Sheet3!$F$1","v":0},{"$f":"+Sheet3!BX8/Sheet3!$F$1","v":0},{"$f":"+Sheet3!BY8/Sheet3!$F$1","v":0},{"$f":"+Sheet3!BZ8/Sheet3!$F$1","v":0},{"$f":"+Sheet3!CA8/Sheet3!$F$1","v":0},{"$f":"+Sheet3!CB8/Sheet3!$F$1","v":0},{"$f":"+Sheet3!CC8/Sheet3!$F$1","v":0},{"$f":"+Sheet3!CD8/Sheet3!$F$1","v":0},{"$f":"+Sheet3!CE8/Sheet3!$F$1","v":0},{"$f":"+Sheet3!CF8/Sheet3!$F$1","v":0},{"$f":"+Sheet3!CG8/Sheet3!$F$1","v":0},{"$f":"+Sheet3!CH8/Sheet3!$F$1","v":0},{"$f":"+Sheet3!CI8/Sheet3!$F$1","v":0},{"$f":"+Sheet3!CJ8/Sheet3!$F$1","v":0},{"$f":"+Sheet3!CK8/Sheet3!$F$1","v":0},{"$f":"+Sheet3!CL8/Sheet3!$F$1","v":0},{"$f":"+Sheet3!CM8/Sheet3!$F$1","v":0},{"$f":"+Sheet3!CN8/Sheet3!$F$1","v":0},{"$f":"+Sheet3!CO8/Sheet3!$F$1","v":0},{"$f":"+Sheet3!CP8/Sheet3!$F$1","v":0},{"$f":"+Sheet3!CQ8/Sheet3!$F$1","v":0},{"$f":"+Sheet3!CR8/Sheet3!$F$1","v":0},{"$f":"+Sheet3!CS8/Sheet3!$F$1","v":0},{"$f":"+Sheet3!CT8/Sheet3!$F$1","v":0},{"$f":"+Sheet3!CU8/Sheet3!$F$1","v":0},{"$f":"+Sheet3!CV8/Sheet3!$F$1","v":0},{"$f":"+Sheet3!CW8/Sheet3!$F$1","v":0},{"$f":"+Sheet3!CX8/Sheet3!$F$1","v":0},{"$f":"+Sheet3!CY8/Sheet3!$F$1","v":0},{"$f":"+Sheet3!CZ8/Sheet3!$F$1","v":0},{"$f":"+Sheet3!DA8/Sheet3!$F$1","v":0},{"$f":"+Sheet3!DB8/Sheet3!$F$1","v":0},{"$f":"+Sheet3!DC8/Sheet3!$F$1","v":0},{"$f":"+Sheet3!DD8/Sheet3!$F$1","v":0},{"$f":"+Sheet3!DE8/Sheet3!$F$1","v":0},{"$f":"+Sheet3!DF8/Sheet3!$F$1","v":0},{"$f":"+Sheet3!DG8/Sheet3!$F$1","v":0},{"$f":"+Sheet3!DH8/Sheet3!$F$1","v":0},{"$f":"+Sheet3!DI8/Sheet3!$F$1","v":0},{"$f":"+Sheet3!DJ8/Sheet3!$F$1","v":0},{"$f":"+Sheet3!DK8/Sheet3!$F$1","v":0},{"$f":"+Sheet3!DL8/Sheet3!$F$1","v":0},{"$f":"+Sheet3!DM8/Sheet3!$F$1","v":0},{"$f":"+Sheet3!DN8/Sheet3!$F$1","v":0},{"$f":"+Sheet3!DO8/Sheet3!$F$1","v":0},{"$f":"+Sheet3!DP8/Sheet3!$F$1","v":0},{"$f":"+Sheet3!DQ8/Sheet3!$F$1","v":0},{"$f":"+Sheet3!DR8/Sheet3!$F$1","v":0},{"$f":"SUM(DN11:DR11)","v":0}]
[null,"112","Cávado",{"$f":"+Sheet3!D9/Sheet3!$F$1","v":0},{"$f":"+Sheet3!E9/Sheet3!$F$1","v":0},{"$f":"+Sheet3!F9/Sheet3!$F$1","v":0},{"$f":"+Sheet3!G9/Sheet3!$F$1","v":0},{"$f":"+Sheet3!H9/Sheet3!$F$1","v":0},{"$f":"+Sheet3!I9/Sheet3!$F$1","v":0},{"$f":"+Sheet3!J9/Sheet3!$F$1","v":0},{"$f":"+Sheet3!K9/Sheet3!$F$1","v":0},{"$f":"+Sheet3!L9/Sheet3!$F$1","v":0},{"$f":"+Sheet3!M9/Sheet3!$F$1","v":0},{"$f":"+Sheet3!N9/Sheet3!$F$1","v":0},{"$f":"+Sheet3!O9/Sheet3!$F$1","v":0},{"$f":"+Sheet3!P9/Sheet3!$F$1","v":0},{"$f":"+Sheet3!Q9/Sheet3!$F$1","v":0},{"$f":"+Sheet3!R9/Sheet3!$F$1","v":0},{"$f":"+Sheet3!S9/Sheet3!$F$1","v":0},{"$f":"+Sheet3!T9/Sheet3!$F$1","v":0},{"$f":"+Sheet3!U9/Sheet3!$F$1","v":0},{"$f":"+Sheet3!V9/Sheet3!$F$1","v":0},{"$f":"+Sheet3!W9/Sheet3!$F$1","v":0},{"$f":"+Sheet3!X9/Sheet3!$F$1","v":0},{"$f":"+Sheet3!Y9/Sheet3!$F$1","v":0},{"$f":"+Sheet3!Z9/Sheet3!$F$1","v":0},{"$f":"+Sheet3!AA9/Sheet3!$F$1","v":0},{"$f":"+Sheet3!AB9/Sheet3!$F$1","v":0},{"$f":"+Sheet3!AC9/Sheet3!$F$1","v":0},{"$f":"+Sheet3!AD9/Sheet3!$F$1","v":0},{"$f":"+Sheet3!AE9/Sheet3!$F$1","v":0},{"$f":"+Sheet3!AF9/Sheet3!$F$1","v":0},{"$f":"+Sheet3!AG9/Sheet3!$F$1","v":0},{"$f":"+Sheet3!AH9/Sheet3!$F$1","v":0},{"$f":"+Sheet3!AI9/Sheet3!$F$1","v":0},{"$f":"+Sheet3!AJ9/Sheet3!$F$1","v":0},{"$f":"+Sheet3!AK9/Sheet3!$F$1","v":0},{"$f":"+Sheet3!AL9/Sheet3!$F$1","v":0},{"$f":"+Sheet3!AM9/Sheet3!$F$1","v":0},{"$f":"+Sheet3!AN9/Sheet3!$F$1","v":0},{"$f":"+Sheet3!AO9/Sheet3!$F$1","v":0},{"$f":"+Sheet3!AP9/Sheet3!$F$1","v":0},{"$f":"+Sheet3!AQ9/Sheet3!$F$1","v":0},{"$f":"+Sheet3!AR9/Sheet3!$F$1","v":0},{"$f":"+Sheet3!AS9/Sheet3!$F$1","v":0},{"$f":"+Sheet3!AT9/Sheet3!$F$1","v":0},{"$f":"+Sheet3!AU9/Sheet3!$F$1","v":0},{"$f":"+Sheet3!AV9/Sheet3!$F$1","v":0},{"$f":"+Sheet3!AW9/Sheet3!$F$1","v":0},{"$f":"+Sheet3!AX9/Sheet3!$F$1","v":0},{"$f":"+Sheet3!AY9/Sheet3!$F$1","v":0},{"$f":"+Sheet3!AZ9/Sheet3!$F$1","v":0},{"$f":"+Sheet3!BA9/Sheet3!$F$1","v":0},{"$f":"+Sheet3!BB9/Sheet3!$F$1","v":0},{"$f":"+Sheet3!BC9/Sheet3!$F$1","v":0},{"$f":"+Sheet3!BD9/Sheet3!$F$1","v":0},{"$f":"+Sheet3!BE9/Sheet3!$F$1","v":0},{"$f":"+Sheet3!BF9/Sheet3!$F$1","v":0},{"$f":"+Sheet3!BG9/Sheet3!$F$1","v":0},{"$f":"+Sheet3!BH9/Sheet3!$F$1","v":0},{"$f":"+Sheet3!BI9/Sheet3!$F$1","v":0},{"$f":"+Sheet3!BJ9/Sheet3!$F$1","v":0},{"$f":"+Sheet3!BK9/Sheet3!$F$1","v":0},{"$f":"+Sheet3!BL9/Sheet3!$F$1","v":0},{"$f":"+Sheet3!BM9/Sheet3!$F$1","v":0},{"$f":"+Sheet3!BN9/Sheet3!$F$1","v":0},{"$f":"+Sheet3!BO9/Sheet3!$F$1","v":0},{"$f":"+Sheet3!BP9/Sheet3!$F$1","v":0},{"$f":"+Sheet3!BQ9/Sheet3!$F$1","v":0},{"$f":"+Sheet3!BR9/Sheet3!$F$1","v":0},{"$f":"+Sheet3!BS9/Sheet3!$F$1","v":0},{"$f":"+Sheet3!BT9/Sheet3!$F$1","v":0},{"$f":"+Sheet3!BU9/Sheet3!$F$1","v":0},{"$f":"+Sheet3!BV9/Sheet3!$F$1","v":0},{"$f":"+Sheet3!BW9/Sheet3!$F$1","v":0},{"$f":"+Sheet3!BX9/Sheet3!$F$1","v":0},{"$f":"+Sheet3!BY9/Sheet3!$F$1","v":0},{"$f":"+Sheet3!BZ9/Sheet3!$F$1","v":0},{"$f":"+Sheet3!CA9/Sheet3!$F$1","v":0},{"$f":"+Sheet3!CB9/Sheet3!$F$1","v":0},{"$f":"+Sheet3!CC9/Sheet3!$F$1","v":0},{"$f":"+Sheet3!CD9/Sheet3!$F$1","v":0},{"$f":"+Sheet3!CE9/Sheet3!$F$1","v":0},{"$f":"+Sheet3!CF9/Sheet3!$F$1","v":0},{"$f":"+Sheet3!CG9/Sheet3!$F$1","v":0},{"$f":"+Sheet3!CH9/Sheet3!$F$1","v":0},{"$f":"+Sheet3!CI9/Sheet3!$F$1","v":0},{"$f":"+Sheet3!CJ9/Sheet3!$F$1","v":0},{"$f":"+Sheet3!CK9/Sheet3!$F$1","v":0},{"$f":"+Sheet3!CL9/Sheet3!$F$1","v":0},{"$f":"+Sheet3!CM9/Sheet3!$F$1","v":0},{"$f":"+Sheet3!CN9/Sheet3!$F$1","v":0},{"$f":"+Sheet3!CO9/Sheet3!$F$1","v":0},{"$f":"+Sheet3!CP9/Sheet3!$F$1","v":0},{"$f":"+Sheet3!CQ9/Sheet3!$F$1","v":0},{"$f":"+Sheet3!CR9/Sheet3!$F$1","v":0},{"$f":"+Sheet3!CS9/Sheet3!$F$1","v":0},{"$f":"+Sheet3!CT9/Sheet3!$F$1","v":0},{"$f":"+Sheet3!CU9/Sheet3!$F$1","v":0},{"$f":"+Sheet3!CV9/Sheet3!$F$1","v":0},{"$f":"+Sheet3!CW9/Sheet3!$F$1","v":0},{"$f":"+Sheet3!CX9/Sheet3!$F$1","v":0},{"$f":"+Sheet3!CY9/Sheet3!$F$1","v":0},{"$f":"+Sheet3!CZ9/Sheet3!$F$1","v":0},{"$f":"+Sheet3!DA9/Sheet3!$F$1","v":0},{"$f":"+Sheet3!DB9/Sheet3!$F$1","v":0},{"$f":"+Sheet3!DC9/Sheet3!$F$1","v":0},{"$f":"+Sheet3!DD9/Sheet3!$F$1","v":0},{"$f":"+Sheet3!DE9/Sheet3!$F$1","v":0},{"$f":"+Sheet3!DF9/Sheet3!$F$1","v":0},{"$f":"+Sheet3!DG9/Sheet3!$F$1","v":0},{"$f":"+Sheet3!DH9/Sheet3!$F$1","v":0},{"$f":"+Sheet3!DI9/Sheet3!$F$1","v":0},{"$f":"+Sheet3!DJ9/Sheet3!$F$1","v":0},{"$f":"+Sheet3!DK9/Sheet3!$F$1","v":0},{"$f":"+Sheet3!DL9/Sheet3!$F$1","v":0},{"$f":"+Sheet3!DM9/Sheet3!$F$1","v":0},{"$f":"+Sheet3!DN9/Sheet3!$F$1","v":0},{"$f":"+Sheet3!DO9/Sheet3!$F$1","v":0},{"$f":"+Sheet3!DP9/Sheet3!$F$1","v":0},{"$f":"+Sheet3!DQ9/Sheet3!$F$1","v":0},{"$f":"+Sheet3!DR9/Sheet3!$F$1","v":0},{"$f":"SUM(DN12:DR12)","v":0}]
[null,"119","Ave",{"$f":"+Sheet3!D10/Sheet3!$F$1","v":0},{"$f":"+Sheet3!E10/Sheet3!$F$1","v":0},{"$f":"+Sheet3!F10/Sheet3!$F$1","v":0},{"$f":"+Sheet3!G10/Sheet3!$F$1","v":0},{"$f":"+Sheet3!H10/Sheet3!$F$1","v":0},{"$f":"+Sheet3!I10/Sheet3!$F$1","v":0},{"$f":"+Sheet3!J10/Sheet3!$F$1","v":0},{"$f":"+Sheet3!K10/Sheet3!$F$1","v":0},{"$f":"+Sheet3!L10/Sheet3!$F$1","v":0},{"$f":"+Sheet3!M10/Sheet3!$F$1","v":0},{"$f":"+Sheet3!N10/Sheet3!$F$1","v":0},{"$f":"+Sheet3!O10/Sheet3!$F$1","v":0},{"$f":"+Sheet3!P10/Sheet3!$F$1","v":0},{"$f":"+Sheet3!Q10/Sheet3!$F$1","v":0},{"$f":"+Sheet3!R10/Sheet3!$F$1","v":0},{"$f":"+Sheet3!S10/Sheet3!$F$1","v":0},{"$f":"+Sheet3!T10/Sheet3!$F$1","v":0},{"$f":"+Sheet3!U10/Sheet3!$F$1","v":0},{"$f":"+Sheet3!V10/Sheet3!$F$1","v":0},{"$f":"+Sheet3!W10/Sheet3!$F$1","v":0},{"$f":"+Sheet3!X10/Sheet3!$F$1","v":0},{"$f":"+Sheet3!Y10/Sheet3!$F$1","v":0},{"$f":"+Sheet3!Z10/Sheet3!$F$1","v":0},{"$f":"+Sheet3!AA10/Sheet3!$F$1","v":0},{"$f":"+Sheet3!AB10/Sheet3!$F$1","v":0},{"$f":"+Sheet3!AC10/Sheet3!$F$1","v":0},{"$f":"+Sheet3!AD10/Sheet3!$F$1","v":0},{"$f":"+Sheet3!AE10/Sheet3!$F$1","v":0},{"$f":"+Sheet3!AF10/Sheet3!$F$1","v":0},{"$f":"+Sheet3!AG10/Sheet3!$F$1","v":0},{"$f":"+Sheet3!AH10/Sheet3!$F$1","v":0},{"$f":"+Sheet3!AI10/Sheet3!$F$1","v":0},{"$f":"+Sheet3!AJ10/Sheet3!$F$1","v":0},{"$f":"+Sheet3!AK10/Sheet3!$F$1","v":0},{"$f":"+Sheet3!AL10/Sheet3!$F$1","v":0},{"$f":"+Sheet3!AM10/Sheet3!$F$1","v":0},{"$f":"+Sheet3!AN10/Sheet3!$F$1","v":0},{"$f":"+Sheet3!AO10/Sheet3!$F$1","v":0},{"$f":"+Sheet3!AP10/Sheet3!$F$1","v":0},{"$f":"+Sheet3!AQ10/Sheet3!$F$1","v":0},{"$f":"+Sheet3!AR10/Sheet3!$F$1","v":0},{"$f":"+Sheet3!AS10/Sheet3!$F$1","v":0},{"$f":"+Sheet3!AT10/Sheet3!$F$1","v":0},{"$f":"+Sheet3!AU10/Sheet3!$F$1","v":0},{"$f":"+Sheet3!AV10/Sheet3!$F$1","v":0},{"$f":"+Sheet3!AW10/Sheet3!$F$1","v":0},{"$f":"+Sheet3!AX10/Sheet3!$F$1","v":0},{"$f":"+Sheet3!AY10/Sheet3!$F$1","v":0},{"$f":"+Sheet3!AZ10/Sheet3!$F$1","v":0},{"$f":"+Sheet3!BA10/Sheet3!$F$1","v":0},{"$f":"+Sheet3!BB10/Sheet3!$F$1","v":0},{"$f":"+Sheet3!BC10/Sheet3!$F$1","v":0},{"$f":"+Sheet3!BD10/Sheet3!$F$1","v":0},{"$f":"+Sheet3!BE10/Sheet3!$F$1","v":0},{"$f":"+Sheet3!BF10/Sheet3!$F$1","v":0},{"$f":"+Sheet3!BG10/Sheet3!$F$1","v":0},{"$f":"+Sheet3!BH10/Sheet3!$F$1","v":0},{"$f":"+Sheet3!BI10/Sheet3!$F$1","v":0},{"$f":"+Sheet3!BJ10/Sheet3!$F$1","v":0},{"$f":"+Sheet3!BK10/Sheet3!$F$1","v":0},{"$f":"+Sheet3!BL10/Sheet3!$F$1","v":0},{"$f":"+Sheet3!BM10/Sheet3!$F$1","v":0},{"$f":"+Sheet3!BN10/Sheet3!$F$1","v":0},{"$f":"+Sheet3!BO10/Sheet3!$F$1","v":0},{"$f":"+Sheet3!BP10/Sheet3!$F$1","v":0},{"$f":"+Sheet3!BQ10/Sheet3!$F$1","v":0},{"$f":"+Sheet3!BR10/Sheet3!$F$1","v":0},{"$f":"+Sheet3!BS10/Sheet3!$F$1","v":0},{"$f":"+Sheet3!BT10/Sheet3!$F$1","v":0},{"$f":"+Sheet3!BU10/Sheet3!$F$1","v":0},{"$f":"+Sheet3!BV10/Sheet3!$F$1","v":0},{"$f":"+Sheet3!BW10/Sheet3!$F$1","v":0},{"$f":"+Sheet3!BX10/Sheet3!$F$1","v":0},{"$f":"+Sheet3!BY10/Sheet3!$F$1","v":0},{"$f":"+Sheet3!BZ10/Sheet3!$F$1","v":0},{"$f":"+Sheet3!CA10/Sheet3!$F$1","v":0},{"$f":"+Sheet3!CB10/Sheet3!$F$1","v":0},{"$f":"+Sheet3!CC10/Sheet3!$F$1","v":0},{"$f":"+Sheet3!CD10/Sheet3!$F$1","v":0},{"$f":"+Sheet3!CE10/Sheet3!$F$1","v":0},{"$f":"+Sheet3!CF10/Sheet3!$F$1","v":0},{"$f":"+Sheet3!CG10/Sheet3!$F$1","v":0},{"$f":"+Sheet3!CH10/Sheet3!$F$1","v":0},{"$f":"+Sheet3!CI10/Sheet3!$F$1","v":0},{"$f":"+Sheet3!CJ10/Sheet3!$F$1","v":0},{"$f":"+Sheet3!CK10/Sheet3!$F$1","v":0},{"$f":"+Sheet3!CL10/Sheet3!$F$1","v":0},{"$f":"+Sheet3!CM10/Sheet3!$F$1","v":0},{"$f":"+Sheet3!CN10/Sheet3!$F$1","v":0},{"$f":"+Sheet3!CO10/Sheet3!$F$1","v":0},{"$f":"+Sheet3!CP10/Sheet3!$F$1","v":0},{"$f":"+Sheet3!CQ10/Sheet3!$F$1","v":0},{"$f":"+Sheet3!CR10/Sheet3!$F$1","v":0},{"$f":"+Sheet3!CS10/Sheet3!$F$1","v":0},{"$f":"+Sheet3!CT10/Sheet3!$F$1","v":0},{"$f":"+Sheet3!CU10/Sheet3!$F$1","v":0},{"$f":"+Sheet3!CV10/Sheet3!$F$1","v":0},{"$f":"+Sheet3!CW10/Sheet3!$F$1","v":0},{"$f":"+Sheet3!CX10/Sheet3!$F$1","v":0},{"$f":"+Sheet3!CY10/Sheet3!$F$1","v":0},{"$f":"+Sheet3!CZ10/Sheet3!$F$1","v":0},{"$f":"+Sheet3!DA10/Sheet3!$F$1","v":0},{"$f":"+Sheet3!DB10/Sheet3!$F$1","v":0},{"$f":"+Sheet3!DC10/Sheet3!$F$1","v":0},{"$f":"+Sheet3!DD10/Sheet3!$F$1","v":0},{"$f":"+Sheet3!DE10/Sheet3!$F$1","v":0},{"$f":"+Sheet3!DF10/Sheet3!$F$1","v":0},{"$f":"+Sheet3!DG10/Sheet3!$F$1","v":0},{"$f":"+Sheet3!DH10/Sheet3!$F$1","v":0},{"$f":"+Sheet3!DI10/Sheet3!$F$1","v":0},{"$f":"+Sheet3!DJ10/Sheet3!$F$1","v":0},{"$f":"+Sheet3!DK10/Sheet3!$F$1","v":0},{"$f":"+Sheet3!DL10/Sheet3!$F$1","v":0},{"$f":"+Sheet3!DM10/Sheet3!$F$1","v":0},{"$f":"+Sheet3!DN10/Sheet3!$F$1","v":0},{"$f":"+Sheet3!DO10/Sheet3!$F$1","v":0},{"$f":"+Sheet3!DP10/Sheet3!$F$1","v":0},{"$f":"+Sheet3!DQ10/Sheet3!$F$1","v":0},{"$f":"+Sheet3!DR10/Sheet3!$F$1","v":0},0]
[null,"11A","Área Metropolitana do Porto",{"$f":"+Sheet3!D11/Sheet3!$F$1","v":0},{"$f":"+Sheet3!E11/Sheet3!$F$1","v":0},{"$f":"+Sheet3!F11/Sheet3!$F$1","v":0},{"$f":"+Sheet3!G11/Sheet3!$F$1","v":0},{"$f":"+Sheet3!H11/Sheet3!$F$1","v":0},{"$f":"+Sheet3!I11/Sheet3!$F$1","v":0},{"$f":"+Sheet3!J11/Sheet3!$F$1","v":0},{"$f":"+Sheet3!K11/Sheet3!$F$1","v":0},{"$f":"+Sheet3!L11/Sheet3!$F$1","v":0},{"$f":"+Sheet3!M11/Sheet3!$F$1","v":0},{"$f":"+Sheet3!N11/Sheet3!$F$1","v":0},{"$f":"+Sheet3!O11/Sheet3!$F$1","v":0},{"$f":"+Sheet3!P11/Sheet3!$F$1","v":0},{"$f":"+Sheet3!Q11/Sheet3!$F$1","v":0},{"$f":"+Sheet3!R11/Sheet3!$F$1","v":0},{"$f":"+Sheet3!S11/Sheet3!$F$1","v":0},{"$f":"+Sheet3!T11/Sheet3!$F$1","v":0},{"$f":"+Sheet3!U11/Sheet3!$F$1","v":0},{"$f":"+Sheet3!V11/Sheet3!$F$1","v":0},{"$f":"+Sheet3!W11/Sheet3!$F$1","v":0},{"$f":"+Sheet3!X11/Sheet3!$F$1","v":0},{"$f":"+Sheet3!Y11/Sheet3!$F$1","v":0},{"$f":"+Sheet3!Z11/Sheet3!$F$1","v":0},{"$f":"+Sheet3!AA11/Sheet3!$F$1","v":0},{"$f":"+Sheet3!AB11/Sheet3!$F$1","v":0},{"$f":"+Sheet3!AC11/Sheet3!$F$1","v":0},{"$f":"+Sheet3!AD11/Sheet3!$F$1","v":0},{"$f":"+Sheet3!AE11/Sheet3!$F$1","v":0},{"$f":"+Sheet3!AF11/Sheet3!$F$1","v":0},{"$f":"+Sheet3!AG11/Sheet3!$F$1","v":0},{"$f":"+Sheet3!AH11/Sheet3!$F$1","v":0},{"$f":"+Sheet3!AI11/Sheet3!$F$1","v":0},{"$f":"+Sheet3!AJ11/Sheet3!$F$1","v":0},{"$f":"+Sheet3!AK11/Sheet3!$F$1","v":0},{"$f":"+Sheet3!AL11/Sheet3!$F$1","v":0},{"$f":"+Sheet3!AM11/Sheet3!$F$1","v":0},{"$f":"+Sheet3!AN11/Sheet3!$F$1","v":0},{"$f":"+Sheet3!AO11/Sheet3!$F$1","v":0},{"$f":"+Sheet3!AP11/Sheet3!$F$1","v":0},{"$f":"+Sheet3!AQ11/Sheet3!$F$1","v":0},{"$f":"+Sheet3!AR11/Sheet3!$F$1","v":0},{"$f":"+Sheet3!AS11/Sheet3!$F$1","v":0},{"$f":"+Sheet3!AT11/Sheet3!$F$1","v":0},{"$f":"+Sheet3!AU11/Sheet3!$F$1","v":0},{"$f":"+Sheet3!AV11/Sheet3!$F$1","v":0},{"$f":"+Sheet3!AW11/Sheet3!$F$1","v":0},{"$f":"+Sheet3!AX11/Sheet3!$F$1","v":0},{"$f":"+Sheet3!AY11/Sheet3!$F$1","v":0},{"$f":"+Sheet3!AZ11/Sheet3!$F$1","v":0},{"$f":"+Sheet3!BA11/Sheet3!$F$1","v":0},{"$f":"+Sheet3!BB11/Sheet3!$F$1","v":0},{"$f":"+Sheet3!BC11/Sheet3!$F$1","v":0},{"$f":"+Sheet3!BD11/Sheet3!$F$1","v":0},{"$f":"+Sheet3!BE11/Sheet3!$F$1","v":0},{"$f":"+Sheet3!BF11/Sheet3!$F$1","v":0},{"$f":"+Sheet3!BG11/Sheet3!$F$1","v":0},{"$f":"+Sheet3!BH11/Sheet3!$F$1","v":0},{"$f":"+Sheet3!BI11/Sheet3!$F$1","v":0},{"$f":"+Sheet3!BJ11/Sheet3!$F$1","v":0},{"$f":"+Sheet3!BK11/Sheet3!$F$1","v":0},{"$f":"+Sheet3!BL11/Sheet3!$F$1","v":0},{"$f":"+Sheet3!BM11/Sheet3!$F$1","v":0},{"$f":"+Sheet3!BN11/Sheet3!$F$1","v":0},{"$f":"+Sheet3!BO11/Sheet3!$F$1","v":0},{"$f":"+Sheet3!BP11/Sheet3!$F$1","v":0},{"$f":"+Sheet3!BQ11/Sheet3!$F$1","v":0},{"$f":"+Sheet3!BR11/Sheet3!$F$1","v":0},{"$f":"+Sheet3!BS11/Sheet3!$F$1","v":0},{"$f":"+Sheet3!BT11/Sheet3!$F$1","v":0},{"$f":"+Sheet3!BU11/Sheet3!$F$1","v":0},{"$f":"+Sheet3!BV11/Sheet3!$F$1","v":0},{"$f":"+Sheet3!BW11/Sheet3!$F$1","v":0},{"$f":"+Sheet3!BX11/Sheet3!$F$1","v":0},{"$f":"+Sheet3!BY11/Sheet3!$F$1","v":0},{"$f":"+Sheet3!BZ11/Sheet3!$F$1","v":0},{"$f":"+Sheet3!CA11/Sheet3!$F$1","v":0},{"$f":"+Sheet3!CB11/Sheet3!$F$1","v":0},{"$f":"+Sheet3!CC11/Sheet3!$F$1","v":0},{"$f":"+Sheet3!CD11/Sheet3!$F$1","v":0},{"$f":"+Sheet3!CE11/Sheet3!$F$1","v":0},{"$f":"+Sheet3!CF11/Sheet3!$F$1","v":0},{"$f":"+Sheet3!CG11/Sheet3!$F$1","v":0},{"$f":"+Sheet3!CH11/Sheet3!$F$1","v":0},{"$f":"+Sheet3!CI11/Sheet3!$F$1","v":0},{"$f":"+Sheet3!CJ11/Sheet3!$F$1","v":0},{"$f":"+Sheet3!CK11/Sheet3!$F$1","v":0},{"$f":"+Sheet3!CL11/Sheet3!$F$1","v":0},{"$f":"+Sheet3!CM11/Sheet3!$F$1","v":0},{"$f":"+Sheet3!CN11/Sheet3!$F$1","v":0},{"$f":"+Sheet3!CO11/Sheet3!$F$1","v":0},{"$f":"+Sheet3!CP11/Sheet3!$F$1","v":0},{"$f":"+Sheet3!CQ11/Sheet3!$F$1","v":0},{"$f":"+Sheet3!CR11/Sheet3!$F$1","v":0},{"$f":"+Sheet3!CS11/Sheet3!$F$1","v":0},{"$f":"+Sheet3!CT11/Sheet3!$F$1","v":0},{"$f":"+Sheet3!CU11/Sheet3!$F$1","v":0},{"$f":"+Sheet3!CV11/Sheet3!$F$1","v":0},{"$f":"+Sheet3!CW11/Sheet3!$F$1","v":0},{"$f":"+Sheet3!CX11/Sheet3!$F$1","v":0},{"$f":"+Sheet3!CY11/Sheet3!$F$1","v":0},{"$f":"+Sheet3!CZ11/Sheet3!$F$1","v":0},{"$f":"+Sheet3!DA11/Sheet3!$F$1","v":0},{"$f":"+Sheet3!DB11/Sheet3!$F$1","v":0},{"$f":"+Sheet3!DC11/Sheet3!$F$1","v":0},{"$f":"+Sheet3!DD11/Sheet3!$F$1","v":0},{"$f":"+Sheet3!DE11/Sheet3!$F$1","v":0},{"$f":"+Sheet3!DF11/Sheet3!$F$1","v":0},{"$f":"+Sheet3!DG11/Sheet3!$F$1","v":0},{"$f":"+Sheet3!DH11/Sheet3!$F$1","v":0},{"$f":"+Sheet3!DI11/Sheet3!$F$1","v":0},{"$f":"+Sheet3!DJ11/Sheet3!$F$1","v":0},{"$f":"+Sheet3!DK11/Sheet3!$F$1","v":0},{"$f":"+Sheet3!DL11/Sheet3!$F$1","v":0},{"$f":"+Sheet3!DM11/Sheet3!$F$1","v":0},{"$f":"+Sheet3!DN11/Sheet3!$F$1","v":0},{"$f":"+Sheet3!DO11/Sheet3!$F$1","v":0},{"$f":"+Sheet3!DP11/Sheet3!$F$1","v":0},{"$f":"+Sheet3!DQ11/Sheet3!$F$1","v":0},{"$f":"+Sheet3!DR11/Sheet3!$F$1","v":0},0]
[null,"11B","Alto Tâmega",{"$f":"+Sheet3!D12/Sheet3!$F$1","v":0},{"$f":"+Sheet3!E12/Sheet3!$F$1","v":0},{"$f":"+Sheet3!F12/Sheet3!$F$1","v":0},{"$f":"+Sheet3!G12/Sheet3!$F$1","v":0},{"$f":"+Sheet3!H12/Sheet3!$F$1","v":0},{"$f":"+Sheet3!I12/Sheet3!$F$1","v":0},{"$f":"+Sheet3!J12/Sheet3!$F$1","v":0},{"$f":"+Sheet3!K12/Sheet3!$F$1","v":0},{"$f":"+Sheet3!L12/Sheet3!$F$1","v":0},{"$f":"+Sheet3!M12/Sheet3!$F$1","v":0},{"$f":"+Sheet3!N12/Sheet3!$F$1","v":0},{"$f":"+Sheet3!O12/Sheet3!$F$1","v":0},{"$f":"+Sheet3!P12/Sheet3!$F$1","v":0},{"$f":"+Sheet3!Q12/Sheet3!$F$1","v":0},{"$f":"+Sheet3!R12/Sheet3!$F$1","v":0},{"$f":"+Sheet3!S12/Sheet3!$F$1","v":0},{"$f":"+Sheet3!T12/Sheet3!$F$1","v":0},{"$f":"+Sheet3!U12/Sheet3!$F$1","v":0},{"$f":"+Sheet3!V12/Sheet3!$F$1","v":0},{"$f":"+Sheet3!W12/Sheet3!$F$1","v":0},{"$f":"+Sheet3!X12/Sheet3!$F$1","v":0},{"$f":"+Sheet3!Y12/Sheet3!$F$1","v":0},{"$f":"+Sheet3!Z12/Sheet3!$F$1","v":0},{"$f":"+Sheet3!AA12/Sheet3!$F$1","v":0},{"$f":"+Sheet3!AB12/Sheet3!$F$1","v":0},{"$f":"+Sheet3!AC12/Sheet3!$F$1","v":0},{"$f":"+Sheet3!AD12/Sheet3!$F$1","v":0},{"$f":"+Sheet3!AE12/Sheet3!$F$1","v":0},{"$f":"+Sheet3!AF12/Sheet3!$F$1","v":0},{"$f":"+Sheet3!AG12/Sheet3!$F$1","v":0},{"$f":"+Sheet3!AH12/Sheet3!$F$1","v":0},{"$f":"+Sheet3!AI12/Sheet3!$F$1","v":0},{"$f":"+Sheet3!AJ12/Sheet3!$F$1","v":0},{"$f":"+Sheet3!AK12/Sheet3!$F$1","v":0},{"$f":"+Sheet3!AL12/Sheet3!$F$1","v":0},{"$f":"+Sheet3!AM12/Sheet3!$F$1","v":0},{"$f":"+Sheet3!AN12/Sheet3!$F$1","v":0},{"$f":"+Sheet3!AO12/Sheet3!$F$1","v":0},{"$f":"+Sheet3!AP12/Sheet3!$F$1","v":0},{"$f":"+Sheet3!AQ12/Sheet3!$F$1","v":0},{"$f":"+Sheet3!AR12/Sheet3!$F$1","v":0},{"$f":"+Sheet3!AS12/Sheet3!$F$1","v":0},{"$f":"+Sheet3!AT12/Sheet3!$F$1","v":0},{"$f":"+Sheet3!AU12/Sheet3!$F$1","v":0},{"$f":"+Sheet3!AV12/Sheet3!$F$1","v":0},{"$f":"+Sheet3!AW12/Sheet3!$F$1","v":0},{"$f":"+Sheet3!AX12/Sheet3!$F$1","v":0},{"$f":"+Sheet3!AY12/Sheet3!$F$1","v":0},{"$f":"+Sheet3!AZ12/Sheet3!$F$1","v":0},{"$f":"+Sheet3!BA12/Sheet3!$F$1","v":0},{"$f":"+Sheet3!BB12/Sheet3!$F$1","v":0},{"$f":"+Sheet3!BC12/Sheet3!$F$1","v":0},{"$f":"+Sheet3!BD12/Sheet3!$F$1","v":0},{"$f":"+Sheet3!BE12/Sheet3!$F$1","v":0},{"$f":"+Sheet3!BF12/Sheet3!$F$1","v":0},{"$f":"+Sheet3!BG12/Sheet3!$F$1","v":0},{"$f":"+Sheet3!BH12/Sheet3!$F$1","v":0},{"$f":"+Sheet3!BI12/Sheet3!$F$1","v":0},{"$f":"+Sheet3!BJ12/Sheet3!$F$1","v":0},{"$f":"+Sheet3!BK12/Sheet3!$F$1","v":0},{"$f":"+Sheet3!BL12/Sheet3!$F$1","v":0},{"$f":"+Sheet3!BM12/Sheet3!$F$1","v":0},{"$f":"+Sheet3!BN12/Sheet3!$F$1","v":0},{"$f":"+Sheet3!BO12/Sheet3!$F$1","v":0},{"$f":"+Sheet3!BP12/Sheet3!$F$1","v":0},{"$f":"+Sheet3!BQ12/Sheet3!$F$1","v":0},{"$f":"+Sheet3!BR12/Sheet3!$F$1","v":0},{"$f":"+Sheet3!BS12/Sheet3!$F$1","v":0},{"$f":"+Sheet3!BT12/Sheet3!$F$1","v":0},{"$f":"+Sheet3!BU12/Sheet3!$F$1","v":0},{"$f":"+Sheet3!BV12/Sheet3!$F$1","v":0},{"$f":"+Sheet3!BW12/Sheet3!$F$1","v":0},{"$f":"+Sheet3!BX12/Sheet3!$F$1","v":0},{"$f":"+Sheet3!BY12/Sheet3!$F$1","v":0},{"$f":"+Sheet3!BZ12/Sheet3!$F$1","v":0},{"$f":"+Sheet3!CA12/Sheet3!$F$1","v":0},{"$f":"+Sheet3!CB12/Sheet3!$F$1","v":0},{"$f":"+Sheet3!CC12/Sheet3!$F$1","v":0},{"$f":"+Sheet3!CD12/Sheet3!$F$1","v":0},{"$f":"+Sheet3!CE12/Sheet3!$F$1","v":0},{"$f":"+Sheet3!CF12/Sheet3!$F$1","v":0},{"$f":"+Sheet3!CG12/Sheet3!$F$1","v":0},{"$f":"+Sheet3!CH12/Sheet3!$F$1","v":0},{"$f":"+Sheet3!CI12/Sheet3!$F$1","v":0},{"$f":"+Sheet3!CJ12/Sheet3!$F$1","v":0},{"$f":"+Sheet3!CK12/Sheet3!$F$1","v":0},{"$f":"+Sheet3!CL12/Sheet3!$F$1","v":0},{"$f":"+Sheet3!CM12/Sheet3!$F$1","v":0},{"$f":"+Sheet3!CN12/Sheet3!$F$1","v":0},{"$f":"+Sheet3!CO12/Sheet3!$F$1","v":0},{"$f":"+Sheet3!CP12/Sheet3!$F$1","v":0},{"$f":"+Sheet3!CQ12/Sheet3!$F$1","v":0},{"$f":"+Sheet3!CR12/Sheet3!$F$1","v":0},{"$f":"+Sheet3!CS12/Sheet3!$F$1","v":0},{"$f":"+Sheet3!CT12/Sheet3!$F$1","v":0},{"$f":"+Sheet3!CU12/Sheet3!$F$1","v":0},{"$f":"+Sheet3!CV12/Sheet3!$F$1","v":0},{"$f":"+Sheet3!CW12/Sheet3!$F$1","v":0},{"$f":"+Sheet3!CX12/Sheet3!$F$1","v":0},{"$f":"+Sheet3!CY12/Sheet3!$F$1","v":0},{"$f":"+Sheet3!CZ12/Sheet3!$F$1","v":0},{"$f":"+Sheet3!DA12/Sheet3!$F$1","v":0},{"$f":"+Sheet3!DB12/Sheet3!$F$1","v":0},{"$f":"+Sheet3!DC12/Sheet3!$F$1","v":0},{"$f":"+Sheet3!DD12/Sheet3!$F$1","v":0},{"$f":"+Sheet3!DE12/Sheet3!$F$1","v":0},{"$f":"+Sheet3!DF12/Sheet3!$F$1","v":0},{"$f":"+Sheet3!DG12/Sheet3!$F$1","v":0},{"$f":"+Sheet3!DH12/Sheet3!$F$1","v":0},{"$f":"+Sheet3!DI12/Sheet3!$F$1","v":0},{"$f":"+Sheet3!DJ12/Sheet3!$F$1","v":0},{"$f":"+Sheet3!DK12/Sheet3!$F$1","v":0},{"$f":"+Sheet3!DL12/Sheet3!$F$1","v":0},{"$f":"+Sheet3!DM12/Sheet3!$F$1","v":0},{"$f":"+Sheet3!DN12/Sheet3!$F$1","v":0},{"$f":"+Sheet3!DO12/Sheet3!$F$1","v":0},{"$f":"+Sheet3!DP12/Sheet3!$F$1","v":0},{"$f":"+Sheet3!DQ12/Sheet3!$F$1","v":0},{"$f":"+Sheet3!DR12/Sheet3!$F$1","v":0},0]
[null,"11C","Tâmega e Sousa",{"$f":"+Sheet3!D13/Sheet3!$F$1","v":0},{"$f":"+Sheet3!E13/Sheet3!$F$1","v":0},{"$f":"+Sheet3!F13/Sheet3!$F$1","v":0},{"$f":"+Sheet3!G13/Sheet3!$F$1","v":0},{"$f":"+Sheet3!H13/Sheet3!$F$1","v":0},{"$f":"+Sheet3!I13/Sheet3!$F$1","v":0},{"$f":"+Sheet3!J13/Sheet3!$F$1","v":0},{"$f":"+Sheet3!K13/Sheet3!$F$1","v":0},{"$f":"+Sheet3!L13/Sheet3!$F$1","v":0},{"$f":"+Sheet3!M13/Sheet3!$F$1","v":0},{"$f":"+Sheet3!N13/Sheet3!$F$1","v":0},{"$f":"+Sheet3!O13/Sheet3!$F$1","v":0},{"$f":"+Sheet3!P13/Sheet3!$F$1","v":0},{"$f":"+Sheet3!Q13/Sheet3!$F$1","v":0},{"$f":"+Sheet3!R13/Sheet3!$F$1","v":0},{"$f":"+Sheet3!S13/Sheet3!$F$1","v":0},{"$f":"+Sheet3!T13/Sheet3!$F$1","v":0},{"$f":"+Sheet3!U13/Sheet3!$F$1","v":0},{"$f":"+Sheet3!V13/Sheet3!$F$1","v":0},{"$f":"+Sheet3!W13/Sheet3!$F$1","v":0},{"$f":"+Sheet3!X13/Sheet3!$F$1","v":0},{"$f":"+Sheet3!Y13/Sheet3!$F$1","v":0},{"$f":"+Sheet3!Z13/Sheet3!$F$1","v":0},{"$f":"+Sheet3!AA13/Sheet3!$F$1","v":0},{"$f":"+Sheet3!AB13/Sheet3!$F$1","v":0},{"$f":"+Sheet3!AC13/Sheet3!$F$1","v":0},{"$f":"+Sheet3!AD13/Sheet3!$F$1","v":0},{"$f":"+Sheet3!AE13/Sheet3!$F$1","v":0},{"$f":"+Sheet3!AF13/Sheet3!$F$1","v":0},{"$f":"+Sheet3!AG13/Sheet3!$F$1","v":0},{"$f":"+Sheet3!AH13/Sheet3!$F$1","v":0},{"$f":"+Sheet3!AI13/Sheet3!$F$1","v":0},{"$f":"+Sheet3!AJ13/Sheet3!$F$1","v":0},{"$f":"+Sheet3!AK13/Sheet3!$F$1","v":0},{"$f":"+Sheet3!AL13/Sheet3!$F$1","v":0},{"$f":"+Sheet3!AM13/Sheet3!$F$1","v":0},{"$f":"+Sheet3!AN13/Sheet3!$F$1","v":0},{"$f":"+Sheet3!AO13/Sheet3!$F$1","v":0},{"$f":"+Sheet3!AP13/Sheet3!$F$1","v":0},{"$f":"+Sheet3!AQ13/Sheet3!$F$1","v":0},{"$f":"+Sheet3!AR13/Sheet3!$F$1","v":0},{"$f":"+Sheet3!AS13/Sheet3!$F$1","v":0},{"$f":"+Sheet3!AT13/Sheet3!$F$1","v":0},{"$f":"+Sheet3!AU13/Sheet3!$F$1","v":0},{"$f":"+Sheet3!AV13/Sheet3!$F$1","v":0},{"$f":"+Sheet3!AW13/Sheet3!$F$1","v":0},{"$f":"+Sheet3!AX13/Sheet3!$F$1","v":0},{"$f":"+Sheet3!AY13/Sheet3!$F$1","v":0},{"$f":"+Sheet3!AZ13/Sheet3!$F$1","v":0},{"$f":"+Sheet3!BA13/Sheet3!$F$1","v":0},{"$f":"+Sheet3!BB13/Sheet3!$F$1","v":0},{"$f":"+Sheet3!BC13/Sheet3!$F$1","v":0},{"$f":"+Sheet3!BD13/Sheet3!$F$1","v":0},{"$f":"+Sheet3!BE13/Sheet3!$F$1","v":0},{"$f":"+Sheet3!BF13/Sheet3!$F$1","v":0},{"$f":"+Sheet3!BG13/Sheet3!$F$1","v":0},{"$f":"+Sheet3!BH13/Sheet3!$F$1","v":0},{"$f":"+Sheet3!BI13/Sheet3!$F$1","v":0},{"$f":"+Sheet3!BJ13/Sheet3!$F$1","v":0},{"$f":"+Sheet3!BK13/Sheet3!$F$1","v":0},{"$f":"+Sheet3!BL13/Sheet3!$F$1","v":0},{"$f":"+Sheet3!BM13/Sheet3!$F$1","v":0},{"$f":"+Sheet3!BN13/Sheet3!$F$1","v":0},{"$f":"+Sheet3!BO13/Sheet3!$F$1","v":0},{"$f":"+Sheet3!BP13/Sheet3!$F$1","v":0},{"$f":"+Sheet3!BQ13/Sheet3!$F$1","v":0},{"$f":"+Sheet3!BR13/Sheet3!$F$1","v":0},{"$f":"+Sheet3!BS13/Sheet3!$F$1","v":0},{"$f":"+Sheet3!BT13/Sheet3!$F$1","v":0},{"$f":"+Sheet3!BU13/Sheet3!$F$1","v":0},{"$f":"+Sheet3!BV13/Sheet3!$F$1","v":0},{"$f":"+Sheet3!BW13/Sheet3!$F$1","v":0},{"$f":"+Sheet3!BX13/Sheet3!$F$1","v":0},{"$f":"+Sheet3!BY13/Sheet3!$F$1","v":0},{"$f":"+Sheet3!BZ13/Sheet3!$F$1","v":0},{"$f":"+Sheet3!CA13/Sheet3!$F$1","v":0},{"$f":"+Sheet3!CB13/Sheet3!$F$1","v":0},{"$f":"+Sheet3!CC13/Sheet3!$F$1","v":0},{"$f":"+Sheet3!CD13/Sheet3!$F$1","v":0},{"$f":"+Sheet3!CE13/Sheet3!$F$1","v":0},{"$f":"+Sheet3!CF13/Sheet3!$F$1","v":0},{"$f":"+Sheet3!CG13/Sheet3!$F$1","v":0},{"$f":"+Sheet3!CH13/Sheet3!$F$1","v":0},{"$f":"+Sheet3!CI13/Sheet3!$F$1","v":0},{"$f":"+Sheet3!CJ13/Sheet3!$F$1","v":0},{"$f":"+Sheet3!CK13/Sheet3!$F$1","v":0},{"$f":"+Sheet3!CL13/Sheet3!$F$1","v":0},{"$f":"+Sheet3!CM13/Sheet3!$F$1","v":0},{"$f":"+Sheet3!CN13/Sheet3!$F$1","v":0},{"$f":"+Sheet3!CO13/Sheet3!$F$1","v":0},{"$f":"+Sheet3!CP13/Sheet3!$F$1","v":0},{"$f":"+Sheet3!CQ13/Sheet3!$F$1","v":0},{"$f":"+Sheet3!CR13/Sheet3!$F$1","v":0},{"$f":"+Sheet3!CS13/Sheet3!$F$1","v":0},{"$f":"+Sheet3!CT13/Sheet3!$F$1","v":0},{"$f":"+Sheet3!CU13/Sheet3!$F$1","v":0},{"$f":"+Sheet3!CV13/Sheet3!$F$1","v":0},{"$f":"+Sheet3!CW13/Sheet3!$F$1","v":0},{"$f":"+Sheet3!CX13/Sheet3!$F$1","v":0},{"$f":"+Sheet3!CY13/Sheet3!$F$1","v":0},{"$f":"+Sheet3!CZ13/Sheet3!$F$1","v":0},{"$f":"+Sheet3!DA13/Sheet3!$F$1","v":0},{"$f":"+Sheet3!DB13/Sheet3!$F$1","v":0},{"$f":"+Sheet3!DC13/Sheet3!$F$1","v":0},{"$f":"+Sheet3!DD13/Sheet3!$F$1","v":0},{"$f":"+Sheet3!DE13/Sheet3!$F$1","v":0},{"$f":"+Sheet3!DF13/Sheet3!$F$1","v":0},{"$f":"+Sheet3!DG13/Sheet3!$F$1","v":0},{"$f":"+Sheet3!DH13/Sheet3!$F$1","v":0},{"$f":"+Sheet3!DI13/Sheet3!$F$1","v":0},{"$f":"+Sheet3!DJ13/Sheet3!$F$1","v":0},{"$f":"+Sheet3!DK13/Sheet3!$F$1","v":0},{"$f":"+Sheet3!DL13/Sheet3!$F$1","v":0},{"$f":"+Sheet3!DM13/Sheet3!$F$1","v":0},{"$f":"+Sheet3!DN13/Sheet3!$F$1","v":0},{"$f":"+Sheet3!DO13/Sheet3!$F$1","v":0},{"$f":"+Sheet3!DP13/Sheet3!$F$1","v":0},{"$f":"+Sheet3!DQ13/Sheet3!$F$1","v":0},{"$f":"+Sheet3!DR13/Sheet3!$F$1","v":0},0]
[null,"11D","Douro",{"$f":"+Sheet3!D14/Sheet3!$F$1","v":0},{"$f":"+Sheet3!E14/Sheet3!$F$1","v":0},{"$f":"+Sheet3!F14/Sheet3!$F$1","v":0},{"$f":"+Sheet3!G14/Sheet3!$F$1","v":0},{"$f":"+Sheet3!H14/Sheet3!$F$1","v":0},{"$f":"+Sheet3!I14/Sheet3!$F$1","v":0},{"$f":"+Sheet3!J14/Sheet3!$F$1","v":0},{"$f":"+Sheet3!K14/Sheet3!$F$1","v":0},{"$f":"+Sheet3!L14/Sheet3!$F$1","v":0},{"$f":"+Sheet3!M14/Sheet3!$F$1","v":0},{"$f":"+Sheet3!N14/Sheet3!$F$1","v":0},{"$f":"+Sheet3!O14/Sheet3!$F$1","v":0},{"$f":"+Sheet3!P14/Sheet3!$F$1","v":0},{"$f":"+Sheet3!Q14/Sheet3!$F$1","v":0},{"$f":"+Sheet3!R14/Sheet3!$F$1","v":0},{"$f":"+Sheet3!S14/Sheet3!$F$1","v":0},{"$f":"+Sheet3!T14/Sheet3!$F$1","v":0},{"$f":"+Sheet3!U14/Sheet3!$F$1","v":0},{"$f":"+Sheet3!V14/Sheet3!$F$1","v":0},{"$f":"+Sheet3!W14/Sheet3!$F$1","v":0},{"$f":"+Sheet3!X14/Sheet3!$F$1","v":0},{"$f":"+Sheet3!Y14/Sheet3!$F$1","v":0},{"$f":"+Sheet3!Z14/Sheet3!$F$1","v":0},{"$f":"+Sheet3!AA14/Sheet3!$F$1","v":0},{"$f":"+Sheet3!AB14/Sheet3!$F$1","v":0},{"$f":"+Sheet3!AC14/Sheet3!$F$1","v":0},{"$f":"+Sheet3!AD14/Sheet3!$F$1","v":0},{"$f":"+Sheet3!AE14/Sheet3!$F$1","v":0},{"$f":"+Sheet3!AF14/Sheet3!$F$1","v":0},{"$f":"+Sheet3!AG14/Sheet3!$F$1","v":0},{"$f":"+Sheet3!AH14/Sheet3!$F$1","v":0},{"$f":"+Sheet3!AI14/Sheet3!$F$1","v":0},{"$f":"+Sheet3!AJ14/Sheet3!$F$1","v":0},{"$f":"+Sheet3!AK14/Sheet3!$F$1","v":0},{"$f":"+Sheet3!AL14/Sheet3!$F$1","v":0},{"$f":"+Sheet3!AM14/Sheet3!$F$1","v":0},{"$f":"+Sheet3!AN14/Sheet3!$F$1","v":0},{"$f":"+Sheet3!AO14/Sheet3!$F$1","v":0},{"$f":"+Sheet3!AP14/Sheet3!$F$1","v":0},{"$f":"+Sheet3!AQ14/Sheet3!$F$1","v":0},{"$f":"+Sheet3!AR14/Sheet3!$F$1","v":0},{"$f":"+Sheet3!AS14/Sheet3!$F$1","v":0},{"$f":"+Sheet3!AT14/Sheet3!$F$1","v":0},{"$f":"+Sheet3!AU14/Sheet3!$F$1","v":0},{"$f":"+Sheet3!AV14/Sheet3!$F$1","v":0},{"$f":"+Sheet3!AW14/Sheet3!$F$1","v":0},{"$f":"+Sheet3!AX14/Sheet3!$F$1","v":0},{"$f":"+Sheet3!AY14/Sheet3!$F$1","v":0},{"$f":"+Sheet3!AZ14/Sheet3!$F$1","v":0},{"$f":"+Sheet3!BA14/Sheet3!$F$1","v":0},{"$f":"+Sheet3!BB14/Sheet3!$F$1","v":0},{"$f":"+Sheet3!BC14/Sheet3!$F$1","v":0},{"$f":"+Sheet3!BD14/Sheet3!$F$1","v":0},{"$f":"+Sheet3!BE14/Sheet3!$F$1","v":0},{"$f":"+Sheet3!BF14/Sheet3!$F$1","v":0},{"$f":"+Sheet3!BG14/Sheet3!$F$1","v":0},{"$f":"+Sheet3!BH14/Sheet3!$F$1","v":0},{"$f":"+Sheet3!BI14/Sheet3!$F$1","v":0},{"$f":"+Sheet3!BJ14/Sheet3!$F$1","v":0},{"$f":"+Sheet3!BK14/Sheet3!$F$1","v":0},{"$f":"+Sheet3!BL14/Sheet3!$F$1","v":0},{"$f":"+Sheet3!BM14/Sheet3!$F$1","v":0},{"$f":"+Sheet3!BN14/Sheet3!$F$1","v":0},{"$f":"+Sheet3!BO14/Sheet3!$F$1","v":0},{"$f":"+Sheet3!BP14/Sheet3!$F$1","v":0},{"$f":"+Sheet3!BQ14/Sheet3!$F$1","v":0},{"$f":"+Sheet3!BR14/Sheet3!$F$1","v":0},{"$f":"+Sheet3!BS14/Sheet3!$F$1","v":0},{"$f":"+Sheet3!BT14/Sheet3!$F$1","v":0},{"$f":"+Sheet3!BU14/Sheet3!$F$1","v":0},{"$f":"+Sheet3!BV14/Sheet3!$F$1","v":0},{"$f":"+Sheet3!BW14/Sheet3!$F$1","v":0},{"$f":"+Sheet3!BX14/Sheet3!$F$1","v":0},{"$f":"+Sheet3!BY14/Sheet3!$F$1","v":0},{"$f":"+Sheet3!BZ14/Sheet3!$F$1","v":0},{"$f":"+Sheet3!CA14/Sheet3!$F$1","v":0},{"$f":"+Sheet3!CB14/Sheet3!$F$1","v":0},{"$f":"+Sheet3!CC14/Sheet3!$F$1","v":0},{"$f":"+Sheet3!CD14/Sheet3!$F$1","v":0},{"$f":"+Sheet3!CE14/Sheet3!$F$1","v":0},{"$f":"+Sheet3!CF14/Sheet3!$F$1","v":0},{"$f":"+Sheet3!CG14/Sheet3!$F$1","v":0},{"$f":"+Sheet3!CH14/Sheet3!$F$1","v":0},{"$f":"+Sheet3!CI14/Sheet3!$F$1","v":0},{"$f":"+Sheet3!CJ14/Sheet3!$F$1","v":0},{"$f":"+Sheet3!CK14/Sheet3!$F$1","v":0},{"$f":"+Sheet3!CL14/Sheet3!$F$1","v":0},{"$f":"+Sheet3!CM14/Sheet3!$F$1","v":0},{"$f":"+Sheet3!CN14/Sheet3!$F$1","v":0},{"$f":"+Sheet3!CO14/Sheet3!$F$1","v":0},{"$f":"+Sheet3!CP14/Sheet3!$F$1","v":0},{"$f":"+Sheet3!CQ14/Sheet3!$F$1","v":0},{"$f":"+Sheet3!CR14/Sheet3!$F$1","v":0},{"$f":"+Sheet3!CS14/Sheet3!$F$1","v":0},{"$f":"+Sheet3!CT14/Sheet3!$F$1","v":0},{"$f":"+Sheet3!CU14/Sheet3!$F$1","v":0},{"$f":"+Sheet3!CV14/Sheet3!$F$1","v":0},{"$f":"+Sheet3!CW14/Sheet3!$F$1","v":0},{"$f":"+Sheet3!CX14/Sheet3!$F$1","v":0},{"$f":"+Sheet3!CY14/Sheet3!$F$1","v":0},{"$f":"+Sheet3!CZ14/Sheet3!$F$1","v":0},{"$f":"+Sheet3!DA14/Sheet3!$F$1","v":0},{"$f":"+Sheet3!DB14/Sheet3!$F$1","v":0},{"$f":"+Sheet3!DC14/Sheet3!$F$1","v":0},{"$f":"+Sheet3!DD14/Sheet3!$F$1","v":0},{"$f":"+Sheet3!DE14/Sheet3!$F$1","v":0},{"$f":"+Sheet3!DF14/Sheet3!$F$1","v":0},{"$f":"+Sheet3!DG14/Sheet3!$F$1","v":0},{"$f":"+Sheet3!DH14/Sheet3!$F$1","v":0},{"$f":"+Sheet3!DI14/Sheet3!$F$1","v":0},{"$f":"+Sheet3!DJ14/Sheet3!$F$1","v":0},{"$f":"+Sheet3!DK14/Sheet3!$F$1","v":0},{"$f":"+Sheet3!DL14/Sheet3!$F$1","v":0},{"$f":"+Sheet3!DM14/Sheet3!$F$1","v":0},{"$f":"+Sheet3!DN14/Sheet3!$F$1","v":0},{"$f":"+Sheet3!DO14/Sheet3!$F$1","v":0},{"$f":"+Sheet3!DP14/Sheet3!$F$1","v":0},{"$f":"+Sheet3!DQ14/Sheet3!$F$1","v":0},{"$f":"+Sheet3!DR14/Sheet3!$F$1","v":0},0]
[null,"11E","Terras de Trás-os-Montes",{"$f":"+Sheet3!D15/Sheet3!$F$1","v":0},{"$f":"+Sheet3!E15/Sheet3!$F$1","v":0},{"$f":"+Sheet3!F15/Sheet3!$F$1","v":0},{"$f":"+Sheet3!G15/Sheet3!$F$1","v":0},{"$f":"+Sheet3!H15/Sheet3!$F$1","v":0},{"$f":"+Sheet3!I15/Sheet3!$F$1","v":0},{"$f":"+Sheet3!J15/Sheet3!$F$1","v":0},{"$f":"+Sheet3!K15/Sheet3!$F$1","v":0},{"$f":"+Sheet3!L15/Sheet3!$F$1","v":0},{"$f":"+Sheet3!M15/Sheet3!$F$1","v":0},{"$f":"+Sheet3!N15/Sheet3!$F$1","v":0},{"$f":"+Sheet3!O15/Sheet3!$F$1","v":0},{"$f":"+Sheet3!P15/Sheet3!$F$1","v":0},{"$f":"+Sheet3!Q15/Sheet3!$F$1","v":0},{"$f":"+Sheet3!R15/Sheet3!$F$1","v":0},{"$f":"+Sheet3!S15/Sheet3!$F$1","v":0},{"$f":"+Sheet3!T15/Sheet3!$F$1","v":0},{"$f":"+Sheet3!U15/Sheet3!$F$1","v":0},{"$f":"+Sheet3!V15/Sheet3!$F$1","v":0},{"$f":"+Sheet3!W15/Sheet3!$F$1","v":0},{"$f":"+Sheet3!X15/Sheet3!$F$1","v":0},{"$f":"+Sheet3!Y15/Sheet3!$F$1","v":0},{"$f":"+Sheet3!Z15/Sheet3!$F$1","v":0},{"$f":"+Sheet3!AA15/Sheet3!$F$1","v":0},{"$f":"+Sheet3!AB15/Sheet3!$F$1","v":0},{"$f":"+Sheet3!AC15/Sheet3!$F$1","v":0},{"$f":"+Sheet3!AD15/Sheet3!$F$1","v":0},{"$f":"+Sheet3!AE15/Sheet3!$F$1","v":0},{"$f":"+Sheet3!AF15/Sheet3!$F$1","v":0},{"$f":"+Sheet3!AG15/Sheet3!$F$1","v":0},{"$f":"+Sheet3!AH15/Sheet3!$F$1","v":0},{"$f":"+Sheet3!AI15/Sheet3!$F$1","v":0},{"$f":"+Sheet3!AJ15/Sheet3!$F$1","v":0},{"$f":"+Sheet3!AK15/Sheet3!$F$1","v":0},{"$f":"+Sheet3!AL15/Sheet3!$F$1","v":0},{"$f":"+Sheet3!AM15/Sheet3!$F$1","v":0},{"$f":"+Sheet3!AN15/Sheet3!$F$1","v":0},{"$f":"+Sheet3!AO15/Sheet3!$F$1","v":0},{"$f":"+Sheet3!AP15/Sheet3!$F$1","v":0},{"$f":"+Sheet3!AQ15/Sheet3!$F$1","v":0},{"$f":"+Sheet3!AR15/Sheet3!$F$1","v":0},{"$f":"+Sheet3!AS15/Sheet3!$F$1","v":0},{"$f":"+Sheet3!AT15/Sheet3!$F$1","v":0},{"$f":"+Sheet3!AU15/Sheet3!$F$1","v":0},{"$f":"+Sheet3!AV15/Sheet3!$F$1","v":0},{"$f":"+Sheet3!AW15/Sheet3!$F$1","v":0},{"$f":"+Sheet3!AX15/Sheet3!$F$1","v":0},{"$f":"+Sheet3!AY15/Sheet3!$F$1","v":0.24},{"$f":"+Sheet3!AZ15/Sheet3!$F$1","v":0},{"$f":"+Sheet3!BA15/Sheet3!$F$1","v":0},{"$f":"+Sheet3!BB15/Sheet3!$F$1","v":0},{"$f":"+Sheet3!BC15/Sheet3!$F$1","v":0},{"$f":"+Sheet3!BD15/Sheet3!$F$1","v":0},{"$f":"+Sheet3!BE15/Sheet3!$F$1","v":0},{"$f":"+Sheet3!BF15/Sheet3!$F$1","v":0},{"$f":"+Sheet3!BG15/Sheet3!$F$1","v":0},{"$f":"+Sheet3!BH15/Sheet3!$F$1","v":0},{"$f":"+Sheet3!BI15/Sheet3!$F$1","v":0},{"$f":"+Sheet3!BJ15/Sheet3!$F$1","v":0},{"$f":"+Sheet3!BK15/Sheet3!$F$1","v":0},{"$f":"+Sheet3!BL15/Sheet3!$F$1","v":0},{"$f":"+Sheet3!BM15/Sheet3!$F$1","v":0},{"$f":"+Sheet3!BN15/Sheet3!$F$1","v":0},{"$f":"+Sheet3!BO15/Sheet3!$F$1","v":0},{"$f":"+Sheet3!BP15/Sheet3!$F$1","v":0},{"$f":"+Sheet3!BQ15/Sheet3!$F$1","v":0},{"$f":"+Sheet3!BR15/Sheet3!$F$1","v":0},{"$f":"+Sheet3!BS15/Sheet3!$F$1","v":4.7731700000000004},{"$f":"+Sheet3!BT15/Sheet3!$F$1","v":4.2110600000000007},{"$f":"+Sheet3!BU15/Sheet3!$F$1","v":0},{"$f":"+Sheet3!BV15/Sheet3!$F$1","v":0},{"$f":"+Sheet3!BW15/Sheet3!$F$1","v":0},{"$f":"+Sheet3!BX15/Sheet3!$F$1","v":0},{"$f":"+Sheet3!BY15/Sheet3!$F$1","v":0},{"$f":"+Sheet3!BZ15/Sheet3!$F$1","v":0},{"$f":"+Sheet3!CA15/Sheet3!$F$1","v":0},{"$f":"+Sheet3!CB15/Sheet3!$F$1","v":0},{"$f":"+Sheet3!CC15/Sheet3!$F$1","v":0.41987999999999998},{"$f":"+Sheet3!CD15/Sheet3!$F$1","v":0},{"$f":"+Sheet3!CE15/Sheet3!$F$1","v":0},{"$f":"+Sheet3!CF15/Sheet3!$F$1","v":0},{"$f":"+Sheet3!CG15/Sheet3!$F$1","v":0},{"$f":"+Sheet3!CH15/Sheet3!$F$1","v":0},{"$f":"+Sheet3!CI15/Sheet3!$F$1","v":0},{"$f":"+Sheet3!CJ15/Sheet3!$F$1","v":0},{"$f":"+Sheet3!CK15/Sheet3!$F$1","v":0},{"$f":"+Sheet3!CL15/Sheet3!$F$1","v":0},{"$f":"+Sheet3!CM15/Sheet3!$F$1","v":0},{"$f":"+Sheet3!CN15/Sheet3!$F$1","v":0},{"$f":"+Sheet3!CO15/Sheet3!$F$1","v":0},{"$f":"+Sheet3!CP15/Sheet3!$F$1","v":0},{"$f":"+Sheet3!CQ15/Sheet3!$F$1","v":0},{"$f":"+Sheet3!CR15/Sheet3!$F$1","v":0},{"$f":"+Sheet3!CS15/Sheet3!$F$1","v":0},{"$f":"+Sheet3!CT15/Sheet3!$F$1","v":0},{"$f":"+Sheet3!CU15/Sheet3!$F$1","v":0},{"$f":"+Sheet3!CV15/Sheet3!$F$1","v":0},{"$f":"+Sheet3!CW15/Sheet3!$F$1","v":0},{"$f":"+Sheet3!CX15/Sheet3!$F$1","v":0},{"$f":"+Sheet3!CY15/Sheet3!$F$1","v":0},{"$f":"+Sheet3!CZ15/Sheet3!$F$1","v":0},{"$f":"+Sheet3!DA15/Sheet3!$F$1","v":0},{"$f":"+Sheet3!DB15/Sheet3!$F$1","v":0},{"$f":"+Sheet3!DC15/Sheet3!$F$1","v":0},{"$f":"+Sheet3!DD15/Sheet3!$F$1","v":0.24},{"$f":"+Sheet3!DE15/Sheet3!$F$1","v":0},{"$f":"+Sheet3!DF15/Sheet3!$F$1","v":0},{"$f":"+Sheet3!DG15/Sheet3!$F$1","v":0},{"$f":"+Sheet3!DH15/Sheet3!$F$1","v":8.9842300000000002},{"$f":"+Sheet3!DI15/Sheet3!$F$1","v":0},{"$f":"+Sheet3!DJ15/Sheet3!$F$1","v":0.41987999999999998},{"$f":"+Sheet3!DK15/Sheet3!$F$1","v":0},{"$f":"+Sheet3!DL15/Sheet3!$F$1","v":0},{"$f":"+Sheet3!DM15/Sheet3!$F$1","v":0},{"$f":"+Sheet3!DN15/Sheet3!$F$1","v":0},{"$f":"+Sheet3!DO15/Sheet3!$F$1","v":0},{"$f":"+Sheet3!DP15/Sheet3!$F$1","v":5.4330500000000006},{"$f":"+Sheet3!DQ15/Sheet3!$F$1","v":4.2110600000000007},{"$f":"+Sheet3!DR15/Sheet3!$F$1","v":0},9.6441100000000013]
["Centro","16B","Oeste",{"$f":"+Sheet3!D16/Sheet3!$F$1","v":0},{"$f":"+Sheet3!E16/Sheet3!$F$1","v":0},{"$f":"+Sheet3!F16/Sheet3!$F$1","v":0},{"$f":"+Sheet3!G16/Sheet3!$F$1","v":0},{"$f":"+Sheet3!H16/Sheet3!$F$1","v":0},{"$f":"+Sheet3!I16/Sheet3!$F$1","v":0},{"$f":"+Sheet3!J16/Sheet3!$F$1","v":0},{"$f":"+Sheet3!K16/Sheet3!$F$1","v":0},{"$f":"+Sheet3!L16/Sheet3!$F$1","v":0},{"$f":"+Sheet3!M16/Sheet3!$F$1","v":0},{"$f":"+Sheet3!N16/Sheet3!$F$1","v":0},{"$f":"+Sheet3!O16/Sheet3!$F$1","v":0},{"$f":"+Sheet3!P16/Sheet3!$F$1","v":0},{"$f":"+Sheet3!Q16/Sheet3!$F$1","v":0},{"$f":"+Sheet3!R16/Sheet3!$F$1","v":0},{"$f":"+Sheet3!S16/Sheet3!$F$1","v":0},{"$f":"+Sheet3!T16/Sheet3!$F$1","v":0},{"$f":"+Sheet3!U16/Sheet3!$F$1","v":0},{"$f":"+Sheet3!V16/Sheet3!$F$1","v":0},{"$f":"+Sheet3!W16/Sheet3!$F$1","v":0},{"$f":"+Sheet3!X16/Sheet3!$F$1","v":0},{"$f":"+Sheet3!Y16/Sheet3!$F$1","v":0},{"$f":"+Sheet3!Z16/Sheet3!$F$1","v":0},{"$f":"+Sheet3!AA16/Sheet3!$F$1","v":0},{"$f":"+Sheet3!AB16/Sheet3!$F$1","v":0},{"$f":"+Sheet3!AC16/Sheet3!$F$1","v":0},{"$f":"+Sheet3!AD16/Sheet3!$F$1","v":0},{"$f":"+Sheet3!AE16/Sheet3!$F$1","v":0},{"$f":"+Sheet3!AF16/Sheet3!$F$1","v":0},{"$f":"+Sheet3!AG16/Sheet3!$F$1","v":0},{"$f":"+Sheet3!AH16/Sheet3!$F$1","v":0},{"$f":"+Sheet3!AI16/Sheet3!$F$1","v":0},{"$f":"+Sheet3!AJ16/Sheet3!$F$1","v":0},{"$f":"+Sheet3!AK16/Sheet3!$F$1","v":0},{"$f":"+Sheet3!AL16/Sheet3!$F$1","v":0},{"$f":"+Sheet3!AM16/Sheet3!$F$1","v":0},{"$f":"+Sheet3!AN16/Sheet3!$F$1","v":0},{"$f":"+Sheet3!AO16/Sheet3!$F$1","v":0},{"$f":"+Sheet3!AP16/Sheet3!$F$1","v":0},{"$f":"+Sheet3!AQ16/Sheet3!$F$1","v":0},{"$f":"+Sheet3!AR16/Sheet3!$F$1","v":0},{"$f":"+Sheet3!AS16/Sheet3!$F$1","v":0},{"$f":"+Sheet3!AT16/Sheet3!$F$1","v":0},{"$f":"+Sheet3!AU16/Sheet3!$F$1","v":0},{"$f":"+Sheet3!AV16/Sheet3!$F$1","v":0},{"$f":"+Sheet3!AW16/Sheet3!$F$1","v":0},{"$f":"+Sheet3!AX16/Sheet3!$F$1","v":0},{"$f":"+Sheet3!AY16/Sheet3!$F$1","v":0},{"$f":"+Sheet3!AZ16/Sheet3!$F$1","v":0},{"$f":"+Sheet3!BA16/Sheet3!$F$1","v":0},{"$f":"+Sheet3!BB16/Sheet3!$F$1","v":0},{"$f":"+Sheet3!BC16/Sheet3!$F$1","v":0},{"$f":"+Sheet3!BD16/Sheet3!$F$1","v":0},{"$f":"+Sheet3!BE16/Sheet3!$F$1","v":0},{"$f":"+Sheet3!BF16/Sheet3!$F$1","v":0},{"$f":"+Sheet3!BG16/Sheet3!$F$1","v":0},{"$f":"+Sheet3!BH16/Sheet3!$F$1","v":0},{"$f":"+Sheet3!BI16/Sheet3!$F$1","v":0},{"$f":"+Sheet3!BJ16/Sheet3!$F$1","v":0},{"$f":"+Sheet3!BK16/Sheet3!$F$1","v":0},{"$f":"+Sheet3!BL16/Sheet3!$F$1","v":0},{"$f":"+Sheet3!BM16/Sheet3!$F$1","v":0},{"$f":"+Sheet3!BN16/Sheet3!$F$1","v":0},{"$f":"+Sheet3!BO16/Sheet3!$F$1","v":0},{"$f":"+Sheet3!BP16/Sheet3!$F$1","v":0},{"$f":"+Sheet3!BQ16/Sheet3!$F$1","v":0},{"$f":"+Sheet3!BR16/Sheet3!$F$1","v":0},{"$f":"+Sheet3!BS16/Sheet3!$F$1","v":0},{"$f":"+Sheet3!BT16/Sheet3!$F$1","v":2.0668699999999998},{"$f":"+Sheet3!BU16/Sheet3!$F$1","v":0},{"$f":"+Sheet3!BV16/Sheet3!$F$1","v":0},{"$f":"+Sheet3!BW16/Sheet3!$F$1","v":0},{"$f":"+Sheet3!BX16/Sheet3!$F$1","v":0},{"$f":"+Sheet3!BY16/Sheet3!$F$1","v":0},{"$f":"+Sheet3!BZ16/Sheet3!$F$1","v":0},{"$f":"+Sheet3!CA16/Sheet3!$F$1","v":0},{"$f":"+Sheet3!CB16/Sheet3!$F$1","v":0},{"$f":"+Sheet3!CC16/Sheet3!$F$1","v":0},{"$f":"+Sheet3!CD16/Sheet3!$F$1","v":0},{"$f":"+Sheet3!CE16/Sheet3!$F$1","v":0},{"$f":"+Sheet3!CF16/Sheet3!$F$1","v":0},{"$f":"+Sheet3!CG16/Sheet3!$F$1","v":0},{"$f":"+Sheet3!CH16/Sheet3!$F$1","v":0},{"$f":"+Sheet3!CI16/Sheet3!$F$1","v":0},{"$f":"+Sheet3!CJ16/Sheet3!$F$1","v":0},{"$f":"+Sheet3!CK16/Sheet3!$F$1","v":0},{"$f":"+Sheet3!CL16/Sheet3!$F$1","v":0},{"$f":"+Sheet3!CM16/Sheet3!$F$1","v":0},{"$f":"+Sheet3!CN16/Sheet3!$F$1","v":0},{"$f":"+Sheet3!CO16/Sheet3!$F$1","v":0},{"$f":"+Sheet3!CP16/Sheet3!$F$1","v":0},{"$f":"+Sheet3!CQ16/Sheet3!$F$1","v":0},{"$f":"+Sheet3!CR16/Sheet3!$F$1","v":0},{"$f":"+Sheet3!CS16/Sheet3!$F$1","v":0},{"$f":"+Sheet3!CT16/Sheet3!$F$1","v":0},{"$f":"+Sheet3!CU16/Sheet3!$F$1","v":0},{"$f":"+Sheet3!CV16/Sheet3!$F$1","v":0},{"$f":"+Sheet3!CW16/Sheet3!$F$1","v":0},{"$f":"+Sheet3!CX16/Sheet3!$F$1","v":0},{"$f":"+Sheet3!CY16/Sheet3!$F$1","v":0},{"$f":"+Sheet3!CZ16/Sheet3!$F$1","v":0},{"$f":"+Sheet3!DA16/Sheet3!$F$1","v":0},{"$f":"+Sheet3!DB16/Sheet3!$F$1","v":0},{"$f":"+Sheet3!DC16/Sheet3!$F$1","v":0},{"$f":"+Sheet3!DD16/Sheet3!$F$1","v":0},{"$f":"+Sheet3!DE16/Sheet3!$F$1","v":0},{"$f":"+Sheet3!DF16/Sheet3!$F$1","v":0},{"$f":"+Sheet3!DG16/Sheet3!$F$1","v":0},{"$f":"+Sheet3!DH16/Sheet3!$F$1","v":2.0668699999999998},{"$f":"+Sheet3!DI16/Sheet3!$F$1","v":0},{"$f":"+Sheet3!DJ16/Sheet3!$F$1","v":0},{"$f":"+Sheet3!DK16/Sheet3!$F$1","v":0},{"$f":"+Sheet3!DL16/Sheet3!$F$1","v":0},{"$f":"+Sheet3!DM16/Sheet3!$F$1","v":0},{"$f":"+Sheet3!DN16/Sheet3!$F$1","v":0},{"$f":"+Sheet3!DO16/Sheet3!$F$1","v":0},{"$f":"+Sheet3!DP16/Sheet3!$F$1","v":0},{"$f":"+Sheet3!DQ16/Sheet3!$F$1","v":2.0668699999999998},{"$f":"+Sheet3!DR16/Sheet3!$F$1","v":0},2.0668699999999998]
[null,"16D","Região de Aveiro",{"$f":"+Sheet3!D17/Sheet3!$F$1","v":0},{"$f":"+Sheet3!E17/Sheet3!$F$1","v":0},{"$f":"+Sheet3!F17/Sheet3!$F$1","v":0},{"$f":"+Sheet3!G17/Sheet3!$F$1","v":0},{"$f":"+Sheet3!H17/Sheet3!$F$1","v":0},{"$f":"+Sheet3!I17/Sheet3!$F$1","v":0},{"$f":"+Sheet3!J17/Sheet3!$F$1","v":0},{"$f":"+Sheet3!K17/Sheet3!$F$1","v":0},{"$f":"+Sheet3!L17/Sheet3!$F$1","v":0},{"$f":"+Sheet3!M17/Sheet3!$F$1","v":0},{"$f":"+Sheet3!N17/Sheet3!$F$1","v":0},{"$f":"+Sheet3!O17/Sheet3!$F$1","v":0},{"$f":"+Sheet3!P17/Sheet3!$F$1","v":0},{"$f":"+Sheet3!Q17/Sheet3!$F$1","v":0},{"$f":"+Sheet3!R17/Sheet3!$F$1","v":0},{"$f":"+Sheet3!S17/Sheet3!$F$1","v":0},{"$f":"+Sheet3!T17/Sheet3!$F$1","v":0},{"$f":"+Sheet3!U17/Sheet3!$F$1","v":0},{"$f":"+Sheet3!V17/Sheet3!$F$1","v":0},{"$f":"+Sheet3!W17/Sheet3!$F$1","v":0},{"$f":"+Sheet3!X17/Sheet3!$F$1","v":0},{"$f":"+Sheet3!Y17/Sheet3!$F$1","v":0},{"$f":"+Sheet3!Z17/Sheet3!$F$1","v":0},{"$f":"+Sheet3!AA17/Sheet3!$F$1","v":0},{"$f":"+Sheet3!AB17/Sheet3!$F$1","v":0},{"$f":"+Sheet3!AC17/Sheet3!$F$1","v":0},{"$f":"+Sheet3!AD17/Sheet3!$F$1","v":0},{"$f":"+Sheet3!AE17/Sheet3!$F$1","v":0},{"$f":"+Sheet3!AF17/Sheet3!$F$1","v":0},{"$f":"+Sheet3!AG17/Sheet3!$F$1","v":0},{"$f":"+Sheet3!AH17/Sheet3!$F$1","v":0},{"$f":"+Sheet3!AI17/Sheet3!$F$1","v":0},{"$f":"+Sheet3!AJ17/Sheet3!$F$1","v":0},{"$f":"+Sheet3!AK17/Sheet3!$F$1","v":0},{"$f":"+Sheet3!AL17/Sheet3!$F$1","v":0},{"$f":"+Sheet3!AM17/Sheet3!$F$1","v":0},{"$f":"+Sheet3!AN17/Sheet3!$F$1","v":0},{"$f":"+Sheet3!AO17/Sheet3!$F$1","v":0},{"$f":"+Sheet3!AP17/Sheet3!$F$1","v":0},{"$f":"+Sheet3!AQ17/Sheet3!$F$1","v":0},{"$f":"+Sheet3!AR17/Sheet3!$F$1","v":0},{"$f":"+Sheet3!AS17/Sheet3!$F$1","v":0},{"$f":"+Sheet3!AT17/Sheet3!$F$1","v":0},{"$f":"+Sheet3!AU17/Sheet3!$F$1","v":0},{"$f":"+Sheet3!AV17/Sheet3!$F$1","v":0},{"$f":"+Sheet3!AW17/Sheet3!$F$1","v":0},{"$f":"+Sheet3!AX17/Sheet3!$F$1","v":0},{"$f":"+Sheet3!AY17/Sheet3!$F$1","v":0},{"$f":"+Sheet3!AZ17/Sheet3!$F$1","v":0},{"$f":"+Sheet3!BA17/Sheet3!$F$1","v":0},{"$f":"+Sheet3!BB17/Sheet3!$F$1","v":0},{"$f":"+Sheet3!BC17/Sheet3!$F$1","v":0},{"$f":"+Sheet3!BD17/Sheet3!$F$1","v":0},{"$f":"+Sheet3!BE17/Sheet3!$F$1","v":0},{"$f":"+Sheet3!BF17/Sheet3!$F$1","v":0},{"$f":"+Sheet3!BG17/Sheet3!$F$1","v":0},{"$f":"+Sheet3!BH17/Sheet3!$F$1","v":0},{"$f":"+Sheet3!BI17/Sheet3!$F$1","v":0},{"$f":"+Sheet3!BJ17/Sheet3!$F$1","v":0},{"$f":"+Sheet3!BK17/Sheet3!$F$1","v":0},{"$f":"+Sheet3!BL17/Sheet3!$F$1","v":0},{"$f":"+Sheet3!BM17/Sheet3!$F$1","v":0},{"$f":"+Sheet3!BN17/Sheet3!$F$1","v":0},{"$f":"+Sheet3!BO17/Sheet3!$F$1","v":0},{"$f":"+Sheet3!BP17/Sheet3!$F$1","v":0},{"$f":"+Sheet3!BQ17/Sheet3!$F$1","v":0},{"$f":"+Sheet3!BR17/Sheet3!$F$1","v":0},{"$f":"+Sheet3!BS17/Sheet3!$F$1","v":0},{"$f":"+Sheet3!BT17/Sheet3!$F$1","v":0},{"$f":"+Sheet3!BU17/Sheet3!$F$1","v":0},{"$f":"+Sheet3!BV17/Sheet3!$F$1","v":0},{"$f":"+Sheet3!BW17/Sheet3!$F$1","v":0},{"$f":"+Sheet3!BX17/Sheet3!$F$1","v":0},{"$f":"+Sheet3!BY17/Sheet3!$F$1","v":0},{"$f":"+Sheet3!BZ17/Sheet3!$F$1","v":0},{"$f":"+Sheet3!CA17/Sheet3!$F$1","v":0},{"$f":"+Sheet3!CB17/Sheet3!$F$1","v":0},{"$f":"+Sheet3!CC17/Sheet3!$F$1","v":0},{"$f":"+Sheet3!CD17/Sheet3!$F$1","v":0},{"$f":"+Sheet3!CE17/Sheet3!$F$1","v":0},{"$f":"+Sheet3!CF17/Sheet3!$F$1","v":0},{"$f":"+Sheet3!CG17/Sheet3!$F$1","v":0},{"$f":"+Sheet3!CH17/Sheet3!$F$1","v":0},{"$f":"+Sheet3!CI17/Sheet3!$F$1","v":0},{"$f":"+Sheet3!CJ17/Sheet3!$F$1","v":0},{"$f":"+Sheet3!CK17/Sheet3!$F$1","v":0},{"$f":"+Sheet3!CL17/Sheet3!$F$1","v":0},{"$f":"+Sheet3!CM17/Sheet3!$F$1","v":0},{"$f":"+Sheet3!CN17/Sheet3!$F$1","v":0},{"$f":"+Sheet3!CO17/Sheet3!$F$1","v":0},{"$f":"+Sheet3!CP17/Sheet3!$F$1","v":0},{"$f":"+Sheet3!CQ17/Sheet3!$F$1","v":0},{"$f":"+Sheet3!CR17/Sheet3!$F$1","v":0},{"$f":"+Sheet3!CS17/Sheet3!$F$1","v":0},{"$f":"+Sheet3!CT17/Sheet3!$F$1","v":0},{"$f":"+Sheet3!CU17/Sheet3!$F$1","v":0},{"$f":"+Sheet3!CV17/Sheet3!$F$1","v":0},{"$f":"+Sheet3!CW17/Sheet3!$F$1","v":0},{"$f":"+Sheet3!CX17/Sheet3!$F$1","v":0},{"$f":"+Sheet3!CY17/Sheet3!$F$1","v":0},{"$f":"+Sheet3!CZ17/Sheet3!$F$1","v":0},{"$f":"+Sheet3!DA17/Sheet3!$F$1","v":0},{"$f":"+Sheet3!DB17/Sheet3!$F$1","v":0},{"$f":"+Sheet3!DC17/Sheet3!$F$1","v":0},{"$f":"+Sheet3!DD17/Sheet3!$F$1","v":0},{"$f":"+Sheet3!DE17/Sheet3!$F$1","v":0},{"$f":"+Sheet3!DF17/Sheet3!$F$1","v":0},{"$f":"+Sheet3!DG17/Sheet3!$F$1","v":0},{"$f":"+Sheet3!DH17/Sheet3!$F$1","v":0},{"$f":"+Sheet3!DI17/Sheet3!$F$1","v":0},{"$f":"+Sheet3!DJ17/Sheet3!$F$1","v":0},{"$f":"+Sheet3!DK17/Sheet3!$F$1","v":0},{"$f":"+Sheet3!DL17/Sheet3!$F$1","v":0},{"$f":"+Sheet3!DM17/Sheet3!$F$1","v":0},{"$f":"+Sheet3!DN17/Sheet3!$F$1","v":0},{"$f":"+Sheet3!DO17/Sheet3!$F$1","v":0},{"$f":"+Sheet3!DP17/Sheet3!$F$1","v":0},{"$f":"+Sheet3!DQ17/Sheet3!$F$1","v":0},{"$f":"+Sheet3!DR17/Sheet3!$F$1","v":0},0]
[null,"16E","Região de Coimbra",{"$f":"+Sheet3!D18/Sheet3!$F$1","v":0},{"$f":"+Sheet3!E18/Sheet3!$F$1","v":0},{"$f":"+Sheet3!F18/Sheet3!$F$1","v":0},{"$f":"+Sheet3!G18/Sheet3!$F$1","v":0},{"$f":"+Sheet3!H18/Sheet3!$F$1","v":0},{"$f":"+Sheet3!I18/Sheet3!$F$1","v":0},{"$f":"+Sheet3!J18/Sheet3!$F$1","v":0},{"$f":"+Sheet3!K18/Sheet3!$F$1","v":0},{"$f":"+Sheet3!L18/Sheet3!$F$1","v":0},{"$f":"+Sheet3!M18/Sheet3!$F$1","v":0},{"$f":"+Sheet3!N18/Sheet3!$F$1","v":0},{"$f":"+Sheet3!O18/Sheet3!$F$1","v":0},{"$f":"+Sheet3!P18/Sheet3!$F$1","v":0},{"$f":"+Sheet3!Q18/Sheet3!$F$1","v":0},{"$f":"+Sheet3!R18/Sheet3!$F$1","v":0},{"$f":"+Sheet3!S18/Sheet3!$F$1","v":0},{"$f":"+Sheet3!T18/Sheet3!$F$1","v":0},{"$f":"+Sheet3!U18/Sheet3!$F$1","v":0},{"$f":"+Sheet3!V18/Sheet3!$F$1","v":0},{"$f":"+Sheet3!W18/Sheet3!$F$1","v":0},{"$f":"+Sheet3!X18/Sheet3!$F$1","v":0},{"$f":"+Sheet3!Y18/Sheet3!$F$1","v":0},{"$f":"+Sheet3!Z18/Sheet3!$F$1","v":0},{"$f":"+Sheet3!AA18/Sheet3!$F$1","v":0},{"$f":"+Sheet3!AB18/Sheet3!$F$1","v":0},{"$f":"+Sheet3!AC18/Sheet3!$F$1","v":0},{"$f":"+Sheet3!AD18/Sheet3!$F$1","v":0},{"$f":"+Sheet3!AE18/Sheet3!$F$1","v":0},{"$f":"+Sheet3!AF18/Sheet3!$F$1","v":0},{"$f":"+Sheet3!AG18/Sheet3!$F$1","v":0},{"$f":"+Sheet3!AH18/Sheet3!$F$1","v":0},{"$f":"+Sheet3!AI18/Sheet3!$F$1","v":0},{"$f":"+Sheet3!AJ18/Sheet3!$F$1","v":0},{"$f":"+Sheet3!AK18/Sheet3!$F$1","v":0},{"$f":"+Sheet3!AL18/Sheet3!$F$1","v":0},{"$f":"+Sheet3!AM18/Sheet3!$F$1","v":0},{"$f":"+Sheet3!AN18/Sheet3!$F$1","v":0},{"$f":"+Sheet3!AO18/Sheet3!$F$1","v":0},{"$f":"+Sheet3!AP18/Sheet3!$F$1","v":0},{"$f":"+Sheet3!AQ18/Sheet3!$F$1","v":0},{"$f":"+Sheet3!AR18/Sheet3!$F$1","v":0},{"$f":"+Sheet3!AS18/Sheet3!$F$1","v":0},{"$f":"+Sheet3!AT18/Sheet3!$F$1","v":0},{"$f":"+Sheet3!AU18/Sheet3!$F$1","v":0},{"$f":"+Sheet3!AV18/Sheet3!$F$1","v":0},{"$f":"+Sheet3!AW18/Sheet3!$F$1","v":0},{"$f":"+Sheet3!AX18/Sheet3!$F$1","v":0},{"$f":"+Sheet3!AY18/Sheet3!$F$1","v":0},{"$f":"+Sheet3!AZ18/Sheet3!$F$1","v":0},{"$f":"+Sheet3!BA18/Sheet3!$F$1","v":0},{"$f":"+Sheet3!BB18/Sheet3!$F$1","v":0},{"$f":"+Sheet3!BC18/Sheet3!$F$1","v":0},{"$f":"+Sheet3!BD18/Sheet3!$F$1","v":0},{"$f":"+Sheet3!BE18/Sheet3!$F$1","v":0},{"$f":"+Sheet3!BF18/Sheet3!$F$1","v":0},{"$f":"+Sheet3!BG18/Sheet3!$F$1","v":0},{"$f":"+Sheet3!BH18/Sheet3!$F$1","v":0},{"$f":"+Sheet3!BI18/Sheet3!$F$1","v":0},{"$f":"+Sheet3!BJ18/Sheet3!$F$1","v":0},{"$f":"+Sheet3!BK18/Sheet3!$F$1","v":0},{"$f":"+Sheet3!BL18/Sheet3!$F$1","v":0},{"$f":"+Sheet3!BM18/Sheet3!$F$1","v":0},{"$f":"+Sheet3!BN18/Sheet3!$F$1","v":0},{"$f":"+Sheet3!BO18/Sheet3!$F$1","v":0},{"$f":"+Sheet3!BP18/Sheet3!$F$1","v":0},{"$f":"+Sheet3!BQ18/Sheet3!$F$1","v":0},{"$f":"+Sheet3!BR18/Sheet3!$F$1","v":0},{"$f":"+Sheet3!BS18/Sheet3!$F$1","v":0},{"$f":"+Sheet3!BT18/Sheet3!$F$1","v":0},{"$f":"+Sheet3!BU18/Sheet3!$F$1","v":0},{"$f":"+Sheet3!BV18/Sheet3!$F$1","v":0},{"$f":"+Sheet3!BW18/Sheet3!$F$1","v":0},{"$f":"+Sheet3!BX18/Sheet3!$F$1","v":0},{"$f":"+Sheet3!BY18/Sheet3!$F$1","v":0},{"$f":"+Sheet3!BZ18/Sheet3!$F$1","v":0},{"$f":"+Sheet3!CA18/Sheet3!$F$1","v":0},{"$f":"+Sheet3!CB18/Sheet3!$F$1","v":0},{"$f":"+Sheet3!CC18/Sheet3!$F$1","v":0},{"$f":"+Sheet3!CD18/Sheet3!$F$1","v":0},{"$f":"+Sheet3!CE18/Sheet3!$F$1","v":0},{"$f":"+Sheet3!CF18/Sheet3!$F$1","v":0},{"$f":"+Sheet3!CG18/Sheet3!$F$1","v":0},{"$f":"+Sheet3!CH18/Sheet3!$F$1","v":0},{"$f":"+Sheet3!CI18/Sheet3!$F$1","v":0},{"$f":"+Sheet3!CJ18/Sheet3!$F$1","v":0},{"$f":"+Sheet3!CK18/Sheet3!$F$1","v":0},{"$f":"+Sheet3!CL18/Sheet3!$F$1","v":0},{"$f":"+Sheet3!CM18/Sheet3!$F$1","v":0},{"$f":"+Sheet3!CN18/Sheet3!$F$1","v":0},{"$f":"+Sheet3!CO18/Sheet3!$F$1","v":0},{"$f":"+Sheet3!CP18/Sheet3!$F$1","v":0},{"$f":"+Sheet3!CQ18/Sheet3!$F$1","v":0},{"$f":"+Sheet3!CR18/Sheet3!$F$1","v":0},{"$f":"+Sheet3!CS18/Sheet3!$F$1","v":0},{"$f":"+Sheet3!CT18/Sheet3!$F$1","v":0},{"$f":"+Sheet3!CU18/Sheet3!$F$1","v":0},{"$f":"+Sheet3!CV18/Sheet3!$F$1","v":0},{"$f":"+Sheet3!CW18/Sheet3!$F$1","v":0},{"$f":"+Sheet3!CX18/Sheet3!$F$1","v":0},{"$f":"+Sheet3!CY18/Sheet3!$F$1","v":0},{"$f":"+Sheet3!CZ18/Sheet3!$F$1","v":0},{"$f":"+Sheet3!DA18/Sheet3!$F$1","v":0},{"$f":"+Sheet3!DB18/Sheet3!$F$1","v":0},{"$f":"+Sheet3!DC18/Sheet3!$F$1","v":0},{"$f":"+Sheet3!DD18/Sheet3!$F$1","v":0},{"$f":"+Sheet3!DE18/Sheet3!$F$1","v":0},{"$f":"+Sheet3!DF18/Sheet3!$F$1","v":0},{"$f":"+Sheet3!DG18/Sheet3!$F$1","v":0},{"$f":"+Sheet3!DH18/Sheet3!$F$1","v":0},{"$f":"+Sheet3!DI18/Sheet3!$F$1","v":0},{"$f":"+Sheet3!DJ18/Sheet3!$F$1","v":0},{"$f":"+Sheet3!DK18/Sheet3!$F$1","v":0},{"$f":"+Sheet3!DL18/Sheet3!$F$1","v":0},{"$f":"+Sheet3!DM18/Sheet3!$F$1","v":0},{"$f":"+Sheet3!DN18/Sheet3!$F$1","v":0},{"$f":"+Sheet3!DO18/Sheet3!$F$1","v":0},{"$f":"+Sheet3!DP18/Sheet3!$F$1","v":0},{"$f":"+Sheet3!DQ18/Sheet3!$F$1","v":0},{"$f":"+Sheet3!DR18/Sheet3!$F$1","v":0},0]
[null,"16F","Região de Leiria",{"$f":"+Sheet3!D19/Sheet3!$F$1","v":0},{"$f":"+Sheet3!E19/Sheet3!$F$1","v":0},{"$f":"+Sheet3!F19/Sheet3!$F$1","v":0},{"$f":"+Sheet3!G19/Sheet3!$F$1","v":0},{"$f":"+Sheet3!H19/Sheet3!$F$1","v":0},{"$f":"+Sheet3!I19/Sheet3!$F$1","v":0},{"$f":"+Sheet3!J19/Sheet3!$F$1","v":0},{"$f":"+Sheet3!K19/Sheet3!$F$1","v":0},{"$f":"+Sheet3!L19/Sheet3!$F$1","v":0},{"$f":"+Sheet3!M19/Sheet3!$F$1","v":0},{"$f":"+Sheet3!N19/Sheet3!$F$1","v":0},{"$f":"+Sheet3!O19/Sheet3!$F$1","v":0},{"$f":"+Sheet3!P19/Sheet3!$F$1","v":0},{"$f":"+Sheet3!Q19/Sheet3!$F$1","v":0},{"$f":"+Sheet3!R19/Sheet3!$F$1","v":0},{"$f":"+Sheet3!S19/Sheet3!$F$1","v":0},{"$f":"+Sheet3!T19/Sheet3!$F$1","v":0},{"$f":"+Sheet3!U19/Sheet3!$F$1","v":0},{"$f":"+Sheet3!V19/Sheet3!$F$1","v":0},{"$f":"+Sheet3!W19/Sheet3!$F$1","v":0},{"$f":"+Sheet3!X19/Sheet3!$F$1","v":0},{"$f":"+Sheet3!Y19/Sheet3!$F$1","v":0},{"$f":"+Sheet3!Z19/Sheet3!$F$1","v":0},{"$f":"+Sheet3!AA19/Sheet3!$F$1","v":0},{"$f":"+Sheet3!AB19/Sheet3!$F$1","v":0},{"$f":"+Sheet3!AC19/Sheet3!$F$1","v":0},{"$f":"+Sheet3!AD19/Sheet3!$F$1","v":0},{"$f":"+Sheet3!AE19/Sheet3!$F$1","v":0},{"$f":"+Sheet3!AF19/Sheet3!$F$1","v":0},{"$f":"+Sheet3!AG19/Sheet3!$F$1","v":0},{"$f":"+Sheet3!AH19/Sheet3!$F$1","v":0},{"$f":"+Sheet3!AI19/Sheet3!$F$1","v":0},{"$f":"+Sheet3!AJ19/Sheet3!$F$1","v":0},{"$f":"+Sheet3!AK19/Sheet3!$F$1","v":0},{"$f":"+Sheet3!AL19/Sheet3!$F$1","v":0},{"$f":"+Sheet3!AM19/Sheet3!$F$1","v":0},{"$f":"+Sheet3!AN19/Sheet3!$F$1","v":0},{"$f":"+Sheet3!AO19/Sheet3!$F$1","v":0},{"$f":"+Sheet3!AP19/Sheet3!$F$1","v":0},{"$f":"+Sheet3!AQ19/Sheet3!$F$1","v":0},{"$f":"+Sheet3!AR19/Sheet3!$F$1","v":0},{"$f":"+Sheet3!AS19/Sheet3!$F$1","v":0},{"$f":"+Sheet3!AT19/Sheet3!$F$1","v":0},{"$f":"+Sheet3!AU19/Sheet3!$F$1","v":0},{"$f":"+Sheet3!AV19/Sheet3!$F$1","v":0},{"$f":"+Sheet3!AW19/Sheet3!$F$1","v":0},{"$f":"+Sheet3!AX19/Sheet3!$F$1","v":0},{"$f":"+Sheet3!AY19/Sheet3!$F$1","v":0},{"$f":"+Sheet3!AZ19/Sheet3!$F$1","v":0},{"$f":"+Sheet3!BA19/Sheet3!$F$1","v":0},{"$f":"+Sheet3!BB19/Sheet3!$F$1","v":0},{"$f":"+Sheet3!BC19/Sheet3!$F$1","v":0},{"$f":"+Sheet3!BD19/Sheet3!$F$1","v":0},{"$f":"+Sheet3!BE19/Sheet3!$F$1","v":0},{"$f":"+Sheet3!BF19/Sheet3!$F$1","v":0},{"$f":"+Sheet3!BG19/Sheet3!$F$1","v":0},{"$f":"+Sheet3!BH19/Sheet3!$F$1","v":0},{"$f":"+Sheet3!BI19/Sheet3!$F$1","v":0},{"$f":"+Sheet3!BJ19/Sheet3!$F$1","v":0},{"$f":"+Sheet3!BK19/Sheet3!$F$1","v":0},{"$f":"+Sheet3!BL19/Sheet3!$F$1","v":0},{"$f":"+Sheet3!BM19/Sheet3!$F$1","v":0},{"$f":"+Sheet3!BN19/Sheet3!$F$1","v":0},{"$f":"+Sheet3!BO19/Sheet3!$F$1","v":0},{"$f":"+Sheet3!BP19/Sheet3!$F$1","v":0},{"$f":"+Sheet3!BQ19/Sheet3!$F$1","v":0},{"$f":"+Sheet3!BR19/Sheet3!$F$1","v":0},{"$f":"+Sheet3!BS19/Sheet3!$F$1","v":0},{"$f":"+Sheet3!BT19/Sheet3!$F$1","v":0},{"$f":"+Sheet3!BU19/Sheet3!$F$1","v":0},{"$f":"+Sheet3!BV19/Sheet3!$F$1","v":0},{"$f":"+Sheet3!BW19/Sheet3!$F$1","v":0},{"$f":"+Sheet3!BX19/Sheet3!$F$1","v":0},{"$f":"+Sheet3!BY19/Sheet3!$F$1","v":0},{"$f":"+Sheet3!BZ19/Sheet3!$F$1","v":0},{"$f":"+Sheet3!CA19/Sheet3!$F$1","v":0},{"$f":"+Sheet3!CB19/Sheet3!$F$1","v":0},{"$f":"+Sheet3!CC19/Sheet3!$F$1","v":0},{"$f":"+Sheet3!CD19/Sheet3!$F$1","v":0},{"$f":"+Sheet3!CE19/Sheet3!$F$1","v":0},{"$f":"+Sheet3!CF19/Sheet3!$F$1","v":0},{"$f":"+Sheet3!CG19/Sheet3!$F$1","v":0},{"$f":"+Sheet3!CH19/Sheet3!$F$1","v":0},{"$f":"+Sheet3!CI19/Sheet3!$F$1","v":0},{"$f":"+Sheet3!CJ19/Sheet3!$F$1","v":0},{"$f":"+Sheet3!CK19/Sheet3!$F$1","v":0},{"$f":"+Sheet3!CL19/Sheet3!$F$1","v":0},{"$f":"+Sheet3!CM19/Sheet3!$F$1","v":0},{"$f":"+Sheet3!CN19/Sheet3!$F$1","v":0},{"$f":"+Sheet3!CO19/Sheet3!$F$1","v":0},{"$f":"+Sheet3!CP19/Sheet3!$F$1","v":0},{"$f":"+Sheet3!CQ19/Sheet3!$F$1","v":0},{"$f":"+Sheet3!CR19/Sheet3!$F$1","v":0},{"$f":"+Sheet3!CS19/Sheet3!$F$1","v":0},{"$f":"+Sheet3!CT19/Sheet3!$F$1","v":0},{"$f":"+Sheet3!CU19/Sheet3!$F$1","v":0},{"$f":"+Sheet3!CV19/Sheet3!$F$1","v":0},{"$f":"+Sheet3!CW19/Sheet3!$F$1","v":0},{"$f":"+Sheet3!CX19/Sheet3!$F$1","v":0},{"$f":"+Sheet3!CY19/Sheet3!$F$1","v":0},{"$f":"+Sheet3!CZ19/Sheet3!$F$1","v":0},{"$f":"+Sheet3!DA19/Sheet3!$F$1","v":0},{"$f":"+Sheet3!DB19/Sheet3!$F$1","v":0},{"$f":"+Sheet3!DC19/Sheet3!$F$1","v":0},{"$f":"+Sheet3!DD19/Sheet3!$F$1","v":0},{"$f":"+Sheet3!DE19/Sheet3!$F$1","v":0},{"$f":"+Sheet3!DF19/Sheet3!$F$1","v":0},{"$f":"+Sheet3!DG19/Sheet3!$F$1","v":0},{"$f":"+Sheet3!DH19/Sheet3!$F$1","v":0},{"$f":"+Sheet3!DI19/Sheet3!$F$1","v":0},{"$f":"+Sheet3!DJ19/Sheet3!$F$1","v":0},{"$f":"+Sheet3!DK19/Sheet3!$F$1","v":0},{"$f":"+Sheet3!DL19/Sheet3!$F$1","v":0},{"$f":"+Sheet3!DM19/Sheet3!$F$1","v":0},{"$f":"+Sheet3!DN19/Sheet3!$F$1","v":0},{"$f":"+Sheet3!DO19/Sheet3!$F$1","v":0},{"$f":"+Sheet3!DP19/Sheet3!$F$1","v":0},{"$f":"+Sheet3!DQ19/Sheet3!$F$1","v":0},{"$f":"+Sheet3!DR19/Sheet3!$F$1","v":0},0]
[null,"16G","Viseu Dão Lafões",{"$f":"+Sheet3!D20/Sheet3!$F$1","v":0},{"$f":"+Sheet3!E20/Sheet3!$F$1","v":0},{"$f":"+Sheet3!F20/Sheet3!$F$1","v":0},{"$f":"+Sheet3!G20/Sheet3!$F$1","v":0},{"$f":"+Sheet3!H20/Sheet3!$F$1","v":0},{"$f":"+Sheet3!I20/Sheet3!$F$1","v":0},{"$f":"+Sheet3!J20/Sheet3!$F$1","v":0},{"$f":"+Sheet3!K20/Sheet3!$F$1","v":0},{"$f":"+Sheet3!L20/Sheet3!$F$1","v":0},{"$f":"+Sheet3!M20/Sheet3!$F$1","v":0},{"$f":"+Sheet3!N20/Sheet3!$F$1","v":0},{"$f":"+Sheet3!O20/Sheet3!$F$1","v":0},{"$f":"+Sheet3!P20/Sheet3!$F$1","v":0},{"$f":"+Sheet3!Q20/Sheet3!$F$1","v":0},{"$f":"+Sheet3!R20/Sheet3!$F$1","v":0},{"$f":"+Sheet3!S20/Sheet3!$F$1","v":0},{"$f":"+Sheet3!T20/Sheet3!$F$1","v":0},{"$f":"+Sheet3!U20/Sheet3!$F$1","v":0},{"$f":"+Sheet3!V20/Sheet3!$F$1","v":0},{"$f":"+Sheet3!W20/Sheet3!$F$1","v":0},{"$f":"+Sheet3!X20/Sheet3!$F$1","v":0},{"$f":"+Sheet3!Y20/Sheet3!$F$1","v":0},{"$f":"+Sheet3!Z20/Sheet3!$F$1","v":0},{"$f":"+Sheet3!AA20/Sheet3!$F$1","v":0},{"$f":"+Sheet3!AB20/Sheet3!$F$1","v":0},{"$f":"+Sheet3!AC20/Sheet3!$F$1","v":0},{"$f":"+Sheet3!AD20/Sheet3!$F$1","v":0},{"$f":"+Sheet3!AE20/Sheet3!$F$1","v":0},{"$f":"+Sheet3!AF20/Sheet3!$F$1","v":0},{"$f":"+Sheet3!AG20/Sheet3!$F$1","v":0},{"$f":"+Sheet3!AH20/Sheet3!$F$1","v":0},{"$f":"+Sheet3!AI20/Sheet3!$F$1","v":0},{"$f":"+Sheet3!AJ20/Sheet3!$F$1","v":0},{"$f":"+Sheet3!AK20/Sheet3!$F$1","v":0},{"$f":"+Sheet3!AL20/Sheet3!$F$1","v":0},{"$f":"+Sheet3!AM20/Sheet3!$F$1","v":0},{"$f":"+Sheet3!AN20/Sheet3!$F$1","v":0},{"$f":"+Sheet3!AO20/Sheet3!$F$1","v":0},{"$f":"+Sheet3!AP20/Sheet3!$F$1","v":0},{"$f":"+Sheet3!AQ20/Sheet3!$F$1","v":0},{"$f":"+Sheet3!AR20/Sheet3!$F$1","v":0},{"$f":"+Sheet3!AS20/Sheet3!$F$1","v":0},{"$f":"+Sheet3!AT20/Sheet3!$F$1","v":0},{"$f":"+Sheet3!AU20/Sheet3!$F$1","v":0},{"$f":"+Sheet3!AV20/Sheet3!$F$1","v":0},{"$f":"+Sheet3!AW20/Sheet3!$F$1","v":0},{"$f":"+Sheet3!AX20/Sheet3!$F$1","v":0},{"$f":"+Sheet3!AY20/Sheet3!$F$1","v":0},{"$f":"+Sheet3!AZ20/Sheet3!$F$1","v":0},{"$f":"+Sheet3!BA20/Sheet3!$F$1","v":0},{"$f":"+Sheet3!BB20/Sheet3!$F$1","v":0},{"$f":"+Sheet3!BC20/Sheet3!$F$1","v":0},{"$f":"+Sheet3!BD20/Sheet3!$F$1","v":0},{"$f":"+Sheet3!BE20/Sheet3!$F$1","v":0},{"$f":"+Sheet3!BF20/Sheet3!$F$1","v":0},{"$f":"+Sheet3!BG20/Sheet3!$F$1","v":0},{"$f":"+Sheet3!BH20/Sheet3!$F$1","v":0},{"$f":"+Sheet3!BI20/Sheet3!$F$1","v":0},{"$f":"+Sheet3!BJ20/Sheet3!$F$1","v":0},{"$f":"+Sheet3!BK20/Sheet3!$F$1","v":0},{"$f":"+Sheet3!BL20/Sheet3!$F$1","v":0},{"$f":"+Sheet3!BM20/Sheet3!$F$1","v":0},{"$f":"+Sheet3!BN20/Sheet3!$F$1","v":0},{"$f":"+Sheet3!BO20/Sheet3!$F$1","v":0},{"$f":"+Sheet3!BP20/Sheet3!$F$1","v":0},{"$f":"+Sheet3!BQ20/Sheet3!$F$1","v":0},{"$f":"+Sheet3!BR20/Sheet3!$F$1","v":0},{"$f":"+Sheet3!BS20/Sheet3!$F$1","v":0},{"$f":"+Sheet3!BT20/Sheet3!$F$1","v":0},{"$f":"+Sheet3!BU20/Sheet3!$F$1","v":0},{"$f":"+Sheet3!BV20/Sheet3!$F$1","v":0},{"$f":"+Sheet3!BW20/Sheet3!$F$1","v":0},{"$f":"+Sheet3!BX20/Sheet3!$F$1","v":0},{"$f":"+Sheet3!BY20/Sheet3!$F$1","v":0},{"$f":"+Sheet3!BZ20/Sheet3!$F$1","v":0},{"$f":"+Sheet3!CA20/Sheet3!$F$1","v":0},{"$f":"+Sheet3!CB20/Sheet3!$F$1","v":0},{"$f":"+Sheet3!CC20/Sheet3!$F$1","v":0},{"$f":"+Sheet3!CD20/Sheet3!$F$1","v":0},{"$f":"+Sheet3!CE20/Sheet3!$F$1","v":0},{"$f":"+Sheet3!CF20/Sheet3!$F$1","v":0},{"$f":"+Sheet3!CG20/Sheet3!$F$1","v":0},{"$f":"+Sheet3!CH20/Sheet3!$F$1","v":0},{"$f":"+Sheet3!CI20/Sheet3!$F$1","v":0},{"$f":"+Sheet3!CJ20/Sheet3!$F$1","v":0},{"$f":"+Sheet3!CK20/Sheet3!$F$1","v":0},{"$f":"+Sheet3!CL20/Sheet3!$F$1","v":0},{"$f":"+Sheet3!CM20/Sheet3!$F$1","v":0},{"$f":"+Sheet3!CN20/Sheet3!$F$1","v":0},{"$f":"+Sheet3!CO20/Sheet3!$F$1","v":0},{"$f":"+Sheet3!CP20/Sheet3!$F$1","v":0},{"$f":"+Sheet3!CQ20/Sheet3!$F$1","v":0},{"$f":"+Sheet3!CR20/Sheet3!$F$1","v":0},{"$f":"+Sheet3!CS20/Sheet3!$F$1","v":0},{"$f":"+Sheet3!CT20/Sheet3!$F$1","v":0},{"$f":"+Sheet3!CU20/Sheet3!$F$1","v":0},{"$f":"+Sheet3!CV20/Sheet3!$F$1","v":0},{"$f":"+Sheet3!CW20/Sheet3!$F$1","v":0},{"$f":"+Sheet3!CX20/Sheet3!$F$1","v":0},{"$f":"+Sheet3!CY20/Sheet3!$F$1","v":0},{"$f":"+Sheet3!CZ20/Sheet3!$F$1","v":0},{"$f":"+Sheet3!DA20/Sheet3!$F$1","v":0},{"$f":"+Sheet3!DB20/Sheet3!$F$1","v":0},{"$f":"+Sheet3!DC20/Sheet3!$F$1","v":0},{"$f":"+Sheet3!DD20/Sheet3!$F$1","v":0},{"$f":"+Sheet3!DE20/Sheet3!$F$1","v":0},{"$f":"+Sheet3!DF20/Sheet3!$F$1","v":0},{"$f":"+Sheet3!DG20/Sheet3!$F$1","v":0},{"$f":"+Sheet3!DH20/Sheet3!$F$1","v":0},{"$f":"+Sheet3!DI20/Sheet3!$F$1","v":0},{"$f":"+Sheet3!DJ20/Sheet3!$F$1","v":0},{"$f":"+Sheet3!DK20/Sheet3!$F$1","v":0},{"$f":"+Sheet3!DL20/Sheet3!$F$1","v":0},{"$f":"+Sheet3!DM20/Sheet3!$F$1","v":0},{"$f":"+Sheet3!DN20/Sheet3!$F$1","v":0},{"$f":"+Sheet3!DO20/Sheet3!$F$1","v":0},{"$f":"+Sheet3!DP20/Sheet3!$F$1","v":0},{"$f":"+Sheet3!DQ20/Sheet3!$F$1","v":0},{"$f":"+Sheet3!DR20/Sheet3!$F$1","v":0},0]
[null,"16H","Beira Baixa",{"$f":"+Sheet3!D21/Sheet3!$F$1","v":0},{"$f":"+Sheet3!E21/Sheet3!$F$1","v":0},{"$f":"+Sheet3!F21/Sheet3!$F$1","v":0},{"$f":"+Sheet3!G21/Sheet3!$F$1","v":0},{"$f":"+Sheet3!H21/Sheet3!$F$1","v":0},{"$f":"+Sheet3!I21/Sheet3!$F$1","v":0},{"$f":"+Sheet3!J21/Sheet3!$F$1","v":0},{"$f":"+Sheet3!K21/Sheet3!$F$1","v":0},{"$f":"+Sheet3!L21/Sheet3!$F$1","v":0},{"$f":"+Sheet3!M21/Sheet3!$F$1","v":0},{"$f":"+Sheet3!N21/Sheet3!$F$1","v":0},{"$f":"+Sheet3!O21/Sheet3!$F$1","v":0},{"$f":"+Sheet3!P21/Sheet3!$F$1","v":0},{"$f":"+Sheet3!Q21/Sheet3!$F$1","v":7.3538300000000003},{"$f":"+Sheet3!R21/Sheet3!$F$1","v":0},{"$f":"+Sheet3!S21/Sheet3!$F$1","v":0},{"$f":"+Sheet3!T21/Sheet3!$F$1","v":0},{"$f":"+Sheet3!U21/Sheet3!$F$1","v":0},{"$f":"+Sheet3!V21/Sheet3!$F$1","v":0},{"$f":"+Sheet3!W21/Sheet3!$F$1","v":0},{"$f":"+Sheet3!X21/Sheet3!$F$1","v":0},{"$f":"+Sheet3!Y21/Sheet3!$F$1","v":0},{"$f":"+Sheet3!Z21/Sheet3!$F$1","v":2.4717899999999999},{"$f":"+Sheet3!AA21/Sheet3!$F$1","v":0},{"$f":"+Sheet3!AB21/Sheet3!$F$1","v":0},{"$f":"+Sheet3!AC21/Sheet3!$F$1","v":0},{"$f":"+Sheet3!AD21/Sheet3!$F$1","v":0},{"$f":"+Sheet3!AE21/Sheet3!$F$1","v":0.26750000000000002},{"$f":"+Sheet3!AF21/Sheet3!$F$1","v":0},{"$f":"+Sheet3!AG21/Sheet3!$F$1","v":0},{"$f":"+Sheet3!AH21/Sheet3!$F$1","v":0},{"$f":"+Sheet3!AI21/Sheet3!$F$1","v":0},{"$f":"+Sheet3!AJ21/Sheet3!$F$1","v":0},{"$f":"+Sheet3!AK21/Sheet3!$F$1","v":0},{"$f":"+Sheet3!AL21/Sheet3!$F$1","v":0},{"$f":"+Sheet3!AM21/Sheet3!$F$1","v":0},{"$f":"+Sheet3!AN21/Sheet3!$F$1","v":0},{"$f":"+Sheet3!AO21/Sheet3!$F$1","v":0},{"$f":"+Sheet3!AP21/Sheet3!$F$1","v":2.0472999999999999},{"$f":"+Sheet3!AQ21/Sheet3!$F$1","v":0},{"$f":"+Sheet3!AR21/Sheet3!$F$1","v":0},{"$f":"+Sheet3!AS21/Sheet3!$F$1","v":0},{"$f":"+Sheet3!AT21/Sheet3!$F$1","v":0},{"$f":"+Sheet3!AU21/Sheet3!$F$1","v":0},{"$f":"+Sheet3!AV21/Sheet3!$F$1","v":0},{"$f":"+Sheet3!AW21/Sheet3!$F$1","v":0},{"$f":"+Sheet3!AX21/Sheet3!$F$1","v":0},{"$f":"+Sheet3!AY21/Sheet3!$F$1","v":0},{"$f":"+Sheet3!AZ21/Sheet3!$F$1","v":0},{"$f":"+Sheet3!BA21/Sheet3!$F$1","v":0},{"$f":"+Sheet3!BB21/Sheet3!$F$1","v":0},{"$f":"+Sheet3!BC21/Sheet3!$F$1","v":0},{"$f":"+Sheet3!BD21/Sheet3!$F$1","v":0},{"$f":"+Sheet3!BE21/Sheet3!$F$1","v":0},{"$f":"+Sheet3!BF21/Sheet3!$F$1","v":0},{"$f":"+Sheet3!BG21/Sheet3!$F$1","v":0},{"$f":"+Sheet3!BH21/Sheet3!$F$1","v":0},{"$f":"+Sheet3!BI21/Sheet3!$F$1","v":0},{"$f":"+Sheet3!BJ21/Sheet3!$F$1","v":0},{"$f":"+Sheet3!BK21/Sheet3!$F$1","v":0},{"$f":"+Sheet3!BL21/Sheet3!$F$1","v":0},{"$f":"+Sheet3!BM21/Sheet3!$F$1","v":0},{"$f":"+Sheet3!BN21/Sheet3!$F$1","v":0},{"$f":"+Sheet3!BO21/Sheet3!$F$1","v":3.8860399999999999},{"$f":"+Sheet3!BP21/Sheet3!$F$1","v":0},{"$f":"+Sheet3!BQ21/Sheet3!$F$1","v":0},{"$f":"+Sheet3!BR21/Sheet3!$F$1","v":0},{"$f":"+Sheet3!BS21/Sheet3!$F$1","v":33.504280000000001},{"$f":"+Sheet3!BT21/Sheet3!$F$1","v":82.007739999999998},{"$f":"+Sheet3!BU21/Sheet3!$F$1","v":9.2710600000000003},{"$f":"+Sheet3!BV21/Sheet3!$F$1","v":0},{"$f":"+Sheet3!BW21/Sheet3!$F$1","v":0.1085},{"$f":"+Sheet3!BX21/Sheet3!$F$1","v":21.883179999999999},{"$f":"+Sheet3!BY21/Sheet3!$F$1","v":44.594610000000003},{"$f":"+Sheet3!BZ21/Sheet3!$F$1","v":13.03215},{"$f":"+Sheet3!CA21/Sheet3!$F$1","v":0},{"$f":"+Sheet3!CB21/Sheet3!$F$1","v":0},{"$f":"+Sheet3!CC21/Sheet3!$F$1","v":1.6811800000000001},{"$f":"+Sheet3!CD21/Sheet3!$F$1","v":3.6815500000000001},{"$f":"+Sheet3!CE21/Sheet3!$F$1","v":0},{"$f":"+Sheet3!CF21/Sheet3!$F$1","v":0},{"$f":"+Sheet3!CG21/Sheet3!$F$1","v":0},{"$f":"+Sheet3!CH21/Sheet3!$F$1","v":0},{"$f":"+Sheet3!CI21/Sheet3!$F$1","v":0},{"$f":"+Sheet3!CJ21/Sheet3!$F$1","v":0},{"$f":"+Sheet3!CK21/Sheet3!$F$1","v":0},{"$f":"+Sheet3!CL21/Sheet3!$F$1","v":0},{"$f":"+Sheet3!CM21/Sheet3!$F$1","v":0},{"$f":"+Sheet3!CN21/Sheet3!$F$1","v":0},{"$f":"+Sheet3!CO21/Sheet3!$F$1","v":0},{"$f":"+Sheet3!CP21/Sheet3!$F$1","v":0},{"$f":"+Sheet3!CQ21/Sheet3!$F$1","v":0},{"$f":"+Sheet3!CR21/Sheet3!$F$1","v":0},{"$f":"+Sheet3!CS21/Sheet3!$F$1","v":0},{"$f":"+Sheet3!CT21/Sheet3!$F$1","v":0},{"$f":"+Sheet3!CU21/Sheet3!$F$1","v":0},{"$f":"+Sheet3!CV21/Sheet3!$F$1","v":0},{"$f":"+Sheet3!CW21/Sheet3!$F$1","v":7.3538300000000003},{"$f":"+Sheet3!CX21/Sheet3!$F$1","v":0},{"$f":"+Sheet3!CY21/Sheet3!$F$1","v":2.4717899999999999},{"$f":"+Sheet3!CZ21/Sheet3!$F$1","v":0.26750000000000002},{"$f":"+Sheet3!DA21/Sheet3!$F$1","v":0},{"$f":"+Sheet3!DB21/Sheet3!$F$1","v":2.0472999999999999},{"$f":"+Sheet3!DC21/Sheet3!$F$1","v":0},{"$f":"+Sheet3!DD21/Sheet3!$F$1","v":0},{"$f":"+Sheet3!DE21/Sheet3!$F$1","v":0},{"$f":"+Sheet3!DF21/Sheet3!$F$1","v":0},{"$f":"+Sheet3!DG21/Sheet3!$F$1","v":3.8860399999999999},{"$f":"+Sheet3!DH21/Sheet3!$F$1","v":124.78308},{"$f":"+Sheet3!DI21/Sheet3!$F$1","v":79.618440000000007},{"$f":"+Sheet3!DJ21/Sheet3!$F$1","v":5.3627300000000009},{"$f":"+Sheet3!DK21/Sheet3!$F$1","v":0},{"$f":"+Sheet3!DL21/Sheet3!$F$1","v":0},{"$f":"+Sheet3!DM21/Sheet3!$F$1","v":0},{"$f":"+Sheet3!DN21/Sheet3!$F$1","v":0},{"$f":"+Sheet3!DO21/Sheet3!$F$1","v":0.1085},{"$f":"+Sheet3!DP21/Sheet3!$F$1","v":59.807929999999999},{"$f":"+Sheet3!DQ21/Sheet3!$F$1","v":143.57107000000002},{"$f":"+Sheet3!DR21/Sheet3!$F$1","v":22.30321},225.79071000000002]
[null,"16I","Médio Tejo",{"$f":"+Sheet3!D22/Sheet3!$F$1","v":0},{"$f":"+Sheet3!E22/Sheet3!$F$1","v":0},{"$f":"+Sheet3!F22/Sheet3!$F$1","v":0},{"$f":"+Sheet3!G22/Sheet3!$F$1","v":0},{"$f":"+Sheet3!H22/Sheet3!$F$1","v":0},{"$f":"+Sheet3!I22/Sheet3!$F$1","v":0},{"$f":"+Sheet3!J22/Sheet3!$F$1","v":0},{"$f":"+Sheet3!K22/Sheet3!$F$1","v":0},{"$f":"+Sheet3!L22/Sheet3!$F$1","v":0},{"$f":"+Sheet3!M22/Sheet3!$F$1","v":0},{"$f":"+Sheet3!N22/Sheet3!$F$1","v":0},{"$f":"+Sheet3!O22/Sheet3!$F$1","v":0},{"$f":"+Sheet3!P22/Sheet3!$F$1","v":0},{"$f":"+Sheet3!Q22/Sheet3!$F$1","v":0},{"$f":"+Sheet3!R22/Sheet3!$F$1","v":0},{"$f":"+Sheet3!S22/Sheet3!$F$1","v":0},{"$f":"+Sheet3!T22/Sheet3!$F$1","v":0},{"$f":"+Sheet3!U22/Sheet3!$F$1","v":0},{"$f":"+Sheet3!V22/Sheet3!$F$1","v":0},{"$f":"+Sheet3!W22/Sheet3!$F$1","v":0},{"$f":"+Sheet3!X22/Sheet3!$F$1","v":0},{"$f":"+Sheet3!Y22/Sheet3!$F$1","v":0},{"$f":"+Sheet3!Z22/Sheet3!$F$1","v":0},{"$f":"+Sheet3!AA22/Sheet3!$F$1","v":0},{"$f":"+Sheet3!AB22/Sheet3!$F$1","v":0},{"$f":"+Sheet3!AC22/Sheet3!$F$1","v":0},{"$f":"+Sheet3!AD22/Sheet3!$F$1","v":0},{"$f":"+Sheet3!AE22/Sheet3!$F$1","v":0},{"$f":"+Sheet3!AF22/Sheet3!$F$1","v":0},{"$f":"+Sheet3!AG22/Sheet3!$F$1","v":0},{"$f":"+Sheet3!AH22/Sheet3!$F$1","v":0},{"$f":"+Sheet3!AI22/Sheet3!$F$1","v":0},{"$f":"+Sheet3!AJ22/Sheet3!$F$1","v":0},{"$f":"+Sheet3!AK22/Sheet3!$F$1","v":0},{"$f":"+Sheet3!AL22/Sheet3!$F$1","v":0},{"$f":"+Sheet3!AM22/Sheet3!$F$1","v":0},{"$f":"+Sheet3!AN22/Sheet3!$F$1","v":0},{"$f":"+Sheet3!AO22/Sheet3!$F$1","v":0.90773999999999999},{"$f":"+Sheet3!AP22/Sheet3!$F$1","v":0},{"$f":"+Sheet3!AQ22/Sheet3!$F$1","v":0},{"$f":"+Sheet3!AR22/Sheet3!$F$1","v":0},{"$f":"+Sheet3!AS22/Sheet3!$F$1","v":0},{"$f":"+Sheet3!AT22/Sheet3!$F$1","v":0},{"$f":"+Sheet3!AU22/Sheet3!$F$1","v":0},{"$f":"+Sheet3!AV22/Sheet3!$F$1","v":0},{"$f":"+Sheet3!AW22/Sheet3!$F$1","v":0},{"$f":"+Sheet3!AX22/Sheet3!$F$1","v":0},{"$f":"+Sheet3!AY22/Sheet3!$F$1","v":0},{"$f":"+Sheet3!AZ22/Sheet3!$F$1","v":0},{"$f":"+Sheet3!BA22/Sheet3!$F$1","v":0},{"$f":"+Sheet3!BB22/Sheet3!$F$1","v":0},{"$f":"+Sheet3!BC22/Sheet3!$F$1","v":0},{"$f":"+Sheet3!BD22/Sheet3!$F$1","v":0},{"$f":"+Sheet3!BE22/Sheet3!$F$1","v":0},{"$f":"+Sheet3!BF22/Sheet3!$F$1","v":0},{"$f":"+Sheet3!BG22/Sheet3!$F$1","v":0},{"$f":"+Sheet3!BH22/Sheet3!$F$1","v":0},{"$f":"+Sheet3!BI22/Sheet3!$F$1","v":0},{"$f":"+Sheet3!BJ22/Sheet3!$F$1","v":0},{"$f":"+Sheet3!BK22/Sheet3!$F$1","v":0},{"$f":"+Sheet3!BL22/Sheet3!$F$1","v":0},{"$f":"+Sheet3!BM22/Sheet3!$F$1","v":0},{"$f":"+Sheet3!BN22/Sheet3!$F$1","v":0},{"$f":"+Sheet3!BO22/Sheet3!$F$1","v":0},{"$f":"+Sheet3!BP22/Sheet3!$F$1","v":0},{"$f":"+Sheet3!BQ22/Sheet3!$F$1","v":0},{"$f":"+Sheet3!BR22/Sheet3!$F$1","v":0},{"$f":"+Sheet3!BS22/Sheet3!$F$1","v":0},{"$f":"+Sheet3!BT22/Sheet3!$F$1","v":5.4201999999999995},{"$f":"+Sheet3!BU22/Sheet3!$F$1","v":0},{"$f":"+Sheet3!BV22/Sheet3!$F$1","v":0},{"$f":"+Sheet3!BW22/Sheet3!$F$1","v":0},{"$f":"+Sheet3!BX22/Sheet3!$F$1","v":8.6905599999999996},{"$f":"+Sheet3!BY22/Sheet3!$F$1","v":0},{"$f":"+Sheet3!BZ22/Sheet3!$F$1","v":0},{"$f":"+Sheet3!CA22/Sheet3!$F$1","v":0},{"$f":"+Sheet3!CB22/Sheet3!$F$1","v":0},{"$f":"+Sheet3!CC22/Sheet3!$F$1","v":0},{"$f":"+Sheet3!CD22/Sheet3!$F$1","v":7.3073399999999999},{"$f":"+Sheet3!CE22/Sheet3!$F$1","v":3.7608999999999999},{"$f":"+Sheet3!CF22/Sheet3!$F$1","v":0},{"$f":"+Sheet3!CG22/Sheet3!$F$1","v":0},{"$f":"+Sheet3!CH22/Sheet3!$F$1","v":0},{"$f":"+Sheet3!CI22/Sheet3!$F$1","v":0},{"$f":"+Sheet3!CJ22/Sheet3!$F$1","v":0},{"$f":"+Sheet3!CK22/Sheet3!$F$1","v":0},{"$f":"+Sheet3!CL22/Sheet3!$F$1","v":0},{"$f":"+Sheet3!CM22/Sheet3!$F$1","v":0},{"$f":"+Sheet3!CN22/Sheet3!$F$1","v":0},{"$f":"+Sheet3!CO22/Sheet3!$F$1","v":0},{"$f":"+Sheet3!CP22/Sheet3!$F$1","v":0},{"$f":"+Sheet3!CQ22/Sheet3!$F$1","v":0},{"$f":"+Sheet3!CR22/Sheet3!$F$1","v":0},{"$f":"+Sheet3!CS22/Sheet3!$F$1","v":0},{"$f":"+Sheet3!CT22/Sheet3!$F$1","v":0},{"$f":"+Sheet3!CU22/Sheet3!$F$1","v":0},{"$f":"+Sheet3!CV22/Sheet3!$F$1","v":0},{"$f":"+Sheet3!CW22/Sheet3!$F$1","v":0},{"$f":"+Sheet3!CX22/Sheet3!$F$1","v":0},{"$f":"+Sheet3!CY22/Sheet3!$F$1","v":0},{"$f":"+Sheet3!CZ22/Sheet3!$F$1","v":0},{"$f":"+Sheet3!DA22/Sheet3!$F$1","v":0},{"$f":"+Sheet3!DB22/Sheet3!$F$1","v":0.90773999999999999},{"$f":"+Sheet3!DC22/Sheet3!$F$1","v":0},{"$f":"+Sheet3!DD22/Sheet3!$F$1","v":0},{"$f":"+Sheet3!DE22/Sheet3!$F$1","v":0},{"$f":"+Sheet3!DF22/Sheet3!$F$1","v":0},{"$f":"+Sheet3!DG22/Sheet3!$F$1","v":0},{"$f":"+Sheet3!DH22/Sheet3!$F$1","v":5.4201999999999995},{"$f":"+Sheet3!DI22/Sheet3!$F$1","v":8.6905599999999996},{"$f":"+Sheet3!DJ22/Sheet3!$F$1","v":11.068239999999999},{"$f":"+Sheet3!DK22/Sheet3!$F$1","v":0},{"$f":"+Sheet3!DL22/Sheet3!$F$1","v":0},{"$f":"+Sheet3!DM22/Sheet3!$F$1","v":0},{"$f":"+Sheet3!DN22/Sheet3!$F$1","v":0},{"$f":"+Sheet3!DO22/Sheet3!$F$1","v":0},{"$f":"+Sheet3!DP22/Sheet3!$F$1","v":9.5983000000000001},{"$f":"+Sheet3!DQ22/Sheet3!$F$1","v":12.727540000000001},{"$f":"+Sheet3!DR22/Sheet3!$F$1","v":3.7608999999999999},26.086739999999999]
[null,"16J","Beiras e Serra da Estrela",{"$f":"+Sheet3!D23/Sheet3!$F$1","v":0},{"$f":"+Sheet3!E23/Sheet3!$F$1","v":0},{"$f":"+Sheet3!F23/Sheet3!$F$1","v":0},{"$f":"+Sheet3!G23/Sheet3!$F$1","v":0},{"$f":"+Sheet3!H23/Sheet3!$F$1","v":0},{"$f":"+Sheet3!I23/Sheet3!$F$1","v":0},{"$f":"+Sheet3!J23/Sheet3!$F$1","v":0},{"$f":"+Sheet3!K23/Sheet3!$F$1","v":0},{"$f":"+Sheet3!L23/Sheet3!$F$1","v":0},{"$f":"+Sheet3!M23/Sheet3!$F$1","v":0},{"$f":"+Sheet3!N23/Sheet3!$F$1","v":0},{"$f":"+Sheet3!O23/Sheet3!$F$1","v":0},{"$f":"+Sheet3!P23/Sheet3!$F$1","v":0},{"$f":"+Sheet3!Q23/Sheet3!$F$1","v":0},{"$f":"+Sheet3!R23/Sheet3!$F$1","v":0},{"$f":"+Sheet3!S23/Sheet3!$F$1","v":0},{"$f":"+Sheet3!T23/Sheet3!$F$1","v":0},{"$f":"+Sheet3!U23/Sheet3!$F$1","v":0},{"$f":"+Sheet3!V23/Sheet3!$F$1","v":0},{"$f":"+Sheet3!W23/Sheet3!$F$1","v":0},{"$f":"+Sheet3!X23/Sheet3!$F$1","v":0},{"$f":"+Sheet3!Y23/Sheet3!$F$1","v":0},{"$f":"+Sheet3!Z23/Sheet3!$F$1","v":0},{"$f":"+Sheet3!AA23/Sheet3!$F$1","v":0},{"$f":"+Sheet3!AB23/Sheet3!$F$1","v":0},{"$f":"+Sheet3!AC23/Sheet3!$F$1","v":0},{"$f":"+Sheet3!AD23/Sheet3!$F$1","v":0.187},{"$f":"+Sheet3!AE23/Sheet3!$F$1","v":1.54111},{"$f":"+Sheet3!AF23/Sheet3!$F$1","v":0},{"$f":"+Sheet3!AG23/Sheet3!$F$1","v":0},{"$f":"+Sheet3!AH23/Sheet3!$F$1","v":0},{"$f":"+Sheet3!AI23/Sheet3!$F$1","v":0.40400000000000003},{"$f":"+Sheet3!AJ23/Sheet3!$F$1","v":0},{"$f":"+Sheet3!AK23/Sheet3!$F$1","v":0},{"$f":"+Sheet3!AL23/Sheet3!$F$1","v":0},{"$f":"+Sheet3!AM23/Sheet3!$F$1","v":0},{"$f":"+Sheet3!AN23/Sheet3!$F$1","v":0},{"$f":"+Sheet3!AO23/Sheet3!$F$1","v":0},{"$f":"+Sheet3!AP23/Sheet3!$F$1","v":0},{"$f":"+Sheet3!AQ23/Sheet3!$F$1","v":0},{"$f":"+Sheet3!AR23/Sheet3!$F$1","v":0},{"$f":"+Sheet3!AS23/Sheet3!$F$1","v":0},{"$f":"+Sheet3!AT23/Sheet3!$F$1","v":0},{"$f":"+Sheet3!AU23/Sheet3!$F$1","v":0},{"$f":"+Sheet3!AV23/Sheet3!$F$1","v":0},{"$f":"+Sheet3!AW23/Sheet3!$F$1","v":0},{"$f":"+Sheet3!AX23/Sheet3!$F$1","v":0.36869999999999997},{"$f":"+Sheet3!AY23/Sheet3!$F$1","v":0},{"$f":"+Sheet3!AZ23/Sheet3!$F$1","v":0},{"$f":"+Sheet3!BA23/Sheet3!$F$1","v":0},{"$f":"+Sheet3!BB23/Sheet3!$F$1","v":0},{"$f":"+Sheet3!BC23/Sheet3!$F$1","v":0},{"$f":"+Sheet3!BD23/Sheet3!$F$1","v":0},{"$f":"+Sheet3!BE23/Sheet3!$F$1","v":0},{"$f":"+Sheet3!BF23/Sheet3!$F$1","v":0},{"$f":"+Sheet3!BG23/Sheet3!$F$1","v":0},{"$f":"+Sheet3!BH23/Sheet3!$F$1","v":0},{"$f":"+Sheet3!BI23/Sheet3!$F$1","v":0},{"$f":"+Sheet3!BJ23/Sheet3!$F$1","v":0},{"$f":"+Sheet3!BK23/Sheet3!$F$1","v":0},{"$f":"+Sheet3!BL23/Sheet3!$F$1","v":0},{"$f":"+Sheet3!BM23/Sheet3!$F$1","v":0},{"$f":"+Sheet3!BN23/Sheet3!$F$1","v":0},{"$f":"+Sheet3!BO23/Sheet3!$F$1","v":0},{"$f":"+Sheet3!BP23/Sheet3!$F$1","v":0},{"$f":"+Sheet3!BQ23/Sheet3!$F$1","v":0},{"$f":"+Sheet3!BR23/Sheet3!$F$1","v":0.17927000000000001},{"$f":"+Sheet3!BS23/Sheet3!$F$1","v":39.362629999999996},{"$f":"+Sheet3!BT23/Sheet3!$F$1","v":12.5107},{"$f":"+Sheet3!BU23/Sheet3!$F$1","v":0},{"$f":"+Sheet3!BV23/Sheet3!$F$1","v":0},{"$f":"+Sheet3!BW23/Sheet3!$F$1","v":0.49404999999999999},{"$f":"+Sheet3!BX23/Sheet3!$F$1","v":5.2908299999999997},{"$f":"+Sheet3!BY23/Sheet3!$F$1","v":0.85720000000000007},{"$f":"+Sheet3!BZ23/Sheet3!$F$1","v":0},{"$f":"+Sheet3!CA23/Sheet3!$F$1","v":9.35E-2},{"$f":"+Sheet3!CB23/Sheet3!$F$1","v":0.47788999999999998},{"$f":"+Sheet3!CC23/Sheet3!$F$1","v":1.3271999999999999},{"$f":"+Sheet3!CD23/Sheet3!$F$1","v":0},{"$f":"+Sheet3!CE23/Sheet3!$F$1","v":0},{"$f":"+Sheet3!CF23/Sheet3!$F$1","v":0},{"$f":"+Sheet3!CG23/Sheet3!$F$1","v":0},{"$f":"+Sheet3!CH23/Sheet3!$F$1","v":0},{"$f":"+Sheet3!CI23/Sheet3!$F$1","v":0},{"$f":"+Sheet3!CJ23/Sheet3!$F$1","v":0},{"$f":"+Sheet3!CK23/Sheet3!$F$1","v":0},{"$f":"+Sheet3!CL23/Sheet3!$F$1","v":0},{"$f":"+Sheet3!CM23/Sheet3!$F$1","v":0},{"$f":"+Sheet3!CN23/Sheet3!$F$1","v":0},{"$f":"+Sheet3!CO23/Sheet3!$F$1","v":0},{"$f":"+Sheet3!CP23/Sheet3!$F$1","v":0},{"$f":"+Sheet3!CQ23/Sheet3!$F$1","v":0},{"$f":"+Sheet3!CR23/Sheet3!$F$1","v":0},{"$f":"+Sheet3!CS23/Sheet3!$F$1","v":0},{"$f":"+Sheet3!CT23/Sheet3!$F$1","v":0},{"$f":"+Sheet3!CU23/Sheet3!$F$1","v":0},{"$f":"+Sheet3!CV23/Sheet3!$F$1","v":0},{"$f":"+Sheet3!CW23/Sheet3!$F$1","v":0},{"$f":"+Sheet3!CX23/Sheet3!$F$1","v":0},{"$f":"+Sheet3!CY23/Sheet3!$F$1","v":0},{"$f":"+Sheet3!CZ23/Sheet3!$F$1","v":1.7281099999999998},{"$f":"+Sheet3!DA23/Sheet3!$F$1","v":0.40400000000000003},{"$f":"+Sheet3!DB23/Sheet3!$F$1","v":0},{"$f":"+Sheet3!DC23/Sheet3!$F$1","v":0},{"$f":"+Sheet3!DD23/Sheet3!$F$1","v":0.36869999999999997},{"$f":"+Sheet3!DE23/Sheet3!$F$1","v":0},{"$f":"+Sheet3!DF23/Sheet3!$F$1","v":0},{"$f":"+Sheet3!DG23/Sheet3!$F$1","v":0},{"$f":"+Sheet3!DH23/Sheet3!$F$1","v":52.052599999999991},{"$f":"+Sheet3!DI23/Sheet3!$F$1","v":6.64208},{"$f":"+Sheet3!DJ23/Sheet3!$F$1","v":1.8985900000000002},{"$f":"+Sheet3!DK23/Sheet3!$F$1","v":0},{"$f":"+Sheet3!DL23/Sheet3!$F$1","v":0},{"$f":"+Sheet3!DM23/Sheet3!$F$1","v":0},{"$f":"+Sheet3!DN23/Sheet3!$F$1","v":9.35E-2},{"$f":"+Sheet3!DO23/Sheet3!$F$1","v":2.1109100000000001},{"$f":"+Sheet3!DP23/Sheet3!$F$1","v":47.521769999999997},{"$f":"+Sheet3!DQ23/Sheet3!$F$1","v":13.367900000000002},{"$f":"+Sheet3!DR23/Sheet3!$F$1","v":0},63.094080000000005]
["AML","170","Área Metropolitana de Lisboa",{"$f":"+Sheet3!D24/Sheet3!$F$1","v":0},{"$f":"+Sheet3!E24/Sheet3!$F$1","v":0},{"$f":"+Sheet3!F24/Sheet3!$F$1","v":0},{"$f":"+Sheet3!G24/Sheet3!$F$1","v":0},{"$f":"+Sheet3!H24/Sheet3!$F$1","v":0},{"$f":"+Sheet3!I24/Sheet3!$F$1","v":0},{"$f":"+Sheet3!J24/Sheet3!$F$1","v":0},{"$f":"+Sheet3!K24/Sheet3!$F$1","v":0},{"$f":"+Sheet3!L24/Sheet3!$F$1","v":0},{"$f":"+Sheet3!M24/Sheet3!$F$1","v":0},{"$f":"+Sheet3!N24/Sheet3!$F$1","v":0},{"$f":"+Sheet3!O24/Sheet3!$F$1","v":0},{"$f":"+Sheet3!P24/Sheet3!$F$1","v":0},{"$f":"+Sheet3!Q24/Sheet3!$F$1","v":0},{"$f":"+Sheet3!R24/Sheet3!$F$1","v":0},{"$f":"+Sheet3!S24/Sheet3!$F$1","v":0},{"$f":"+Sheet3!T24/Sheet3!$F$1","v":0},{"$f":"+Sheet3!U24/Sheet3!$F$1","v":0},{"$f":"+Sheet3!V24/Sheet3!$F$1","v":0},{"$f":"+Sheet3!W24/Sheet3!$F$1","v":0},{"$f":"+Sheet3!X24/Sheet3!$F$1","v":0},{"$f":"+Sheet3!Y24/Sheet3!$F$1","v":0},{"$f":"+Sheet3!Z24/Sheet3!$F$1","v":0},{"$f":"+Sheet3!AA24/Sheet3!$F$1","v":0},{"$f":"+Sheet3!AB24/Sheet3!$F$1","v":0},{"$f":"+Sheet3!AC24/Sheet3!$F$1","v":0},{"$f":"+Sheet3!AD24/Sheet3!$F$1","v":0},{"$f":"+Sheet3!AE24/Sheet3!$F$1","v":0},{"$f":"+Sheet3!AF24/Sheet3!$F$1","v":3.4193500000000001},{"$f":"+Sheet3!AG24/Sheet3!$F$1","v":0},{"$f":"+Sheet3!AH24/Sheet3!$F$1","v":0},{"$f":"+Sheet3!AI24/Sheet3!$F$1","v":0},{"$f":"+Sheet3!AJ24/Sheet3!$F$1","v":0},{"$f":"+Sheet3!AK24/Sheet3!$F$1","v":0},{"$f":"+Sheet3!AL24/Sheet3!$F$1","v":0},{"$f":"+Sheet3!AM24/Sheet3!$F$1","v":0},{"$f":"+Sheet3!AN24/Sheet3!$F$1","v":0},{"$f":"+Sheet3!AO24/Sheet3!$F$1","v":0.13216},{"$f":"+Sheet3!AP24/Sheet3!$F$1","v":0},{"$f":"+Sheet3!AQ24/Sheet3!$F$1","v":0},{"$f":"+Sheet3!AR24/Sheet3!$F$1","v":0},{"$f":"+Sheet3!AS24/Sheet3!$F$1","v":0},{"$f":"+Sheet3!AT24/Sheet3!$F$1","v":0},{"$f":"+Sheet3!AU24/Sheet3!$F$1","v":0},{"$f":"+Sheet3!AV24/Sheet3!$F$1","v":0},{"$f":"+Sheet3!AW24/Sheet3!$F$1","v":0},{"$f":"+Sheet3!AX24/Sheet3!$F$1","v":0},{"$f":"+Sheet3!AY24/Sheet3!$F$1","v":0},{"$f":"+Sheet3!AZ24/Sheet3!$F$1","v":0},{"$f":"+Sheet3!BA24/Sheet3!$F$1","v":0},{"$f":"+Sheet3!BB24/Sheet3!$F$1","v":0},{"$f":"+Sheet3!BC24/Sheet3!$F$1","v":0},{"$f":"+Sheet3!BD24/Sheet3!$F$1","v":0},{"$f":"+Sheet3!BE24/Sheet3!$F$1","v":0},{"$f":"+Sheet3!BF24/Sheet3!$F$1","v":0},{"$f":"+Sheet3!BG24/Sheet3!$F$1","v":0},{"$f":"+Sheet3!BH24/Sheet3!$F$1","v":0},{"$f":"+Sheet3!BI24/Sheet3!$F$1","v":0},{"$f":"+Sheet3!BJ24/Sheet3!$F$1","v":0},{"$f":"+Sheet3!BK24/Sheet3!$F$1","v":0},{"$f":"+Sheet3!BL24/Sheet3!$F$1","v":0},{"$f":"+Sheet3!BM24/Sheet3!$F$1","v":0},{"$f":"+Sheet3!BN24/Sheet3!$F$1","v":0},{"$f":"+Sheet3!BO24/Sheet3!$F$1","v":0},{"$f":"+Sheet3!BP24/Sheet3!$F$1","v":0},{"$f":"+Sheet3!BQ24/Sheet3!$F$1","v":0},{"$f":"+Sheet3!BR24/Sheet3!$F$1","v":0},{"$f":"+Sheet3!BS24/Sheet3!$F$1","v":5.6881300000000001},{"$f":"+Sheet3!BT24/Sheet3!$F$1","v":14.249090000000001},{"$f":"+Sheet3!BU24/Sheet3!$F$1","v":8.77},{"$f":"+Sheet3!BV24/Sheet3!$F$1","v":0},{"$f":"+Sheet3!BW24/Sheet3!$F$1","v":0},{"$f":"+Sheet3!BX24/Sheet3!$F$1","v":0},{"$f":"+Sheet3!BY24/Sheet3!$F$1","v":0},{"$f":"+Sheet3!BZ24/Sheet3!$F$1","v":0},{"$f":"+Sheet3!CA24/Sheet3!$F$1","v":0},{"$f":"+Sheet3!CB24/Sheet3!$F$1","v":0},{"$f":"+Sheet3!CC24/Sheet3!$F$1","v":0},{"$f":"+Sheet3!CD24/Sheet3!$F$1","v":28.263560000000002},{"$f":"+Sheet3!CE24/Sheet3!$F$1","v":6.43262},{"$f":"+Sheet3!CF24/Sheet3!$F$1","v":0},{"$f":"+Sheet3!CG24/Sheet3!$F$1","v":0},{"$f":"+Sheet3!CH24/Sheet3!$F$1","v":0},{"$f":"+Sheet3!CI24/Sheet3!$F$1","v":0},{"$f":"+Sheet3!CJ24/Sheet3!$F$1","v":0},{"$f":"+Sheet3!CK24/Sheet3!$F$1","v":0},{"$f":"+Sheet3!CL24/Sheet3!$F$1","v":0},{"$f":"+Sheet3!CM24/Sheet3!$F$1","v":0},{"$f":"+Sheet3!CN24/Sheet3!$F$1","v":0},{"$f":"+Sheet3!CO24/Sheet3!$F$1","v":0},{"$f":"+Sheet3!CP24/Sheet3!$F$1","v":0},{"$f":"+Sheet3!CQ24/Sheet3!$F$1","v":0},{"$f":"+Sheet3!CR24/Sheet3!$F$1","v":0},{"$f":"+Sheet3!CS24/Sheet3!$F$1","v":0},{"$f":"+Sheet3!CT24/Sheet3!$F$1","v":0},{"$f":"+Sheet3!CU24/Sheet3!$F$1","v":0},{"$f":"+Sheet3!CV24/Sheet3!$F$1","v":0},{"$f":"+Sheet3!CW24/Sheet3!$F$1","v":0},{"$f":"+Sheet3!CX24/Sheet3!$F$1","v":0},{"$f":"+Sheet3!CY24/Sheet3!$F$1","v":0},{"$f":"+Sheet3!CZ24/Sheet3!$F$1","v":3.4193500000000001},{"$f":"+Sheet3!DA24/Sheet3!$F$1","v":0},{"$f":"+Sheet3!DB24/Sheet3!$F$1","v":0.13216},{"$f":"+Sheet3!DC24/Sheet3!$F$1","v":0},{"$f":"+Sheet3!DD24/Sheet3!$F$1","v":0},{"$f":"+Sheet3!DE24/Sheet3!$F$1","v":0},{"$f":"+Sheet3!DF24/Sheet3!$F$1","v":0},{"$f":"+Sheet3!DG24/Sheet3!$F$1","v":0},{"$f":"+Sheet3!DH24/Sheet3!$F$1","v":28.70722},{"$f":"+Sheet3!DI24/Sheet3!$F$1","v":0},{"$f":"+Sheet3!DJ24/Sheet3!$F$1","v":34.696179999999998},{"$f":"+Sheet3!DK24/Sheet3!$F$1","v":0},{"$f":"+Sheet3!DL24/Sheet3!$F$1","v":0},{"$f":"+Sheet3!DM24/Sheet3!$F$1","v":0},{"$f":"+Sheet3!DN24/Sheet3!$F$1","v":0},{"$f":"+Sheet3!DO24/Sheet3!$F$1","v":0},{"$f":"+Sheet3!DP24/Sheet3!$F$1","v":5.82029},{"$f":"+Sheet3!DQ24/Sheet3!$F$1","v":45.932000000000002},{"$f":"+Sheet3!DR24/Sheet3!$F$1","v":15.20262},66.954909999999998]
["Alentejo","181","Alentejo Litoral",{"$f":"+Sheet3!D25/Sheet3!$F$1","v":0},{"$f":"+Sheet3!E25/Sheet3!$F$1","v":0},{"$f":"+Sheet3!F25/Sheet3!$F$1","v":0},{"$f":"+Sheet3!G25/Sheet3!$F$1","v":0},{"$f":"+Sheet3!H25/Sheet3!$F$1","v":0},{"$f":"+Sheet3!I25/Sheet3!$F$1","v":0},{"$f":"+Sheet3!J25/Sheet3!$F$1","v":0},{"$f":"+Sheet3!K25/Sheet3!$F$1","v":0},{"$f":"+Sheet3!L25/Sheet3!$F$1","v":0},{"$f":"+Sheet3!M25/Sheet3!$F$1","v":2.9963600000000001},{"$f":"+Sheet3!N25/Sheet3!$F$1","v":0},{"$f":"+Sheet3!O25/Sheet3!$F$1","v":0},{"$f":"+Sheet3!P25/Sheet3!$F$1","v":0.86424999999999996},{"$f":"+Sheet3!Q25/Sheet3!$F$1","v":0},{"$f":"+Sheet3!R25/Sheet3!$F$1","v":0},{"$f":"+Sheet3!S25/Sheet3!$F$1","v":0},{"$f":"+Sheet3!T25/Sheet3!$F$1","v":0},{"$f":"+Sheet3!U25/Sheet3!$F$1","v":0},{"$f":"+Sheet3!V25/Sheet3!$F$1","v":0},{"$f":"+Sheet3!W25/Sheet3!$F$1","v":0},{"$f":"+Sheet3!X25/Sheet3!$F$1","v":0},{"$f":"+Sheet3!Y25/Sheet3!$F$1","v":0},{"$f":"+Sheet3!Z25/Sheet3!$F$1","v":2.1104499999999997},{"$f":"+Sheet3!AA25/Sheet3!$F$1","v":0},{"$f":"+Sheet3!AB25/Sheet3!$F$1","v":0},{"$f":"+Sheet3!AC25/Sheet3!$F$1","v":0},{"$f":"+Sheet3!AD25/Sheet3!$F$1","v":0},{"$f":"+Sheet3!AE25/Sheet3!$F$1","v":2.2894000000000001},{"$f":"+Sheet3!AF25/Sheet3!$F$1","v":0.66170000000000007},{"$f":"+Sheet3!AG25/Sheet3!$F$1","v":0},{"$f":"+Sheet3!AH25/Sheet3!$F$1","v":0},{"$f":"+Sheet3!AI25/Sheet3!$F$1","v":0},{"$f":"+Sheet3!AJ25/Sheet3!$F$1","v":0},{"$f":"+Sheet3!AK25/Sheet3!$F$1","v":0},{"$f":"+Sheet3!AL25/Sheet3!$F$1","v":0},{"$f":"+Sheet3!AM25/Sheet3!$F$1","v":0},{"$f":"+Sheet3!AN25/Sheet3!$F$1","v":4.2849999999999999E-2},{"$f":"+Sheet3!AO25/Sheet3!$F$1","v":4.0323400000000005},{"$f":"+Sheet3!AP25/Sheet3!$F$1","v":12.636049999999999},{"$f":"+Sheet3!AQ25/Sheet3!$F$1","v":0},{"$f":"+Sheet3!AR25/Sheet3!$F$1","v":0},{"$f":"+Sheet3!AS25/Sheet3!$F$1","v":0},{"$f":"+Sheet3!AT25/Sheet3!$F$1","v":0},{"$f":"+Sheet3!AU25/Sheet3!$F$1","v":0},{"$f":"+Sheet3!AV25/Sheet3!$F$1","v":0},{"$f":"+Sheet3!AW25/Sheet3!$F$1","v":0},{"$f":"+Sheet3!AX25/Sheet3!$F$1","v":0},{"$f":"+Sheet3!AY25/Sheet3!$F$1","v":4.1038999999999994},{"$f":"+Sheet3!AZ25/Sheet3!$F$1","v":5.12425},{"$f":"+Sheet3!BA25/Sheet3!$F$1","v":6.9357499999999996},{"$f":"+Sheet3!BB25/Sheet3!$F$1","v":0},{"$f":"+Sheet3!BC25/Sheet3!$F$1","v":0},{"$f":"+Sheet3!BD25/Sheet3!$F$1","v":0},{"$f":"+Sheet3!BE25/Sheet3!$F$1","v":0},{"$f":"+Sheet3!BF25/Sheet3!$F$1","v":0},{"$f":"+Sheet3!BG25/Sheet3!$F$1","v":0},{"$f":"+Sheet3!BH25/Sheet3!$F$1","v":0},{"$f":"+Sheet3!BI25/Sheet3!$F$1","v":0},{"$f":"+Sheet3!BJ25/Sheet3!$F$1","v":0.59277000000000002},{"$f":"+Sheet3!BK25/Sheet3!$F$1","v":0},{"$f":"+Sheet3!BL25/Sheet3!$F$1","v":0},{"$f":"+Sheet3!BM25/Sheet3!$F$1","v":0},{"$f":"+Sheet3!BN25/Sheet3!$F$1","v":0},{"$f":"+Sheet3!BO25/Sheet3!$F$1","v":1.83456},{"$f":"+Sheet3!BP25/Sheet3!$F$1","v":0},{"$f":"+Sheet3!BQ25/Sheet3!$F$1","v":0},{"$f":"+Sheet3!BR25/Sheet3!$F$1","v":0},{"$f":"+Sheet3!BS25/Sheet3!$F$1","v":29.76379},{"$f":"+Sheet3!BT25/Sheet3!$F$1","v":112.23699000000001},{"$f":"+Sheet3!BU25/Sheet3!$F$1","v":32.478139999999996},{"$f":"+Sheet3!BV25/Sheet3!$F$1","v":0},{"$f":"+Sheet3!BW25/Sheet3!$F$1","v":2.1522600000000001},{"$f":"+Sheet3!BX25/Sheet3!$F$1","v":42.625540000000001},{"$f":"+Sheet3!BY25/Sheet3!$F$1","v":42.265879999999996},{"$f":"+Sheet3!BZ25/Sheet3!$F$1","v":11.66492},{"$f":"+Sheet3!CA25/Sheet3!$F$1","v":0},{"$f":"+Sheet3!CB25/Sheet3!$F$1","v":0.14449999999999999},{"$f":"+Sheet3!CC25/Sheet3!$F$1","v":5.4265299999999996},{"$f":"+Sheet3!CD25/Sheet3!$F$1","v":93.207490000000007},{"$f":"+Sheet3!CE25/Sheet3!$F$1","v":35.69455},{"$f":"+Sheet3!CF25/Sheet3!$F$1","v":0},{"$f":"+Sheet3!CG25/Sheet3!$F$1","v":0},{"$f":"+Sheet3!CH25/Sheet3!$F$1","v":0},{"$f":"+Sheet3!CI25/Sheet3!$F$1","v":0},{"$f":"+Sheet3!CJ25/Sheet3!$F$1","v":0},{"$f":"+Sheet3!CK25/Sheet3!$F$1","v":0},{"$f":"+Sheet3!CL25/Sheet3!$F$1","v":0},{"$f":"+Sheet3!CM25/Sheet3!$F$1","v":0},{"$f":"+Sheet3!CN25/Sheet3!$F$1","v":0},{"$f":"+Sheet3!CO25/Sheet3!$F$1","v":0},{"$f":"+Sheet3!CP25/Sheet3!$F$1","v":0},{"$f":"+Sheet3!CQ25/Sheet3!$F$1","v":0},{"$f":"+Sheet3!CR25/Sheet3!$F$1","v":0},{"$f":"+Sheet3!CS25/Sheet3!$F$1","v":0},{"$f":"+Sheet3!CT25/Sheet3!$F$1","v":0},{"$f":"+Sheet3!CU25/Sheet3!$F$1","v":0},{"$f":"+Sheet3!CV25/Sheet3!$F$1","v":2.9963600000000001},{"$f":"+Sheet3!CW25/Sheet3!$F$1","v":0.86424999999999996},{"$f":"+Sheet3!CX25/Sheet3!$F$1","v":0},{"$f":"+Sheet3!CY25/Sheet3!$F$1","v":2.1104499999999997},{"$f":"+Sheet3!CZ25/Sheet3!$F$1","v":2.9511000000000003},{"$f":"+Sheet3!DA25/Sheet3!$F$1","v":0},{"$f":"+Sheet3!DB25/Sheet3!$F$1","v":16.711239999999997},{"$f":"+Sheet3!DC25/Sheet3!$F$1","v":0},{"$f":"+Sheet3!DD25/Sheet3!$F$1","v":16.163899999999998},{"$f":"+Sheet3!DE25/Sheet3!$F$1","v":0},{"$f":"+Sheet3!DF25/Sheet3!$F$1","v":0.59277000000000002},{"$f":"+Sheet3!DG25/Sheet3!$F$1","v":1.83456},{"$f":"+Sheet3!DH25/Sheet3!$F$1","v":174.47891999999999},{"$f":"+Sheet3!DI25/Sheet3!$F$1","v":98.70859999999999},{"$f":"+Sheet3!DJ25/Sheet3!$F$1","v":134.47307000000001},{"$f":"+Sheet3!DK25/Sheet3!$F$1","v":0},{"$f":"+Sheet3!DL25/Sheet3!$F$1","v":0},{"$f":"+Sheet3!DM25/Sheet3!$F$1","v":0},{"$f":"+Sheet3!DN25/Sheet3!$F$1","v":0},{"$f":"+Sheet3!DO25/Sheet3!$F$1","v":2.3396099999999995},{"$f":"+Sheet3!DP25/Sheet3!$F$1","v":91.216200000000001},{"$f":"+Sheet3!DQ25/Sheet3!$F$1","v":268.55968999999999},{"$f":"+Sheet3!DR25/Sheet3!$F$1","v":89.769720000000007},451.88522]
[null,"184","Baixo Alentejo",{"$f":"+Sheet3!D26/Sheet3!$F$1","v":0},{"$f":"+Sheet3!E26/Sheet3!$F$1","v":0},{"$f":"+Sheet3!F26/Sheet3!$F$1","v":0},{"$f":"+Sheet3!G26/Sheet3!$F$1","v":0},{"$f":"+Sheet3!H26/Sheet3!$F$1","v":0},{"$f":"+Sheet3!I26/Sheet3!$F$1","v":0},{"$f":"+Sheet3!J26/Sheet3!$F$1","v":0},{"$f":"+Sheet3!K26/Sheet3!$F$1","v":0},{"$f":"+Sheet3!L26/Sheet3!$F$1","v":0},{"$f":"+Sheet3!M26/Sheet3!$F$1","v":0},{"$f":"+Sheet3!N26/Sheet3!$F$1","v":0},{"$f":"+Sheet3!O26/Sheet3!$F$1","v":0},{"$f":"+Sheet3!P26/Sheet3!$F$1","v":0},{"$f":"+Sheet3!Q26/Sheet3!$F$1","v":4.4293000000000005},{"$f":"+Sheet3!R26/Sheet3!$F$1","v":8.0833100000000009},{"$f":"+Sheet3!S26/Sheet3!$F$1","v":0},{"$f":"+Sheet3!T26/Sheet3!$F$1","v":0},{"$f":"+Sheet3!U26/Sheet3!$F$1","v":0},{"$f":"+Sheet3!V26/Sheet3!$F$1","v":0},{"$f":"+Sheet3!W26/Sheet3!$F$1","v":0},{"$f":"+Sheet3!X26/Sheet3!$F$1","v":0},{"$f":"+Sheet3!Y26/Sheet3!$F$1","v":0},{"$f":"+Sheet3!Z26/Sheet3!$F$1","v":2.7028000000000003},{"$f":"+Sheet3!AA26/Sheet3!$F$1","v":2.2749000000000001},{"$f":"+Sheet3!AB26/Sheet3!$F$1","v":0},{"$f":"+Sheet3!AC26/Sheet3!$F$1","v":0},{"$f":"+Sheet3!AD26/Sheet3!$F$1","v":0},{"$f":"+Sheet3!AE26/Sheet3!$F$1","v":0.11566},{"$f":"+Sheet3!AF26/Sheet3!$F$1","v":7.52332},{"$f":"+Sheet3!AG26/Sheet3!$F$1","v":0},{"$f":"+Sheet3!AH26/Sheet3!$F$1","v":0},{"$f":"+Sheet3!AI26/Sheet3!$F$1","v":0},{"$f":"+Sheet3!AJ26/Sheet3!$F$1","v":1.73272},{"$f":"+Sheet3!AK26/Sheet3!$F$1","v":0},{"$f":"+Sheet3!AL26/Sheet3!$F$1","v":0},{"$f":"+Sheet3!AM26/Sheet3!$F$1","v":0},{"$f":"+Sheet3!AN26/Sheet3!$F$1","v":0},{"$f":"+Sheet3!AO26/Sheet3!$F$1","v":3.2287699999999999},{"$f":"+Sheet3!AP26/Sheet3!$F$1","v":2.7540999999999998},{"$f":"+Sheet3!AQ26/Sheet3!$F$1","v":0},{"$f":"+Sheet3!AR26/Sheet3!$F$1","v":0},{"$f":"+Sheet3!AS26/Sheet3!$F$1","v":0},{"$f":"+Sheet3!AT26/Sheet3!$F$1","v":1.2538499999999999},{"$f":"+Sheet3!AU26/Sheet3!$F$1","v":5.2918400000000005},{"$f":"+Sheet3!AV26/Sheet3!$F$1","v":0},{"$f":"+Sheet3!AW26/Sheet3!$F$1","v":0},{"$f":"+Sheet3!AX26/Sheet3!$F$1","v":0},{"$f":"+Sheet3!AY26/Sheet3!$F$1","v":4.19306},{"$f":"+Sheet3!AZ26/Sheet3!$F$1","v":12.25928},{"$f":"+Sheet3!BA26/Sheet3!$F$1","v":4.9059200000000001},{"$f":"+Sheet3!BB26/Sheet3!$F$1","v":0},{"$f":"+Sheet3!BC26/Sheet3!$F$1","v":0},{"$f":"+Sheet3!BD26/Sheet3!$F$1","v":0},{"$f":"+Sheet3!BE26/Sheet3!$F$1","v":0},{"$f":"+Sheet3!BF26/Sheet3!$F$1","v":0},{"$f":"+Sheet3!BG26/Sheet3!$F$1","v":0},{"$f":"+Sheet3!BH26/Sheet3!$F$1","v":0},{"$f":"+Sheet3!BI26/Sheet3!$F$1","v":1.5951900000000001},{"$f":"+Sheet3!BJ26/Sheet3!$F$1","v":1.2868599999999999},{"$f":"+Sheet3!BK26/Sheet3!$F$1","v":0},{"$f":"+Sheet3!BL26/Sheet3!$F$1","v":0},{"$f":"+Sheet3!BM26/Sheet3!$F$1","v":0},{"$f":"+Sheet3!BN26/Sheet3!$F$1","v":0},{"$f":"+Sheet3!BO26/Sheet3!$F$1","v":0},{"$f":"+Sheet3!BP26/Sheet3!$F$1","v":0},{"$f":"+Sheet3!BQ26/Sheet3!$F$1","v":0},{"$f":"+Sheet3!BR26/Sheet3!$F$1","v":0},{"$f":"+Sheet3!BS26/Sheet3!$F$1","v":105.04228999999999},{"$f":"+Sheet3!BT26/Sheet3!$F$1","v":265.42331000000001},{"$f":"+Sheet3!BU26/Sheet3!$F$1","v":71.623140000000006},{"$f":"+Sheet3!BV26/Sheet3!$F$1","v":0},{"$f":"+Sheet3!BW26/Sheet3!$F$1","v":0.499},{"$f":"+Sheet3!BX26/Sheet3!$F$1","v":59.941659999999999},{"$f":"+Sheet3!BY26/Sheet3!$F$1","v":88.528390000000002},{"$f":"+Sheet3!BZ26/Sheet3!$F$1","v":2.6812},{"$f":"+Sheet3!CA26/Sheet3!$F$1","v":0},{"$f":"+Sheet3!CB26/Sheet3!$F$1","v":0},{"$f":"+Sheet3!CC26/Sheet3!$F$1","v":22.855820000000001},{"$f":"+Sheet3!CD26/Sheet3!$F$1","v":106.39038000000001},{"$f":"+Sheet3!CE26/Sheet3!$F$1","v":45.274339999999995},{"$f":"+Sheet3!CF26/Sheet3!$F$1","v":0},{"$f":"+Sheet3!CG26/Sheet3!$F$1","v":0},{"$f":"+Sheet3!CH26/Sheet3!$F$1","v":0},{"$f":"+Sheet3!CI26/Sheet3!$F$1","v":0},{"$f":"+Sheet3!CJ26/Sheet3!$F$1","v":0},{"$f":"+Sheet3!CK26/Sheet3!$F$1","v":0},{"$f":"+Sheet3!CL26/Sheet3!$F$1","v":0},{"$f":"+Sheet3!CM26/Sheet3!$F$1","v":0},{"$f":"+Sheet3!CN26/Sheet3!$F$1","v":0},{"$f":"+Sheet3!CO26/Sheet3!$F$1","v":0},{"$f":"+Sheet3!CP26/Sheet3!$F$1","v":0},{"$f":"+Sheet3!CQ26/Sheet3!$F$1","v":0},{"$f":"+Sheet3!CR26/Sheet3!$F$1","v":0},{"$f":"+Sheet3!CS26/Sheet3!$F$1","v":0},{"$f":"+Sheet3!CT26/Sheet3!$F$1","v":0},{"$f":"+Sheet3!CU26/Sheet3!$F$1","v":0},{"$f":"+Sheet3!CV26/Sheet3!$F$1","v":0},{"$f":"+Sheet3!CW26/Sheet3!$F$1","v":12.51261},{"$f":"+Sheet3!CX26/Sheet3!$F$1","v":0},{"$f":"+Sheet3!CY26/Sheet3!$F$1","v":4.9777000000000005},{"$f":"+Sheet3!CZ26/Sheet3!$F$1","v":7.6389799999999992},{"$f":"+Sheet3!DA26/Sheet3!$F$1","v":1.73272},{"$f":"+Sheet3!DB26/Sheet3!$F$1","v":5.9828700000000001},{"$f":"+Sheet3!DC26/Sheet3!$F$1","v":6.5456900000000005},{"$f":"+Sheet3!DD26/Sheet3!$F$1","v":21.358260000000001},{"$f":"+Sheet3!DE26/Sheet3!$F$1","v":0},{"$f":"+Sheet3!DF26/Sheet3!$F$1","v":2.88205},{"$f":"+Sheet3!DG26/Sheet3!$F$1","v":0},{"$f":"+Sheet3!DH26/Sheet3!$F$1","v":442.08874000000003},{"$f":"+Sheet3!DI26/Sheet3!$F$1","v":151.65025000000003},{"$f":"+Sheet3!DJ26/Sheet3!$F$1","v":174.52054000000001},{"$f":"+Sheet3!DK26/Sheet3!$F$1","v":0},{"$f":"+Sheet3!DL26/Sheet3!$F$1","v":0},{"$f":"+Sheet3!DM26/Sheet3!$F$1","v":0},{"$f":"+Sheet3!DN26/Sheet3!$F$1","v":0},{"$f":"+Sheet3!DO26/Sheet3!$F$1","v":0.499},{"$f":"+Sheet3!DP26/Sheet3!$F$1","v":202.66182000000001},{"$f":"+Sheet3!DQ26/Sheet3!$F$1","v":496.16168000000005},{"$f":"+Sheet3!DR26/Sheet3!$F$1","v":132.56790999999998},831.89040999999997]
[null,"185","Lezíria do Tejo",{"$f":"+Sheet3!D27/Sheet3!$F$1","v":0},{"$f":"+Sheet3!E27/Sheet3!$F$1","v":0},{"$f":"+Sheet3!F27/Sheet3!$F$1","v":0},{"$f":"+Sheet3!G27/Sheet3!$F$1","v":0},{"$f":"+Sheet3!H27/Sheet3!$F$1","v":0},{"$f":"+Sheet3!I27/Sheet3!$F$1","v":0},{"$f":"+Sheet3!J27/Sheet3!$F$1","v":0},{"$f":"+Sheet3!K27/Sheet3!$F$1","v":0},{"$f":"+Sheet3!L27/Sheet3!$F$1","v":2.5288400000000002},{"$f":"+Sheet3!M27/Sheet3!$F$1","v":0},{"$f":"+Sheet3!N27/Sheet3!$F$1","v":0},{"$f":"+Sheet3!O27/Sheet3!$F$1","v":0},{"$f":"+Sheet3!P27/Sheet3!$F$1","v":0},{"$f":"+Sheet3!Q27/Sheet3!$F$1","v":0},{"$f":"+Sheet3!R27/Sheet3!$F$1","v":8.4817199999999993},{"$f":"+Sheet3!S27/Sheet3!$F$1","v":0},{"$f":"+Sheet3!T27/Sheet3!$F$1","v":0},{"$f":"+Sheet3!U27/Sheet3!$F$1","v":1.5016800000000001},{"$f":"+Sheet3!V27/Sheet3!$F$1","v":3.11605},{"$f":"+Sheet3!W27/Sheet3!$F$1","v":0},{"$f":"+Sheet3!X27/Sheet3!$F$1","v":0},{"$f":"+Sheet3!Y27/Sheet3!$F$1","v":0},{"$f":"+Sheet3!Z27/Sheet3!$F$1","v":0},{"$f":"+Sheet3!AA27/Sheet3!$F$1","v":0},{"$f":"+Sheet3!AB27/Sheet3!$F$1","v":0},{"$f":"+Sheet3!AC27/Sheet3!$F$1","v":0},{"$f":"+Sheet3!AD27/Sheet3!$F$1","v":0},{"$f":"+Sheet3!AE27/Sheet3!$F$1","v":0},{"$f":"+Sheet3!AF27/Sheet3!$F$1","v":0},{"$f":"+Sheet3!AG27/Sheet3!$F$1","v":0},{"$f":"+Sheet3!AH27/Sheet3!$F$1","v":0},{"$f":"+Sheet3!AI27/Sheet3!$F$1","v":0},{"$f":"+Sheet3!AJ27/Sheet3!$F$1","v":0},{"$f":"+Sheet3!AK27/Sheet3!$F$1","v":0},{"$f":"+Sheet3!AL27/Sheet3!$F$1","v":0},{"$f":"+Sheet3!AM27/Sheet3!$F$1","v":0},{"$f":"+Sheet3!AN27/Sheet3!$F$1","v":0},{"$f":"+Sheet3!AO27/Sheet3!$F$1","v":0},{"$f":"+Sheet3!AP27/Sheet3!$F$1","v":5.8851100000000001},{"$f":"+Sheet3!AQ27/Sheet3!$F$1","v":9.6230400000000014},{"$f":"+Sheet3!AR27/Sheet3!$F$1","v":0},{"$f":"+Sheet3!AS27/Sheet3!$F$1","v":0},{"$f":"+Sheet3!AT27/Sheet3!$F$1","v":0},{"$f":"+Sheet3!AU27/Sheet3!$F$1","v":0},{"$f":"+Sheet3!AV27/Sheet3!$F$1","v":0},{"$f":"+Sheet3!AW27/Sheet3!$F$1","v":0},{"$f":"+Sheet3!AX27/Sheet3!$F$1","v":0},{"$f":"+Sheet3!AY27/Sheet3!$F$1","v":0},{"$f":"+Sheet3!AZ27/Sheet3!$F$1","v":2.0605000000000002},{"$f":"+Sheet3!BA27/Sheet3!$F$1","v":23.349430000000002},{"$f":"+Sheet3!BB27/Sheet3!$F$1","v":0},{"$f":"+Sheet3!BC27/Sheet3!$F$1","v":0},{"$f":"+Sheet3!BD27/Sheet3!$F$1","v":0},{"$f":"+Sheet3!BE27/Sheet3!$F$1","v":0},{"$f":"+Sheet3!BF27/Sheet3!$F$1","v":0},{"$f":"+Sheet3!BG27/Sheet3!$F$1","v":0},{"$f":"+Sheet3!BH27/Sheet3!$F$1","v":0},{"$f":"+Sheet3!BI27/Sheet3!$F$1","v":0.82328000000000001},{"$f":"+Sheet3!BJ27/Sheet3!$F$1","v":0},{"$f":"+Sheet3!BK27/Sheet3!$F$1","v":0},{"$f":"+Sheet3!BL27/Sheet3!$F$1","v":0},{"$f":"+Sheet3!BM27/Sheet3!$F$1","v":0},{"$f":"+Sheet3!BN27/Sheet3!$F$1","v":0},{"$f":"+Sheet3!BO27/Sheet3!$F$1","v":1.7228299999999999},{"$f":"+Sheet3!BP27/Sheet3!$F$1","v":4.1999499999999994},{"$f":"+Sheet3!BQ27/Sheet3!$F$1","v":0},{"$f":"+Sheet3!BR27/Sheet3!$F$1","v":0},{"$f":"+Sheet3!BS27/Sheet3!$F$1","v":16.03567},{"$f":"+Sheet3!BT27/Sheet3!$F$1","v":44.122570000000003},{"$f":"+Sheet3!BU27/Sheet3!$F$1","v":0},{"$f":"+Sheet3!BV27/Sheet3!$F$1","v":0},{"$f":"+Sheet3!BW27/Sheet3!$F$1","v":0},{"$f":"+Sheet3!BX27/Sheet3!$F$1","v":9.2510000000000009E-2},{"$f":"+Sheet3!BY27/Sheet3!$F$1","v":3.2057500000000001},{"$f":"+Sheet3!BZ27/Sheet3!$F$1","v":2.9535999999999998},{"$f":"+Sheet3!CA27/Sheet3!$F$1","v":0},{"$f":"+Sheet3!CB27/Sheet3!$F$1","v":0},{"$f":"+Sheet3!CC27/Sheet3!$F$1","v":7.5257200000000006},{"$f":"+Sheet3!CD27/Sheet3!$F$1","v":14.61117},{"$f":"+Sheet3!CE27/Sheet3!$F$1","v":60.203679999999999},{"$f":"+Sheet3!CF27/Sheet3!$F$1","v":0},{"$f":"+Sheet3!CG27/Sheet3!$F$1","v":0},{"$f":"+Sheet3!CH27/Sheet3!$F$1","v":0},{"$f":"+Sheet3!CI27/Sheet3!$F$1","v":0},{"$f":"+Sheet3!CJ27/Sheet3!$F$1","v":0},{"$f":"+Sheet3!CK27/Sheet3!$F$1","v":0},{"$f":"+Sheet3!CL27/Sheet3!$F$1","v":0},{"$f":"+Sheet3!CM27/Sheet3!$F$1","v":0},{"$f":"+Sheet3!CN27/Sheet3!$F$1","v":0},{"$f":"+Sheet3!CO27/Sheet3!$F$1","v":0},{"$f":"+Sheet3!CP27/Sheet3!$F$1","v":0},{"$f":"+Sheet3!CQ27/Sheet3!$F$1","v":0},{"$f":"+Sheet3!CR27/Sheet3!$F$1","v":0},{"$f":"+Sheet3!CS27/Sheet3!$F$1","v":0},{"$f":"+Sheet3!CT27/Sheet3!$F$1","v":0},{"$f":"+Sheet3!CU27/Sheet3!$F$1","v":0},{"$f":"+Sheet3!CV27/Sheet3!$F$1","v":2.5288400000000002},{"$f":"+Sheet3!CW27/Sheet3!$F$1","v":8.4817199999999993},{"$f":"+Sheet3!CX27/Sheet3!$F$1","v":4.6177300000000008},{"$f":"+Sheet3!CY27/Sheet3!$F$1","v":0},{"$f":"+Sheet3!CZ27/Sheet3!$F$1","v":0},{"$f":"+Sheet3!DA27/Sheet3!$F$1","v":0},{"$f":"+Sheet3!DB27/Sheet3!$F$1","v":15.508150000000002},{"$f":"+Sheet3!DC27/Sheet3!$F$1","v":0},{"$f":"+Sheet3!DD27/Sheet3!$F$1","v":25.409929999999999},{"$f":"+Sheet3!DE27/Sheet3!$F$1","v":0},{"$f":"+Sheet3!DF27/Sheet3!$F$1","v":0.82328000000000001},{"$f":"+Sheet3!DG27/Sheet3!$F$1","v":5.9227799999999995},{"$f":"+Sheet3!DH27/Sheet3!$F$1","v":60.158239999999999},{"$f":"+Sheet3!DI27/Sheet3!$F$1","v":6.2518600000000006},{"$f":"+Sheet3!DJ27/Sheet3!$F$1","v":82.340570000000014},{"$f":"+Sheet3!DK27/Sheet3!$F$1","v":0},{"$f":"+Sheet3!DL27/Sheet3!$F$1","v":0},{"$f":"+Sheet3!DM27/Sheet3!$F$1","v":0},{"$f":"+Sheet3!DN27/Sheet3!$F$1","v":0},{"$f":"+Sheet3!DO27/Sheet3!$F$1","v":0},{"$f":"+Sheet3!DP27/Sheet3!$F$1","v":25.978860000000001},{"$f":"+Sheet3!DQ27/Sheet3!$F$1","v":77.252820000000014},{"$f":"+Sheet3!DR27/Sheet3!$F$1","v":108.81142},212.04310000000001]
[null,"186","Alto Alentejo",{"$f":"+Sheet3!D28/Sheet3!$F$1","v":0},{"$f":"+Sheet3!E28/Sheet3!$F$1","v":0},{"$f":"+Sheet3!F28/Sheet3!$F$1","v":0},{"$f":"+Sheet3!G28/Sheet3!$F$1","v":0},{"$f":"+Sheet3!H28/Sheet3!$F$1","v":0},{"$f":"+Sheet3!I28/Sheet3!$F$1","v":0},{"$f":"+Sheet3!J28/Sheet3!$F$1","v":0.13166999999999998},{"$f":"+Sheet3!K28/Sheet3!$F$1","v":0},{"$f":"+Sheet3!L28/Sheet3!$F$1","v":0},{"$f":"+Sheet3!M28/Sheet3!$F$1","v":0},{"$f":"+Sheet3!N28/Sheet3!$F$1","v":0},{"$f":"+Sheet3!O28/Sheet3!$F$1","v":0},{"$f":"+Sheet3!P28/Sheet3!$F$1","v":4.9350200000000006},{"$f":"+Sheet3!Q28/Sheet3!$F$1","v":4.2573299999999996},{"$f":"+Sheet3!R28/Sheet3!$F$1","v":0},{"$f":"+Sheet3!S28/Sheet3!$F$1","v":0},{"$f":"+Sheet3!T28/Sheet3!$F$1","v":0},{"$f":"+Sheet3!U28/Sheet3!$F$1","v":0},{"$f":"+Sheet3!V28/Sheet3!$F$1","v":0},{"$f":"+Sheet3!W28/Sheet3!$F$1","v":0},{"$f":"+Sheet3!X28/Sheet3!$F$1","v":0},{"$f":"+Sheet3!Y28/Sheet3!$F$1","v":0},{"$f":"+Sheet3!Z28/Sheet3!$F$1","v":0},{"$f":"+Sheet3!AA28/Sheet3!$F$1","v":7.1898299999999997},{"$f":"+Sheet3!AB28/Sheet3!$F$1","v":0},{"$f":"+Sheet3!AC28/Sheet3!$F$1","v":0},{"$f":"+Sheet3!AD28/Sheet3!$F$1","v":0},{"$f":"+Sheet3!AE28/Sheet3!$F$1","v":15.557469999999999},{"$f":"+Sheet3!AF28/Sheet3!$F$1","v":41.344430000000003},{"$f":"+Sheet3!AG28/Sheet3!$F$1","v":0},{"$f":"+Sheet3!AH28/Sheet3!$F$1","v":0},{"$f":"+Sheet3!AI28/Sheet3!$F$1","v":0},{"$f":"+Sheet3!AJ28/Sheet3!$F$1","v":1.8246800000000001},{"$f":"+Sheet3!AK28/Sheet3!$F$1","v":0},{"$f":"+Sheet3!AL28/Sheet3!$F$1","v":0},{"$f":"+Sheet3!AM28/Sheet3!$F$1","v":0},{"$f":"+Sheet3!AN28/Sheet3!$F$1","v":0},{"$f":"+Sheet3!AO28/Sheet3!$F$1","v":6.0771499999999996},{"$f":"+Sheet3!AP28/Sheet3!$F$1","v":0},{"$f":"+Sheet3!AQ28/Sheet3!$F$1","v":0},{"$f":"+Sheet3!AR28/Sheet3!$F$1","v":0},{"$f":"+Sheet3!AS28/Sheet3!$F$1","v":0},{"$f":"+Sheet3!AT28/Sheet3!$F$1","v":4.02536},{"$f":"+Sheet3!AU28/Sheet3!$F$1","v":0},{"$f":"+Sheet3!AV28/Sheet3!$F$1","v":0},{"$f":"+Sheet3!AW28/Sheet3!$F$1","v":0},{"$f":"+Sheet3!AX28/Sheet3!$F$1","v":0},{"$f":"+Sheet3!AY28/Sheet3!$F$1","v":3.1126300000000002},{"$f":"+Sheet3!AZ28/Sheet3!$F$1","v":28.89123},{"$f":"+Sheet3!BA28/Sheet3!$F$1","v":0},{"$f":"+Sheet3!BB28/Sheet3!$F$1","v":0},{"$f":"+Sheet3!BC28/Sheet3!$F$1","v":0},{"$f":"+Sheet3!BD28/Sheet3!$F$1","v":0},{"$f":"+Sheet3!BE28/Sheet3!$F$1","v":1.05949},{"$f":"+Sheet3!BF28/Sheet3!$F$1","v":0},{"$f":"+Sheet3!BG28/Sheet3!$F$1","v":0},{"$f":"+Sheet3!BH28/Sheet3!$F$1","v":0.37885000000000002},{"$f":"+Sheet3!BI28/Sheet3!$F$1","v":7.2339599999999997},{"$f":"+Sheet3!BJ28/Sheet3!$F$1","v":1.52342},{"$f":"+Sheet3!BK28/Sheet3!$F$1","v":0},{"$f":"+Sheet3!BL28/Sheet3!$F$1","v":0},{"$f":"+Sheet3!BM28/Sheet3!$F$1","v":0},{"$f":"+Sheet3!BN28/Sheet3!$F$1","v":0},{"$f":"+Sheet3!BO28/Sheet3!$F$1","v":0},{"$f":"+Sheet3!BP28/Sheet3!$F$1","v":0},{"$f":"+Sheet3!BQ28/Sheet3!$F$1","v":0},{"$f":"+Sheet3!BR28/Sheet3!$F$1","v":0.15037},{"$f":"+Sheet3!BS28/Sheet3!$F$1","v":171.25420000000003},{"$f":"+Sheet3!BT28/Sheet3!$F$1","v":604.3080799999999},{"$f":"+Sheet3!BU28/Sheet3!$F$1","v":94.334720000000004},{"$f":"+Sheet3!BV28/Sheet3!$F$1","v":0.13750000000000001},{"$f":"+Sheet3!BW28/Sheet3!$F$1","v":3.7624400000000002},{"$f":"+Sheet3!BX28/Sheet3!$F$1","v":106.88603000000001},{"$f":"+Sheet3!BY28/Sheet3!$F$1","v":94.98908999999999},{"$f":"+Sheet3!BZ28/Sheet3!$F$1","v":6.3378500000000004},{"$f":"+Sheet3!CA28/Sheet3!$F$1","v":0},{"$f":"+Sheet3!CB28/Sheet3!$F$1","v":0.89691999999999994},{"$f":"+Sheet3!CC28/Sheet3!$F$1","v":35.439749999999997},{"$f":"+Sheet3!CD28/Sheet3!$F$1","v":156.05085},{"$f":"+Sheet3!CE28/Sheet3!$F$1","v":89.167670000000001},{"$f":"+Sheet3!CF28/Sheet3!$F$1","v":0},{"$f":"+Sheet3!CG28/Sheet3!$F$1","v":0},{"$f":"+Sheet3!CH28/Sheet3!$F$1","v":6.0560000000000003E-2},{"$f":"+Sheet3!CI28/Sheet3!$F$1","v":0},{"$f":"+Sheet3!CJ28/Sheet3!$F$1","v":0},{"$f":"+Sheet3!CK28/Sheet3!$F$1","v":0},{"$f":"+Sheet3!CL28/Sheet3!$F$1","v":0},{"$f":"+Sheet3!CM28/Sheet3!$F$1","v":0},{"$f":"+Sheet3!CN28/Sheet3!$F$1","v":0},{"$f":"+Sheet3!CO28/Sheet3!$F$1","v":0},{"$f":"+Sheet3!CP28/Sheet3!$F$1","v":0},{"$f":"+Sheet3!CQ28/Sheet3!$F$1","v":0},{"$f":"+Sheet3!CR28/Sheet3!$F$1","v":0},{"$f":"+Sheet3!CS28/Sheet3!$F$1","v":0},{"$f":"+Sheet3!CT28/Sheet3!$F$1","v":0},{"$f":"+Sheet3!CU28/Sheet3!$F$1","v":0},{"$f":"+Sheet3!CV28/Sheet3!$F$1","v":0.13166999999999998},{"$f":"+Sheet3!CW28/Sheet3!$F$1","v":9.1923500000000011},{"$f":"+Sheet3!CX28/Sheet3!$F$1","v":0},{"$f":"+Sheet3!CY28/Sheet3!$F$1","v":7.1898299999999997},{"$f":"+Sheet3!CZ28/Sheet3!$F$1","v":56.901900000000005},{"$f":"+Sheet3!DA28/Sheet3!$F$1","v":1.8246800000000001},{"$f":"+Sheet3!DB28/Sheet3!$F$1","v":6.0771499999999996},{"$f":"+Sheet3!DC28/Sheet3!$F$1","v":4.02536},{"$f":"+Sheet3!DD28/Sheet3!$F$1","v":32.003860000000003},{"$f":"+Sheet3!DE28/Sheet3!$F$1","v":1.05949},{"$f":"+Sheet3!DF28/Sheet3!$F$1","v":9.1362299999999994},{"$f":"+Sheet3!DG28/Sheet3!$F$1","v":0},{"$f":"+Sheet3!DH28/Sheet3!$F$1","v":870.04736999999989},{"$f":"+Sheet3!DI28/Sheet3!$F$1","v":212.11290999999997},{"$f":"+Sheet3!DJ28/Sheet3!$F$1","v":281.55518999999998},{"$f":"+Sheet3!DK28/Sheet3!$F$1","v":6.0560000000000003E-2},{"$f":"+Sheet3!DL28/Sheet3!$F$1","v":0},{"$f":"+Sheet3!DM28/Sheet3!$F$1","v":0},{"$f":"+Sheet3!DN28/Sheet3!$F$1","v":0.13750000000000001},{"$f":"+Sheet3!DO28/Sheet3!$F$1","v":5.3202499999999997},{"$f":"+Sheet3!DP28/Sheet3!$F$1","v":356.40681000000001},{"$f":"+Sheet3!DQ28/Sheet3!$F$1","v":939.61374999999987},{"$f":"+Sheet3!DR28/Sheet3!$F$1","v":189.84023999999999},1491.31855]
[null,"187","Alentejo Central",{"$f":"+Sheet3!D29/Sheet3!$F$1","v":0},{"$f":"+Sheet3!E29/Sheet3!$F$1","v":0},{"$f":"+Sheet3!F29/Sheet3!$F$1","v":0},{"$f":"+Sheet3!G29/Sheet3!$F$1","v":0},{"$f":"+Sheet3!H29/Sheet3!$F$1","v":0},{"$f":"+Sheet3!I29/Sheet3!$F$1","v":0},{"$f":"+Sheet3!J29/Sheet3!$F$1","v":0},{"$f":"+Sheet3!K29/Sheet3!$F$1","v":0},{"$f":"+Sheet3!L29/Sheet3!$F$1","v":0},{"$f":"+Sheet3!M29/Sheet3!$F$1","v":0},{"$f":"+Sheet3!N29/Sheet3!$F$1","v":0},{"$f":"+Sheet3!O29/Sheet3!$F$1","v":0},{"$f":"+Sheet3!P29/Sheet3!$F$1","v":0},{"$f":"+Sheet3!Q29/Sheet3!$F$1","v":0},{"$f":"+Sheet3!R29/Sheet3!$F$1","v":0},{"$f":"+Sheet3!S29/Sheet3!$F$1","v":0},{"$f":"+Sheet3!T29/Sheet3!$F$1","v":0},{"$f":"+Sheet3!U29/Sheet3!$F$1","v":0},{"$f":"+Sheet3!V29/Sheet3!$F$1","v":0},{"$f":"+Sheet3!W29/Sheet3!$F$1","v":0},{"$f":"+Sheet3!X29/Sheet3!$F$1","v":0},{"$f":"+Sheet3!Y29/Sheet3!$F$1","v":0},{"$f":"+Sheet3!Z29/Sheet3!$F$1","v":5.8180800000000001},{"$f":"+Sheet3!AA29/Sheet3!$F$1","v":3.6729000000000003},{"$f":"+Sheet3!AB29/Sheet3!$F$1","v":0},{"$f":"+Sheet3!AC29/Sheet3!$F$1","v":0},{"$f":"+Sheet3!AD29/Sheet3!$F$1","v":0.44169999999999998},{"$f":"+Sheet3!AE29/Sheet3!$F$1","v":40.434519999999999},{"$f":"+Sheet3!AF29/Sheet3!$F$1","v":75.378350000000012},{"$f":"+Sheet3!AG29/Sheet3!$F$1","v":0},{"$f":"+Sheet3!AH29/Sheet3!$F$1","v":0},{"$f":"+Sheet3!AI29/Sheet3!$F$1","v":0},{"$f":"+Sheet3!AJ29/Sheet3!$F$1","v":2.7350500000000002},{"$f":"+Sheet3!AK29/Sheet3!$F$1","v":0.88903999999999994},{"$f":"+Sheet3!AL29/Sheet3!$F$1","v":0},{"$f":"+Sheet3!AM29/Sheet3!$F$1","v":0},{"$f":"+Sheet3!AN29/Sheet3!$F$1","v":0},{"$f":"+Sheet3!AO29/Sheet3!$F$1","v":2.6165599999999998},{"$f":"+Sheet3!AP29/Sheet3!$F$1","v":21.09498},{"$f":"+Sheet3!AQ29/Sheet3!$F$1","v":0},{"$f":"+Sheet3!AR29/Sheet3!$F$1","v":0},{"$f":"+Sheet3!AS29/Sheet3!$F$1","v":0},{"$f":"+Sheet3!AT29/Sheet3!$F$1","v":0},{"$f":"+Sheet3!AU29/Sheet3!$F$1","v":0},{"$f":"+Sheet3!AV29/Sheet3!$F$1","v":0},{"$f":"+Sheet3!AW29/Sheet3!$F$1","v":0},{"$f":"+Sheet3!AX29/Sheet3!$F$1","v":0},{"$f":"+Sheet3!AY29/Sheet3!$F$1","v":12.47616},{"$f":"+Sheet3!AZ29/Sheet3!$F$1","v":22.51313},{"$f":"+Sheet3!BA29/Sheet3!$F$1","v":21.46735},{"$f":"+Sheet3!BB29/Sheet3!$F$1","v":0},{"$f":"+Sheet3!BC29/Sheet3!$F$1","v":0},{"$f":"+Sheet3!BD29/Sheet3!$F$1","v":0},{"$f":"+Sheet3!BE29/Sheet3!$F$1","v":2.4621200000000001},{"$f":"+Sheet3!BF29/Sheet3!$F$1","v":0},{"$f":"+Sheet3!BG29/Sheet3!$F$1","v":0},{"$f":"+Sheet3!BH29/Sheet3!$F$1","v":8.1209999999999991E-2},{"$f":"+Sheet3!BI29/Sheet3!$F$1","v":5.9483199999999998},{"$f":"+Sheet3!BJ29/Sheet3!$F$1","v":9.7868200000000005},{"$f":"+Sheet3!BK29/Sheet3!$F$1","v":0},{"$f":"+Sheet3!BL29/Sheet3!$F$1","v":0},{"$f":"+Sheet3!BM29/Sheet3!$F$1","v":9.1799999999999989E-3},{"$f":"+Sheet3!BN29/Sheet3!$F$1","v":0},{"$f":"+Sheet3!BO29/Sheet3!$F$1","v":7.7797900000000002},{"$f":"+Sheet3!BP29/Sheet3!$F$1","v":0.92770000000000008},{"$f":"+Sheet3!BQ29/Sheet3!$F$1","v":0},{"$f":"+Sheet3!BR29/Sheet3!$F$1","v":0},{"$f":"+Sheet3!BS29/Sheet3!$F$1","v":198.81702999999996},{"$f":"+Sheet3!BT29/Sheet3!$F$1","v":795.90296999999998},{"$f":"+Sheet3!BU29/Sheet3!$F$1","v":205.05435},{"$f":"+Sheet3!BV29/Sheet3!$F$1","v":9.5000000000000001E-2},{"$f":"+Sheet3!BW29/Sheet3!$F$1","v":4.1807499999999997},{"$f":"+Sheet3!BX29/Sheet3!$F$1","v":93.334860000000006},{"$f":"+Sheet3!BY29/Sheet3!$F$1","v":167.52382999999998},{"$f":"+Sheet3!BZ29/Sheet3!$F$1","v":64.106400000000008},{"$f":"+Sheet3!CA29/Sheet3!$F$1","v":0},{"$f":"+Sheet3!CB29/Sheet3!$F$1","v":0.16800000000000001},{"$f":"+Sheet3!CC29/Sheet3!$F$1","v":47.092660000000002},{"$f":"+Sheet3!CD29/Sheet3!$F$1","v":342.30142999999998},{"$f":"+Sheet3!CE29/Sheet3!$F$1","v":80.944649999999996},{"$f":"+Sheet3!CF29/Sheet3!$F$1","v":0},{"$f":"+Sheet3!CG29/Sheet3!$F$1","v":0},{"$f":"+Sheet3!CH29/Sheet3!$F$1","v":4.0099999999999997E-3},{"$f":"+Sheet3!CI29/Sheet3!$F$1","v":0},{"$f":"+Sheet3!CJ29/Sheet3!$F$1","v":0},{"$f":"+Sheet3!CK29/Sheet3!$F$1","v":0},{"$f":"+Sheet3!CL29/Sheet3!$F$1","v":0},{"$f":"+Sheet3!CM29/Sheet3!$F$1","v":0},{"$f":"+Sheet3!CN29/Sheet3!$F$1","v":5.2976000000000001},{"$f":"+Sheet3!CO29/Sheet3!$F$1","v":0},{"$f":"+Sheet3!CP29/Sheet3!$F$1","v":0},{"$f":"+Sheet3!CQ29/Sheet3!$F$1","v":0},{"$f":"+Sheet3!CR29/Sheet3!$F$1","v":0},{"$f":"+Sheet3!CS29/Sheet3!$F$1","v":0},{"$f":"+Sheet3!CT29/Sheet3!$F$1","v":0},{"$f":"+Sheet3!CU29/Sheet3!$F$1","v":0},{"$f":"+Sheet3!CV29/Sheet3!$F$1","v":0},{"$f":"+Sheet3!CW29/Sheet3!$F$1","v":0},{"$f":"+Sheet3!CX29/Sheet3!$F$1","v":0},{"$f":"+Sheet3!CY29/Sheet3!$F$1","v":9.4909800000000004},{"$f":"+Sheet3!CZ29/Sheet3!$F$1","v":116.25456999999999},{"$f":"+Sheet3!DA29/Sheet3!$F$1","v":3.6240900000000003},{"$f":"+Sheet3!DB29/Sheet3!$F$1","v":23.711539999999999},{"$f":"+Sheet3!DC29/Sheet3!$F$1","v":0},{"$f":"+Sheet3!DD29/Sheet3!$F$1","v":56.45664},{"$f":"+Sheet3!DE29/Sheet3!$F$1","v":2.4621200000000001},{"$f":"+Sheet3!DF29/Sheet3!$F$1","v":15.816349999999998},{"$f":"+Sheet3!DG29/Sheet3!$F$1","v":8.7166700000000006},{"$f":"+Sheet3!DH29/Sheet3!$F$1","v":1199.7743500000001},{"$f":"+Sheet3!DI29/Sheet3!$F$1","v":329.24083999999999},{"$f":"+Sheet3!DJ29/Sheet3!$F$1","v":470.50673999999998},{"$f":"+Sheet3!DK29/Sheet3!$F$1","v":4.0099999999999997E-3},{"$f":"+Sheet3!DL29/Sheet3!$F$1","v":5.2976000000000001},{"$f":"+Sheet3!DM29/Sheet3!$F$1","v":0},{"$f":"+Sheet3!DN29/Sheet3!$F$1","v":9.5000000000000001E-2},{"$f":"+Sheet3!DO29/Sheet3!$F$1","v":4.8808400000000001},{"$f":"+Sheet3!DP29/Sheet3!$F$1","v":409.27724999999998},{"$f":"+Sheet3!DQ29/Sheet3!$F$1","v":1454.6029600000002},{"$f":"+Sheet3!DR29/Sheet3!$F$1","v":372.50044999999994},2241.3564999999999]
["Algarve","150","Algarve",{"$f":"+Sheet3!D30/Sheet3!$F$1","v":0},{"$f":"+Sheet3!E30/Sheet3!$F$1","v":0},{"$f":"+Sheet3!F30/Sheet3!$F$1","v":0},{"$f":"+Sheet3!G30/Sheet3!$F$1","v":0},{"$f":"+Sheet3!H30/Sheet3!$F$1","v":0},{"$f":"+Sheet3!I30/Sheet3!$F$1","v":0},{"$f":"+Sheet3!J30/Sheet3!$F$1","v":0},{"$f":"+Sheet3!K30/Sheet3!$F$1","v":0},{"$f":"+Sheet3!L30/Sheet3!$F$1","v":0},{"$f":"+Sheet3!M30/Sheet3!$F$1","v":0},{"$f":"+Sheet3!N30/Sheet3!$F$1","v":0},{"$f":"+Sheet3!O30/Sheet3!$F$1","v":0},{"$f":"+Sheet3!P30/Sheet3!$F$1","v":0},{"$f":"+Sheet3!Q30/Sheet3!$F$1","v":0},{"$f":"+Sheet3!R30/Sheet3!$F$1","v":0},{"$f":"+Sheet3!S30/Sheet3!$F$1","v":0},{"$f":"+Sheet3!T30/Sheet3!$F$1","v":0},{"$f":"+Sheet3!U30/Sheet3!$F$1","v":0},{"$f":"+Sheet3!V30/Sheet3!$F$1","v":0},{"$f":"+Sheet3!W30/Sheet3!$F$1","v":0},{"$f":"+Sheet3!X30/Sheet3!$F$1","v":0},{"$f":"+Sheet3!Y30/Sheet3!$F$1","v":0},{"$f":"+Sheet3!Z30/Sheet3!$F$1","v":0},{"$f":"+Sheet3!AA30/Sheet3!$F$1","v":0},{"$f":"+Sheet3!AB30/Sheet3!$F$1","v":0},{"$f":"+Sheet3!AC30/Sheet3!$F$1","v":0},{"$f":"+Sheet3!AD30/Sheet3!$F$1","v":0},{"$f":"+Sheet3!AE30/Sheet3!$F$1","v":0},{"$f":"+Sheet3!AF30/Sheet3!$F$1","v":0},{"$f":"+Sheet3!AG30/Sheet3!$F$1","v":0},{"$f":"+Sheet3!AH30/Sheet3!$F$1","v":0},{"$f":"+Sheet3!AI30/Sheet3!$F$1","v":0},{"$f":"+Sheet3!AJ30/Sheet3!$F$1","v":0},{"$f":"+Sheet3!AK30/Sheet3!$F$1","v":0},{"$f":"+Sheet3!AL30/Sheet3!$F$1","v":0},{"$f":"+Sheet3!AM30/Sheet3!$F$1","v":0},{"$f":"+Sheet3!AN30/Sheet3!$F$1","v":0},{"$f":"+Sheet3!AO30/Sheet3!$F$1","v":0},{"$f":"+Sheet3!AP30/Sheet3!$F$1","v":0},{"$f":"+Sheet3!AQ30/Sheet3!$F$1","v":0},{"$f":"+Sheet3!AR30/Sheet3!$F$1","v":0},{"$f":"+Sheet3!AS30/Sheet3!$F$1","v":0},{"$f":"+Sheet3!AT30/Sheet3!$F$1","v":0},{"$f":"+Sheet3!AU30/Sheet3!$F$1","v":0},{"$f":"+Sheet3!AV30/Sheet3!$F$1","v":0},{"$f":"+Sheet3!AW30/Sheet3!$F$1","v":0},{"$f":"+Sheet3!AX30/Sheet3!$F$1","v":0},{"$f":"+Sheet3!AY30/Sheet3!$F$1","v":0},{"$f":"+Sheet3!AZ30/Sheet3!$F$1","v":0},{"$f":"+Sheet3!BA30/Sheet3!$F$1","v":0},{"$f":"+Sheet3!BB30/Sheet3!$F$1","v":0},{"$f":"+Sheet3!BC30/Sheet3!$F$1","v":0},{"$f":"+Sheet3!BD30/Sheet3!$F$1","v":0},{"$f":"+Sheet3!BE30/Sheet3!$F$1","v":0},{"$f":"+Sheet3!BF30/Sheet3!$F$1","v":0},{"$f":"+Sheet3!BG30/Sheet3!$F$1","v":0},{"$f":"+Sheet3!BH30/Sheet3!$F$1","v":0},{"$f":"+Sheet3!BI30/Sheet3!$F$1","v":0},{"$f":"+Sheet3!BJ30/Sheet3!$F$1","v":0},{"$f":"+Sheet3!BK30/Sheet3!$F$1","v":0},{"$f":"+Sheet3!BL30/Sheet3!$F$1","v":0},{"$f":"+Sheet3!BM30/Sheet3!$F$1","v":0},{"$f":"+Sheet3!BN30/Sheet3!$F$1","v":0},{"$f":"+Sheet3!BO30/Sheet3!$F$1","v":0},{"$f":"+Sheet3!BP30/Sheet3!$F$1","v":0},{"$f":"+Sheet3!BQ30/Sheet3!$F$1","v":0},{"$f":"+Sheet3!BR30/Sheet3!$F$1","v":0},{"$f":"+Sheet3!BS30/Sheet3!$F$1","v":7.6999999999999999E-2},{"$f":"+Sheet3!BT30/Sheet3!$F$1","v":0},{"$f":"+Sheet3!BU30/Sheet3!$F$1","v":0},{"$f":"+Sheet3!BV30/Sheet3!$F$1","v":0},{"$f":"+Sheet3!BW30/Sheet3!$F$1","v":0},{"$f":"+Sheet3!BX30/Sheet3!$F$1","v":0},{"$f":"+Sheet3!BY30/Sheet3!$F$1","v":0.87320000000000009},{"$f":"+Sheet3!BZ30/Sheet3!$F$1","v":0},{"$f":"+Sheet3!CA30/Sheet3!$F$1","v":0},{"$f":"+Sheet3!CB30/Sheet3!$F$1","v":0},{"$f":"+Sheet3!CC30/Sheet3!$F$1","v":0},{"$f":"+Sheet3!CD30/Sheet3!$F$1","v":0},{"$f":"+Sheet3!CE30/Sheet3!$F$1","v":0},{"$f":"+Sheet3!CF30/Sheet3!$F$1","v":0},{"$f":"+Sheet3!CG30/Sheet3!$F$1","v":0},{"$f":"+Sheet3!CH30/Sheet3!$F$1","v":0},{"$f":"+Sheet3!CI30/Sheet3!$F$1","v":0},{"$f":"+Sheet3!CJ30/Sheet3!$F$1","v":0},{"$f":"+Sheet3!CK30/Sheet3!$F$1","v":0},{"$f":"+Sheet3!CL30/Sheet3!$F$1","v":0},{"$f":"+Sheet3!CM30/Sheet3!$F$1","v":0},{"$f":"+Sheet3!CN30/Sheet3!$F$1","v":0},{"$f":"+Sheet3!CO30/Sheet3!$F$1","v":0},{"$f":"+Sheet3!CP30/Sheet3!$F$1","v":0},{"$f":"+Sheet3!CQ30/Sheet3!$F$1","v":0},{"$f":"+Sheet3!CR30/Sheet3!$F$1","v":0},{"$f":"+Sheet3!CS30/Sheet3!$F$1","v":0},{"$f":"+Sheet3!CT30/Sheet3!$F$1","v":0},{"$f":"+Sheet3!CU30/Sheet3!$F$1","v":0},{"$f":"+Sheet3!CV30/Sheet3!$F$1","v":0},{"$f":"+Sheet3!CW30/Sheet3!$F$1","v":0},{"$f":"+Sheet3!CX30/Sheet3!$F$1","v":0},{"$f":"+Sheet3!CY30/Sheet3!$F$1","v":0},{"$f":"+Sheet3!CZ30/Sheet3!$F$1","v":0},{"$f":"+Sheet3!DA30/Sheet3!$F$1","v":0},{"$f":"+Sheet3!DB30/Sheet3!$F$1","v":0},{"$f":"+Sheet3!DC30/Sheet3!$F$1","v":0},{"$f":"+Sheet3!DD30/Sheet3!$F$1","v":0},{"$f":"+Sheet3!DE30/Sheet3!$F$1","v":0},{"$f":"+Sheet3!DF30/Sheet3!$F$1","v":0},{"$f":"+Sheet3!DG30/Sheet3!$F$1","v":0},{"$f":"+Sheet3!DH30/Sheet3!$F$1","v":7.6999999999999999E-2},{"$f":"+Sheet3!DI30/Sheet3!$F$1","v":0.87320000000000009},{"$f":"+Sheet3!DJ30/Sheet3!$F$1","v":0},{"$f":"+Sheet3!DK30/Sheet3!$F$1","v":0},{"$f":"+Sheet3!DL30/Sheet3!$F$1","v":0},{"$f":"+Sheet3!DM30/Sheet3!$F$1","v":0},{"$f":"+Sheet3!DN30/Sheet3!$F$1","v":0},{"$f":"+Sheet3!DO30/Sheet3!$F$1","v":0},{"$f":"+Sheet3!DP30/Sheet3!$F$1","v":7.6999999999999999E-2},{"$f":"+Sheet3!DQ30/Sheet3!$F$1","v":0.87320000000000009},{"$f":"+Sheet3!DR30/Sheet3!$F$1","v":0},0.95020000000000004]
["Continente",null,null,{"$f":"+Sheet3!D31/Sheet3!$F$1","v":0},{"$f":"+Sheet3!E31/Sheet3!$F$1","v":0},{"$f":"+Sheet3!F31/Sheet3!$F$1","v":0},{"$f":"+Sheet3!G31/Sheet3!$F$1","v":0},{"$f":"+Sheet3!H31/Sheet3!$F$1","v":0},{"$f":"+Sheet3!I31/Sheet3!$F$1","v":0},{"$f":"+Sheet3!J31/Sheet3!$F$1","v":0.13166999999999998},{"$f":"+Sheet3!K31/Sheet3!$F$1","v":0},{"$f":"+Sheet3!L31/Sheet3!$F$1","v":2.5288400000000002},{"$f":"+Sheet3!M31/Sheet3!$F$1","v":2.9963600000000001},{"$f":"+Sheet3!N31/Sheet3!$F$1","v":0},{"$f":"+Sheet3!O31/Sheet3!$F$1","v":0},{"$f":"+Sheet3!P31/Sheet3!$F$1","v":5.7992700000000008},{"$f":"+Sheet3!Q31/Sheet3!$F$1","v":16.040459999999999},{"$f":"+Sheet3!R31/Sheet3!$F$1","v":16.56503},{"$f":"+Sheet3!S31/Sheet3!$F$1","v":0},{"$f":"+Sheet3!T31/Sheet3!$F$1","v":0},{"$f":"+Sheet3!U31/Sheet3!$F$1","v":1.5016800000000001},{"$f":"+Sheet3!V31/Sheet3!$F$1","v":3.11605},{"$f":"+Sheet3!W31/Sheet3!$F$1","v":0},{"$f":"+Sheet3!X31/Sheet3!$F$1","v":0},{"$f":"+Sheet3!Y31/Sheet3!$F$1","v":0},{"$f":"+Sheet3!Z31/Sheet3!$F$1","v":13.103119999999999},{"$f":"+Sheet3!AA31/Sheet3!$F$1","v":13.13763},{"$f":"+Sheet3!AB31/Sheet3!$F$1","v":0},{"$f":"+Sheet3!AC31/Sheet3!$F$1","v":0},{"$f":"+Sheet3!AD31/Sheet3!$F$1","v":0.62870000000000004},{"$f":"+Sheet3!AE31/Sheet3!$F$1","v":60.205659999999995},{"$f":"+Sheet3!AF31/Sheet3!$F$1","v":128.32715000000002},{"$f":"+Sheet3!AG31/Sheet3!$F$1","v":0},{"$f":"+Sheet3!AH31/Sheet3!$F$1","v":0},{"$f":"+Sheet3!AI31/Sheet3!$F$1","v":0.40400000000000003},{"$f":"+Sheet3!AJ31/Sheet3!$F$1","v":6.2924500000000005},{"$f":"+Sheet3!AK31/Sheet3!$F$1","v":0.88903999999999994},{"$f":"+Sheet3!AL31/Sheet3!$F$1","v":0},{"$f":"+Sheet3!AM31/Sheet3!$F$1","v":0},{"$f":"+Sheet3!AN31/Sheet3!$F$1","v":4.2849999999999999E-2},{"$f":"+Sheet3!AO31/Sheet3!$F$1","v":16.994720000000001},{"$f":"+Sheet3!AP31/Sheet3!$F$1","v":44.417539999999995},{"$f":"+Sheet3!AQ31/Sheet3!$F$1","v":9.6230400000000014},{"$f":"+Sheet3!AR31/Sheet3!$F$1","v":0},{"$f":"+Sheet3!AS31/Sheet3!$F$1","v":0},{"$f":"+Sheet3!AT31/Sheet3!$F$1","v":5.27921},{"$f":"+Sheet3!AU31/Sheet3!$F$1","v":5.2918400000000005},{"$f":"+Sheet3!AV31/Sheet3!$F$1","v":0},{"$f":"+Sheet3!AW31/Sheet3!$F$1","v":0},{"$f":"+Sheet3!AX31/Sheet3!$F$1","v":0.36869999999999997},{"$f":"+Sheet3!AY31/Sheet3!$F$1","v":24.12575},{"$f":"+Sheet3!AZ31/Sheet3!$F$1","v":70.848389999999995},{"$f":"+Sheet3!BA31/Sheet3!$F$1","v":56.658449999999995},{"$f":"+Sheet3!BB31/Sheet3!$F$1","v":0},{"$f":"+Sheet3!BC31/Sheet3!$F$1","v":0},{"$f":"+Sheet3!BD31/Sheet3!$F$1","v":0},{"$f":"+Sheet3!BE31/Sheet3!$F$1","v":3.5216099999999995},{"$f":"+Sheet3!BF31/Sheet3!$F$1","v":0},{"$f":"+Sheet3!BG31/Sheet3!$F$1","v":0},{"$f":"+Sheet3!BH31/Sheet3!$F$1","v":0.46006000000000002},{"$f":"+Sheet3!BI31/Sheet3!$F$1","v":15.60075},{"$f":"+Sheet3!BJ31/Sheet3!$F$1","v":13.189869999999999},{"$f":"+Sheet3!BK31/Sheet3!$F$1","v":0},{"$f":"+Sheet3!BL31/Sheet3!$F$1","v":0},{"$f":"+Sheet3!BM31/Sheet3!$F$1","v":9.1799999999999989E-3},{"$f":"+Sheet3!BN31/Sheet3!$F$1","v":0},{"$f":"+Sheet3!BO31/Sheet3!$F$1","v":15.223220000000001},{"$f":"+Sheet3!BP31/Sheet3!$F$1","v":5.12765},{"$f":"+Sheet3!BQ31/Sheet3!$F$1","v":0},{"$f":"+Sheet3!BR31/Sheet3!$F$1","v":0.32963999999999999},{"$f":"+Sheet3!BS31/Sheet3!$F$1","v":604.31819000000007},{"$f":"+Sheet3!BT31/Sheet3!$F$1","v":1942.4595800000002},{"$f":"+Sheet3!BU31/Sheet3!$F$1","v":421.53141000000005},{"$f":"+Sheet3!BV31/Sheet3!$F$1","v":0.23250000000000001},{"$f":"+Sheet3!BW31/Sheet3!$F$1","v":11.196999999999999},{"$f":"+Sheet3!BX31/Sheet3!$F$1","v":338.74516999999992},{"$f":"+Sheet3!BY31/Sheet3!$F$1","v":442.83794999999998},{"$f":"+Sheet3!BZ31/Sheet3!$F$1","v":100.77611999999999},{"$f":"+Sheet3!CA31/Sheet3!$F$1","v":9.35E-2},{"$f":"+Sheet3!CB31/Sheet3!$F$1","v":1.6873099999999999},{"$f":"+Sheet3!CC31/Sheet3!$F$1","v":121.76874000000001},{"$f":"+Sheet3!CD31/Sheet3!$F$1","v":751.81376999999998},{"$f":"+Sheet3!CE31/Sheet3!$F$1","v":321.47841000000005},{"$f":"+Sheet3!CF31/Sheet3!$F$1","v":0},{"$f":"+Sheet3!CG31/Sheet3!$F$1","v":0},{"$f":"+Sheet3!CH31/Sheet3!$F$1","v":6.4570000000000002E-2},{"$f":"+Sheet3!CI31/Sheet3!$F$1","v":0},{"$f":"+Sheet3!CJ31/Sheet3!$F$1","v":0},{"$f":"+Sheet3!CK31/Sheet3!$F$1","v":0},{"$f":"+Sheet3!CL31/Sheet3!$F$1","v":0},{"$f":"+Sheet3!CM31/Sheet3!$F$1","v":0},{"$f":"+Sheet3!CN31/Sheet3!$F$1","v":5.2976000000000001},{"$f":"+Sheet3!CO31/Sheet3!$F$1","v":0},{"$f":"+Sheet3!CP31/Sheet3!$F$1","v":0},{"$f":"+Sheet3!CQ31/Sheet3!$F$1","v":0},{"$f":"+Sheet3!CR31/Sheet3!$F$1","v":0},{"$f":"+Sheet3!CS31/Sheet3!$F$1","v":0},{"$f":"+Sheet3!CT31/Sheet3!$F$1","v":0},{"$f":"+Sheet3!CU31/Sheet3!$F$1","v":0},{"$f":"+Sheet3!CV31/Sheet3!$F$1","v":5.6568700000000005},{"$f":"+Sheet3!CW31/Sheet3!$F$1","v":38.40476000000001},{"$f":"+Sheet3!CX31/Sheet3!$F$1","v":4.6177300000000008},{"$f":"+Sheet3!CY31/Sheet3!$F$1","v":26.240749999999998},{"$f":"+Sheet3!CZ31/Sheet3!$F$1","v":189.16151000000002},{"$f":"+Sheet3!DA31/Sheet3!$F$1","v":7.585490000000001},{"$f":"+Sheet3!DB31/Sheet3!$F$1","v":71.078149999999994},{"$f":"+Sheet3!DC31/Sheet3!$F$1","v":10.571050000000001},{"$f":"+Sheet3!DD31/Sheet3!$F$1","v":152.00129000000001},{"$f":"+Sheet3!DE31/Sheet3!$F$1","v":3.5216099999999995},{"$f":"+Sheet3!DF31/Sheet3!$F$1","v":29.250679999999999},{"$f":"+Sheet3!DG31/Sheet3!$F$1","v":20.360050000000005},{"$f":"+Sheet3!DH31/Sheet3!$F$1","v":2968.6388199999997},{"$f":"+Sheet3!DI31/Sheet3!$F$1","v":893.78873999999985},{"$f":"+Sheet3!DJ31/Sheet3!$F$1","v":1196.8417299999999},{"$f":"+Sheet3!DK31/Sheet3!$F$1","v":6.4570000000000002E-2},{"$f":"+Sheet3!DL31/Sheet3!$F$1","v":5.2976000000000001},{"$f":"+Sheet3!DM31/Sheet3!$F$1","v":0},{"$f":"+Sheet3!DN31/Sheet3!$F$1","v":0.32600000000000001},{"$f":"+Sheet3!DO31/Sheet3!$F$1","v":15.259109999999998},{"$f":"+Sheet3!DP31/Sheet3!$F$1","v":1213.79928},{"$f":"+Sheet3!DQ31/Sheet3!$F$1","v":3458.9405400000001},{"$f":"+Sheet3!DR31/Sheet3!$F$1","v":934.75646999999981},{"$f":"SUM(DN34:DR34)","v":5623.0813999999991}]
[]
[]
[null,"Legenda"]
[null,"MP",{"$f":"+INDEX(Sheet6!O8:Q8,1,Sheet3!$B$1)","v":"< 5 ha"}]
[null,"P",{"$f":"+INDEX(Sheet6!O9:Q9,1,Sheet3!$B$1)","v":">= 5  e < 25 ha"}]
[null,"M",{"$f":"+INDEX(Sheet6!O10:Q10,1,Sheet3!$B$1)","v":">= 25  e < 200 ha"}]
[null,"G",{"$f":"+INDEX(Sheet6!O11:Q11,1,Sheet3!$B$1)","v":">= 200  e < 1 000 ha"}]
[null,"MG",{"$f":"+INDEX(Sheet6!O12:Q12,1,Sheet3!$B$1)","v":">= 1 000 ha"}]
["Fonte: GPP a partir de dados IFAP"]
[]
[null,null,null,{"$f":"+INDEX(Sheet6!$D$2:$D$117,Sheet3!$C$1)&\" segundo Orientação Técnico Económica e \"&INDEX(Sheet6!$M$3:$M$6,Sheet3!$B$1)&\" e por NUTSIII em \" &Sheet6!$B$1","v":"            (49) - Maa - Pastoreio Extensivo Ii segundo Orientação Técnico Económica e Classes de Superfície Agrícola e por NUTSIII em 2021"},null,null,null,null,null,null,null,null,null,null,null,null,null,null,null,null,null,null,null,null,null,null,null,null,null,null,null,null,null,{"$f":"+D45& \" (cont.)\"","v":"            (49) - Maa - Pastoreio Extensivo Ii segundo Orientação Técnico Económica e Classes de Superfície Agrícola e por NUTSIII em 2021 (cont.)"},null,null,null,null,null,null,null,null,null,null,null,null,null,null,null,null,null,null,null,null,null,null,null,null,null,null,null,null,null,null,null,null,null,null,{"$f":"+AH45","v":"            (49) - Maa - Pastoreio Extensivo Ii segundo Orientação Técnico Económica e Classes de Superfície Agrícola e por NUTSIII em 2021 (cont.)"},null,null,null,null,null,null,null,null,null,null,null,null,null,null,null,null,null,null,null,null,null,null,null,null,null,null,null,null,null,{"$f":"+INDEX(Sheet6!$D$2:$D$117,Sheet3!$C$1)&\" segundo Orientação Técnico Económica por NUTSIII em \" &Sheet6!B43","v":"            (49) - Maa - Pastoreio Extensivo Ii segundo Orientação Técnico Económica por NUTSIII em 42"},null,null,null,null,null,null,null,null,null,null,null,null,null,null,null,null,null,null,{"$f":"+INDEX(Sheet6!$D$2:$D$117,Sheet3!$C$1)&CHAR(10)& \"segundo \"&INDEX(Sheet6!$M$3:$M$6,Sheet3!$B$1)& \" por NUTSIII em \" &Sheet6!$B$1","v":"            (49) - Maa - Pastoreio Extensivo Ii\nsegundo Classes de Superfície Agrícola por NUTSIII em 2021"}]
[null,null,"Unidade (%)"]
[null,null,"OTE","Não classificadas",null,null,null,null,"Arvenses e Outras Cult pred. Regadio",null,null,null,null,"Arvenses e Outras Cult pred. Sequeiro",null,null,null,null,"Arroz",null,null,null,null,"Horticultura e Industriais",null,null,null,null,"Horticultura e Floricultura",null,null,null,null,"Vinhos",null,null,null,null,"Fruticultura",null,null,null,null,"Olival",null,null,null,null,"Policultura",null,null,null,null,"Bovinos Leite",null,null,null,null,{"$f":"+BG8","v":"Bov. Carne semi-int. (>1 < 3CN por ha SF)"},null,null,null,null,{"$f":"+BL8","v":"Bov. Carne Int (>= 3CN por ha SF)"},null,null,null,null,{"$f":"+BQ8","v":"Bov. Carne Extensivos (<1 CN por ha SF)"},null,null,null,null,"Outros Ruminantes",null,null,null,null,"Mistas",null,null,null,null,"Pousio e Pastagem",null,null,null,null,"Tomate Indústria",null,null,null,null,"Plantas tuberosas",null,null,null,null,"Não classificadas","Arvenses e Outras Cult pred. Regadio","Arvenses e Outras Cult pred. Sequeiro","Arroz","Horticultura e Industriais","Horticultura e Floricultura","Vinhos","Fruticultura","Olival","Policultura","Bovinos Leite",{"$f":"+DF8","v":"Bov. Carne semi-int. (>1 < 3CN por ha SF)"},{"$f":"+DG8","v":"Bov. Carne Int (>= 3CN por ha SF)"},{"$f":"+DH8","v":"Bov. Carne Extensivos (<1 CN por ha SF)"},"Outros Ruminantes","Mistas","Pousio e Pastagem","Tomate Indústria","Plantas tuberosas","MP","P","M","G","MG","Total"]
[null,null,{"$f":"+C9","v":"Classes de Superfície Agrícola"},"MP","P","M","G","MG","MP","P","M","G","MG","MP","P","M","G","MG","MP","P","M","G","MG","MP","P","M","G","MG","MP","P","M","G","MG","MP","P","M","G","MG","MP","P","M","G","MG","MP","P","M","G","MG","MP","P","M","G","MG","MP","P","M","G","MG","MP","P","M","G","MG","MP","P","M","G","MG","MP","P","M","G","MG","MP","P","M","G","MG","MP","P","M","G","MG","MP","P","M","G","MG","MP","P","M","G","MG","MP","P","M","G","MG",null,"Arvenses e Outras Cult pred. Regadio"]
["NUTS II","Cód.","NUTS III",null,null,null,null,null,null,null,null,null,null,null,null,null,null,null,null,null,null,null,null,null,null,null,null,null,null,null,null,null,{"$f":"+\"Unidade: % \"","v":"Unidade: % "},null,null,null,null,null,null,null,null,null,null,null,null,null,null,null,null,null,null,null,null,null,null,null,null,null,null,null,null,null,{"$f":"+\"Unidade: % \"","v":"Unidade: % "},null,null,null,null,null,null,null,null,null,null,null,null,null,null,null,null,null,null,null,null,null,null,null,null,null,null,null,null,null,null,null,null,null,null,{"$f":"+\"Unidade: % \"","v":"Unidade: % "},null,null,null,null,null,null,null,null,null,null,null,null,null,null,null,null,null,null,null,null,null,null,null,null,"Unidade: % "]
["Norte ","111","Alto Minho",{"$f":"+D11/$DS$34*100","v":0},0,0,0,0,0,0,0,0,0,0,0,0,0,0,0,0,0,0,0,0,0,0,0,0,0,0,0,0,0,0,0,{"$f":"+AJ11/$DS$34*100","v":0},0,0,0,0,0,0,0,0,0,0,0,0,0,0,0,0,0,0,0,0,0,0,0,0,0,0,0,0,0,0,0,{"$f":"+BP11/$DS$34*100","v":0},0,0,0,0,0,0,0,0,0,0,0,0,0,0,0,0,0,0,0,0,0,0,0,0,0,0,0,0,0,0,0,{"$f":"+CV11/$DS$34*100","v":0},0,0,0,0,0,0,0,0,0,0,0,0,0,0,0,0,0,0,0,0,0,0,{"$f":"SUM(DN50:DR50)","v":0}]
[null,"112","Cávado",{"$f":"+D12/$DS$34*100","v":0},0,0,0,0,0,0,0,0,0,0,0,0,0,0,0,0,0,0,0,0,0,0,0,0,0,0,0,0,0,0,0,{"$f":"+AJ12/$DS$34*100","v":0},0,0,0,0,0,0,0,0,0,0,0,0,0,0,0,0,0,0,0,0,0,0,0,0,0,0,0,0,0,0,0,{"$f":"+BP12/$DS$34*100","v":0},0,0,0,0,0,0,0,0,0,0,0,0,0,0,0,0,0,0,0,0,0,0,0,0,0,0,0,0,0,0,0,{"$f":"+CV12/$DS$34*100","v":0},0,0,0,0,0,0,0,0,0,0,0,0,0,0,0,0,0,0,0,0,0,0,{"$f":"SUM(DN51:DR51)","v":0}]
[null,"119","Ave",{"$f":"+D13/$DS$34*100","v":0},0,0,0,0,0,0,0,0,0,0,0,0,0,0,0,0,0,0,0,0,0,0,0,0,0,0,0,0,0,0,0,{"$f":"+AJ13/$DS$34*100","v":0},0,0,0,0,0,0,0,0,0,0,0,0,0,0,0,0,0,0,0,0,0,0,0,0,0,0,0,{"$f":"+BL13/$DS$34*100","v":0},0,0,0,0,0,0,0,0,{"$f":"+BU13/$DS$34*100","v":0},0,0,0,0,0,0,0,0,0,0,0,0,0,0,0,0,0,0,0,0,0,0,0,0,0,0,0,0,0,0,0,{"$f":"+DA13/$DS$34*100","v":0},0,0,0,0,0,{"$f":"+DG13/$DS$34*100","v":0},0,0,0,0,0,0,0,0,0,0,0,0]
[null,"11A","Área Metropolitana do Porto",{"$f":"+D14/$DS$34*100","v":0},0,0,0,0,0,0,0,0,0,0,0,0,0,0,0,0,0,0,0,0,0,0,0,0,0,0,0,0,0,0,0,{"$f":"+AJ14/$DS$34*100","v":0},0,0,0,0,0,0,0,0,0,0,0,0,0,0,0,0,0,0,0,0,0,0,0,0,0,0,0,{"$f":"+BL14/$DS$34*100","v":0},0,0,0,0,0,0,0,0,{"$f":"+BU14/$DS$34*100","v":0},0,0,0,0,0,0,0,0,0,0,0,0,0,0,0,0,0,0,0,0,0,0,0,0,0,0,0,0,0,0,0,{"$f":"+DA14/$DS$34*100","v":0},0,0,0,0,0,{"$f":"+DG14/$DS$34*100","v":0},0,0,0,0,0,0,0,0,0,0,0,0]
[null,"11B","Alto Tâmega",{"$f":"+D15/$DS$34*100","v":0},0,0,0,0,0,0,0,0,0,0,0,0,0,0,0,0,0,0,0,0,0,0,0,0,0,0,0,0,0,0,0,{"$f":"+AJ15/$DS$34*100","v":0},0,0,0,0,0,0,0,0,0,0,0,0,0,0,0,0,0,0,0,0,0,0,0,0,0,0,0,{"$f":"+BL15/$DS$34*100","v":0},0,0,0,0,0,0,0,0,{"$f":"+BU15/$DS$34*100","v":0},0,0,0,0,0,0,0,0,0,0,0,0,0,0,0,0,0,0,0,0,0,0,0,0,0,0,0,0,0,0,0,{"$f":"+DA15/$DS$34*100","v":0},0,0,0,0,0,{"$f":"+DG15/$DS$34*100","v":0},0,0,0,0,0,0,0,0,0,0,0,0]
[null,"11C","Tâmega e Sousa",{"$f":"+D16/$DS$34*100","v":0},0,0,0,0,0,0,0,0,0,0,0,0,0,0,0,0,0,0,0,0,0,0,0,0,0,0,0,0,0,0,0,{"$f":"+AJ16/$DS$34*100","v":0},0,0,0,0,0,0,0,0,0,0,0,0,0,0,0,0,0,0,0,0,0,0,0,0,0,0,0,{"$f":"+BL16/$DS$34*100","v":0},0,0,0,0,0,0,0,0,{"$f":"+BU16/$DS$34*100","v":0},0,0,0,0,0,0,0,0,0,0,0,0,0,0,0,0,0,0,0,0,0,0,0,0,0,0,0,0,0,0,0,{"$f":"+DA16/$DS$34*100","v":0},0,0,0,0,0,{"$f":"+DG16/$DS$34*100","v":0},0,0,0,0,0,0,0,0,0,0,0,0]
[null,"11D","Douro",{"$f":"+D17/$DS$34*100","v":0},0,0,0,0,0,0,0,0,0,0,0,0,0,0,0,0,0,0,0,0,0,0,0,0,0,0,0,0,0,0,0,{"$f":"+AJ17/$DS$34*100","v":0},0,0,0,0,0,0,0,0,0,0,0,0,0,0,0,0,0,0,0,0,0,0,0,0,0,0,0,{"$f":"+BL17/$DS$34*100","v":0},0,0,0,0,0,0,0,0,{"$f":"+BU17/$DS$34*100","v":0},0,0,0,0,0,0,0,0,0,0,0,0,0,0,0,0,0,0,0,0,0,0,0,0,0,0,0,0,0,0,0,{"$f":"+DA17/$DS$34*100","v":0},0,0,0,0,0,{"$f":"+DG17/$DS$34*100","v":0},0,0,0,0,0,0,0,0,0,0,0,0]
[null,"11E","Terras de Trás-os-Montes",{"$f":"+D18/$DS$34*100","v":0},0,0,0,0,0,0,0,0,0,0,0,0,0,0,0,0,0,0,0,0,0,0,0,0,0,0,0,0,0,0,0,{"$f":"+AJ18/$DS$34*100","v":0},0,0,0,0,0,0,0,0,0,0,0,0,0,0,4.2681224568436801E-3,0,0,0,0,0,0,0,0,0,0,0,0,{"$f":"+BL18/$DS$34*100","v":0},0,0,0,0,0,0,8.4885308613885629E-2,7.488883230465064E-2,{"$f":"+BU18/$DS$34*100","v":0},0,0,0,0,0,0,0,7.4670802382480186E-3,0,0,0,0,0,0,0,0,0,0,0,0,0,0,0,0,0,0,0,0,0,0,0,{"$f":"+DA18/$DS$34*100","v":0},0,0,4.2681224568436801E-3,0,0,{"$f":"+DG18/$DS$34*100","v":0},0.15977414091853626,0,7.4670802382480186E-3,0,0,0,0,0,9.6620511308977336E-2,7.488883230465064E-2,0,0.17150934361362796]
["Centro","16B","Oeste",{"$f":"+D19/$DS$34*100","v":0},0,0,0,0,0,0,0,0,0,0,0,0,0,0,0,0,0,0,0,0,0,0,0,0,0,0,0,0,0,0,0,{"$f":"+AJ19/$DS$34*100","v":0},0,0,0,0,0,0,0,0,0,0,0,0,0,0,0,0,0,0,0,0,0,0,0,0,0,0,0,{"$f":"+BL19/$DS$34*100","v":0},0,0,0,0,0,0,0,3.6756892759902071E-2,{"$f":"+BU19/$DS$34*100","v":0},0,0,0,0,0,0,0,0,0,0,0,0,0,0,0,0,0,0,0,0,0,0,0,0,0,0,0,0,0,0,0,{"$f":"+DA19/$DS$34*100","v":0},0,0,0,0,0,{"$f":"+DG19/$DS$34*100","v":0},3.6756892759902071E-2,0,0,0,0,0,0,0,0,3.6756892759902071E-2,0,3.6756892759902071E-2]
[null,"16D","Região de Aveiro",{"$f":"+D20/$DS$34*100","v":0},0,0,0,0,0,0,0,0,0,0,0,0,0,0,0,0,0,0,0,0,0,0,0,0,0,0,0,0,0,0,0,{"$f":"+AJ20/$DS$34*100","v":0},0,0,0,0,0,0,0,0,0,0,0,0,0,0,0,0,0,0,0,0,0,0,0,0,0,0,0,{"$f":"+BL20/$DS$34*100","v":0},0,0,0,0,0,0,0,0,{"$f":"+BU20/$DS$34*100","v":0},0,0,0,0,0,0,0,0,0,0,0,0,0,0,0,0,0,0,0,0,0,0,0,0,0,0,0,0,0,0,0,{"$f":"+DA20/$DS$34*100","v":0},0,0,0,0,0,{"$f":"+DG20/$DS$34*100","v":0},0,0,0,0,0,0,0,0,0,0,0,0]
[null,"16E","Região de Coimbra",{"$f":"+D21/$DS$34*100","v":0},0,0,0,0,0,0,0,0,0,0,0,0,0,0,0,0,0,0,0,0,0,0,0,0,0,0,0,0,0,0,0,{"$f":"+AJ21/$DS$34*100","v":0},0,0,0,0,0,0,0,0,0,0,0,0,0,0,0,0,0,0,0,0,0,0,0,0,0,0,0,{"$f":"+BL21/$DS$34*100","v":0},0,0,0,0,0,0,0,0,{"$f":"+BU21/$DS$34*100","v":0},0,0,0,0,0,0,0,0,0,0,0,0,0,0,0,0,0,0,0,0,0,0,0,0,0,0,0,0,0,0,0,{"$f":"+DA21/$DS$34*100","v":0},0,0,0,0,0,{"$f":"+DG21/$DS$34*100","v":0},0,0,0,0,0,0,0,0,0,0,0,0]
[null,"16F","Região de Leiria",{"$f":"+D22/$DS$34*100","v":0},0,0,0,0,0,0,0,0,0,0,0,0,0,0,0,0,0,0,0,0,0,0,0,0,0,0,0,0,0,0,0,{"$f":"+AJ22/$DS$34*100","v":0},0,0,0,0,0,0,0,0,0,0,0,0,0,0,0,0,0,0,0,0,0,0,0,0,0,0,0,{"$f":"+BL22/$DS$34*100","v":0},0,0,0,0,0,0,0,0,{"$f":"+BU22/$DS$34*100","v":0},0,0,0,0,0,0,0,0,0,0,0,0,0,0,0,0,0,0,0,0,0,0,0,0,0,0,0,0,0,0,0,{"$f":"+DA22/$DS$34*100","v":0},0,0,0,0,0,{"$f":"+DG22/$DS$34*100","v":0},0,0,0,0,0,0,0,0,0,0,0,0]
[null,"16G","Viseu Dão Lafões",{"$f":"+D23/$DS$34*100","v":0},0,0,0,0,0,0,0,0,0,0,0,0,0,0,0,0,0,0,0,0,0,0,0,0,0,0,0,0,0,0,0,{"$f":"+AJ23/$DS$34*100","v":0},0,0,0,0,0,0,0,0,0,0,0,0,0,0,0,0,0,0,0,0,0,0,0,0,0,0,0,{"$f":"+BL23/$DS$34*100","v":0},0,0,0,0,0,0,0,0,{"$f":"+BU23/$DS$34*100","v":0},0,0,0,0,0,0,0,0,0,0,0,0,0,0,0,0,0,0,0,0,0,0,0,0,0,0,0,0,0,0,0,{"$f":"+DA23/$DS$34*100","v":0},0,0,0,0,0,{"$f":"+DG23/$DS$34*100","v":0},0,0,0,0,0,0,0,0,0,0,0,0]
[null,"16H","Beira Baixa",{"$f":"+D24/$DS$34*100","v":0},0,0,0,0,0,0,0,0,0,0,0,0,0.13077936236171153,0,0,0,0,0,0,0,0,4.3957926698340172E-2,0,0,0,0,4.7571781550236865E-3,0,0,0,0,{"$f":"+AJ24/$DS$34*100","v":0},0,0,0,0,0,3.6408862941233612E-2,0,0,0,0,0,0,0,0,0,0,0,0,0,0,0,0,0,0,0,0,0,{"$f":"+BL24/$DS$34*100","v":0},0,0,6.9108727467470071E-2,0,0,0,0.59583487445157746,1.4584128197041575,{"$f":"+BU24/$DS$34*100","v":0.16487508076977156},0,1.9295470273647474E-3,0.38916704993813539,0.79306356831327418,0.23176171698314738,0,0,2.9897842133318583E-2,6.5472109295803549E-2,0,0,0,0,0,0,0,0,0,0,0,0,0,0,0,0,0,0,0.13077936236171153,0,4.3957926698340172E-2,4.7571781550236865E-3,{"$f":"+DA24/$DS$34*100","v":0},3.6408862941233612E-2,0,0,0,0,{"$f":"+DG24/$DS$34*100","v":6.9108727467470071E-2},2.2191227749255065,1.4159218822619217,9.5369951429122149E-2,0,0,0,0,1.9295470273647474E-3,1.0636148713763953,2.5532454500836508,0.39663679775291899,4.0154266662403302]
[null,"16I","Médio Tejo",{"$f":"+D25/$DS$34*100","v":0},0,0,0,0,0,0,0,0,0,0,0,0,0,0,0,0,0,0,0,0,0,0,0,0,0,0,0,0,0,0,0,{"$f":"+AJ25/$DS$34*100","v":0},0,0,0,0,1.614310616239701E-2,0,0,0,0,0,0,0,0,0,0,0,0,0,0,0,0,0,0,0,0,0,0,{"$f":"+BL25/$DS$34*100","v":0},0,0,0,0,0,0,0,9.6391988919100488E-2,{"$f":"+BU25/$DS$34*100","v":0},0,0,0.15455155957728089,0,0,0,0,0,0.12995259147413374,6.6883257283097491E-2,0,0,0,0,0,0,0,0,0,0,0,0,0,0,0,0,0,0,0,0,0,{"$f":"+DA25/$DS$34*100","v":0},1.614310616239701E-2,0,0,0,0,{"$f":"+DG25/$DS$34*100","v":0},9.6391988919100488E-2,0.15455155957728089,0.19683584875723123,0,0,0,0,0,0.17069466573967793,0.22634458039323427,6.6883257283097491E-2,0.46392250341600971]
[null,"16J","Beiras e Serra da Estrela",{"$f":"+D26/$DS$34*100","v":0},0,0,0,0,0,0,0,0,0,0,0,0,0,0,0,0,0,0,0,0,0,0,0,0,0,3.3255787476240343E-3,2.7406859164443187E-2,0,0,0,7.1846728023535296E-3,{"$f":"+AJ26/$DS$34*100","v":0},0,0,0,0,0,0,0,0,0,0,0,0,0,6.5569031243261043E-3,0,0,0,0,0,0,0,0,0,0,0,0,0,{"$f":"+BL26/$DS$34*100","v":0},0,0,0,0,0,3.1881096368265279E-3,0.70001885443095313,0.22248833175347599,{"$f":"+BU26/$DS$34*100","v":0},0,8.7861079158484193E-3,9.4091293076426039E-2,1.5244310708360014E-2,0,1.6627893738120172E-3,8.4987210037542772E-3,2.3602717186345552E-2,0,0,0,0,0,0,0,0,0,0,0,0,0,0,0,0,0,0,0,0,0,0,3.0732437912067218E-2,{"$f":"+DA26/$DS$34*100","v":7.1846728023535296E-3},0,0,6.5569031243261043E-3,0,0,{"$f":"+DG26/$DS$34*100","v":0},0.92569529582125554,0.11812171170063447,3.3764227563911856E-2,0,0,0,1.6627893738120172E-3,3.7540093230732895E-2,0.84511972385816791,0.23773264246183604,0,1.1220552489245488]
["AML","170","Área Metropolitana de Lisboa",{"$f":"+D27/$DS$34*100","v":0},0,0,0,0,0,0,0,0,0,0,0,0,0,0,0,0,0,0,0,0,0,0,0,0,0,0,0,6.0809185511701835E-2,0,0,0,{"$f":"+AJ27/$DS$34*100","v":0},0,0,0,0,2.3503127662352534E-3,0,0,0,0,0,0,0,0,0,0,0,0,0,0,0,0,0,0,0,0,0,0,{"$f":"+BL27/$DS$34*100","v":0},0,0,0,0,0,0,0.10115681412685937,0.25340358757744469,{"$f":"+BU27/$DS$34*100","v":0.15596430811049616},0,0,0,0,0,0,0,0,0.50263472977645329,0.11439670782642415,0,0,0,0,0,0,0,0,0,0,0,0,0,0,0,0,0,0,0,0,6.0809185511701835E-2,{"$f":"+DA27/$DS$34*100","v":0},2.3503127662352534E-3,0,0,0,0,{"$f":"+DG27/$DS$34*100","v":0},0.51052470981480025,0,0.61703143760287738,0,0,0,0,0,0.10350712689309462,0.81684750286559971,0.2703610159369203,1.1907156456956147]
["Alentejo","181","Alentejo Litoral",{"$f":"+D28/$DS$34*100","v":0},0,0,0,0,0,0,0,0,5.3286797519950545E-2,0,0,1.5369686805529796E-2,0,0,0,0,0,0,0,0,0,3.7531912662690604E-2,0,0,0,0,4.0714331469574677E-2,1.1767569290389432E-2,0,0,0,{"$f":"+AJ28/$DS$34*100","v":0},0,0,0,7.6203769698229883E-4,7.1710503781787713E-2,0.22471753654499829,0,0,0,0,0,0,0,0,7.2983115627669917E-2,9.1128860414505131E-2,0.12334429304188982,0,0,0,0,0,0,0,0,1.0541728953096787E-2,0,{"$f":"+BL28/$DS$34*100","v":0},0,0,3.2625528060113096E-2,0,0,0,0.52931458541574739,1.996005072948082,{"$f":"+BU28/$DS$34*100","v":0.57758616121047079},0,3.8275455162359917E-2,0.7580459354545358,0.75164979827608402,0.20744711253868744,0,2.5697653958912992E-3,9.6504560648899729E-2,1.6575874217293034,0.63478629350804006,0,0,0,0,0,0,0,0,0,0,0,0,0,0,0,0,5.3286797519950545E-2,1.5369686805529796E-2,0,3.7531912662690604E-2,5.248190075996411E-2,{"$f":"+DA28/$DS$34*100","v":0},0.29719007802376823,0,0.28745626908406485,0,1.0541728953096787E-2,{"$f":"+DG28/$DS$34*100","v":3.2625528060113096E-2},3.1029058195742998,1.7554183014316671,2.3914480412821346,0,0,0,0,4.1607258255233509E-2,1.6221746318664358,4.7760235162165721,1.5964506578190387,8.0362560641572802]
[null,"184","Baixo Alentejo",{"$f":"+D29/$DS$34*100","v":0},0,0,0,0,0,0,0,0,0,0,0,0,7.876997832540715E-2,0.14375232056928788,0,0,0,0,0,0,0,4.8066172401487924E-2,4.0456465737807042E-2,0,0,0,2.0568793473272505E-3,0.13379354600842167,0,0,0,{"$f":"+AJ29/$DS$34*100","v":3.0814421430925762E-2},0,0,0,0,5.7419940604096546E-2,4.8978483576638247E-2,0,0,0,2.2298272260472703E-2,9.4109254758431946E-2,0,0,0,7.4568723120387356E-2,0.21801711780306082,8.7246113847827295E-2,0,0,0,0,0,0,0,2.8368609424718628E-2,2.2885316936724409E-2,0,{"$f":"+BL29/$DS$34*100","v":0},0,0,0,0,0,0,1.8680556536136932,4.7202466249199251,{"$f":"+BU29/$DS$34*100","v":1.2737347177652454},0,8.8741379415208186E-3,1.0659931047770359,1.5743750392800646,4.7682041380371992E-2,0,0,0.40646432754823725,1.8920298752922202,0.80515178030323376,0,0,0,0,0,0,0,0,0,0,0,0,0,0,0,0,0,0.22252229889469505,0,8.8522638139294965E-2,0.1358504253557489,{"$f":"+DA29/$DS$34*100","v":3.0814421430925762E-2},0.10639842418073481,0.11640752701890464,0.37983195477127552,0,5.125392636144304E-2,{"$f":"+DG29/$DS$34*100","v":0},7.8620369962988645,2.6969243233789939,3.1036459831436911,0,0,0,0,8.8741379415208186E-3,3.6041061045283826,8.8236617026387005,2.3575669738659664,14.79420891897457]
[null,"185","Lezíria do Tejo",{"$f":"+D30/$DS$34*100","v":0},0,0,0,0,0,0,0,4.4972494974019062E-2,0,0,0,0,0,0.15083758168608408,0,0,2.6705642212470911E-2,5.541534575686563E-2,0,0,0,0,0,0,0,0,0,0,0,0,0,{"$f":"+AJ30/$DS$34*100","v":0},0,0,0,0,0,0.10465987563331382,0.17113463802960424,0,0,0,0,0,0,0,0,3.6643609676360024E-2,0.41524261057291484,0,0,0,0,0,0,0,1.4641082734459439E-2,0,0,{"$f":"+BL30/$DS$34*100","v":0},0,0,3.063853921801666E-2,7.46912538025859E-2,0,0,0.28517584682306041,0.7846688827944055,{"$f":"+BU30/$DS$34*100","v":0},0,0,1.6451833686775372E-3,5.7010556525110959E-2,5.2526360368889566E-2,0,0,0.1338362272329901,0.25984276165733616,1.0706528274692948,0,0,0,0,0,0,0,0,0,0,0,0,0,0,0,0,4.4972494974019062E-2,0.15083758168608408,8.2120987969336548E-2,0,0,{"$f":"+DA30/$DS$34*100","v":0},0.27579451366291807,0,0.45188622024927477,0,1.4641082734459439E-2,{"$f":"+DG30/$DS$34*100","v":0.10532979302060257},1.0698447296174658,0.11118210026267808,1.4643318163596213,0,0,0,0,0,0.46200398237165846,1.3738520662354279,1.9350852719293734,3.7709413205364597]
[null,"186","Alto Alentejo",{"$f":"+D31/$DS$34*100","v":0},0,0,0,0,0,2.341598682885864E-3,0,0,0,0,0,8.7763623695719592E-2,7.571169074664294E-2,0,0,0,0,0,0,0,0,0,0.12786281201620167,0,0,0,0.2766716128277994,0.73526287561833992,0,0,0,{"$f":"+AJ31/$DS$34*100","v":3.24498236856397E-2},0,0,0,0,0.10807508495253154,0,0,0,0,7.1586372553667829E-2,0,0,0,0,5.5354525011855608E-2,0.51379711487014934,0,0,0,0,1.8841804424172132E-2,0,0,6.7374091365634521E-3,0.1286476130329538,2.7092262971686664E-2,0,{"$f":"+BL31/$DS$34*100","v":0},0,0,0,0,0,2.6741565576482679E-3,3.0455579035366633,10.746920362917029,{"$f":"+BU31/$DS$34*100","v":1.6776339037169197},2.4452784909000254E-3,6.6910644402195574E-2,1.9008444373577806,1.6892711174339394,0.11271133297127801,0,1.5950684974967641E-2,0.63025497016635756,2.775183905393936,1.5857438947976106,0,0,1.0769895666102223E-3,0,0,0,0,0,0,0,0,0,0,0,0,0,2.341598682885864E-3,0.16347531444236255,0,0.12786281201620167,1.0119344884461394,{"$f":"+DA31/$DS$34*100","v":3.24498236856397E-2},0.10807508495253154,7.1586372553667829E-2,0.56915163988200501,1.8841804424172132E-2,0.16247728514120391,{"$f":"+DG31/$DS$34*100","v":0},15.472786326728261,3.7721828106560933,5.0071334553328715,1.0769895666102223E-3,0,0,2.4452784909000254E-3,9.4614493754260801E-2,6.3382829563875793,16.709943946392098,3.3760891314858084,26.521375806510648]
[null,"187","Alentejo Central",{"$f":"+D32/$DS$34*100","v":0},0,0,0,0,0,0,0,0,0,0,0,0,0,0,0,0,0,0,0,0,0,0.10346782459880451,6.5318279048921485E-2,0,0,7.8551237049493891E-3,0.71908117851539555,1.3405167849784287,0,0,0,{"$f":"+AJ32/$DS$34*100","v":4.8639701356626291E-2},1.5810548287634608E-2,0,0,0,4.6532493731995417E-2,0.37514982443611794,0,0,0,0,0,0,0,0,0.22187407779656187,0.40036998219517156,0.38177199426634661,0,0,0,4.3785956931016515E-2,0,0,1.4442259363344804E-3,0.10578399238538501,0.17404727592952865,0,{"$f":"+BL32/$DS$34*100","v":0},1.6325568397427078E-4,0,0.13835456836886625,1.6498071680057846E-2,0,0,3.5357309606081819,14.154213915523259,{"$f":"+BU32/$DS$34*100","v":3.6466544837853498},1.6894651391672901E-3,7.4349804006038397E-2,1.6598525498848375,2.9792175869977626,1.1400581894475157,0,2.9876857197905764E-3,0.83748849874376718,6.0874350849696039,1.4395069934431326,0,0,7.1313212716429824E-5,0,0,0,0,0,9.4211689697396184E-2,0,0,0,0,0,0,0,0,0,0,0.168786103647726,2.0674530871987731,{"$f":"+DA32/$DS$34*100","v":6.4450249644260896E-2},0.42168231816811336,0,1.00401605425808,4.3785956931016515E-2,0.28127549425124809,{"$f":"+DG32/$DS$34*100","v":0.15501589573289837},21.336599359916793,5.8551675954753213,8.3674182628762939,7.1313212716429824E-5,9.4211689697396184E-2,0,1.6894651391672901E-3,8.6800095051087128E-2,7.2785225908342719,25.868431497363716,6.6244897326224015,39.859933381010642]
["Algarve","150","Algarve",{"$f":"+D33/$DS$34*100","v":0},0,0,0,0,0,0,0,0,0,0,0,0,0,0,0,0,0,0,0,0,0,0,0,0,0,0,0,0,0,0,0,{"$f":"+AJ33/$DS$34*100","v":0},0,0,0,0,0,0,0,0,0,0,0,0,0,0,0,0,0,0,0,0,0,0,0,0,0,0,0,{"$f":"+BL33/$DS$34*100","v":0},0,0,0,0,0,0,1.3693559549040142E-3,0,{"$f":"+BU33/$DS$34*100","v":0},0,0,0,1.5528852205482929E-2,0,0,0,0,0,0,0,0,0,0,0,0,0,0,0,0,0,0,0,0,0,0,0,0,0,0,0,{"$f":"+DA33/$DS$34*100","v":0},0,0,0,0,0,{"$f":"+DG33/$DS$34*100","v":0},1.3693559549040142E-3,1.5528852205482929E-2,0,0,0,0,0,0,1.3693559549040142E-3,1.5528852205482929E-2,0,1.6898208160386941E-2]
["Continente",null,null,{"$f":"+D34/$DS$34*100","v":0},0,0,0,0,0,2.341598682885864E-3,0,4.4972494974019062E-2,5.3286797519950545E-2,0,0,0.10313331050124941,0.28526103143376158,0.29458990225537196,0,0,2.6705642212470911E-2,5.541534575686563E-2,0,0,0,0.23302383636132318,0.23363755680293019,0,0,1.1180702452573426E-2,1.0706880394795637,2.2821499614072818,0,0,7.1846728023535296E-3,{"$f":"+AJ34/$DS$34*100","v":0.11190394647319175},1.5810548287634608E-2,0,0,7.6203769698229883E-4,0.3022314419990435,0.7899145831323019,0.17113463802960424,0,0,9.3884644814140536E-2,9.4109254758431946E-2,0,0,6.5569031243261043E-3,0.42904856401331842,1.259956684959247,1.0076050117289783,0,0,0,6.2627761355188633E-2,0,0,8.1816350728979321E-3,0.2774412975775169,0.23456658479103651,0,{"$f":"+BL34/$DS$34*100","v":0},1.6325568397427078E-4,0,0.2707273631144661,9.1189325482643746E-2,0,5.8622661944747953E-3,10.747100157575527,34.54439731212144,{"$f":"+BU34/$DS$34*100","v":7.4964486553582548},4.1347436300673158E-3,0.19912569645532788,6.0241911134347079,7.875360829740079,1.7921867536898899,1.6627893738120172E-3,3.0006857094403795E-2,2.1655162238981642,13.370138479588793,5.7171217546308348,0,0,1.148302779326652E-3,0,0,0,0,0,9.4211689697396184E-2,0,0,0,0,0,0,0,0.10060089117685549,0.68298424419038317,8.2120987969336548E-2,0.46666139316425337,3.3640187033394193,{"$f":"+DA34/$DS$34*100","v":0.13489916756317988},1.2640427008579318,0.18799389957257248,2.7031671638258703,6.2627761355188633E-2,0.52018951744145125,{"$f":"+DG34/$DS$34*100","v":0.3620799442810842},52.793808391249684,15.894999136950073,21.284446104586003,1.148302779326652E-3,9.4211689697396184E-2,0,5.7975330038793332E-3,0.27136562526019986,21.586016521119543,61.513257481920867,16.623562838695523,{"$f":"SUM(DS50:DS72)","v":100.00000000000001}]
[]
[]
[null,"Legenda"]
[null,"MP",{"$f":"+C38","v":"< 5 ha"}]
[null,"P",{"$f":"+C39","v":">= 5  e < 25 ha"}]
[null,"M",">= 25  e < 200 ha"]
[null,"G",">= 200  e < 1 000 ha"]
[null,"MG",">= 1 000 ha"]
["Fonte: GPP a partir de dados IFAP"]

{"sheet":"CHART-Geral","index":2,"n_rows":59,"n_cols":39,"rows_kept":59,"cut":false,"hidden":true,"merged":[[0,0,1,17],[4,12,4,13],[30,7,32,10],[58,0,58,2],[4,2,4,7]]}
[{"$f":"+\"Valores Globais \" & TRIM(INDEX(Sheet6!$D$2:$D$117,Sheet3!$C$1))","v":"Valores Globais (49) - Maa - Pastoreio Extensivo Ii"}]
[]
[null,"Tipo de Beneficiário:",{"$f":"INDEX(Sheet6!$P$1:$P$6,Sheet3!$A$2)","v":"Todos os Produtores do PU"},null,null,null,null,null,null,null,null,null,null,null,"Valor total:",{"$f":"+Base!$DS$34","v":5623.0813999999991},{"$f":"+\"(\" & (INDEX(Sheet6!$G$2:$G$117,Sheet3!$C$1)) & \")\"","v":"(1000 €)"}]
[null,null,null,null,null,null,null,null,null,null,null,null,null,null,null,null,null,null,null,null,null,null,null,null,null,null,null,null,null,null,null,null,null,null,null,null,{"$f":"+Base!A11","v":"Norte "},{"$f":"+SUM(Base!DS11:DS18)","v":9.6441100000000013}]
[null,null,{"$f":"+\"Por \" & INDEX(Sheet6!$M$3:$M$6,Sheet3!$B$1)","v":"Por Classes de Superfície Agrícola"},null,null,null,null,null,null,null,null,null,"Por NUTII",null,null,null,null,null,null,null,null,null,null,null,null,null,null,null,null,null,null,null,null,null,null,null,{"$f":"+Base!A19","v":"Centro"},{"$f":"+SUM(Base!DS19:DS26)","v":317.03840000000002}]
[null,null,null,null,null,null,null,null,null,null,null,null,null,null,null,null,null,null,null,null,null,null,null,null,null,null,null,null,null,null,null,null,null,null,null,null,{"$f":"+Base!A27","v":"AML"},{"$f":"+SUM(Base!DS27)","v":66.954909999999998}]
[null,null,null,null,null,null,null,null,null,null,null,null,null,null,null,null,null,null,null,null,null,null,null,null,null,null,null,null,null,null,null,null,null,null,null,null,{"$f":"+Base!A28","v":"Alentejo"},{"$f":"+SUM(Base!DS28:DS32)","v":5228.4937799999998}]
[null,null,null,null,null,null,null,null,null,null,null,null,null,null,null,null,null,null,null,null,null,null,null,null,null,null,null,null,null,null,null,null,null,null,null,null,{"$f":"+Base!A33","v":"Algarve"},{"$f":"+SUM(Base!DS33)","v":0.95020000000000004}]
[null,null,null,null,null,null,null,null,null,null,null,null,null,null,null,null,null,null,null,null,null,null,null,null,null,null,null,null,null,null,null,null,null,null,null,null,null,{"$f":"SUM(AL4:AL8)","v":5623.0814},{"$f":"+AL9-Base!DS34","v":0}]
[]
[]
[]
[null,null,null,null,null,null,null,null,null,null,null,null,null,null,null,null,null,null,null,null,null,null,null,null,null,null,null,null,null,null,null,null,null,null,null,null,"Grandes Culturas (Arvenses e Industriais)",{"$f":"+SUM(Base!CV34:CY34)+Base!DL34+Base!DM34","v":80.217710000000011}]
[null,null,null,null,null,null,null,null,null,null,null,null,null,null,null,null,null,null,null,null,null,null,null,null,null,null,null,null,null,null,null,null,null,null,null,null,"Horticultura Intensiva",{"$f":"+Base!CZ34","v":189.16151000000002}]
[null,null,null,null,null,null,null,null,null,null,null,null,null,null,null,null,null,null,null,null,null,null,null,null,null,null,null,null,null,null,null,null,null,null,null,null,"Culturas Permanentes",{"$f":"+SUM(Base!DA34:DC34)","v":89.234690000000001}]
[null,null,null,null,null,null,null,null,null,null,null,null,null,null,null,null,null,null,null,null,null,null,null,null,null,null,null,null,null,null,null,null,null,null,null,null,"Leite",{"$f":"+Base!DE34","v":3.5216099999999995}]
[null,null,null,null,null,null,null,null,null,null,null,null,null,null,null,null,null,null,null,null,null,null,null,null,null,null,null,null,null,null,null,null,null,null,null,null,"Outros herbívoros",{"$f":"+SUM(Base!DF34:DI34)","v":3912.0382899999995}]
[null,null,null,null,null,null,null,null,null,null,null,null,null,null,null,null,null,null,null,null,null,null,null,null,null,null,null,null,null,null,null,null,null,null,null,null,"Mistas",{"$f":"+Base!DD34+Base!DJ34+Base!DK34+Base!CU34","v":1348.9075899999998}]
[null,null,null,null,null,null,null,null,null,null,null,null,null,null,null,null,null,null,null,null,null,null,null,null,null,null,null,null,null,null,null,null,null,null,null,null,null,{"$f":"SUM(AL13:AL18)","v":5623.0813999999991}]
[]
[]
[]
[]
[]
["Legenda"]
["MP",{"$f":"+Base!C38","v":"< 5 ha"}]
["P",{"$f":"+Base!C39","v":">= 5  e < 25 ha"}]
["M",{"$f":"+Base!C40","v":">= 25  e < 200 ha"}]
["G",{"$f":"+Base!C41","v":">= 200  e < 1 000 ha"}]
["MG",{"$f":"+Base!C42","v":">= 1 000 ha"}]
[null,null,null,null,null,null,null,"Por Grande Orientação Produtiva"]
[]
[]
[]
[]
[]
[]
[]
[]
[]
[]
[]
[]
[]
[]
[]
[]
[]
[]
[]
[]
[]
[]
[]
[]
[]
[]
[]
["Fonte: GPP a partir de dados IFAP"]

{"sheet":"CHART-NUTIII-DE","index":3,"n_rows":89,"n_cols":19,"rows_kept":89,"cut":false,"hidden":true,"merged":[[0,0,1,19],[46,0,47,19],[2,16,2,17],[88,0,88,2]]}
[{"$f":"+INDEX(Sheet6!$D$2:$D$117,Sheet3!$C$1)& \" por NUTIII e por \" & INDEX(Sheet6!$M$3:$M$6,Sheet3!$B$1)","v":"            (49) - Maa - Pastoreio Extensivo Ii por NUTIII e por Classes de Superfície Agrícola"}]
[]
[{"$f":"+Base!C7","v":"Unidade: 1000 €"},null,null,"Tipo de Beneficiário:",{"$f":"INDEX(Sheet6!$P$1:$P$6,Sheet3!$A$2)","v":"Todos os Produtores do PU"},null,null,null,null,null,null,null,null,null,null,"Valor total:",{"$f":"+Base!$DS$34","v":5623.0813999999991},null,{"$f":"+\"(\" & (INDEX(Sheet6!$G$2:$G$117,Sheet3!$C$1)) & \")\"","v":"(1000 €)"}]
[]
[]
[]
[]
[]
[]
[]
[]
[]
[]
[]
[]
[]
[]
[]
[]
[]
[]
[]
[]
[]
[]
[]
[]
[]
[]
[]
[]
[]
[]
[]
[]
[]
[]
[]
[]
["Legenda"]
["MP",{"$f":"+Base!C38","v":"< 5 ha"}]
["P",{"$f":"+Base!C39","v":">= 5  e < 25 ha"}]
["M",{"$f":"+Base!C40","v":">= 25  e < 200 ha"}]
["G",{"$f":"+Base!C41","v":">= 200  e < 1 000 ha"}]
["MG",{"$f":"+Base!C42","v":">= 1 000 ha"}]
[]
[{"$f":"+\"Estrutura: \"&INDEX(Sheet6!$D$2:$D$117,Sheet3!$C$1)& \", por NUTIII e por \" & INDEX(Sheet6!$M$3:$M$6,Sheet3!$B$1)","v":"Estrutura:             (49) - Maa - Pastoreio Extensivo Ii, por NUTIII e por Classes de Superfície Agrícola"}]
[]
[]
[]
[]
[]
[]
[]
[]
[]
[]
[]
[]
[]
[]
[]
[]
[]
[]
[]
[]
[]
[]
[]
[]
[]
[]
[]
[]
[]
[]
[]
[]
[]
[]
[]
[]
[]
[]
[]
[]
[]
["Fonte: GPP a partir de dados IFAP"]

{"sheet":"CHART-NUTIII-GOP","index":4,"n_rows":89,"n_cols":42,"rows_kept":89,"cut":false,"hidden":true,"merged":[[0,0,1,19],[46,0,47,19],[2,16,2,17],[88,0,88,2]]}
[{"$f":"+INDEX(Sheet6!$D$2:$D$117,Sheet3!$C$1)& \" por NUTIII e por Grande Orientação Produtiva\"","v":"            (49) - Maa - Pastoreio Extensivo Ii por NUTIII e por Grande Orientação Produtiva"}]
[]
[{"$f":"+Base!C7","v":"Unidade: 1000 €"},null,null,"Tipo de Beneficiário:",{"$f":"INDEX(Sheet6!$P$1:$P$6,Sheet3!$A$2)","v":"Todos os Produtores do PU"},null,null,null,null,null,null,null,null,null,null,"Valor total:",{"$f":"+Base!$DS$34","v":5623.0813999999991},null,{"$f":"+\"(\" & (INDEX(Sheet6!$G$2:$G$117,Sheet3!$C$1)) & \")\"","v":"(1000 €)"}]
[]
[null,null,null,null,null,null,null,null,null,null,null,null,null,null,null,null,null,null,null,null,null,null,null,null,null,null,null,null,null,null,null,null,null,null,null,null,"Grandes Culturas (Arvenses e Industriais)","Horticultura Intensiva","Culturas Permanentes","Leite","Outros herbívoros","Mistas"]
[null,null,null,null,null,null,null,null,null,null,null,null,null,null,null,null,null,null,null,null,null,null,null,null,null,null,null,null,null,null,null,null,null,null,null,{"$f":"Base!C11","v":"Alto Minho"},{"$f":"SUM(Base!CV11:CY11)+Base!DL11+Base!DM11","v":0},{"$f":"Base!CZ11","v":0},{"$f":"SUM(Base!DA11:DC11)","v":0},{"$f":"Base!DE11","v":0},{"$f":"SUM(Base!DF11:DI11)","v":0},{"$f":"Base!DD11+Base!DJ11+Base!DK11+Base!CU11","v":0}]
[null,null,null,null,null,null,null,null,null,null,null,null,null,null,null,null,null,null,null,null,null,null,null,null,null,null,null,null,null,null,null,null,null,null,null,{"$f":"Base!C12","v":"Cávado"},{"$f":"SUM(Base!CV12:CY12)+Base!DL12+Base!DM12","v":0},{"$f":"Base!CZ12","v":0},{"$f":"SUM(Base!DA12:DC12)","v":0},{"$f":"Base!DE12","v":0},{"$f":"SUM(Base!DF12:DI12)","v":0},{"$f":"Base!DD12+Base!DJ12+Base!DK12+Base!CU12","v":0}]
[null,null,null,null,null,null,null,null,null,null,null,null,null,null,null,null,null,null,null,null,null,null,null,null,null,null,null,null,null,null,null,null,null,null,null,{"$f":"Base!C13","v":"Ave"},{"$f":"SUM(Base!CV13:CY13)+Base!DL13+Base!DM13","v":0},{"$f":"Base!CZ13","v":0},{"$f":"SUM(Base!DA13:DC13)","v":0},{"$f":"Base!DE13","v":0},{"$f":"SUM(Base!DF13:DI13)","v":0},{"$f":"Base!DD13+Base!DJ13+Base!DK13+Base!CU13","v":0}]
[null,null,null,null,null,null,null,null,null,null,null,null,null,null,null,null,null,null,null,null,null,null,null,null,null,null,null,null,null,null,null,null,null,null,null,{"$f":"Base!C14","v":"Área Metropolitana do Porto"},{"$f":"SUM(Base!CV14:CY14)+Base!DL14+Base!DM14","v":0},{"$f":"Base!CZ14","v":0},{"$f":"SUM(Base!DA14:DC14)","v":0},{"$f":"Base!DE14","v":0},{"$f":"SUM(Base!DF14:DI14)","v":0},{"$f":"Base!DD14+Base!DJ14+Base!DK14+Base!CU14","v":0}]
[null,null,null,null,null,null,null,null,null,null,null,null,null,null,null,null,null,null,null,null,null,null,null,null,null,null,null,null,null,null,null,null,null,null,null,{"$f":"Base!C15","v":"Alto Tâmega"},{"$f":"SUM(Base!CV15:CY15)+Base!DL15+Base!DM15","v":0},{"$f":"Base!CZ15","v":0},{"$f":"SUM(Base!DA15:DC15)","v":0},{"$f":"Base!DE15","v":0},{"$f":"SUM(Base!DF15:DI15)","v":0},{"$f":"Base!DD15+Base!DJ15+Base!DK15+Base!CU15","v":0}]
[null,null,null,null,null,null,null,null,null,null,null,null,null,null,null,null,null,null,null,null,null,null,null,null,null,null,null,null,null,null,null,null,null,null,null,{"$f":"Base!C16","v":"Tâmega e Sousa"},{"$f":"SUM(Base!CV16:CY16)+Base!DL16+Base!DM16","v":0},{"$f":"Base!CZ16","v":0},{"$f":"SUM(Base!DA16:DC16)","v":0},{"$f":"Base!DE16","v":0},{"$f":"SUM(Base!DF16:DI16)","v":0},{"$f":"Base!DD16+Base!DJ16+Base!DK16+Base!CU16","v":0}]
[null,null,null,null,null,null,null,null,null,null,null,null,null,null,null,null,null,null,null,null,null,null,null,null,null,null,null,null,null,null,null,null,null,null,null,{"$f":"Base!C17","v":"Douro"},{"$f":"SUM(Base!CV17:CY17)+Base!DL17+Base!DM17","v":0},{"$f":"Base!CZ17","v":0},{"$f":"SUM(Base!DA17:DC17)","v":0},{"$f":"Base!DE17","v":0},{"$f":"SUM(Base!DF17:DI17)","v":0},{"$f":"Base!DD17+Base!DJ17+Base!DK17+Base!CU17","v":0}]
[null,null,null,null,null,null,null,null,null,null,null,null,null,null,null,null,null,null,null,null,null,null,null,null,null,null,null,null,null,null,null,null,null,null,null,{"$f":"Base!C18","v":"Terras de Trás-os-Montes"},{"$f":"SUM(Base!CV18:CY18)+Base!DL18+Base!DM18","v":0},{"$f":"Base!CZ18","v":0},{"$f":"SUM(Base!DA18:DC18)","v":0},{"$f":"Base!DE18","v":0},{"$f":"SUM(Base!DF18:DI18)","v":8.9842300000000002},{"$f":"Base!DD18+Base!DJ18+Base!DK18+Base!CU18","v":0.65988000000000002}]
[null,null,null,null,null,null,null,null,null,null,null,null,null,null,null,null,null,null,null,null,null,null,null,null,null,null,null,null,null,null,null,null,null,null,null,{"$f":"Base!C19","v":"Oeste"},{"$f":"SUM(Base!CV19:CY19)+Base!DL19+Base!DM19","v":0},{"$f":"Base!CZ19","v":0},{"$f":"SUM(Base!DA19:DC19)","v":0},{"$f":"Base!DE19","v":0},{"$f":"SUM(Base!DF19:DI19)","v":2.0668699999999998},{"$f":"Base!DD19+Base!DJ19+Base!DK19+Base!CU19","v":0}]
[null,null,null,null,null,null,null,null,null,null,null,null,null,null,null,null,null,null,null,null,null,null,null,null,null,null,null,null,null,null,null,null,null,null,null,{"$f":"Base!C20","v":"Região de Aveiro"},{"$f":"SUM(Base!CV20:CY20)+Base!DL20+Base!DM20","v":0},{"$f":"Base!CZ20","v":0},{"$f":"SUM(Base!DA20:DC20)","v":0},{"$f":"Base!DE20","v":0},{"$f":"SUM(Base!DF20:DI20)","v":0},{"$f":"Base!DD20+Base!DJ20+Base!DK20+Base!CU20","v":0}]
[null,null,null,null,null,null,null,null,null,null,null,null,null,null,null,null,null,null,null,null,null,null,null,null,null,null,null,null,null,null,null,null,null,null,null,{"$f":"Base!C21","v":"Região de Coimbra"},{"$f":"SUM(Base!CV21:CY21)+Base!DL21+Base!DM21","v":0},{"$f":"Base!CZ21","v":0},{"$f":"SUM(Base!DA21:DC21)","v":0},{"$f":"Base!DE21","v":0},{"$f":"SUM(Base!DF21:DI21)","v":0},{"$f":"Base!DD21+Base!DJ21+Base!DK21+Base!CU21","v":0}]
[null,null,null,null,null,null,null,null,null,null,null,null,null,null,null,null,null,null,null,null,null,null,null,null,null,null,null,null,null,null,null,null,null,null,null,{"$f":"Base!C22","v":"Região de Leiria"},{"$f":"SUM(Base!CV22:CY22)+Base!DL22+Base!DM22","v":0},{"$f":"Base!CZ22","v":0},{"$f":"SUM(Base!DA22:DC22)","v":0},{"$f":"Base!DE22","v":0},{"$f":"SUM(Base!DF22:DI22)","v":0},{"$f":"Base!DD22+Base!DJ22+Base!DK22+Base!CU22","v":0}]
[null,null,null,null,null,null,null,null,null,null,null,null,null,null,null,null,null,null,null,null,null,null,null,null,null,null,null,null,null,null,null,null,null,null,null,{"$f":"Base!C23","v":"Viseu Dão Lafões"},{"$f":"SUM(Base!CV23:CY23)+Base!DL23+Base!DM23","v":0},{"$f":"Base!CZ23","v":0},{"$f":"SUM(Base!DA23:DC23)","v":0},{"$f":"Base!DE23","v":0},{"$f":"SUM(Base!DF23:DI23)","v":0},{"$f":"Base!DD23+Base!DJ23+Base!DK23+Base!CU23","v":0}]
[null,null,null,null,null,null,null,null,null,null,null,null,null,null,null,null,null,null,null,null,null,null,null,null,null,null,null,null,null,null,null,null,null,null,null,{"$f":"Base!C24","v":"Beira Baixa"},{"$f":"SUM(Base!CV24:CY24)+Base!DL24+Base!DM24","v":9.8256200000000007},{"$f":"Base!CZ24","v":0.26750000000000002},{"$f":"SUM(Base!DA24:DC24)","v":2.0472999999999999},{"$f":"Base!DE24","v":0},{"$f":"SUM(Base!DF24:DI24)","v":208.28755999999998},{"$f":"Base!DD24+Base!DJ24+Base!DK24+Base!CU24","v":5.3627300000000009}]
[null,null,null,null,null,null,null,null,null,null,null,null,null,null,null,null,null,null,null,null,null,null,null,null,null,null,null,null,null,null,null,null,null,null,null,{"$f":"Base!C25","v":"Médio Tejo"},{"$f":"SUM(Base!CV25:CY25)+Base!DL25+Base!DM25","v":0},{"$f":"Base!CZ25","v":0},{"$f":"SUM(Base!DA25:DC25)","v":0.90773999999999999},{"$f":"Base!DE25","v":0},{"$f":"SUM(Base!DF25:DI25)","v":14.110759999999999},{"$f":"Base!DD25+Base!DJ25+Base!DK25+Base!CU25","v":11.068239999999999}]
[null,null,null,null,null,null,null,null,null,null,null,null,null,null,null,null,null,null,null,null,null,null,null,null,null,null,null,null,null,null,null,null,null,null,null,{"$f":"Base!C26","v":"Beiras e Serra da Estrela"},{"$f":"SUM(Base!CV26:CY26)+Base!DL26+Base!DM26","v":0},{"$f":"Base!CZ26","v":1.7281099999999998},{"$f":"SUM(Base!DA26:DC26)","v":0.40400000000000003},{"$f":"Base!DE26","v":0},{"$f":"SUM(Base!DF26:DI26)","v":58.694679999999991},{"$f":"Base!DD26+Base!DJ26+Base!DK26+Base!CU26","v":2.26729}]
[null,null,null,null,null,null,null,null,null,null,null,null,null,null,null,null,null,null,null,null,null,null,null,null,null,null,null,null,null,null,null,null,null,null,null,{"$f":"Base!C27","v":"Área Metropolitana de Lisboa"},{"$f":"SUM(Base!CV27:CY27)+Base!DL27+Base!DM27","v":0},{"$f":"Base!CZ27","v":3.4193500000000001},{"$f":"SUM(Base!DA27:DC27)","v":0.13216},{"$f":"Base!DE27","v":0},{"$f":"SUM(Base!DF27:DI27)","v":28.70722},{"$f":"Base!DD27+Base!DJ27+Base!DK27+Base!CU27","v":34.696179999999998}]
[null,null,null,null,null,null,null,null,null,null,null,null,null,null,null,null,null,null,null,null,null,null,null,null,null,null,null,null,null,null,null,null,null,null,null,{"$f":"Base!C28","v":"Alentejo Litoral"},{"$f":"SUM(Base!CV28:CY28)+Base!DL28+Base!DM28","v":5.9710599999999996},{"$f":"Base!CZ28","v":2.9511000000000003},{"$f":"SUM(Base!DA28:DC28)","v":16.711239999999997},{"$f":"Base!DE28","v":0},{"$f":"SUM(Base!DF28:DI28)","v":275.61484999999999},{"$f":"Base!DD28+Base!DJ28+Base!DK28+Base!CU28","v":150.63697000000002}]
[null,null,null,null,null,null,null,null,null,null,null,null,null,null,null,null,null,null,null,null,null,null,null,null,null,null,null,null,null,null,null,null,null,null,null,{"$f":"Base!C29","v":"Baixo Alentejo"},{"$f":"SUM(Base!CV29:CY29)+Base!DL29+Base!DM29","v":17.490310000000001},{"$f":"Base!CZ29","v":7.6389799999999992},{"$f":"SUM(Base!DA29:DC29)","v":14.261280000000001},{"$f":"Base!DE29","v":0},{"$f":"SUM(Base!DF29:DI29)","v":596.62103999999999},{"$f":"Base!DD29+Base!DJ29+Base!DK29+Base!CU29","v":195.87880000000001}]
[null,null,null,null,null,null,null,null,null,null,null,null,null,null,null,null,null,null,null,null,null,null,null,null,null,null,null,null,null,null,null,null,null,null,null,{"$f":"Base!C30","v":"Lezíria do Tejo"},{"$f":"SUM(Base!CV30:CY30)+Base!DL30+Base!DM30","v":15.62829},{"$f":"Base!CZ30","v":0},{"$f":"SUM(Base!DA30:DC30)","v":15.508150000000002},{"$f":"Base!DE30","v":0},{"$f":"SUM(Base!DF30:DI30)","v":73.15616},{"$f":"Base!DD30+Base!DJ30+Base!DK30+Base!CU30","v":107.75050000000002}]
[null,null,null,null,null,null,null,null,null,null,null,null,null,null,null,null,null,null,null,null,null,null,null,null,null,null,null,null,null,null,null,null,null,null,null,{"$f":"Base!C31","v":"Alto Alentejo"},{"$f":"SUM(Base!CV31:CY31)+Base!DL31+Base!DM31","v":16.513850000000001},{"$f":"Base!CZ31","v":56.901900000000005},{"$f":"SUM(Base!DA31:DC31)","v":11.92719},{"$f":"Base!DE31","v":1.05949},{"$f":"SUM(Base!DF31:DI31)","v":1091.2965099999999},{"$f":"Base!DD31+Base!DJ31+Base!DK31+Base!CU31","v":313.61960999999997}]
[null,null,null,null,null,null,null,null,null,null,null,null,null,null,null,null,null,null,null,null,null,null,null,null,null,null,null,null,null,null,null,null,null,null,null,{"$f":"Base!C32","v":"Alentejo Central"},{"$f":"SUM(Base!CV32:CY32)+Base!DL32+Base!DM32","v":14.78858},{"$f":"Base!CZ32","v":116.25456999999999},{"$f":"SUM(Base!DA32:DC32)","v":27.335629999999998},{"$f":"Base!DE32","v":2.4621200000000001},{"$f":"SUM(Base!DF32:DI32)","v":1553.5482100000002},{"$f":"Base!DD32+Base!DJ32+Base!DK32+Base!CU32","v":526.96739000000002}]
[null,null,null,null,null,null,null,null,null,null,null,null,null,null,null,null,null,null,null,null,null,null,null,null,null,null,null,null,null,null,null,null,null,null,null,{"$f":"Base!C33","v":"Algarve"},{"$f":"SUM(Base!CV33:CY33)+Base!DL33+Base!DM33","v":0},{"$f":"Base!CZ33","v":0},{"$f":"SUM(Base!DA33:DC33)","v":0},{"$f":"Base!DE33","v":0},{"$f":"SUM(Base!DF33:DI33)","v":0.95020000000000004},{"$f":"Base!DD33+Base!DJ33+Base!DK33+Base!CU33","v":0}]
[null,null,null,null,null,null,null,null,null,null,null,null,null,null,null,null,null,null,null,null,null,null,null,null,null,null,null,null,null,null,null,null,null,null,null,"Continente",{"$f":"SUM(AK6:AK28)","v":80.217709999999997},{"$f":"SUM(AL6:AL28)","v":189.16150999999999},89.234689999999986,3.5216099999999999,3912.0382900000004,1348.90759]
[]
[]
[]
[]
[]
[]
[]
[]
[]
[]
[]
[]
[]
[]
[]
[]
[]
[{"$f":"+\"Estrutura: \"&INDEX(Sheet6!$D$2:$D$117,Sheet3!$C$1)& \", por NUTIII e por Grande Orientação Produtiva\"","v":"Estrutura:             (49) - Maa - Pastoreio Extensivo Ii, por NUTIII e por Grande Orientação Produtiva"}]
[]
[]
[]
[]
[]
[]
[]
[]
[]
[]
[]
[]
[]
[]
[]
[]
[]
[]
[]
[]
[]
[]
[]
[]
[]
[]
[]
[]
[]
[]
[]
[]
[]
[]
[]
[]
[]
[]
[]
[]
[]
["Fonte: GPP a partir de dados IFAP"]

{"sheet":"CHART-OTE-DE","index":5,"n_rows":50,"n_cols":19,"rows_kept":50,"cut":false,"hidden":true,"merged":[[0,0,1,18],[2,16,2,17],[49,0,49,2]]}
[{"$f":"+INDEX(Sheet6!$D$2:$D$117,Sheet3!$C$1)& \" por OTE e por \" & INDEX(Sheet6!$M$3:$M$6,Sheet3!$B$1)","v":"            (49) - Maa - Pastoreio Extensivo Ii por OTE e por Classes de Superfície Agrícola"}]
[]
[{"$f":"+Base!C7","v":"Unidade: 1000 €"},null,null,"Tipo de Beneficiário:",{"$f":"INDEX(Sheet6!$P$1:$P$6,Sheet3!$A$2)","v":"Todos os Produtores do PU"},null,null,null,null,null,null,null,null,null,null,"Valor total:",{"$f":"+Base!$DS$34","v":5623.0813999999991},null,{"$f":"+\"(\" & (INDEX(Sheet6!$G$2:$G$117,Sheet3!$C$1)) & \")\"","v":"(1000 €)"}]
[]
[]
[]
[]
[]
[]
[]
[]
[]
[]
[]
[]
[]
[]
[]
[]
[]
[]
[]
[]
[]
[]
[]
[]
[]
[]
[]
[]
[]
[]
[]
[]
[]
[]
[]
[]
[]
[]
[]
["Legenda"]
["MP",{"$f":"+Base!C38","v":"< 5 ha"}]
["P",{"$f":"+Base!C39","v":">= 5  e < 25 ha"}]
["M",{"$f":"+Base!C40","v":">= 25  e < 200 ha"}]
["G",{"$f":"+Base!C41","v":">= 200  e < 1 000 ha"}]
["MG",{"$f":"+Base!C42","v":">= 1 000 ha"}]
[]
["Fonte: GPP a partir de dados IFAP"]

{"sheet":"Sheet6","index":6,"n_rows":107,"n_cols":21,"rows_kept":107,"cut":false,"hidden":true,"merged":[]}
["Ano",2021,null,null,null,"desmultiplicador","Unidade",null,null,null,{"$f":"+INDEX(K2:K105,Sheet3!C1)","v":"MAAPMT_Pastoreio Extensivo -Apoio à Manutenção de Sistemas Agro-silvo-pastoris sob Montado.pdf"},null,null,null,null,"Todos os Produtores do PU","<5"]
[null,1,"ContarDeGPP_ID","(1) - Nº de Beneficiários",1,1,"Nº ","Nº de Beneficiários",1,null,"Beneficiarios_PU_2019.pdf",null,null,null,null,"Beneficiários do RPA",1,null,null,null,"ContarDeGPP_ID"]
[null,2,"SomaDeVpp","(2) - Valor de Produção Padrão",2,1000,"1000 €","Valor de Produção Padrão",{"$f":"+I2+1","v":2},null,null,null,"Classe de DE",1,null,"Beneficiários do RPB",2,null,null,null,"SomaDeVpp"]
[null,3,"SomaDeSAU","(3) - Superfície Elegível (inclui Superfície Agrícola e Agro-Florestal Elegível)",3,1,"ha","Superfície Elegível (inclui Superfície Agrícola e Agro-Florestal Elegível)",{"$f":"+I3+1","v":3},null,"SPE_PU_2019.pdf",null,"Classes de Superfície Agrícola",2,null,"Apenas Pagamentos ligados e 2º Pilar",3,null,null,null,"SomaDeSAU"]
[null,4,"SumD_RPB","(3a) - Nº de Direitos de RPB","3a",1,"Nº ","Nº de Direitos de RPB",{"$f":"+E5","v":"3a"},null,null,null,"Classe de AD",3,null,"Apenas outras ajudas 2º Pilar",4]
[null,5,"SumMG_Direitos","(3b) - Montante Global dos Direitos de RPB","3b",1000,"1000 €","Montante Global dos Direitos de RPB",{"$f":"+E6","v":"3b"},null,null,null,null,null,null,null,null,null,null,null,"SomaDeSAU_IRRIG"]
[null,6,"SUmofSAU_est","(3c) - Superfície Agrícola (inc. Pastagens arbustivas)","3c",1,"ha","Superfície Agrícola (inc. Pastagens arbustivas)",{"$f":"+E7","v":"3c"},null,null,null,null,null,null,null,null,null,null,null,"SomaDeCult_Temp"]
[null,7,"SomaDeSAU_IRRIG","(4) - Superfície Agrícola de Regadio",4,1,"ha","Superfície Agrícola de Regadio",{"$f":"+E8","v":4},null,null,null,"MP","Muito Pequenas","< 4 000 € de VPP","< 5 ha","<  1250 €",null,null,null,"SomaDeSF"]
[null,8,"SomaDeCult_Temp","(5) - Culturas Temporárias",5,1,"ha","Culturas Temporárias",5,null,null,null,"P","Pequenas",">= 4 000 e < 25 000 € de VPP",">= 5  e < 25 ha",">= 1 250 e < 5 000 €",null,null,null,"SomaDePousio"]
[null,9,"SumOf_ARV_Ind_SEQ","(5a) - Culturas Arvenses e Indústriais de sequeiro","5a",1,"ha","Culturas Arvenses e Indústriais de sequeiro",{"$f":"+E10","v":"5a"},null,null,null,"MP","Médias",">= 25 000 e < 100 000 € de VPP",">= 25  e < 200 ha",">= 5 000 e < 50 000 €",null,null,null,"SomaDeCP"]
[null,10,"SumOf_ARV_Ind_Reg","(5b) - Culturas Arvenses e Indústriais de regadio","5b",1,"ha","Culturas Arvenses e Indústriais de regadio",{"$f":"+E11","v":"5b"},null,null,null,"G","Grandes",">= 100 000 e < 500 000 € de VPP",">= 200  e < 1 000 ha",">= 50 000 e < 300 000 €",null,null,null,"SomaDePP"]
[null,11,"SomaDeSF","(6) - Superfície Forrageira Temporária",6,1,"ha","Superfície Forrageira Temporária",6,null,null,null,"MG","Muito Grandes",">= 500 000  € de VPP",">= 1 000 ha",">= 300 000 €",null,null,null,"SomaDeCNH"]
[null,12,"SomaDePousio","(7) - Superfície de Pousio",7,1,"ha","Superfície de Pousio",7,null,null,null,null,null,null,null,null,null,null,null,"SomaDeCNT"]
[null,13,"SomaDeCP","(8) - Culturas Permanentes",8,1,"ha","Culturas Permanentes",8,null,null,null,null,null,null,null,null,null,null,null,"SomaDeS_RPB"]
[null,14,"SomaDePP","(9) - Superfície de Pastagens Permanentes",9,1,"ha","Superfície de Pastagens Permanentes",9,null,null,null,"MP","P","MP","G","MG",null,null,null,"SomaDeS_MAA"]
[null,15,"Sumpp_02cn","(9a) - Superfície de Pastagens com encabeçamento inferior a 0,2CN/ha de PP","9a",1,"ha","Superfície de Pastagens com encabeçamento inferior a 0,2CN/ha de PP","9a",null,null,null,"MP","P","MP","G","MG",null,null,null,"SomaDeS_MZD"]
[null,16,"SomaDeCNH","(10) - Nº de Cabeças Normais (Cn) de Herbívoros",10,1,"CN","Nº de Cabeças Normais (Cn) de Herbívoros",10,null,null,null,"Muito Pequenas","Pequenas","Médias","Grandes","Muito Grandes",null,null,null,"SomaDeAD_Totais2015"]
[null,17,"SomaDeCNT","(11) - Nº de Cabeças Normais (Cn) Totais",11,1,"CN","Nº de Cabeças Normais (Cn) Totais",11,null,null,null,"< 4000€ de VPP",">= 4000 e <25 000€ de VPP",">=25000 e <100 000€ de VPP",">= 100 000 e < 500 000 € de VPP",">= 500 000  € de VPP",null,null,null,"Ajudas_desligadas"]
[null,18,"SomaDeS_RPB","(12) - Superfície Agrícola Declarada para Activar Direitos de RPB",12,1,"ha","Superfície Agrícola Declarada para Activar Direitos de RPB",12,null,null,null,"< 5 ha",">= 5  e < 25 ha",">= 25  e < 200 ha","= 200  e < 1 000 ha",">= 1 000 ha",null,null,null,"SomaDeRPA"]
[null,19,"SomaDeS_MAA","(13) - Superfície Agrícola Declarada para Medidas Agroambientais",13,1,"ha","Superfície Agrícola Declarada para Medidas Agroambientais",13,null,null,null,{"$f":"+M$16& CHAR(10)  & M18","v":"MP\n< 4000€ de VPP"},"P\n>= 4000 e <25 000€ de VPP","MP\n>=25000 e <100 000€ de VPP","G\n>= 100 000 e < 500 000 € de VPP","MG\n>= 500 000  € de VPP",null,null,null,"RPB_Total"]
[null,20,"SomaDeS_MZD","(14) - Superfície Agrícola Declarada para MZDs",14,1,"ha","Superfície Agrícola Declarada para MZDs",14,null,null,null,"MP\n< 5 ha","P\n>= 5  e < 25 ha","MP\n>= 25  e < 200 ha","G\n= 200  e < 1 000 ha","MG\n>= 1 000 ha",null,null,null,"SomaDeRPBAJU"]
[null,21,"SomaDeAD_Totais2015","(15) - Montante Total das AD 1º Pilar (16+22)",15,1000,"1000 €","Montante Total das AD 1º Pilar (16+22)",15,null,"AD_PU_2019.pdf",null,null,null,null,null,null,null,null,null,"SomaDeRPBJOV"]
[null,22,"Ajudas_desligadas","    (16) - Total de pagamentos desligados (17+18+21+21a)",16,1000,"1000 €","Total de pagamentos desligados (17+18+21+21a)",16,"    ",null,null,null,null,null,null,null,null,null,null,"SomaDeGREEN"]
[null,23,"SomaDeRPA","        (17) - Montante Regime Pequena Agricultura",17,1000,"1000 €","Montante Regime Pequena Agricultura",17,"        "]
[null,24,"RPB_Total","        (18) - Regime Pagamento Base (RPB) [(19)+(20)]",18,1000,"1000 €","Regime Pagamento Base (RPB) [(19)+(20)]",18,"        ",null,null,null,null,null,null,null,null,null,null,"Pag_ligados"]
[null,25,"SomaDeRPBAJU","            (19) - RPB normal",19,1000,"1000 €","RPB normal",19,"            ",null,null,"MP","Muito Pequenas","< 4 000 € de VPP","< 4 ha","<  1250 €",null,null,null,"SomaDeVACAS_ALEIT"]
[null,26,"SomaDeRPBJOV","            (20) - RPB Jovens agricultores",20,1000,"1000 €","RPB Jovens agricultores",20,"            ",null,null,"P","Pequenas",">= 4 000 e < 25 000 € de VPP",">= 4  e < 25 ha",">= 1 250 e < 5 000 €",null,null,null,"SomaDePAG_OV_CAP"]
[null,27,"SomaDeGREEN","        (21) - Pagamento por Práticas Agrícolas Benéficas para o Ambiente (Greening)",21,1000,"1000 €","Pagamento por Práticas Agrícolas Benéficas para o Ambiente (Greening)",21,"        ",null,null,"MP","Médias",">= 25 000 e < 100 000 € de VPP",">= 25  e < 200 ha",">= 5 000 e < 50 000 €",null,null,null,"SomaDeVACAS_leite"]
[null,28,null,"        (21a) - Pagamento Redistributivo","21a",1000,"1000 €","Pagamento Redistributivo","21a","        ",null,null,"G","Grandes",">= 100 000 e < 500 000 € de VPP","= 200  e < 1 000 ha",">= 50 000 e < 300 000 €",null,null,null,"SomaDePAG_COMPL_Leite"]
[null,29,"Pag_ligados","    (22) - Total de pagamentos ligados (23+…..+28)",22,1000,"1000 €","Total de pagamentos ligados (23+…..+28)",22,"    ",null,null,"MG","Muito Grandes",">= 500 000  € de VPP",">= 1 000 ha",">= 300 000 €",null,null,null,"SomaDePAG_TOMATE"]
[null,30,"SomaDeVACAS_ALEIT","        (23) - Prémio às vacas em aleitamento",23,1000,"1000 €","Prémio às vacas em aleitamento",23,"        ",null,null,null,null,null,null,null,null,null,null,"SomaDePAG_ARROZ"]
[null,31,"SomaDePAG_OV_CAP","        (24) - Prémio aos ovinos e caprinos",24,1000,"1000 €","Prémio aos ovinos e caprinos",24,"        "]
[null,32,"SomaDeVACAS_leite","        (25) - Prémio à vaca leiteira",25,1000,"1000 €","Prémio à vaca leiteira",25,"        "]
[null,33,"SomaDePAG_COMPL_Leite","        (26) - Apoio Específico aos produtores de Leite (Medida 1 e 2) 2016",26,1000,"1000 €","Apoio Específico aos produtores de Leite (Medida 1 e 2) 2016",26,"        "]
[null,34,"SomaDePAG_TOMATE","        (27) - Pagamento Específico por superfície ao tomate ",27,1000,"1000 €","Pagamento Específico por superfície ao tomate ",27,"        "]
[null,35,"SomaDePAG_ARROZ","        (28) - Pagamento Específico por superfície ao arroz",28,1000,"1000 €","Pagamento Específico por superfície ao arroz",28,"        "]
[null,36,"2_pilar","(29) - Total de Pagamentos Superfície Desenvolvimento Rural ((30)+(34))",29,1000,"1000 €","Total de Pagamentos Superfície Desenvolvimento Rural ((30)+(34))",29,null,"MAA_MZD_PU_2019.pdf"]
[null,37,"MZD","     (30) - Medida Zonas Desfavorecidas (MZD)",30,1000,"1000 €","Medida Zonas Desfavorecidas (MZD)",30,"     ","MZD_Medida Zonas desfavorecidas.pdf"]
[null,38,"AZDZCE","            (31) - Zona Condicionantes Específicas",31,1000,"1000 €","Zona Condicionantes Específicas",31,"            ","MZD_ZCE Zona Condicionantes Específicas.pdf"]
[null,39,"AZDZCN","            (32) - Zona Outras Condicionantes Naturais",32,1000,"1000 €","Zona Outras Condicionantes Naturais",32,"            ","MZD_ZCN Zona Outras Condicionantes Naturais.pdf"]
[null,40,"AZDZMT","            (33) - Zona De Montanha",33,1000,"1000 €","Zona De Montanha (mapa)",33,"            ","MZD_ZM Zona de Montanha.pdf"]
[null,41,"MAA","     (34) - Medidas Agroambientais",34,1000,"1000 €","Medidas Agroambientais",34,"     ","MAA_Medidas Agroambientais.pdf"]
[null,42,"MAAABC","            (35) - Maa-Agric.Biológica - Conv",35,1000,"1000 €","Maa-Agric.Biológica - Conv",35,"            ","MAAABC_Agricultura Biológica - Transitada da Produção Integrada.pdf"]
[null,43,"MAAABM","            (36) - Maa-Agric.Biológica - Manut",36,1000,"1000 €","Maa-Agric.Biológica - Manut",36,"            ","MAAABM_Agricultura Biológica – Manutenção.pdf"]
[null,44,"MAAAPI","            (37) - Apoio Agroambiental À Apicultura",37,1000,"1000 €","Apoio Agroambiental À Apicultura",37,"            ","MAAPI_apoio à Apicultura.pdf"]
[null,45,"MAACPD","            (38) - Maa - Douro Vinhateiro",38,1000,"1000 €","Maa - Douro Vinhateiro",38,"            ","MAACPD_apoio Douro Vinhateiro.pdf"]
[null,46,"MAACPT","            (39) - Culturas Permanentes Tradicionais",39,1000,"1000 €","Culturas Permanentes Tradicionais",39,"            ","MAACPT_ Culturas Permanentes Tradicionais.pdf"]
[null,47,"MAACSE","            (40) - Maa-Conservação Solo-Enr.Entr",40,1000,"1000 €","Maa-Conservação Solo-Enr.Entr",40,"            ","MAACSE_Conservação do Solo - Enrelvamento da Entrelinha de Culturas Permanentes.pdf"]
[null,48,"MAACSS","            (41) - Maa-Conservação Solo-Sem Dir",41,1000,"1000 €","Maa-Conservação Solo-Sem Dir",41,"            ","MAACSS_Conservação do Solo - Sementeira Direta ou Mobilização na Linha.pdf"]
[null,49,"MAAMAF","            (42) - Mosaico Agroflorestal",42,1000,"1000 €","Mosaico Agroflorestal",42,"            ","MAAMAF_ Mosaico AgroFlorestal.pdf"]
[null,50,"MAAMNS","            (43) - Maa - Soutos Notáveis",43,1000,"1000 €","Maa - Soutos Notáveis",43,"            ","MAAMNS_Conservação dos Soutos Notáveis da Terra Fria.pdf"]
[null,51,"MAAPDI","            (44) - Maa - Produçao Integrada",44,1000,"1000 €","Maa - Produçao Integrada",44,"            ","MAAPDI_Produção Integrada.pdf"]
[null,52,"MAAPGP","            (45) - Maa - Az Peneda/Gerês",45,1000,"1000 €","Maa - Az Peneda/Gerês",45,"            ","MAAPGP_Gestão de Pastoreio em áreas de Baldio -Peneda_Gerês.pdf"]
[null,53,"MAAPGS","            (46) - Maa - Manut. Socalcos",46,1000,"1000 €","Maa - Manut. Socalcos",46,"            ","MAAPGS_Manutenção de Socalcos - Peneda_Gerês.pdf"]
[null,54,"MAAPLR","            (47) - Maa - Lameiros De Regadio",47,1000,"1000 €","Maa - Lameiros De Regadio",47,"            ","MAAPLR_Pastoreio Extensivo - Apoio à Manutenção de Lameiros de Alto Valor Natural - Regadio.pdf"]
[null,55,"MAAPLS","            (48) - Maa - Lameiros De Sequeiro",48,1000,"1000 €","Maa - Lameiros De Sequeiro",48,"            ","MAAPLS_Pastoreio Extensivo - Apoio à Manutenção de Lameiros de Alto Valor Natural –  Sequeiro.pdf"]
[null,56,"MAAPMT","            (49) - Maa - Pastoreio Extensivo Ii",49,1000,"1000 €","Maa - Pastoreio Extensivo Ii",49,"            ","MAAPMT_Pastoreio Extensivo -Apoio à Manutenção de Sistemas Agro-silvo-pastoris sob Montado.pdf"]
[null,57,"MAAPPL","            (50) - Maa - Pastoreio Extensivo Iii",50,1000,"1000 €","Maa - Pastoreio Extensivo Iii",50,"            ","MAAPPL_Pastoreio Extensivo - Apoio à Proteção do Lobo Ibérico.pdf"]
[null,58,"MAARAE","            (51) - Maa - Rot. De Seq Iii",51,1000,"1000 €","Maa - Rot. De Seq Iii",51,"            ","MAARAE_Manutenção de Rotação de Sequeiro Cereal-Pousio - Outras Áreas Estepárias.pdf"]
[null,59,"MAARCV","            (52) - Maa - Rot. De Seq Ii",52,1000,"1000 €","Maa - Rot. De Seq Ii",52,"            ","MAARCV_Manutenção de Rotação de Sequeiro Cereal-Pousio AZ Castro Verde.pdf"]
[null,60,"MAARGN","            (53) - Raças",53,1000,"1000 €","Raças",53,"            ","MAARGN_ Recursos Genéticos – Manutenção de Raças Autóctones em risco.pdf"]
[null,61,"MAAROA","            (54) - Maa - Rot. De Seq I",54,1000,"1000 €","Maa - Rot. De Seq I",54,"            ","MAAROA_Manutenção de Rotação de Sequeiro Cereal-Pousio - AZ Montesinho_Nogueira e Douro Internacional, Sabor, Maçãs e Vale do Côa.pdf"]
[null,62,"MAAUEA","            (55) - Uso Eficiente Da Água Na Agricultura",55,1000,"1000 €","Uso Eficiente Da Água Na Agricultura",55,"            ","MAAUEA_Uso Eficiente da Água na Agricultura.pdf"]
[null,63,"PAg_Natura","            (56) - Pagamentos Natura",56,1000,"1000 €","Pagamentos Natura",56,"            ","PAgamentos_natura2018.pdf"]
[null,64,null,"(57) - Total de Pagamentos aos Produtores (15+29)",57,1000,"1000 €","Total de Pagamentos aos Produtores (15+29)",57,null,""]
[null,65,"Cereais_seq","     (58) - Superfície de Cereais De Outono-Inverno",58,1,"ha","Superfície de Cereais De Outono-Inverno",58,"     ",""]
[null,66,"Milho_grao","     (59) - Superfície de Milho Grão; ",59,1,"ha","Superfície de Milho Grão; ",59,"     ",""]
[null,67,"Arroz","     (60) - Superfície de Arroz; ",60,1,"ha","Superfície de Arroz; ",60,"     ",""]
[null,68,"Oleag_proteag","     (61) - Superfície de Oleaginosas E Proteaginosas; ",61,1,"ha","Superfície de Oleaginosas E Proteaginosas; ",61,"     ",""]
[null,69,"Horticolas","     (62) - Superfície de Hortícolas, Batata, Plantas E Flores; ",62,1,"ha","Superfície de Hortícolas, Batata, Plantas E Flores; ",62,"     ",""]
[null,70,"Forrag_prados_temp","     (63) - Superfície de Forragens E Prados Temporários; ",63,1,"ha","Superfície de Forragens E Prados Temporários; ",63,"     ",""]
[null,71,"Pousios","     (64) - Superfície de Pousios; ",64,1,"ha","Superfície de Pousios; ",64,"     ",""]
[null,72,"Pomares","     (65) - Superfície de Pomares; ",65,1,"ha","Superfície de Pomares; ",65,"     ",""]
[null,73,"Vinha","     (66) - Superfície de Vinha; ",66,1,"ha","Superfície de Vinha; ",66,"     ",""]
[null,74,"Olival","     (67) - Superfície de Olival; ",67,1,"ha","Superfície de Olival; ",{"$f":"+E75","v":67},"     ",""]
[null,75,"Past_prados_perm","     (68) - Superfície de Prados E Pastagens Permanentes; ",68,1,"ha","Superfície de Prados E Pastagens Permanentes; ",68,"     ",""]
[null,76,"Vacas_leite1","     (69) - Cabeças de Vacas Leiteiras",69,1,"Cab.","Cabeças de Vacas Leiteiras",69,"     ",""]
[null,77,"Vacas_aleit1","     (70) - Cabeças de Vacas Aleitantes",70,1,"Cab.","Cabeças de Vacas Aleitantes",70,"     ",""]
[null,78,"Outros_bov","     (71) - Cabeças de Outros Bovinos",71,1,"Cab.","Cabeças de Outros Bovinos",71,"     ",""]
[null,79,"Ovelhas","     (72) - Cabeças de Ovelhas",72,1,"Cab.","Cabeças de Ovelhas",72,"     ",""]
[null,80,"Outros_ovinos","     (73) - Cabeças de Outros Ovinos",73,1,"Cab.","Cabeças de Outros Ovinos",73,"     ",""]
[null,81,"Cabras","     (74) - Cabeças de Cabras",74,1,"Cab.","Cabeças de Cabras",74,"     ","www.gpp.pt"]
[null,82,"Outros_cap","     (75) - Cabeças de Outros Caprinos",75,1,"Cab.","Cabeças de Outros Caprinos",75,"     ",""]
[null,83,"PI_N","            (76) - Número de Produtores Maa - Produçao Integrada",76,1,"Nº ","Número de Produtores Maa - Produçao Integrada",76,"            ",""]
[null,84,"PI_SAU","            (77) - SA Declarada para Maa - Produçao Integrada",77,1,"ha","SA Declarada para Maa - Produçao Integrada",77,"            ","MAAPDI_PI_SAU.pdf"]
[null,85,"PABC_N","            (78) - Número de Produtores Maa-Agric.Biológica - Conv",78,1,"Nº ","Número de Produtores Maa-Agric.Biológica - Conv",78,"            ",""]
[null,86,"PABC_SAU","            (79) - SA Declarada para Maa-Agric.Biológica - Conv",79,1,"ha","SA Declarada para Maa-Agric.Biológica - Conv",79,"            ","MAAABC_PABC_SAU.pdf"]
[null,87,"PABM_N","            (80) - Número de Produtores Maa-Agric.Biológica - Manut",80,1,"Nº ","Número de Produtores Maa-Agric.Biológica - Manut",80,"            ",""]
[null,88,"PABM_SAU","            (81) - SA Declarada para Maa-Agric.Biológica - Manut",81,1,"ha","SA Declarada para Maa-Agric.Biológica - Manut",81,"            ","MAAABM_PABM_SAU.pdf"]
[null,89,"PUEA_N","            (82) - Número de Produtores Uso Eficiente Da Água Na Agricultura",82,1,"Nº ","Número de Produtores Uso Eficiente Da Água Na Agricultura",82,"            ",""]
[null,90,"PUEA_SAU","            (83) - SA Declarada para Uso Eficiente Da Água Na Agricultura",83,1,"ha","SA Declarada para Uso Eficiente Da Água Na Agricultura",83,"            ","MAAUEA_PUEA_SAU_Uso Eficiente da Água na Agricultura.pdf"]
[null,91,"PCPT_N","            (84) - Número de Produtores Culturas Permanentes Tradicionais",84,1,"Nº ","Número de Produtores Culturas Permanentes Tradicionais",84,"            ",""]
[null,92,"PCPT_SAU","            (85) - SA Declarada para Culturas Permanentes Tradicionais",85,1,"ha","SA Declarada para Culturas Permanentes Tradicionais",85,"            ","MAACPT_PCPT_SAU_Culturas Permanentes Tradicionais.pdf"]
[null,93,"PCSS_N","            (86) - Número de Produtores Maa-Conservação Solo-Sem Dir",86,1,"Nº ","Número de Produtores Maa-Conservação Solo-Sem Dir",86,"            ",""]
[null,94,"PCSS_SAU","            (87) - SA Declarada para Maa-Conservação Solo-Sem Dir",87,1,"ha","SA Declarada para Maa-Conservação Solo-Sem Dir",87,"            ","MAACSS_PCSS_SAU_Conservação do Solo - Sementeira Direta ou mobilização na linha.pdf"]
[null,95,"PCSE_N","            (88) - Número de Produtores Maa-Conservação Solo-Enr.Entr",88,1,"Nº ","Número de Produtores Maa-Conservação Solo-Enr.Entr",88,"            ",""]
[null,96,"PCSE_SAU","            (89) - SA Declarada para Maa-Conservação Solo-Enr.Entr",89,1,"ha","SA Declarada para Maa-Conservação Solo-Enr.Entr",89,"            ","MAACSE_PCSE_SAU_Conservação do Solo - Enrelvamento da Entrelinha de culuras permanentes.pdf"]
[null,97,"PPLS_N","            (90) - Número de Produtores Maa - Lameiros De Sequeiro",90,1,"Nº ","Número de Produtores Maa - Lameiros De Sequeiro",90,"            ",""]
[null,98,"PPLS_SAU","            (91) - SA Declarada para Maa - Lameiros De Sequeiro",91,1,"ha","SA Declarada para Maa - Lameiros De Sequeiro",91,"            ","MAAPLS_PPLS_SAU_Pastoreio Extensivo - Apoio à Manutenção de Lameiros de Alto Valor Natural –  Sequeiro.pdf"]
[null,99,"PPLR_N","            (92) - Número de Produtores Maa - Lameiros De Regadio",92,1,"Nº ","Número de Produtores Maa - Lameiros De Regadio",92,"            ",""]
[null,100,"PPLR_SAU","            (93) - SA Declarada para Maa - Lameiros De Regadio",93,1,"ha","SA Declarada para Maa - Lameiros De Regadio",93,"            ","MAAPLR_PPLR_SAU_Pastoreio Extensivo - Apoio à Manutenção de Lameiros de Alto Valor Natural –  Regadio.pdf"]
[null,101,"PPMT_N","            (94) - Número de Produtores Maa -Pastoreio Extensivo -Apoio à Manutenção de Sistemas Agro-silvo-pastoris sob Montado Ii",94,1,"Nº ","Número de Produtores Maa -Pastoreio Extensivo -Apoio à Manutenção de Sistemas Agro-silvo-pastoris sob Montado Ii",94,"            ",""]
[null,102,"PPMT_SAU","            (95) - SA Declarada para Maa - Pastoreio Extensivo -Apoio à Manutenção de Sistemas Agro-silvo-pastoris sob Montado Ii",95,1,"ha","SA Declarada para Maa - Pastoreio Extensivo -Apoio à Manutenção de Sistemas Agro-silvo-pastoris sob Montado Ii",95,"            ","MAAPPMT_PPMT_SAU_Pastoreio Extensivo -Apoio à Manutenção de Sistemas Agro-silvo-pastoris sob Montado.pdf"]
[null,103,"PPPL_N","            (96) - Número de Produtores Maa - Pastoreio Extensivo Apoio à Proteção do Lobo Ibérico",96,1,"Nº ","Número de Produtores Maa - Pastoreio Extensivo Apoio à Proteção do Lobo Ibérico",96,"            ",""]
[null,104,"PPPL_SAU","            (97) - SA Declarada para Maa - Pastoreio Extensivo Apoio à Proteção do Lobo Ibérico",97,1,"ha","SA Declarada para Maa - Pastoreio Extensivo Apoio à Proteção do Lobo Ibérico",97,"            ","MAAPPL_SAU_Pastoreio Extensivo - Apoio à Proteção do Lobo Ibérico.pdf"]
[null,105]
[null,106]

{"sheet":"Sheet3","index":7,"n_rows":31,"n_cols":122,"rows_kept":31,"cut":false,"hidden":true,"merged":[]}
[null,2,56,null,22,{"$f":"+INDEX(Sheet6!F2:F117,C1)","v":1000}]
[1,{"$f":"+A2-1","v":0}]
[{"$f":"+INDEX(Sheet6!Q1:Q5,Sheet3!A2)","v":"<5"},null,{"$f":"SUM(I8:M8)","v":0},0,0,0,0,0,"1_1","1_1","1_1","1_1","1_1","1_2","1_2","1_2","1_2","1_2",2,2,2,2,2,3,3,3,3,3,4,4,4,4,4,5,5,5,5,5,6,6,6,6,6,7,7,7,7,7,8,8,8,8,8,9,9,9,9,9,"10_1","10_1","10_1","10_1","10_1","10_15","10_15","10_15","10_15","10_15","10_2","10_2","10_2","10_2","10_2",11,11,11,11,11,12,12,12,12,12,13,13,13,13,13,14,14,14,14,14,15,15,15,15,15,0,"1_1","1_2",2,3,4,5,6,7,8,9,"10_1","10_15","10_2",11,12,13,14,15,1,2,3,4,5]
[null,null,null,1,2,3,4,5,1,2,3,4,5,1,2,3,4,5,1,2,3,4,5,1,2,3,4,5,1,2,3,4,5,1,2,3,4,5,1,2,3,4,5,1,2,3,4,5,1,2,3,4,5,1,2,3,4,5,1,2,3,4,5,1,2,3,4,5,1,2,3,4,5,1,2,3,4,5,1,2,3,4,5,1,2,3,4,5,1,2,3,4,5,1,2,3,4,5,null,null,null,null,null,null,null,null,null,null,null,null,null,null,null,null,null,null,null,1,2,3,4,5]
[null,null,null,null,null,null,null,null,"Arvenses e Outras Cult pred. Regadio","Arvenses e Outras Cult pred. Regadio","Arvenses e Outras Cult pred. Regadio","Arvenses e Outras Cult pred. Regadio","Arvenses e Outras Cult pred. Regadio","Arvenses e Outras Cult pred. Sequeiro","Arvenses e Outras Cult pred. Sequeiro","Arvenses e Outras Cult pred. Sequeiro","Arvenses e Outras Cult pred. Sequeiro","Arvenses e Outras Cult pred. Sequeiro","Arroz","Arroz","Arroz","Arroz","Arroz","Horticultura e Industriais","Horticultura e Industriais","Horticultura e Industriais","Horticultura e Industriais","Horticultura e Industriais","Horticultura e Floricultura","Horticultura e Floricultura","Horticultura e Floricultura","Horticultura e Floricultura","Horticultura e Floricultura","Vinhos","Vinhos"]
[null,null,null,null,null,null,null,null,"Muito Pequenas","Pequenas","Médias","Grandes","Muito Grandes","Muito Pequenas","Pequenas","Médias","Grandes","Muito Grandes","Muito Pequenas","Pequenas","Médias","Grandes","Muito Grandes","Muito Pequenas","Pequenas","Médias","Grandes","Muito Grandes","Muito Pequenas","Pequenas","Médias","Grandes","Muito Grandes","Muito Pequenas","Pequenas"]
[null,null,"NUT'S III"]
[1,"111","Alto Minho",{"$f":"+SUMIFS(Sheet4!$DM$2:$DM$8409,Sheet4!$C$2:$C$8409,Sheet3!$B8,Sheet4!$D$2:$D$8409,Sheet3!D$3,Sheet4!$E$2:$E$8409,Sheet3!D$4,Sheet4!$A$2:$A$8409,Sheet3!$B$1,Sheet4!$B$2:$B$8409,Sheet3!$A$3)","v":0},{"$f":"+SUMIFS(Sheet4!$DM$2:$DM$8409,Sheet4!$C$2:$C$8409,Sheet3!$B8,Sheet4!$D$2:$D$8409,Sheet3!E$3,Sheet4!$E$2:$E$8409,Sheet3!E$4,Sheet4!$A$2:$A$8409,Sheet3!$B$1,Sheet4!$B$2:$B$8409,Sheet3!$A$3)","v":0},{"$f":"+SUMIFS(Sheet4!$DM$2:$DM$8409,Sheet4!$C$2:$C$8409,Sheet3!$B8,Sheet4!$D$2:$D$8409,Sheet3!F$3,Sheet4!$E$2:$E$8409,Sheet3!F$4,Sheet4!$A$2:$A$8409,Sheet3!$B$1,Sheet4!$B$2:$B$8409,Sheet3!$A$3)","v":0},{"$f":"+SUMIFS(Sheet4!$DM$2:$DM$8409,Sheet4!$C$2:$C$8409,Sheet3!$B8,Sheet4!$D$2:$D$8409,Sheet3!G$3,Sheet4!$E$2:$E$8409,Sheet3!G$4,Sheet4!$A$2:$A$8409,Sheet3!$B$1,Sheet4!$B$2:$B$8409,Sheet3!$A$3)","v":0},{"$f":"+SUMIFS(Sheet4!$DM$2:$DM$8409,Sheet4!$C$2:$C$8409,Sheet3!$B8,Sheet4!$D$2:$D$8409,Sheet3!H$3,Sheet4!$E$2:$E$8409,Sheet3!H$4,Sheet4!$A$2:$A$8409,Sheet3!$B$1,Sheet4!$B$2:$B$8409,Sheet3!$A$3)","v":0},{"$f":"+SUMIFS(Sheet4!$DM$2:$DM$8409,Sheet4!$C$2:$C$8409,Sheet3!$B8,Sheet4!$D$2:$D$8409,Sheet3!I$3,Sheet4!$E$2:$E$8409,Sheet3!I$4,Sheet4!$A$2:$A$8409,Sheet3!$B$1,Sheet4!$B$2:$B$8409,Sheet3!$A$3)","v":0},{"$f":"+SUMIFS(Sheet4!$DM$2:$DM$8409,Sheet4!$C$2:$C$8409,Sheet3!$B8,Sheet4!$D$2:$D$8409,Sheet3!J$3,Sheet4!$E$2:$E$8409,Sheet3!J$4,Sheet4!$A$2:$A$8409,Sheet3!$B$1,Sheet4!$B$2:$B$8409,Sheet3!$A$3)","v":0},{"$f":"+SUMIFS(Sheet4!$DM$2:$DM$8409,Sheet4!$C$2:$C$8409,Sheet3!$B8,Sheet4!$D$2:$D$8409,Sheet3!K$3,Sheet4!$E$2:$E$8409,Sheet3!K$4,Sheet4!$A$2:$A$8409,Sheet3!$B$1,Sheet4!$B$2:$B$8409,Sheet3!$A$3)","v":0},{"$f":"+SUMIFS(Sheet4!$DM$2:$DM$8409,Sheet4!$C$2:$C$8409,Sheet3!$B8,Sheet4!$D$2:$D$8409,Sheet3!L$3,Sheet4!$E$2:$E$8409,Sheet3!L$4,Sheet4!$A$2:$A$8409,Sheet3!$B$1,Sheet4!$B$2:$B$8409,Sheet3!$A$3)","v":0},{"$f":"+SUMIFS(Sheet4!$DM$2:$DM$8409,Sheet4!$C$2:$C$8409,Sheet3!$B8,Sheet4!$D$2:$D$8409,Sheet3!M$3,Sheet4!$E$2:$E$8409,Sheet3!M$4,Sheet4!$A$2:$A$8409,Sheet3!$B$1,Sheet4!$B$2:$B$8409,Sheet3!$A$3)","v":0},{"$f":"+SUMIFS(Sheet4!$DM$2:$DM$8409,Sheet4!$C$2:$C$8409,Sheet3!$B8,Sheet4!$D$2:$D$8409,Sheet3!N$3,Sheet4!$E$2:$E$8409,Sheet3!N$4,Sheet4!$A$2:$A$8409,Sheet3!$B$1,Sheet4!$B$2:$B$8409,Sheet3!$A$3)","v":0},{"$f":"+SUMIFS(Sheet4!$DM$2:$DM$8409,Sheet4!$C$2:$C$8409,Sheet3!$B8,Sheet4!$D$2:$D$8409,Sheet3!O$3,Sheet4!$E$2:$E$8409,Sheet3!O$4,Sheet4!$A$2:$A$8409,Sheet3!$B$1,Sheet4!$B$2:$B$8409,Sheet3!$A$3)","v":0},{"$f":"+SUMIFS(Sheet4!$DM$2:$DM$8409,Sheet4!$C$2:$C$8409,Sheet3!$B8,Sheet4!$D$2:$D$8409,Sheet3!P$3,Sheet4!$E$2:$E$8409,Sheet3!P$4,Sheet4!$A$2:$A$8409,Sheet3!$B$1,Sheet4!$B$2:$B$8409,Sheet3!$A$3)","v":0},{"$f":"+SUMIFS(Sheet4!$DM$2:$DM$8409,Sheet4!$C$2:$C$8409,Sheet3!$B8,Sheet4!$D$2:$D$8409,Sheet3!Q$3,Sheet4!$E$2:$E$8409,Sheet3!Q$4,Sheet4!$A$2:$A$8409,Sheet3!$B$1,Sheet4!$B$2:$B$8409,Sheet3!$A$3)","v":0},{"$f":"+SUMIFS(Sheet4!$DM$2:$DM$8409,Sheet4!$C$2:$C$8409,Sheet3!$B8,Sheet4!$D$2:$D$8409,Sheet3!R$3,Sheet4!$E$2:$E$8409,Sheet3!R$4,Sheet4!$A$2:$A$8409,Sheet3!$B$1,Sheet4!$B$2:$B$8409,Sheet3!$A$3)","v":0},{"$f":"+SUMIFS(Sheet4!$DM$2:$DM$8409,Sheet4!$C$2:$C$8409,Sheet3!$B8,Sheet4!$D$2:$D$8409,Sheet3!S$3,Sheet4!$E$2:$E$8409,Sheet3!S$4,Sheet4!$A$2:$A$8409,Sheet3!$B$1,Sheet4!$B$2:$B$8409,Sheet3!$A$3)","v":0},{"$f":"+SUMIFS(Sheet4!$DM$2:$DM$8409,Sheet4!$C$2:$C$8409,Sheet3!$B8,Sheet4!$D$2:$D$8409,Sheet3!T$3,Sheet4!$E$2:$E$8409,Sheet3!T$4,Sheet4!$A$2:$A$8409,Sheet3!$B$1,Sheet4!$B$2:$B$8409,Sheet3!$A$3)","v":0},{"$f":"+SUMIFS(Sheet4!$DM$2:$DM$8409,Sheet4!$C$2:$C$8409,Sheet3!$B8,Sheet4!$D$2:$D$8409,Sheet3!U$3,Sheet4!$E$2:$E$8409,Sheet3!U$4,Sheet4!$A$2:$A$8409,Sheet3!$B$1,Sheet4!$B$2:$B$8409,Sheet3!$A$3)","v":0},{"$f":"+SUMIFS(Sheet4!$DM$2:$DM$8409,Sheet4!$C$2:$C$8409,Sheet3!$B8,Sheet4!$D$2:$D$8409,Sheet3!V$3,Sheet4!$E$2:$E$8409,Sheet3!V$4,Sheet4!$A$2:$A$8409,Sheet3!$B$1,Sheet4!$B$2:$B$8409,Sheet3!$A$3)","v":0},{"$f":"+SUMIFS(Sheet4!$DM$2:$DM$8409,Sheet4!$C$2:$C$8409,Sheet3!$B8,Sheet4!$D$2:$D$8409,Sheet3!W$3,Sheet4!$E$2:$E$8409,Sheet3!W$4,Sheet4!$A$2:$A$8409,Sheet3!$B$1,Sheet4!$B$2:$B$8409,Sheet3!$A$3)","v":0},{"$f":"+SUMIFS(Sheet4!$DM$2:$DM$8409,Sheet4!$C$2:$C$8409,Sheet3!$B8,Sheet4!$D$2:$D$8409,Sheet3!X$3,Sheet4!$E$2:$E$8409,Sheet3!X$4,Sheet4!$A$2:$A$8409,Sheet3!$B$1,Sheet4!$B$2:$B$8409,Sheet3!$A$3)","v":0},{"$f":"+SUMIFS(Sheet4!$DM$2:$DM$8409,Sheet4!$C$2:$C$8409,Sheet3!$B8,Sheet4!$D$2:$D$8409,Sheet3!Y$3,Sheet4!$E$2:$E$8409,Sheet3!Y$4,Sheet4!$A$2:$A$8409,Sheet3!$B$1,Sheet4!$B$2:$B$8409,Sheet3!$A$3)","v":0},{"$f":"+SUMIFS(Sheet4!$DM$2:$DM$8409,Sheet4!$C$2:$C$8409,Sheet3!$B8,Sheet4!$D$2:$D$8409,Sheet3!Z$3,Sheet4!$E$2:$E$8409,Sheet3!Z$4,Sheet4!$A$2:$A$8409,Sheet3!$B$1,Sheet4!$B$2:$B$8409,Sheet3!$A$3)","v":0},{"$f":"+SUMIFS(Sheet4!$DM$2:$DM$8409,Sheet4!$C$2:$C$8409,Sheet3!$B8,Sheet4!$D$2:$D$8409,Sheet3!AA$3,Sheet4!$E$2:$E$8409,Sheet3!AA$4,Sheet4!$A$2:$A$8409,Sheet3!$B$1,Sheet4!$B$2:$B$8409,Sheet3!$A$3)","v":0},{"$f":"+SUMIFS(Sheet4!$DM$2:$DM$8409,Sheet4!$C$2:$C$8409,Sheet3!$B8,Sheet4!$D$2:$D$8409,Sheet3!AB$3,Sheet4!$E$2:$E$8409,Sheet3!AB$4,Sheet4!$A$2:$A$8409,Sheet3!$B$1,Sheet4!$B$2:$B$8409,Sheet3!$A$3)","v":0},{"$f":"+SUMIFS(Sheet4!$DM$2:$DM$8409,Sheet4!$C$2:$C$8409,Sheet3!$B8,Sheet4!$D$2:$D$8409,Sheet3!AC$3,Sheet4!$E$2:$E$8409,Sheet3!AC$4,Sheet4!$A$2:$A$8409,Sheet3!$B$1,Sheet4!$B$2:$B$8409,Sheet3!$A$3)","v":0},{"$f":"+SUMIFS(Sheet4!$DM$2:$DM$8409,Sheet4!$C$2:$C$8409,Sheet3!$B8,Sheet4!$D$2:$D$8409,Sheet3!AD$3,Sheet4!$E$2:$E$8409,Sheet3!AD$4,Sheet4!$A$2:$A$8409,Sheet3!$B$1,Sheet4!$B$2:$B$8409,Sheet3!$A$3)","v":0},{"$f":"+SUMIFS(Sheet4!$DM$2:$DM$8409,Sheet4!$C$2:$C$8409,Sheet3!$B8,Sheet4!$D$2:$D$8409,Sheet3!AE$3,Sheet4!$E$2:$E$8409,Sheet3!AE$4,Sheet4!$A$2:$A$8409,Sheet3!$B$1,Sheet4!$B$2:$B$8409,Sheet3!$A$3)","v":0},{"$f":"+SUMIFS(Sheet4!$DM$2:$DM$8409,Sheet4!$C$2:$C$8409,Sheet3!$B8,Sheet4!$D$2:$D$8409,Sheet3!AF$3,Sheet4!$E$2:$E$8409,Sheet3!AF$4,Sheet4!$A$2:$A$8409,Sheet3!$B$1,Sheet4!$B$2:$B$8409,Sheet3!$A$3)","v":0},{"$f":"+SUMIFS(Sheet4!$DM$2:$DM$8409,Sheet4!$C$2:$C$8409,Sheet3!$B8,Sheet4!$D$2:$D$8409,Sheet3!AG$3,Sheet4!$E$2:$E$8409,Sheet3!AG$4,Sheet4!$A$2:$A$8409,Sheet3!$B$1,Sheet4!$B$2:$B$8409,Sheet3!$A$3)","v":0},{"$f":"+SUMIFS(Sheet4!$DM$2:$DM$8409,Sheet4!$C$2:$C$8409,Sheet3!$B8,Sheet4!$D$2:$D$8409,Sheet3!AH$3,Sheet4!$E$2:$E$8409,Sheet3!AH$4,Sheet4!$A$2:$A$8409,Sheet3!$B$1,Sheet4!$B$2:$B$8409,Sheet3!$A$3)","v":0},{"$f":"+SUMIFS(Sheet4!$DM$2:$DM$8409,Sheet4!$C$2:$C$8409,Sheet3!$B8,Sheet4!$D$2:$D$8409,Sheet3!AI$3,Sheet4!$E$2:$E$8409,Sheet3!AI$4,Sheet4!$A$2:$A$8409,Sheet3!$B$1,Sheet4!$B$2:$B$8409,Sheet3!$A$3)","v":0},{"$f":"+SUMIFS(Sheet4!$DM$2:$DM$8409,Sheet4!$C$2:$C$8409,Sheet3!$B8,Sheet4!$D$2:$D$8409,Sheet3!AJ$3,Sheet4!$E$2:$E$8409,Sheet3!AJ$4,Sheet4!$A$2:$A$8409,Sheet3!$B$1,Sheet4!$B$2:$B$8409,Sheet3!$A$3)","v":0},{"$f":"+SUMIFS(Sheet4!$DM$2:$DM$8409,Sheet4!$C$2:$C$8409,Sheet3!$B8,Sheet4!$D$2:$D$8409,Sheet3!AK$3,Sheet4!$E$2:$E$8409,Sheet3!AK$4,Sheet4!$A$2:$A$8409,Sheet3!$B$1,Sheet4!$B$2:$B$8409,Sheet3!$A$3)","v":0},{"$f":"+SUMIFS(Sheet4!$DM$2:$DM$8409,Sheet4!$C$2:$C$8409,Sheet3!$B8,Sheet4!$D$2:$D$8409,Sheet3!AL$3,Sheet4!$E$2:$E$8409,Sheet3!AL$4,Sheet4!$A$2:$A$8409,Sheet3!$B$1,Sheet4!$B$2:$B$8409,Sheet3!$A$3)","v":0},{"$f":"+SUMIFS(Sheet4!$DM$2:$DM$8409,Sheet4!$C$2:$C$8409,Sheet3!$B8,Sheet4!$D$2:$D$8409,Sheet3!AM$3,Sheet4!$E$2:$E$8409,Sheet3!AM$4,Sheet4!$A$2:$A$8409,Sheet3!$B$1,Sheet4!$B$2:$B$8409,Sheet3!$A$3)","v":0},{"$f":"+SUMIFS(Sheet4!$DM$2:$DM$8409,Sheet4!$C$2:$C$8409,Sheet3!$B8,Sheet4!$D$2:$D$8409,Sheet3!AN$3,Sheet4!$E$2:$E$8409,Sheet3!AN$4,Sheet4!$A$2:$A$8409,Sheet3!$B$1,Sheet4!$B$2:$B$8409,Sheet3!$A$3)","v":0},{"$f":"+SUMIFS(Sheet4!$DM$2:$DM$8409,Sheet4!$C$2:$C$8409,Sheet3!$B8,Sheet4!$D$2:$D$8409,Sheet3!AO$3,Sheet4!$E$2:$E$8409,Sheet3!AO$4,Sheet4!$A$2:$A$8409,Sheet3!$B$1,Sheet4!$B$2:$B$8409,Sheet3!$A$3)","v":0},{"$f":"+SUMIFS(Sheet4!$DM$2:$DM$8409,Sheet4!$C$2:$C$8409,Sheet3!$B8,Sheet4!$D$2:$D$8409,Sheet3!AP$3,Sheet4!$E$2:$E$8409,Sheet3!AP$4,Sheet4!$A$2:$A$8409,Sheet3!$B$1,Sheet4!$B$2:$B$8409,Sheet3!$A$3)","v":0},{"$f":"+SUMIFS(Sheet4!$DM$2:$DM$8409,Sheet4!$C$2:$C$8409,Sheet3!$B8,Sheet4!$D$2:$D$8409,Sheet3!AQ$3,Sheet4!$E$2:$E$8409,Sheet3!AQ$4,Sheet4!$A$2:$A$8409,Sheet3!$B$1,Sheet4!$B$2:$B$8409,Sheet3!$A$3)","v":0},{"$f":"+SUMIFS(Sheet4!$DM$2:$DM$8409,Sheet4!$C$2:$C$8409,Sheet3!$B8,Sheet4!$D$2:$D$8409,Sheet3!AR$3,Sheet4!$E$2:$E$8409,Sheet3!AR$4,Sheet4!$A$2:$A$8409,Sheet3!$B$1,Sheet4!$B$2:$B$8409,Sheet3!$A$3)","v":0},{"$f":"+SUMIFS(Sheet4!$DM$2:$DM$8409,Sheet4!$C$2:$C$8409,Sheet3!$B8,Sheet4!$D$2:$D$8409,Sheet3!AS$3,Sheet4!$E$2:$E$8409,Sheet3!AS$4,Sheet4!$A$2:$A$8409,Sheet3!$B$1,Sheet4!$B$2:$B$8409,Sheet3!$A$3)","v":0},{"$f":"+SUMIFS(Sheet4!$DM$2:$DM$8409,Sheet4!$C$2:$C$8409,Sheet3!$B8,Sheet4!$D$2:$D$8409,Sheet3!AT$3,Sheet4!$E$2:$E$8409,Sheet3!AT$4,Sheet4!$A$2:$A$8409,Sheet3!$B$1,Sheet4!$B$2:$B$8409,Sheet3!$A$3)","v":0},{"$f":"+SUMIFS(Sheet4!$DM$2:$DM$8409,Sheet4!$C$2:$C$8409,Sheet3!$B8,Sheet4!$D$2:$D$8409,Sheet3!AU$3,Sheet4!$E$2:$E$8409,Sheet3!AU$4,Sheet4!$A$2:$A$8409,Sheet3!$B$1,Sheet4!$B$2:$B$8409,Sheet3!$A$3)","v":0},{"$f":"+SUMIFS(Sheet4!$DM$2:$DM$8409,Sheet4!$C$2:$C$8409,Sheet3!$B8,Sheet4!$D$2:$D$8409,Sheet3!AV$3,Sheet4!$E$2:$E$8409,Sheet3!AV$4,Sheet4!$A$2:$A$8409,Sheet3!$B$1,Sheet4!$B$2:$B$8409,Sheet3!$A$3)","v":0},{"$f":"+SUMIFS(Sheet4!$DM$2:$DM$8409,Sheet4!$C$2:$C$8409,Sheet3!$B8,Sheet4!$D$2:$D$8409,Sheet3!AW$3,Sheet4!$E$2:$E$8409,Sheet3!AW$4,Sheet4!$A$2:$A$8409,Sheet3!$B$1,Sheet4!$B$2:$B$8409,Sheet3!$A$3)","v":0},{"$f":"+SUMIFS(Sheet4!$DM$2:$DM$8409,Sheet4!$C$2:$C$8409,Sheet3!$B8,Sheet4!$D$2:$D$8409,Sheet3!AX$3,Sheet4!$E$2:$E$8409,Sheet3!AX$4,Sheet4!$A$2:$A$8409,Sheet3!$B$1,Sheet4!$B$2:$B$8409,Sheet3!$A$3)","v":0},{"$f":"+SUMIFS(Sheet4!$DM$2:$DM$8409,Sheet4!$C$2:$C$8409,Sheet3!$B8,Sheet4!$D$2:$D$8409,Sheet3!AY$3,Sheet4!$E$2:$E$8409,Sheet3!AY$4,Sheet4!$A$2:$A$8409,Sheet3!$B$1,Sheet4!$B$2:$B$8409,Sheet3!$A$3)","v":0},{"$f":"+SUMIFS(Sheet4!$DM$2:$DM$8409,Sheet4!$C$2:$C$8409,Sheet3!$B8,Sheet4!$D$2:$D$8409,Sheet3!AZ$3,Sheet4!$E$2:$E$8409,Sheet3!AZ$4,Sheet4!$A$2:$A$8409,Sheet3!$B$1,Sheet4!$B$2:$B$8409,Sheet3!$A$3)","v":0},{"$f":"+SUMIFS(Sheet4!$DM$2:$DM$8409,Sheet4!$C$2:$C$8409,Sheet3!$B8,Sheet4!$D$2:$D$8409,Sheet3!BA$3,Sheet4!$E$2:$E$8409,Sheet3!BA$4,Sheet4!$A$2:$A$8409,Sheet3!$B$1,Sheet4!$B$2:$B$8409,Sheet3!$A$3)","v":0},{"$f":"+SUMIFS(Sheet4!$DM$2:$DM$8409,Sheet4!$C$2:$C$8409,Sheet3!$B8,Sheet4!$D$2:$D$8409,Sheet3!BB$3,Sheet4!$E$2:$E$8409,Sheet3!BB$4,Sheet4!$A$2:$A$8409,Sheet3!$B$1,Sheet4!$B$2:$B$8409,Sheet3!$A$3)","v":0},{"$f":"+SUMIFS(Sheet4!$DM$2:$DM$8409,Sheet4!$C$2:$C$8409,Sheet3!$B8,Sheet4!$D$2:$D$8409,Sheet3!BC$3,Sheet4!$E$2:$E$8409,Sheet3!BC$4,Sheet4!$A$2:$A$8409,Sheet3!$B$1,Sheet4!$B$2:$B$8409,Sheet3!$A$3)","v":0},{"$f":"+SUMIFS(Sheet4!$DM$2:$DM$8409,Sheet4!$C$2:$C$8409,Sheet3!$B8,Sheet4!$D$2:$D$8409,Sheet3!BD$3,Sheet4!$E$2:$E$8409,Sheet3!BD$4,Sheet4!$A$2:$A$8409,Sheet3!$B$1,Sheet4!$B$2:$B$8409,Sheet3!$A$3)","v":0},{"$f":"+SUMIFS(Sheet4!$DM$2:$DM$8409,Sheet4!$C$2:$C$8409,Sheet3!$B8,Sheet4!$D$2:$D$8409,Sheet3!BE$3,Sheet4!$E$2:$E$8409,Sheet3!BE$4,Sheet4!$A$2:$A$8409,Sheet3!$B$1,Sheet4!$B$2:$B$8409,Sheet3!$A$3)","v":0},{"$f":"+SUMIFS(Sheet4!$DM$2:$DM$8409,Sheet4!$C$2:$C$8409,Sheet3!$B8,Sheet4!$D$2:$D$8409,Sheet3!BF$3,Sheet4!$E$2:$E$8409,Sheet3!BF$4,Sheet4!$A$2:$A$8409,Sheet3!$B$1,Sheet4!$B$2:$B$8409,Sheet3!$A$3)","v":0},{"$f":"+SUMIFS(Sheet4!$DM$2:$DM$8409,Sheet4!$C$2:$C$8409,Sheet3!$B8,Sheet4!$D$2:$D$8409,Sheet3!BG$3,Sheet4!$E$2:$E$8409,Sheet3!BG$4,Sheet4!$A$2:$A$8409,Sheet3!$B$1,Sheet4!$B$2:$B$8409,Sheet3!$A$3)","v":0},{"$f":"+SUMIFS(Sheet4!$DM$2:$DM$8409,Sheet4!$C$2:$C$8409,Sheet3!$B8,Sheet4!$D$2:$D$8409,Sheet3!BH$3,Sheet4!$E$2:$E$8409,Sheet3!BH$4,Sheet4!$A$2:$A$8409,Sheet3!$B$1,Sheet4!$B$2:$B$8409,Sheet3!$A$3)","v":0},{"$f":"+SUMIFS(Sheet4!$DM$2:$DM$8409,Sheet4!$C$2:$C$8409,Sheet3!$B8,Sheet4!$D$2:$D$8409,Sheet3!BI$3,Sheet4!$E$2:$E$8409,Sheet3!BI$4,Sheet4!$A$2:$A$8409,Sheet3!$B$1,Sheet4!$B$2:$B$8409,Sheet3!$A$3)","v":0},{"$f":"+SUMIFS(Sheet4!$DM$2:$DM$8409,Sheet4!$C$2:$C$8409,Sheet3!$B8,Sheet4!$D$2:$D$8409,Sheet3!BJ$3,Sheet4!$E$2:$E$8409,Sheet3!BJ$4,Sheet4!$A$2:$A$8409,Sheet3!$B$1,Sheet4!$B$2:$B$8409,Sheet3!$A$3)","v":0},{"$f":"+SUMIFS(Sheet4!$DM$2:$DM$8409,Sheet4!$C$2:$C$8409,Sheet3!$B8,Sheet4!$D$2:$D$8409,Sheet3!BK$3,Sheet4!$E$2:$E$8409,Sheet3!BK$4,Sheet4!$A$2:$A$8409,Sheet3!$B$1,Sheet4!$B$2:$B$8409,Sheet3!$A$3)","v":0},{"$f":"+SUMIFS(Sheet4!$DM$2:$DM$8409,Sheet4!$C$2:$C$8409,Sheet3!$B8,Sheet4!$D$2:$D$8409,Sheet3!BL$3,Sheet4!$E$2:$E$8409,Sheet3!BL$4,Sheet4!$A$2:$A$8409,Sheet3!$B$1,Sheet4!$B$2:$B$8409,Sheet3!$A$3)","v":0},{"$f":"+SUMIFS(Sheet4!$DM$2:$DM$8409,Sheet4!$C$2:$C$8409,Sheet3!$B8,Sheet4!$D$2:$D$8409,Sheet3!BM$3,Sheet4!$E$2:$E$8409,Sheet3!BM$4,Sheet4!$A$2:$A$8409,Sheet3!$B$1,Sheet4!$B$2:$B$8409,Sheet3!$A$3)","v":0},{"$f":"+SUMIFS(Sheet4!$DM$2:$DM$8409,Sheet4!$C$2:$C$8409,Sheet3!$B8,Sheet4!$D$2:$D$8409,Sheet3!BN$3,Sheet4!$E$2:$E$8409,Sheet3!BN$4,Sheet4!$A$2:$A$8409,Sheet3!$B$1,Sheet4!$B$2:$B$8409,Sheet3!$A$3)","v":0},{"$f":"+SUMIFS(Sheet4!$DM$2:$DM$8409,Sheet4!$C$2:$C$8409,Sheet3!$B8,Sheet4!$D$2:$D$8409,Sheet3!BO$3,Sheet4!$E$2:$E$8409,Sheet3!BO$4,Sheet4!$A$2:$A$8409,Sheet3!$B$1,Sheet4!$B$2:$B$8409,Sheet3!$A$3)","v":0},{"$f":"+SUMIFS(Sheet4!$DM$2:$DM$8409,Sheet4!$C$2:$C$8409,Sheet3!$B8,Sheet4!$D$2:$D$8409,Sheet3!BP$3,Sheet4!$E$2:$E$8409,Sheet3!BP$4,Sheet4!$A$2:$A$8409,Sheet3!$B$1,Sheet4!$B$2:$B$8409,Sheet3!$A$3)","v":0},{"$f":"+SUMIFS(Sheet4!$DM$2:$DM$8409,Sheet4!$C$2:$C$8409,Sheet3!$B8,Sheet4!$D$2:$D$8409,Sheet3!BQ$3,Sheet4!$E$2:$E$8409,Sheet3!BQ$4,Sheet4!$A$2:$A$8409,Sheet3!$B$1,Sheet4!$B$2:$B$8409,Sheet3!$A$3)","v":0},{"$f":"+SUMIFS(Sheet4!$DM$2:$DM$8409,Sheet4!$C$2:$C$8409,Sheet3!$B8,Sheet4!$D$2:$D$8409,Sheet3!BR$3,Sheet4!$E$2:$E$8409,Sheet3!BR$4,Sheet4!$A$2:$A$8409,Sheet3!$B$1,Sheet4!$B$2:$B$8409,Sheet3!$A$3)","v":0},{"$f":"+SUMIFS(Sheet4!$DM$2:$DM$8409,Sheet4!$C$2:$C$8409,Sheet3!$B8,Sheet4!$D$2:$D$8409,Sheet3!BS$3,Sheet4!$E$2:$E$8409,Sheet3!BS$4,Sheet4!$A$2:$A$8409,Sheet3!$B$1,Sheet4!$B$2:$B$8409,Sheet3!$A$3)","v":0},{"$f":"+SUMIFS(Sheet4!$DM$2:$DM$8409,Sheet4!$C$2:$C$8409,Sheet3!$B8,Sheet4!$D$2:$D$8409,Sheet3!BT$3,Sheet4!$E$2:$E$8409,Sheet3!BT$4,Sheet4!$A$2:$A$8409,Sheet3!$B$1,Sheet4!$B$2:$B$8409,Sheet3!$A$3)","v":0},{"$f":"+SUMIFS(Sheet4!$DM$2:$DM$8409,Sheet4!$C$2:$C$8409,Sheet3!$B8,Sheet4!$D$2:$D$8409,Sheet3!BU$3,Sheet4!$E$2:$E$8409,Sheet3!BU$4,Sheet4!$A$2:$A$8409,Sheet3!$B$1,Sheet4!$B$2:$B$8409,Sheet3!$A$3)","v":0},{"$f":"+SUMIFS(Sheet4!$DM$2:$DM$8409,Sheet4!$C$2:$C$8409,Sheet3!$B8,Sheet4!$D$2:$D$8409,Sheet3!BV$3,Sheet4!$E$2:$E$8409,Sheet3!BV$4,Sheet4!$A$2:$A$8409,Sheet3!$B$1,Sheet4!$B$2:$B$8409,Sheet3!$A$3)","v":0},{"$f":"+SUMIFS(Sheet4!$DM$2:$DM$8409,Sheet4!$C$2:$C$8409,Sheet3!$B8,Sheet4!$D$2:$D$8409,Sheet3!BW$3,Sheet4!$E$2:$E$8409,Sheet3!BW$4,Sheet4!$A$2:$A$8409,Sheet3!$B$1,Sheet4!$B$2:$B$8409,Sheet3!$A$3)","v":0},{"$f":"+SUMIFS(Sheet4!$DM$2:$DM$8409,Sheet4!$C$2:$C$8409,Sheet3!$B8,Sheet4!$D$2:$D$8409,Sheet3!BX$3,Sheet4!$E$2:$E$8409,Sheet3!BX$4,Sheet4!$A$2:$A$8409,Sheet3!$B$1,Sheet4!$B$2:$B$8409,Sheet3!$A$3)","v":0},{"$f":"+SUMIFS(Sheet4!$DM$2:$DM$8409,Sheet4!$C$2:$C$8409,Sheet3!$B8,Sheet4!$D$2:$D$8409,Sheet3!BY$3,Sheet4!$E$2:$E$8409,Sheet3!BY$4,Sheet4!$A$2:$A$8409,Sheet3!$B$1,Sheet4!$B$2:$B$8409,Sheet3!$A$3)","v":0},{"$f":"+SUMIFS(Sheet4!$DM$2:$DM$8409,Sheet4!$C$2:$C$8409,Sheet3!$B8,Sheet4!$D$2:$D$8409,Sheet3!BZ$3,Sheet4!$E$2:$E$8409,Sheet3!BZ$4,Sheet4!$A$2:$A$8409,Sheet3!$B$1,Sheet4!$B$2:$B$8409,Sheet3!$A$3)","v":0},{"$f":"+SUMIFS(Sheet4!$DM$2:$DM$8409,Sheet4!$C$2:$C$8409,Sheet3!$B8,Sheet4!$D$2:$D$8409,Sheet3!CA$3,Sheet4!$E$2:$E$8409,Sheet3!CA$4,Sheet4!$A$2:$A$8409,Sheet3!$B$1,Sheet4!$B$2:$B$8409,Sheet3!$A$3)","v":0},{"$f":"+SUMIFS(Sheet4!$DM$2:$DM$8409,Sheet4!$C$2:$C$8409,Sheet3!$B8,Sheet4!$D$2:$D$8409,Sheet3!CB$3,Sheet4!$E$2:$E$8409,Sheet3!CB$4,Sheet4!$A$2:$A$8409,Sheet3!$B$1,Sheet4!$B$2:$B$8409,Sheet3!$A$3)","v":0},{"$f":"+SUMIFS(Sheet4!$DM$2:$DM$8409,Sheet4!$C$2:$C$8409,Sheet3!$B8,Sheet4!$D$2:$D$8409,Sheet3!CC$3,Sheet4!$E$2:$E$8409,Sheet3!CC$4,Sheet4!$A$2:$A$8409,Sheet3!$B$1,Sheet4!$B$2:$B$8409,Sheet3!$A$3)","v":0},{"$f":"+SUMIFS(Sheet4!$DM$2:$DM$8409,Sheet4!$C$2:$C$8409,Sheet3!$B8,Sheet4!$D$2:$D$8409,Sheet3!CD$3,Sheet4!$E$2:$E$8409,Sheet3!CD$4,Sheet4!$A$2:$A$8409,Sheet3!$B$1,Sheet4!$B$2:$B$8409,Sheet3!$A$3)","v":0},{"$f":"+SUMIFS(Sheet4!$DM$2:$DM$8409,Sheet4!$C$2:$C$8409,Sheet3!$B8,Sheet4!$D$2:$D$8409,Sheet3!CE$3,Sheet4!$E$2:$E$8409,Sheet3!CE$4,Sheet4!$A$2:$A$8409,Sheet3!$B$1,Sheet4!$B$2:$B$8409,Sheet3!$A$3)","v":0},{"$f":"+SUMIFS(Sheet4!$DM$2:$DM$8409,Sheet4!$C$2:$C$8409,Sheet3!$B8,Sheet4!$D$2:$D$8409,Sheet3!CF$3,Sheet4!$E$2:$E$8409,Sheet3!CF$4,Sheet4!$A$2:$A$8409,Sheet3!$B$1,Sheet4!$B$2:$B$8409,Sheet3!$A$3)","v":0},{"$f":"+SUMIFS(Sheet4!$DM$2:$DM$8409,Sheet4!$C$2:$C$8409,Sheet3!$B8,Sheet4!$D$2:$D$8409,Sheet3!CG$3,Sheet4!$E$2:$E$8409,Sheet3!CG$4,Sheet4!$A$2:$A$8409,Sheet3!$B$1,Sheet4!$B$2:$B$8409,Sheet3!$A$3)","v":0},{"$f":"+SUMIFS(Sheet4!$DM$2:$DM$8409,Sheet4!$C$2:$C$8409,Sheet3!$B8,Sheet4!$D$2:$D$8409,Sheet3!CH$3,Sheet4!$E$2:$E$8409,Sheet3!CH$4,Sheet4!$A$2:$A$8409,Sheet3!$B$1,Sheet4!$B$2:$B$8409,Sheet3!$A$3)","v":0},{"$f":"+SUMIFS(Sheet4!$DM$2:$DM$8409,Sheet4!$C$2:$C$8409,Sheet3!$B8,Sheet4!$D$2:$D$8409,Sheet3!CI$3,Sheet4!$E$2:$E$8409,Sheet3!CI$4,Sheet4!$A$2:$A$8409,Sheet3!$B$1,Sheet4!$B$2:$B$8409,Sheet3!$A$3)","v":0},{"$f":"+SUMIFS(Sheet4!$DM$2:$DM$8409,Sheet4!$C$2:$C$8409,Sheet3!$B8,Sheet4!$D$2:$D$8409,Sheet3!CJ$3,Sheet4!$E$2:$E$8409,Sheet3!CJ$4,Sheet4!$A$2:$A$8409,Sheet3!$B$1,Sheet4!$B$2:$B$8409,Sheet3!$A$3)","v":0},{"$f":"+SUMIFS(Sheet4!$DM$2:$DM$8409,Sheet4!$C$2:$C$8409,Sheet3!$B8,Sheet4!$D$2:$D$8409,Sheet3!CK$3,Sheet4!$E$2:$E$8409,Sheet3!CK$4,Sheet4!$A$2:$A$8409,Sheet3!$B$1,Sheet4!$B$2:$B$8409,Sheet3!$A$3)","v":0},{"$f":"+SUMIFS(Sheet4!$DM$2:$DM$8409,Sheet4!$C$2:$C$8409,Sheet3!$B8,Sheet4!$D$2:$D$8409,Sheet3!CL$3,Sheet4!$E$2:$E$8409,Sheet3!CL$4,Sheet4!$A$2:$A$8409,Sheet3!$B$1,Sheet4!$B$2:$B$8409,Sheet3!$A$3)","v":0},{"$f":"+SUMIFS(Sheet4!$DM$2:$DM$8409,Sheet4!$C$2:$C$8409,Sheet3!$B8,Sheet4!$D$2:$D$8409,Sheet3!CM$3,Sheet4!$E$2:$E$8409,Sheet3!CM$4,Sheet4!$A$2:$A$8409,Sheet3!$B$1,Sheet4!$B$2:$B$8409,Sheet3!$A$3)","v":0},{"$f":"+SUMIFS(Sheet4!$DM$2:$DM$8409,Sheet4!$C$2:$C$8409,Sheet3!$B8,Sheet4!$D$2:$D$8409,Sheet3!CN$3,Sheet4!$E$2:$E$8409,Sheet3!CN$4,Sheet4!$A$2:$A$8409,Sheet3!$B$1,Sheet4!$B$2:$B$8409,Sheet3!$A$3)","v":0},{"$f":"+SUMIFS(Sheet4!$DM$2:$DM$8409,Sheet4!$C$2:$C$8409,Sheet3!$B8,Sheet4!$D$2:$D$8409,Sheet3!CO$3,Sheet4!$E$2:$E$8409,Sheet3!CO$4,Sheet4!$A$2:$A$8409,Sheet3!$B$1,Sheet4!$B$2:$B$8409,Sheet3!$A$3)","v":0},{"$f":"+SUMIFS(Sheet4!$DM$2:$DM$8409,Sheet4!$C$2:$C$8409,Sheet3!$B8,Sheet4!$D$2:$D$8409,Sheet3!CP$3,Sheet4!$E$2:$E$8409,Sheet3!CP$4,Sheet4!$A$2:$A$8409,Sheet3!$B$1,Sheet4!$B$2:$B$8409,Sheet3!$A$3)","v":0},{"$f":"+SUMIFS(Sheet4!$DM$2:$DM$8409,Sheet4!$C$2:$C$8409,Sheet3!$B8,Sheet4!$D$2:$D$8409,Sheet3!CQ$3,Sheet4!$E$2:$E$8409,Sheet3!CQ$4,Sheet4!$A$2:$A$8409,Sheet3!$B$1,Sheet4!$B$2:$B$8409,Sheet3!$A$3)","v":0},{"$f":"+SUMIFS(Sheet4!$DM$2:$DM$8409,Sheet4!$C$2:$C$8409,Sheet3!$B8,Sheet4!$D$2:$D$8409,Sheet3!CR$3,Sheet4!$E$2:$E$8409,Sheet3!CR$4,Sheet4!$A$2:$A$8409,Sheet3!$B$1,Sheet4!$B$2:$B$8409,Sheet3!$A$3)","v":0},{"$f":"+SUMIFS(Sheet4!$DM$2:$DM$8409,Sheet4!$C$2:$C$8409,Sheet3!$B8,Sheet4!$D$2:$D$8409,Sheet3!CS$3,Sheet4!$E$2:$E$8409,Sheet3!CS$4,Sheet4!$A$2:$A$8409,Sheet3!$B$1,Sheet4!$B$2:$B$8409,Sheet3!$A$3)","v":0},{"$f":"+SUMIFS(Sheet4!$DM$2:$DM$8409,Sheet4!$C$2:$C$8409,Sheet3!$B8,Sheet4!$D$2:$D$8409,Sheet3!CT$3,Sheet4!$E$2:$E$8409,Sheet3!CT$4,Sheet4!$A$2:$A$8409,Sheet3!$B$1,Sheet4!$B$2:$B$8409,Sheet3!$A$3)","v":0},{"$f":"+IF(SUMIFS(Sheet4!$DN$2:$DN$8409,Sheet4!$C$2:$C$8409,Sheet3!$B8,Sheet4!$D$2:$D$8409,Sheet3!CU$3,Sheet4!$A$2:$A$8409,Sheet3!$B$1,Sheet4!$B$2:$B$8409,Sheet3!$A$3)<3,0,SUMIFS(Sheet4!$DN$2:$DN$8409,Sheet4!$C$2:$C$8409,Sheet3!$B8,Sheet4!$D$2:$D$8409,Sheet3!CU$3,Sheet4!$A$2:$A$8409,Sheet3!$B$1,Sheet4!$B$2:$B$8409,Sheet3!$A$3))","v":0},{"$f":"+IF(SUMIFS(Sheet4!$DN$2:$DN$8409,Sheet4!$C$2:$C$8409,Sheet3!$B8,Sheet4!$D$2:$D$8409,Sheet3!CV$3,Sheet4!$A$2:$A$8409,Sheet3!$B$1,Sheet4!$B$2:$B$8409,Sheet3!$A$3)<3,0,SUMIFS(Sheet4!$DN$2:$DN$8409,Sheet4!$C$2:$C$8409,Sheet3!$B8,Sheet4!$D$2:$D$8409,Sheet3!CV$3,Sheet4!$A$2:$A$8409,Sheet3!$B$1,Sheet4!$B$2:$B$8409,Sheet3!$A$3))","v":0},{"$f":"+IF(SUMIFS(Sheet4!$DN$2:$DN$8409,Sheet4!$C$2:$C$8409,Sheet3!$B8,Sheet4!$D$2:$D$8409,Sheet3!CW$3,Sheet4!$A$2:$A$8409,Sheet3!$B$1,Sheet4!$B$2:$B$8409,Sheet3!$A$3)<3,0,SUMIFS(Sheet4!$DN$2:$DN$8409,Sheet4!$C$2:$C$8409,Sheet3!$B8,Sheet4!$D$2:$D$8409,Sheet3!CW$3,Sheet4!$A$2:$A$8409,Sheet3!$B$1,Sheet4!$B$2:$B$8409,Sheet3!$A$3))","v":0},{"$f":"+IF(SUMIFS(Sheet4!$DN$2:$DN$8409,Sheet4!$C$2:$C$8409,Sheet3!$B8,Sheet4!$D$2:$D$8409,Sheet3!CX$3,Sheet4!$A$2:$A$8409,Sheet3!$B$1,Sheet4!$B$2:$B$8409,Sheet3!$A$3)<3,0,SUMIFS(Sheet4!$DN$2:$DN$8409,Sheet4!$C$2:$C$8409,Sheet3!$B8,Sheet4!$D$2:$D$8409,Sheet3!CX$3,Sheet4!$A$2:$A$8409,Sheet3!$B$1,Sheet4!$B$2:$B$8409,Sheet3!$A$3))","v":0},{"$f":"+IF(SUMIFS(Sheet4!$DN$2:$DN$8409,Sheet4!$C$2:$C$8409,Sheet3!$B8,Sheet4!$D$2:$D$8409,Sheet3!CY$3,Sheet4!$A$2:$A$8409,Sheet3!$B$1,Sheet4!$B$2:$B$8409,Sheet3!$A$3)<3,0,SUMIFS(Sheet4!$DN$2:$DN$8409,Sheet4!$C$2:$C$8409,Sheet3!$B8,Sheet4!$D$2:$D$8409,Sheet3!CY$3,Sheet4!$A$2:$A$8409,Sheet3!$B$1,Sheet4!$B$2:$B$8409,Sheet3!$A$3))","v":0},{"$f":"+IF(SUMIFS(Sheet4!$DN$2:$DN$8409,Sheet4!$C$2:$C$8409,Sheet3!$B8,Sheet4!$D$2:$D$8409,Sheet3!CZ$3,Sheet4!$A$2:$A$8409,Sheet3!$B$1,Sheet4!$B$2:$B$8409,Sheet3!$A$3)<3,0,SUMIFS(Sheet4!$DN$2:$DN$8409,Sheet4!$C$2:$C$8409,Sheet3!$B8,Sheet4!$D$2:$D$8409,Sheet3!CZ$3,Sheet4!$A$2:$A$8409,Sheet3!$B$1,Sheet4!$B$2:$B$8409,Sheet3!$A$3))","v":0},{"$f":"+IF(SUMIFS(Sheet4!$DN$2:$DN$8409,Sheet4!$C$2:$C$8409,Sheet3!$B8,Sheet4!$D$2:$D$8409,Sheet3!DA$3,Sheet4!$A$2:$A$8409,Sheet3!$B$1,Sheet4!$B$2:$B$8409,Sheet3!$A$3)<3,0,SUMIFS(Sheet4!$DN$2:$DN$8409,Sheet4!$C$2:$C$8409,Sheet3!$B8,Sheet4!$D$2:$D$8409,Sheet3!DA$3,Sheet4!$A$2:$A$8409,Sheet3!$B$1,Sheet4!$B$2:$B$8409,Sheet3!$A$3))","v":0},{"$f":"+IF(SUMIFS(Sheet4!$DN$2:$DN$8409,Sheet4!$C$2:$C$8409,Sheet3!$B8,Sheet4!$D$2:$D$8409,Sheet3!DB$3,Sheet4!$A$2:$A$8409,Sheet3!$B$1,Sheet4!$B$2:$B$8409,Sheet3!$A$3)<3,0,SUMIFS(Sheet4!$DN$2:$DN$8409,Sheet4!$C$2:$C$8409,Sheet3!$B8,Sheet4!$D$2:$D$8409,Sheet3!DB$3,Sheet4!$A$2:$A$8409,Sheet3!$B$1,Sheet4!$B$2:$B$8409,Sheet3!$A$3))","v":0},{"$f":"+IF(SUMIFS(Sheet4!$DN$2:$DN$8409,Sheet4!$C$2:$C$8409,Sheet3!$B8,Sheet4!$D$2:$D$8409,Sheet3!DC$3,Sheet4!$A$2:$A$8409,Sheet3!$B$1,Sheet4!$B$2:$B$8409,Sheet3!$A$3)<3,0,SUMIFS(Sheet4!$DN$2:$DN$8409,Sheet4!$C$2:$C$8409,Sheet3!$B8,Sheet4!$D$2:$D$8409,Sheet3!DC$3,Sheet4!$A$2:$A$8409,Sheet3!$B$1,Sheet4!$B$2:$B$8409,Sheet3!$A$3))","v":0},{"$f":"+IF(SUMIFS(Sheet4!$DN$2:$DN$8409,Sheet4!$C$2:$C$8409,Sheet3!$B8,Sheet4!$D$2:$D$8409,Sheet3!DD$3,Sheet4!$A$2:$A$8409,Sheet3!$B$1,Sheet4!$B$2:$B$8409,Sheet3!$A$3)<3,0,SUMIFS(Sheet4!$DN$2:$DN$8409,Sheet4!$C$2:$C$8409,Sheet3!$B8,Sheet4!$D$2:$D$8409,Sheet3!DD$3,Sheet4!$A$2:$A$8409,Sheet3!$B$1,Sheet4!$B$2:$B$8409,Sheet3!$A$3))","v":0},{"$f":"+IF(SUMIFS(Sheet4!$DN$2:$DN$8409,Sheet4!$C$2:$C$8409,Sheet3!$B8,Sheet4!$D$2:$D$8409,Sheet3!DE$3,Sheet4!$A$2:$A$8409,Sheet3!$B$1,Sheet4!$B$2:$B$8409,Sheet3!$A$3)<3,0,SUMIFS(Sheet4!$DN$2:$DN$8409,Sheet4!$C$2:$C$8409,Sheet3!$B8,Sheet4!$D$2:$D$8409,Sheet3!DE$3,Sheet4!$A$2:$A$8409,Sheet3!$B$1,Sheet4!$B$2:$B$8409,Sheet3!$A$3))","v":0},{"$f":"+IF(SUMIFS(Sheet4!$DN$2:$DN$8409,Sheet4!$C$2:$C$8409,Sheet3!$B8,Sheet4!$D$2:$D$8409,Sheet3!DF$3,Sheet4!$A$2:$A$8409,Sheet3!$B$1,Sheet4!$B$2:$B$8409,Sheet3!$A$3)<3,0,SUMIFS(Sheet4!$DN$2:$DN$8409,Sheet4!$C$2:$C$8409,Sheet3!$B8,Sheet4!$D$2:$D$8409,Sheet3!DF$3,Sheet4!$A$2:$A$8409,Sheet3!$B$1,Sheet4!$B$2:$B$8409,Sheet3!$A$3))","v":0},{"$f":"+IF(SUMIFS(Sheet4!$DN$2:$DN$8409,Sheet4!$C$2:$C$8409,Sheet3!$B8,Sheet4!$D$2:$D$8409,Sheet3!DG$3,Sheet4!$A$2:$A$8409,Sheet3!$B$1,Sheet4!$B$2:$B$8409,Sheet3!$A$3)<3,0,SUMIFS(Sheet4!$DN$2:$DN$8409,Sheet4!$C$2:$C$8409,Sheet3!$B8,Sheet4!$D$2:$D$8409,Sheet3!DG$3,Sheet4!$A$2:$A$8409,Sheet3!$B$1,Sheet4!$B$2:$B$8409,Sheet3!$A$3))","v":0},{"$f":"+IF(SUMIFS(Sheet4!$DN$2:$DN$8409,Sheet4!$C$2:$C$8409,Sheet3!$B8,Sheet4!$D$2:$D$8409,Sheet3!DH$3,Sheet4!$A$2:$A$8409,Sheet3!$B$1,Sheet4!$B$2:$B$8409,Sheet3!$A$3)<3,0,SUMIFS(Sheet4!$DN$2:$DN$8409,Sheet4!$C$2:$C$8409,Sheet3!$B8,Sheet4!$D$2:$D$8409,Sheet3!DH$3,Sheet4!$A$2:$A$8409,Sheet3!$B$1,Sheet4!$B$2:$B$8409,Sheet3!$A$3))","v":0},{"$f":"+IF(SUMIFS(Sheet4!$DN$2:$DN$8409,Sheet4!$C$2:$C$8409,Sheet3!$B8,Sheet4!$D$2:$D$8409,Sheet3!DI$3,Sheet4!$A$2:$A$8409,Sheet3!$B$1,Sheet4!$B$2:$B$8409,Sheet3!$A$3)<3,0,SUMIFS(Sheet4!$DN$2:$DN$8409,Sheet4!$C$2:$C$8409,Sheet3!$B8,Sheet4!$D$2:$D$8409,Sheet3!DI$3,Sheet4!$A$2:$A$8409,Sheet3!$B$1,Sheet4!$B$2:$B$8409,Sheet3!$A$3))","v":0},{"$f":"+IF(SUMIFS(Sheet4!$DN$2:$DN$8409,Sheet4!$C$2:$C$8409,Sheet3!$B8,Sheet4!$D$2:$D$8409,Sheet3!DJ$3,Sheet4!$A$2:$A$8409,Sheet3!$B$1,Sheet4!$B$2:$B$8409,Sheet3!$A$3)<3,0,SUMIFS(Sheet4!$DN$2:$DN$8409,Sheet4!$C$2:$C$8409,Sheet3!$B8,Sheet4!$D$2:$D$8409,Sheet3!DJ$3,Sheet4!$A$2:$A$8409,Sheet3!$B$1,Sheet4!$B$2:$B$8409,Sheet3!$A$3))","v":0},{"$f":"+IF(SUMIFS(Sheet4!$DN$2:$DN$8409,Sheet4!$C$2:$C$8409,Sheet3!$B8,Sheet4!$D$2:$D$8409,Sheet3!DK$3,Sheet4!$A$2:$A$8409,Sheet3!$B$1,Sheet4!$B$2:$B$8409,Sheet3!$A$3)<3,0,SUMIFS(Sheet4!$DN$2:$DN$8409,Sheet4!$C$2:$C$8409,Sheet3!$B8,Sheet4!$D$2:$D$8409,Sheet3!DK$3,Sheet4!$A$2:$A$8409,Sheet3!$B$1,Sheet4!$B$2:$B$8409,Sheet3!$A$3))","v":0},{"$f":"+IF(SUMIFS(Sheet4!$DN$2:$DN$8409,Sheet4!$C$2:$C$8409,Sheet3!$B8,Sheet4!$D$2:$D$8409,Sheet3!DL$3,Sheet4!$A$2:$A$8409,Sheet3!$B$1,Sheet4!$B$2:$B$8409,Sheet3!$A$3)<3,0,SUMIFS(Sheet4!$DN$2:$DN$8409,Sheet4!$C$2:$C$8409,Sheet3!$B8,Sheet4!$D$2:$D$8409,Sheet3!DL$3,Sheet4!$A$2:$A$8409,Sheet3!$B$1,Sheet4!$B$2:$B$8409,Sheet3!$A$3))","v":0},{"$f":"+IF(SUMIFS(Sheet4!$DN$2:$DN$8409,Sheet4!$C$2:$C$8409,Sheet3!$B8,Sheet4!$D$2:$D$8409,Sheet3!DM$3,Sheet4!$A$2:$A$8409,Sheet3!$B$1,Sheet4!$B$2:$B$8409,Sheet3!$A$3)<3,0,SUMIFS(Sheet4!$DN$2:$DN$8409,Sheet4!$C$2:$C$8409,Sheet3!$B8,Sheet4!$D$2:$D$8409,Sheet3!DM$3,Sheet4!$A$2:$A$8409,Sheet3!$B$1,Sheet4!$B$2:$B$8409,Sheet3!$A$3))","v":0},{"$f":"+IF(SUMIFS(Sheet4!$DN$2:$DN$8409,Sheet4!$C$2:$C$8409,Sheet3!$B8,Sheet4!$E$2:$E$8409,Sheet3!DN$4,Sheet4!$A$2:$A$8409,Sheet3!$B$1,Sheet4!$B$2:$B$8409,Sheet3!$A$3)<3,0,SUMIFS(Sheet4!$DN$2:$DN$8409,Sheet4!$C$2:$C$8409,Sheet3!$B8,Sheet4!$E$2:$E$8409,Sheet3!DN$4,Sheet4!$A$2:$A$8409,Sheet3!$B$1,Sheet4!$B$2:$B$8409,Sheet3!$A$3))","v":0},{"$f":"+IF(SUMIFS(Sheet4!$DN$2:$DN$8409,Sheet4!$C$2:$C$8409,Sheet3!$B8,Sheet4!$E$2:$E$8409,Sheet3!DO$4,Sheet4!$A$2:$A$8409,Sheet3!$B$1,Sheet4!$B$2:$B$8409,Sheet3!$A$3)<3,0,SUMIFS(Sheet4!$DN$2:$DN$8409,Sheet4!$C$2:$C$8409,Sheet3!$B8,Sheet4!$E$2:$E$8409,Sheet3!DO$4,Sheet4!$A$2:$A$8409,Sheet3!$B$1,Sheet4!$B$2:$B$8409,Sheet3!$A$3))","v":0},{"$f":"+IF(SUMIFS(Sheet4!$DN$2:$DN$8409,Sheet4!$C$2:$C$8409,Sheet3!$B8,Sheet4!$E$2:$E$8409,Sheet3!DP$4,Sheet4!$A$2:$A$8409,Sheet3!$B$1,Sheet4!$B$2:$B$8409,Sheet3!$A$3)<3,0,SUMIFS(Sheet4!$DN$2:$DN$8409,Sheet4!$C$2:$C$8409,Sheet3!$B8,Sheet4!$E$2:$E$8409,Sheet3!DP$4,Sheet4!$A$2:$A$8409,Sheet3!$B$1,Sheet4!$B$2:$B$8409,Sheet3!$A$3))","v":0},{"$f":"+IF(SUMIFS(Sheet4!$DN$2:$DN$8409,Sheet4!$C$2:$C$8409,Sheet3!$B8,Sheet4!$E$2:$E$8409,Sheet3!DQ$4,Sheet4!$A$2:$A$8409,Sheet3!$B$1,Sheet4!$B$2:$B$8409,Sheet3!$A$3)<3,0,SUMIFS(Sheet4!$DN$2:$DN$8409,Sheet4!$C$2:$C$8409,Sheet3!$B8,Sheet4!$E$2:$E$8409,Sheet3!DQ$4,Sheet4!$A$2:$A$8409,Sheet3!$B$1,Sheet4!$B$2:$B$8409,Sheet3!$A$3))","v":0},{"$f":"+IF(SUMIFS(Sheet4!$DN$2:$DN$8409,Sheet4!$C$2:$C$8409,Sheet3!$B8,Sheet4!$E$2:$E$8409,Sheet3!DR$4,Sheet4!$A$2:$A$8409,Sheet3!$B$1,Sheet4!$B$2:$B$8409,Sheet3!$A$3)<3,0,SUMIFS(Sheet4!$DN$2:$DN$8409,Sheet4!$C$2:$C$8409,Sheet3!$B8,Sheet4!$E$2:$E$8409,Sheet3!DR$4,Sheet4!$A$2:$A$8409,Sheet3!$B$1,Sheet4!$B$2:$B$8409,Sheet3!$A$3))","v":0}]
[1,"112","Cávado",{"$f":"+SUMIFS(Sheet4!$DM$2:$DM$8409,Sheet4!$C$2:$C$8409,Sheet3!$B9,Sheet4!$D$2:$D$8409,Sheet3!D$3,Sheet4!$E$2:$E$8409,Sheet3!D$4,Sheet4!$A$2:$A$8409,Sheet3!$B$1,Sheet4!$B$2:$B$8409,Sheet3!$A$3)","v":0},{"$f":"+SUMIFS(Sheet4!$DM$2:$DM$8409,Sheet4!$C$2:$C$8409,Sheet3!$B9,Sheet4!$D$2:$D$8409,Sheet3!E$3,Sheet4!$E$2:$E$8409,Sheet3!E$4,Sheet4!$A$2:$A$8409,Sheet3!$B$1,Sheet4!$B$2:$B$8409,Sheet3!$A$3)","v":0},{"$f":"+SUMIFS(Sheet4!$DM$2:$DM$8409,Sheet4!$C$2:$C$8409,Sheet3!$B9,Sheet4!$D$2:$D$8409,Sheet3!F$3,Sheet4!$E$2:$E$8409,Sheet3!F$4,Sheet4!$A$2:$A$8409,Sheet3!$B$1,Sheet4!$B$2:$B$8409,Sheet3!$A$3)","v":0},{"$f":"+SUMIFS(Sheet4!$DM$2:$DM$8409,Sheet4!$C$2:$C$8409,Sheet3!$B9,Sheet4!$D$2:$D$8409,Sheet3!G$3,Sheet4!$E$2:$E$8409,Sheet3!G$4,Sheet4!$A$2:$A$8409,Sheet3!$B$1,Sheet4!$B$2:$B$8409,Sheet3!$A$3)","v":0},{"$f":"+SUMIFS(Sheet4!$DM$2:$DM$8409,Sheet4!$C$2:$C$8409,Sheet3!$B9,Sheet4!$D$2:$D$8409,Sheet3!H$3,Sheet4!$E$2:$E$8409,Sheet3!H$4,Sheet4!$A$2:$A$8409,Sheet3!$B$1,Sheet4!$B$2:$B$8409,Sheet3!$A$3)","v":0},{"$f":"+SUMIFS(Sheet4!$DM$2:$DM$8409,Sheet4!$C$2:$C$8409,Sheet3!$B9,Sheet4!$D$2:$D$8409,Sheet3!I$3,Sheet4!$E$2:$E$8409,Sheet3!I$4,Sheet4!$A$2:$A$8409,Sheet3!$B$1,Sheet4!$B$2:$B$8409,Sheet3!$A$3)","v":0},{"$f":"+SUMIFS(Sheet4!$DM$2:$DM$8409,Sheet4!$C$2:$C$8409,Sheet3!$B9,Sheet4!$D$2:$D$8409,Sheet3!J$3,Sheet4!$E$2:$E$8409,Sheet3!J$4,Sheet4!$A$2:$A$8409,Sheet3!$B$1,Sheet4!$B$2:$B$8409,Sheet3!$A$3)","v":0},{"$f":"+SUMIFS(Sheet4!$DM$2:$DM$8409,Sheet4!$C$2:$C$8409,Sheet3!$B9,Sheet4!$D$2:$D$8409,Sheet3!K$3,Sheet4!$E$2:$E$8409,Sheet3!K$4,Sheet4!$A$2:$A$8409,Sheet3!$B$1,Sheet4!$B$2:$B$8409,Sheet3!$A$3)","v":0},{"$f":"+SUMIFS(Sheet4!$DM$2:$DM$8409,Sheet4!$C$2:$C$8409,Sheet3!$B9,Sheet4!$D$2:$D$8409,Sheet3!L$3,Sheet4!$E$2:$E$8409,Sheet3!L$4,Sheet4!$A$2:$A$8409,Sheet3!$B$1,Sheet4!$B$2:$B$8409,Sheet3!$A$3)","v":0},{"$f":"+SUMIFS(Sheet4!$DM$2:$DM$8409,Sheet4!$C$2:$C$8409,Sheet3!$B9,Sheet4!$D$2:$D$8409,Sheet3!M$3,Sheet4!$E$2:$E$8409,Sheet3!M$4,Sheet4!$A$2:$A$8409,Sheet3!$B$1,Sheet4!$B$2:$B$8409,Sheet3!$A$3)","v":0},{"$f":"+SUMIFS(Sheet4!$DM$2:$DM$8409,Sheet4!$C$2:$C$8409,Sheet3!$B9,Sheet4!$D$2:$D$8409,Sheet3!N$3,Sheet4!$E$2:$E$8409,Sheet3!N$4,Sheet4!$A$2:$A$8409,Sheet3!$B$1,Sheet4!$B$2:$B$8409,Sheet3!$A$3)","v":0},{"$f":"+SUMIFS(Sheet4!$DM$2:$DM$8409,Sheet4!$C$2:$C$8409,Sheet3!$B9,Sheet4!$D$2:$D$8409,Sheet3!O$3,Sheet4!$E$2:$E$8409,Sheet3!O$4,Sheet4!$A$2:$A$8409,Sheet3!$B$1,Sheet4!$B$2:$B$8409,Sheet3!$A$3)","v":0},{"$f":"+SUMIFS(Sheet4!$DM$2:$DM$8409,Sheet4!$C$2:$C$8409,Sheet3!$B9,Sheet4!$D$2:$D$8409,Sheet3!P$3,Sheet4!$E$2:$E$8409,Sheet3!P$4,Sheet4!$A$2:$A$8409,Sheet3!$B$1,Sheet4!$B$2:$B$8409,Sheet3!$A$3)","v":0},{"$f":"+SUMIFS(Sheet4!$DM$2:$DM$8409,Sheet4!$C$2:$C$8409,Sheet3!$B9,Sheet4!$D$2:$D$8409,Sheet3!Q$3,Sheet4!$E$2:$E$8409,Sheet3!Q$4,Sheet4!$A$2:$A$8409,Sheet3!$B$1,Sheet4!$B$2:$B$8409,Sheet3!$A$3)","v":0},{"$f":"+SUMIFS(Sheet4!$DM$2:$DM$8409,Sheet4!$C$2:$C$8409,Sheet3!$B9,Sheet4!$D$2:$D$8409,Sheet3!R$3,Sheet4!$E$2:$E$8409,Sheet3!R$4,Sheet4!$A$2:$A$8409,Sheet3!$B$1,Sheet4!$B$2:$B$8409,Sheet3!$A$3)","v":0},{"$f":"+SUMIFS(Sheet4!$DM$2:$DM$8409,Sheet4!$C$2:$C$8409,Sheet3!$B9,Sheet4!$D$2:$D$8409,Sheet3!S$3,Sheet4!$E$2:$E$8409,Sheet3!S$4,Sheet4!$A$2:$A$8409,Sheet3!$B$1,Sheet4!$B$2:$B$8409,Sheet3!$A$3)","v":0},{"$f":"+SUMIFS(Sheet4!$DM$2:$DM$8409,Sheet4!$C$2:$C$8409,Sheet3!$B9,Sheet4!$D$2:$D$8409,Sheet3!T$3,Sheet4!$E$2:$E$8409,Sheet3!T$4,Sheet4!$A$2:$A$8409,Sheet3!$B$1,Sheet4!$B$2:$B$8409,Sheet3!$A$3)","v":0},{"$f":"+SUMIFS(Sheet4!$DM$2:$DM$8409,Sheet4!$C$2:$C$8409,Sheet3!$B9,Sheet4!$D$2:$D$8409,Sheet3!U$3,Sheet4!$E$2:$E$8409,Sheet3!U$4,Sheet4!$A$2:$A$8409,Sheet3!$B$1,Sheet4!$B$2:$B$8409,Sheet3!$A$3)","v":0},{"$f":"+SUMIFS(Sheet4!$DM$2:$DM$8409,Sheet4!$C$2:$C$8409,Sheet3!$B9,Sheet4!$D$2:$D$8409,Sheet3!V$3,Sheet4!$E$2:$E$8409,Sheet3!V$4,Sheet4!$A$2:$A$8409,Sheet3!$B$1,Sheet4!$B$2:$B$8409,Sheet3!$A$3)","v":0},{"$f":"+SUMIFS(Sheet4!$DM$2:$DM$8409,Sheet4!$C$2:$C$8409,Sheet3!$B9,Sheet4!$D$2:$D$8409,Sheet3!W$3,Sheet4!$E$2:$E$8409,Sheet3!W$4,Sheet4!$A$2:$A$8409,Sheet3!$B$1,Sheet4!$B$2:$B$8409,Sheet3!$A$3)","v":0},{"$f":"+SUMIFS(Sheet4!$DM$2:$DM$8409,Sheet4!$C$2:$C$8409,Sheet3!$B9,Sheet4!$D$2:$D$8409,Sheet3!X$3,Sheet4!$E$2:$E$8409,Sheet3!X$4,Sheet4!$A$2:$A$8409,Sheet3!$B$1,Sheet4!$B$2:$B$8409,Sheet3!$A$3)","v":0},{"$f":"+SUMIFS(Sheet4!$DM$2:$DM$8409,Sheet4!$C$2:$C$8409,Sheet3!$B9,Sheet4!$D$2:$D$8409,Sheet3!Y$3,Sheet4!$E$2:$E$8409,Sheet3!Y$4,Sheet4!$A$2:$A$8409,Sheet3!$B$1,Sheet4!$B$2:$B$8409,Sheet3!$A$3)","v":0},{"$f":"+SUMIFS(Sheet4!$DM$2:$DM$8409,Sheet4!$C$2:$C$8409,Sheet3!$B9,Sheet4!$D$2:$D$8409,Sheet3!Z$3,Sheet4!$E$2:$E$8409,Sheet3!Z$4,Sheet4!$A$2:$A$8409,Sheet3!$B$1,Sheet4!$B$2:$B$8409,Sheet3!$A$3)","v":0},{"$f":"+SUMIFS(Sheet4!$DM$2:$DM$8409,Sheet4!$C$2:$C$8409,Sheet3!$B9,Sheet4!$D$2:$D$8409,Sheet3!AA$3,Sheet4!$E$2:$E$8409,Sheet3!AA$4,Sheet4!$A$2:$A$8409,Sheet3!$B$1,Sheet4!$B$2:$B$8409,Sheet3!$A$3)","v":0},{"$f":"+SUMIFS(Sheet4!$DM$2:$DM$8409,Sheet4!$C$2:$C$8409,Sheet3!$B9,Sheet4!$D$2:$D$8409,Sheet3!AB$3,Sheet4!$E$2:$E$8409,Sheet3!AB$4,Sheet4!$A$2:$A$8409,Sheet3!$B$1,Sheet4!$B$2:$B$8409,Sheet3!$A$3)","v":0},{"$f":"+SUMIFS(Sheet4!$DM$2:$DM$8409,Sheet4!$C$2:$C$8409,Sheet3!$B9,Sheet4!$D$2:$D$8409,Sheet3!AC$3,Sheet4!$E$2:$E$8409,Sheet3!AC$4,Sheet4!$A$2:$A$8409,Sheet3!$B$1,Sheet4!$B$2:$B$8409,Sheet3!$A$3)","v":0},{"$f":"+SUMIFS(Sheet4!$DM$2:$DM$8409,Sheet4!$C$2:$C$8409,Sheet3!$B9,Sheet4!$D$2:$D$8409,Sheet3!AD$3,Sheet4!$E$2:$E$8409,Sheet3!AD$4,Sheet4!$A$2:$A$8409,Sheet3!$B$1,Sheet4!$B$2:$B$8409,Sheet3!$A$3)","v":0},{"$f":"+SUMIFS(Sheet4!$DM$2:$DM$8409,Sheet4!$C$2:$C$8409,Sheet3!$B9,Sheet4!$D$2:$D$8409,Sheet3!AE$3,Sheet4!$E$2:$E$8409,Sheet3!AE$4,Sheet4!$A$2:$A$8409,Sheet3!$B$1,Sheet4!$B$2:$B$8409,Sheet3!$A$3)","v":0},{"$f":"+SUMIFS(Sheet4!$DM$2:$DM$8409,Sheet4!$C$2:$C$8409,Sheet3!$B9,Sheet4!$D$2:$D$8409,Sheet3!AF$3,Sheet4!$E$2:$E$8409,Sheet3!AF$4,Sheet4!$A$2:$A$8409,Sheet3!$B$1,Sheet4!$B$2:$B$8409,Sheet3!$A$3)","v":0},{"$f":"+SUMIFS(Sheet4!$DM$2:$DM$8409,Sheet4!$C$2:$C$8409,Sheet3!$B9,Sheet4!$D$2:$D$8409,Sheet3!AG$3,Sheet4!$E$2:$E$8409,Sheet3!AG$4,Sheet4!$A$2:$A$8409,Sheet3!$B$1,Sheet4!$B$2:$B$8409,Sheet3!$A$3)","v":0},{"$f":"+SUMIFS(Sheet4!$DM$2:$DM$8409,Sheet4!$C$2:$C$8409,Sheet3!$B9,Sheet4!$D$2:$D$8409,Sheet3!AH$3,Sheet4!$E$2:$E$8409,Sheet3!AH$4,Sheet4!$A$2:$A$8409,Sheet3!$B$1,Sheet4!$B$2:$B$8409,Sheet3!$A$3)","v":0},{"$f":"+SUMIFS(Sheet4!$DM$2:$DM$8409,Sheet4!$C$2:$C$8409,Sheet3!$B9,Sheet4!$D$2:$D$8409,Sheet3!AI$3,Sheet4!$E$2:$E$8409,Sheet3!AI$4,Sheet4!$A$2:$A$8409,Sheet3!$B$1,Sheet4!$B$2:$B$8409,Sheet3!$A$3)","v":0},{"$f":"+SUMIFS(Sheet4!$DM$2:$DM$8409,Sheet4!$C$2:$C$8409,Sheet3!$B9,Sheet4!$D$2:$D$8409,Sheet3!AJ$3,Sheet4!$E$2:$E$8409,Sheet3!AJ$4,Sheet4!$A$2:$A$8409,Sheet3!$B$1,Sheet4!$B$2:$B$8409,Sheet3!$A$3)","v":0},{"$f":"+SUMIFS(Sheet4!$DM$2:$DM$8409,Sheet4!$C$2:$C$8409,Sheet3!$B9,Sheet4!$D$2:$D$8409,Sheet3!AK$3,Sheet4!$E$2:$E$8409,Sheet3!AK$4,Sheet4!$A$2:$A$8409,Sheet3!$B$1,Sheet4!$B$2:$B$8409,Sheet3!$A$3)","v":0},{"$f":"+SUMIFS(Sheet4!$DM$2:$DM$8409,Sheet4!$C$2:$C$8409,Sheet3!$B9,Sheet4!$D$2:$D$8409,Sheet3!AL$3,Sheet4!$E$2:$E$8409,Sheet3!AL$4,Sheet4!$A$2:$A$8409,Sheet3!$B$1,Sheet4!$B$2:$B$8409,Sheet3!$A$3)","v":0},{"$f":"+SUMIFS(Sheet4!$DM$2:$DM$8409,Sheet4!$C$2:$C$8409,Sheet3!$B9,Sheet4!$D$2:$D$8409,Sheet3!AM$3,Sheet4!$E$2:$E$8409,Sheet3!AM$4,Sheet4!$A$2:$A$8409,Sheet3!$B$1,Sheet4!$B$2:$B$8409,Sheet3!$A$3)","v":0},{"$f":"+SUMIFS(Sheet4!$DM$2:$DM$8409,Sheet4!$C$2:$C$8409,Sheet3!$B9,Sheet4!$D$2:$D$8409,Sheet3!AN$3,Sheet4!$E$2:$E$8409,Sheet3!AN$4,Sheet4!$A$2:$A$8409,Sheet3!$B$1,Sheet4!$B$2:$B$8409,Sheet3!$A$3)","v":0},{"$f":"+SUMIFS(Sheet4!$DM$2:$DM$8409,Sheet4!$C$2:$C$8409,Sheet3!$B9,Sheet4!$D$2:$D$8409,Sheet3!AO$3,Sheet4!$E$2:$E$8409,Sheet3!AO$4,Sheet4!$A$2:$A$8409,Sheet3!$B$1,Sheet4!$B$2:$B$8409,Sheet3!$A$3)","v":0},{"$f":"+SUMIFS(Sheet4!$DM$2:$DM$8409,Sheet4!$C$2:$C$8409,Sheet3!$B9,Sheet4!$D$2:$D$8409,Sheet3!AP$3,Sheet4!$E$2:$E$8409,Sheet3!AP$4,Sheet4!$A$2:$A$8409,Sheet3!$B$1,Sheet4!$B$2:$B$8409,Sheet3!$A$3)","v":0},{"$f":"+SUMIFS(Sheet4!$DM$2:$DM$8409,Sheet4!$C$2:$C$8409,Sheet3!$B9,Sheet4!$D$2:$D$8409,Sheet3!AQ$3,Sheet4!$E$2:$E$8409,Sheet3!AQ$4,Sheet4!$A$2:$A$8409,Sheet3!$B$1,Sheet4!$B$2:$B$8409,Sheet3!$A$3)","v":0},{"$f":"+SUMIFS(Sheet4!$DM$2:$DM$8409,Sheet4!$C$2:$C$8409,Sheet3!$B9,Sheet4!$D$2:$D$8409,Sheet3!AR$3,Sheet4!$E$2:$E$8409,Sheet3!AR$4,Sheet4!$A$2:$A$8409,Sheet3!$B$1,Sheet4!$B$2:$B$8409,Sheet3!$A$3)","v":0},{"$f":"+SUMIFS(Sheet4!$DM$2:$DM$8409,Sheet4!$C$2:$C$8409,Sheet3!$B9,Sheet4!$D$2:$D$8409,Sheet3!AS$3,Sheet4!$E$2:$E$8409,Sheet3!AS$4,Sheet4!$A$2:$A$8409,Sheet3!$B$1,Sheet4!$B$2:$B$8409,Sheet3!$A$3)","v":0},{"$f":"+SUMIFS(Sheet4!$DM$2:$DM$8409,Sheet4!$C$2:$C$8409,Sheet3!$B9,Sheet4!$D$2:$D$8409,Sheet3!AT$3,Sheet4!$E$2:$E$8409,Sheet3!AT$4,Sheet4!$A$2:$A$8409,Sheet3!$B$1,Sheet4!$B$2:$B$8409,Sheet3!$A$3)","v":0},{"$f":"+SUMIFS(Sheet4!$DM$2:$DM$8409,Sheet4!$C$2:$C$8409,Sheet3!$B9,Sheet4!$D$2:$D$8409,Sheet3!AU$3,Sheet4!$E$2:$E$8409,Sheet3!AU$4,Sheet4!$A$2:$A$8409,Sheet3!$B$1,Sheet4!$B$2:$B$8409,Sheet3!$A$3)","v":0},{"$f":"+SUMIFS(Sheet4!$DM$2:$DM$8409,Sheet4!$C$2:$C$8409,Sheet3!$B9,Sheet4!$D$2:$D$8409,Sheet3!AV$3,Sheet4!$E$2:$E$8409,Sheet3!AV$4,Sheet4!$A$2:$A$8409,Sheet3!$B$1,Sheet4!$B$2:$B$8409,Sheet3!$A$3)","v":0},{"$f":"+SUMIFS(Sheet4!$DM$2:$DM$8409,Sheet4!$C$2:$C$8409,Sheet3!$B9,Sheet4!$D$2:$D$8409,Sheet3!AW$3,Sheet4!$E$2:$E$8409,Sheet3!AW$4,Sheet4!$A$2:$A$8409,Sheet3!$B$1,Sheet4!$B$2:$B$8409,Sheet3!$A$3)","v":0},{"$f":"+SUMIFS(Sheet4!$DM$2:$DM$8409,Sheet4!$C$2:$C$8409,Sheet3!$B9,Sheet4!$D$2:$D$8409,Sheet3!AX$3,Sheet4!$E$2:$E$8409,Sheet3!AX$4,Sheet4!$A$2:$A$8409,Sheet3!$B$1,Sheet4!$B$2:$B$8409,Sheet3!$A$3)","v":0},{"$f":"+SUMIFS(Sheet4!$DM$2:$DM$8409,Sheet4!$C$2:$C$8409,Sheet3!$B9,Sheet4!$D$2:$D$8409,Sheet3!AY$3,Sheet4!$E$2:$E$8409,Sheet3!AY$4,Sheet4!$A$2:$A$8409,Sheet3!$B$1,Sheet4!$B$2:$B$8409,Sheet3!$A$3)","v":0},{"$f":"+SUMIFS(Sheet4!$DM$2:$DM$8409,Sheet4!$C$2:$C$8409,Sheet3!$B9,Sheet4!$D$2:$D$8409,Sheet3!AZ$3,Sheet4!$E$2:$E$8409,Sheet3!AZ$4,Sheet4!$A$2:$A$8409,Sheet3!$B$1,Sheet4!$B$2:$B$8409,Sheet3!$A$3)","v":0},{"$f":"+SUMIFS(Sheet4!$DM$2:$DM$8409,Sheet4!$C$2:$C$8409,Sheet3!$B9,Sheet4!$D$2:$D$8409,Sheet3!BA$3,Sheet4!$E$2:$E$8409,Sheet3!BA$4,Sheet4!$A$2:$A$8409,Sheet3!$B$1,Sheet4!$B$2:$B$8409,Sheet3!$A$3)","v":0},{"$f":"+SUMIFS(Sheet4!$DM$2:$DM$8409,Sheet4!$C$2:$C$8409,Sheet3!$B9,Sheet4!$D$2:$D$8409,Sheet3!BB$3,Sheet4!$E$2:$E$8409,Sheet3!BB$4,Sheet4!$A$2:$A$8409,Sheet3!$B$1,Sheet4!$B$2:$B$8409,Sheet3!$A$3)","v":0},{"$f":"+SUMIFS(Sheet4!$DM$2:$DM$8409,Sheet4!$C$2:$C$8409,Sheet3!$B9,Sheet4!$D$2:$D$8409,Sheet3!BC$3,Sheet4!$E$2:$E$8409,Sheet3!BC$4,Sheet4!$A$2:$A$8409,Sheet3!$B$1,Sheet4!$B$2:$B$8409,Sheet3!$A$3)","v":0},{"$f":"+SUMIFS(Sheet4!$DM$2:$DM$8409,Sheet4!$C$2:$C$8409,Sheet3!$B9,Sheet4!$D$2:$D$8409,Sheet3!BD$3,Sheet4!$E$2:$E$8409,Sheet3!BD$4,Sheet4!$A$2:$A$8409,Sheet3!$B$1,Sheet4!$B$2:$B$8409,Sheet3!$A$3)","v":0},{"$f":"+SUMIFS(Sheet4!$DM$2:$DM$8409,Sheet4!$C$2:$C$8409,Sheet3!$B9,Sheet4!$D$2:$D$8409,Sheet3!BE$3,Sheet4!$E$2:$E$8409,Sheet3!BE$4,Sheet4!$A$2:$A$8409,Sheet3!$B$1,Sheet4!$B$2:$B$8409,Sheet3!$A$3)","v":0},{"$f":"+SUMIFS(Sheet4!$DM$2:$DM$8409,Sheet4!$C$2:$C$8409,Sheet3!$B9,Sheet4!$D$2:$D$8409,Sheet3!BF$3,Sheet4!$E$2:$E$8409,Sheet3!BF$4,Sheet4!$A$2:$A$8409,Sheet3!$B$1,Sheet4!$B$2:$B$8409,Sheet3!$A$3)","v":0},{"$f":"+SUMIFS(Sheet4!$DM$2:$DM$8409,Sheet4!$C$2:$C$8409,Sheet3!$B9,Sheet4!$D$2:$D$8409,Sheet3!BG$3,Sheet4!$E$2:$E$8409,Sheet3!BG$4,Sheet4!$A$2:$A$8409,Sheet3!$B$1,Sheet4!$B$2:$B$8409,Sheet3!$A$3)","v":0},{"$f":"+SUMIFS(Sheet4!$DM$2:$DM$8409,Sheet4!$C$2:$C$8409,Sheet3!$B9,Sheet4!$D$2:$D$8409,Sheet3!BH$3,Sheet4!$E$2:$E$8409,Sheet3!BH$4,Sheet4!$A$2:$A$8409,Sheet3!$B$1,Sheet4!$B$2:$B$8409,Sheet3!$A$3)","v":0},{"$f":"+SUMIFS(Sheet4!$DM$2:$DM$8409,Sheet4!$C$2:$C$8409,Sheet3!$B9,Sheet4!$D$2:$D$8409,Sheet3!BI$3,Sheet4!$E$2:$E$8409,Sheet3!BI$4,Sheet4!$A$2:$A$8409,Sheet3!$B$1,Sheet4!$B$2:$B$8409,Sheet3!$A$3)","v":0},{"$f":"+SUMIFS(Sheet4!$DM$2:$DM$8409,Sheet4!$C$2:$C$8409,Sheet3!$B9,Sheet4!$D$2:$D$8409,Sheet3!BJ$3,Sheet4!$E$2:$E$8409,Sheet3!BJ$4,Sheet4!$A$2:$A$8409,Sheet3!$B$1,Sheet4!$B$2:$B$8409,Sheet3!$A$3)","v":0},{"$f":"+SUMIFS(Sheet4!$DM$2:$DM$8409,Sheet4!$C$2:$C$8409,Sheet3!$B9,Sheet4!$D$2:$D$8409,Sheet3!BK$3,Sheet4!$E$2:$E$8409,Sheet3!BK$4,Sheet4!$A$2:$A$8409,Sheet3!$B$1,Sheet4!$B$2:$B$8409,Sheet3!$A$3)","v":0},{"$f":"+SUMIFS(Sheet4!$DM$2:$DM$8409,Sheet4!$C$2:$C$8409,Sheet3!$B9,Sheet4!$D$2:$D$8409,Sheet3!BL$3,Sheet4!$E$2:$E$8409,Sheet3!BL$4,Sheet4!$A$2:$A$8409,Sheet3!$B$1,Sheet4!$B$2:$B$8409,Sheet3!$A$3)","v":0},{"$f":"+SUMIFS(Sheet4!$DM$2:$DM$8409,Sheet4!$C$2:$C$8409,Sheet3!$B9,Sheet4!$D$2:$D$8409,Sheet3!BM$3,Sheet4!$E$2:$E$8409,Sheet3!BM$4,Sheet4!$A$2:$A$8409,Sheet3!$B$1,Sheet4!$B$2:$B$8409,Sheet3!$A$3)","v":0},{"$f":"+SUMIFS(Sheet4!$DM$2:$DM$8409,Sheet4!$C$2:$C$8409,Sheet3!$B9,Sheet4!$D$2:$D$8409,Sheet3!BN$3,Sheet4!$E$2:$E$8409,Sheet3!BN$4,Sheet4!$A$2:$A$8409,Sheet3!$B$1,Sheet4!$B$2:$B$8409,Sheet3!$A$3)","v":0},{"$f":"+SUMIFS(Sheet4!$DM$2:$DM$8409,Sheet4!$C$2:$C$8409,Sheet3!$B9,Sheet4!$D$2:$D$8409,Sheet3!BO$3,Sheet4!$E$2:$E$8409,Sheet3!BO$4,Sheet4!$A$2:$A$8409,Sheet3!$B$1,Sheet4!$B$2:$B$8409,Sheet3!$A$3)","v":0},{"$f":"+SUMIFS(Sheet4!$DM$2:$DM$8409,Sheet4!$C$2:$C$8409,Sheet3!$B9,Sheet4!$D$2:$D$8409,Sheet3!BP$3,Sheet4!$E$2:$E$8409,Sheet3!BP$4,Sheet4!$A$2:$A$8409,Sheet3!$B$1,Sheet4!$B$2:$B$8409,Sheet3!$A$3)","v":0},{"$f":"+SUMIFS(Sheet4!$DM$2:$DM$8409,Sheet4!$C$2:$C$8409,Sheet3!$B9,Sheet4!$D$2:$D$8409,Sheet3!BQ$3,Sheet4!$E$2:$E$8409,Sheet3!BQ$4,Sheet4!$A$2:$A$8409,Sheet3!$B$1,Sheet4!$B$2:$B$8409,Sheet3!$A$3)","v":0},{"$f":"+SUMIFS(Sheet4!$DM$2:$DM$8409,Sheet4!$C$2:$C$8409,Sheet3!$B9,Sheet4!$D$2:$D$8409,Sheet3!BR$3,Sheet4!$E$2:$E$8409,Sheet3!BR$4,Sheet4!$A$2:$A$8409,Sheet3!$B$1,Sheet4!$B$2:$B$8409,Sheet3!$A$3)","v":0},{"$f":"+SUMIFS(Sheet4!$DM$2:$DM$8409,Sheet4!$C$2:$C$8409,Sheet3!$B9,Sheet4!$D$2:$D$8409,Sheet3!BS$3,Sheet4!$E$2:$E$8409,Sheet3!BS$4,Sheet4!$A$2:$A$8409,Sheet3!$B$1,Sheet4!$B$2:$B$8409,Sheet3!$A$3)","v":0},{"$f":"+SUMIFS(Sheet4!$DM$2:$DM$8409,Sheet4!$C$2:$C$8409,Sheet3!$B9,Sheet4!$D$2:$D$8409,Sheet3!BT$3,Sheet4!$E$2:$E$8409,Sheet3!BT$4,Sheet4!$A$2:$A$8409,Sheet3!$B$1,Sheet4!$B$2:$B$8409,Sheet3!$A$3)","v":0},{"$f":"+SUMIFS(Sheet4!$DM$2:$DM$8409,Sheet4!$C$2:$C$8409,Sheet3!$B9,Sheet4!$D$2:$D$8409,Sheet3!BU$3,Sheet4!$E$2:$E$8409,Sheet3!BU$4,Sheet4!$A$2:$A$8409,Sheet3!$B$1,Sheet4!$B$2:$B$8409,Sheet3!$A$3)","v":0},{"$f":"+SUMIFS(Sheet4!$DM$2:$DM$8409,Sheet4!$C$2:$C$8409,Sheet3!$B9,Sheet4!$D$2:$D$8409,Sheet3!BV$3,Sheet4!$E$2:$E$8409,Sheet3!BV$4,Sheet4!$A$2:$A$8409,Sheet3!$B$1,Sheet4!$B$2:$B$8409,Sheet3!$A$3)","v":0},{"$f":"+SUMIFS(Sheet4!$DM$2:$DM$8409,Sheet4!$C$2:$C$8409,Sheet3!$B9,Sheet4!$D$2:$D$8409,Sheet3!BW$3,Sheet4!$E$2:$E$8409,Sheet3!BW$4,Sheet4!$A$2:$A$8409,Sheet3!$B$1,Sheet4!$B$2:$B$8409,Sheet3!$A$3)","v":0},{"$f":"+SUMIFS(Sheet4!$DM$2:$DM$8409,Sheet4!$C$2:$C$8409,Sheet3!$B9,Sheet4!$D$2:$D$8409,Sheet3!BX$3,Sheet4!$E$2:$E$8409,Sheet3!BX$4,Sheet4!$A$2:$A$8409,Sheet3!$B$1,Sheet4!$B$2:$B$8409,Sheet3!$A$3)","v":0},{"$f":"+SUMIFS(Sheet4!$DM$2:$DM$8409,Sheet4!$C$2:$C$8409,Sheet3!$B9,Sheet4!$D$2:$D$8409,Sheet3!BY$3,Sheet4!$E$2:$E$8409,Sheet3!BY$4,Sheet4!$A$2:$A$8409,Sheet3!$B$1,Sheet4!$B$2:$B$8409,Sheet3!$A$3)","v":0},{"$f":"+SUMIFS(Sheet4!$DM$2:$DM$8409,Sheet4!$C$2:$C$8409,Sheet3!$B9,Sheet4!$D$2:$D$8409,Sheet3!BZ$3,Sheet4!$E$2:$E$8409,Sheet3!BZ$4,Sheet4!$A$2:$A$8409,Sheet3!$B$1,Sheet4!$B$2:$B$8409,Sheet3!$A$3)","v":0},{"$f":"+SUMIFS(Sheet4!$DM$2:$DM$8409,Sheet4!$C$2:$C$8409,Sheet3!$B9,Sheet4!$D$2:$D$8409,Sheet3!CA$3,Sheet4!$E$2:$E$8409,Sheet3!CA$4,Sheet4!$A$2:$A$8409,Sheet3!$B$1,Sheet4!$B$2:$B$8409,Sheet3!$A$3)","v":0},{"$f":"+SUMIFS(Sheet4!$DM$2:$DM$8409,Sheet4!$C$2:$C$8409,Sheet3!$B9,Sheet4!$D$2:$D$8409,Sheet3!CB$3,Sheet4!$E$2:$E$8409,Sheet3!CB$4,Sheet4!$A$2:$A$8409,Sheet3!$B$1,Sheet4!$B$2:$B$8409,Sheet3!$A$3)","v":0},{"$f":"+SUMIFS(Sheet4!$DM$2:$DM$8409,Sheet4!$C$2:$C$8409,Sheet3!$B9,Sheet4!$D$2:$D$8409,Sheet3!CC$3,Sheet4!$E$2:$E$8409,Sheet3!CC$4,Sheet4!$A$2:$A$8409,Sheet3!$B$1,Sheet4!$B$2:$B$8409,Sheet3!$A$3)","v":0},{"$f":"+SUMIFS(Sheet4!$DM$2:$DM$8409,Sheet4!$C$2:$C$8409,Sheet3!$B9,Sheet4!$D$2:$D$8409,Sheet3!CD$3,Sheet4!$E$2:$E$8409,Sheet3!CD$4,Sheet4!$A$2:$A$8409,Sheet3!$B$1,Sheet4!$B$2:$B$8409,Sheet3!$A$3)","v":0},{"$f":"+SUMIFS(Sheet4!$DM$2:$DM$8409,Sheet4!$C$2:$C$8409,Sheet3!$B9,Sheet4!$D$2:$D$8409,Sheet3!CE$3,Sheet4!$E$2:$E$8409,Sheet3!CE$4,Sheet4!$A$2:$A$8409,Sheet3!$B$1,Sheet4!$B$2:$B$8409,Sheet3!$A$3)","v":0},{"$f":"+SUMIFS(Sheet4!$DM$2:$DM$8409,Sheet4!$C$2:$C$8409,Sheet3!$B9,Sheet4!$D$2:$D$8409,Sheet3!CF$3,Sheet4!$E$2:$E$8409,Sheet3!CF$4,Sheet4!$A$2:$A$8409,Sheet3!$B$1,Sheet4!$B$2:$B$8409,Sheet3!$A$3)","v":0},{"$f":"+SUMIFS(Sheet4!$DM$2:$DM$8409,Sheet4!$C$2:$C$8409,Sheet3!$B9,Sheet4!$D$2:$D$8409,Sheet3!CG$3,Sheet4!$E$2:$E$8409,Sheet3!CG$4,Sheet4!$A$2:$A$8409,Sheet3!$B$1,Sheet4!$B$2:$B$8409,Sheet3!$A$3)","v":0},{"$f":"+SUMIFS(Sheet4!$DM$2:$DM$8409,Sheet4!$C$2:$C$8409,Sheet3!$B9,Sheet4!$D$2:$D$8409,Sheet3!CH$3,Sheet4!$E$2:$E$8409,Sheet3!CH$4,Sheet4!$A$2:$A$8409,Sheet3!$B$1,Sheet4!$B$2:$B$8409,Sheet3!$A$3)","v":0},{"$f":"+SUMIFS(Sheet4!$DM$2:$DM$8409,Sheet4!$C$2:$C$8409,Sheet3!$B9,Sheet4!$D$2:$D$8409,Sheet3!CI$3,Sheet4!$E$2:$E$8409,Sheet3!CI$4,Sheet4!$A$2:$A$8409,Sheet3!$B$1,Sheet4!$B$2:$B$8409,Sheet3!$A$3)","v":0},{"$f":"+SUMIFS(Sheet4!$DM$2:$DM$8409,Sheet4!$C$2:$C$8409,Sheet3!$B9,Sheet4!$D$2:$D$8409,Sheet3!CJ$3,Sheet4!$E$2:$E$8409,Sheet3!CJ$4,Sheet4!$A$2:$A$8409,Sheet3!$B$1,Sheet4!$B$2:$B$8409,Sheet3!$A$3)","v":0},{"$f":"+SUMIFS(Sheet4!$DM$2:$DM$8409,Sheet4!$C$2:$C$8409,Sheet3!$B9,Sheet4!$D$2:$D$8409,Sheet3!CK$3,Sheet4!$E$2:$E$8409,Sheet3!CK$4,Sheet4!$A$2:$A$8409,Sheet3!$B$1,Sheet4!$B$2:$B$8409,Sheet3!$A$3)","v":0},{"$f":"+SUMIFS(Sheet4!$DM$2:$DM$8409,Sheet4!$C$2:$C$8409,Sheet3!$B9,Sheet4!$D$2:$D$8409,Sheet3!CL$3,Sheet4!$E$2:$E$8409,Sheet3!CL$4,Sheet4!$A$2:$A$8409,Sheet3!$B$1,Sheet4!$B$2:$B$8409,Sheet3!$A$3)","v":0},{"$f":"+SUMIFS(Sheet4!$DM$2:$DM$8409,Sheet4!$C$2:$C$8409,Sheet3!$B9,Sheet4!$D$2:$D$8409,Sheet3!CM$3,Sheet4!$E$2:$E$8409,Sheet3!CM$4,Sheet4!$A$2:$A$8409,Sheet3!$B$1,Sheet4!$B$2:$B$8409,Sheet3!$A$3)","v":0},{"$f":"+SUMIFS(Sheet4!$DM$2:$DM$8409,Sheet4!$C$2:$C$8409,Sheet3!$B9,Sheet4!$D$2:$D$8409,Sheet3!CN$3,Sheet4!$E$2:$E$8409,Sheet3!CN$4,Sheet4!$A$2:$A$8409,Sheet3!$B$1,Sheet4!$B$2:$B$8409,Sheet3!$A$3)","v":0},{"$f":"+SUMIFS(Sheet4!$DM$2:$DM$8409,Sheet4!$C$2:$C$8409,Sheet3!$B9,Sheet4!$D$2:$D$8409,Sheet3!CO$3,Sheet4!$E$2:$E$8409,Sheet3!CO$4,Sheet4!$A$2:$A$8409,Sheet3!$B$1,Sheet4!$B$2:$B$8409,Sheet3!$A$3)","v":0},{"$f":"+SUMIFS(Sheet4!$DM$2:$DM$8409,Sheet4!$C$2:$C$8409,Sheet3!$B9,Sheet4!$D$2:$D$8409,Sheet3!CP$3,Sheet4!$E$2:$E$8409,Sheet3!CP$4,Sheet4!$A$2:$A$8409,Sheet3!$B$1,Sheet4!$B$2:$B$8409,Sheet3!$A$3)","v":0},{"$f":"+SUMIFS(Sheet4!$DM$2:$DM$8409,Sheet4!$C$2:$C$8409,Sheet3!$B9,Sheet4!$D$2:$D$8409,Sheet3!CQ$3,Sheet4!$E$2:$E$8409,Sheet3!CQ$4,Sheet4!$A$2:$A$8409,Sheet3!$B$1,Sheet4!$B$2:$B$8409,Sheet3!$A$3)","v":0},{"$f":"+SUMIFS(Sheet4!$DM$2:$DM$8409,Sheet4!$C$2:$C$8409,Sheet3!$B9,Sheet4!$D$2:$D$8409,Sheet3!CR$3,Sheet4!$E$2:$E$8409,Sheet3!CR$4,Sheet4!$A$2:$A$8409,Sheet3!$B$1,Sheet4!$B$2:$B$8409,Sheet3!$A$3)","v":0},{"$f":"+SUMIFS(Sheet4!$DM$2:$DM$8409,Sheet4!$C$2:$C$8409,Sheet3!$B9,Sheet4!$D$2:$D$8409,Sheet3!CS$3,Sheet4!$E$2:$E$8409,Sheet3!CS$4,Sheet4!$A$2:$A$8409,Sheet3!$B$1,Sheet4!$B$2:$B$8409,Sheet3!$A$3)","v":0},{"$f":"+SUMIFS(Sheet4!$DM$2:$DM$8409,Sheet4!$C$2:$C$8409,Sheet3!$B9,Sheet4!$D$2:$D$8409,Sheet3!CT$3,Sheet4!$E$2:$E$8409,Sheet3!CT$4,Sheet4!$A$2:$A$8409,Sheet3!$B$1,Sheet4!$B$2:$B$8409,Sheet3!$A$3)","v":0},{"$f":"+IF(SUMIFS(Sheet4!$DN$2:$DN$8409,Sheet4!$C$2:$C$8409,Sheet3!$B9,Sheet4!$D$2:$D$8409,Sheet3!CU$3,Sheet4!$A$2:$A$8409,Sheet3!$B$1,Sheet4!$B$2:$B$8409,Sheet3!$A$3)<3,0,SUMIFS(Sheet4!$DN$2:$DN$8409,Sheet4!$C$2:$C$8409,Sheet3!$B9,Sheet4!$D$2:$D$8409,Sheet3!CU$3,Sheet4!$A$2:$A$8409,Sheet3!$B$1,Sheet4!$B$2:$B$8409,Sheet3!$A$3))","v":0},{"$f":"+IF(SUMIFS(Sheet4!$DN$2:$DN$8409,Sheet4!$C$2:$C$8409,Sheet3!$B9,Sheet4!$D$2:$D$8409,Sheet3!CV$3,Sheet4!$A$2:$A$8409,Sheet3!$B$1,Sheet4!$B$2:$B$8409,Sheet3!$A$3)<3,0,SUMIFS(Sheet4!$DN$2:$DN$8409,Sheet4!$C$2:$C$8409,Sheet3!$B9,Sheet4!$D$2:$D$8409,Sheet3!CV$3,Sheet4!$A$2:$A$8409,Sheet3!$B$1,Sheet4!$B$2:$B$8409,Sheet3!$A$3))","v":0},{"$f":"+IF(SUMIFS(Sheet4!$DN$2:$DN$8409,Sheet4!$C$2:$C$8409,Sheet3!$B9,Sheet4!$D$2:$D$8409,Sheet3!CW$3,Sheet4!$A$2:$A$8409,Sheet3!$B$1,Sheet4!$B$2:$B$8409,Sheet3!$A$3)<3,0,SUMIFS(Sheet4!$DN$2:$DN$8409,Sheet4!$C$2:$C$8409,Sheet3!$B9,Sheet4!$D$2:$D$8409,Sheet3!CW$3,Sheet4!$A$2:$A$8409,Sheet3!$B$1,Sheet4!$B$2:$B$8409,Sheet3!$A$3))","v":0},{"$f":"+IF(SUMIFS(Sheet4!$DN$2:$DN$8409,Sheet4!$C$2:$C$8409,Sheet3!$B9,Sheet4!$D$2:$D$8409,Sheet3!CX$3,Sheet4!$A$2:$A$8409,Sheet3!$B$1,Sheet4!$B$2:$B$8409,Sheet3!$A$3)<3,0,SUMIFS(Sheet4!$DN$2:$DN$8409,Sheet4!$C$2:$C$8409,Sheet3!$B9,Sheet4!$D$2:$D$8409,Sheet3!CX$3,Sheet4!$A$2:$A$8409,Sheet3!$B$1,Sheet4!$B$2:$B$8409,Sheet3!$A$3))","v":0},{"$f":"+IF(SUMIFS(Sheet4!$DN$2:$DN$8409,Sheet4!$C$2:$C$8409,Sheet3!$B9,Sheet4!$D$2:$D$8409,Sheet3!CY$3,Sheet4!$A$2:$A$8409,Sheet3!$B$1,Sheet4!$B$2:$B$8409,Sheet3!$A$3)<3,0,SUMIFS(Sheet4!$DN$2:$DN$8409,Sheet4!$C$2:$C$8409,Sheet3!$B9,Sheet4!$D$2:$D$8409,Sheet3!CY$3,Sheet4!$A$2:$A$8409,Sheet3!$B$1,Sheet4!$B$2:$B$8409,Sheet3!$A$3))","v":0},{"$f":"+IF(SUMIFS(Sheet4!$DN$2:$DN$8409,Sheet4!$C$2:$C$8409,Sheet3!$B9,Sheet4!$D$2:$D$8409,Sheet3!CZ$3,Sheet4!$A$2:$A$8409,Sheet3!$B$1,Sheet4!$B$2:$B$8409,Sheet3!$A$3)<3,0,SUMIFS(Sheet4!$DN$2:$DN$8409,Sheet4!$C$2:$C$8409,Sheet3!$B9,Sheet4!$D$2:$D$8409,Sheet3!CZ$3,Sheet4!$A$2:$A$8409,Sheet3!$B$1,Sheet4!$B$2:$B$8409,Sheet3!$A$3))","v":0},{"$f":"+IF(SUMIFS(Sheet4!$DN$2:$DN$8409,Sheet4!$C$2:$C$8409,Sheet3!$B9,Sheet4!$D$2:$D$8409,Sheet3!DA$3,Sheet4!$A$2:$A$8409,Sheet3!$B$1,Sheet4!$B$2:$B$8409,Sheet3!$A$3)<3,0,SUMIFS(Sheet4!$DN$2:$DN$8409,Sheet4!$C$2:$C$8409,Sheet3!$B9,Sheet4!$D$2:$D$8409,Sheet3!DA$3,Sheet4!$A$2:$A$8409,Sheet3!$B$1,Sheet4!$B$2:$B$8409,Sheet3!$A$3))","v":0},{"$f":"+IF(SUMIFS(Sheet4!$DN$2:$DN$8409,Sheet4!$C$2:$C$8409,Sheet3!$B9,Sheet4!$D$2:$D$8409,Sheet3!DB$3,Sheet4!$A$2:$A$8409,Sheet3!$B$1,Sheet4!$B$2:$B$8409,Sheet3!$A$3)<3,0,SUMIFS(Sheet4!$DN$2:$DN$8409,Sheet4!$C$2:$C$8409,Sheet3!$B9,Sheet4!$D$2:$D$8409,Sheet3!DB$3,Sheet4!$A$2:$A$8409,Sheet3!$B$1,Sheet4!$B$2:$B$8409,Sheet3!$A$3))","v":0},{"$f":"+IF(SUMIFS(Sheet4!$DN$2:$DN$8409,Sheet4!$C$2:$C$8409,Sheet3!$B9,Sheet4!$D$2:$D$8409,Sheet3!DC$3,Sheet4!$A$2:$A$8409,Sheet3!$B$1,Sheet4!$B$2:$B$8409,Sheet3!$A$3)<3,0,SUMIFS(Sheet4!$DN$2:$DN$8409,Sheet4!$C$2:$C$8409,Sheet3!$B9,Sheet4!$D$2:$D$8409,Sheet3!DC$3,Sheet4!$A$2:$A$8409,Sheet3!$B$1,Sheet4!$B$2:$B$8409,Sheet3!$A$3))","v":0},{"$f":"+IF(SUMIFS(Sheet4!$DN$2:$DN$8409,Sheet4!$C$2:$C$8409,Sheet3!$B9,Sheet4!$D$2:$D$8409,Sheet3!DD$3,Sheet4!$A$2:$A$8409,Sheet3!$B$1,Sheet4!$B$2:$B$8409,Sheet3!$A$3)<3,0,SUMIFS(Sheet4!$DN$2:$DN$8409,Sheet4!$C$2:$C$8409,Sheet3!$B9,Sheet4!$D$2:$D$8409,Sheet3!DD$3,Sheet4!$A$2:$A$8409,Sheet3!$B$1,Sheet4!$B$2:$B$8409,Sheet3!$A$3))","v":0},{"$f":"+IF(SUMIFS(Sheet4!$DN$2:$DN$8409,Sheet4!$C$2:$C$8409,Sheet3!$B9,Sheet4!$D$2:$D$8409,Sheet3!DE$3,Sheet4!$A$2:$A$8409,Sheet3!$B$1,Sheet4!$B$2:$B$8409,Sheet3!$A$3)<3,0,SUMIFS(Sheet4!$DN$2:$DN$8409,Sheet4!$C$2:$C$8409,Sheet3!$B9,Sheet4!$D$2:$D$8409,Sheet3!DE$3,Sheet4!$A$2:$A$8409,Sheet3!$B$1,Sheet4!$B$2:$B$8409,Sheet3!$A$3))","v":0},{"$f":"+IF(SUMIFS(Sheet4!$DN$2:$DN$8409,Sheet4!$C$2:$C$8409,Sheet3!$B9,Sheet4!$D$2:$D$8409,Sheet3!DF$3,Sheet4!$A$2:$A$8409,Sheet3!$B$1,Sheet4!$B$2:$B$8409,Sheet3!$A$3)<3,0,SUMIFS(Sheet4!$DN$2:$DN$8409,Sheet4!$C$2:$C$8409,Sheet3!$B9,Sheet4!$D$2:$D$8409,Sheet3!DF$3,Sheet4!$A$2:$A$8409,Sheet3!$B$1,Sheet4!$B$2:$B$8409,Sheet3!$A$3))","v":0},{"$f":"+IF(SUMIFS(Sheet4!$DN$2:$DN$8409,Sheet4!$C$2:$C$8409,Sheet3!$B9,Sheet4!$D$2:$D$8409,Sheet3!DG$3,Sheet4!$A$2:$A$8409,Sheet3!$B$1,Sheet4!$B$2:$B$8409,Sheet3!$A$3)<3,0,SUMIFS(Sheet4!$DN$2:$DN$8409,Sheet4!$C$2:$C$8409,Sheet3!$B9,Sheet4!$D$2:$D$8409,Sheet3!DG$3,Sheet4!$A$2:$A$8409,Sheet3!$B$1,Sheet4!$B$2:$B$8409,Sheet3!$A$3))","v":0},{"$f":"+IF(SUMIFS(Sheet4!$DN$2:$DN$8409,Sheet4!$C$2:$C$8409,Sheet3!$B9,Sheet4!$D$2:$D$8409,Sheet3!DH$3,Sheet4!$A$2:$A$8409,Sheet3!$B$1,Sheet4!$B$2:$B$8409,Sheet3!$A$3)<3,0,SUMIFS(Sheet4!$DN$2:$DN$8409,Sheet4!$C$2:$C$8409,Sheet3!$B9,Sheet4!$D$2:$D$8409,Sheet3!DH$3,Sheet4!$A$2:$A$8409,Sheet3!$B$1,Sheet4!$B$2:$B$8409,Sheet3!$A$3))","v":0},{"$f":"+IF(SUMIFS(Sheet4!$DN$2:$DN$8409,Sheet4!$C$2:$C$8409,Sheet3!$B9,Sheet4!$D$2:$D$8409,Sheet3!DI$3,Sheet4!$A$2:$A$8409,Sheet3!$B$1,Sheet4!$B$2:$B$8409,Sheet3!$A$3)<3,0,SUMIFS(Sheet4!$DN$2:$DN$8409,Sheet4!$C$2:$C$8409,Sheet3!$B9,Sheet4!$D$2:$D$8409,Sheet3!DI$3,Sheet4!$A$2:$A$8409,Sheet3!$B$1,Sheet4!$B$2:$B$8409,Sheet3!$A$3))","v":0},{"$f":"+IF(SUMIFS(Sheet4!$DN$2:$DN$8409,Sheet4!$C$2:$C$8409,Sheet3!$B9,Sheet4!$D$2:$D$8409,Sheet3!DJ$3,Sheet4!$A$2:$A$8409,Sheet3!$B$1,Sheet4!$B$2:$B$8409,Sheet3!$A$3)<3,0,SUMIFS(Sheet4!$DN$2:$DN$8409,Sheet4!$C$2:$C$8409,Sheet3!$B9,Sheet4!$D$2:$D$8409,Sheet3!DJ$3,Sheet4!$A$2:$A$8409,Sheet3!$B$1,Sheet4!$B$2:$B$8409,Sheet3!$A$3))","v":0},{"$f":"+IF(SUMIFS(Sheet4!$DN$2:$DN$8409,Sheet4!$C$2:$C$8409,Sheet3!$B9,Sheet4!$D$2:$D$8409,Sheet3!DK$3,Sheet4!$A$2:$A$8409,Sheet3!$B$1,Sheet4!$B$2:$B$8409,Sheet3!$A$3)<3,0,SUMIFS(Sheet4!$DN$2:$DN$8409,Sheet4!$C$2:$C$8409,Sheet3!$B9,Sheet4!$D$2:$D$8409,Sheet3!DK$3,Sheet4!$A$2:$A$8409,Sheet3!$B$1,Sheet4!$B$2:$B$8409,Sheet3!$A$3))","v":0},{"$f":"+IF(SUMIFS(Sheet4!$DN$2:$DN$8409,Sheet4!$C$2:$C$8409,Sheet3!$B9,Sheet4!$D$2:$D$8409,Sheet3!DL$3,Sheet4!$A$2:$A$8409,Sheet3!$B$1,Sheet4!$B$2:$B$8409,Sheet3!$A$3)<3,0,SUMIFS(Sheet4!$DN$2:$DN$8409,Sheet4!$C$2:$C$8409,Sheet3!$B9,Sheet4!$D$2:$D$8409,Sheet3!DL$3,Sheet4!$A$2:$A$8409,Sheet3!$B$1,Sheet4!$B$2:$B$8409,Sheet3!$A$3))","v":0},{"$f":"+IF(SUMIFS(Sheet4!$DN$2:$DN$8409,Sheet4!$C$2:$C$8409,Sheet3!$B9,Sheet4!$D$2:$D$8409,Sheet3!DM$3,Sheet4!$A$2:$A$8409,Sheet3!$B$1,Sheet4!$B$2:$B$8409,Sheet3!$A$3)<3,0,SUMIFS(Sheet4!$DN$2:$DN$8409,Sheet4!$C$2:$C$8409,Sheet3!$B9,Sheet4!$D$2:$D$8409,Sheet3!DM$3,Sheet4!$A$2:$A$8409,Sheet3!$B$1,Sheet4!$B$2:$B$8409,Sheet3!$A$3))","v":0},{"$f":"+IF(SUMIFS(Sheet4!$DN$2:$DN$8409,Sheet4!$C$2:$C$8409,Sheet3!$B9,Sheet4!$E$2:$E$8409,Sheet3!DN$4,Sheet4!$A$2:$A$8409,Sheet3!$B$1,Sheet4!$B$2:$B$8409,Sheet3!$A$3)<3,0,SUMIFS(Sheet4!$DN$2:$DN$8409,Sheet4!$C$2:$C$8409,Sheet3!$B9,Sheet4!$E$2:$E$8409,Sheet3!DN$4,Sheet4!$A$2:$A$8409,Sheet3!$B$1,Sheet4!$B$2:$B$8409,Sheet3!$A$3))","v":0},{"$f":"+IF(SUMIFS(Sheet4!$DN$2:$DN$8409,Sheet4!$C$2:$C$8409,Sheet3!$B9,Sheet4!$E$2:$E$8409,Sheet3!DO$4,Sheet4!$A$2:$A$8409,Sheet3!$B$1,Sheet4!$B$2:$B$8409,Sheet3!$A$3)<3,0,SUMIFS(Sheet4!$DN$2:$DN$8409,Sheet4!$C$2:$C$8409,Sheet3!$B9,Sheet4!$E$2:$E$8409,Sheet3!DO$4,Sheet4!$A$2:$A$8409,Sheet3!$B$1,Sheet4!$B$2:$B$8409,Sheet3!$A$3))","v":0},{"$f":"+IF(SUMIFS(Sheet4!$DN$2:$DN$8409,Sheet4!$C$2:$C$8409,Sheet3!$B9,Sheet4!$E$2:$E$8409,Sheet3!DP$4,Sheet4!$A$2:$A$8409,Sheet3!$B$1,Sheet4!$B$2:$B$8409,Sheet3!$A$3)<3,0,SUMIFS(Sheet4!$DN$2:$DN$8409,Sheet4!$C$2:$C$8409,Sheet3!$B9,Sheet4!$E$2:$E$8409,Sheet3!DP$4,Sheet4!$A$2:$A$8409,Sheet3!$B$1,Sheet4!$B$2:$B$8409,Sheet3!$A$3))","v":0},{"$f":"+IF(SUMIFS(Sheet4!$DN$2:$DN$8409,Sheet4!$C$2:$C$8409,Sheet3!$B9,Sheet4!$E$2:$E$8409,Sheet3!DQ$4,Sheet4!$A$2:$A$8409,Sheet3!$B$1,Sheet4!$B$2:$B$8409,Sheet3!$A$3)<3,0,SUMIFS(Sheet4!$DN$2:$DN$8409,Sheet4!$C$2:$C$8409,Sheet3!$B9,Sheet4!$E$2:$E$8409,Sheet3!DQ$4,Sheet4!$A$2:$A$8409,Sheet3!$B$1,Sheet4!$B$2:$B$8409,Sheet3!$A$3))","v":0},{"$f":"+IF(SUMIFS(Sheet4!$DN$2:$DN$8409,Sheet4!$C$2:$C$8409,Sheet3!$B9,Sheet4!$E$2:$E$8409,Sheet3!DR$4,Sheet4!$A$2:$A$8409,Sheet3!$B$1,Sheet4!$B$2:$B$8409,Sheet3!$A$3)<3,0,SUMIFS(Sheet4!$DN$2:$DN$8409,Sheet4!$C$2:$C$8409,Sheet3!$B9,Sheet4!$E$2:$E$8409,Sheet3!DR$4,Sheet4!$A$2:$A$8409,Sheet3!$B$1,Sheet4!$B$2:$B$8409,Sheet3!$A$3))","v":0}]
[1,"119","Ave",{"$f":"+SUMIFS(Sheet4!$DM$2:$DM$8409,Sheet4!$C$2:$C$8409,Sheet3!$B10,Sheet4!$D$2:$D$8409,Sheet3!D$3,Sheet4!$E$2:$E$8409,Sheet3!D$4,Sheet4!$A$2:$A$8409,Sheet3!$B$1,Sheet4!$B$2:$B$8409,Sheet3!$A$3)","v":0},{"$f":"+SUMIFS(Sheet4!$DM$2:$DM$8409,Sheet4!$C$2:$C$8409,Sheet3!$B10,Sheet4!$D$2:$D$8409,Sheet3!E$3,Sheet4!$E$2:$E$8409,Sheet3!E$4,Sheet4!$A$2:$A$8409,Sheet3!$B$1,Sheet4!$B$2:$B$8409,Sheet3!$A$3)","v":0},{"$f":"+SUMIFS(Sheet4!$DM$2:$DM$8409,Sheet4!$C$2:$C$8409,Sheet3!$B10,Sheet4!$D$2:$D$8409,Sheet3!F$3,Sheet4!$E$2:$E$8409,Sheet3!F$4,Sheet4!$A$2:$A$8409,Sheet3!$B$1,Sheet4!$B$2:$B$8409,Sheet3!$A$3)","v":0},{"$f":"+SUMIFS(Sheet4!$DM$2:$DM$8409,Sheet4!$C$2:$C$8409,Sheet3!$B10,Sheet4!$D$2:$D$8409,Sheet3!G$3,Sheet4!$E$2:$E$8409,Sheet3!G$4,Sheet4!$A$2:$A$8409,Sheet3!$B$1,Sheet4!$B$2:$B$8409,Sheet3!$A$3)","v":0},{"$f":"+SUMIFS(Sheet4!$DM$2:$DM$8409,Sheet4!$C$2:$C$8409,Sheet3!$B10,Sheet4!$D$2:$D$8409,Sheet3!H$3,Sheet4!$E$2:$E$8409,Sheet3!H$4,Sheet4!$A$2:$A$8409,Sheet3!$B$1,Sheet4!$B$2:$B$8409,Sheet3!$A$3)","v":0},{"$f":"+SUMIFS(Sheet4!$DM$2:$DM$8409,Sheet4!$C$2:$C$8409,Sheet3!$B10,Sheet4!$D$2:$D$8409,Sheet3!I$3,Sheet4!$E$2:$E$8409,Sheet3!I$4,Sheet4!$A$2:$A$8409,Sheet3!$B$1,Sheet4!$B$2:$B$8409,Sheet3!$A$3)","v":0},{"$f":"+SUMIFS(Sheet4!$DM$2:$DM$8409,Sheet4!$C$2:$C$8409,Sheet3!$B10,Sheet4!$D$2:$D$8409,Sheet3!J$3,Sheet4!$E$2:$E$8409,Sheet3!J$4,Sheet4!$A$2:$A$8409,Sheet3!$B$1,Sheet4!$B$2:$B$8409,Sheet3!$A$3)","v":0},{"$f":"+SUMIFS(Sheet4!$DM$2:$DM$8409,Sheet4!$C$2:$C$8409,Sheet3!$B10,Sheet4!$D$2:$D$8409,Sheet3!K$3,Sheet4!$E$2:$E$8409,Sheet3!K$4,Sheet4!$A$2:$A$8409,Sheet3!$B$1,Sheet4!$B$2:$B$8409,Sheet3!$A$3)","v":0},{"$f":"+SUMIFS(Sheet4!$DM$2:$DM$8409,Sheet4!$C$2:$C$8409,Sheet3!$B10,Sheet4!$D$2:$D$8409,Sheet3!L$3,Sheet4!$E$2:$E$8409,Sheet3!L$4,Sheet4!$A$2:$A$8409,Sheet3!$B$1,Sheet4!$B$2:$B$8409,Sheet3!$A$3)","v":0},{"$f":"+SUMIFS(Sheet4!$DM$2:$DM$8409,Sheet4!$C$2:$C$8409,Sheet3!$B10,Sheet4!$D$2:$D$8409,Sheet3!M$3,Sheet4!$E$2:$E$8409,Sheet3!M$4,Sheet4!$A$2:$A$8409,Sheet3!$B$1,Sheet4!$B$2:$B$8409,Sheet3!$A$3)","v":0},{"$f":"+SUMIFS(Sheet4!$DM$2:$DM$8409,Sheet4!$C$2:$C$8409,Sheet3!$B10,Sheet4!$D$2:$D$8409,Sheet3!N$3,Sheet4!$E$2:$E$8409,Sheet3!N$4,Sheet4!$A$2:$A$8409,Sheet3!$B$1,Sheet4!$B$2:$B$8409,Sheet3!$A$3)","v":0},{"$f":"+SUMIFS(Sheet4!$DM$2:$DM$8409,Sheet4!$C$2:$C$8409,Sheet3!$B10,Sheet4!$D$2:$D$8409,Sheet3!O$3,Sheet4!$E$2:$E$8409,Sheet3!O$4,Sheet4!$A$2:$A$8409,Sheet3!$B$1,Sheet4!$B$2:$B$8409,Sheet3!$A$3)","v":0},{"$f":"+SUMIFS(Sheet4!$DM$2:$DM$8409,Sheet4!$C$2:$C$8409,Sheet3!$B10,Sheet4!$D$2:$D$8409,Sheet3!P$3,Sheet4!$E$2:$E$8409,Sheet3!P$4,Sheet4!$A$2:$A$8409,Sheet3!$B$1,Sheet4!$B$2:$B$8409,Sheet3!$A$3)","v":0},{"$f":"+SUMIFS(Sheet4!$DM$2:$DM$8409,Sheet4!$C$2:$C$8409,Sheet3!$B10,Sheet4!$D$2:$D$8409,Sheet3!Q$3,Sheet4!$E$2:$E$8409,Sheet3!Q$4,Sheet4!$A$2:$A$8409,Sheet3!$B$1,Sheet4!$B$2:$B$8409,Sheet3!$A$3)","v":0},{"$f":"+SUMIFS(Sheet4!$DM$2:$DM$8409,Sheet4!$C$2:$C$8409,Sheet3!$B10,Sheet4!$D$2:$D$8409,Sheet3!R$3,Sheet4!$E$2:$E$8409,Sheet3!R$4,Sheet4!$A$2:$A$8409,Sheet3!$B$1,Sheet4!$B$2:$B$8409,Sheet3!$A$3)","v":0},{"$f":"+SUMIFS(Sheet4!$DM$2:$DM$8409,Sheet4!$C$2:$C$8409,Sheet3!$B10,Sheet4!$D$2:$D$8409,Sheet3!S$3,Sheet4!$E$2:$E$8409,Sheet3!S$4,Sheet4!$A$2:$A$8409,Sheet3!$B$1,Sheet4!$B$2:$B$8409,Sheet3!$A$3)","v":0},{"$f":"+SUMIFS(Sheet4!$DM$2:$DM$8409,Sheet4!$C$2:$C$8409,Sheet3!$B10,Sheet4!$D$2:$D$8409,Sheet3!T$3,Sheet4!$E$2:$E$8409,Sheet3!T$4,Sheet4!$A$2:$A$8409,Sheet3!$B$1,Sheet4!$B$2:$B$8409,Sheet3!$A$3)","v":0},{"$f":"+SUMIFS(Sheet4!$DM$2:$DM$8409,Sheet4!$C$2:$C$8409,Sheet3!$B10,Sheet4!$D$2:$D$8409,Sheet3!U$3,Sheet4!$E$2:$E$8409,Sheet3!U$4,Sheet4!$A$2:$A$8409,Sheet3!$B$1,Sheet4!$B$2:$B$8409,Sheet3!$A$3)","v":0},{"$f":"+SUMIFS(Sheet4!$DM$2:$DM$8409,Sheet4!$C$2:$C$8409,Sheet3!$B10,Sheet4!$D$2:$D$8409,Sheet3!V$3,Sheet4!$E$2:$E$8409,Sheet3!V$4,Sheet4!$A$2:$A$8409,Sheet3!$B$1,Sheet4!$B$2:$B$8409,Sheet3!$A$3)","v":0},{"$f":"+SUMIFS(Sheet4!$DM$2:$DM$8409,Sheet4!$C$2:$C$8409,Sheet3!$B10,Sheet4!$D$2:$D$8409,Sheet3!W$3,Sheet4!$E$2:$E$8409,Sheet3!W$4,Sheet4!$A$2:$A$8409,Sheet3!$B$1,Sheet4!$B$2:$B$8409,Sheet3!$A$3)","v":0},{"$f":"+SUMIFS(Sheet4!$DM$2:$DM$8409,Sheet4!$C$2:$C$8409,Sheet3!$B10,Sheet4!$D$2:$D$8409,Sheet3!X$3,Sheet4!$E$2:$E$8409,Sheet3!X$4,Sheet4!$A$2:$A$8409,Sheet3!$B$1,Sheet4!$B$2:$B$8409,Sheet3!$A$3)","v":0},{"$f":"+SUMIFS(Sheet4!$DM$2:$DM$8409,Sheet4!$C$2:$C$8409,Sheet3!$B10,Sheet4!$D$2:$D$8409,Sheet3!Y$3,Sheet4!$E$2:$E$8409,Sheet3!Y$4,Sheet4!$A$2:$A$8409,Sheet3!$B$1,Sheet4!$B$2:$B$8409,Sheet3!$A$3)","v":0},{"$f":"+SUMIFS(Sheet4!$DM$2:$DM$8409,Sheet4!$C$2:$C$8409,Sheet3!$B10,Sheet4!$D$2:$D$8409,Sheet3!Z$3,Sheet4!$E$2:$E$8409,Sheet3!Z$4,Sheet4!$A$2:$A$8409,Sheet3!$B$1,Sheet4!$B$2:$B$8409,Sheet3!$A$3)","v":0},{"$f":"+SUMIFS(Sheet4!$DM$2:$DM$8409,Sheet4!$C$2:$C$8409,Sheet3!$B10,Sheet4!$D$2:$D$8409,Sheet3!AA$3,Sheet4!$E$2:$E$8409,Sheet3!AA$4,Sheet4!$A$2:$A$8409,Sheet3!$B$1,Sheet4!$B$2:$B$8409,Sheet3!$A$3)","v":0},{"$f":"+SUMIFS(Sheet4!$DM$2:$DM$8409,Sheet4!$C$2:$C$8409,Sheet3!$B10,Sheet4!$D$2:$D$8409,Sheet3!AB$3,Sheet4!$E$2:$E$8409,Sheet3!AB$4,Sheet4!$A$2:$A$8409,Sheet3!$B$1,Sheet4!$B$2:$B$8409,Sheet3!$A$3)","v":0},{"$f":"+SUMIFS(Sheet4!$DM$2:$DM$8409,Sheet4!$C$2:$C$8409,Sheet3!$B10,Sheet4!$D$2:$D$8409,Sheet3!AC$3,Sheet4!$E$2:$E$8409,Sheet3!AC$4,Sheet4!$A$2:$A$8409,Sheet3!$B$1,Sheet4!$B$2:$B$8409,Sheet3!$A$3)","v":0},{"$f":"+SUMIFS(Sheet4!$DM$2:$DM$8409,Sheet4!$C$2:$C$8409,Sheet3!$B10,Sheet4!$D$2:$D$8409,Sheet3!AD$3,Sheet4!$E$2:$E$8409,Sheet3!AD$4,Sheet4!$A$2:$A$8409,Sheet3!$B$1,Sheet4!$B$2:$B$8409,Sheet3!$A$3)","v":0},{"$f":"+SUMIFS(Sheet4!$DM$2:$DM$8409,Sheet4!$C$2:$C$8409,Sheet3!$B10,Sheet4!$D$2:$D$8409,Sheet3!AE$3,Sheet4!$E$2:$E$8409,Sheet3!AE$4,Sheet4!$A$2:$A$8409,Sheet3!$B$1,Sheet4!$B$2:$B$8409,Sheet3!$A$3)","v":0},{"$f":"+SUMIFS(Sheet4!$DM$2:$DM$8409,Sheet4!$C$2:$C$8409,Sheet3!$B10,Sheet4!$D$2:$D$8409,Sheet3!AF$3,Sheet4!$E$2:$E$8409,Sheet3!AF$4,Sheet4!$A$2:$A$8409,Sheet3!$B$1,Sheet4!$B$2:$B$8409,Sheet3!$A$3)","v":0},{"$f":"+SUMIFS(Sheet4!$DM$2:$DM$8409,Sheet4!$C$2:$C$8409,Sheet3!$B10,Sheet4!$D$2:$D$8409,Sheet3!AG$3,Sheet4!$E$2:$E$8409,Sheet3!AG$4,Sheet4!$A$2:$A$8409,Sheet3!$B$1,Sheet4!$B$2:$B$8409,Sheet3!$A$3)","v":0},{"$f":"+SUMIFS(Sheet4!$DM$2:$DM$8409,Sheet4!$C$2:$C$8409,Sheet3!$B10,Sheet4!$D$2:$D$8409,Sheet3!AH$3,Sheet4!$E$2:$E$8409,Sheet3!AH$4,Sheet4!$A$2:$A$8409,Sheet3!$B$1,Sheet4!$B$2:$B$8409,Sheet3!$A$3)","v":0},{"$f":"+SUMIFS(Sheet4!$DM$2:$DM$8409,Sheet4!$C$2:$C$8409,Sheet3!$B10,Sheet4!$D$2:$D$8409,Sheet3!AI$3,Sheet4!$E$2:$E$8409,Sheet3!AI$4,Sheet4!$A$2:$A$8409,Sheet3!$B$1,Sheet4!$B$2:$B$8409,Sheet3!$A$3)","v":0},{"$f":"+SUMIFS(Sheet4!$DM$2:$DM$8409,Sheet4!$C$2:$C$8409,Sheet3!$B10,Sheet4!$D$2:$D$8409,Sheet3!AJ$3,Sheet4!$E$2:$E$8409,Sheet3!AJ$4,Sheet4!$A$2:$A$8409,Sheet3!$B$1,Sheet4!$B$2:$B$8409,Sheet3!$A$3)","v":0},{"$f":"+SUMIFS(Sheet4!$DM$2:$DM$8409,Sheet4!$C$2:$C$8409,Sheet3!$B10,Sheet4!$D$2:$D$8409,Sheet3!AK$3,Sheet4!$E$2:$E$8409,Sheet3!AK$4,Sheet4!$A$2:$A$8409,Sheet3!$B$1,Sheet4!$B$2:$B$8409,Sheet3!$A$3)","v":0},{"$f":"+SUMIFS(Sheet4!$DM$2:$DM$8409,Sheet4!$C$2:$C$8409,Sheet3!$B10,Sheet4!$D$2:$D$8409,Sheet3!AL$3,Sheet4!$E$2:$E$8409,Sheet3!AL$4,Sheet4!$A$2:$A$8409,Sheet3!$B$1,Sheet4!$B$2:$B$8409,Sheet3!$A$3)","v":0},{"$f":"+SUMIFS(Sheet4!$DM$2:$DM$8409,Sheet4!$C$2:$C$8409,Sheet3!$B10,Sheet4!$D$2:$D$8409,Sheet3!AM$3,Sheet4!$E$2:$E$8409,Sheet3!AM$4,Sheet4!$A$2:$A$8409,Sheet3!$B$1,Sheet4!$B$2:$B$8409,Sheet3!$A$3)","v":0},{"$f":"+SUMIFS(Sheet4!$DM$2:$DM$8409,Sheet4!$C$2:$C$8409,Sheet3!$B10,Sheet4!$D$2:$D$8409,Sheet3!AN$3,Sheet4!$E$2:$E$8409,Sheet3!AN$4,Sheet4!$A$2:$A$8409,Sheet3!$B$1,Sheet4!$B$2:$B$8409,Sheet3!$A$3)","v":0},{"$f":"+SUMIFS(Sheet4!$DM$2:$DM$8409,Sheet4!$C$2:$C$8409,Sheet3!$B10,Sheet4!$D$2:$D$8409,Sheet3!AO$3,Sheet4!$E$2:$E$8409,Sheet3!AO$4,Sheet4!$A$2:$A$8409,Sheet3!$B$1,Sheet4!$B$2:$B$8409,Sheet3!$A$3)","v":0},{"$f":"+SUMIFS(Sheet4!$DM$2:$DM$8409,Sheet4!$C$2:$C$8409,Sheet3!$B10,Sheet4!$D$2:$D$8409,Sheet3!AP$3,Sheet4!$E$2:$E$8409,Sheet3!AP$4,Sheet4!$A$2:$A$8409,Sheet3!$B$1,Sheet4!$B$2:$B$8409,Sheet3!$A$3)","v":0},{"$f":"+SUMIFS(Sheet4!$DM$2:$DM$8409,Sheet4!$C$2:$C$8409,Sheet3!$B10,Sheet4!$D$2:$D$8409,Sheet3!AQ$3,Sheet4!$E$2:$E$8409,Sheet3!AQ$4,Sheet4!$A$2:$A$8409,Sheet3!$B$1,Sheet4!$B$2:$B$8409,Sheet3!$A$3)","v":0},{"$f":"+SUMIFS(Sheet4!$DM$2:$DM$8409,Sheet4!$C$2:$C$8409,Sheet3!$B10,Sheet4!$D$2:$D$8409,Sheet3!AR$3,Sheet4!$E$2:$E$8409,Sheet3!AR$4,Sheet4!$A$2:$A$8409,Sheet3!$B$1,Sheet4!$B$2:$B$8409,Sheet3!$A$3)","v":0},{"$f":"+SUMIFS(Sheet4!$DM$2:$DM$8409,Sheet4!$C$2:$C$8409,Sheet3!$B10,Sheet4!$D$2:$D$8409,Sheet3!AS$3,Sheet4!$E$2:$E$8409,Sheet3!AS$4,Sheet4!$A$2:$A$8409,Sheet3!$B$1,Sheet4!$B$2:$B$8409,Sheet3!$A$3)","v":0},{"$f":"+SUMIFS(Sheet4!$DM$2:$DM$8409,Sheet4!$C$2:$C$8409,Sheet3!$B10,Sheet4!$D$2:$D$8409,Sheet3!AT$3,Sheet4!$E$2:$E$8409,Sheet3!AT$4,Sheet4!$A$2:$A$8409,Sheet3!$B$1,Sheet4!$B$2:$B$8409,Sheet3!$A$3)","v":0},{"$f":"+SUMIFS(Sheet4!$DM$2:$DM$8409,Sheet4!$C$2:$C$8409,Sheet3!$B10,Sheet4!$D$2:$D$8409,Sheet3!AU$3,Sheet4!$E$2:$E$8409,Sheet3!AU$4,Sheet4!$A$2:$A$8409,Sheet3!$B$1,Sheet4!$B$2:$B$8409,Sheet3!$A$3)","v":0},{"$f":"+SUMIFS(Sheet4!$DM$2:$DM$8409,Sheet4!$C$2:$C$8409,Sheet3!$B10,Sheet4!$D$2:$D$8409,Sheet3!AV$3,Sheet4!$E$2:$E$8409,Sheet3!AV$4,Sheet4!$A$2:$A$8409,Sheet3!$B$1,Sheet4!$B$2:$B$8409,Sheet3!$A$3)","v":0},{"$f":"+SUMIFS(Sheet4!$DM$2:$DM$8409,Sheet4!$C$2:$C$8409,Sheet3!$B10,Sheet4!$D$2:$D$8409,Sheet3!AW$3,Sheet4!$E$2:$E$8409,Sheet3!AW$4,Sheet4!$A$2:$A$8409,Sheet3!$B$1,Sheet4!$B$2:$B$8409,Sheet3!$A$3)","v":0},{"$f":"+SUMIFS(Sheet4!$DM$2:$DM$8409,Sheet4!$C$2:$C$8409,Sheet3!$B10,Sheet4!$D$2:$D$8409,Sheet3!AX$3,Sheet4!$E$2:$E$8409,Sheet3!AX$4,Sheet4!$A$2:$A$8409,Sheet3!$B$1,Sheet4!$B$2:$B$8409,Sheet3!$A$3)","v":0},{"$f":"+SUMIFS(Sheet4!$DM$2:$DM$8409,Sheet4!$C$2:$C$8409,Sheet3!$B10,Sheet4!$D$2:$D$8409,Sheet3!AY$3,Sheet4!$E$2:$E$8409,Sheet3!AY$4,Sheet4!$A$2:$A$8409,Sheet3!$B$1,Sheet4!$B$2:$B$8409,Sheet3!$A$3)","v":0},{"$f":"+SUMIFS(Sheet4!$DM$2:$DM$8409,Sheet4!$C$2:$C$8409,Sheet3!$B10,Sheet4!$D$2:$D$8409,Sheet3!AZ$3,Sheet4!$E$2:$E$8409,Sheet3!AZ$4,Sheet4!$A$2:$A$8409,Sheet3!$B$1,Sheet4!$B$2:$B$8409,Sheet3!$A$3)","v":0},{"$f":"+SUMIFS(Sheet4!$DM$2:$DM$8409,Sheet4!$C$2:$C$8409,Sheet3!$B10,Sheet4!$D$2:$D$8409,Sheet3!BA$3,Sheet4!$E$2:$E$8409,Sheet3!BA$4,Sheet4!$A$2:$A$8409,Sheet3!$B$1,Sheet4!$B$2:$B$8409,Sheet3!$A$3)","v":0},{"$f":"+SUMIFS(Sheet4!$DM$2:$DM$8409,Sheet4!$C$2:$C$8409,Sheet3!$B10,Sheet4!$D$2:$D$8409,Sheet3!BB$3,Sheet4!$E$2:$E$8409,Sheet3!BB$4,Sheet4!$A$2:$A$8409,Sheet3!$B$1,Sheet4!$B$2:$B$8409,Sheet3!$A$3)","v":0},{"$f":"+SUMIFS(Sheet4!$DM$2:$DM$8409,Sheet4!$C$2:$C$8409,Sheet3!$B10,Sheet4!$D$2:$D$8409,Sheet3!BC$3,Sheet4!$E$2:$E$8409,Sheet3!BC$4,Sheet4!$A$2:$A$8409,Sheet3!$B$1,Sheet4!$B$2:$B$8409,Sheet3!$A$3)","v":0},{"$f":"+SUMIFS(Sheet4!$DM$2:$DM$8409,Sheet4!$C$2:$C$8409,Sheet3!$B10,Sheet4!$D$2:$D$8409,Sheet3!BD$3,Sheet4!$E$2:$E$8409,Sheet3!BD$4,Sheet4!$A$2:$A$8409,Sheet3!$B$1,Sheet4!$B$2:$B$8409,Sheet3!$A$3)","v":0},{"$f":"+SUMIFS(Sheet4!$DM$2:$DM$8409,Sheet4!$C$2:$C$8409,Sheet3!$B10,Sheet4!$D$2:$D$8409,Sheet3!BE$3,Sheet4!$E$2:$E$8409,Sheet3!BE$4,Sheet4!$A$2:$A$8409,Sheet3!$B$1,Sheet4!$B$2:$B$8409,Sheet3!$A$3)","v":0},{"$f":"+SUMIFS(Sheet4!$DM$2:$DM$8409,Sheet4!$C$2:$C$8409,Sheet3!$B10,Sheet4!$D$2:$D$8409,Sheet3!BF$3,Sheet4!$E$2:$E$8409,Sheet3!BF$4,Sheet4!$A$2:$A$8409,Sheet3!$B$1,Sheet4!$B$2:$B$8409,Sheet3!$A$3)","v":0},{"$f":"+SUMIFS(Sheet4!$DM$2:$DM$8409,Sheet4!$C$2:$C$8409,Sheet3!$B10,Sheet4!$D$2:$D$8409,Sheet3!BG$3,Sheet4!$E$2:$E$8409,Sheet3!BG$4,Sheet4!$A$2:$A$8409,Sheet3!$B$1,Sheet4!$B$2:$B$8409,Sheet3!$A$3)","v":0},{"$f":"+SUMIFS(Sheet4!$DM$2:$DM$8409,Sheet4!$C$2:$C$8409,Sheet3!$B10,Sheet4!$D$2:$D$8409,Sheet3!BH$3,Sheet4!$E$2:$E$8409,Sheet3!BH$4,Sheet4!$A$2:$A$8409,Sheet3!$B$1,Sheet4!$B$2:$B$8409,Sheet3!$A$3)","v":0},{"$f":"+SUMIFS(Sheet4!$DM$2:$DM$8409,Sheet4!$C$2:$C$8409,Sheet3!$B10,Sheet4!$D$2:$D$8409,Sheet3!BI$3,Sheet4!$E$2:$E$8409,Sheet3!BI$4,Sheet4!$A$2:$A$8409,Sheet3!$B$1,Sheet4!$B$2:$B$8409,Sheet3!$A$3)","v":0},{"$f":"+SUMIFS(Sheet4!$DM$2:$DM$8409,Sheet4!$C$2:$C$8409,Sheet3!$B10,Sheet4!$D$2:$D$8409,Sheet3!BJ$3,Sheet4!$E$2:$E$8409,Sheet3!BJ$4,Sheet4!$A$2:$A$8409,Sheet3!$B$1,Sheet4!$B$2:$B$8409,Sheet3!$A$3)","v":0},{"$f":"+SUMIFS(Sheet4!$DM$2:$DM$8409,Sheet4!$C$2:$C$8409,Sheet3!$B10,Sheet4!$D$2:$D$8409,Sheet3!BK$3,Sheet4!$E$2:$E$8409,Sheet3!BK$4,Sheet4!$A$2:$A$8409,Sheet3!$B$1,Sheet4!$B$2:$B$8409,Sheet3!$A$3)","v":0},{"$f":"+SUMIFS(Sheet4!$DM$2:$DM$8409,Sheet4!$C$2:$C$8409,Sheet3!$B10,Sheet4!$D$2:$D$8409,Sheet3!BL$3,Sheet4!$E$2:$E$8409,Sheet3!BL$4,Sheet4!$A$2:$A$8409,Sheet3!$B$1,Sheet4!$B$2:$B$8409,Sheet3!$A$3)","v":0},{"$f":"+SUMIFS(Sheet4!$DM$2:$DM$8409,Sheet4!$C$2:$C$8409,Sheet3!$B10,Sheet4!$D$2:$D$8409,Sheet3!BM$3,Sheet4!$E$2:$E$8409,Sheet3!BM$4,Sheet4!$A$2:$A$8409,Sheet3!$B$1,Sheet4!$B$2:$B$8409,Sheet3!$A$3)","v":0},{"$f":"+SUMIFS(Sheet4!$DM$2:$DM$8409,Sheet4!$C$2:$C$8409,Sheet3!$B10,Sheet4!$D$2:$D$8409,Sheet3!BN$3,Sheet4!$E$2:$E$8409,Sheet3!BN$4,Sheet4!$A$2:$A$8409,Sheet3!$B$1,Sheet4!$B$2:$B$8409,Sheet3!$A$3)","v":0},{"$f":"+SUMIFS(Sheet4!$DM$2:$DM$8409,Sheet4!$C$2:$C$8409,Sheet3!$B10,Sheet4!$D$2:$D$8409,Sheet3!BO$3,Sheet4!$E$2:$E$8409,Sheet3!BO$4,Sheet4!$A$2:$A$8409,Sheet3!$B$1,Sheet4!$B$2:$B$8409,Sheet3!$A$3)","v":0},{"$f":"+SUMIFS(Sheet4!$DM$2:$DM$8409,Sheet4!$C$2:$C$8409,Sheet3!$B10,Sheet4!$D$2:$D$8409,Sheet3!BP$3,Sheet4!$E$2:$E$8409,Sheet3!BP$4,Sheet4!$A$2:$A$8409,Sheet3!$B$1,Sheet4!$B$2:$B$8409,Sheet3!$A$3)","v":0},{"$f":"+SUMIFS(Sheet4!$DM$2:$DM$8409,Sheet4!$C$2:$C$8409,Sheet3!$B10,Sheet4!$D$2:$D$8409,Sheet3!BQ$3,Sheet4!$E$2:$E$8409,Sheet3!BQ$4,Sheet4!$A$2:$A$8409,Sheet3!$B$1,Sheet4!$B$2:$B$8409,Sheet3!$A$3)","v":0},{"$f":"+SUMIFS(Sheet4!$DM$2:$DM$8409,Sheet4!$C$2:$C$8409,Sheet3!$B10,Sheet4!$D$2:$D$8409,Sheet3!BR$3,Sheet4!$E$2:$E$8409,Sheet3!BR$4,Sheet4!$A$2:$A$8409,Sheet3!$B$1,Sheet4!$B$2:$B$8409,Sheet3!$A$3)","v":0},{"$f":"+SUMIFS(Sheet4!$DM$2:$DM$8409,Sheet4!$C$2:$C$8409,Sheet3!$B10,Sheet4!$D$2:$D$8409,Sheet3!BS$3,Sheet4!$E$2:$E$8409,Sheet3!BS$4,Sheet4!$A$2:$A$8409,Sheet3!$B$1,Sheet4!$B$2:$B$8409,Sheet3!$A$3)","v":0},{"$f":"+SUMIFS(Sheet4!$DM$2:$DM$8409,Sheet4!$C$2:$C$8409,Sheet3!$B10,Sheet4!$D$2:$D$8409,Sheet3!BT$3,Sheet4!$E$2:$E$8409,Sheet3!BT$4,Sheet4!$A$2:$A$8409,Sheet3!$B$1,Sheet4!$B$2:$B$8409,Sheet3!$A$3)","v":0},{"$f":"+SUMIFS(Sheet4!$DM$2:$DM$8409,Sheet4!$C$2:$C$8409,Sheet3!$B10,Sheet4!$D$2:$D$8409,Sheet3!BU$3,Sheet4!$E$2:$E$8409,Sheet3!BU$4,Sheet4!$A$2:$A$8409,Sheet3!$B$1,Sheet4!$B$2:$B$8409,Sheet3!$A$3)","v":0},{"$f":"+SUMIFS(Sheet4!$DM$2:$DM$8409,Sheet4!$C$2:$C$8409,Sheet3!$B10,Sheet4!$D$2:$D$8409,Sheet3!BV$3,Sheet4!$E$2:$E$8409,Sheet3!BV$4,Sheet4!$A$2:$A$8409,Sheet3!$B$1,Sheet4!$B$2:$B$8409,Sheet3!$A$3)","v":0},{"$f":"+SUMIFS(Sheet4!$DM$2:$DM$8409,Sheet4!$C$2:$C$8409,Sheet3!$B10,Sheet4!$D$2:$D$8409,Sheet3!BW$3,Sheet4!$E$2:$E$8409,Sheet3!BW$4,Sheet4!$A$2:$A$8409,Sheet3!$B$1,Sheet4!$B$2:$B$8409,Sheet3!$A$3)","v":0},{"$f":"+SUMIFS(Sheet4!$DM$2:$DM$8409,Sheet4!$C$2:$C$8409,Sheet3!$B10,Sheet4!$D$2:$D$8409,Sheet3!BX$3,Sheet4!$E$2:$E$8409,Sheet3!BX$4,Sheet4!$A$2:$A$8409,Sheet3!$B$1,Sheet4!$B$2:$B$8409,Sheet3!$A$3)","v":0},{"$f":"+SUMIFS(Sheet4!$DM$2:$DM$8409,Sheet4!$C$2:$C$8409,Sheet3!$B10,Sheet4!$D$2:$D$8409,Sheet3!BY$3,Sheet4!$E$2:$E$8409,Sheet3!BY$4,Sheet4!$A$2:$A$8409,Sheet3!$B$1,Sheet4!$B$2:$B$8409,Sheet3!$A$3)","v":0},{"$f":"+SUMIFS(Sheet4!$DM$2:$DM$8409,Sheet4!$C$2:$C$8409,Sheet3!$B10,Sheet4!$D$2:$D$8409,Sheet3!BZ$3,Sheet4!$E$2:$E$8409,Sheet3!BZ$4,Sheet4!$A$2:$A$8409,Sheet3!$B$1,Sheet4!$B$2:$B$8409,Sheet3!$A$3)","v":0},{"$f":"+SUMIFS(Sheet4!$DM$2:$DM$8409,Sheet4!$C$2:$C$8409,Sheet3!$B10,Sheet4!$D$2:$D$8409,Sheet3!CA$3,Sheet4!$E$2:$E$8409,Sheet3!CA$4,Sheet4!$A$2:$A$8409,Sheet3!$B$1,Sheet4!$B$2:$B$8409,Sheet3!$A$3)","v":0},{"$f":"+SUMIFS(Sheet4!$DM$2:$DM$8409,Sheet4!$C$2:$C$8409,Sheet3!$B10,Sheet4!$D$2:$D$8409,Sheet3!CB$3,Sheet4!$E$2:$E$8409,Sheet3!CB$4,Sheet4!$A$2:$A$8409,Sheet3!$B$1,Sheet4!$B$2:$B$8409,Sheet3!$A$3)","v":0},{"$f":"+SUMIFS(Sheet4!$DM$2:$DM$8409,Sheet4!$C$2:$C$8409,Sheet3!$B10,Sheet4!$D$2:$D$8409,Sheet3!CC$3,Sheet4!$E$2:$E$8409,Sheet3!CC$4,Sheet4!$A$2:$A$8409,Sheet3!$B$1,Sheet4!$B$2:$B$8409,Sheet3!$A$3)","v":0},{"$f":"+SUMIFS(Sheet4!$DM$2:$DM$8409,Sheet4!$C$2:$C$8409,Sheet3!$B10,Sheet4!$D$2:$D$8409,Sheet3!CD$3,Sheet4!$E$2:$E$8409,Sheet3!CD$4,Sheet4!$A$2:$A$8409,Sheet3!$B$1,Sheet4!$B$2:$B$8409,Sheet3!$A$3)","v":0},{"$f":"+SUMIFS(Sheet4!$DM$2:$DM$8409,Sheet4!$C$2:$C$8409,Sheet3!$B10,Sheet4!$D$2:$D$8409,Sheet3!CE$3,Sheet4!$E$2:$E$8409,Sheet3!CE$4,Sheet4!$A$2:$A$8409,Sheet3!$B$1,Sheet4!$B$2:$B$8409,Sheet3!$A$3)","v":0},{"$f":"+SUMIFS(Sheet4!$DM$2:$DM$8409,Sheet4!$C$2:$C$8409,Sheet3!$B10,Sheet4!$D$2:$D$8409,Sheet3!CF$3,Sheet4!$E$2:$E$8409,Sheet3!CF$4,Sheet4!$A$2:$A$8409,Sheet3!$B$1,Sheet4!$B$2:$B$8409,Sheet3!$A$3)","v":0},{"$f":"+SUMIFS(Sheet4!$DM$2:$DM$8409,Sheet4!$C$2:$C$8409,Sheet3!$B10,Sheet4!$D$2:$D$8409,Sheet3!CG$3,Sheet4!$E$2:$E$8409,Sheet3!CG$4,Sheet4!$A$2:$A$8409,Sheet3!$B$1,Sheet4!$B$2:$B$8409,Sheet3!$A$3)","v":0},{"$f":"+SUMIFS(Sheet4!$DM$2:$DM$8409,Sheet4!$C$2:$C$8409,Sheet3!$B10,Sheet4!$D$2:$D$8409,Sheet3!CH$3,Sheet4!$E$2:$E$8409,Sheet3!CH$4,Sheet4!$A$2:$A$8409,Sheet3!$B$1,Sheet4!$B$2:$B$8409,Sheet3!$A$3)","v":0},{"$f":"+SUMIFS(Sheet4!$DM$2:$DM$8409,Sheet4!$C$2:$C$8409,Sheet3!$B10,Sheet4!$D$2:$D$8409,Sheet3!CI$3,Sheet4!$E$2:$E$8409,Sheet3!CI$4,Sheet4!$A$2:$A$8409,Sheet3!$B$1,Sheet4!$B$2:$B$8409,Sheet3!$A$3)","v":0},{"$f":"+SUMIFS(Sheet4!$DM$2:$DM$8409,Sheet4!$C$2:$C$8409,Sheet3!$B10,Sheet4!$D$2:$D$8409,Sheet3!CJ$3,Sheet4!$E$2:$E$8409,Sheet3!CJ$4,Sheet4!$A$2:$A$8409,Sheet3!$B$1,Sheet4!$B$2:$B$8409,Sheet3!$A$3)","v":0},{"$f":"+SUMIFS(Sheet4!$DM$2:$DM$8409,Sheet4!$C$2:$C$8409,Sheet3!$B10,Sheet4!$D$2:$D$8409,Sheet3!CK$3,Sheet4!$E$2:$E$8409,Sheet3!CK$4,Sheet4!$A$2:$A$8409,Sheet3!$B$1,Sheet4!$B$2:$B$8409,Sheet3!$A$3)","v":0},{"$f":"+SUMIFS(Sheet4!$DM$2:$DM$8409,Sheet4!$C$2:$C$8409,Sheet3!$B10,Sheet4!$D$2:$D$8409,Sheet3!CL$3,Sheet4!$E$2:$E$8409,Sheet3!CL$4,Sheet4!$A$2:$A$8409,Sheet3!$B$1,Sheet4!$B$2:$B$8409,Sheet3!$A$3)","v":0},{"$f":"+SUMIFS(Sheet4!$DM$2:$DM$8409,Sheet4!$C$2:$C$8409,Sheet3!$B10,Sheet4!$D$2:$D$8409,Sheet3!CM$3,Sheet4!$E$2:$E$8409,Sheet3!CM$4,Sheet4!$A$2:$A$8409,Sheet3!$B$1,Sheet4!$B$2:$B$8409,Sheet3!$A$3)","v":0},{"$f":"+SUMIFS(Sheet4!$DM$2:$DM$8409,Sheet4!$C$2:$C$8409,Sheet3!$B10,Sheet4!$D$2:$D$8409,Sheet3!CN$3,Sheet4!$E$2:$E$8409,Sheet3!CN$4,Sheet4!$A$2:$A$8409,Sheet3!$B$1,Sheet4!$B$2:$B$8409,Sheet3!$A$3)","v":0},{"$f":"+SUMIFS(Sheet4!$DM$2:$DM$8409,Sheet4!$C$2:$C$8409,Sheet3!$B10,Sheet4!$D$2:$D$8409,Sheet3!CO$3,Sheet4!$E$2:$E$8409,Sheet3!CO$4,Sheet4!$A$2:$A$8409,Sheet3!$B$1,Sheet4!$B$2:$B$8409,Sheet3!$A$3)","v":0},{"$f":"+SUMIFS(Sheet4!$DM$2:$DM$8409,Sheet4!$C$2:$C$8409,Sheet3!$B10,Sheet4!$D$2:$D$8409,Sheet3!CP$3,Sheet4!$E$2:$E$8409,Sheet3!CP$4,Sheet4!$A$2:$A$8409,Sheet3!$B$1,Sheet4!$B$2:$B$8409,Sheet3!$A$3)","v":0},{"$f":"+SUMIFS(Sheet4!$DM$2:$DM$8409,Sheet4!$C$2:$C$8409,Sheet3!$B10,Sheet4!$D$2:$D$8409,Sheet3!CQ$3,Sheet4!$E$2:$E$8409,Sheet3!CQ$4,Sheet4!$A$2:$A$8409,Sheet3!$B$1,Sheet4!$B$2:$B$8409,Sheet3!$A$3)","v":0},{"$f":"+SUMIFS(Sheet4!$DM$2:$DM$8409,Sheet4!$C$2:$C$8409,Sheet3!$B10,Sheet4!$D$2:$D$8409,Sheet3!CR$3,Sheet4!$E$2:$E$8409,Sheet3!CR$4,Sheet4!$A$2:$A$8409,Sheet3!$B$1,Sheet4!$B$2:$B$8409,Sheet3!$A$3)","v":0},{"$f":"+SUMIFS(Sheet4!$DM$2:$DM$8409,Sheet4!$C$2:$C$8409,Sheet3!$B10,Sheet4!$D$2:$D$8409,Sheet3!CS$3,Sheet4!$E$2:$E$8409,Sheet3!CS$4,Sheet4!$A$2:$A$8409,Sheet3!$B$1,Sheet4!$B$2:$B$8409,Sheet3!$A$3)","v":0},{"$f":"+SUMIFS(Sheet4!$DM$2:$DM$8409,Sheet4!$C$2:$C$8409,Sheet3!$B10,Sheet4!$D$2:$D$8409,Sheet3!CT$3,Sheet4!$E$2:$E$8409,Sheet3!CT$4,Sheet4!$A$2:$A$8409,Sheet3!$B$1,Sheet4!$B$2:$B$8409,Sheet3!$A$3)","v":0},{"$f":"+IF(SUMIFS(Sheet4!$DN$2:$DN$8409,Sheet4!$C$2:$C$8409,Sheet3!$B10,Sheet4!$D$2:$D$8409,Sheet3!CU$3,Sheet4!$A$2:$A$8409,Sheet3!$B$1,Sheet4!$B$2:$B$8409,Sheet3!$A$3)<3,0,SUMIFS(Sheet4!$DN$2:$DN$8409,Sheet4!$C$2:$C$8409,Sheet3!$B10,Sheet4!$D$2:$D$8409,Sheet3!CU$3,Sheet4!$A$2:$A$8409,Sheet3!$B$1,Sheet4!$B$2:$B$8409,Sheet3!$A$3))","v":0},{"$f":"+IF(SUMIFS(Sheet4!$DN$2:$DN$8409,Sheet4!$C$2:$C$8409,Sheet3!$B10,Sheet4!$D$2:$D$8409,Sheet3!CV$3,Sheet4!$A$2:$A$8409,Sheet3!$B$1,Sheet4!$B$2:$B$8409,Sheet3!$A$3)<3,0,SUMIFS(Sheet4!$DN$2:$DN$8409,Sheet4!$C$2:$C$8409,Sheet3!$B10,Sheet4!$D$2:$D$8409,Sheet3!CV$3,Sheet4!$A$2:$A$8409,Sheet3!$B$1,Sheet4!$B$2:$B$8409,Sheet3!$A$3))","v":0},{"$f":"+IF(SUMIFS(Sheet4!$DN$2:$DN$8409,Sheet4!$C$2:$C$8409,Sheet3!$B10,Sheet4!$D$2:$D$8409,Sheet3!CW$3,Sheet4!$A$2:$A$8409,Sheet3!$B$1,Sheet4!$B$2:$B$8409,Sheet3!$A$3)<3,0,SUMIFS(Sheet4!$DN$2:$DN$8409,Sheet4!$C$2:$C$8409,Sheet3!$B10,Sheet4!$D$2:$D$8409,Sheet3!CW$3,Sheet4!$A$2:$A$8409,Sheet3!$B$1,Sheet4!$B$2:$B$8409,Sheet3!$A$3))","v":0},{"$f":"+IF(SUMIFS(Sheet4!$DN$2:$DN$8409,Sheet4!$C$2:$C$8409,Sheet3!$B10,Sheet4!$D$2:$D$8409,Sheet3!CX$3,Sheet4!$A$2:$A$8409,Sheet3!$B$1,Sheet4!$B$2:$B$8409,Sheet3!$A$3)<3,0,SUMIFS(Sheet4!$DN$2:$DN$8409,Sheet4!$C$2:$C$8409,Sheet3!$B10,Sheet4!$D$2:$D$8409,Sheet3!CX$3,Sheet4!$A$2:$A$8409,Sheet3!$B$1,Sheet4!$B$2:$B$8409,Sheet3!$A$3))","v":0},{"$f":"+IF(SUMIFS(Sheet4!$DN$2:$DN$8409,Sheet4!$C$2:$C$8409,Sheet3!$B10,Sheet4!$D$2:$D$8409,Sheet3!CY$3,Sheet4!$A$2:$A$8409,Sheet3!$B$1,Sheet4!$B$2:$B$8409,Sheet3!$A$3)<3,0,SUMIFS(Sheet4!$DN$2:$DN$8409,Sheet4!$C$2:$C$8409,Sheet3!$B10,Sheet4!$D$2:$D$8409,Sheet3!CY$3,Sheet4!$A$2:$A$8409,Sheet3!$B$1,Sheet4!$B$2:$B$8409,Sheet3!$A$3))","v":0},{"$f":"+IF(SUMIFS(Sheet4!$DN$2:$DN$8409,Sheet4!$C$2:$C$8409,Sheet3!$B10,Sheet4!$D$2:$D$8409,Sheet3!CZ$3,Sheet4!$A$2:$A$8409,Sheet3!$B$1,Sheet4!$B$2:$B$8409,Sheet3!$A$3)<3,0,SUMIFS(Sheet4!$DN$2:$DN$8409,Sheet4!$C$2:$C$8409,Sheet3!$B10,Sheet4!$D$2:$D$8409,Sheet3!CZ$3,Sheet4!$A$2:$A$8409,Sheet3!$B$1,Sheet4!$B$2:$B$8409,Sheet3!$A$3))","v":0},{"$f":"+IF(SUMIFS(Sheet4!$DN$2:$DN$8409,Sheet4!$C$2:$C$8409,Sheet3!$B10,Sheet4!$D$2:$D$8409,Sheet3!DA$3,Sheet4!$A$2:$A$8409,Sheet3!$B$1,Sheet4!$B$2:$B$8409,Sheet3!$A$3)<3,0,SUMIFS(Sheet4!$DN$2:$DN$8409,Sheet4!$C$2:$C$8409,Sheet3!$B10,Sheet4!$D$2:$D$8409,Sheet3!DA$3,Sheet4!$A$2:$A$8409,Sheet3!$B$1,Sheet4!$B$2:$B$8409,Sheet3!$A$3))","v":0},{"$f":"+IF(SUMIFS(Sheet4!$DN$2:$DN$8409,Sheet4!$C$2:$C$8409,Sheet3!$B10,Sheet4!$D$2:$D$8409,Sheet3!DB$3,Sheet4!$A$2:$A$8409,Sheet3!$B$1,Sheet4!$B$2:$B$8409,Sheet3!$A$3)<3,0,SUMIFS(Sheet4!$DN$2:$DN$8409,Sheet4!$C$2:$C$8409,Sheet3!$B10,Sheet4!$D$2:$D$8409,Sheet3!DB$3,Sheet4!$A$2:$A$8409,Sheet3!$B$1,Sheet4!$B$2:$B$8409,Sheet3!$A$3))","v":0},{"$f":"+IF(SUMIFS(Sheet4!$DN$2:$DN$8409,Sheet4!$C$2:$C$8409,Sheet3!$B10,Sheet4!$D$2:$D$8409,Sheet3!DC$3,Sheet4!$A$2:$A$8409,Sheet3!$B$1,Sheet4!$B$2:$B$8409,Sheet3!$A$3)<3,0,SUMIFS(Sheet4!$DN$2:$DN$8409,Sheet4!$C$2:$C$8409,Sheet3!$B10,Sheet4!$D$2:$D$8409,Sheet3!DC$3,Sheet4!$A$2:$A$8409,Sheet3!$B$1,Sheet4!$B$2:$B$8409,Sheet3!$A$3))","v":0},{"$f":"+IF(SUMIFS(Sheet4!$DN$2:$DN$8409,Sheet4!$C$2:$C$8409,Sheet3!$B10,Sheet4!$D$2:$D$8409,Sheet3!DD$3,Sheet4!$A$2:$A$8409,Sheet3!$B$1,Sheet4!$B$2:$B$8409,Sheet3!$A$3)<3,0,SUMIFS(Sheet4!$DN$2:$DN$8409,Sheet4!$C$2:$C$8409,Sheet3!$B10,Sheet4!$D$2:$D$8409,Sheet3!DD$3,Sheet4!$A$2:$A$8409,Sheet3!$B$1,Sheet4!$B$2:$B$8409,Sheet3!$A$3))","v":0},{"$f":"+IF(SUMIFS(Sheet4!$DN$2:$DN$8409,Sheet4!$C$2:$C$8409,Sheet3!$B10,Sheet4!$D$2:$D$8409,Sheet3!DE$3,Sheet4!$A$2:$A$8409,Sheet3!$B$1,Sheet4!$B$2:$B$8409,Sheet3!$A$3)<3,0,SUMIFS(Sheet4!$DN$2:$DN$8409,Sheet4!$C$2:$C$8409,Sheet3!$B10,Sheet4!$D$2:$D$8409,Sheet3!DE$3,Sheet4!$A$2:$A$8409,Sheet3!$B$1,Sheet4!$B$2:$B$8409,Sheet3!$A$3))","v":0},{"$f":"+IF(SUMIFS(Sheet4!$DN$2:$DN$8409,Sheet4!$C$2:$C$8409,Sheet3!$B10,Sheet4!$D$2:$D$8409,Sheet3!DF$3,Sheet4!$A$2:$A$8409,Sheet3!$B$1,Sheet4!$B$2:$B$8409,Sheet3!$A$3)<3,0,SUMIFS(Sheet4!$DN$2:$DN$8409,Sheet4!$C$2:$C$8409,Sheet3!$B10,Sheet4!$D$2:$D$8409,Sheet3!DF$3,Sheet4!$A$2:$A$8409,Sheet3!$B$1,Sheet4!$B$2:$B$8409,Sheet3!$A$3))","v":0},{"$f":"+IF(SUMIFS(Sheet4!$DN$2:$DN$8409,Sheet4!$C$2:$C$8409,Sheet3!$B10,Sheet4!$D$2:$D$8409,Sheet3!DG$3,Sheet4!$A$2:$A$8409,Sheet3!$B$1,Sheet4!$B$2:$B$8409,Sheet3!$A$3)<3,0,SUMIFS(Sheet4!$DN$2:$DN$8409,Sheet4!$C$2:$C$8409,Sheet3!$B10,Sheet4!$D$2:$D$8409,Sheet3!DG$3,Sheet4!$A$2:$A$8409,Sheet3!$B$1,Sheet4!$B$2:$B$8409,Sheet3!$A$3))","v":0},{"$f":"+IF(SUMIFS(Sheet4!$DN$2:$DN$8409,Sheet4!$C$2:$C$8409,Sheet3!$B10,Sheet4!$D$2:$D$8409,Sheet3!DH$3,Sheet4!$A$2:$A$8409,Sheet3!$B$1,Sheet4!$B$2:$B$8409,Sheet3!$A$3)<3,0,SUMIFS(Sheet4!$DN$2:$DN$8409,Sheet4!$C$2:$C$8409,Sheet3!$B10,Sheet4!$D$2:$D$8409,Sheet3!DH$3,Sheet4!$A$2:$A$8409,Sheet3!$B$1,Sheet4!$B$2:$B$8409,Sheet3!$A$3))","v":0},{"$f":"+IF(SUMIFS(Sheet4!$DN$2:$DN$8409,Sheet4!$C$2:$C$8409,Sheet3!$B10,Sheet4!$D$2:$D$8409,Sheet3!DI$3,Sheet4!$A$2:$A$8409,Sheet3!$B$1,Sheet4!$B$2:$B$8409,Sheet3!$A$3)<3,0,SUMIFS(Sheet4!$DN$2:$DN$8409,Sheet4!$C$2:$C$8409,Sheet3!$B10,Sheet4!$D$2:$D$8409,Sheet3!DI$3,Sheet4!$A$2:$A$8409,Sheet3!$B$1,Sheet4!$B$2:$B$8409,Sheet3!$A$3))","v":0},{"$f":"+IF(SUMIFS(Sheet4!$DN$2:$DN$8409,Sheet4!$C$2:$C$8409,Sheet3!$B10,Sheet4!$D$2:$D$8409,Sheet3!DJ$3,Sheet4!$A$2:$A$8409,Sheet3!$B$1,Sheet4!$B$2:$B$8409,Sheet3!$A$3)<3,0,SUMIFS(Sheet4!$DN$2:$DN$8409,Sheet4!$C$2:$C$8409,Sheet3!$B10,Sheet4!$D$2:$D$8409,Sheet3!DJ$3,Sheet4!$A$2:$A$8409,Sheet3!$B$1,Sheet4!$B$2:$B$8409,Sheet3!$A$3))","v":0},{"$f":"+IF(SUMIFS(Sheet4!$DN$2:$DN$8409,Sheet4!$C$2:$C$8409,Sheet3!$B10,Sheet4!$D$2:$D$8409,Sheet3!DK$3,Sheet4!$A$2:$A$8409,Sheet3!$B$1,Sheet4!$B$2:$B$8409,Sheet3!$A$3)<3,0,SUMIFS(Sheet4!$DN$2:$DN$8409,Sheet4!$C$2:$C$8409,Sheet3!$B10,Sheet4!$D$2:$D$8409,Sheet3!DK$3,Sheet4!$A$2:$A$8409,Sheet3!$B$1,Sheet4!$B$2:$B$8409,Sheet3!$A$3))","v":0},{"$f":"+IF(SUMIFS(Sheet4!$DN$2:$DN$8409,Sheet4!$C$2:$C$8409,Sheet3!$B10,Sheet4!$D$2:$D$8409,Sheet3!DL$3,Sheet4!$A$2:$A$8409,Sheet3!$B$1,Sheet4!$B$2:$B$8409,Sheet3!$A$3)<3,0,SUMIFS(Sheet4!$DN$2:$DN$8409,Sheet4!$C$2:$C$8409,Sheet3!$B10,Sheet4!$D$2:$D$8409,Sheet3!DL$3,Sheet4!$A$2:$A$8409,Sheet3!$B$1,Sheet4!$B$2:$B$8409,Sheet3!$A$3))","v":0},{"$f":"+IF(SUMIFS(Sheet4!$DN$2:$DN$8409,Sheet4!$C$2:$C$8409,Sheet3!$B10,Sheet4!$D$2:$D$8409,Sheet3!DM$3,Sheet4!$A$2:$A$8409,Sheet3!$B$1,Sheet4!$B$2:$B$8409,Sheet3!$A$3)<3,0,SUMIFS(Sheet4!$DN$2:$DN$8409,Sheet4!$C$2:$C$8409,Sheet3!$B10,Sheet4!$D$2:$D$8409,Sheet3!DM$3,Sheet4!$A$2:$A$8409,Sheet3!$B$1,Sheet4!$B$2:$B$8409,Sheet3!$A$3))","v":0},{"$f":"+IF(SUMIFS(Sheet4!$DN$2:$DN$8409,Sheet4!$C$2:$C$8409,Sheet3!$B10,Sheet4!$E$2:$E$8409,Sheet3!DN$4,Sheet4!$A$2:$A$8409,Sheet3!$B$1,Sheet4!$B$2:$B$8409,Sheet3!$A$3)<3,0,SUMIFS(Sheet4!$DN$2:$DN$8409,Sheet4!$C$2:$C$8409,Sheet3!$B10,Sheet4!$E$2:$E$8409,Sheet3!DN$4,Sheet4!$A$2:$A$8409,Sheet3!$B$1,Sheet4!$B$2:$B$8409,Sheet3!$A$3))","v":0},{"$f":"+IF(SUMIFS(Sheet4!$DN$2:$DN$8409,Sheet4!$C$2:$C$8409,Sheet3!$B10,Sheet4!$E$2:$E$8409,Sheet3!DO$4,Sheet4!$A$2:$A$8409,Sheet3!$B$1,Sheet4!$B$2:$B$8409,Sheet3!$A$3)<3,0,SUMIFS(Sheet4!$DN$2:$DN$8409,Sheet4!$C$2:$C$8409,Sheet3!$B10,Sheet4!$E$2:$E$8409,Sheet3!DO$4,Sheet4!$A$2:$A$8409,Sheet3!$B$1,Sheet4!$B$2:$B$8409,Sheet3!$A$3))","v":0},{"$f":"+IF(SUMIFS(Sheet4!$DN$2:$DN$8409,Sheet4!$C$2:$C$8409,Sheet3!$B10,Sheet4!$E$2:$E$8409,Sheet3!DP$4,Sheet4!$A$2:$A$8409,Sheet3!$B$1,Sheet4!$B$2:$B$8409,Sheet3!$A$3)<3,0,SUMIFS(Sheet4!$DN$2:$DN$8409,Sheet4!$C$2:$C$8409,Sheet3!$B10,Sheet4!$E$2:$E$8409,Sheet3!DP$4,Sheet4!$A$2:$A$8409,Sheet3!$B$1,Sheet4!$B$2:$B$8409,Sheet3!$A$3))","v":0},{"$f":"+IF(SUMIFS(Sheet4!$DN$2:$DN$8409,Sheet4!$C$2:$C$8409,Sheet3!$B10,Sheet4!$E$2:$E$8409,Sheet3!DQ$4,Sheet4!$A$2:$A$8409,Sheet3!$B$1,Sheet4!$B$2:$B$8409,Sheet3!$A$3)<3,0,SUMIFS(Sheet4!$DN$2:$DN$8409,Sheet4!$C$2:$C$8409,Sheet3!$B10,Sheet4!$E$2:$E$8409,Sheet3!DQ$4,Sheet4!$A$2:$A$8409,Sheet3!$B$1,Sheet4!$B$2:$B$8409,Sheet3!$A$3))","v":0},{"$f":"+IF(SUMIFS(Sheet4!$DN$2:$DN$8409,Sheet4!$C$2:$C$8409,Sheet3!$B10,Sheet4!$E$2:$E$8409,Sheet3!DR$4,Sheet4!$A$2:$A$8409,Sheet3!$B$1,Sheet4!$B$2:$B$8409,Sheet3!$A$3)<3,0,SUMIFS(Sheet4!$DN$2:$DN$8409,Sheet4!$C$2:$C$8409,Sheet3!$B10,Sheet4!$E$2:$E$8409,Sheet3!DR$4,Sheet4!$A$2:$A$8409,Sheet3!$B$1,Sheet4!$B$2:$B$8409,Sheet3!$A$3))","v":0}]
[1,"11A","Área Metropolitana do Porto",{"$f":"+SUMIFS(Sheet4!$DM$2:$DM$8409,Sheet4!$C$2:$C$8409,Sheet3!$B11,Sheet4!$D$2:$D$8409,Sheet3!D$3,Sheet4!$E$2:$E$8409,Sheet3!D$4,Sheet4!$A$2:$A$8409,Sheet3!$B$1,Sheet4!$B$2:$B$8409,Sheet3!$A$3)","v":0},{"$f":"+SUMIFS(Sheet4!$DM$2:$DM$8409,Sheet4!$C$2:$C$8409,Sheet3!$B11,Sheet4!$D$2:$D$8409,Sheet3!E$3,Sheet4!$E$2:$E$8409,Sheet3!E$4,Sheet4!$A$2:$A$8409,Sheet3!$B$1,Sheet4!$B$2:$B$8409,Sheet3!$A$3)","v":0},{"$f":"+SUMIFS(Sheet4!$DM$2:$DM$8409,Sheet4!$C$2:$C$8409,Sheet3!$B11,Sheet4!$D$2:$D$8409,Sheet3!F$3,Sheet4!$E$2:$E$8409,Sheet3!F$4,Sheet4!$A$2:$A$8409,Sheet3!$B$1,Sheet4!$B$2:$B$8409,Sheet3!$A$3)","v":0},{"$f":"+SUMIFS(Sheet4!$DM$2:$DM$8409,Sheet4!$C$2:$C$8409,Sheet3!$B11,Sheet4!$D$2:$D$8409,Sheet3!G$3,Sheet4!$E$2:$E$8409,Sheet3!G$4,Sheet4!$A$2:$A$8409,Sheet3!$B$1,Sheet4!$B$2:$B$8409,Sheet3!$A$3)","v":0},{"$f":"+SUMIFS(Sheet4!$DM$2:$DM$8409,Sheet4!$C$2:$C$8409,Sheet3!$B11,Sheet4!$D$2:$D$8409,Sheet3!H$3,Sheet4!$E$2:$E$8409,Sheet3!H$4,Sheet4!$A$2:$A$8409,Sheet3!$B$1,Sheet4!$B$2:$B$8409,Sheet3!$A$3)","v":0},{"$f":"+SUMIFS(Sheet4!$DM$2:$DM$8409,Sheet4!$C$2:$C$8409,Sheet3!$B11,Sheet4!$D$2:$D$8409,Sheet3!I$3,Sheet4!$E$2:$E$8409,Sheet3!I$4,Sheet4!$A$2:$A$8409,Sheet3!$B$1,Sheet4!$B$2:$B$8409,Sheet3!$A$3)","v":0},{"$f":"+SUMIFS(Sheet4!$DM$2:$DM$8409,Sheet4!$C$2:$C$8409,Sheet3!$B11,Sheet4!$D$2:$D$8409,Sheet3!J$3,Sheet4!$E$2:$E$8409,Sheet3!J$4,Sheet4!$A$2:$A$8409,Sheet3!$B$1,Sheet4!$B$2:$B$8409,Sheet3!$A$3)","v":0},{"$f":"+SUMIFS(Sheet4!$DM$2:$DM$8409,Sheet4!$C$2:$C$8409,Sheet3!$B11,Sheet4!$D$2:$D$8409,Sheet3!K$3,Sheet4!$E$2:$E$8409,Sheet3!K$4,Sheet4!$A$2:$A$8409,Sheet3!$B$1,Sheet4!$B$2:$B$8409,Sheet3!$A$3)","v":0},{"$f":"+SUMIFS(Sheet4!$DM$2:$DM$8409,Sheet4!$C$2:$C$8409,Sheet3!$B11,Sheet4!$D$2:$D$8409,Sheet3!L$3,Sheet4!$E$2:$E$8409,Sheet3!L$4,Sheet4!$A$2:$A$8409,Sheet3!$B$1,Sheet4!$B$2:$B$8409,Sheet3!$A$3)","v":0},{"$f":"+SUMIFS(Sheet4!$DM$2:$DM$8409,Sheet4!$C$2:$C$8409,Sheet3!$B11,Sheet4!$D$2:$D$8409,Sheet3!M$3,Sheet4!$E$2:$E$8409,Sheet3!M$4,Sheet4!$A$2:$A$8409,Sheet3!$B$1,Sheet4!$B$2:$B$8409,Sheet3!$A$3)","v":0},{"$f":"+SUMIFS(Sheet4!$DM$2:$DM$8409,Sheet4!$C$2:$C$8409,Sheet3!$B11,Sheet4!$D$2:$D$8409,Sheet3!N$3,Sheet4!$E$2:$E$8409,Sheet3!N$4,Sheet4!$A$2:$A$8409,Sheet3!$B$1,Sheet4!$B$2:$B$8409,Sheet3!$A$3)","v":0},{"$f":"+SUMIFS(Sheet4!$DM$2:$DM$8409,Sheet4!$C$2:$C$8409,Sheet3!$B11,Sheet4!$D$2:$D$8409,Sheet3!O$3,Sheet4!$E$2:$E$8409,Sheet3!O$4,Sheet4!$A$2:$A$8409,Sheet3!$B$1,Sheet4!$B$2:$B$8409,Sheet3!$A$3)","v":0},{"$f":"+SUMIFS(Sheet4!$DM$2:$DM$8409,Sheet4!$C$2:$C$8409,Sheet3!$B11,Sheet4!$D$2:$D$8409,Sheet3!P$3,Sheet4!$E$2:$E$8409,Sheet3!P$4,Sheet4!$A$2:$A$8409,Sheet3!$B$1,Sheet4!$B$2:$B$8409,Sheet3!$A$3)","v":0},{"$f":"+SUMIFS(Sheet4!$DM$2:$DM$8409,Sheet4!$C$2:$C$8409,Sheet3!$B11,Sheet4!$D$2:$D$8409,Sheet3!Q$3,Sheet4!$E$2:$E$8409,Sheet3!Q$4,Sheet4!$A$2:$A$8409,Sheet3!$B$1,Sheet4!$B$2:$B$8409,Sheet3!$A$3)","v":0},{"$f":"+SUMIFS(Sheet4!$DM$2:$DM$8409,Sheet4!$C$2:$C$8409,Sheet3!$B11,Sheet4!$D$2:$D$8409,Sheet3!R$3,Sheet4!$E$2:$E$8409,Sheet3!R$4,Sheet4!$A$2:$A$8409,Sheet3!$B$1,Sheet4!$B$2:$B$8409,Sheet3!$A$3)","v":0},{"$f":"+SUMIFS(Sheet4!$DM$2:$DM$8409,Sheet4!$C$2:$C$8409,Sheet3!$B11,Sheet4!$D$2:$D$8409,Sheet3!S$3,Sheet4!$E$2:$E$8409,Sheet3!S$4,Sheet4!$A$2:$A$8409,Sheet3!$B$1,Sheet4!$B$2:$B$8409,Sheet3!$A$3)","v":0},{"$f":"+SUMIFS(Sheet4!$DM$2:$DM$8409,Sheet4!$C$2:$C$8409,Sheet3!$B11,Sheet4!$D$2:$D$8409,Sheet3!T$3,Sheet4!$E$2:$E$8409,Sheet3!T$4,Sheet4!$A$2:$A$8409,Sheet3!$B$1,Sheet4!$B$2:$B$8409,Sheet3!$A$3)","v":0},{"$f":"+SUMIFS(Sheet4!$DM$2:$DM$8409,Sheet4!$C$2:$C$8409,Sheet3!$B11,Sheet4!$D$2:$D$8409,Sheet3!U$3,Sheet4!$E$2:$E$8409,Sheet3!U$4,Sheet4!$A$2:$A$8409,Sheet3!$B$1,Sheet4!$B$2:$B$8409,Sheet3!$A$3)","v":0},{"$f":"+SUMIFS(Sheet4!$DM$2:$DM$8409,Sheet4!$C$2:$C$8409,Sheet3!$B11,Sheet4!$D$2:$D$8409,Sheet3!V$3,Sheet4!$E$2:$E$8409,Sheet3!V$4,Sheet4!$A$2:$A$8409,Sheet3!$B$1,Sheet4!$B$2:$B$8409,Sheet3!$A$3)","v":0},{"$f":"+SUMIFS(Sheet4!$DM$2:$DM$8409,Sheet4!$C$2:$C$8409,Sheet3!$B11,Sheet4!$D$2:$D$8409,Sheet3!W$3,Sheet4!$E$2:$E$8409,Sheet3!W$4,Sheet4!$A$2:$A$8409,Sheet3!$B$1,Sheet4!$B$2:$B$8409,Sheet3!$A$3)","v":0},{"$f":"+SUMIFS(Sheet4!$DM$2:$DM$8409,Sheet4!$C$2:$C$8409,Sheet3!$B11,Sheet4!$D$2:$D$8409,Sheet3!X$3,Sheet4!$E$2:$E$8409,Sheet3!X$4,Sheet4!$A$2:$A$8409,Sheet3!$B$1,Sheet4!$B$2:$B$8409,Sheet3!$A$3)","v":0},{"$f":"+SUMIFS(Sheet4!$DM$2:$DM$8409,Sheet4!$C$2:$C$8409,Sheet3!$B11,Sheet4!$D$2:$D$8409,Sheet3!Y$3,Sheet4!$E$2:$E$8409,Sheet3!Y$4,Sheet4!$A$2:$A$8409,Sheet3!$B$1,Sheet4!$B$2:$B$8409,Sheet3!$A$3)","v":0},{"$f":"+SUMIFS(Sheet4!$DM$2:$DM$8409,Sheet4!$C$2:$C$8409,Sheet3!$B11,Sheet4!$D$2:$D$8409,Sheet3!Z$3,Sheet4!$E$2:$E$8409,Sheet3!Z$4,Sheet4!$A$2:$A$8409,Sheet3!$B$1,Sheet4!$B$2:$B$8409,Sheet3!$A$3)","v":0},{"$f":"+SUMIFS(Sheet4!$DM$2:$DM$8409,Sheet4!$C$2:$C$8409,Sheet3!$B11,Sheet4!$D$2:$D$8409,Sheet3!AA$3,Sheet4!$E$2:$E$8409,Sheet3!AA$4,Sheet4!$A$2:$A$8409,Sheet3!$B$1,Sheet4!$B$2:$B$8409,Sheet3!$A$3)","v":0},{"$f":"+SUMIFS(Sheet4!$DM$2:$DM$8409,Sheet4!$C$2:$C$8409,Sheet3!$B11,Sheet4!$D$2:$D$8409,Sheet3!AB$3,Sheet4!$E$2:$E$8409,Sheet3!AB$4,Sheet4!$A$2:$A$8409,Sheet3!$B$1,Sheet4!$B$2:$B$8409,Sheet3!$A$3)","v":0},{"$f":"+SUMIFS(Sheet4!$DM$2:$DM$8409,Sheet4!$C$2:$C$8409,Sheet3!$B11,Sheet4!$D$2:$D$8409,Sheet3!AC$3,Sheet4!$E$2:$E$8409,Sheet3!AC$4,Sheet4!$A$2:$A$8409,Sheet3!$B$1,Sheet4!$B$2:$B$8409,Sheet3!$A$3)","v":0},{"$f":"+SUMIFS(Sheet4!$DM$2:$DM$8409,Sheet4!$C$2:$C$8409,Sheet3!$B11,Sheet4!$D$2:$D$8409,Sheet3!AD$3,Sheet4!$E$2:$E$8409,Sheet3!AD$4,Sheet4!$A$2:$A$8409,Sheet3!$B$1,Sheet4!$B$2:$B$8409,Sheet3!$A$3)","v":0},{"$f":"+SUMIFS(Sheet4!$DM$2:$DM$8409,Sheet4!$C$2:$C$8409,Sheet3!$B11,Sheet4!$D$2:$D$8409,Sheet3!AE$3,Sheet4!$E$2:$E$8409,Sheet3!AE$4,Sheet4!$A$2:$A$8409,Sheet3!$B$1,Sheet4!$B$2:$B$8409,Sheet3!$A$3)","v":0},{"$f":"+SUMIFS(Sheet4!$DM$2:$DM$8409,Sheet4!$C$2:$C$8409,Sheet3!$B11,Sheet4!$D$2:$D$8409,Sheet3!AF$3,Sheet4!$E$2:$E$8409,Sheet3!AF$4,Sheet4!$A$2:$A$8409,Sheet3!$B$1,Sheet4!$B$2:$B$8409,Sheet3!$A$3)","v":0},{"$f":"+SUMIFS(Sheet4!$DM$2:$DM$8409,Sheet4!$C$2:$C$8409,Sheet3!$B11,Sheet4!$D$2:$D$8409,Sheet3!AG$3,Sheet4!$E$2:$E$8409,Sheet3!AG$4,Sheet4!$A$2:$A$8409,Sheet3!$B$1,Sheet4!$B$2:$B$8409,Sheet3!$A$3)","v":0},{"$f":"+SUMIFS(Sheet4!$DM$2:$DM$8409,Sheet4!$C$2:$C$8409,Sheet3!$B11,Sheet4!$D$2:$D$8409,Sheet3!AH$3,Sheet4!$E$2:$E$8409,Sheet3!AH$4,Sheet4!$A$2:$A$8409,Sheet3!$B$1,Sheet4!$B$2:$B$8409,Sheet3!$A$3)","v":0},{"$f":"+SUMIFS(Sheet4!$DM$2:$DM$8409,Sheet4!$C$2:$C$8409,Sheet3!$B11,Sheet4!$D$2:$D$8409,Sheet3!AI$3,Sheet4!$E$2:$E$8409,Sheet3!AI$4,Sheet4!$A$2:$A$8409,Sheet3!$B$1,Sheet4!$B$2:$B$8409,Sheet3!$A$3)","v":0},{"$f":"+SUMIFS(Sheet4!$DM$2:$DM$8409,Sheet4!$C$2:$C$8409,Sheet3!$B11,Sheet4!$D$2:$D$8409,Sheet3!AJ$3,Sheet4!$E$2:$E$8409,Sheet3!AJ$4,Sheet4!$A$2:$A$8409,Sheet3!$B$1,Sheet4!$B$2:$B$8409,Sheet3!$A$3)","v":0},{"$f":"+SUMIFS(Sheet4!$DM$2:$DM$8409,Sheet4!$C$2:$C$8409,Sheet3!$B11,Sheet4!$D$2:$D$8409,Sheet3!AK$3,Sheet4!$E$2:$E$8409,Sheet3!AK$4,Sheet4!$A$2:$A$8409,Sheet3!$B$1,Sheet4!$B$2:$B$8409,Sheet3!$A$3)","v":0},{"$f":"+SUMIFS(Sheet4!$DM$2:$DM$8409,Sheet4!$C$2:$C$8409,Sheet3!$B11,Sheet4!$D$2:$D$8409,Sheet3!AL$3,Sheet4!$E$2:$E$8409,Sheet3!AL$4,Sheet4!$A$2:$A$8409,Sheet3!$B$1,Sheet4!$B$2:$B$8409,Sheet3!$A$3)","v":0},{"$f":"+SUMIFS(Sheet4!$DM$2:$DM$8409,Sheet4!$C$2:$C$8409,Sheet3!$B11,Sheet4!$D$2:$D$8409,Sheet3!AM$3,Sheet4!$E$2:$E$8409,Sheet3!AM$4,Sheet4!$A$2:$A$8409,Sheet3!$B$1,Sheet4!$B$2:$B$8409,Sheet3!$A$3)","v":0},{"$f":"+SUMIFS(Sheet4!$DM$2:$DM$8409,Sheet4!$C$2:$C$8409,Sheet3!$B11,Sheet4!$D$2:$D$8409,Sheet3!AN$3,Sheet4!$E$2:$E$8409,Sheet3!AN$4,Sheet4!$A$2:$A$8409,Sheet3!$B$1,Sheet4!$B$2:$B$8409,Sheet3!$A$3)","v":0},{"$f":"+SUMIFS(Sheet4!$DM$2:$DM$8409,Sheet4!$C$2:$C$8409,Sheet3!$B11,Sheet4!$D$2:$D$8409,Sheet3!AO$3,Sheet4!$E$2:$E$8409,Sheet3!AO$4,Sheet4!$A$2:$A$8409,Sheet3!$B$1,Sheet4!$B$2:$B$8409,Sheet3!$A$3)","v":0},{"$f":"+SUMIFS(Sheet4!$DM$2:$DM$8409,Sheet4!$C$2:$C$8409,Sheet3!$B11,Sheet4!$D$2:$D$8409,Sheet3!AP$3,Sheet4!$E$2:$E$8409,Sheet3!AP$4,Sheet4!$A$2:$A$8409,Sheet3!$B$1,Sheet4!$B$2:$B$8409,Sheet3!$A$3)","v":0},{"$f":"+SUMIFS(Sheet4!$DM$2:$DM$8409,Sheet4!$C$2:$C$8409,Sheet3!$B11,Sheet4!$D$2:$D$8409,Sheet3!AQ$3,Sheet4!$E$2:$E$8409,Sheet3!AQ$4,Sheet4!$A$2:$A$8409,Sheet3!$B$1,Sheet4!$B$2:$B$8409,Sheet3!$A$3)","v":0},{"$f":"+SUMIFS(Sheet4!$DM$2:$DM$8409,Sheet4!$C$2:$C$8409,Sheet3!$B11,Sheet4!$D$2:$D$8409,Sheet3!AR$3,Sheet4!$E$2:$E$8409,Sheet3!AR$4,Sheet4!$A$2:$A$8409,Sheet3!$B$1,Sheet4!$B$2:$B$8409,Sheet3!$A$3)","v":0},{"$f":"+SUMIFS(Sheet4!$DM$2:$DM$8409,Sheet4!$C$2:$C$8409,Sheet3!$B11,Sheet4!$D$2:$D$8409,Sheet3!AS$3,Sheet4!$E$2:$E$8409,Sheet3!AS$4,Sheet4!$A$2:$A$8409,Sheet3!$B$1,Sheet4!$B$2:$B$8409,Sheet3!$A$3)","v":0},{"$f":"+SUMIFS(Sheet4!$DM$2:$DM$8409,Sheet4!$C$2:$C$8409,Sheet3!$B11,Sheet4!$D$2:$D$8409,Sheet3!AT$3,Sheet4!$E$2:$E$8409,Sheet3!AT$4,Sheet4!$A$2:$A$8409,Sheet3!$B$1,Sheet4!$B$2:$B$8409,Sheet3!$A$3)","v":0},{"$f":"+SUMIFS(Sheet4!$DM$2:$DM$8409,Sheet4!$C$2:$C$8409,Sheet3!$B11,Sheet4!$D$2:$D$8409,Sheet3!AU$3,Sheet4!$E$2:$E$8409,Sheet3!AU$4,Sheet4!$A$2:$A$8409,Sheet3!$B$1,Sheet4!$B$2:$B$8409,Sheet3!$A$3)","v":0},{"$f":"+SUMIFS(Sheet4!$DM$2:$DM$8409,Sheet4!$C$2:$C$8409,Sheet3!$B11,Sheet4!$D$2:$D$8409,Sheet3!AV$3,Sheet4!$E$2:$E$8409,Sheet3!AV$4,Sheet4!$A$2:$A$8409,Sheet3!$B$1,Sheet4!$B$2:$B$8409,Sheet3!$A$3)","v":0},{"$f":"+SUMIFS(Sheet4!$DM$2:$DM$8409,Sheet4!$C$2:$C$8409,Sheet3!$B11,Sheet4!$D$2:$D$8409,Sheet3!AW$3,Sheet4!$E$2:$E$8409,Sheet3!AW$4,Sheet4!$A$2:$A$8409,Sheet3!$B$1,Sheet4!$B$2:$B$8409,Sheet3!$A$3)","v":0},{"$f":"+SUMIFS(Sheet4!$DM$2:$DM$8409,Sheet4!$C$2:$C$8409,Sheet3!$B11,Sheet4!$D$2:$D$8409,Sheet3!AX$3,Sheet4!$E$2:$E$8409,Sheet3!AX$4,Sheet4!$A$2:$A$8409,Sheet3!$B$1,Sheet4!$B$2:$B$8409,Sheet3!$A$3)","v":0},{"$f":"+SUMIFS(Sheet4!$DM$2:$DM$8409,Sheet4!$C$2:$C$8409,Sheet3!$B11,Sheet4!$D$2:$D$8409,Sheet3!AY$3,Sheet4!$E$2:$E$8409,Sheet3!AY$4,Sheet4!$A$2:$A$8409,Sheet3!$B$1,Sheet4!$B$2:$B$8409,Sheet3!$A$3)","v":0},{"$f":"+SUMIFS(Sheet4!$DM$2:$DM$8409,Sheet4!$C$2:$C$8409,Sheet3!$B11,Sheet4!$D$2:$D$8409,Sheet3!AZ$3,Sheet4!$E$2:$E$8409,Sheet3!AZ$4,Sheet4!$A$2:$A$8409,Sheet3!$B$1,Sheet4!$B$2:$B$8409,Sheet3!$A$3)","v":0},{"$f":"+SUMIFS(Sheet4!$DM$2:$DM$8409,Sheet4!$C$2:$C$8409,Sheet3!$B11,Sheet4!$D$2:$D$8409,Sheet3!BA$3,Sheet4!$E$2:$E$8409,Sheet3!BA$4,Sheet4!$A$2:$A$8409,Sheet3!$B$1,Sheet4!$B$2:$B$8409,Sheet3!$A$3)","v":0},{"$f":"+SUMIFS(Sheet4!$DM$2:$DM$8409,Sheet4!$C$2:$C$8409,Sheet3!$B11,Sheet4!$D$2:$D$8409,Sheet3!BB$3,Sheet4!$E$2:$E$8409,Sheet3!BB$4,Sheet4!$A$2:$A$8409,Sheet3!$B$1,Sheet4!$B$2:$B$8409,Sheet3!$A$3)","v":0},{"$f":"+SUMIFS(Sheet4!$DM$2:$DM$8409,Sheet4!$C$2:$C$8409,Sheet3!$B11,Sheet4!$D$2:$D$8409,Sheet3!BC$3,Sheet4!$E$2:$E$8409,Sheet3!BC$4,Sheet4!$A$2:$A$8409,Sheet3!$B$1,Sheet4!$B$2:$B$8409,Sheet3!$A$3)","v":0},{"$f":"+SUMIFS(Sheet4!$DM$2:$DM$8409,Sheet4!$C$2:$C$8409,Sheet3!$B11,Sheet4!$D$2:$D$8409,Sheet3!BD$3,Sheet4!$E$2:$E$8409,Sheet3!BD$4,Sheet4!$A$2:$A$8409,Sheet3!$B$1,Sheet4!$B$2:$B$8409,Sheet3!$A$3)","v":0},{"$f":"+SUMIFS(Sheet4!$DM$2:$DM$8409,Sheet4!$C$2:$C$8409,Sheet3!$B11,Sheet4!$D$2:$D$8409,Sheet3!BE$3,Sheet4!$E$2:$E$8409,Sheet3!BE$4,Sheet4!$A$2:$A$8409,Sheet3!$B$1,Sheet4!$B$2:$B$8409,Sheet3!$A$3)","v":0},{"$f":"+SUMIFS(Sheet4!$DM$2:$DM$8409,Sheet4!$C$2:$C$8409,Sheet3!$B11,Sheet4!$D$2:$D$8409,Sheet3!BF$3,Sheet4!$E$2:$E$8409,Sheet3!BF$4,Sheet4!$A$2:$A$8409,Sheet3!$B$1,Sheet4!$B$2:$B$8409,Sheet3!$A$3)","v":0},{"$f":"+SUMIFS(Sheet4!$DM$2:$DM$8409,Sheet4!$C$2:$C$8409,Sheet3!$B11,Sheet4!$D$2:$D$8409,Sheet3!BG$3,Sheet4!$E$2:$E$8409,Sheet3!BG$4,Sheet4!$A$2:$A$8409,Sheet3!$B$1,Sheet4!$B$2:$B$8409,Sheet3!$A$3)","v":0},{"$f":"+SUMIFS(Sheet4!$DM$2:$DM$8409,Sheet4!$C$2:$C$8409,Sheet3!$B11,Sheet4!$D$2:$D$8409,Sheet3!BH$3,Sheet4!$E$2:$E$8409,Sheet3!BH$4,Sheet4!$A$2:$A$8409,Sheet3!$B$1,Sheet4!$B$2:$B$8409,Sheet3!$A$3)","v":0},{"$f":"+SUMIFS(Sheet4!$DM$2:$DM$8409,Sheet4!$C$2:$C$8409,Sheet3!$B11,Sheet4!$D$2:$D$8409,Sheet3!BI$3,Sheet4!$E$2:$E$8409,Sheet3!BI$4,Sheet4!$A$2:$A$8409,Sheet3!$B$1,Sheet4!$B$2:$B$8409,Sheet3!$A$3)","v":0},{"$f":"+SUMIFS(Sheet4!$DM$2:$DM$8409,Sheet4!$C$2:$C$8409,Sheet3!$B11,Sheet4!$D$2:$D$8409,Sheet3!BJ$3,Sheet4!$E$2:$E$8409,Sheet3!BJ$4,Sheet4!$A$2:$A$8409,Sheet3!$B$1,Sheet4!$B$2:$B$8409,Sheet3!$A$3)","v":0},{"$f":"+SUMIFS(Sheet4!$DM$2:$DM$8409,Sheet4!$C$2:$C$8409,Sheet3!$B11,Sheet4!$D$2:$D$8409,Sheet3!BK$3,Sheet4!$E$2:$E$8409,Sheet3!BK$4,Sheet4!$A$2:$A$8409,Sheet3!$B$1,Sheet4!$B$2:$B$8409,Sheet3!$A$3)","v":0},{"$f":"+SUMIFS(Sheet4!$DM$2:$DM$8409,Sheet4!$C$2:$C$8409,Sheet3!$B11,Sheet4!$D$2:$D$8409,Sheet3!BL$3,Sheet4!$E$2:$E$8409,Sheet3!BL$4,Sheet4!$A$2:$A$8409,Sheet3!$B$1,Sheet4!$B$2:$B$8409,Sheet3!$A$3)","v":0},{"$f":"+SUMIFS(Sheet4!$DM$2:$DM$8409,Sheet4!$C$2:$C$8409,Sheet3!$B11,Sheet4!$D$2:$D$8409,Sheet3!BM$3,Sheet4!$E$2:$E$8409,Sheet3!BM$4,Sheet4!$A$2:$A$8409,Sheet3!$B$1,Sheet4!$B$2:$B$8409,Sheet3!$A$3)","v":0},{"$f":"+SUMIFS(Sheet4!$DM$2:$DM$8409,Sheet4!$C$2:$C$8409,Sheet3!$B11,Sheet4!$D$2:$D$8409,Sheet3!BN$3,Sheet4!$E$2:$E$8409,Sheet3!BN$4,Sheet4!$A$2:$A$8409,Sheet3!$B$1,Sheet4!$B$2:$B$8409,Sheet3!$A$3)","v":0},{"$f":"+SUMIFS(Sheet4!$DM$2:$DM$8409,Sheet4!$C$2:$C$8409,Sheet3!$B11,Sheet4!$D$2:$D$8409,Sheet3!BO$3,Sheet4!$E$2:$E$8409,Sheet3!BO$4,Sheet4!$A$2:$A$8409,Sheet3!$B$1,Sheet4!$B$2:$B$8409,Sheet3!$A$3)","v":0},{"$f":"+SUMIFS(Sheet4!$DM$2:$DM$8409,Sheet4!$C$2:$C$8409,Sheet3!$B11,Sheet4!$D$2:$D$8409,Sheet3!BP$3,Sheet4!$E$2:$E$8409,Sheet3!BP$4,Sheet4!$A$2:$A$8409,Sheet3!$B$1,Sheet4!$B$2:$B$8409,Sheet3!$A$3)","v":0},{"$f":"+SUMIFS(Sheet4!$DM$2:$DM$8409,Sheet4!$C$2:$C$8409,Sheet3!$B11,Sheet4!$D$2:$D$8409,Sheet3!BQ$3,Sheet4!$E$2:$E$8409,Sheet3!BQ$4,Sheet4!$A$2:$A$8409,Sheet3!$B$1,Sheet4!$B$2:$B$8409,Sheet3!$A$3)","v":0},{"$f":"+SUMIFS(Sheet4!$DM$2:$DM$8409,Sheet4!$C$2:$C$8409,Sheet3!$B11,Sheet4!$D$2:$D$8409,Sheet3!BR$3,Sheet4!$E$2:$E$8409,Sheet3!BR$4,Sheet4!$A$2:$A$8409,Sheet3!$B$1,Sheet4!$B$2:$B$8409,Sheet3!$A$3)","v":0},{"$f":"+SUMIFS(Sheet4!$DM$2:$DM$8409,Sheet4!$C$2:$C$8409,Sheet3!$B11,Sheet4!$D$2:$D$8409,Sheet3!BS$3,Sheet4!$E$2:$E$8409,Sheet3!BS$4,Sheet4!$A$2:$A$8409,Sheet3!$B$1,Sheet4!$B$2:$B$8409,Sheet3!$A$3)","v":0},{"$f":"+SUMIFS(Sheet4!$DM$2:$DM$8409,Sheet4!$C$2:$C$8409,Sheet3!$B11,Sheet4!$D$2:$D$8409,Sheet3!BT$3,Sheet4!$E$2:$E$8409,Sheet3!BT$4,Sheet4!$A$2:$A$8409,Sheet3!$B$1,Sheet4!$B$2:$B$8409,Sheet3!$A$3)","v":0},{"$f":"+SUMIFS(Sheet4!$DM$2:$DM$8409,Sheet4!$C$2:$C$8409,Sheet3!$B11,Sheet4!$D$2:$D$8409,Sheet3!BU$3,Sheet4!$E$2:$E$8409,Sheet3!BU$4,Sheet4!$A$2:$A$8409,Sheet3!$B$1,Sheet4!$B$2:$B$8409,Sheet3!$A$3)","v":0},{"$f":"+SUMIFS(Sheet4!$DM$2:$DM$8409,Sheet4!$C$2:$C$8409,Sheet3!$B11,Sheet4!$D$2:$D$8409,Sheet3!BV$3,Sheet4!$E$2:$E$8409,Sheet3!BV$4,Sheet4!$A$2:$A$8409,Sheet3!$B$1,Sheet4!$B$2:$B$8409,Sheet3!$A$3)","v":0},{"$f":"+SUMIFS(Sheet4!$DM$2:$DM$8409,Sheet4!$C$2:$C$8409,Sheet3!$B11,Sheet4!$D$2:$D$8409,Sheet3!BW$3,Sheet4!$E$2:$E$8409,Sheet3!BW$4,Sheet4!$A$2:$A$8409,Sheet3!$B$1,Sheet4!$B$2:$B$8409,Sheet3!$A$3)","v":0},{"$f":"+SUMIFS(Sheet4!$DM$2:$DM$8409,Sheet4!$C$2:$C$8409,Sheet3!$B11,Sheet4!$D$2:$D$8409,Sheet3!BX$3,Sheet4!$E$2:$E$8409,Sheet3!BX$4,Sheet4!$A$2:$A$8409,Sheet3!$B$1,Sheet4!$B$2:$B$8409,Sheet3!$A$3)","v":0},{"$f":"+SUMIFS(Sheet4!$DM$2:$DM$8409,Sheet4!$C$2:$C$8409,Sheet3!$B11,Sheet4!$D$2:$D$8409,Sheet3!BY$3,Sheet4!$E$2:$E$8409,Sheet3!BY$4,Sheet4!$A$2:$A$8409,Sheet3!$B$1,Sheet4!$B$2:$B$8409,Sheet3!$A$3)","v":0},{"$f":"+SUMIFS(Sheet4!$DM$2:$DM$8409,Sheet4!$C$2:$C$8409,Sheet3!$B11,Sheet4!$D$2:$D$8409,Sheet3!BZ$3,Sheet4!$E$2:$E$8409,Sheet3!BZ$4,Sheet4!$A$2:$A$8409,Sheet3!$B$1,Sheet4!$B$2:$B$8409,Sheet3!$A$3)","v":0},{"$f":"+SUMIFS(Sheet4!$DM$2:$DM$8409,Sheet4!$C$2:$C$8409,Sheet3!$B11,Sheet4!$D$2:$D$8409,Sheet3!CA$3,Sheet4!$E$2:$E$8409,Sheet3!CA$4,Sheet4!$A$2:$A$8409,Sheet3!$B$1,Sheet4!$B$2:$B$8409,Sheet3!$A$3)","v":0},{"$f":"+SUMIFS(Sheet4!$DM$2:$DM$8409,Sheet4!$C$2:$C$8409,Sheet3!$B11,Sheet4!$D$2:$D$8409,Sheet3!CB$3,Sheet4!$E$2:$E$8409,Sheet3!CB$4,Sheet4!$A$2:$A$8409,Sheet3!$B$1,Sheet4!$B$2:$B$8409,Sheet3!$A$3)","v":0},{"$f":"+SUMIFS(Sheet4!$DM$2:$DM$8409,Sheet4!$C$2:$C$8409,Sheet3!$B11,Sheet4!$D$2:$D$8409,Sheet3!CC$3,Sheet4!$E$2:$E$8409,Sheet3!CC$4,Sheet4!$A$2:$A$8409,Sheet3!$B$1,Sheet4!$B$2:$B$8409,Sheet3!$A$3)","v":0},{"$f":"+SUMIFS(Sheet4!$DM$2:$DM$8409,Sheet4!$C$2:$C$8409,Sheet3!$B11,Sheet4!$D$2:$D$8409,Sheet3!CD$3,Sheet4!$E$2:$E$8409,Sheet3!CD$4,Sheet4!$A$2:$A$8409,Sheet3!$B$1,Sheet4!$B$2:$B$8409,Sheet3!$A$3)","v":0},{"$f":"+SUMIFS(Sheet4!$DM$2:$DM$8409,Sheet4!$C$2:$C$8409,Sheet3!$B11,Sheet4!$D$2:$D$8409,Sheet3!CE$3,Sheet4!$E$2:$E$8409,Sheet3!CE$4,Sheet4!$A$2:$A$8409,Sheet3!$B$1,Sheet4!$B$2:$B$8409,Sheet3!$A$3)","v":0},{"$f":"+SUMIFS(Sheet4!$DM$2:$DM$8409,Sheet4!$C$2:$C$8409,Sheet3!$B11,Sheet4!$D$2:$D$8409,Sheet3!CF$3,Sheet4!$E$2:$E$8409,Sheet3!CF$4,Sheet4!$A$2:$A$8409,Sheet3!$B$1,Sheet4!$B$2:$B$8409,Sheet3!$A$3)","v":0},{"$f":"+SUMIFS(Sheet4!$DM$2:$DM$8409,Sheet4!$C$2:$C$8409,Sheet3!$B11,Sheet4!$D$2:$D$8409,Sheet3!CG$3,Sheet4!$E$2:$E$8409,Sheet3!CG$4,Sheet4!$A$2:$A$8409,Sheet3!$B$1,Sheet4!$B$2:$B$8409,Sheet3!$A$3)","v":0},{"$f":"+SUMIFS(Sheet4!$DM$2:$DM$8409,Sheet4!$C$2:$C$8409,Sheet3!$B11,Sheet4!$D$2:$D$8409,Sheet3!CH$3,Sheet4!$E$2:$E$8409,Sheet3!CH$4,Sheet4!$A$2:$A$8409,Sheet3!$B$1,Sheet4!$B$2:$B$8409,Sheet3!$A$3)","v":0},{"$f":"+SUMIFS(Sheet4!$DM$2:$DM$8409,Sheet4!$C$2:$C$8409,Sheet3!$B11,Sheet4!$D$2:$D$8409,Sheet3!CI$3,Sheet4!$E$2:$E$8409,Sheet3!CI$4,Sheet4!$A$2:$A$8409,Sheet3!$B$1,Sheet4!$B$2:$B$8409,Sheet3!$A$3)","v":0},{"$f":"+SUMIFS(Sheet4!$DM$2:$DM$8409,Sheet4!$C$2:$C$8409,Sheet3!$B11,Sheet4!$D$2:$D$8409,Sheet3!CJ$3,Sheet4!$E$2:$E$8409,Sheet3!CJ$4,Sheet4!$A$2:$A$8409,Sheet3!$B$1,Sheet4!$B$2:$B$8409,Sheet3!$A$3)","v":0},{"$f":"+SUMIFS(Sheet4!$DM$2:$DM$8409,Sheet4!$C$2:$C$8409,Sheet3!$B11,Sheet4!$D$2:$D$8409,Sheet3!CK$3,Sheet4!$E$2:$E$8409,Sheet3!CK$4,Sheet4!$A$2:$A$8409,Sheet3!$B$1,Sheet4!$B$2:$B$8409,Sheet3!$A$3)","v":0},{"$f":"+SUMIFS(Sheet4!$DM$2:$DM$8409,Sheet4!$C$2:$C$8409,Sheet3!$B11,Sheet4!$D$2:$D$8409,Sheet3!CL$3,Sheet4!$E$2:$E$8409,Sheet3!CL$4,Sheet4!$A$2:$A$8409,Sheet3!$B$1,Sheet4!$B$2:$B$8409,Sheet3!$A$3)","v":0},{"$f":"+SUMIFS(Sheet4!$DM$2:$DM$8409,Sheet4!$C$2:$C$8409,Sheet3!$B11,Sheet4!$D$2:$D$8409,Sheet3!CM$3,Sheet4!$E$2:$E$8409,Sheet3!CM$4,Sheet4!$A$2:$A$8409,Sheet3!$B$1,Sheet4!$B$2:$B$8409,Sheet3!$A$3)","v":0},{"$f":"+SUMIFS(Sheet4!$DM$2:$DM$8409,Sheet4!$C$2:$C$8409,Sheet3!$B11,Sheet4!$D$2:$D$8409,Sheet3!CN$3,Sheet4!$E$2:$E$8409,Sheet3!CN$4,Sheet4!$A$2:$A$8409,Sheet3!$B$1,Sheet4!$B$2:$B$8409,Sheet3!$A$3)","v":0},{"$f":"+SUMIFS(Sheet4!$DM$2:$DM$8409,Sheet4!$C$2:$C$8409,Sheet3!$B11,Sheet4!$D$2:$D$8409,Sheet3!CO$3,Sheet4!$E$2:$E$8409,Sheet3!CO$4,Sheet4!$A$2:$A$8409,Sheet3!$B$1,Sheet4!$B$2:$B$8409,Sheet3!$A$3)","v":0},{"$f":"+SUMIFS(Sheet4!$DM$2:$DM$8409,Sheet4!$C$2:$C$8409,Sheet3!$B11,Sheet4!$D$2:$D$8409,Sheet3!CP$3,Sheet4!$E$2:$E$8409,Sheet3!CP$4,Sheet4!$A$2:$A$8409,Sheet3!$B$1,Sheet4!$B$2:$B$8409,Sheet3!$A$3)","v":0},{"$f":"+SUMIFS(Sheet4!$DM$2:$DM$8409,Sheet4!$C$2:$C$8409,Sheet3!$B11,Sheet4!$D$2:$D$8409,Sheet3!CQ$3,Sheet4!$E$2:$E$8409,Sheet3!CQ$4,Sheet4!$A$2:$A$8409,Sheet3!$B$1,Sheet4!$B$2:$B$8409,Sheet3!$A$3)","v":0},{"$f":"+SUMIFS(Sheet4!$DM$2:$DM$8409,Sheet4!$C$2:$C$8409,Sheet3!$B11,Sheet4!$D$2:$D$8409,Sheet3!CR$3,Sheet4!$E$2:$E$8409,Sheet3!CR$4,Sheet4!$A$2:$A$8409,Sheet3!$B$1,Sheet4!$B$2:$B$8409,Sheet3!$A$3)","v":0},{"$f":"+SUMIFS(Sheet4!$DM$2:$DM$8409,Sheet4!$C$2:$C$8409,Sheet3!$B11,Sheet4!$D$2:$D$8409,Sheet3!CS$3,Sheet4!$E$2:$E$8409,Sheet3!CS$4,Sheet4!$A$2:$A$8409,Sheet3!$B$1,Sheet4!$B$2:$B$8409,Sheet3!$A$3)","v":0},{"$f":"+SUMIFS(Sheet4!$DM$2:$DM$8409,Sheet4!$C$2:$C$8409,Sheet3!$B11,Sheet4!$D$2:$D$8409,Sheet3!CT$3,Sheet4!$E$2:$E$8409,Sheet3!CT$4,Sheet4!$A$2:$A$8409,Sheet3!$B$1,Sheet4!$B$2:$B$8409,Sheet3!$A$3)","v":0},{"$f":"+IF(SUMIFS(Sheet4!$DN$2:$DN$8409,Sheet4!$C$2:$C$8409,Sheet3!$B11,Sheet4!$D$2:$D$8409,Sheet3!CU$3,Sheet4!$A$2:$A$8409,Sheet3!$B$1,Sheet4!$B$2:$B$8409,Sheet3!$A$3)<3,0,SUMIFS(Sheet4!$DN$2:$DN$8409,Sheet4!$C$2:$C$8409,Sheet3!$B11,Sheet4!$D$2:$D$8409,Sheet3!CU$3,Sheet4!$A$2:$A$8409,Sheet3!$B$1,Sheet4!$B$2:$B$8409,Sheet3!$A$3))","v":0},{"$f":"+IF(SUMIFS(Sheet4!$DN$2:$DN$8409,Sheet4!$C$2:$C$8409,Sheet3!$B11,Sheet4!$D$2:$D$8409,Sheet3!CV$3,Sheet4!$A$2:$A$8409,Sheet3!$B$1,Sheet4!$B$2:$B$8409,Sheet3!$A$3)<3,0,SUMIFS(Sheet4!$DN$2:$DN$8409,Sheet4!$C$2:$C$8409,Sheet3!$B11,Sheet4!$D$2:$D$8409,Sheet3!CV$3,Sheet4!$A$2:$A$8409,Sheet3!$B$1,Sheet4!$B$2:$B$8409,Sheet3!$A$3))","v":0},{"$f":"+IF(SUMIFS(Sheet4!$DN$2:$DN$8409,Sheet4!$C$2:$C$8409,Sheet3!$B11,Sheet4!$D$2:$D$8409,Sheet3!CW$3,Sheet4!$A$2:$A$8409,Sheet3!$B$1,Sheet4!$B$2:$B$8409,Sheet3!$A$3)<3,0,SUMIFS(Sheet4!$DN$2:$DN$8409,Sheet4!$C$2:$C$8409,Sheet3!$B11,Sheet4!$D$2:$D$8409,Sheet3!CW$3,Sheet4!$A$2:$A$8409,Sheet3!$B$1,Sheet4!$B$2:$B$8409,Sheet3!$A$3))","v":0},{"$f":"+IF(SUMIFS(Sheet4!$DN$2:$DN$8409,Sheet4!$C$2:$C$8409,Sheet3!$B11,Sheet4!$D$2:$D$8409,Sheet3!CX$3,Sheet4!$A$2:$A$8409,Sheet3!$B$1,Sheet4!$B$2:$B$8409,Sheet3!$A$3)<3,0,SUMIFS(Sheet4!$DN$2:$DN$8409,Sheet4!$C$2:$C$8409,Sheet3!$B11,Sheet4!$D$2:$D$8409,Sheet3!CX$3,Sheet4!$A$2:$A$8409,Sheet3!$B$1,Sheet4!$B$2:$B$8409,Sheet3!$A$3))","v":0},{"$f":"+IF(SUMIFS(Sheet4!$DN$2:$DN$8409,Sheet4!$C$2:$C$8409,Sheet3!$B11,Sheet4!$D$2:$D$8409,Sheet3!CY$3,Sheet4!$A$2:$A$8409,Sheet3!$B$1,Sheet4!$B$2:$B$8409,Sheet3!$A$3)<3,0,SUMIFS(Sheet4!$DN$2:$DN$8409,Sheet4!$C$2:$C$8409,Sheet3!$B11,Sheet4!$D$2:$D$8409,Sheet3!CY$3,Sheet4!$A$2:$A$8409,Sheet3!$B$1,Sheet4!$B$2:$B$8409,Sheet3!$A$3))","v":0},{"$f":"+IF(SUMIFS(Sheet4!$DN$2:$DN$8409,Sheet4!$C$2:$C$8409,Sheet3!$B11,Sheet4!$D$2:$D$8409,Sheet3!CZ$3,Sheet4!$A$2:$A$8409,Sheet3!$B$1,Sheet4!$B$2:$B$8409,Sheet3!$A$3)<3,0,SUMIFS(Sheet4!$DN$2:$DN$8409,Sheet4!$C$2:$C$8409,Sheet3!$B11,Sheet4!$D$2:$D$8409,Sheet3!CZ$3,Sheet4!$A$2:$A$8409,Sheet3!$B$1,Sheet4!$B$2:$B$8409,Sheet3!$A$3))","v":0},{"$f":"+IF(SUMIFS(Sheet4!$DN$2:$DN$8409,Sheet4!$C$2:$C$8409,Sheet3!$B11,Sheet4!$D$2:$D$8409,Sheet3!DA$3,Sheet4!$A$2:$A$8409,Sheet3!$B$1,Sheet4!$B$2:$B$8409,Sheet3!$A$3)<3,0,SUMIFS(Sheet4!$DN$2:$DN$8409,Sheet4!$C$2:$C$8409,Sheet3!$B11,Sheet4!$D$2:$D$8409,Sheet3!DA$3,Sheet4!$A$2:$A$8409,Sheet3!$B$1,Sheet4!$B$2:$B$8409,Sheet3!$A$3))","v":0},{"$f":"+IF(SUMIFS(Sheet4!$DN$2:$DN$8409,Sheet4!$C$2:$C$8409,Sheet3!$B11,Sheet4!$D$2:$D$8409,Sheet3!DB$3,Sheet4!$A$2:$A$8409,Sheet3!$B$1,Sheet4!$B$2:$B$8409,Sheet3!$A$3)<3,0,SUMIFS(Sheet4!$DN$2:$DN$8409,Sheet4!$C$2:$C$8409,Sheet3!$B11,Sheet4!$D$2:$D$8409,Sheet3!DB$3,Sheet4!$A$2:$A$8409,Sheet3!$B$1,Sheet4!$B$2:$B$8409,Sheet3!$A$3))","v":0},{"$f":"+IF(SUMIFS(Sheet4!$DN$2:$DN$8409,Sheet4!$C$2:$C$8409,Sheet3!$B11,Sheet4!$D$2:$D$8409,Sheet3!DC$3,Sheet4!$A$2:$A$8409,Sheet3!$B$1,Sheet4!$B$2:$B$8409,Sheet3!$A$3)<3,0,SUMIFS(Sheet4!$DN$2:$DN$8409,Sheet4!$C$2:$C$8409,Sheet3!$B11,Sheet4!$D$2:$D$8409,Sheet3!DC$3,Sheet4!$A$2:$A$8409,Sheet3!$B$1,Sheet4!$B$2:$B$8409,Sheet3!$A$3))","v":0},{"$f":"+IF(SUMIFS(Sheet4!$DN$2:$DN$8409,Sheet4!$C$2:$C$8409,Sheet3!$B11,Sheet4!$D$2:$D$8409,Sheet3!DD$3,Sheet4!$A$2:$A$8409,Sheet3!$B$1,Sheet4!$B$2:$B$8409,Sheet3!$A$3)<3,0,SUMIFS(Sheet4!$DN$2:$DN$8409,Sheet4!$C$2:$C$8409,Sheet3!$B11,Sheet4!$D$2:$D$8409,Sheet3!DD$3,Sheet4!$A$2:$A$8409,Sheet3!$B$1,Sheet4!$B$2:$B$8409,Sheet3!$A$3))","v":0},{"$f":"+IF(SUMIFS(Sheet4!$DN$2:$DN$8409,Sheet4!$C$2:$C$8409,Sheet3!$B11,Sheet4!$D$2:$D$8409,Sheet3!DE$3,Sheet4!$A$2:$A$8409,Sheet3!$B$1,Sheet4!$B$2:$B$8409,Sheet3!$A$3)<3,0,SUMIFS(Sheet4!$DN$2:$DN$8409,Sheet4!$C$2:$C$8409,Sheet3!$B11,Sheet4!$D$2:$D$8409,Sheet3!DE$3,Sheet4!$A$2:$A$8409,Sheet3!$B$1,Sheet4!$B$2:$B$8409,Sheet3!$A$3))","v":0},{"$f":"+IF(SUMIFS(Sheet4!$DN$2:$DN$8409,Sheet4!$C$2:$C$8409,Sheet3!$B11,Sheet4!$D$2:$D$8409,Sheet3!DF$3,Sheet4!$A$2:$A$8409,Sheet3!$B$1,Sheet4!$B$2:$B$8409,Sheet3!$A$3)<3,0,SUMIFS(Sheet4!$DN$2:$DN$8409,Sheet4!$C$2:$C$8409,Sheet3!$B11,Sheet4!$D$2:$D$8409,Sheet3!DF$3,Sheet4!$A$2:$A$8409,Sheet3!$B$1,Sheet4!$B$2:$B$8409,Sheet3!$A$3))","v":0},{"$f":"+IF(SUMIFS(Sheet4!$DN$2:$DN$8409,Sheet4!$C$2:$C$8409,Sheet3!$B11,Sheet4!$D$2:$D$8409,Sheet3!DG$3,Sheet4!$A$2:$A$8409,Sheet3!$B$1,Sheet4!$B$2:$B$8409,Sheet3!$A$3)<3,0,SUMIFS(Sheet4!$DN$2:$DN$8409,Sheet4!$C$2:$C$8409,Sheet3!$B11,Sheet4!$D$2:$D$8409,Sheet3!DG$3,Sheet4!$A$2:$A$8409,Sheet3!$B$1,Sheet4!$B$2:$B$8409,Sheet3!$A$3))","v":0},{"$f":"+IF(SUMIFS(Sheet4!$DN$2:$DN$8409,Sheet4!$C$2:$C$8409,Sheet3!$B11,Sheet4!$D$2:$D$8409,Sheet3!DH$3,Sheet4!$A$2:$A$8409,Sheet3!$B$1,Sheet4!$B$2:$B$8409,Sheet3!$A$3)<3,0,SUMIFS(Sheet4!$DN$2:$DN$8409,Sheet4!$C$2:$C$8409,Sheet3!$B11,Sheet4!$D$2:$D$8409,Sheet3!DH$3,Sheet4!$A$2:$A$8409,Sheet3!$B$1,Sheet4!$B$2:$B$8409,Sheet3!$A$3))","v":0},{"$f":"+IF(SUMIFS(Sheet4!$DN$2:$DN$8409,Sheet4!$C$2:$C$8409,Sheet3!$B11,Sheet4!$D$2:$D$8409,Sheet3!DI$3,Sheet4!$A$2:$A$8409,Sheet3!$B$1,Sheet4!$B$2:$B$8409,Sheet3!$A$3)<3,0,SUMIFS(Sheet4!$DN$2:$DN$8409,Sheet4!$C$2:$C$8409,Sheet3!$B11,Sheet4!$D$2:$D$8409,Sheet3!DI$3,Sheet4!$A$2:$A$8409,Sheet3!$B$1,Sheet4!$B$2:$B$8409,Sheet3!$A$3))","v":0},{"$f":"+IF(SUMIFS(Sheet4!$DN$2:$DN$8409,Sheet4!$C$2:$C$8409,Sheet3!$B11,Sheet4!$D$2:$D$8409,Sheet3!DJ$3,Sheet4!$A$2:$A$8409,Sheet3!$B$1,Sheet4!$B$2:$B$8409,Sheet3!$A$3)<3,0,SUMIFS(Sheet4!$DN$2:$DN$8409,Sheet4!$C$2:$C$8409,Sheet3!$B11,Sheet4!$D$2:$D$8409,Sheet3!DJ$3,Sheet4!$A$2:$A$8409,Sheet3!$B$1,Sheet4!$B$2:$B$8409,Sheet3!$A$3))","v":0},{"$f":"+IF(SUMIFS(Sheet4!$DN$2:$DN$8409,Sheet4!$C$2:$C$8409,Sheet3!$B11,Sheet4!$D$2:$D$8409,Sheet3!DK$3,Sheet4!$A$2:$A$8409,Sheet3!$B$1,Sheet4!$B$2:$B$8409,Sheet3!$A$3)<3,0,SUMIFS(Sheet4!$DN$2:$DN$8409,Sheet4!$C$2:$C$8409,Sheet3!$B11,Sheet4!$D$2:$D$8409,Sheet3!DK$3,Sheet4!$A$2:$A$8409,Sheet3!$B$1,Sheet4!$B$2:$B$8409,Sheet3!$A$3))","v":0},{"$f":"+IF(SUMIFS(Sheet4!$DN$2:$DN$8409,Sheet4!$C$2:$C$8409,Sheet3!$B11,Sheet4!$D$2:$D$8409,Sheet3!DL$3,Sheet4!$A$2:$A$8409,Sheet3!$B$1,Sheet4!$B$2:$B$8409,Sheet3!$A$3)<3,0,SUMIFS(Sheet4!$DN$2:$DN$8409,Sheet4!$C$2:$C$8409,Sheet3!$B11,Sheet4!$D$2:$D$8409,Sheet3!DL$3,Sheet4!$A$2:$A$8409,Sheet3!$B$1,Sheet4!$B$2:$B$8409,Sheet3!$A$3))","v":0},{"$f":"+IF(SUMIFS(Sheet4!$DN$2:$DN$8409,Sheet4!$C$2:$C$8409,Sheet3!$B11,Sheet4!$D$2:$D$8409,Sheet3!DM$3,Sheet4!$A$2:$A$8409,Sheet3!$B$1,Sheet4!$B$2:$B$8409,Sheet3!$A$3)<3,0,SUMIFS(Sheet4!$DN$2:$DN$8409,Sheet4!$C$2:$C$8409,Sheet3!$B11,Sheet4!$D$2:$D$8409,Sheet3!DM$3,Sheet4!$A$2:$A$8409,Sheet3!$B$1,Sheet4!$B$2:$B$8409,Sheet3!$A$3))","v":0},{"$f":"+IF(SUMIFS(Sheet4!$DN$2:$DN$8409,Sheet4!$C$2:$C$8409,Sheet3!$B11,Sheet4!$E$2:$E$8409,Sheet3!DN$4,Sheet4!$A$2:$A$8409,Sheet3!$B$1,Sheet4!$B$2:$B$8409,Sheet3!$A$3)<3,0,SUMIFS(Sheet4!$DN$2:$DN$8409,Sheet4!$C$2:$C$8409,Sheet3!$B11,Sheet4!$E$2:$E$8409,Sheet3!DN$4,Sheet4!$A$2:$A$8409,Sheet3!$B$1,Sheet4!$B$2:$B$8409,Sheet3!$A$3))","v":0},{"$f":"+IF(SUMIFS(Sheet4!$DN$2:$DN$8409,Sheet4!$C$2:$C$8409,Sheet3!$B11,Sheet4!$E$2:$E$8409,Sheet3!DO$4,Sheet4!$A$2:$A$8409,Sheet3!$B$1,Sheet4!$B$2:$B$8409,Sheet3!$A$3)<3,0,SUMIFS(Sheet4!$DN$2:$DN$8409,Sheet4!$C$2:$C$8409,Sheet3!$B11,Sheet4!$E$2:$E$8409,Sheet3!DO$4,Sheet4!$A$2:$A$8409,Sheet3!$B$1,Sheet4!$B$2:$B$8409,Sheet3!$A$3))","v":0},{"$f":"+IF(SUMIFS(Sheet4!$DN$2:$DN$8409,Sheet4!$C$2:$C$8409,Sheet3!$B11,Sheet4!$E$2:$E$8409,Sheet3!DP$4,Sheet4!$A$2:$A$8409,Sheet3!$B$1,Sheet4!$B$2:$B$8409,Sheet3!$A$3)<3,0,SUMIFS(Sheet4!$DN$2:$DN$8409,Sheet4!$C$2:$C$8409,Sheet3!$B11,Sheet4!$E$2:$E$8409,Sheet3!DP$4,Sheet4!$A$2:$A$8409,Sheet3!$B$1,Sheet4!$B$2:$B$8409,Sheet3!$A$3))","v":0},{"$f":"+IF(SUMIFS(Sheet4!$DN$2:$DN$8409,Sheet4!$C$2:$C$8409,Sheet3!$B11,Sheet4!$E$2:$E$8409,Sheet3!DQ$4,Sheet4!$A$2:$A$8409,Sheet3!$B$1,Sheet4!$B$2:$B$8409,Sheet3!$A$3)<3,0,SUMIFS(Sheet4!$DN$2:$DN$8409,Sheet4!$C$2:$C$8409,Sheet3!$B11,Sheet4!$E$2:$E$8409,Sheet3!DQ$4,Sheet4!$A$2:$A$8409,Sheet3!$B$1,Sheet4!$B$2:$B$8409,Sheet3!$A$3))","v":0},{"$f":"+IF(SUMIFS(Sheet4!$DN$2:$DN$8409,Sheet4!$C$2:$C$8409,Sheet3!$B11,Sheet4!$E$2:$E$8409,Sheet3!DR$4,Sheet4!$A$2:$A$8409,Sheet3!$B$1,Sheet4!$B$2:$B$8409,Sheet3!$A$3)<3,0,SUMIFS(Sheet4!$DN$2:$DN$8409,Sheet4!$C$2:$C$8409,Sheet3!$B11,Sheet4!$E$2:$E$8409,Sheet3!DR$4,Sheet4!$A$2:$A$8409,Sheet3!$B$1,Sheet4!$B$2:$B$8409,Sheet3!$A$3))","v":0}]
[1,"11B","Alto Tâmega",{"$f":"+SUMIFS(Sheet4!$DM$2:$DM$8409,Sheet4!$C$2:$C$8409,Sheet3!$B12,Sheet4!$D$2:$D$8409,Sheet3!D$3,Sheet4!$E$2:$E$8409,Sheet3!D$4,Sheet4!$A$2:$A$8409,Sheet3!$B$1,Sheet4!$B$2:$B$8409,Sheet3!$A$3)","v":0},{"$f":"+SUMIFS(Sheet4!$DM$2:$DM$8409,Sheet4!$C$2:$C$8409,Sheet3!$B12,Sheet4!$D$2:$D$8409,Sheet3!E$3,Sheet4!$E$2:$E$8409,Sheet3!E$4,Sheet4!$A$2:$A$8409,Sheet3!$B$1,Sheet4!$B$2:$B$8409,Sheet3!$A$3)","v":0},{"$f":"+SUMIFS(Sheet4!$DM$2:$DM$8409,Sheet4!$C$2:$C$8409,Sheet3!$B12,Sheet4!$D$2:$D$8409,Sheet3!F$3,Sheet4!$E$2:$E$8409,Sheet3!F$4,Sheet4!$A$2:$A$8409,Sheet3!$B$1,Sheet4!$B$2:$B$8409,Sheet3!$A$3)","v":0},{"$f":"+SUMIFS(Sheet4!$DM$2:$DM$8409,Sheet4!$C$2:$C$8409,Sheet3!$B12,Sheet4!$D$2:$D$8409,Sheet3!G$3,Sheet4!$E$2:$E$8409,Sheet3!G$4,Sheet4!$A$2:$A$8409,Sheet3!$B$1,Sheet4!$B$2:$B$8409,Sheet3!$A$3)","v":0},{"$f":"+SUMIFS(Sheet4!$DM$2:$DM$8409,Sheet4!$C$2:$C$8409,Sheet3!$B12,Sheet4!$D$2:$D$8409,Sheet3!H$3,Sheet4!$E$2:$E$8409,Sheet3!H$4,Sheet4!$A$2:$A$8409,Sheet3!$B$1,Sheet4!$B$2:$B$8409,Sheet3!$A$3)","v":0},{"$f":"+SUMIFS(Sheet4!$DM$2:$DM$8409,Sheet4!$C$2:$C$8409,Sheet3!$B12,Sheet4!$D$2:$D$8409,Sheet3!I$3,Sheet4!$E$2:$E$8409,Sheet3!I$4,Sheet4!$A$2:$A$8409,Sheet3!$B$1,Sheet4!$B$2:$B$8409,Sheet3!$A$3)","v":0},{"$f":"+SUMIFS(Sheet4!$DM$2:$DM$8409,Sheet4!$C$2:$C$8409,Sheet3!$B12,Sheet4!$D$2:$D$8409,Sheet3!J$3,Sheet4!$E$2:$E$8409,Sheet3!J$4,Sheet4!$A$2:$A$8409,Sheet3!$B$1,Sheet4!$B$2:$B$8409,Sheet3!$A$3)","v":0},{"$f":"+SUMIFS(Sheet4!$DM$2:$DM$8409,Sheet4!$C$2:$C$8409,Sheet3!$B12,Sheet4!$D$2:$D$8409,Sheet3!K$3,Sheet4!$E$2:$E$8409,Sheet3!K$4,Sheet4!$A$2:$A$8409,Sheet3!$B$1,Sheet4!$B$2:$B$8409,Sheet3!$A$3)","v":0},{"$f":"+SUMIFS(Sheet4!$DM$2:$DM$8409,Sheet4!$C$2:$C$8409,Sheet3!$B12,Sheet4!$D$2:$D$8409,Sheet3!L$3,Sheet4!$E$2:$E$8409,Sheet3!L$4,Sheet4!$A$2:$A$8409,Sheet3!$B$1,Sheet4!$B$2:$B$8409,Sheet3!$A$3)","v":0},{"$f":"+SUMIFS(Sheet4!$DM$2:$DM$8409,Sheet4!$C$2:$C$8409,Sheet3!$B12,Sheet4!$D$2:$D$8409,Sheet3!M$3,Sheet4!$E$2:$E$8409,Sheet3!M$4,Sheet4!$A$2:$A$8409,Sheet3!$B$1,Sheet4!$B$2:$B$8409,Sheet3!$A$3)","v":0},{"$f":"+SUMIFS(Sheet4!$DM$2:$DM$8409,Sheet4!$C$2:$C$8409,Sheet3!$B12,Sheet4!$D$2:$D$8409,Sheet3!N$3,Sheet4!$E$2:$E$8409,Sheet3!N$4,Sheet4!$A$2:$A$8409,Sheet3!$B$1,Sheet4!$B$2:$B$8409,Sheet3!$A$3)","v":0},{"$f":"+SUMIFS(Sheet4!$DM$2:$DM$8409,Sheet4!$C$2:$C$8409,Sheet3!$B12,Sheet4!$D$2:$D$8409,Sheet3!O$3,Sheet4!$E$2:$E$8409,Sheet3!O$4,Sheet4!$A$2:$A$8409,Sheet3!$B$1,Sheet4!$B$2:$B$8409,Sheet3!$A$3)","v":0},{"$f":"+SUMIFS(Sheet4!$DM$2:$DM$8409,Sheet4!$C$2:$C$8409,Sheet3!$B12,Sheet4!$D$2:$D$8409,Sheet3!P$3,Sheet4!$E$2:$E$8409,Sheet3!P$4,Sheet4!$A$2:$A$8409,Sheet3!$B$1,Sheet4!$B$2:$B$8409,Sheet3!$A$3)","v":0},{"$f":"+SUMIFS(Sheet4!$DM$2:$DM$8409,Sheet4!$C$2:$C$8409,Sheet3!$B12,Sheet4!$D$2:$D$8409,Sheet3!Q$3,Sheet4!$E$2:$E$8409,Sheet3!Q$4,Sheet4!$A$2:$A$8409,Sheet3!$B$1,Sheet4!$B$2:$B$8409,Sheet3!$A$3)","v":0},{"$f":"+SUMIFS(Sheet4!$DM$2:$DM$8409,Sheet4!$C$2:$C$8409,Sheet3!$B12,Sheet4!$D$2:$D$8409,Sheet3!R$3,Sheet4!$E$2:$E$8409,Sheet3!R$4,Sheet4!$A$2:$A$8409,Sheet3!$B$1,Sheet4!$B$2:$B$8409,Sheet3!$A$3)","v":0},{"$f":"+SUMIFS(Sheet4!$DM$2:$DM$8409,Sheet4!$C$2:$C$8409,Sheet3!$B12,Sheet4!$D$2:$D$8409,Sheet3!S$3,Sheet4!$E$2:$E$8409,Sheet3!S$4,Sheet4!$A$2:$A$8409,Sheet3!$B$1,Sheet4!$B$2:$B$8409,Sheet3!$A$3)","v":0},{"$f":"+SUMIFS(Sheet4!$DM$2:$DM$8409,Sheet4!$C$2:$C$8409,Sheet3!$B12,Sheet4!$D$2:$D$8409,Sheet3!T$3,Sheet4!$E$2:$E$8409,Sheet3!T$4,Sheet4!$A$2:$A$8409,Sheet3!$B$1,Sheet4!$B$2:$B$8409,Sheet3!$A$3)","v":0},{"$f":"+SUMIFS(Sheet4!$DM$2:$DM$8409,Sheet4!$C$2:$C$8409,Sheet3!$B12,Sheet4!$D$2:$D$8409,Sheet3!U$3,Sheet4!$E$2:$E$8409,Sheet3!U$4,Sheet4!$A$2:$A$8409,Sheet3!$B$1,Sheet4!$B$2:$B$8409,Sheet3!$A$3)","v":0},{"$f":"+SUMIFS(Sheet4!$DM$2:$DM$8409,Sheet4!$C$2:$C$8409,Sheet3!$B12,Sheet4!$D$2:$D$8409,Sheet3!V$3,Sheet4!$E$2:$E$8409,Sheet3!V$4,Sheet4!$A$2:$A$8409,Sheet3!$B$1,Sheet4!$B$2:$B$8409,Sheet3!$A$3)","v":0},{"$f":"+SUMIFS(Sheet4!$DM$2:$DM$8409,Sheet4!$C$2:$C$8409,Sheet3!$B12,Sheet4!$D$2:$D$8409,Sheet3!W$3,Sheet4!$E$2:$E$8409,Sheet3!W$4,Sheet4!$A$2:$A$8409,Sheet3!$B$1,Sheet4!$B$2:$B$8409,Sheet3!$A$3)","v":0},{"$f":"+SUMIFS(Sheet4!$DM$2:$DM$8409,Sheet4!$C$2:$C$8409,Sheet3!$B12,Sheet4!$D$2:$D$8409,Sheet3!X$3,Sheet4!$E$2:$E$8409,Sheet3!X$4,Sheet4!$A$2:$A$8409,Sheet3!$B$1,Sheet4!$B$2:$B$8409,Sheet3!$A$3)","v":0},{"$f":"+SUMIFS(Sheet4!$DM$2:$DM$8409,Sheet4!$C$2:$C$8409,Sheet3!$B12,Sheet4!$D$2:$D$8409,Sheet3!Y$3,Sheet4!$E$2:$E$8409,Sheet3!Y$4,Sheet4!$A$2:$A$8409,Sheet3!$B$1,Sheet4!$B$2:$B$8409,Sheet3!$A$3)","v":0},{"$f":"+SUMIFS(Sheet4!$DM$2:$DM$8409,Sheet4!$C$2:$C$8409,Sheet3!$B12,Sheet4!$D$2:$D$8409,Sheet3!Z$3,Sheet4!$E$2:$E$8409,Sheet3!Z$4,Sheet4!$A$2:$A$8409,Sheet3!$B$1,Sheet4!$B$2:$B$8409,Sheet3!$A$3)","v":0},{"$f":"+SUMIFS(Sheet4!$DM$2:$DM$8409,Sheet4!$C$2:$C$8409,Sheet3!$B12,Sheet4!$D$2:$D$8409,Sheet3!AA$3,Sheet4!$E$2:$E$8409,Sheet3!AA$4,Sheet4!$A$2:$A$8409,Sheet3!$B$1,Sheet4!$B$2:$B$8409,Sheet3!$A$3)","v":0},{"$f":"+SUMIFS(Sheet4!$DM$2:$DM$8409,Sheet4!$C$2:$C$8409,Sheet3!$B12,Sheet4!$D$2:$D$8409,Sheet3!AB$3,Sheet4!$E$2:$E$8409,Sheet3!AB$4,Sheet4!$A$2:$A$8409,Sheet3!$B$1,Sheet4!$B$2:$B$8409,Sheet3!$A$3)","v":0},{"$f":"+SUMIFS(Sheet4!$DM$2:$DM$8409,Sheet4!$C$2:$C$8409,Sheet3!$B12,Sheet4!$D$2:$D$8409,Sheet3!AC$3,Sheet4!$E$2:$E$8409,Sheet3!AC$4,Sheet4!$A$2:$A$8409,Sheet3!$B$1,Sheet4!$B$2:$B$8409,Sheet3!$A$3)","v":0},{"$f":"+SUMIFS(Sheet4!$DM$2:$DM$8409,Sheet4!$C$2:$C$8409,Sheet3!$B12,Sheet4!$D$2:$D$8409,Sheet3!AD$3,Sheet4!$E$2:$E$8409,Sheet3!AD$4,Sheet4!$A$2:$A$8409,Sheet3!$B$1,Sheet4!$B$2:$B$8409,Sheet3!$A$3)","v":0},{"$f":"+SUMIFS(Sheet4!$DM$2:$DM$8409,Sheet4!$C$2:$C$8409,Sheet3!$B12,Sheet4!$D$2:$D$8409,Sheet3!AE$3,Sheet4!$E$2:$E$8409,Sheet3!AE$4,Sheet4!$A$2:$A$8409,Sheet3!$B$1,Sheet4!$B$2:$B$8409,Sheet3!$A$3)","v":0},{"$f":"+SUMIFS(Sheet4!$DM$2:$DM$8409,Sheet4!$C$2:$C$8409,Sheet3!$B12,Sheet4!$D$2:$D$8409,Sheet3!AF$3,Sheet4!$E$2:$E$8409,Sheet3!AF$4,Sheet4!$A$2:$A$8409,Sheet3!$B$1,Sheet4!$B$2:$B$8409,Sheet3!$A$3)","v":0},{"$f":"+SUMIFS(Sheet4!$DM$2:$DM$8409,Sheet4!$C$2:$C$8409,Sheet3!$B12,Sheet4!$D$2:$D$8409,Sheet3!AG$3,Sheet4!$E$2:$E$8409,Sheet3!AG$4,Sheet4!$A$2:$A$8409,Sheet3!$B$1,Sheet4!$B$2:$B$8409,Sheet3!$A$3)","v":0},{"$f":"+SUMIFS(Sheet4!$DM$2:$DM$8409,Sheet4!$C$2:$C$8409,Sheet3!$B12,Sheet4!$D$2:$D$8409,Sheet3!AH$3,Sheet4!$E$2:$E$8409,Sheet3!AH$4,Sheet4!$A$2:$A$8409,Sheet3!$B$1,Sheet4!$B$2:$B$8409,Sheet3!$A$3)","v":0},{"$f":"+SUMIFS(Sheet4!$DM$2:$DM$8409,Sheet4!$C$2:$C$8409,Sheet3!$B12,Sheet4!$D$2:$D$8409,Sheet3!AI$3,Sheet4!$E$2:$E$8409,Sheet3!AI$4,Sheet4!$A$2:$A$8409,Sheet3!$B$1,Sheet4!$B$2:$B$8409,Sheet3!$A$3)","v":0},{"$f":"+SUMIFS(Sheet4!$DM$2:$DM$8409,Sheet4!$C$2:$C$8409,Sheet3!$B12,Sheet4!$D$2:$D$8409,Sheet3!AJ$3,Sheet4!$E$2:$E$8409,Sheet3!AJ$4,Sheet4!$A$2:$A$8409,Sheet3!$B$1,Sheet4!$B$2:$B$8409,Sheet3!$A$3)","v":0},{"$f":"+SUMIFS(Sheet4!$DM$2:$DM$8409,Sheet4!$C$2:$C$8409,Sheet3!$B12,Sheet4!$D$2:$D$8409,Sheet3!AK$3,Sheet4!$E$2:$E$8409,Sheet3!AK$4,Sheet4!$A$2:$A$8409,Sheet3!$B$1,Sheet4!$B$2:$B$8409,Sheet3!$A$3)","v":0},{"$f":"+SUMIFS(Sheet4!$DM$2:$DM$8409,Sheet4!$C$2:$C$8409,Sheet3!$B12,Sheet4!$D$2:$D$8409,Sheet3!AL$3,Sheet4!$E$2:$E$8409,Sheet3!AL$4,Sheet4!$A$2:$A$8409,Sheet3!$B$1,Sheet4!$B$2:$B$8409,Sheet3!$A$3)","v":0},{"$f":"+SUMIFS(Sheet4!$DM$2:$DM$8409,Sheet4!$C$2:$C$8409,Sheet3!$B12,Sheet4!$D$2:$D$8409,Sheet3!AM$3,Sheet4!$E$2:$E$8409,Sheet3!AM$4,Sheet4!$A$2:$A$8409,Sheet3!$B$1,Sheet4!$B$2:$B$8409,Sheet3!$A$3)","v":0},{"$f":"+SUMIFS(Sheet4!$DM$2:$DM$8409,Sheet4!$C$2:$C$8409,Sheet3!$B12,Sheet4!$D$2:$D$8409,Sheet3!AN$3,Sheet4!$E$2:$E$8409,Sheet3!AN$4,Sheet4!$A$2:$A$8409,Sheet3!$B$1,Sheet4!$B$2:$B$8409,Sheet3!$A$3)","v":0},{"$f":"+SUMIFS(Sheet4!$DM$2:$DM$8409,Sheet4!$C$2:$C$8409,Sheet3!$B12,Sheet4!$D$2:$D$8409,Sheet3!AO$3,Sheet4!$E$2:$E$8409,Sheet3!AO$4,Sheet4!$A$2:$A$8409,Sheet3!$B$1,Sheet4!$B$2:$B$8409,Sheet3!$A$3)","v":0},{"$f":"+SUMIFS(Sheet4!$DM$2:$DM$8409,Sheet4!$C$2:$C$8409,Sheet3!$B12,Sheet4!$D$2:$D$8409,Sheet3!AP$3,Sheet4!$E$2:$E$8409,Sheet3!AP$4,Sheet4!$A$2:$A$8409,Sheet3!$B$1,Sheet4!$B$2:$B$8409,Sheet3!$A$3)","v":0},{"$f":"+SUMIFS(Sheet4!$DM$2:$DM$8409,Sheet4!$C$2:$C$8409,Sheet3!$B12,Sheet4!$D$2:$D$8409,Sheet3!AQ$3,Sheet4!$E$2:$E$8409,Sheet3!AQ$4,Sheet4!$A$2:$A$8409,Sheet3!$B$1,Sheet4!$B$2:$B$8409,Sheet3!$A$3)","v":0},{"$f":"+SUMIFS(Sheet4!$DM$2:$DM$8409,Sheet4!$C$2:$C$8409,Sheet3!$B12,Sheet4!$D$2:$D$8409,Sheet3!AR$3,Sheet4!$E$2:$E$8409,Sheet3!AR$4,Sheet4!$A$2:$A$8409,Sheet3!$B$1,Sheet4!$B$2:$B$8409,Sheet3!$A$3)","v":0},{"$f":"+SUMIFS(Sheet4!$DM$2:$DM$8409,Sheet4!$C$2:$C$8409,Sheet3!$B12,Sheet4!$D$2:$D$8409,Sheet3!AS$3,Sheet4!$E$2:$E$8409,Sheet3!AS$4,Sheet4!$A$2:$A$8409,Sheet3!$B$1,Sheet4!$B$2:$B$8409,Sheet3!$A$3)","v":0},{"$f":"+SUMIFS(Sheet4!$DM$2:$DM$8409,Sheet4!$C$2:$C$8409,Sheet3!$B12,Sheet4!$D$2:$D$8409,Sheet3!AT$3,Sheet4!$E$2:$E$8409,Sheet3!AT$4,Sheet4!$A$2:$A$8409,Sheet3!$B$1,Sheet4!$B$2:$B$8409,Sheet3!$A$3)","v":0},{"$f":"+SUMIFS(Sheet4!$DM$2:$DM$8409,Sheet4!$C$2:$C$8409,Sheet3!$B12,Sheet4!$D$2:$D$8409,Sheet3!AU$3,Sheet4!$E$2:$E$8409,Sheet3!AU$4,Sheet4!$A$2:$A$8409,Sheet3!$B$1,Sheet4!$B$2:$B$8409,Sheet3!$A$3)","v":0},{"$f":"+SUMIFS(Sheet4!$DM$2:$DM$8409,Sheet4!$C$2:$C$8409,Sheet3!$B12,Sheet4!$D$2:$D$8409,Sheet3!AV$3,Sheet4!$E$2:$E$8409,Sheet3!AV$4,Sheet4!$A$2:$A$8409,Sheet3!$B$1,Sheet4!$B$2:$B$8409,Sheet3!$A$3)","v":0},{"$f":"+SUMIFS(Sheet4!$DM$2:$DM$8409,Sheet4!$C$2:$C$8409,Sheet3!$B12,Sheet4!$D$2:$D$8409,Sheet3!AW$3,Sheet4!$E$2:$E$8409,Sheet3!AW$4,Sheet4!$A$2:$A$8409,Sheet3!$B$1,Sheet4!$B$2:$B$8409,Sheet3!$A$3)","v":0},{"$f":"+SUMIFS(Sheet4!$DM$2:$DM$8409,Sheet4!$C$2:$C$8409,Sheet3!$B12,Sheet4!$D$2:$D$8409,Sheet3!AX$3,Sheet4!$E$2:$E$8409,Sheet3!AX$4,Sheet4!$A$2:$A$8409,Sheet3!$B$1,Sheet4!$B$2:$B$8409,Sheet3!$A$3)","v":0},{"$f":"+SUMIFS(Sheet4!$DM$2:$DM$8409,Sheet4!$C$2:$C$8409,Sheet3!$B12,Sheet4!$D$2:$D$8409,Sheet3!AY$3,Sheet4!$E$2:$E$8409,Sheet3!AY$4,Sheet4!$A$2:$A$8409,Sheet3!$B$1,Sheet4!$B$2:$B$8409,Sheet3!$A$3)","v":0},{"$f":"+SUMIFS(Sheet4!$DM$2:$DM$8409,Sheet4!$C$2:$C$8409,Sheet3!$B12,Sheet4!$D$2:$D$8409,Sheet3!AZ$3,Sheet4!$E$2:$E$8409,Sheet3!AZ$4,Sheet4!$A$2:$A$8409,Sheet3!$B$1,Sheet4!$B$2:$B$8409,Sheet3!$A$3)","v":0},{"$f":"+SUMIFS(Sheet4!$DM$2:$DM$8409,Sheet4!$C$2:$C$8409,Sheet3!$B12,Sheet4!$D$2:$D$8409,Sheet3!BA$3,Sheet4!$E$2:$E$8409,Sheet3!BA$4,Sheet4!$A$2:$A$8409,Sheet3!$B$1,Sheet4!$B$2:$B$8409,Sheet3!$A$3)","v":0},{"$f":"+SUMIFS(Sheet4!$DM$2:$DM$8409,Sheet4!$C$2:$C$8409,Sheet3!$B12,Sheet4!$D$2:$D$8409,Sheet3!BB$3,Sheet4!$E$2:$E$8409,Sheet3!BB$4,Sheet4!$A$2:$A$8409,Sheet3!$B$1,Sheet4!$B$2:$B$8409,Sheet3!$A$3)","v":0},{"$f":"+SUMIFS(Sheet4!$DM$2:$DM$8409,Sheet4!$C$2:$C$8409,Sheet3!$B12,Sheet4!$D$2:$D$8409,Sheet3!BC$3,Sheet4!$E$2:$E$8409,Sheet3!BC$4,Sheet4!$A$2:$A$8409,Sheet3!$B$1,Sheet4!$B$2:$B$8409,Sheet3!$A$3)","v":0},{"$f":"+SUMIFS(Sheet4!$DM$2:$DM$8409,Sheet4!$C$2:$C$8409,Sheet3!$B12,Sheet4!$D$2:$D$8409,Sheet3!BD$3,Sheet4!$E$2:$E$8409,Sheet3!BD$4,Sheet4!$A$2:$A$8409,Sheet3!$B$1,Sheet4!$B$2:$B$8409,Sheet3!$A$3)","v":0},{"$f":"+SUMIFS(Sheet4!$DM$2:$DM$8409,Sheet4!$C$2:$C$8409,Sheet3!$B12,Sheet4!$D$2:$D$8409,Sheet3!BE$3,Sheet4!$E$2:$E$8409,Sheet3!BE$4,Sheet4!$A$2:$A$8409,Sheet3!$B$1,Sheet4!$B$2:$B$8409,Sheet3!$A$3)","v":0},{"$f":"+SUMIFS(Sheet4!$DM$2:$DM$8409,Sheet4!$C$2:$C$8409,Sheet3!$B12,Sheet4!$D$2:$D$8409,Sheet3!BF$3,Sheet4!$E$2:$E$8409,Sheet3!BF$4,Sheet4!$A$2:$A$8409,Sheet3!$B$1,Sheet4!$B$2:$B$8409,Sheet3!$A$3)","v":0},{"$f":"+SUMIFS(Sheet4!$DM$2:$DM$8409,Sheet4!$C$2:$C$8409,Sheet3!$B12,Sheet4!$D$2:$D$8409,Sheet3!BG$3,Sheet4!$E$2:$E$8409,Sheet3!BG$4,Sheet4!$A$2:$A$8409,Sheet3!$B$1,Sheet4!$B$2:$B$8409,Sheet3!$A$3)","v":0},{"$f":"+SUMIFS(Sheet4!$DM$2:$DM$8409,Sheet4!$C$2:$C$8409,Sheet3!$B12,Sheet4!$D$2:$D$8409,Sheet3!BH$3,Sheet4!$E$2:$E$8409,Sheet3!BH$4,Sheet4!$A$2:$A$8409,Sheet3!$B$1,Sheet4!$B$2:$B$8409,Sheet3!$A$3)","v":0},{"$f":"+SUMIFS(Sheet4!$DM$2:$DM$8409,Sheet4!$C$2:$C$8409,Sheet3!$B12,Sheet4!$D$2:$D$8409,Sheet3!BI$3,Sheet4!$E$2:$E$8409,Sheet3!BI$4,Sheet4!$A$2:$A$8409,Sheet3!$B$1,Sheet4!$B$2:$B$8409,Sheet3!$A$3)","v":0},{"$f":"+SUMIFS(Sheet4!$DM$2:$DM$8409,Sheet4!$C$2:$C$8409,Sheet3!$B12,Sheet4!$D$2:$D$8409,Sheet3!BJ$3,Sheet4!$E$2:$E$8409,Sheet3!BJ$4,Sheet4!$A$2:$A$8409,Sheet3!$B$1,Sheet4!$B$2:$B$8409,Sheet3!$A$3)","v":0},{"$f":"+SUMIFS(Sheet4!$DM$2:$DM$8409,Sheet4!$C$2:$C$8409,Sheet3!$B12,Sheet4!$D$2:$D$8409,Sheet3!BK$3,Sheet4!$E$2:$E$8409,Sheet3!BK$4,Sheet4!$A$2:$A$8409,Sheet3!$B$1,Sheet4!$B$2:$B$8409,Sheet3!$A$3)","v":0},{"$f":"+SUMIFS(Sheet4!$DM$2:$DM$8409,Sheet4!$C$2:$C$8409,Sheet3!$B12,Sheet4!$D$2:$D$8409,Sheet3!BL$3,Sheet4!$E$2:$E$8409,Sheet3!BL$4,Sheet4!$A$2:$A$8409,Sheet3!$B$1,Sheet4!$B$2:$B$8409,Sheet3!$A$3)","v":0},{"$f":"+SUMIFS(Sheet4!$DM$2:$DM$8409,Sheet4!$C$2:$C$8409,Sheet3!$B12,Sheet4!$D$2:$D$8409,Sheet3!BM$3,Sheet4!$E$2:$E$8409,Sheet3!BM$4,Sheet4!$A$2:$A$8409,Sheet3!$B$1,Sheet4!$B$2:$B$8409,Sheet3!$A$3)","v":0},{"$f":"+SUMIFS(Sheet4!$DM$2:$DM$8409,Sheet4!$C$2:$C$8409,Sheet3!$B12,Sheet4!$D$2:$D$8409,Sheet3!BN$3,Sheet4!$E$2:$E$8409,Sheet3!BN$4,Sheet4!$A$2:$A$8409,Sheet3!$B$1,Sheet4!$B$2:$B$8409,Sheet3!$A$3)","v":0},{"$f":"+SUMIFS(Sheet4!$DM$2:$DM$8409,Sheet4!$C$2:$C$8409,Sheet3!$B12,Sheet4!$D$2:$D$8409,Sheet3!BO$3,Sheet4!$E$2:$E$8409,Sheet3!BO$4,Sheet4!$A$2:$A$8409,Sheet3!$B$1,Sheet4!$B$2:$B$8409,Sheet3!$A$3)","v":0},{"$f":"+SUMIFS(Sheet4!$DM$2:$DM$8409,Sheet4!$C$2:$C$8409,Sheet3!$B12,Sheet4!$D$2:$D$8409,Sheet3!BP$3,Sheet4!$E$2:$E$8409,Sheet3!BP$4,Sheet4!$A$2:$A$8409,Sheet3!$B$1,Sheet4!$B$2:$B$8409,Sheet3!$A$3)","v":0},{"$f":"+SUMIFS(Sheet4!$DM$2:$DM$8409,Sheet4!$C$2:$C$8409,Sheet3!$B12,Sheet4!$D$2:$D$8409,Sheet3!BQ$3,Sheet4!$E$2:$E$8409,Sheet3!BQ$4,Sheet4!$A$2:$A$8409,Sheet3!$B$1,Sheet4!$B$2:$B$8409,Sheet3!$A$3)","v":0},{"$f":"+SUMIFS(Sheet4!$DM$2:$DM$8409,Sheet4!$C$2:$C$8409,Sheet3!$B12,Sheet4!$D$2:$D$8409,Sheet3!BR$3,Sheet4!$E$2:$E$8409,Sheet3!BR$4,Sheet4!$A$2:$A$8409,Sheet3!$B$1,Sheet4!$B$2:$B$8409,Sheet3!$A$3)","v":0},{"$f":"+SUMIFS(Sheet4!$DM$2:$DM$8409,Sheet4!$C$2:$C$8409,Sheet3!$B12,Sheet4!$D$2:$D$8409,Sheet3!BS$3,Sheet4!$E$2:$E$8409,Sheet3!BS$4,Sheet4!$A$2:$A$8409,Sheet3!$B$1,Sheet4!$B$2:$B$8409,Sheet3!$A$3)","v":0},{"$f":"+SUMIFS(Sheet4!$DM$2:$DM$8409,Sheet4!$C$2:$C$8409,Sheet3!$B12,Sheet4!$D$2:$D$8409,Sheet3!BT$3,Sheet4!$E$2:$E$8409,Sheet3!BT$4,Sheet4!$A$2:$A$8409,Sheet3!$B$1,Sheet4!$B$2:$B$8409,Sheet3!$A$3)","v":0},{"$f":"+SUMIFS(Sheet4!$DM$2:$DM$8409,Sheet4!$C$2:$C$8409,Sheet3!$B12,Sheet4!$D$2:$D$8409,Sheet3!BU$3,Sheet4!$E$2:$E$8409,Sheet3!BU$4,Sheet4!$A$2:$A$8409,Sheet3!$B$1,Sheet4!$B$2:$B$8409,Sheet3!$A$3)","v":0},{"$f":"+SUMIFS(Sheet4!$DM$2:$DM$8409,Sheet4!$C$2:$C$8409,Sheet3!$B12,Sheet4!$D$2:$D$8409,Sheet3!BV$3,Sheet4!$E$2:$E$8409,Sheet3!BV$4,Sheet4!$A$2:$A$8409,Sheet3!$B$1,Sheet4!$B$2:$B$8409,Sheet3!$A$3)","v":0},{"$f":"+SUMIFS(Sheet4!$DM$2:$DM$8409,Sheet4!$C$2:$C$8409,Sheet3!$B12,Sheet4!$D$2:$D$8409,Sheet3!BW$3,Sheet4!$E$2:$E$8409,Sheet3!BW$4,Sheet4!$A$2:$A$8409,Sheet3!$B$1,Sheet4!$B$2:$B$8409,Sheet3!$A$3)","v":0},{"$f":"+SUMIFS(Sheet4!$DM$2:$DM$8409,Sheet4!$C$2:$C$8409,Sheet3!$B12,Sheet4!$D$2:$D$8409,Sheet3!BX$3,Sheet4!$E$2:$E$8409,Sheet3!BX$4,Sheet4!$A$2:$A$8409,Sheet3!$B$1,Sheet4!$B$2:$B$8409,Sheet3!$A$3)","v":0},{"$f":"+SUMIFS(Sheet4!$DM$2:$DM$8409,Sheet4!$C$2:$C$8409,Sheet3!$B12,Sheet4!$D$2:$D$8409,Sheet3!BY$3,Sheet4!$E$2:$E$8409,Sheet3!BY$4,Sheet4!$A$2:$A$8409,Sheet3!$B$1,Sheet4!$B$2:$B$8409,Sheet3!$A$3)","v":0},{"$f":"+SUMIFS(Sheet4!$DM$2:$DM$8409,Sheet4!$C$2:$C$8409,Sheet3!$B12,Sheet4!$D$2:$D$8409,Sheet3!BZ$3,Sheet4!$E$2:$E$8409,Sheet3!BZ$4,Sheet4!$A$2:$A$8409,Sheet3!$B$1,Sheet4!$B$2:$B$8409,Sheet3!$A$3)","v":0},{"$f":"+SUMIFS(Sheet4!$DM$2:$DM$8409,Sheet4!$C$2:$C$8409,Sheet3!$B12,Sheet4!$D$2:$D$8409,Sheet3!CA$3,Sheet4!$E$2:$E$8409,Sheet3!CA$4,Sheet4!$A$2:$A$8409,Sheet3!$B$1,Sheet4!$B$2:$B$8409,Sheet3!$A$3)","v":0},{"$f":"+SUMIFS(Sheet4!$DM$2:$DM$8409,Sheet4!$C$2:$C$8409,Sheet3!$B12,Sheet4!$D$2:$D$8409,Sheet3!CB$3,Sheet4!$E$2:$E$8409,Sheet3!CB$4,Sheet4!$A$2:$A$8409,Sheet3!$B$1,Sheet4!$B$2:$B$8409,Sheet3!$A$3)","v":0},{"$f":"+SUMIFS(Sheet4!$DM$2:$DM$8409,Sheet4!$C$2:$C$8409,Sheet3!$B12,Sheet4!$D$2:$D$8409,Sheet3!CC$3,Sheet4!$E$2:$E$8409,Sheet3!CC$4,Sheet4!$A$2:$A$8409,Sheet3!$B$1,Sheet4!$B$2:$B$8409,Sheet3!$A$3)","v":0},{"$f":"+SUMIFS(Sheet4!$DM$2:$DM$8409,Sheet4!$C$2:$C$8409,Sheet3!$B12,Sheet4!$D$2:$D$8409,Sheet3!CD$3,Sheet4!$E$2:$E$8409,Sheet3!CD$4,Sheet4!$A$2:$A$8409,Sheet3!$B$1,Sheet4!$B$2:$B$8409,Sheet3!$A$3)","v":0},{"$f":"+SUMIFS(Sheet4!$DM$2:$DM$8409,Sheet4!$C$2:$C$8409,Sheet3!$B12,Sheet4!$D$2:$D$8409,Sheet3!CE$3,Sheet4!$E$2:$E$8409,Sheet3!CE$4,Sheet4!$A$2:$A$8409,Sheet3!$B$1,Sheet4!$B$2:$B$8409,Sheet3!$A$3)","v":0},{"$f":"+SUMIFS(Sheet4!$DM$2:$DM$8409,Sheet4!$C$2:$C$8409,Sheet3!$B12,Sheet4!$D$2:$D$8409,Sheet3!CF$3,Sheet4!$E$2:$E$8409,Sheet3!CF$4,Sheet4!$A$2:$A$8409,Sheet3!$B$1,Sheet4!$B$2:$B$8409,Sheet3!$A$3)","v":0},{"$f":"+SUMIFS(Sheet4!$DM$2:$DM$8409,Sheet4!$C$2:$C$8409,Sheet3!$B12,Sheet4!$D$2:$D$8409,Sheet3!CG$3,Sheet4!$E$2:$E$8409,Sheet3!CG$4,Sheet4!$A$2:$A$8409,Sheet3!$B$1,Sheet4!$B$2:$B$8409,Sheet3!$A$3)","v":0},{"$f":"+SUMIFS(Sheet4!$DM$2:$DM$8409,Sheet4!$C$2:$C$8409,Sheet3!$B12,Sheet4!$D$2:$D$8409,Sheet3!CH$3,Sheet4!$E$2:$E$8409,Sheet3!CH$4,Sheet4!$A$2:$A$8409,Sheet3!$B$1,Sheet4!$B$2:$B$8409,Sheet3!$A$3)","v":0},{"$f":"+SUMIFS(Sheet4!$DM$2:$DM$8409,Sheet4!$C$2:$C$8409,Sheet3!$B12,Sheet4!$D$2:$D$8409,Sheet3!CI$3,Sheet4!$E$2:$E$8409,Sheet3!CI$4,Sheet4!$A$2:$A$8409,Sheet3!$B$1,Sheet4!$B$2:$B$8409,Sheet3!$A$3)","v":0},{"$f":"+SUMIFS(Sheet4!$DM$2:$DM$8409,Sheet4!$C$2:$C$8409,Sheet3!$B12,Sheet4!$D$2:$D$8409,Sheet3!CJ$3,Sheet4!$E$2:$E$8409,Sheet3!CJ$4,Sheet4!$A$2:$A$8409,Sheet3!$B$1,Sheet4!$B$2:$B$8409,Sheet3!$A$3)","v":0},{"$f":"+SUMIFS(Sheet4!$DM$2:$DM$8409,Sheet4!$C$2:$C$8409,Sheet3!$B12,Sheet4!$D$2:$D$8409,Sheet3!CK$3,Sheet4!$E$2:$E$8409,Sheet3!CK$4,Sheet4!$A$2:$A$8409,Sheet3!$B$1,Sheet4!$B$2:$B$8409,Sheet3!$A$3)","v":0},{"$f":"+SUMIFS(Sheet4!$DM$2:$DM$8409,Sheet4!$C$2:$C$8409,Sheet3!$B12,Sheet4!$D$2:$D$8409,Sheet3!CL$3,Sheet4!$E$2:$E$8409,Sheet3!CL$4,Sheet4!$A$2:$A$8409,Sheet3!$B$1,Sheet4!$B$2:$B$8409,Sheet3!$A$3)","v":0},{"$f":"+SUMIFS(Sheet4!$DM$2:$DM$8409,Sheet4!$C$2:$C$8409,Sheet3!$B12,Sheet4!$D$2:$D$8409,Sheet3!CM$3,Sheet4!$E$2:$E$8409,Sheet3!CM$4,Sheet4!$A$2:$A$8409,Sheet3!$B$1,Sheet4!$B$2:$B$8409,Sheet3!$A$3)","v":0},{"$f":"+SUMIFS(Sheet4!$DM$2:$DM$8409,Sheet4!$C$2:$C$8409,Sheet3!$B12,Sheet4!$D$2:$D$8409,Sheet3!CN$3,Sheet4!$E$2:$E$8409,Sheet3!CN$4,Sheet4!$A$2:$A$8409,Sheet3!$B$1,Sheet4!$B$2:$B$8409,Sheet3!$A$3)","v":0},{"$f":"+SUMIFS(Sheet4!$DM$2:$DM$8409,Sheet4!$C$2:$C$8409,Sheet3!$B12,Sheet4!$D$2:$D$8409,Sheet3!CO$3,Sheet4!$E$2:$E$8409,Sheet3!CO$4,Sheet4!$A$2:$A$8409,Sheet3!$B$1,Sheet4!$B$2:$B$8409,Sheet3!$A$3)","v":0},{"$f":"+SUMIFS(Sheet4!$DM$2:$DM$8409,Sheet4!$C$2:$C$8409,Sheet3!$B12,Sheet4!$D$2:$D$8409,Sheet3!CP$3,Sheet4!$E$2:$E$8409,Sheet3!CP$4,Sheet4!$A$2:$A$8409,Sheet3!$B$1,Sheet4!$B$2:$B$8409,Sheet3!$A$3)","v":0},{"$f":"+SUMIFS(Sheet4!$DM$2:$DM$8409,Sheet4!$C$2:$C$8409,Sheet3!$B12,Sheet4!$D$2:$D$8409,Sheet3!CQ$3,Sheet4!$E$2:$E$8409,Sheet3!CQ$4,Sheet4!$A$2:$A$8409,Sheet3!$B$1,Sheet4!$B$2:$B$8409,Sheet3!$A$3)","v":0},{"$f":"+SUMIFS(Sheet4!$DM$2:$DM$8409,Sheet4!$C$2:$C$8409,Sheet3!$B12,Sheet4!$D$2:$D$8409,Sheet3!CR$3,Sheet4!$E$2:$E$8409,Sheet3!CR$4,Sheet4!$A$2:$A$8409,Sheet3!$B$1,Sheet4!$B$2:$B$8409,Sheet3!$A$3)","v":0},{"$f":"+SUMIFS(Sheet4!$DM$2:$DM$8409,Sheet4!$C$2:$C$8409,Sheet3!$B12,Sheet4!$D$2:$D$8409,Sheet3!CS$3,Sheet4!$E$2:$E$8409,Sheet3!CS$4,Sheet4!$A$2:$A$8409,Sheet3!$B$1,Sheet4!$B$2:$B$8409,Sheet3!$A$3)","v":0},{"$f":"+SUMIFS(Sheet4!$DM$2:$DM$8409,Sheet4!$C$2:$C$8409,Sheet3!$B12,Sheet4!$D$2:$D$8409,Sheet3!CT$3,Sheet4!$E$2:$E$8409,Sheet3!CT$4,Sheet4!$A$2:$A$8409,Sheet3!$B$1,Sheet4!$B$2:$B$8409,Sheet3!$A$3)","v":0},{"$f":"+IF(SUMIFS(Sheet4!$DN$2:$DN$8409,Sheet4!$C$2:$C$8409,Sheet3!$B12,Sheet4!$D$2:$D$8409,Sheet3!CU$3,Sheet4!$A$2:$A$8409,Sheet3!$B$1,Sheet4!$B$2:$B$8409,Sheet3!$A$3)<3,0,SUMIFS(Sheet4!$DN$2:$DN$8409,Sheet4!$C$2:$C$8409,Sheet3!$B12,Sheet4!$D$2:$D$8409,Sheet3!CU$3,Sheet4!$A$2:$A$8409,Sheet3!$B$1,Sheet4!$B$2:$B$8409,Sheet3!$A$3))","v":0},{"$f":"+IF(SUMIFS(Sheet4!$DN$2:$DN$8409,Sheet4!$C$2:$C$8409,Sheet3!$B12,Sheet4!$D$2:$D$8409,Sheet3!CV$3,Sheet4!$A$2:$A$8409,Sheet3!$B$1,Sheet4!$B$2:$B$8409,Sheet3!$A$3)<3,0,SUMIFS(Sheet4!$DN$2:$DN$8409,Sheet4!$C$2:$C$8409,Sheet3!$B12,Sheet4!$D$2:$D$8409,Sheet3!CV$3,Sheet4!$A$2:$A$8409,Sheet3!$B$1,Sheet4!$B$2:$B$8409,Sheet3!$A$3))","v":0},{"$f":"+IF(SUMIFS(Sheet4!$DN$2:$DN$8409,Sheet4!$C$2:$C$8409,Sheet3!$B12,Sheet4!$D$2:$D$8409,Sheet3!CW$3,Sheet4!$A$2:$A$8409,Sheet3!$B$1,Sheet4!$B$2:$B$8409,Sheet3!$A$3)<3,0,SUMIFS(Sheet4!$DN$2:$DN$8409,Sheet4!$C$2:$C$8409,Sheet3!$B12,Sheet4!$D$2:$D$8409,Sheet3!CW$3,Sheet4!$A$2:$A$8409,Sheet3!$B$1,Sheet4!$B$2:$B$8409,Sheet3!$A$3))","v":0},{"$f":"+IF(SUMIFS(Sheet4!$DN$2:$DN$8409,Sheet4!$C$2:$C$8409,Sheet3!$B12,Sheet4!$D$2:$D$8409,Sheet3!CX$3,Sheet4!$A$2:$A$8409,Sheet3!$B$1,Sheet4!$B$2:$B$8409,Sheet3!$A$3)<3,0,SUMIFS(Sheet4!$DN$2:$DN$8409,Sheet4!$C$2:$C$8409,Sheet3!$B12,Sheet4!$D$2:$D$8409,Sheet3!CX$3,Sheet4!$A$2:$A$8409,Sheet3!$B$1,Sheet4!$B$2:$B$8409,Sheet3!$A$3))","v":0},{"$f":"+IF(SUMIFS(Sheet4!$DN$2:$DN$8409,Sheet4!$C$2:$C$8409,Sheet3!$B12,Sheet4!$D$2:$D$8409,Sheet3!CY$3,Sheet4!$A$2:$A$8409,Sheet3!$B$1,Sheet4!$B$2:$B$8409,Sheet3!$A$3)<3,0,SUMIFS(Sheet4!$DN$2:$DN$8409,Sheet4!$C$2:$C$8409,Sheet3!$B12,Sheet4!$D$2:$D$8409,Sheet3!CY$3,Sheet4!$A$2:$A$8409,Sheet3!$B$1,Sheet4!$B$2:$B$8409,Sheet3!$A$3))","v":0},{"$f":"+IF(SUMIFS(Sheet4!$DN$2:$DN$8409,Sheet4!$C$2:$C$8409,Sheet3!$B12,Sheet4!$D$2:$D$8409,Sheet3!CZ$3,Sheet4!$A$2:$A$8409,Sheet3!$B$1,Sheet4!$B$2:$B$8409,Sheet3!$A$3)<3,0,SUMIFS(Sheet4!$DN$2:$DN$8409,Sheet4!$C$2:$C$8409,Sheet3!$B12,Sheet4!$D$2:$D$8409,Sheet3!CZ$3,Sheet4!$A$2:$A$8409,Sheet3!$B$1,Sheet4!$B$2:$B$8409,Sheet3!$A$3))","v":0},{"$f":"+IF(SUMIFS(Sheet4!$DN$2:$DN$8409,Sheet4!$C$2:$C$8409,Sheet3!$B12,Sheet4!$D$2:$D$8409,Sheet3!DA$3,Sheet4!$A$2:$A$8409,Sheet3!$B$1,Sheet4!$B$2:$B$8409,Sheet3!$A$3)<3,0,SUMIFS(Sheet4!$DN$2:$DN$8409,Sheet4!$C$2:$C$8409,Sheet3!$B12,Sheet4!$D$2:$D$8409,Sheet3!DA$3,Sheet4!$A$2:$A$8409,Sheet3!$B$1,Sheet4!$B$2:$B$8409,Sheet3!$A$3))","v":0},{"$f":"+IF(SUMIFS(Sheet4!$DN$2:$DN$8409,Sheet4!$C$2:$C$8409,Sheet3!$B12,Sheet4!$D$2:$D$8409,Sheet3!DB$3,Sheet4!$A$2:$A$8409,Sheet3!$B$1,Sheet4!$B$2:$B$8409,Sheet3!$A$3)<3,0,SUMIFS(Sheet4!$DN$2:$DN$8409,Sheet4!$C$2:$C$8409,Sheet3!$B12,Sheet4!$D$2:$D$8409,Sheet3!DB$3,Sheet4!$A$2:$A$8409,Sheet3!$B$1,Sheet4!$B$2:$B$8409,Sheet3!$A$3))","v":0},{"$f":"+IF(SUMIFS(Sheet4!$DN$2:$DN$8409,Sheet4!$C$2:$C$8409,Sheet3!$B12,Sheet4!$D$2:$D$8409,Sheet3!DC$3,Sheet4!$A$2:$A$8409,Sheet3!$B$1,Sheet4!$B$2:$B$8409,Sheet3!$A$3)<3,0,SUMIFS(Sheet4!$DN$2:$DN$8409,Sheet4!$C$2:$C$8409,Sheet3!$B12,Sheet4!$D$2:$D$8409,Sheet3!DC$3,Sheet4!$A$2:$A$8409,Sheet3!$B$1,Sheet4!$B$2:$B$8409,Sheet3!$A$3))","v":0},{"$f":"+IF(SUMIFS(Sheet4!$DN$2:$DN$8409,Sheet4!$C$2:$C$8409,Sheet3!$B12,Sheet4!$D$2:$D$8409,Sheet3!DD$3,Sheet4!$A$2:$A$8409,Sheet3!$B$1,Sheet4!$B$2:$B$8409,Sheet3!$A$3)<3,0,SUMIFS(Sheet4!$DN$2:$DN$8409,Sheet4!$C$2:$C$8409,Sheet3!$B12,Sheet4!$D$2:$D$8409,Sheet3!DD$3,Sheet4!$A$2:$A$8409,Sheet3!$B$1,Sheet4!$B$2:$B$8409,Sheet3!$A$3))","v":0},{"$f":"+IF(SUMIFS(Sheet4!$DN$2:$DN$8409,Sheet4!$C$2:$C$8409,Sheet3!$B12,Sheet4!$D$2:$D$8409,Sheet3!DE$3,Sheet4!$A$2:$A$8409,Sheet3!$B$1,Sheet4!$B$2:$B$8409,Sheet3!$A$3)<3,0,SUMIFS(Sheet4!$DN$2:$DN$8409,Sheet4!$C$2:$C$8409,Sheet3!$B12,Sheet4!$D$2:$D$8409,Sheet3!DE$3,Sheet4!$A$2:$A$8409,Sheet3!$B$1,Sheet4!$B$2:$B$8409,Sheet3!$A$3))","v":0},{"$f":"+IF(SUMIFS(Sheet4!$DN$2:$DN$8409,Sheet4!$C$2:$C$8409,Sheet3!$B12,Sheet4!$D$2:$D$8409,Sheet3!DF$3,Sheet4!$A$2:$A$8409,Sheet3!$B$1,Sheet4!$B$2:$B$8409,Sheet3!$A$3)<3,0,SUMIFS(Sheet4!$DN$2:$DN$8409,Sheet4!$C$2:$C$8409,Sheet3!$B12,Sheet4!$D$2:$D$8409,Sheet3!DF$3,Sheet4!$A$2:$A$8409,Sheet3!$B$1,Sheet4!$B$2:$B$8409,Sheet3!$A$3))","v":0},{"$f":"+IF(SUMIFS(Sheet4!$DN$2:$DN$8409,Sheet4!$C$2:$C$8409,Sheet3!$B12,Sheet4!$D$2:$D$8409,Sheet3!DG$3,Sheet4!$A$2:$A$8409,Sheet3!$B$1,Sheet4!$B$2:$B$8409,Sheet3!$A$3)<3,0,SUMIFS(Sheet4!$DN$2:$DN$8409,Sheet4!$C$2:$C$8409,Sheet3!$B12,Sheet4!$D$2:$D$8409,Sheet3!DG$3,Sheet4!$A$2:$A$8409,Sheet3!$B$1,Sheet4!$B$2:$B$8409,Sheet3!$A$3))","v":0},{"$f":"+IF(SUMIFS(Sheet4!$DN$2:$DN$8409,Sheet4!$C$2:$C$8409,Sheet3!$B12,Sheet4!$D$2:$D$8409,Sheet3!DH$3,Sheet4!$A$2:$A$8409,Sheet3!$B$1,Sheet4!$B$2:$B$8409,Sheet3!$A$3)<3,0,SUMIFS(Sheet4!$DN$2:$DN$8409,Sheet4!$C$2:$C$8409,Sheet3!$B12,Sheet4!$D$2:$D$8409,Sheet3!DH$3,Sheet4!$A$2:$A$8409,Sheet3!$B$1,Sheet4!$B$2:$B$8409,Sheet3!$A$3))","v":0},{"$f":"+IF(SUMIFS(Sheet4!$DN$2:$DN$8409,Sheet4!$C$2:$C$8409,Sheet3!$B12,Sheet4!$D$2:$D$8409,Sheet3!DI$3,Sheet4!$A$2:$A$8409,Sheet3!$B$1,Sheet4!$B$2:$B$8409,Sheet3!$A$3)<3,0,SUMIFS(Sheet4!$DN$2:$DN$8409,Sheet4!$C$2:$C$8409,Sheet3!$B12,Sheet4!$D$2:$D$8409,Sheet3!DI$3,Sheet4!$A$2:$A$8409,Sheet3!$B$1,Sheet4!$B$2:$B$8409,Sheet3!$A$3))","v":0},{"$f":"+IF(SUMIFS(Sheet4!$DN$2:$DN$8409,Sheet4!$C$2:$C$8409,Sheet3!$B12,Sheet4!$D$2:$D$8409,Sheet3!DJ$3,Sheet4!$A$2:$A$8409,Sheet3!$B$1,Sheet4!$B$2:$B$8409,Sheet3!$A$3)<3,0,SUMIFS(Sheet4!$DN$2:$DN$8409,Sheet4!$C$2:$C$8409,Sheet3!$B12,Sheet4!$D$2:$D$8409,Sheet3!DJ$3,Sheet4!$A$2:$A$8409,Sheet3!$B$1,Sheet4!$B$2:$B$8409,Sheet3!$A$3))","v":0},{"$f":"+IF(SUMIFS(Sheet4!$DN$2:$DN$8409,Sheet4!$C$2:$C$8409,Sheet3!$B12,Sheet4!$D$2:$D$8409,Sheet3!DK$3,Sheet4!$A$2:$A$8409,Sheet3!$B$1,Sheet4!$B$2:$B$8409,Sheet3!$A$3)<3,0,SUMIFS(Sheet4!$DN$2:$DN$8409,Sheet4!$C$2:$C$8409,Sheet3!$B12,Sheet4!$D$2:$D$8409,Sheet3!DK$3,Sheet4!$A$2:$A$8409,Sheet3!$B$1,Sheet4!$B$2:$B$8409,Sheet3!$A$3))","v":0},{"$f":"+IF(SUMIFS(Sheet4!$DN$2:$DN$8409,Sheet4!$C$2:$C$8409,Sheet3!$B12,Sheet4!$D$2:$D$8409,Sheet3!DL$3,Sheet4!$A$2:$A$8409,Sheet3!$B$1,Sheet4!$B$2:$B$8409,Sheet3!$A$3)<3,0,SUMIFS(Sheet4!$DN$2:$DN$8409,Sheet4!$C$2:$C$8409,Sheet3!$B12,Sheet4!$D$2:$D$8409,Sheet3!DL$3,Sheet4!$A$2:$A$8409,Sheet3!$B$1,Sheet4!$B$2:$B$8409,Sheet3!$A$3))","v":0},{"$f":"+IF(SUMIFS(Sheet4!$DN$2:$DN$8409,Sheet4!$C$2:$C$8409,Sheet3!$B12,Sheet4!$D$2:$D$8409,Sheet3!DM$3,Sheet4!$A$2:$A$8409,Sheet3!$B$1,Sheet4!$B$2:$B$8409,Sheet3!$A$3)<3,0,SUMIFS(Sheet4!$DN$2:$DN$8409,Sheet4!$C$2:$C$8409,Sheet3!$B12,Sheet4!$D$2:$D$8409,Sheet3!DM$3,Sheet4!$A$2:$A$8409,Sheet3!$B$1,Sheet4!$B$2:$B$8409,Sheet3!$A$3))","v":0},{"$f":"+IF(SUMIFS(Sheet4!$DN$2:$DN$8409,Sheet4!$C$2:$C$8409,Sheet3!$B12,Sheet4!$E$2:$E$8409,Sheet3!DN$4,Sheet4!$A$2:$A$8409,Sheet3!$B$1,Sheet4!$B$2:$B$8409,Sheet3!$A$3)<3,0,SUMIFS(Sheet4!$DN$2:$DN$8409,Sheet4!$C$2:$C$8409,Sheet3!$B12,Sheet4!$E$2:$E$8409,Sheet3!DN$4,Sheet4!$A$2:$A$8409,Sheet3!$B$1,Sheet4!$B$2:$B$8409,Sheet3!$A$3))","v":0},{"$f":"+IF(SUMIFS(Sheet4!$DN$2:$DN$8409,Sheet4!$C$2:$C$8409,Sheet3!$B12,Sheet4!$E$2:$E$8409,Sheet3!DO$4,Sheet4!$A$2:$A$8409,Sheet3!$B$1,Sheet4!$B$2:$B$8409,Sheet3!$A$3)<3,0,SUMIFS(Sheet4!$DN$2:$DN$8409,Sheet4!$C$2:$C$8409,Sheet3!$B12,Sheet4!$E$2:$E$8409,Sheet3!DO$4,Sheet4!$A$2:$A$8409,Sheet3!$B$1,Sheet4!$B$2:$B$8409,Sheet3!$A$3))","v":0},{"$f":"+IF(SUMIFS(Sheet4!$DN$2:$DN$8409,Sheet4!$C$2:$C$8409,Sheet3!$B12,Sheet4!$E$2:$E$8409,Sheet3!DP$4,Sheet4!$A$2:$A$8409,Sheet3!$B$1,Sheet4!$B$2:$B$8409,Sheet3!$A$3)<3,0,SUMIFS(Sheet4!$DN$2:$DN$8409,Sheet4!$C$2:$C$8409,Sheet3!$B12,Sheet4!$E$2:$E$8409,Sheet3!DP$4,Sheet4!$A$2:$A$8409,Sheet3!$B$1,Sheet4!$B$2:$B$8409,Sheet3!$A$3))","v":0},{"$f":"+IF(SUMIFS(Sheet4!$DN$2:$DN$8409,Sheet4!$C$2:$C$8409,Sheet3!$B12,Sheet4!$E$2:$E$8409,Sheet3!DQ$4,Sheet4!$A$2:$A$8409,Sheet3!$B$1,Sheet4!$B$2:$B$8409,Sheet3!$A$3)<3,0,SUMIFS(Sheet4!$DN$2:$DN$8409,Sheet4!$C$2:$C$8409,Sheet3!$B12,Sheet4!$E$2:$E$8409,Sheet3!DQ$4,Sheet4!$A$2:$A$8409,Sheet3!$B$1,Sheet4!$B$2:$B$8409,Sheet3!$A$3))","v":0},{"$f":"+IF(SUMIFS(Sheet4!$DN$2:$DN$8409,Sheet4!$C$2:$C$8409,Sheet3!$B12,Sheet4!$E$2:$E$8409,Sheet3!DR$4,Sheet4!$A$2:$A$8409,Sheet3!$B$1,Sheet4!$B$2:$B$8409,Sheet3!$A$3)<3,0,SUMIFS(Sheet4!$DN$2:$DN$8409,Sheet4!$C$2:$C$8409,Sheet3!$B12,Sheet4!$E$2:$E$8409,Sheet3!DR$4,Sheet4!$A$2:$A$8409,Sheet3!$B$1,Sheet4!$B$2:$B$8409,Sheet3!$A$3))","v":0}]
[1,"11C","Tâmega e Sousa",{"$f":"+SUMIFS(Sheet4!$DM$2:$DM$8409,Sheet4!$C$2:$C$8409,Sheet3!$B13,Sheet4!$D$2:$D$8409,Sheet3!D$3,Sheet4!$E$2:$E$8409,Sheet3!D$4,Sheet4!$A$2:$A$8409,Sheet3!$B$1,Sheet4!$B$2:$B$8409,Sheet3!$A$3)","v":0},{"$f":"+SUMIFS(Sheet4!$DM$2:$DM$8409,Sheet4!$C$2:$C$8409,Sheet3!$B13,Sheet4!$D$2:$D$8409,Sheet3!E$3,Sheet4!$E$2:$E$8409,Sheet3!E$4,Sheet4!$A$2:$A$8409,Sheet3!$B$1,Sheet4!$B$2:$B$8409,Sheet3!$A$3)","v":0},{"$f":"+SUMIFS(Sheet4!$DM$2:$DM$8409,Sheet4!$C$2:$C$8409,Sheet3!$B13,Sheet4!$D$2:$D$8409,Sheet3!F$3,Sheet4!$E$2:$E$8409,Sheet3!F$4,Sheet4!$A$2:$A$8409,Sheet3!$B$1,Sheet4!$B$2:$B$8409,Sheet3!$A$3)","v":0},{"$f":"+SUMIFS(Sheet4!$DM$2:$DM$8409,Sheet4!$C$2:$C$8409,Sheet3!$B13,Sheet4!$D$2:$D$8409,Sheet3!G$3,Sheet4!$E$2:$E$8409,Sheet3!G$4,Sheet4!$A$2:$A$8409,Sheet3!$B$1,Sheet4!$B$2:$B$8409,Sheet3!$A$3)","v":0},{"$f":"+SUMIFS(Sheet4!$DM$2:$DM$8409,Sheet4!$C$2:$C$8409,Sheet3!$B13,Sheet4!$D$2:$D$8409,Sheet3!H$3,Sheet4!$E$2:$E$8409,Sheet3!H$4,Sheet4!$A$2:$A$8409,Sheet3!$B$1,Sheet4!$B$2:$B$8409,Sheet3!$A$3)","v":0},{"$f":"+SUMIFS(Sheet4!$DM$2:$DM$8409,Sheet4!$C$2:$C$8409,Sheet3!$B13,Sheet4!$D$2:$D$8409,Sheet3!I$3,Sheet4!$E$2:$E$8409,Sheet3!I$4,Sheet4!$A$2:$A$8409,Sheet3!$B$1,Sheet4!$B$2:$B$8409,Sheet3!$A$3)","v":0},{"$f":"+SUMIFS(Sheet4!$DM$2:$DM$8409,Sheet4!$C$2:$C$8409,Sheet3!$B13,Sheet4!$D$2:$D$8409,Sheet3!J$3,Sheet4!$E$2:$E$8409,Sheet3!J$4,Sheet4!$A$2:$A$8409,Sheet3!$B$1,Sheet4!$B$2:$B$8409,Sheet3!$A$3)","v":0},{"$f":"+SUMIFS(Sheet4!$DM$2:$DM$8409,Sheet4!$C$2:$C$8409,Sheet3!$B13,Sheet4!$D$2:$D$8409,Sheet3!K$3,Sheet4!$E$2:$E$8409,Sheet3!K$4,Sheet4!$A$2:$A$8409,Sheet3!$B$1,Sheet4!$B$2:$B$8409,Sheet3!$A$3)","v":0},{"$f":"+SUMIFS(Sheet4!$DM$2:$DM$8409,Sheet4!$C$2:$C$8409,Sheet3!$B13,Sheet4!$D$2:$D$8409,Sheet3!L$3,Sheet4!$E$2:$E$8409,Sheet3!L$4,Sheet4!$A$2:$A$8409,Sheet3!$B$1,Sheet4!$B$2:$B$8409,Sheet3!$A$3)","v":0},{"$f":"+SUMIFS(Sheet4!$DM$2:$DM$8409,Sheet4!$C$2:$C$8409,Sheet3!$B13,Sheet4!$D$2:$D$8409,Sheet3!M$3,Sheet4!$E$2:$E$8409,Sheet3!M$4,Sheet4!$A$2:$A$8409,Sheet3!$B$1,Sheet4!$B$2:$B$8409,Sheet3!$A$3)","v":0},{"$f":"+SUMIFS(Sheet4!$DM$2:$DM$8409,Sheet4!$C$2:$C$8409,Sheet3!$B13,Sheet4!$D$2:$D$8409,Sheet3!N$3,Sheet4!$E$2:$E$8409,Sheet3!N$4,Sheet4!$A$2:$A$8409,Sheet3!$B$1,Sheet4!$B$2:$B$8409,Sheet3!$A$3)","v":0},{"$f":"+SUMIFS(Sheet4!$DM$2:$DM$8409,Sheet4!$C$2:$C$8409,Sheet3!$B13,Sheet4!$D$2:$D$8409,Sheet3!O$3,Sheet4!$E$2:$E$8409,Sheet3!O$4,Sheet4!$A$2:$A$8409,Sheet3!$B$1,Sheet4!$B$2:$B$8409,Sheet3!$A$3)","v":0},{"$f":"+SUMIFS(Sheet4!$DM$2:$DM$8409,Sheet4!$C$2:$C$8409,Sheet3!$B13,Sheet4!$D$2:$D$8409,Sheet3!P$3,Sheet4!$E$2:$E$8409,Sheet3!P$4,Sheet4!$A$2:$A$8409,Sheet3!$B$1,Sheet4!$B$2:$B$8409,Sheet3!$A$3)","v":0},{"$f":"+SUMIFS(Sheet4!$DM$2:$DM$8409,Sheet4!$C$2:$C$8409,Sheet3!$B13,Sheet4!$D$2:$D$8409,Sheet3!Q$3,Sheet4!$E$2:$E$8409,Sheet3!Q$4,Sheet4!$A$2:$A$8409,Sheet3!$B$1,Sheet4!$B$2:$B$8409,Sheet3!$A$3)","v":0},{"$f":"+SUMIFS(Sheet4!$DM$2:$DM$8409,Sheet4!$C$2:$C$8409,Sheet3!$B13,Sheet4!$D$2:$D$8409,Sheet3!R$3,Sheet4!$E$2:$E$8409,Sheet3!R$4,Sheet4!$A$2:$A$8409,Sheet3!$B$1,Sheet4!$B$2:$B$8409,Sheet3!$A$3)","v":0},{"$f":"+SUMIFS(Sheet4!$DM$2:$DM$8409,Sheet4!$C$2:$C$8409,Sheet3!$B13,Sheet4!$D$2:$D$8409,Sheet3!S$3,Sheet4!$E$2:$E$8409,Sheet3!S$4,Sheet4!$A$2:$A$8409,Sheet3!$B$1,Sheet4!$B$2:$B$8409,Sheet3!$A$3)","v":0},{"$f":"+SUMIFS(Sheet4!$DM$2:$DM$8409,Sheet4!$C$2:$C$8409,Sheet3!$B13,Sheet4!$D$2:$D$8409,Sheet3!T$3,Sheet4!$E$2:$E$8409,Sheet3!T$4,Sheet4!$A$2:$A$8409,Sheet3!$B$1,Sheet4!$B$2:$B$8409,Sheet3!$A$3)","v":0},{"$f":"+SUMIFS(Sheet4!$DM$2:$DM$8409,Sheet4!$C$2:$C$8409,Sheet3!$B13,Sheet4!$D$2:$D$8409,Sheet3!U$3,Sheet4!$E$2:$E$8409,Sheet3!U$4,Sheet4!$A$2:$A$8409,Sheet3!$B$1,Sheet4!$B$2:$B$8409,Sheet3!$A$3)","v":0},{"$f":"+SUMIFS(Sheet4!$DM$2:$DM$8409,Sheet4!$C$2:$C$8409,Sheet3!$B13,Sheet4!$D$2:$D$8409,Sheet3!V$3,Sheet4!$E$2:$E$8409,Sheet3!V$4,Sheet4!$A$2:$A$8409,Sheet3!$B$1,Sheet4!$B$2:$B$8409,Sheet3!$A$3)","v":0},{"$f":"+SUMIFS(Sheet4!$DM$2:$DM$8409,Sheet4!$C$2:$C$8409,Sheet3!$B13,Sheet4!$D$2:$D$8409,Sheet3!W$3,Sheet4!$E$2:$E$8409,Sheet3!W$4,Sheet4!$A$2:$A$8409,Sheet3!$B$1,Sheet4!$B$2:$B$8409,Sheet3!$A$3)","v":0},{"$f":"+SUMIFS(Sheet4!$DM$2:$DM$8409,Sheet4!$C$2:$C$8409,Sheet3!$B13,Sheet4!$D$2:$D$8409,Sheet3!X$3,Sheet4!$E$2:$E$8409,Sheet3!X$4,Sheet4!$A$2:$A$8409,Sheet3!$B$1,Sheet4!$B$2:$B$8409,Sheet3!$A$3)","v":0},{"$f":"+SUMIFS(Sheet4!$DM$2:$DM$8409,Sheet4!$C$2:$C$8409,Sheet3!$B13,Sheet4!$D$2:$D$8409,Sheet3!Y$3,Sheet4!$E$2:$E$8409,Sheet3!Y$4,Sheet4!$A$2:$A$8409,Sheet3!$B$1,Sheet4!$B$2:$B$8409,Sheet3!$A$3)","v":0},{"$f":"+SUMIFS(Sheet4!$DM$2:$DM$8409,Sheet4!$C$2:$C$8409,Sheet3!$B13,Sheet4!$D$2:$D$8409,Sheet3!Z$3,Sheet4!$E$2:$E$8409,Sheet3!Z$4,Sheet4!$A$2:$A$8409,Sheet3!$B$1,Sheet4!$B$2:$B$8409,Sheet3!$A$3)","v":0},{"$f":"+SUMIFS(Sheet4!$DM$2:$DM$8409,Sheet4!$C$2:$C$8409,Sheet3!$B13,Sheet4!$D$2:$D$8409,Sheet3!AA$3,Sheet4!$E$2:$E$8409,Sheet3!AA$4,Sheet4!$A$2:$A$8409,Sheet3!$B$1,Sheet4!$B$2:$B$8409,Sheet3!$A$3)","v":0},{"$f":"+SUMIFS(Sheet4!$DM$2:$DM$8409,Sheet4!$C$2:$C$8409,Sheet3!$B13,Sheet4!$D$2:$D$8409,Sheet3!AB$3,Sheet4!$E$2:$E$8409,Sheet3!AB$4,Sheet4!$A$2:$A$8409,Sheet3!$B$1,Sheet4!$B$2:$B$8409,Sheet3!$A$3)","v":0},{"$f":"+SUMIFS(Sheet4!$DM$2:$DM$8409,Sheet4!$C$2:$C$8409,Sheet3!$B13,Sheet4!$D$2:$D$8409,Sheet3!AC$3,Sheet4!$E$2:$E$8409,Sheet3!AC$4,Sheet4!$A$2:$A$8409,Sheet3!$B$1,Sheet4!$B$2:$B$8409,Sheet3!$A$3)","v":0},{"$f":"+SUMIFS(Sheet4!$DM$2:$DM$8409,Sheet4!$C$2:$C$8409,Sheet3!$B13,Sheet4!$D$2:$D$8409,Sheet3!AD$3,Sheet4!$E$2:$E$8409,Sheet3!AD$4,Sheet4!$A$2:$A$8409,Sheet3!$B$1,Sheet4!$B$2:$B$8409,Sheet3!$A$3)","v":0},{"$f":"+SUMIFS(Sheet4!$DM$2:$DM$8409,Sheet4!$C$2:$C$8409,Sheet3!$B13,Sheet4!$D$2:$D$8409,Sheet3!AE$3,Sheet4!$E$2:$E$8409,Sheet3!AE$4,Sheet4!$A$2:$A$8409,Sheet3!$B$1,Sheet4!$B$2:$B$8409,Sheet3!$A$3)","v":0},{"$f":"+SUMIFS(Sheet4!$DM$2:$DM$8409,Sheet4!$C$2:$C$8409,Sheet3!$B13,Sheet4!$D$2:$D$8409,Sheet3!AF$3,Sheet4!$E$2:$E$8409,Sheet3!AF$4,Sheet4!$A$2:$A$8409,Sheet3!$B$1,Sheet4!$B$2:$B$8409,Sheet3!$A$3)","v":0},{"$f":"+SUMIFS(Sheet4!$DM$2:$DM$8409,Sheet4!$C$2:$C$8409,Sheet3!$B13,Sheet4!$D$2:$D$8409,Sheet3!AG$3,Sheet4!$E$2:$E$8409,Sheet3!AG$4,Sheet4!$A$2:$A$8409,Sheet3!$B$1,Sheet4!$B$2:$B$8409,Sheet3!$A$3)","v":0},{"$f":"+SUMIFS(Sheet4!$DM$2:$DM$8409,Sheet4!$C$2:$C$8409,Sheet3!$B13,Sheet4!$D$2:$D$8409,Sheet3!AH$3,Sheet4!$E$2:$E$8409,Sheet3!AH$4,Sheet4!$A$2:$A$8409,Sheet3!$B$1,Sheet4!$B$2:$B$8409,Sheet3!$A$3)","v":0},{"$f":"+SUMIFS(Sheet4!$DM$2:$DM$8409,Sheet4!$C$2:$C$8409,Sheet3!$B13,Sheet4!$D$2:$D$8409,Sheet3!AI$3,Sheet4!$E$2:$E$8409,Sheet3!AI$4,Sheet4!$A$2:$A$8409,Sheet3!$B$1,Sheet4!$B$2:$B$8409,Sheet3!$A$3)","v":0},{"$f":"+SUMIFS(Sheet4!$DM$2:$DM$8409,Sheet4!$C$2:$C$8409,Sheet3!$B13,Sheet4!$D$2:$D$8409,Sheet3!AJ$3,Sheet4!$E$2:$E$8409,Sheet3!AJ$4,Sheet4!$A$2:$A$8409,Sheet3!$B$1,Sheet4!$B$2:$B$8409,Sheet3!$A$3)","v":0},{"$f":"+SUMIFS(Sheet4!$DM$2:$DM$8409,Sheet4!$C$2:$C$8409,Sheet3!$B13,Sheet4!$D$2:$D$8409,Sheet3!AK$3,Sheet4!$E$2:$E$8409,Sheet3!AK$4,Sheet4!$A$2:$A$8409,Sheet3!$B$1,Sheet4!$B$2:$B$8409,Sheet3!$A$3)","v":0},{"$f":"+SUMIFS(Sheet4!$DM$2:$DM$8409,Sheet4!$C$2:$C$8409,Sheet3!$B13,Sheet4!$D$2:$D$8409,Sheet3!AL$3,Sheet4!$E$2:$E$8409,Sheet3!AL$4,Sheet4!$A$2:$A$8409,Sheet3!$B$1,Sheet4!$B$2:$B$8409,Sheet3!$A$3)","v":0},{"$f":"+SUMIFS(Sheet4!$DM$2:$DM$8409,Sheet4!$C$2:$C$8409,Sheet3!$B13,Sheet4!$D$2:$D$8409,Sheet3!AM$3,Sheet4!$E$2:$E$8409,Sheet3!AM$4,Sheet4!$A$2:$A$8409,Sheet3!$B$1,Sheet4!$B$2:$B$8409,Sheet3!$A$3)","v":0},{"$f":"+SUMIFS(Sheet4!$DM$2:$DM$8409,Sheet4!$C$2:$C$8409,Sheet3!$B13,Sheet4!$D$2:$D$8409,Sheet3!AN$3,Sheet4!$E$2:$E$8409,Sheet3!AN$4,Sheet4!$A$2:$A$8409,Sheet3!$B$1,Sheet4!$B$2:$B$8409,Sheet3!$A$3)","v":0},{"$f":"+SUMIFS(Sheet4!$DM$2:$DM$8409,Sheet4!$C$2:$C$8409,Sheet3!$B13,Sheet4!$D$2:$D$8409,Sheet3!AO$3,Sheet4!$E$2:$E$8409,Sheet3!AO$4,Sheet4!$A$2:$A$8409,Sheet3!$B$1,Sheet4!$B$2:$B$8409,Sheet3!$A$3)","v":0},{"$f":"+SUMIFS(Sheet4!$DM$2:$DM$8409,Sheet4!$C$2:$C$8409,Sheet3!$B13,Sheet4!$D$2:$D$8409,Sheet3!AP$3,Sheet4!$E$2:$E$8409,Sheet3!AP$4,Sheet4!$A$2:$A$8409,Sheet3!$B$1,Sheet4!$B$2:$B$8409,Sheet3!$A$3)","v":0},{"$f":"+SUMIFS(Sheet4!$DM$2:$DM$8409,Sheet4!$C$2:$C$8409,Sheet3!$B13,Sheet4!$D$2:$D$8409,Sheet3!AQ$3,Sheet4!$E$2:$E$8409,Sheet3!AQ$4,Sheet4!$A$2:$A$8409,Sheet3!$B$1,Sheet4!$B$2:$B$8409,Sheet3!$A$3)","v":0},{"$f":"+SUMIFS(Sheet4!$DM$2:$DM$8409,Sheet4!$C$2:$C$8409,Sheet3!$B13,Sheet4!$D$2:$D$8409,Sheet3!AR$3,Sheet4!$E$2:$E$8409,Sheet3!AR$4,Sheet4!$A$2:$A$8409,Sheet3!$B$1,Sheet4!$B$2:$B$8409,Sheet3!$A$3)","v":0},{"$f":"+SUMIFS(Sheet4!$DM$2:$DM$8409,Sheet4!$C$2:$C$8409,Sheet3!$B13,Sheet4!$D$2:$D$8409,Sheet3!AS$3,Sheet4!$E$2:$E$8409,Sheet3!AS$4,Sheet4!$A$2:$A$8409,Sheet3!$B$1,Sheet4!$B$2:$B$8409,Sheet3!$A$3)","v":0},{"$f":"+SUMIFS(Sheet4!$DM$2:$DM$8409,Sheet4!$C$2:$C$8409,Sheet3!$B13,Sheet4!$D$2:$D$8409,Sheet3!AT$3,Sheet4!$E$2:$E$8409,Sheet3!AT$4,Sheet4!$A$2:$A$8409,Sheet3!$B$1,Sheet4!$B$2:$B$8409,Sheet3!$A$3)","v":0},{"$f":"+SUMIFS(Sheet4!$DM$2:$DM$8409,Sheet4!$C$2:$C$8409,Sheet3!$B13,Sheet4!$D$2:$D$8409,Sheet3!AU$3,Sheet4!$E$2:$E$8409,Sheet3!AU$4,Sheet4!$A$2:$A$8409,Sheet3!$B$1,Sheet4!$B$2:$B$8409,Sheet3!$A$3)","v":0},{"$f":"+SUMIFS(Sheet4!$DM$2:$DM$8409,Sheet4!$C$2:$C$8409,Sheet3!$B13,Sheet4!$D$2:$D$8409,Sheet3!AV$3,Sheet4!$E$2:$E$8409,Sheet3!AV$4,Sheet4!$A$2:$A$8409,Sheet3!$B$1,Sheet4!$B$2:$B$8409,Sheet3!$A$3)","v":0},{"$f":"+SUMIFS(Sheet4!$DM$2:$DM$8409,Sheet4!$C$2:$C$8409,Sheet3!$B13,Sheet4!$D$2:$D$8409,Sheet3!AW$3,Sheet4!$E$2:$E$8409,Sheet3!AW$4,Sheet4!$A$2:$A$8409,Sheet3!$B$1,Sheet4!$B$2:$B$8409,Sheet3!$A$3)","v":0},{"$f":"+SUMIFS(Sheet4!$DM$2:$DM$8409,Sheet4!$C$2:$C$8409,Sheet3!$B13,Sheet4!$D$2:$D$8409,Sheet3!AX$3,Sheet4!$E$2:$E$8409,Sheet3!AX$4,Sheet4!$A$2:$A$8409,Sheet3!$B$1,Sheet4!$B$2:$B$8409,Sheet3!$A$3)","v":0},{"$f":"+SUMIFS(Sheet4!$DM$2:$DM$8409,Sheet4!$C$2:$C$8409,Sheet3!$B13,Sheet4!$D$2:$D$8409,Sheet3!AY$3,Sheet4!$E$2:$E$8409,Sheet3!AY$4,Sheet4!$A$2:$A$8409,Sheet3!$B$1,Sheet4!$B$2:$B$8409,Sheet3!$A$3)","v":0},{"$f":"+SUMIFS(Sheet4!$DM$2:$DM$8409,Sheet4!$C$2:$C$8409,Sheet3!$B13,Sheet4!$D$2:$D$8409,Sheet3!AZ$3,Sheet4!$E$2:$E$8409,Sheet3!AZ$4,Sheet4!$A$2:$A$8409,Sheet3!$B$1,Sheet4!$B$2:$B$8409,Sheet3!$A$3)","v":0},{"$f":"+SUMIFS(Sheet4!$DM$2:$DM$8409,Sheet4!$C$2:$C$8409,Sheet3!$B13,Sheet4!$D$2:$D$8409,Sheet3!BA$3,Sheet4!$E$2:$E$8409,Sheet3!BA$4,Sheet4!$A$2:$A$8409,Sheet3!$B$1,Sheet4!$B$2:$B$8409,Sheet3!$A$3)","v":0},{"$f":"+SUMIFS(Sheet4!$DM$2:$DM$8409,Sheet4!$C$2:$C$8409,Sheet3!$B13,Sheet4!$D$2:$D$8409,Sheet3!BB$3,Sheet4!$E$2:$E$8409,Sheet3!BB$4,Sheet4!$A$2:$A$8409,Sheet3!$B$1,Sheet4!$B$2:$B$8409,Sheet3!$A$3)","v":0},{"$f":"+SUMIFS(Sheet4!$DM$2:$DM$8409,Sheet4!$C$2:$C$8409,Sheet3!$B13,Sheet4!$D$2:$D$8409,Sheet3!BC$3,Sheet4!$E$2:$E$8409,Sheet3!BC$4,Sheet4!$A$2:$A$8409,Sheet3!$B$1,Sheet4!$B$2:$B$8409,Sheet3!$A$3)","v":0},{"$f":"+SUMIFS(Sheet4!$DM$2:$DM$8409,Sheet4!$C$2:$C$8409,Sheet3!$B13,Sheet4!$D$2:$D$8409,Sheet3!BD$3,Sheet4!$E$2:$E$8409,Sheet3!BD$4,Sheet4!$A$2:$A$8409,Sheet3!$B$1,Sheet4!$B$2:$B$8409,Sheet3!$A$3)","v":0},{"$f":"+SUMIFS(Sheet4!$DM$2:$DM$8409,Sheet4!$C$2:$C$8409,Sheet3!$B13,Sheet4!$D$2:$D$8409,Sheet3!BE$3,Sheet4!$E$2:$E$8409,Sheet3!BE$4,Sheet4!$A$2:$A$8409,Sheet3!$B$1,Sheet4!$B$2:$B$8409,Sheet3!$A$3)","v":0},{"$f":"+SUMIFS(Sheet4!$DM$2:$DM$8409,Sheet4!$C$2:$C$8409,Sheet3!$B13,Sheet4!$D$2:$D$8409,Sheet3!BF$3,Sheet4!$E$2:$E$8409,Sheet3!BF$4,Sheet4!$A$2:$A$8409,Sheet3!$B$1,Sheet4!$B$2:$B$8409,Sheet3!$A$3)","v":0},{"$f":"+SUMIFS(Sheet4!$DM$2:$DM$8409,Sheet4!$C$2:$C$8409,Sheet3!$B13,Sheet4!$D$2:$D$8409,Sheet3!BG$3,Sheet4!$E$2:$E$8409,Sheet3!BG$4,Sheet4!$A$2:$A$8409,Sheet3!$B$1,Sheet4!$B$2:$B$8409,Sheet3!$A$3)","v":0},{"$f":"+SUMIFS(Sheet4!$DM$2:$DM$8409,Sheet4!$C$2:$C$8409,Sheet3!$B13,Sheet4!$D$2:$D$8409,Sheet3!BH$3,Sheet4!$E$2:$E$8409,Sheet3!BH$4,Sheet4!$A$2:$A$8409,Sheet3!$B$1,Sheet4!$B$2:$B$8409,Sheet3!$A$3)","v":0},{"$f":"+SUMIFS(Sheet4!$DM$2:$DM$8409,Sheet4!$C$2:$C$8409,Sheet3!$B13,Sheet4!$D$2:$D$8409,Sheet3!BI$3,Sheet4!$E$2:$E$8409,Sheet3!BI$4,Sheet4!$A$2:$A$8409,Sheet3!$B$1,Sheet4!$B$2:$B$8409,Sheet3!$A$3)","v":0},{"$f":"+SUMIFS(Sheet4!$DM$2:$DM$8409,Sheet4!$C$2:$C$8409,Sheet3!$B13,Sheet4!$D$2:$D$8409,Sheet3!BJ$3,Sheet4!$E$2:$E$8409,Sheet3!BJ$4,Sheet4!$A$2:$A$8409,Sheet3!$B$1,Sheet4!$B$2:$B$8409,Sheet3!$A$3)","v":0},{"$f":"+SUMIFS(Sheet4!$DM$2:$DM$8409,Sheet4!$C$2:$C$8409,Sheet3!$B13,Sheet4!$D$2:$D$8409,Sheet3!BK$3,Sheet4!$E$2:$E$8409,Sheet3!BK$4,Sheet4!$A$2:$A$8409,Sheet3!$B$1,Sheet4!$B$2:$B$8409,Sheet3!$A$3)","v":0},{"$f":"+SUMIFS(Sheet4!$DM$2:$DM$8409,Sheet4!$C$2:$C$8409,Sheet3!$B13,Sheet4!$D$2:$D$8409,Sheet3!BL$3,Sheet4!$E$2:$E$8409,Sheet3!BL$4,Sheet4!$A$2:$A$8409,Sheet3!$B$1,Sheet4!$B$2:$B$8409,Sheet3!$A$3)","v":0},{"$f":"+SUMIFS(Sheet4!$DM$2:$DM$8409,Sheet4!$C$2:$C$8409,Sheet3!$B13,Sheet4!$D$2:$D$8409,Sheet3!BM$3,Sheet4!$E$2:$E$8409,Sheet3!BM$4,Sheet4!$A$2:$A$8409,Sheet3!$B$1,Sheet4!$B$2:$B$8409,Sheet3!$A$3)","v":0},{"$f":"+SUMIFS(Sheet4!$DM$2:$DM$8409,Sheet4!$C$2:$C$8409,Sheet3!$B13,Sheet4!$D$2:$D$8409,Sheet3!BN$3,Sheet4!$E$2:$E$8409,Sheet3!BN$4,Sheet4!$A$2:$A$8409,Sheet3!$B$1,Sheet4!$B$2:$B$8409,Sheet3!$A$3)","v":0},{"$f":"+SUMIFS(Sheet4!$DM$2:$DM$8409,Sheet4!$C$2:$C$8409,Sheet3!$B13,Sheet4!$D$2:$D$8409,Sheet3!BO$3,Sheet4!$E$2:$E$8409,Sheet3!BO$4,Sheet4!$A$2:$A$8409,Sheet3!$B$1,Sheet4!$B$2:$B$8409,Sheet3!$A$3)","v":0},{"$f":"+SUMIFS(Sheet4!$DM$2:$DM$8409,Sheet4!$C$2:$C$8409,Sheet3!$B13,Sheet4!$D$2:$D$8409,Sheet3!BP$3,Sheet4!$E$2:$E$8409,Sheet3!BP$4,Sheet4!$A$2:$A$8409,Sheet3!$B$1,Sheet4!$B$2:$B$8409,Sheet3!$A$3)","v":0},{"$f":"+SUMIFS(Sheet4!$DM$2:$DM$8409,Sheet4!$C$2:$C$8409,Sheet3!$B13,Sheet4!$D$2:$D$8409,Sheet3!BQ$3,Sheet4!$E$2:$E$8409,Sheet3!BQ$4,Sheet4!$A$2:$A$8409,Sheet3!$B$1,Sheet4!$B$2:$B$8409,Sheet3!$A$3)","v":0},{"$f":"+SUMIFS(Sheet4!$DM$2:$DM$8409,Sheet4!$C$2:$C$8409,Sheet3!$B13,Sheet4!$D$2:$D$8409,Sheet3!BR$3,Sheet4!$E$2:$E$8409,Sheet3!BR$4,Sheet4!$A$2:$A$8409,Sheet3!$B$1,Sheet4!$B$2:$B$8409,Sheet3!$A$3)","v":0},{"$f":"+SUMIFS(Sheet4!$DM$2:$DM$8409,Sheet4!$C$2:$C$8409,Sheet3!$B13,Sheet4!$D$2:$D$8409,Sheet3!BS$3,Sheet4!$E$2:$E$8409,Sheet3!BS$4,Sheet4!$A$2:$A$8409,Sheet3!$B$1,Sheet4!$B$2:$B$8409,Sheet3!$A$3)","v":0},{"$f":"+SUMIFS(Sheet4!$DM$2:$DM$8409,Sheet4!$C$2:$C$8409,Sheet3!$B13,Sheet4!$D$2:$D$8409,Sheet3!BT$3,Sheet4!$E$2:$E$8409,Sheet3!BT$4,Sheet4!$A$2:$A$8409,Sheet3!$B$1,Sheet4!$B$2:$B$8409,Sheet3!$A$3)","v":0},{"$f":"+SUMIFS(Sheet4!$DM$2:$DM$8409,Sheet4!$C$2:$C$8409,Sheet3!$B13,Sheet4!$D$2:$D$8409,Sheet3!BU$3,Sheet4!$E$2:$E$8409,Sheet3!BU$4,Sheet4!$A$2:$A$8409,Sheet3!$B$1,Sheet4!$B$2:$B$8409,Sheet3!$A$3)","v":0},{"$f":"+SUMIFS(Sheet4!$DM$2:$DM$8409,Sheet4!$C$2:$C$8409,Sheet3!$B13,Sheet4!$D$2:$D$8409,Sheet3!BV$3,Sheet4!$E$2:$E$8409,Sheet3!BV$4,Sheet4!$A$2:$A$8409,Sheet3!$B$1,Sheet4!$B$2:$B$8409,Sheet3!$A$3)","v":0},{"$f":"+SUMIFS(Sheet4!$DM$2:$DM$8409,Sheet4!$C$2:$C$8409,Sheet3!$B13,Sheet4!$D$2:$D$8409,Sheet3!BW$3,Sheet4!$E$2:$E$8409,Sheet3!BW$4,Sheet4!$A$2:$A$8409,Sheet3!$B$1,Sheet4!$B$2:$B$8409,Sheet3!$A$3)","v":0},{"$f":"+SUMIFS(Sheet4!$DM$2:$DM$8409,Sheet4!$C$2:$C$8409,Sheet3!$B13,Sheet4!$D$2:$D$8409,Sheet3!BX$3,Sheet4!$E$2:$E$8409,Sheet3!BX$4,Sheet4!$A$2:$A$8409,Sheet3!$B$1,Sheet4!$B$2:$B$8409,Sheet3!$A$3)","v":0},{"$f":"+SUMIFS(Sheet4!$DM$2:$DM$8409,Sheet4!$C$2:$C$8409,Sheet3!$B13,Sheet4!$D$2:$D$8409,Sheet3!BY$3,Sheet4!$E$2:$E$8409,Sheet3!BY$4,Sheet4!$A$2:$A$8409,Sheet3!$B$1,Sheet4!$B$2:$B$8409,Sheet3!$A$3)","v":0},{"$f":"+SUMIFS(Sheet4!$DM$2:$DM$8409,Sheet4!$C$2:$C$8409,Sheet3!$B13,Sheet4!$D$2:$D$8409,Sheet3!BZ$3,Sheet4!$E$2:$E$8409,Sheet3!BZ$4,Sheet4!$A$2:$A$8409,Sheet3!$B$1,Sheet4!$B$2:$B$8409,Sheet3!$A$3)","v":0},{"$f":"+SUMIFS(Sheet4!$DM$2:$DM$8409,Sheet4!$C$2:$C$8409,Sheet3!$B13,Sheet4!$D$2:$D$8409,Sheet3!CA$3,Sheet4!$E$2:$E$8409,Sheet3!CA$4,Sheet4!$A$2:$A$8409,Sheet3!$B$1,Sheet4!$B$2:$B$8409,Sheet3!$A$3)","v":0},{"$f":"+SUMIFS(Sheet4!$DM$2:$DM$8409,Sheet4!$C$2:$C$8409,Sheet3!$B13,Sheet4!$D$2:$D$8409,Sheet3!CB$3,Sheet4!$E$2:$E$8409,Sheet3!CB$4,Sheet4!$A$2:$A$8409,Sheet3!$B$1,Sheet4!$B$2:$B$8409,Sheet3!$A$3)","v":0},{"$f":"+SUMIFS(Sheet4!$DM$2:$DM$8409,Sheet4!$C$2:$C$8409,Sheet3!$B13,Sheet4!$D$2:$D$8409,Sheet3!CC$3,Sheet4!$E$2:$E$8409,Sheet3!CC$4,Sheet4!$A$2:$A$8409,Sheet3!$B$1,Sheet4!$B$2:$B$8409,Sheet3!$A$3)","v":0},{"$f":"+SUMIFS(Sheet4!$DM$2:$DM$8409,Sheet4!$C$2:$C$8409,Sheet3!$B13,Sheet4!$D$2:$D$8409,Sheet3!CD$3,Sheet4!$E$2:$E$8409,Sheet3!CD$4,Sheet4!$A$2:$A$8409,Sheet3!$B$1,Sheet4!$B$2:$B$8409,Sheet3!$A$3)","v":0},{"$f":"+SUMIFS(Sheet4!$DM$2:$DM$8409,Sheet4!$C$2:$C$8409,Sheet3!$B13,Sheet4!$D$2:$D$8409,Sheet3!CE$3,Sheet4!$E$2:$E$8409,Sheet3!CE$4,Sheet4!$A$2:$A$8409,Sheet3!$B$1,Sheet4!$B$2:$B$8409,Sheet3!$A$3)","v":0},{"$f":"+SUMIFS(Sheet4!$DM$2:$DM$8409,Sheet4!$C$2:$C$8409,Sheet3!$B13,Sheet4!$D$2:$D$8409,Sheet3!CF$3,Sheet4!$E$2:$E$8409,Sheet3!CF$4,Sheet4!$A$2:$A$8409,Sheet3!$B$1,Sheet4!$B$2:$B$8409,Sheet3!$A$3)","v":0},{"$f":"+SUMIFS(Sheet4!$DM$2:$DM$8409,Sheet4!$C$2:$C$8409,Sheet3!$B13,Sheet4!$D$2:$D$8409,Sheet3!CG$3,Sheet4!$E$2:$E$8409,Sheet3!CG$4,Sheet4!$A$2:$A$8409,Sheet3!$B$1,Sheet4!$B$2:$B$8409,Sheet3!$A$3)","v":0},{"$f":"+SUMIFS(Sheet4!$DM$2:$DM$8409,Sheet4!$C$2:$C$8409,Sheet3!$B13,Sheet4!$D$2:$D$8409,Sheet3!CH$3,Sheet4!$E$2:$E$8409,Sheet3!CH$4,Sheet4!$A$2:$A$8409,Sheet3!$B$1,Sheet4!$B$2:$B$8409,Sheet3!$A$3)","v":0},{"$f":"+SUMIFS(Sheet4!$DM$2:$DM$8409,Sheet4!$C$2:$C$8409,Sheet3!$B13,Sheet4!$D$2:$D$8409,Sheet3!CI$3,Sheet4!$E$2:$E$8409,Sheet3!CI$4,Sheet4!$A$2:$A$8409,Sheet3!$B$1,Sheet4!$B$2:$B$8409,Sheet3!$A$3)","v":0},{"$f":"+SUMIFS(Sheet4!$DM$2:$DM$8409,Sheet4!$C$2:$C$8409,Sheet3!$B13,Sheet4!$D$2:$D$8409,Sheet3!CJ$3,Sheet4!$E$2:$E$8409,Sheet3!CJ$4,Sheet4!$A$2:$A$8409,Sheet3!$B$1,Sheet4!$B$2:$B$8409,Sheet3!$A$3)","v":0},{"$f":"+SUMIFS(Sheet4!$DM$2:$DM$8409,Sheet4!$C$2:$C$8409,Sheet3!$B13,Sheet4!$D$2:$D$8409,Sheet3!CK$3,Sheet4!$E$2:$E$8409,Sheet3!CK$4,Sheet4!$A$2:$A$8409,Sheet3!$B$1,Sheet4!$B$2:$B$8409,Sheet3!$A$3)","v":0},{"$f":"+SUMIFS(Sheet4!$DM$2:$DM$8409,Sheet4!$C$2:$C$8409,Sheet3!$B13,Sheet4!$D$2:$D$8409,Sheet3!CL$3,Sheet4!$E$2:$E$8409,Sheet3!CL$4,Sheet4!$A$2:$A$8409,Sheet3!$B$1,Sheet4!$B$2:$B$8409,Sheet3!$A$3)","v":0},{"$f":"+SUMIFS(Sheet4!$DM$2:$DM$8409,Sheet4!$C$2:$C$8409,Sheet3!$B13,Sheet4!$D$2:$D$8409,Sheet3!CM$3,Sheet4!$E$2:$E$8409,Sheet3!CM$4,Sheet4!$A$2:$A$8409,Sheet3!$B$1,Sheet4!$B$2:$B$8409,Sheet3!$A$3)","v":0},{"$f":"+SUMIFS(Sheet4!$DM$2:$DM$8409,Sheet4!$C$2:$C$8409,Sheet3!$B13,Sheet4!$D$2:$D$8409,Sheet3!CN$3,Sheet4!$E$2:$E$8409,Sheet3!CN$4,Sheet4!$A$2:$A$8409,Sheet3!$B$1,Sheet4!$B$2:$B$8409,Sheet3!$A$3)","v":0},{"$f":"+SUMIFS(Sheet4!$DM$2:$DM$8409,Sheet4!$C$2:$C$8409,Sheet3!$B13,Sheet4!$D$2:$D$8409,Sheet3!CO$3,Sheet4!$E$2:$E$8409,Sheet3!CO$4,Sheet4!$A$2:$A$8409,Sheet3!$B$1,Sheet4!$B$2:$B$8409,Sheet3!$A$3)","v":0},{"$f":"+SUMIFS(Sheet4!$DM$2:$DM$8409,Sheet4!$C$2:$C$8409,Sheet3!$B13,Sheet4!$D$2:$D$8409,Sheet3!CP$3,Sheet4!$E$2:$E$8409,Sheet3!CP$4,Sheet4!$A$2:$A$8409,Sheet3!$B$1,Sheet4!$B$2:$B$8409,Sheet3!$A$3)","v":0},{"$f":"+SUMIFS(Sheet4!$DM$2:$DM$8409,Sheet4!$C$2:$C$8409,Sheet3!$B13,Sheet4!$D$2:$D$8409,Sheet3!CQ$3,Sheet4!$E$2:$E$8409,Sheet3!CQ$4,Sheet4!$A$2:$A$8409,Sheet3!$B$1,Sheet4!$B$2:$B$8409,Sheet3!$A$3)","v":0},{"$f":"+SUMIFS(Sheet4!$DM$2:$DM$8409,Sheet4!$C$2:$C$8409,Sheet3!$B13,Sheet4!$D$2:$D$8409,Sheet3!CR$3,Sheet4!$E$2:$E$8409,Sheet3!CR$4,Sheet4!$A$2:$A$8409,Sheet3!$B$1,Sheet4!$B$2:$B$8409,Sheet3!$A$3)","v":0},{"$f":"+SUMIFS(Sheet4!$DM$2:$DM$8409,Sheet4!$C$2:$C$8409,Sheet3!$B13,Sheet4!$D$2:$D$8409,Sheet3!CS$3,Sheet4!$E$2:$E$8409,Sheet3!CS$4,Sheet4!$A$2:$A$8409,Sheet3!$B$1,Sheet4!$B$2:$B$8409,Sheet3!$A$3)","v":0},{"$f":"+SUMIFS(Sheet4!$DM$2:$DM$8409,Sheet4!$C$2:$C$8409,Sheet3!$B13,Sheet4!$D$2:$D$8409,Sheet3!CT$3,Sheet4!$E$2:$E$8409,Sheet3!CT$4,Sheet4!$A$2:$A$8409,Sheet3!$B$1,Sheet4!$B$2:$B$8409,Sheet3!$A$3)","v":0},{"$f":"+IF(SUMIFS(Sheet4!$DN$2:$DN$8409,Sheet4!$C$2:$C$8409,Sheet3!$B13,Sheet4!$D$2:$D$8409,Sheet3!CU$3,Sheet4!$A$2:$A$8409,Sheet3!$B$1,Sheet4!$B$2:$B$8409,Sheet3!$A$3)<3,0,SUMIFS(Sheet4!$DN$2:$DN$8409,Sheet4!$C$2:$C$8409,Sheet3!$B13,Sheet4!$D$2:$D$8409,Sheet3!CU$3,Sheet4!$A$2:$A$8409,Sheet3!$B$1,Sheet4!$B$2:$B$8409,Sheet3!$A$3))","v":0},{"$f":"+IF(SUMIFS(Sheet4!$DN$2:$DN$8409,Sheet4!$C$2:$C$8409,Sheet3!$B13,Sheet4!$D$2:$D$8409,Sheet3!CV$3,Sheet4!$A$2:$A$8409,Sheet3!$B$1,Sheet4!$B$2:$B$8409,Sheet3!$A$3)<3,0,SUMIFS(Sheet4!$DN$2:$DN$8409,Sheet4!$C$2:$C$8409,Sheet3!$B13,Sheet4!$D$2:$D$8409,Sheet3!CV$3,Sheet4!$A$2:$A$8409,Sheet3!$B$1,Sheet4!$B$2:$B$8409,Sheet3!$A$3))","v":0},{"$f":"+IF(SUMIFS(Sheet4!$DN$2:$DN$8409,Sheet4!$C$2:$C$8409,Sheet3!$B13,Sheet4!$D$2:$D$8409,Sheet3!CW$3,Sheet4!$A$2:$A$8409,Sheet3!$B$1,Sheet4!$B$2:$B$8409,Sheet3!$A$3)<3,0,SUMIFS(Sheet4!$DN$2:$DN$8409,Sheet4!$C$2:$C$8409,Sheet3!$B13,Sheet4!$D$2:$D$8409,Sheet3!CW$3,Sheet4!$A$2:$A$8409,Sheet3!$B$1,Sheet4!$B$2:$B$8409,Sheet3!$A$3))","v":0},{"$f":"+IF(SUMIFS(Sheet4!$DN$2:$DN$8409,Sheet4!$C$2:$C$8409,Sheet3!$B13,Sheet4!$D$2:$D$8409,Sheet3!CX$3,Sheet4!$A$2:$A$8409,Sheet3!$B$1,Sheet4!$B$2:$B$8409,Sheet3!$A$3)<3,0,SUMIFS(Sheet4!$DN$2:$DN$8409,Sheet4!$C$2:$C$8409,Sheet3!$B13,Sheet4!$D$2:$D$8409,Sheet3!CX$3,Sheet4!$A$2:$A$8409,Sheet3!$B$1,Sheet4!$B$2:$B$8409,Sheet3!$A$3))","v":0},{"$f":"+IF(SUMIFS(Sheet4!$DN$2:$DN$8409,Sheet4!$C$2:$C$8409,Sheet3!$B13,Sheet4!$D$2:$D$8409,Sheet3!CY$3,Sheet4!$A$2:$A$8409,Sheet3!$B$1,Sheet4!$B$2:$B$8409,Sheet3!$A$3)<3,0,SUMIFS(Sheet4!$DN$2:$DN$8409,Sheet4!$C$2:$C$8409,Sheet3!$B13,Sheet4!$D$2:$D$8409,Sheet3!CY$3,Sheet4!$A$2:$A$8409,Sheet3!$B$1,Sheet4!$B$2:$B$8409,Sheet3!$A$3))","v":0},{"$f":"+IF(SUMIFS(Sheet4!$DN$2:$DN$8409,Sheet4!$C$2:$C$8409,Sheet3!$B13,Sheet4!$D$2:$D$8409,Sheet3!CZ$3,Sheet4!$A$2:$A$8409,Sheet3!$B$1,Sheet4!$B$2:$B$8409,Sheet3!$A$3)<3,0,SUMIFS(Sheet4!$DN$2:$DN$8409,Sheet4!$C$2:$C$8409,Sheet3!$B13,Sheet4!$D$2:$D$8409,Sheet3!CZ$3,Sheet4!$A$2:$A$8409,Sheet3!$B$1,Sheet4!$B$2:$B$8409,Sheet3!$A$3))","v":0},{"$f":"+IF(SUMIFS(Sheet4!$DN$2:$DN$8409,Sheet4!$C$2:$C$8409,Sheet3!$B13,Sheet4!$D$2:$D$8409,Sheet3!DA$3,Sheet4!$A$2:$A$8409,Sheet3!$B$1,Sheet4!$B$2:$B$8409,Sheet3!$A$3)<3,0,SUMIFS(Sheet4!$DN$2:$DN$8409,Sheet4!$C$2:$C$8409,Sheet3!$B13,Sheet4!$D$2:$D$8409,Sheet3!DA$3,Sheet4!$A$2:$A$8409,Sheet3!$B$1,Sheet4!$B$2:$B$8409,Sheet3!$A$3))","v":0},{"$f":"+IF(SUMIFS(Sheet4!$DN$2:$DN$8409,Sheet4!$C$2:$C$8409,Sheet3!$B13,Sheet4!$D$2:$D$8409,Sheet3!DB$3,Sheet4!$A$2:$A$8409,Sheet3!$B$1,Sheet4!$B$2:$B$8409,Sheet3!$A$3)<3,0,SUMIFS(Sheet4!$DN$2:$DN$8409,Sheet4!$C$2:$C$8409,Sheet3!$B13,Sheet4!$D$2:$D$8409,Sheet3!DB$3,Sheet4!$A$2:$A$8409,Sheet3!$B$1,Sheet4!$B$2:$B$8409,Sheet3!$A$3))","v":0},{"$f":"+IF(SUMIFS(Sheet4!$DN$2:$DN$8409,Sheet4!$C$2:$C$8409,Sheet3!$B13,Sheet4!$D$2:$D$8409,Sheet3!DC$3,Sheet4!$A$2:$A$8409,Sheet3!$B$1,Sheet4!$B$2:$B$8409,Sheet3!$A$3)<3,0,SUMIFS(Sheet4!$DN$2:$DN$8409,Sheet4!$C$2:$C$8409,Sheet3!$B13,Sheet4!$D$2:$D$8409,Sheet3!DC$3,Sheet4!$A$2:$A$8409,Sheet3!$B$1,Sheet4!$B$2:$B$8409,Sheet3!$A$3))","v":0},{"$f":"+IF(SUMIFS(Sheet4!$DN$2:$DN$8409,Sheet4!$C$2:$C$8409,Sheet3!$B13,Sheet4!$D$2:$D$8409,Sheet3!DD$3,Sheet4!$A$2:$A$8409,Sheet3!$B$1,Sheet4!$B$2:$B$8409,Sheet3!$A$3)<3,0,SUMIFS(Sheet4!$DN$2:$DN$8409,Sheet4!$C$2:$C$8409,Sheet3!$B13,Sheet4!$D$2:$D$8409,Sheet3!DD$3,Sheet4!$A$2:$A$8409,Sheet3!$B$1,Sheet4!$B$2:$B$8409,Sheet3!$A$3))","v":0},{"$f":"+IF(SUMIFS(Sheet4!$DN$2:$DN$8409,Sheet4!$C$2:$C$8409,Sheet3!$B13,Sheet4!$D$2:$D$8409,Sheet3!DE$3,Sheet4!$A$2:$A$8409,Sheet3!$B$1,Sheet4!$B$2:$B$8409,Sheet3!$A$3)<3,0,SUMIFS(Sheet4!$DN$2:$DN$8409,Sheet4!$C$2:$C$8409,Sheet3!$B13,Sheet4!$D$2:$D$8409,Sheet3!DE$3,Sheet4!$A$2:$A$8409,Sheet3!$B$1,Sheet4!$B$2:$B$8409,Sheet3!$A$3))","v":0},{"$f":"+IF(SUMIFS(Sheet4!$DN$2:$DN$8409,Sheet4!$C$2:$C$8409,Sheet3!$B13,Sheet4!$D$2:$D$8409,Sheet3!DF$3,Sheet4!$A$2:$A$8409,Sheet3!$B$1,Sheet4!$B$2:$B$8409,Sheet3!$A$3)<3,0,SUMIFS(Sheet4!$DN$2:$DN$8409,Sheet4!$C$2:$C$8409,Sheet3!$B13,Sheet4!$D$2:$D$8409,Sheet3!DF$3,Sheet4!$A$2:$A$8409,Sheet3!$B$1,Sheet4!$B$2:$B$8409,Sheet3!$A$3))","v":0},{"$f":"+IF(SUMIFS(Sheet4!$DN$2:$DN$8409,Sheet4!$C$2:$C$8409,Sheet3!$B13,Sheet4!$D$2:$D$8409,Sheet3!DG$3,Sheet4!$A$2:$A$8409,Sheet3!$B$1,Sheet4!$B$2:$B$8409,Sheet3!$A$3)<3,0,SUMIFS(Sheet4!$DN$2:$DN$8409,Sheet4!$C$2:$C$8409,Sheet3!$B13,Sheet4!$D$2:$D$8409,Sheet3!DG$3,Sheet4!$A$2:$A$8409,Sheet3!$B$1,Sheet4!$B$2:$B$8409,Sheet3!$A$3))","v":0},{"$f":"+IF(SUMIFS(Sheet4!$DN$2:$DN$8409,Sheet4!$C$2:$C$8409,Sheet3!$B13,Sheet4!$D$2:$D$8409,Sheet3!DH$3,Sheet4!$A$2:$A$8409,Sheet3!$B$1,Sheet4!$B$2:$B$8409,Sheet3!$A$3)<3,0,SUMIFS(Sheet4!$DN$2:$DN$8409,Sheet4!$C$2:$C$8409,Sheet3!$B13,Sheet4!$D$2:$D$8409,Sheet3!DH$3,Sheet4!$A$2:$A$8409,Sheet3!$B$1,Sheet4!$B$2:$B$8409,Sheet3!$A$3))","v":0},{"$f":"+IF(SUMIFS(Sheet4!$DN$2:$DN$8409,Sheet4!$C$2:$C$8409,Sheet3!$B13,Sheet4!$D$2:$D$8409,Sheet3!DI$3,Sheet4!$A$2:$A$8409,Sheet3!$B$1,Sheet4!$B$2:$B$8409,Sheet3!$A$3)<3,0,SUMIFS(Sheet4!$DN$2:$DN$8409,Sheet4!$C$2:$C$8409,Sheet3!$B13,Sheet4!$D$2:$D$8409,Sheet3!DI$3,Sheet4!$A$2:$A$8409,Sheet3!$B$1,Sheet4!$B$2:$B$8409,Sheet3!$A$3))","v":0},{"$f":"+IF(SUMIFS(Sheet4!$DN$2:$DN$8409,Sheet4!$C$2:$C$8409,Sheet3!$B13,Sheet4!$D$2:$D$8409,Sheet3!DJ$3,Sheet4!$A$2:$A$8409,Sheet3!$B$1,Sheet4!$B$2:$B$8409,Sheet3!$A$3)<3,0,SUMIFS(Sheet4!$DN$2:$DN$8409,Sheet4!$C$2:$C$8409,Sheet3!$B13,Sheet4!$D$2:$D$8409,Sheet3!DJ$3,Sheet4!$A$2:$A$8409,Sheet3!$B$1,Sheet4!$B$2:$B$8409,Sheet3!$A$3))","v":0},{"$f":"+IF(SUMIFS(Sheet4!$DN$2:$DN$8409,Sheet4!$C$2:$C$8409,Sheet3!$B13,Sheet4!$D$2:$D$8409,Sheet3!DK$3,Sheet4!$A$2:$A$8409,Sheet3!$B$1,Sheet4!$B$2:$B$8409,Sheet3!$A$3)<3,0,SUMIFS(Sheet4!$DN$2:$DN$8409,Sheet4!$C$2:$C$8409,Sheet3!$B13,Sheet4!$D$2:$D$8409,Sheet3!DK$3,Sheet4!$A$2:$A$8409,Sheet3!$B$1,Sheet4!$B$2:$B$8409,Sheet3!$A$3))","v":0},{"$f":"+IF(SUMIFS(Sheet4!$DN$2:$DN$8409,Sheet4!$C$2:$C$8409,Sheet3!$B13,Sheet4!$D$2:$D$8409,Sheet3!DL$3,Sheet4!$A$2:$A$8409,Sheet3!$B$1,Sheet4!$B$2:$B$8409,Sheet3!$A$3)<3,0,SUMIFS(Sheet4!$DN$2:$DN$8409,Sheet4!$C$2:$C$8409,Sheet3!$B13,Sheet4!$D$2:$D$8409,Sheet3!DL$3,Sheet4!$A$2:$A$8409,Sheet3!$B$1,Sheet4!$B$2:$B$8409,Sheet3!$A$3))","v":0},{"$f":"+IF(SUMIFS(Sheet4!$DN$2:$DN$8409,Sheet4!$C$2:$C$8409,Sheet3!$B13,Sheet4!$D$2:$D$8409,Sheet3!DM$3,Sheet4!$A$2:$A$8409,Sheet3!$B$1,Sheet4!$B$2:$B$8409,Sheet3!$A$3)<3,0,SUMIFS(Sheet4!$DN$2:$DN$8409,Sheet4!$C$2:$C$8409,Sheet3!$B13,Sheet4!$D$2:$D$8409,Sheet3!DM$3,Sheet4!$A$2:$A$8409,Sheet3!$B$1,Sheet4!$B$2:$B$8409,Sheet3!$A$3))","v":0},{"$f":"+IF(SUMIFS(Sheet4!$DN$2:$DN$8409,Sheet4!$C$2:$C$8409,Sheet3!$B13,Sheet4!$E$2:$E$8409,Sheet3!DN$4,Sheet4!$A$2:$A$8409,Sheet3!$B$1,Sheet4!$B$2:$B$8409,Sheet3!$A$3)<3,0,SUMIFS(Sheet4!$DN$2:$DN$8409,Sheet4!$C$2:$C$8409,Sheet3!$B13,Sheet4!$E$2:$E$8409,Sheet3!DN$4,Sheet4!$A$2:$A$8409,Sheet3!$B$1,Sheet4!$B$2:$B$8409,Sheet3!$A$3))","v":0},{"$f":"+IF(SUMIFS(Sheet4!$DN$2:$DN$8409,Sheet4!$C$2:$C$8409,Sheet3!$B13,Sheet4!$E$2:$E$8409,Sheet3!DO$4,Sheet4!$A$2:$A$8409,Sheet3!$B$1,Sheet4!$B$2:$B$8409,Sheet3!$A$3)<3,0,SUMIFS(Sheet4!$DN$2:$DN$8409,Sheet4!$C$2:$C$8409,Sheet3!$B13,Sheet4!$E$2:$E$8409,Sheet3!DO$4,Sheet4!$A$2:$A$8409,Sheet3!$B$1,Sheet4!$B$2:$B$8409,Sheet3!$A$3))","v":0},{"$f":"+IF(SUMIFS(Sheet4!$DN$2:$DN$8409,Sheet4!$C$2:$C$8409,Sheet3!$B13,Sheet4!$E$2:$E$8409,Sheet3!DP$4,Sheet4!$A$2:$A$8409,Sheet3!$B$1,Sheet4!$B$2:$B$8409,Sheet3!$A$3)<3,0,SUMIFS(Sheet4!$DN$2:$DN$8409,Sheet4!$C$2:$C$8409,Sheet3!$B13,Sheet4!$E$2:$E$8409,Sheet3!DP$4,Sheet4!$A$2:$A$8409,Sheet3!$B$1,Sheet4!$B$2:$B$8409,Sheet3!$A$3))","v":0},{"$f":"+IF(SUMIFS(Sheet4!$DN$2:$DN$8409,Sheet4!$C$2:$C$8409,Sheet3!$B13,Sheet4!$E$2:$E$8409,Sheet3!DQ$4,Sheet4!$A$2:$A$8409,Sheet3!$B$1,Sheet4!$B$2:$B$8409,Sheet3!$A$3)<3,0,SUMIFS(Sheet4!$DN$2:$DN$8409,Sheet4!$C$2:$C$8409,Sheet3!$B13,Sheet4!$E$2:$E$8409,Sheet3!DQ$4,Sheet4!$A$2:$A$8409,Sheet3!$B$1,Sheet4!$B$2:$B$8409,Sheet3!$A$3))","v":0},{"$f":"+IF(SUMIFS(Sheet4!$DN$2:$DN$8409,Sheet4!$C$2:$C$8409,Sheet3!$B13,Sheet4!$E$2:$E$8409,Sheet3!DR$4,Sheet4!$A$2:$A$8409,Sheet3!$B$1,Sheet4!$B$2:$B$8409,Sheet3!$A$3)<3,0,SUMIFS(Sheet4!$DN$2:$DN$8409,Sheet4!$C$2:$C$8409,Sheet3!$B13,Sheet4!$E$2:$E$8409,Sheet3!DR$4,Sheet4!$A$2:$A$8409,Sheet3!$B$1,Sheet4!$B$2:$B$8409,Sheet3!$A$3))","v":0}]
[3,"11D","Douro",{"$f":"+SUMIFS(Sheet4!$DM$2:$DM$8409,Sheet4!$C$2:$C$8409,Sheet3!$B14,Sheet4!$D$2:$D$8409,Sheet3!D$3,Sheet4!$E$2:$E$8409,Sheet3!D$4,Sheet4!$A$2:$A$8409,Sheet3!$B$1,Sheet4!$B$2:$B$8409,Sheet3!$A$3)","v":0},{"$f":"+SUMIFS(Sheet4!$DM$2:$DM$8409,Sheet4!$C$2:$C$8409,Sheet3!$B14,Sheet4!$D$2:$D$8409,Sheet3!E$3,Sheet4!$E$2:$E$8409,Sheet3!E$4,Sheet4!$A$2:$A$8409,Sheet3!$B$1,Sheet4!$B$2:$B$8409,Sheet3!$A$3)","v":0},{"$f":"+SUMIFS(Sheet4!$DM$2:$DM$8409,Sheet4!$C$2:$C$8409,Sheet3!$B14,Sheet4!$D$2:$D$8409,Sheet3!F$3,Sheet4!$E$2:$E$8409,Sheet3!F$4,Sheet4!$A$2:$A$8409,Sheet3!$B$1,Sheet4!$B$2:$B$8409,Sheet3!$A$3)","v":0},{"$f":"+SUMIFS(Sheet4!$DM$2:$DM$8409,Sheet4!$C$2:$C$8409,Sheet3!$B14,Sheet4!$D$2:$D$8409,Sheet3!G$3,Sheet4!$E$2:$E$8409,Sheet3!G$4,Sheet4!$A$2:$A$8409,Sheet3!$B$1,Sheet4!$B$2:$B$8409,Sheet3!$A$3)","v":0},{"$f":"+SUMIFS(Sheet4!$DM$2:$DM$8409,Sheet4!$C$2:$C$8409,Sheet3!$B14,Sheet4!$D$2:$D$8409,Sheet3!H$3,Sheet4!$E$2:$E$8409,Sheet3!H$4,Sheet4!$A$2:$A$8409,Sheet3!$B$1,Sheet4!$B$2:$B$8409,Sheet3!$A$3)","v":0},{"$f":"+SUMIFS(Sheet4!$DM$2:$DM$8409,Sheet4!$C$2:$C$8409,Sheet3!$B14,Sheet4!$D$2:$D$8409,Sheet3!I$3,Sheet4!$E$2:$E$8409,Sheet3!I$4,Sheet4!$A$2:$A$8409,Sheet3!$B$1,Sheet4!$B$2:$B$8409,Sheet3!$A$3)","v":0},{"$f":"+SUMIFS(Sheet4!$DM$2:$DM$8409,Sheet4!$C$2:$C$8409,Sheet3!$B14,Sheet4!$D$2:$D$8409,Sheet3!J$3,Sheet4!$E$2:$E$8409,Sheet3!J$4,Sheet4!$A$2:$A$8409,Sheet3!$B$1,Sheet4!$B$2:$B$8409,Sheet3!$A$3)","v":0},{"$f":"+SUMIFS(Sheet4!$DM$2:$DM$8409,Sheet4!$C$2:$C$8409,Sheet3!$B14,Sheet4!$D$2:$D$8409,Sheet3!K$3,Sheet4!$E$2:$E$8409,Sheet3!K$4,Sheet4!$A$2:$A$8409,Sheet3!$B$1,Sheet4!$B$2:$B$8409,Sheet3!$A$3)","v":0},{"$f":"+SUMIFS(Sheet4!$DM$2:$DM$8409,Sheet4!$C$2:$C$8409,Sheet3!$B14,Sheet4!$D$2:$D$8409,Sheet3!L$3,Sheet4!$E$2:$E$8409,Sheet3!L$4,Sheet4!$A$2:$A$8409,Sheet3!$B$1,Sheet4!$B$2:$B$8409,Sheet3!$A$3)","v":0},{"$f":"+SUMIFS(Sheet4!$DM$2:$DM$8409,Sheet4!$C$2:$C$8409,Sheet3!$B14,Sheet4!$D$2:$D$8409,Sheet3!M$3,Sheet4!$E$2:$E$8409,Sheet3!M$4,Sheet4!$A$2:$A$8409,Sheet3!$B$1,Sheet4!$B$2:$B$8409,Sheet3!$A$3)","v":0},{"$f":"+SUMIFS(Sheet4!$DM$2:$DM$8409,Sheet4!$C$2:$C$8409,Sheet3!$B14,Sheet4!$D$2:$D$8409,Sheet3!N$3,Sheet4!$E$2:$E$8409,Sheet3!N$4,Sheet4!$A$2:$A$8409,Sheet3!$B$1,Sheet4!$B$2:$B$8409,Sheet3!$A$3)","v":0},{"$f":"+SUMIFS(Sheet4!$DM$2:$DM$8409,Sheet4!$C$2:$C$8409,Sheet3!$B14,Sheet4!$D$2:$D$8409,Sheet3!O$3,Sheet4!$E$2:$E$8409,Sheet3!O$4,Sheet4!$A$2:$A$8409,Sheet3!$B$1,Sheet4!$B$2:$B$8409,Sheet3!$A$3)","v":0},{"$f":"+SUMIFS(Sheet4!$DM$2:$DM$8409,Sheet4!$C$2:$C$8409,Sheet3!$B14,Sheet4!$D$2:$D$8409,Sheet3!P$3,Sheet4!$E$2:$E$8409,Sheet3!P$4,Sheet4!$A$2:$A$8409,Sheet3!$B$1,Sheet4!$B$2:$B$8409,Sheet3!$A$3)","v":0},{"$f":"+SUMIFS(Sheet4!$DM$2:$DM$8409,Sheet4!$C$2:$C$8409,Sheet3!$B14,Sheet4!$D$2:$D$8409,Sheet3!Q$3,Sheet4!$E$2:$E$8409,Sheet3!Q$4,Sheet4!$A$2:$A$8409,Sheet3!$B$1,Sheet4!$B$2:$B$8409,Sheet3!$A$3)","v":0},{"$f":"+SUMIFS(Sheet4!$DM$2:$DM$8409,Sheet4!$C$2:$C$8409,Sheet3!$B14,Sheet4!$D$2:$D$8409,Sheet3!R$3,Sheet4!$E$2:$E$8409,Sheet3!R$4,Sheet4!$A$2:$A$8409,Sheet3!$B$1,Sheet4!$B$2:$B$8409,Sheet3!$A$3)","v":0},{"$f":"+SUMIFS(Sheet4!$DM$2:$DM$8409,Sheet4!$C$2:$C$8409,Sheet3!$B14,Sheet4!$D$2:$D$8409,Sheet3!S$3,Sheet4!$E$2:$E$8409,Sheet3!S$4,Sheet4!$A$2:$A$8409,Sheet3!$B$1,Sheet4!$B$2:$B$8409,Sheet3!$A$3)","v":0},{"$f":"+SUMIFS(Sheet4!$DM$2:$DM$8409,Sheet4!$C$2:$C$8409,Sheet3!$B14,Sheet4!$D$2:$D$8409,Sheet3!T$3,Sheet4!$E$2:$E$8409,Sheet3!T$4,Sheet4!$A$2:$A$8409,Sheet3!$B$1,Sheet4!$B$2:$B$8409,Sheet3!$A$3)","v":0},{"$f":"+SUMIFS(Sheet4!$DM$2:$DM$8409,Sheet4!$C$2:$C$8409,Sheet3!$B14,Sheet4!$D$2:$D$8409,Sheet3!U$3,Sheet4!$E$2:$E$8409,Sheet3!U$4,Sheet4!$A$2:$A$8409,Sheet3!$B$1,Sheet4!$B$2:$B$8409,Sheet3!$A$3)","v":0},{"$f":"+SUMIFS(Sheet4!$DM$2:$DM$8409,Sheet4!$C$2:$C$8409,Sheet3!$B14,Sheet4!$D$2:$D$8409,Sheet3!V$3,Sheet4!$E$2:$E$8409,Sheet3!V$4,Sheet4!$A$2:$A$8409,Sheet3!$B$1,Sheet4!$B$2:$B$8409,Sheet3!$A$3)","v":0},{"$f":"+SUMIFS(Sheet4!$DM$2:$DM$8409,Sheet4!$C$2:$C$8409,Sheet3!$B14,Sheet4!$D$2:$D$8409,Sheet3!W$3,Sheet4!$E$2:$E$8409,Sheet3!W$4,Sheet4!$A$2:$A$8409,Sheet3!$B$1,Sheet4!$B$2:$B$8409,Sheet3!$A$3)","v":0},{"$f":"+SUMIFS(Sheet4!$DM$2:$DM$8409,Sheet4!$C$2:$C$8409,Sheet3!$B14,Sheet4!$D$2:$D$8409,Sheet3!X$3,Sheet4!$E$2:$E$8409,Sheet3!X$4,Sheet4!$A$2:$A$8409,Sheet3!$B$1,Sheet4!$B$2:$B$8409,Sheet3!$A$3)","v":0},{"$f":"+SUMIFS(Sheet4!$DM$2:$DM$8409,Sheet4!$C$2:$C$8409,Sheet3!$B14,Sheet4!$D$2:$D$8409,Sheet3!Y$3,Sheet4!$E$2:$E$8409,Sheet3!Y$4,Sheet4!$A$2:$A$8409,Sheet3!$B$1,Sheet4!$B$2:$B$8409,Sheet3!$A$3)","v":0},{"$f":"+SUMIFS(Sheet4!$DM$2:$DM$8409,Sheet4!$C$2:$C$8409,Sheet3!$B14,Sheet4!$D$2:$D$8409,Sheet3!Z$3,Sheet4!$E$2:$E$8409,Sheet3!Z$4,Sheet4!$A$2:$A$8409,Sheet3!$B$1,Sheet4!$B$2:$B$8409,Sheet3!$A$3)","v":0},{"$f":"+SUMIFS(Sheet4!$DM$2:$DM$8409,Sheet4!$C$2:$C$8409,Sheet3!$B14,Sheet4!$D$2:$D$8409,Sheet3!AA$3,Sheet4!$E$2:$E$8409,Sheet3!AA$4,Sheet4!$A$2:$A$8409,Sheet3!$B$1,Sheet4!$B$2:$B$8409,Sheet3!$A$3)","v":0},{"$f":"+SUMIFS(Sheet4!$DM$2:$DM$8409,Sheet4!$C$2:$C$8409,Sheet3!$B14,Sheet4!$D$2:$D$8409,Sheet3!AB$3,Sheet4!$E$2:$E$8409,Sheet3!AB$4,Sheet4!$A$2:$A$8409,Sheet3!$B$1,Sheet4!$B$2:$B$8409,Sheet3!$A$3)","v":0},{"$f":"+SUMIFS(Sheet4!$DM$2:$DM$8409,Sheet4!$C$2:$C$8409,Sheet3!$B14,Sheet4!$D$2:$D$8409,Sheet3!AC$3,Sheet4!$E$2:$E$8409,Sheet3!AC$4,Sheet4!$A$2:$A$8409,Sheet3!$B$1,Sheet4!$B$2:$B$8409,Sheet3!$A$3)","v":0},{"$f":"+SUMIFS(Sheet4!$DM$2:$DM$8409,Sheet4!$C$2:$C$8409,Sheet3!$B14,Sheet4!$D$2:$D$8409,Sheet3!AD$3,Sheet4!$E$2:$E$8409,Sheet3!AD$4,Sheet4!$A$2:$A$8409,Sheet3!$B$1,Sheet4!$B$2:$B$8409,Sheet3!$A$3)","v":0},{"$f":"+SUMIFS(Sheet4!$DM$2:$DM$8409,Sheet4!$C$2:$C$8409,Sheet3!$B14,Sheet4!$D$2:$D$8409,Sheet3!AE$3,Sheet4!$E$2:$E$8409,Sheet3!AE$4,Sheet4!$A$2:$A$8409,Sheet3!$B$1,Sheet4!$B$2:$B$8409,Sheet3!$A$3)","v":0},{"$f":"+SUMIFS(Sheet4!$DM$2:$DM$8409,Sheet4!$C$2:$C$8409,Sheet3!$B14,Sheet4!$D$2:$D$8409,Sheet3!AF$3,Sheet4!$E$2:$E$8409,Sheet3!AF$4,Sheet4!$A$2:$A$8409,Sheet3!$B$1,Sheet4!$B$2:$B$8409,Sheet3!$A$3)","v":0},{"$f":"+SUMIFS(Sheet4!$DM$2:$DM$8409,Sheet4!$C$2:$C$8409,Sheet3!$B14,Sheet4!$D$2:$D$8409,Sheet3!AG$3,Sheet4!$E$2:$E$8409,Sheet3!AG$4,Sheet4!$A$2:$A$8409,Sheet3!$B$1,Sheet4!$B$2:$B$8409,Sheet3!$A$3)","v":0},{"$f":"+SUMIFS(Sheet4!$DM$2:$DM$8409,Sheet4!$C$2:$C$8409,Sheet3!$B14,Sheet4!$D$2:$D$8409,Sheet3!AH$3,Sheet4!$E$2:$E$8409,Sheet3!AH$4,Sheet4!$A$2:$A$8409,Sheet3!$B$1,Sheet4!$B$2:$B$8409,Sheet3!$A$3)","v":0},{"$f":"+SUMIFS(Sheet4!$DM$2:$DM$8409,Sheet4!$C$2:$C$8409,Sheet3!$B14,Sheet4!$D$2:$D$8409,Sheet3!AI$3,Sheet4!$E$2:$E$8409,Sheet3!AI$4,Sheet4!$A$2:$A$8409,Sheet3!$B$1,Sheet4!$B$2:$B$8409,Sheet3!$A$3)","v":0},{"$f":"+SUMIFS(Sheet4!$DM$2:$DM$8409,Sheet4!$C$2:$C$8409,Sheet3!$B14,Sheet4!$D$2:$D$8409,Sheet3!AJ$3,Sheet4!$E$2:$E$8409,Sheet3!AJ$4,Sheet4!$A$2:$A$8409,Sheet3!$B$1,Sheet4!$B$2:$B$8409,Sheet3!$A$3)","v":0},{"$f":"+SUMIFS(Sheet4!$DM$2:$DM$8409,Sheet4!$C$2:$C$8409,Sheet3!$B14,Sheet4!$D$2:$D$8409,Sheet3!AK$3,Sheet4!$E$2:$E$8409,Sheet3!AK$4,Sheet4!$A$2:$A$8409,Sheet3!$B$1,Sheet4!$B$2:$B$8409,Sheet3!$A$3)","v":0},{"$f":"+SUMIFS(Sheet4!$DM$2:$DM$8409,Sheet4!$C$2:$C$8409,Sheet3!$B14,Sheet4!$D$2:$D$8409,Sheet3!AL$3,Sheet4!$E$2:$E$8409,Sheet3!AL$4,Sheet4!$A$2:$A$8409,Sheet3!$B$1,Sheet4!$B$2:$B$8409,Sheet3!$A$3)","v":0},{"$f":"+SUMIFS(Sheet4!$DM$2:$DM$8409,Sheet4!$C$2:$C$8409,Sheet3!$B14,Sheet4!$D$2:$D$8409,Sheet3!AM$3,Sheet4!$E$2:$E$8409,Sheet3!AM$4,Sheet4!$A$2:$A$8409,Sheet3!$B$1,Sheet4!$B$2:$B$8409,Sheet3!$A$3)","v":0},{"$f":"+SUMIFS(Sheet4!$DM$2:$DM$8409,Sheet4!$C$2:$C$8409,Sheet3!$B14,Sheet4!$D$2:$D$8409,Sheet3!AN$3,Sheet4!$E$2:$E$8409,Sheet3!AN$4,Sheet4!$A$2:$A$8409,Sheet3!$B$1,Sheet4!$B$2:$B$8409,Sheet3!$A$3)","v":0},{"$f":"+SUMIFS(Sheet4!$DM$2:$DM$8409,Sheet4!$C$2:$C$8409,Sheet3!$B14,Sheet4!$D$2:$D$8409,Sheet3!AO$3,Sheet4!$E$2:$E$8409,Sheet3!AO$4,Sheet4!$A$2:$A$8409,Sheet3!$B$1,Sheet4!$B$2:$B$8409,Sheet3!$A$3)","v":0},{"$f":"+SUMIFS(Sheet4!$DM$2:$DM$8409,Sheet4!$C$2:$C$8409,Sheet3!$B14,Sheet4!$D$2:$D$8409,Sheet3!AP$3,Sheet4!$E$2:$E$8409,Sheet3!AP$4,Sheet4!$A$2:$A$8409,Sheet3!$B$1,Sheet4!$B$2:$B$8409,Sheet3!$A$3)","v":0},{"$f":"+SUMIFS(Sheet4!$DM$2:$DM$8409,Sheet4!$C$2:$C$8409,Sheet3!$B14,Sheet4!$D$2:$D$8409,Sheet3!AQ$3,Sheet4!$E$2:$E$8409,Sheet3!AQ$4,Sheet4!$A$2:$A$8409,Sheet3!$B$1,Sheet4!$B$2:$B$8409,Sheet3!$A$3)","v":0},{"$f":"+SUMIFS(Sheet4!$DM$2:$DM$8409,Sheet4!$C$2:$C$8409,Sheet3!$B14,Sheet4!$D$2:$D$8409,Sheet3!AR$3,Sheet4!$E$2:$E$8409,Sheet3!AR$4,Sheet4!$A$2:$A$8409,Sheet3!$B$1,Sheet4!$B$2:$B$8409,Sheet3!$A$3)","v":0},{"$f":"+SUMIFS(Sheet4!$DM$2:$DM$8409,Sheet4!$C$2:$C$8409,Sheet3!$B14,Sheet4!$D$2:$D$8409,Sheet3!AS$3,Sheet4!$E$2:$E$8409,Sheet3!AS$4,Sheet4!$A$2:$A$8409,Sheet3!$B$1,Sheet4!$B$2:$B$8409,Sheet3!$A$3)","v":0},{"$f":"+SUMIFS(Sheet4!$DM$2:$DM$8409,Sheet4!$C$2:$C$8409,Sheet3!$B14,Sheet4!$D$2:$D$8409,Sheet3!AT$3,Sheet4!$E$2:$E$8409,Sheet3!AT$4,Sheet4!$A$2:$A$8409,Sheet3!$B$1,Sheet4!$B$2:$B$8409,Sheet3!$A$3)","v":0},{"$f":"+SUMIFS(Sheet4!$DM$2:$DM$8409,Sheet4!$C$2:$C$8409,Sheet3!$B14,Sheet4!$D$2:$D$8409,Sheet3!AU$3,Sheet4!$E$2:$E$8409,Sheet3!AU$4,Sheet4!$A$2:$A$8409,Sheet3!$B$1,Sheet4!$B$2:$B$8409,Sheet3!$A$3)","v":0},{"$f":"+SUMIFS(Sheet4!$DM$2:$DM$8409,Sheet4!$C$2:$C$8409,Sheet3!$B14,Sheet4!$D$2:$D$8409,Sheet3!AV$3,Sheet4!$E$2:$E$8409,Sheet3!AV$4,Sheet4!$A$2:$A$8409,Sheet3!$B$1,Sheet4!$B$2:$B$8409,Sheet3!$A$3)","v":0},{"$f":"+SUMIFS(Sheet4!$DM$2:$DM$8409,Sheet4!$C$2:$C$8409,Sheet3!$B14,Sheet4!$D$2:$D$8409,Sheet3!AW$3,Sheet4!$E$2:$E$8409,Sheet3!AW$4,Sheet4!$A$2:$A$8409,Sheet3!$B$1,Sheet4!$B$2:$B$8409,Sheet3!$A$3)","v":0},{"$f":"+SUMIFS(Sheet4!$DM$2:$DM$8409,Sheet4!$C$2:$C$8409,Sheet3!$B14,Sheet4!$D$2:$D$8409,Sheet3!AX$3,Sheet4!$E$2:$E$8409,Sheet3!AX$4,Sheet4!$A$2:$A$8409,Sheet3!$B$1,Sheet4!$B$2:$B$8409,Sheet3!$A$3)","v":0},{"$f":"+SUMIFS(Sheet4!$DM$2:$DM$8409,Sheet4!$C$2:$C$8409,Sheet3!$B14,Sheet4!$D$2:$D$8409,Sheet3!AY$3,Sheet4!$E$2:$E$8409,Sheet3!AY$4,Sheet4!$A$2:$A$8409,Sheet3!$B$1,Sheet4!$B$2:$B$8409,Sheet3!$A$3)","v":0},{"$f":"+SUMIFS(Sheet4!$DM$2:$DM$8409,Sheet4!$C$2:$C$8409,Sheet3!$B14,Sheet4!$D$2:$D$8409,Sheet3!AZ$3,Sheet4!$E$2:$E$8409,Sheet3!AZ$4,Sheet4!$A$2:$A$8409,Sheet3!$B$1,Sheet4!$B$2:$B$8409,Sheet3!$A$3)","v":0},{"$f":"+SUMIFS(Sheet4!$DM$2:$DM$8409,Sheet4!$C$2:$C$8409,Sheet3!$B14,Sheet4!$D$2:$D$8409,Sheet3!BA$3,Sheet4!$E$2:$E$8409,Sheet3!BA$4,Sheet4!$A$2:$A$8409,Sheet3!$B$1,Sheet4!$B$2:$B$8409,Sheet3!$A$3)","v":0},{"$f":"+SUMIFS(Sheet4!$DM$2:$DM$8409,Sheet4!$C$2:$C$8409,Sheet3!$B14,Sheet4!$D$2:$D$8409,Sheet3!BB$3,Sheet4!$E$2:$E$8409,Sheet3!BB$4,Sheet4!$A$2:$A$8409,Sheet3!$B$1,Sheet4!$B$2:$B$8409,Sheet3!$A$3)","v":0},{"$f":"+SUMIFS(Sheet4!$DM$2:$DM$8409,Sheet4!$C$2:$C$8409,Sheet3!$B14,Sheet4!$D$2:$D$8409,Sheet3!BC$3,Sheet4!$E$2:$E$8409,Sheet3!BC$4,Sheet4!$A$2:$A$8409,Sheet3!$B$1,Sheet4!$B$2:$B$8409,Sheet3!$A$3)","v":0},{"$f":"+SUMIFS(Sheet4!$DM$2:$DM$8409,Sheet4!$C$2:$C$8409,Sheet3!$B14,Sheet4!$D$2:$D$8409,Sheet3!BD$3,Sheet4!$E$2:$E$8409,Sheet3!BD$4,Sheet4!$A$2:$A$8409,Sheet3!$B$1,Sheet4!$B$2:$B$8409,Sheet3!$A$3)","v":0},{"$f":"+SUMIFS(Sheet4!$DM$2:$DM$8409,Sheet4!$C$2:$C$8409,Sheet3!$B14,Sheet4!$D$2:$D$8409,Sheet3!BE$3,Sheet4!$E$2:$E$8409,Sheet3!BE$4,Sheet4!$A$2:$A$8409,Sheet3!$B$1,Sheet4!$B$2:$B$8409,Sheet3!$A$3)","v":0},{"$f":"+SUMIFS(Sheet4!$DM$2:$DM$8409,Sheet4!$C$2:$C$8409,Sheet3!$B14,Sheet4!$D$2:$D$8409,Sheet3!BF$3,Sheet4!$E$2:$E$8409,Sheet3!BF$4,Sheet4!$A$2:$A$8409,Sheet3!$B$1,Sheet4!$B$2:$B$8409,Sheet3!$A$3)","v":0},{"$f":"+SUMIFS(Sheet4!$DM$2:$DM$8409,Sheet4!$C$2:$C$8409,Sheet3!$B14,Sheet4!$D$2:$D$8409,Sheet3!BG$3,Sheet4!$E$2:$E$8409,Sheet3!BG$4,Sheet4!$A$2:$A$8409,Sheet3!$B$1,Sheet4!$B$2:$B$8409,Sheet3!$A$3)","v":0},{"$f":"+SUMIFS(Sheet4!$DM$2:$DM$8409,Sheet4!$C$2:$C$8409,Sheet3!$B14,Sheet4!$D$2:$D$8409,Sheet3!BH$3,Sheet4!$E$2:$E$8409,Sheet3!BH$4,Sheet4!$A$2:$A$8409,Sheet3!$B$1,Sheet4!$B$2:$B$8409,Sheet3!$A$3)","v":0},{"$f":"+SUMIFS(Sheet4!$DM$2:$DM$8409,Sheet4!$C$2:$C$8409,Sheet3!$B14,Sheet4!$D$2:$D$8409,Sheet3!BI$3,Sheet4!$E$2:$E$8409,Sheet3!BI$4,Sheet4!$A$2:$A$8409,Sheet3!$B$1,Sheet4!$B$2:$B$8409,Sheet3!$A$3)","v":0},{"$f":"+SUMIFS(Sheet4!$DM$2:$DM$8409,Sheet4!$C$2:$C$8409,Sheet3!$B14,Sheet4!$D$2:$D$8409,Sheet3!BJ$3,Sheet4!$E$2:$E$8409,Sheet3!BJ$4,Sheet4!$A$2:$A$8409,Sheet3!$B$1,Sheet4!$B$2:$B$8409,Sheet3!$A$3)","v":0},{"$f":"+SUMIFS(Sheet4!$DM$2:$DM$8409,Sheet4!$C$2:$C$8409,Sheet3!$B14,Sheet4!$D$2:$D$8409,Sheet3!BK$3,Sheet4!$E$2:$E$8409,Sheet3!BK$4,Sheet4!$A$2:$A$8409,Sheet3!$B$1,Sheet4!$B$2:$B$8409,Sheet3!$A$3)","v":0},{"$f":"+SUMIFS(Sheet4!$DM$2:$DM$8409,Sheet4!$C$2:$C$8409,Sheet3!$B14,Sheet4!$D$2:$D$8409,Sheet3!BL$3,Sheet4!$E$2:$E$8409,Sheet3!BL$4,Sheet4!$A$2:$A$8409,Sheet3!$B$1,Sheet4!$B$2:$B$8409,Sheet3!$A$3)","v":0},{"$f":"+SUMIFS(Sheet4!$DM$2:$DM$8409,Sheet4!$C$2:$C$8409,Sheet3!$B14,Sheet4!$D$2:$D$8409,Sheet3!BM$3,Sheet4!$E$2:$E$8409,Sheet3!BM$4,Sheet4!$A$2:$A$8409,Sheet3!$B$1,Sheet4!$B$2:$B$8409,Sheet3!$A$3)","v":0},{"$f":"+SUMIFS(Sheet4!$DM$2:$DM$8409,Sheet4!$C$2:$C$8409,Sheet3!$B14,Sheet4!$D$2:$D$8409,Sheet3!BN$3,Sheet4!$E$2:$E$8409,Sheet3!BN$4,Sheet4!$A$2:$A$8409,Sheet3!$B$1,Sheet4!$B$2:$B$8409,Sheet3!$A$3)","v":0},{"$f":"+SUMIFS(Sheet4!$DM$2:$DM$8409,Sheet4!$C$2:$C$8409,Sheet3!$B14,Sheet4!$D$2:$D$8409,Sheet3!BO$3,Sheet4!$E$2:$E$8409,Sheet3!BO$4,Sheet4!$A$2:$A$8409,Sheet3!$B$1,Sheet4!$B$2:$B$8409,Sheet3!$A$3)","v":0},{"$f":"+SUMIFS(Sheet4!$DM$2:$DM$8409,Sheet4!$C$2:$C$8409,Sheet3!$B14,Sheet4!$D$2:$D$8409,Sheet3!BP$3,Sheet4!$E$2:$E$8409,Sheet3!BP$4,Sheet4!$A$2:$A$8409,Sheet3!$B$1,Sheet4!$B$2:$B$8409,Sheet3!$A$3)","v":0},{"$f":"+SUMIFS(Sheet4!$DM$2:$DM$8409,Sheet4!$C$2:$C$8409,Sheet3!$B14,Sheet4!$D$2:$D$8409,Sheet3!BQ$3,Sheet4!$E$2:$E$8409,Sheet3!BQ$4,Sheet4!$A$2:$A$8409,Sheet3!$B$1,Sheet4!$B$2:$B$8409,Sheet3!$A$3)","v":0},{"$f":"+SUMIFS(Sheet4!$DM$2:$DM$8409,Sheet4!$C$2:$C$8409,Sheet3!$B14,Sheet4!$D$2:$D$8409,Sheet3!BR$3,Sheet4!$E$2:$E$8409,Sheet3!BR$4,Sheet4!$A$2:$A$8409,Sheet3!$B$1,Sheet4!$B$2:$B$8409,Sheet3!$A$3)","v":0},{"$f":"+SUMIFS(Sheet4!$DM$2:$DM$8409,Sheet4!$C$2:$C$8409,Sheet3!$B14,Sheet4!$D$2:$D$8409,Sheet3!BS$3,Sheet4!$E$2:$E$8409,Sheet3!BS$4,Sheet4!$A$2:$A$8409,Sheet3!$B$1,Sheet4!$B$2:$B$8409,Sheet3!$A$3)","v":0},{"$f":"+SUMIFS(Sheet4!$DM$2:$DM$8409,Sheet4!$C$2:$C$8409,Sheet3!$B14,Sheet4!$D$2:$D$8409,Sheet3!BT$3,Sheet4!$E$2:$E$8409,Sheet3!BT$4,Sheet4!$A$2:$A$8409,Sheet3!$B$1,Sheet4!$B$2:$B$8409,Sheet3!$A$3)","v":0},{"$f":"+SUMIFS(Sheet4!$DM$2:$DM$8409,Sheet4!$C$2:$C$8409,Sheet3!$B14,Sheet4!$D$2:$D$8409,Sheet3!BU$3,Sheet4!$E$2:$E$8409,Sheet3!BU$4,Sheet4!$A$2:$A$8409,Sheet3!$B$1,Sheet4!$B$2:$B$8409,Sheet3!$A$3)","v":0},{"$f":"+SUMIFS(Sheet4!$DM$2:$DM$8409,Sheet4!$C$2:$C$8409,Sheet3!$B14,Sheet4!$D$2:$D$8409,Sheet3!BV$3,Sheet4!$E$2:$E$8409,Sheet3!BV$4,Sheet4!$A$2:$A$8409,Sheet3!$B$1,Sheet4!$B$2:$B$8409,Sheet3!$A$3)","v":0},{"$f":"+SUMIFS(Sheet4!$DM$2:$DM$8409,Sheet4!$C$2:$C$8409,Sheet3!$B14,Sheet4!$D$2:$D$8409,Sheet3!BW$3,Sheet4!$E$2:$E$8409,Sheet3!BW$4,Sheet4!$A$2:$A$8409,Sheet3!$B$1,Sheet4!$B$2:$B$8409,Sheet3!$A$3)","v":0},{"$f":"+SUMIFS(Sheet4!$DM$2:$DM$8409,Sheet4!$C$2:$C$8409,Sheet3!$B14,Sheet4!$D$2:$D$8409,Sheet3!BX$3,Sheet4!$E$2:$E$8409,Sheet3!BX$4,Sheet4!$A$2:$A$8409,Sheet3!$B$1,Sheet4!$B$2:$B$8409,Sheet3!$A$3)","v":0},{"$f":"+SUMIFS(Sheet4!$DM$2:$DM$8409,Sheet4!$C$2:$C$8409,Sheet3!$B14,Sheet4!$D$2:$D$8409,Sheet3!BY$3,Sheet4!$E$2:$E$8409,Sheet3!BY$4,Sheet4!$A$2:$A$8409,Sheet3!$B$1,Sheet4!$B$2:$B$8409,Sheet3!$A$3)","v":0},{"$f":"+SUMIFS(Sheet4!$DM$2:$DM$8409,Sheet4!$C$2:$C$8409,Sheet3!$B14,Sheet4!$D$2:$D$8409,Sheet3!BZ$3,Sheet4!$E$2:$E$8409,Sheet3!BZ$4,Sheet4!$A$2:$A$8409,Sheet3!$B$1,Sheet4!$B$2:$B$8409,Sheet3!$A$3)","v":0},{"$f":"+SUMIFS(Sheet4!$DM$2:$DM$8409,Sheet4!$C$2:$C$8409,Sheet3!$B14,Sheet4!$D$2:$D$8409,Sheet3!CA$3,Sheet4!$E$2:$E$8409,Sheet3!CA$4,Sheet4!$A$2:$A$8409,Sheet3!$B$1,Sheet4!$B$2:$B$8409,Sheet3!$A$3)","v":0},{"$f":"+SUMIFS(Sheet4!$DM$2:$DM$8409,Sheet4!$C$2:$C$8409,Sheet3!$B14,Sheet4!$D$2:$D$8409,Sheet3!CB$3,Sheet4!$E$2:$E$8409,Sheet3!CB$4,Sheet4!$A$2:$A$8409,Sheet3!$B$1,Sheet4!$B$2:$B$8409,Sheet3!$A$3)","v":0},{"$f":"+SUMIFS(Sheet4!$DM$2:$DM$8409,Sheet4!$C$2:$C$8409,Sheet3!$B14,Sheet4!$D$2:$D$8409,Sheet3!CC$3,Sheet4!$E$2:$E$8409,Sheet3!CC$4,Sheet4!$A$2:$A$8409,Sheet3!$B$1,Sheet4!$B$2:$B$8409,Sheet3!$A$3)","v":0},{"$f":"+SUMIFS(Sheet4!$DM$2:$DM$8409,Sheet4!$C$2:$C$8409,Sheet3!$B14,Sheet4!$D$2:$D$8409,Sheet3!CD$3,Sheet4!$E$2:$E$8409,Sheet3!CD$4,Sheet4!$A$2:$A$8409,Sheet3!$B$1,Sheet4!$B$2:$B$8409,Sheet3!$A$3)","v":0},{"$f":"+SUMIFS(Sheet4!$DM$2:$DM$8409,Sheet4!$C$2:$C$8409,Sheet3!$B14,Sheet4!$D$2:$D$8409,Sheet3!CE$3,Sheet4!$E$2:$E$8409,Sheet3!CE$4,Sheet4!$A$2:$A$8409,Sheet3!$B$1,Sheet4!$B$2:$B$8409,Sheet3!$A$3)","v":0},{"$f":"+SUMIFS(Sheet4!$DM$2:$DM$8409,Sheet4!$C$2:$C$8409,Sheet3!$B14,Sheet4!$D$2:$D$8409,Sheet3!CF$3,Sheet4!$E$2:$E$8409,Sheet3!CF$4,Sheet4!$A$2:$A$8409,Sheet3!$B$1,Sheet4!$B$2:$B$8409,Sheet3!$A$3)","v":0},{"$f":"+SUMIFS(Sheet4!$DM$2:$DM$8409,Sheet4!$C$2:$C$8409,Sheet3!$B14,Sheet4!$D$2:$D$8409,Sheet3!CG$3,Sheet4!$E$2:$E$8409,Sheet3!CG$4,Sheet4!$A$2:$A$8409,Sheet3!$B$1,Sheet4!$B$2:$B$8409,Sheet3!$A$3)","v":0},{"$f":"+SUMIFS(Sheet4!$DM$2:$DM$8409,Sheet4!$C$2:$C$8409,Sheet3!$B14,Sheet4!$D$2:$D$8409,Sheet3!CH$3,Sheet4!$E$2:$E$8409,Sheet3!CH$4,Sheet4!$A$2:$A$8409,Sheet3!$B$1,Sheet4!$B$2:$B$8409,Sheet3!$A$3)","v":0},{"$f":"+SUMIFS(Sheet4!$DM$2:$DM$8409,Sheet4!$C$2:$C$8409,Sheet3!$B14,Sheet4!$D$2:$D$8409,Sheet3!CI$3,Sheet4!$E$2:$E$8409,Sheet3!CI$4,Sheet4!$A$2:$A$8409,Sheet3!$B$1,Sheet4!$B$2:$B$8409,Sheet3!$A$3)","v":0},{"$f":"+SUMIFS(Sheet4!$DM$2:$DM$8409,Sheet4!$C$2:$C$8409,Sheet3!$B14,Sheet4!$D$2:$D$8409,Sheet3!CJ$3,Sheet4!$E$2:$E$8409,Sheet3!CJ$4,Sheet4!$A$2:$A$8409,Sheet3!$B$1,Sheet4!$B$2:$B$8409,Sheet3!$A$3)","v":0},{"$f":"+SUMIFS(Sheet4!$DM$2:$DM$8409,Sheet4!$C$2:$C$8409,Sheet3!$B14,Sheet4!$D$2:$D$8409,Sheet3!CK$3,Sheet4!$E$2:$E$8409,Sheet3!CK$4,Sheet4!$A$2:$A$8409,Sheet3!$B$1,Sheet4!$B$2:$B$8409,Sheet3!$A$3)","v":0},{"$f":"+SUMIFS(Sheet4!$DM$2:$DM$8409,Sheet4!$C$2:$C$8409,Sheet3!$B14,Sheet4!$D$2:$D$8409,Sheet3!CL$3,Sheet4!$E$2:$E$8409,Sheet3!CL$4,Sheet4!$A$2:$A$8409,Sheet3!$B$1,Sheet4!$B$2:$B$8409,Sheet3!$A$3)","v":0},{"$f":"+SUMIFS(Sheet4!$DM$2:$DM$8409,Sheet4!$C$2:$C$8409,Sheet3!$B14,Sheet4!$D$2:$D$8409,Sheet3!CM$3,Sheet4!$E$2:$E$8409,Sheet3!CM$4,Sheet4!$A$2:$A$8409,Sheet3!$B$1,Sheet4!$B$2:$B$8409,Sheet3!$A$3)","v":0},{"$f":"+SUMIFS(Sheet4!$DM$2:$DM$8409,Sheet4!$C$2:$C$8409,Sheet3!$B14,Sheet4!$D$2:$D$8409,Sheet3!CN$3,Sheet4!$E$2:$E$8409,Sheet3!CN$4,Sheet4!$A$2:$A$8409,Sheet3!$B$1,Sheet4!$B$2:$B$8409,Sheet3!$A$3)","v":0},{"$f":"+SUMIFS(Sheet4!$DM$2:$DM$8409,Sheet4!$C$2:$C$8409,Sheet3!$B14,Sheet4!$D$2:$D$8409,Sheet3!CO$3,Sheet4!$E$2:$E$8409,Sheet3!CO$4,Sheet4!$A$2:$A$8409,Sheet3!$B$1,Sheet4!$B$2:$B$8409,Sheet3!$A$3)","v":0},{"$f":"+SUMIFS(Sheet4!$DM$2:$DM$8409,Sheet4!$C$2:$C$8409,Sheet3!$B14,Sheet4!$D$2:$D$8409,Sheet3!CP$3,Sheet4!$E$2:$E$8409,Sheet3!CP$4,Sheet4!$A$2:$A$8409,Sheet3!$B$1,Sheet4!$B$2:$B$8409,Sheet3!$A$3)","v":0},{"$f":"+SUMIFS(Sheet4!$DM$2:$DM$8409,Sheet4!$C$2:$C$8409,Sheet3!$B14,Sheet4!$D$2:$D$8409,Sheet3!CQ$3,Sheet4!$E$2:$E$8409,Sheet3!CQ$4,Sheet4!$A$2:$A$8409,Sheet3!$B$1,Sheet4!$B$2:$B$8409,Sheet3!$A$3)","v":0},{"$f":"+SUMIFS(Sheet4!$DM$2:$DM$8409,Sheet4!$C$2:$C$8409,Sheet3!$B14,Sheet4!$D$2:$D$8409,Sheet3!CR$3,Sheet4!$E$2:$E$8409,Sheet3!CR$4,Sheet4!$A$2:$A$8409,Sheet3!$B$1,Sheet4!$B$2:$B$8409,Sheet3!$A$3)","v":0},{"$f":"+SUMIFS(Sheet4!$DM$2:$DM$8409,Sheet4!$C$2:$C$8409,Sheet3!$B14,Sheet4!$D$2:$D$8409,Sheet3!CS$3,Sheet4!$E$2:$E$8409,Sheet3!CS$4,Sheet4!$A$2:$A$8409,Sheet3!$B$1,Sheet4!$B$2:$B$8409,Sheet3!$A$3)","v":0},{"$f":"+SUMIFS(Sheet4!$DM$2:$DM$8409,Sheet4!$C$2:$C$8409,Sheet3!$B14,Sheet4!$D$2:$D$8409,Sheet3!CT$3,Sheet4!$E$2:$E$8409,Sheet3!CT$4,Sheet4!$A$2:$A$8409,Sheet3!$B$1,Sheet4!$B$2:$B$8409,Sheet3!$A$3)","v":0},{"$f":"+IF(SUMIFS(Sheet4!$DN$2:$DN$8409,Sheet4!$C$2:$C$8409,Sheet3!$B14,Sheet4!$D$2:$D$8409,Sheet3!CU$3,Sheet4!$A$2:$A$8409,Sheet3!$B$1,Sheet4!$B$2:$B$8409,Sheet3!$A$3)<3,0,SUMIFS(Sheet4!$DN$2:$DN$8409,Sheet4!$C$2:$C$8409,Sheet3!$B14,Sheet4!$D$2:$D$8409,Sheet3!CU$3,Sheet4!$A$2:$A$8409,Sheet3!$B$1,Sheet4!$B$2:$B$8409,Sheet3!$A$3))","v":0},{"$f":"+IF(SUMIFS(Sheet4!$DN$2:$DN$8409,Sheet4!$C$2:$C$8409,Sheet3!$B14,Sheet4!$D$2:$D$8409,Sheet3!CV$3,Sheet4!$A$2:$A$8409,Sheet3!$B$1,Sheet4!$B$2:$B$8409,Sheet3!$A$3)<3,0,SUMIFS(Sheet4!$DN$2:$DN$8409,Sheet4!$C$2:$C$8409,Sheet3!$B14,Sheet4!$D$2:$D$8409,Sheet3!CV$3,Sheet4!$A$2:$A$8409,Sheet3!$B$1,Sheet4!$B$2:$B$8409,Sheet3!$A$3))","v":0},{"$f":"+IF(SUMIFS(Sheet4!$DN$2:$DN$8409,Sheet4!$C$2:$C$8409,Sheet3!$B14,Sheet4!$D$2:$D$8409,Sheet3!CW$3,Sheet4!$A$2:$A$8409,Sheet3!$B$1,Sheet4!$B$2:$B$8409,Sheet3!$A$3)<3,0,SUMIFS(Sheet4!$DN$2:$DN$8409,Sheet4!$C$2:$C$8409,Sheet3!$B14,Sheet4!$D$2:$D$8409,Sheet3!CW$3,Sheet4!$A$2:$A$8409,Sheet3!$B$1,Sheet4!$B$2:$B$8409,Sheet3!$A$3))","v":0},{"$f":"+IF(SUMIFS(Sheet4!$DN$2:$DN$8409,Sheet4!$C$2:$C$8409,Sheet3!$B14,Sheet4!$D$2:$D$8409,Sheet3!CX$3,Sheet4!$A$2:$A$8409,Sheet3!$B$1,Sheet4!$B$2:$B$8409,Sheet3!$A$3)<3,0,SUMIFS(Sheet4!$DN$2:$DN$8409,Sheet4!$C$2:$C$8409,Sheet3!$B14,Sheet4!$D$2:$D$8409,Sheet3!CX$3,Sheet4!$A$2:$A$8409,Sheet3!$B$1,Sheet4!$B$2:$B$8409,Sheet3!$A$3))","v":0},{"$f":"+IF(SUMIFS(Sheet4!$DN$2:$DN$8409,Sheet4!$C$2:$C$8409,Sheet3!$B14,Sheet4!$D$2:$D$8409,Sheet3!CY$3,Sheet4!$A$2:$A$8409,Sheet3!$B$1,Sheet4!$B$2:$B$8409,Sheet3!$A$3)<3,0,SUMIFS(Sheet4!$DN$2:$DN$8409,Sheet4!$C$2:$C$8409,Sheet3!$B14,Sheet4!$D$2:$D$8409,Sheet3!CY$3,Sheet4!$A$2:$A$8409,Sheet3!$B$1,Sheet4!$B$2:$B$8409,Sheet3!$A$3))","v":0},{"$f":"+IF(SUMIFS(Sheet4!$DN$2:$DN$8409,Sheet4!$C$2:$C$8409,Sheet3!$B14,Sheet4!$D$2:$D$8409,Sheet3!CZ$3,Sheet4!$A$2:$A$8409,Sheet3!$B$1,Sheet4!$B$2:$B$8409,Sheet3!$A$3)<3,0,SUMIFS(Sheet4!$DN$2:$DN$8409,Sheet4!$C$2:$C$8409,Sheet3!$B14,Sheet4!$D$2:$D$8409,Sheet3!CZ$3,Sheet4!$A$2:$A$8409,Sheet3!$B$1,Sheet4!$B$2:$B$8409,Sheet3!$A$3))","v":0},{"$f":"+IF(SUMIFS(Sheet4!$DN$2:$DN$8409,Sheet4!$C$2:$C$8409,Sheet3!$B14,Sheet4!$D$2:$D$8409,Sheet3!DA$3,Sheet4!$A$2:$A$8409,Sheet3!$B$1,Sheet4!$B$2:$B$8409,Sheet3!$A$3)<3,0,SUMIFS(Sheet4!$DN$2:$DN$8409,Sheet4!$C$2:$C$8409,Sheet3!$B14,Sheet4!$D$2:$D$8409,Sheet3!DA$3,Sheet4!$A$2:$A$8409,Sheet3!$B$1,Sheet4!$B$2:$B$8409,Sheet3!$A$3))","v":0},{"$f":"+IF(SUMIFS(Sheet4!$DN$2:$DN$8409,Sheet4!$C$2:$C$8409,Sheet3!$B14,Sheet4!$D$2:$D$8409,Sheet3!DB$3,Sheet4!$A$2:$A$8409,Sheet3!$B$1,Sheet4!$B$2:$B$8409,Sheet3!$A$3)<3,0,SUMIFS(Sheet4!$DN$2:$DN$8409,Sheet4!$C$2:$C$8409,Sheet3!$B14,Sheet4!$D$2:$D$8409,Sheet3!DB$3,Sheet4!$A$2:$A$8409,Sheet3!$B$1,Sheet4!$B$2:$B$8409,Sheet3!$A$3))","v":0},{"$f":"+IF(SUMIFS(Sheet4!$DN$2:$DN$8409,Sheet4!$C$2:$C$8409,Sheet3!$B14,Sheet4!$D$2:$D$8409,Sheet3!DC$3,Sheet4!$A$2:$A$8409,Sheet3!$B$1,Sheet4!$B$2:$B$8409,Sheet3!$A$3)<3,0,SUMIFS(Sheet4!$DN$2:$DN$8409,Sheet4!$C$2:$C$8409,Sheet3!$B14,Sheet4!$D$2:$D$8409,Sheet3!DC$3,Sheet4!$A$2:$A$8409,Sheet3!$B$1,Sheet4!$B$2:$B$8409,Sheet3!$A$3))","v":0},{"$f":"+IF(SUMIFS(Sheet4!$DN$2:$DN$8409,Sheet4!$C$2:$C$8409,Sheet3!$B14,Sheet4!$D$2:$D$8409,Sheet3!DD$3,Sheet4!$A$2:$A$8409,Sheet3!$B$1,Sheet4!$B$2:$B$8409,Sheet3!$A$3)<3,0,SUMIFS(Sheet4!$DN$2:$DN$8409,Sheet4!$C$2:$C$8409,Sheet3!$B14,Sheet4!$D$2:$D$8409,Sheet3!DD$3,Sheet4!$A$2:$A$8409,Sheet3!$B$1,Sheet4!$B$2:$B$8409,Sheet3!$A$3))","v":0},{"$f":"+IF(SUMIFS(Sheet4!$DN$2:$DN$8409,Sheet4!$C$2:$C$8409,Sheet3!$B14,Sheet4!$D$2:$D$8409,Sheet3!DE$3,Sheet4!$A$2:$A$8409,Sheet3!$B$1,Sheet4!$B$2:$B$8409,Sheet3!$A$3)<3,0,SUMIFS(Sheet4!$DN$2:$DN$8409,Sheet4!$C$2:$C$8409,Sheet3!$B14,Sheet4!$D$2:$D$8409,Sheet3!DE$3,Sheet4!$A$2:$A$8409,Sheet3!$B$1,Sheet4!$B$2:$B$8409,Sheet3!$A$3))","v":0},{"$f":"+IF(SUMIFS(Sheet4!$DN$2:$DN$8409,Sheet4!$C$2:$C$8409,Sheet3!$B14,Sheet4!$D$2:$D$8409,Sheet3!DF$3,Sheet4!$A$2:$A$8409,Sheet3!$B$1,Sheet4!$B$2:$B$8409,Sheet3!$A$3)<3,0,SUMIFS(Sheet4!$DN$2:$DN$8409,Sheet4!$C$2:$C$8409,Sheet3!$B14,Sheet4!$D$2:$D$8409,Sheet3!DF$3,Sheet4!$A$2:$A$8409,Sheet3!$B$1,Sheet4!$B$2:$B$8409,Sheet3!$A$3))","v":0},{"$f":"+IF(SUMIFS(Sheet4!$DN$2:$DN$8409,Sheet4!$C$2:$C$8409,Sheet3!$B14,Sheet4!$D$2:$D$8409,Sheet3!DG$3,Sheet4!$A$2:$A$8409,Sheet3!$B$1,Sheet4!$B$2:$B$8409,Sheet3!$A$3)<3,0,SUMIFS(Sheet4!$DN$2:$DN$8409,Sheet4!$C$2:$C$8409,Sheet3!$B14,Sheet4!$D$2:$D$8409,Sheet3!DG$3,Sheet4!$A$2:$A$8409,Sheet3!$B$1,Sheet4!$B$2:$B$8409,Sheet3!$A$3))","v":0},{"$f":"+IF(SUMIFS(Sheet4!$DN$2:$DN$8409,Sheet4!$C$2:$C$8409,Sheet3!$B14,Sheet4!$D$2:$D$8409,Sheet3!DH$3,Sheet4!$A$2:$A$8409,Sheet3!$B$1,Sheet4!$B$2:$B$8409,Sheet3!$A$3)<3,0,SUMIFS(Sheet4!$DN$2:$DN$8409,Sheet4!$C$2:$C$8409,Sheet3!$B14,Sheet4!$D$2:$D$8409,Sheet3!DH$3,Sheet4!$A$2:$A$8409,Sheet3!$B$1,Sheet4!$B$2:$B$8409,Sheet3!$A$3))","v":0},{"$f":"+IF(SUMIFS(Sheet4!$DN$2:$DN$8409,Sheet4!$C$2:$C$8409,Sheet3!$B14,Sheet4!$D$2:$D$8409,Sheet3!DI$3,Sheet4!$A$2:$A$8409,Sheet3!$B$1,Sheet4!$B$2:$B$8409,Sheet3!$A$3)<3,0,SUMIFS(Sheet4!$DN$2:$DN$8409,Sheet4!$C$2:$C$8409,Sheet3!$B14,Sheet4!$D$2:$D$8409,Sheet3!DI$3,Sheet4!$A$2:$A$8409,Sheet3!$B$1,Sheet4!$B$2:$B$8409,Sheet3!$A$3))","v":0},{"$f":"+IF(SUMIFS(Sheet4!$DN$2:$DN$8409,Sheet4!$C$2:$C$8409,Sheet3!$B14,Sheet4!$D$2:$D$8409,Sheet3!DJ$3,Sheet4!$A$2:$A$8409,Sheet3!$B$1,Sheet4!$B$2:$B$8409,Sheet3!$A$3)<3,0,SUMIFS(Sheet4!$DN$2:$DN$8409,Sheet4!$C$2:$C$8409,Sheet3!$B14,Sheet4!$D$2:$D$8409,Sheet3!DJ$3,Sheet4!$A$2:$A$8409,Sheet3!$B$1,Sheet4!$B$2:$B$8409,Sheet3!$A$3))","v":0},{"$f":"+IF(SUMIFS(Sheet4!$DN$2:$DN$8409,Sheet4!$C$2:$C$8409,Sheet3!$B14,Sheet4!$D$2:$D$8409,Sheet3!DK$3,Sheet4!$A$2:$A$8409,Sheet3!$B$1,Sheet4!$B$2:$B$8409,Sheet3!$A$3)<3,0,SUMIFS(Sheet4!$DN$2:$DN$8409,Sheet4!$C$2:$C$8409,Sheet3!$B14,Sheet4!$D$2:$D$8409,Sheet3!DK$3,Sheet4!$A$2:$A$8409,Sheet3!$B$1,Sheet4!$B$2:$B$8409,Sheet3!$A$3))","v":0},{"$f":"+IF(SUMIFS(Sheet4!$DN$2:$DN$8409,Sheet4!$C$2:$C$8409,Sheet3!$B14,Sheet4!$D$2:$D$8409,Sheet3!DL$3,Sheet4!$A$2:$A$8409,Sheet3!$B$1,Sheet4!$B$2:$B$8409,Sheet3!$A$3)<3,0,SUMIFS(Sheet4!$DN$2:$DN$8409,Sheet4!$C$2:$C$8409,Sheet3!$B14,Sheet4!$D$2:$D$8409,Sheet3!DL$3,Sheet4!$A$2:$A$8409,Sheet3!$B$1,Sheet4!$B$2:$B$8409,Sheet3!$A$3))","v":0},{"$f":"+IF(SUMIFS(Sheet4!$DN$2:$DN$8409,Sheet4!$C$2:$C$8409,Sheet3!$B14,Sheet4!$D$2:$D$8409,Sheet3!DM$3,Sheet4!$A$2:$A$8409,Sheet3!$B$1,Sheet4!$B$2:$B$8409,Sheet3!$A$3)<3,0,SUMIFS(Sheet4!$DN$2:$DN$8409,Sheet4!$C$2:$C$8409,Sheet3!$B14,Sheet4!$D$2:$D$8409,Sheet3!DM$3,Sheet4!$A$2:$A$8409,Sheet3!$B$1,Sheet4!$B$2:$B$8409,Sheet3!$A$3))","v":0},{"$f":"+IF(SUMIFS(Sheet4!$DN$2:$DN$8409,Sheet4!$C$2:$C$8409,Sheet3!$B14,Sheet4!$E$2:$E$8409,Sheet3!DN$4,Sheet4!$A$2:$A$8409,Sheet3!$B$1,Sheet4!$B$2:$B$8409,Sheet3!$A$3)<3,0,SUMIFS(Sheet4!$DN$2:$DN$8409,Sheet4!$C$2:$C$8409,Sheet3!$B14,Sheet4!$E$2:$E$8409,Sheet3!DN$4,Sheet4!$A$2:$A$8409,Sheet3!$B$1,Sheet4!$B$2:$B$8409,Sheet3!$A$3))","v":0},{"$f":"+IF(SUMIFS(Sheet4!$DN$2:$DN$8409,Sheet4!$C$2:$C$8409,Sheet3!$B14,Sheet4!$E$2:$E$8409,Sheet3!DO$4,Sheet4!$A$2:$A$8409,Sheet3!$B$1,Sheet4!$B$2:$B$8409,Sheet3!$A$3)<3,0,SUMIFS(Sheet4!$DN$2:$DN$8409,Sheet4!$C$2:$C$8409,Sheet3!$B14,Sheet4!$E$2:$E$8409,Sheet3!DO$4,Sheet4!$A$2:$A$8409,Sheet3!$B$1,Sheet4!$B$2:$B$8409,Sheet3!$A$3))","v":0},{"$f":"+IF(SUMIFS(Sheet4!$DN$2:$DN$8409,Sheet4!$C$2:$C$8409,Sheet3!$B14,Sheet4!$E$2:$E$8409,Sheet3!DP$4,Sheet4!$A$2:$A$8409,Sheet3!$B$1,Sheet4!$B$2:$B$8409,Sheet3!$A$3)<3,0,SUMIFS(Sheet4!$DN$2:$DN$8409,Sheet4!$C$2:$C$8409,Sheet3!$B14,Sheet4!$E$2:$E$8409,Sheet3!DP$4,Sheet4!$A$2:$A$8409,Sheet3!$B$1,Sheet4!$B$2:$B$8409,Sheet3!$A$3))","v":0},{"$f":"+IF(SUMIFS(Sheet4!$DN$2:$DN$8409,Sheet4!$C$2:$C$8409,Sheet3!$B14,Sheet4!$E$2:$E$8409,Sheet3!DQ$4,Sheet4!$A$2:$A$8409,Sheet3!$B$1,Sheet4!$B$2:$B$8409,Sheet3!$A$3)<3,0,SUMIFS(Sheet4!$DN$2:$DN$8409,Sheet4!$C$2:$C$8409,Sheet3!$B14,Sheet4!$E$2:$E$8409,Sheet3!DQ$4,Sheet4!$A$2:$A$8409,Sheet3!$B$1,Sheet4!$B$2:$B$8409,Sheet3!$A$3))","v":0},{"$f":"+IF(SUMIFS(Sheet4!$DN$2:$DN$8409,Sheet4!$C$2:$C$8409,Sheet3!$B14,Sheet4!$E$2:$E$8409,Sheet3!DR$4,Sheet4!$A$2:$A$8409,Sheet3!$B$1,Sheet4!$B$2:$B$8409,Sheet3!$A$3)<3,0,SUMIFS(Sheet4!$DN$2:$DN$8409,Sheet4!$C$2:$C$8409,Sheet3!$B14,Sheet4!$E$2:$E$8409,Sheet3!DR$4,Sheet4!$A$2:$A$8409,Sheet3!$B$1,Sheet4!$B$2:$B$8409,Sheet3!$A$3))","v":0}]
[3,"11E","Terras de Trás-os-Montes",{"$f":"+SUMIFS(Sheet4!$DM$2:$DM$8409,Sheet4!$C$2:$C$8409,Sheet3!$B15,Sheet4!$D$2:$D$8409,Sheet3!D$3,Sheet4!$E$2:$E$8409,Sheet3!D$4,Sheet4!$A$2:$A$8409,Sheet3!$B$1,Sheet4!$B$2:$B$8409,Sheet3!$A$3)","v":0},{"$f":"+SUMIFS(Sheet4!$DM$2:$DM$8409,Sheet4!$C$2:$C$8409,Sheet3!$B15,Sheet4!$D$2:$D$8409,Sheet3!E$3,Sheet4!$E$2:$E$8409,Sheet3!E$4,Sheet4!$A$2:$A$8409,Sheet3!$B$1,Sheet4!$B$2:$B$8409,Sheet3!$A$3)","v":0},{"$f":"+SUMIFS(Sheet4!$DM$2:$DM$8409,Sheet4!$C$2:$C$8409,Sheet3!$B15,Sheet4!$D$2:$D$8409,Sheet3!F$3,Sheet4!$E$2:$E$8409,Sheet3!F$4,Sheet4!$A$2:$A$8409,Sheet3!$B$1,Sheet4!$B$2:$B$8409,Sheet3!$A$3)","v":0},{"$f":"+SUMIFS(Sheet4!$DM$2:$DM$8409,Sheet4!$C$2:$C$8409,Sheet3!$B15,Sheet4!$D$2:$D$8409,Sheet3!G$3,Sheet4!$E$2:$E$8409,Sheet3!G$4,Sheet4!$A$2:$A$8409,Sheet3!$B$1,Sheet4!$B$2:$B$8409,Sheet3!$A$3)","v":0},{"$f":"+SUMIFS(Sheet4!$DM$2:$DM$8409,Sheet4!$C$2:$C$8409,Sheet3!$B15,Sheet4!$D$2:$D$8409,Sheet3!H$3,Sheet4!$E$2:$E$8409,Sheet3!H$4,Sheet4!$A$2:$A$8409,Sheet3!$B$1,Sheet4!$B$2:$B$8409,Sheet3!$A$3)","v":0},{"$f":"+SUMIFS(Sheet4!$DM$2:$DM$8409,Sheet4!$C$2:$C$8409,Sheet3!$B15,Sheet4!$D$2:$D$8409,Sheet3!I$3,Sheet4!$E$2:$E$8409,Sheet3!I$4,Sheet4!$A$2:$A$8409,Sheet3!$B$1,Sheet4!$B$2:$B$8409,Sheet3!$A$3)","v":0},{"$f":"+SUMIFS(Sheet4!$DM$2:$DM$8409,Sheet4!$C$2:$C$8409,Sheet3!$B15,Sheet4!$D$2:$D$8409,Sheet3!J$3,Sheet4!$E$2:$E$8409,Sheet3!J$4,Sheet4!$A$2:$A$8409,Sheet3!$B$1,Sheet4!$B$2:$B$8409,Sheet3!$A$3)","v":0},{"$f":"+SUMIFS(Sheet4!$DM$2:$DM$8409,Sheet4!$C$2:$C$8409,Sheet3!$B15,Sheet4!$D$2:$D$8409,Sheet3!K$3,Sheet4!$E$2:$E$8409,Sheet3!K$4,Sheet4!$A$2:$A$8409,Sheet3!$B$1,Sheet4!$B$2:$B$8409,Sheet3!$A$3)","v":0},{"$f":"+SUMIFS(Sheet4!$DM$2:$DM$8409,Sheet4!$C$2:$C$8409,Sheet3!$B15,Sheet4!$D$2:$D$8409,Sheet3!L$3,Sheet4!$E$2:$E$8409,Sheet3!L$4,Sheet4!$A$2:$A$8409,Sheet3!$B$1,Sheet4!$B$2:$B$8409,Sheet3!$A$3)","v":0},{"$f":"+SUMIFS(Sheet4!$DM$2:$DM$8409,Sheet4!$C$2:$C$8409,Sheet3!$B15,Sheet4!$D$2:$D$8409,Sheet3!M$3,Sheet4!$E$2:$E$8409,Sheet3!M$4,Sheet4!$A$2:$A$8409,Sheet3!$B$1,Sheet4!$B$2:$B$8409,Sheet3!$A$3)","v":0},{"$f":"+SUMIFS(Sheet4!$DM$2:$DM$8409,Sheet4!$C$2:$C$8409,Sheet3!$B15,Sheet4!$D$2:$D$8409,Sheet3!N$3,Sheet4!$E$2:$E$8409,Sheet3!N$4,Sheet4!$A$2:$A$8409,Sheet3!$B$1,Sheet4!$B$2:$B$8409,Sheet3!$A$3)","v":0},{"$f":"+SUMIFS(Sheet4!$DM$2:$DM$8409,Sheet4!$C$2:$C$8409,Sheet3!$B15,Sheet4!$D$2:$D$8409,Sheet3!O$3,Sheet4!$E$2:$E$8409,Sheet3!O$4,Sheet4!$A$2:$A$8409,Sheet3!$B$1,Sheet4!$B$2:$B$8409,Sheet3!$A$3)","v":0},{"$f":"+SUMIFS(Sheet4!$DM$2:$DM$8409,Sheet4!$C$2:$C$8409,Sheet3!$B15,Sheet4!$D$2:$D$8409,Sheet3!P$3,Sheet4!$E$2:$E$8409,Sheet3!P$4,Sheet4!$A$2:$A$8409,Sheet3!$B$1,Sheet4!$B$2:$B$8409,Sheet3!$A$3)","v":0},{"$f":"+SUMIFS(Sheet4!$DM$2:$DM$8409,Sheet4!$C$2:$C$8409,Sheet3!$B15,Sheet4!$D$2:$D$8409,Sheet3!Q$3,Sheet4!$E$2:$E$8409,Sheet3!Q$4,Sheet4!$A$2:$A$8409,Sheet3!$B$1,Sheet4!$B$2:$B$8409,Sheet3!$A$3)","v":0},{"$f":"+SUMIFS(Sheet4!$DM$2:$DM$8409,Sheet4!$C$2:$C$8409,Sheet3!$B15,Sheet4!$D$2:$D$8409,Sheet3!R$3,Sheet4!$E$2:$E$8409,Sheet3!R$4,Sheet4!$A$2:$A$8409,Sheet3!$B$1,Sheet4!$B$2:$B$8409,Sheet3!$A$3)","v":0},{"$f":"+SUMIFS(Sheet4!$DM$2:$DM$8409,Sheet4!$C$2:$C$8409,Sheet3!$B15,Sheet4!$D$2:$D$8409,Sheet3!S$3,Sheet4!$E$2:$E$8409,Sheet3!S$4,Sheet4!$A$2:$A$8409,Sheet3!$B$1,Sheet4!$B$2:$B$8409,Sheet3!$A$3)","v":0},{"$f":"+SUMIFS(Sheet4!$DM$2:$DM$8409,Sheet4!$C$2:$C$8409,Sheet3!$B15,Sheet4!$D$2:$D$8409,Sheet3!T$3,Sheet4!$E$2:$E$8409,Sheet3!T$4,Sheet4!$A$2:$A$8409,Sheet3!$B$1,Sheet4!$B$2:$B$8409,Sheet3!$A$3)","v":0},{"$f":"+SUMIFS(Sheet4!$DM$2:$DM$8409,Sheet4!$C$2:$C$8409,Sheet3!$B15,Sheet4!$D$2:$D$8409,Sheet3!U$3,Sheet4!$E$2:$E$8409,Sheet3!U$4,Sheet4!$A$2:$A$8409,Sheet3!$B$1,Sheet4!$B$2:$B$8409,Sheet3!$A$3)","v":0},{"$f":"+SUMIFS(Sheet4!$DM$2:$DM$8409,Sheet4!$C$2:$C$8409,Sheet3!$B15,Sheet4!$D$2:$D$8409,Sheet3!V$3,Sheet4!$E$2:$E$8409,Sheet3!V$4,Sheet4!$A$2:$A$8409,Sheet3!$B$1,Sheet4!$B$2:$B$8409,Sheet3!$A$3)","v":0},{"$f":"+SUMIFS(Sheet4!$DM$2:$DM$8409,Sheet4!$C$2:$C$8409,Sheet3!$B15,Sheet4!$D$2:$D$8409,Sheet3!W$3,Sheet4!$E$2:$E$8409,Sheet3!W$4,Sheet4!$A$2:$A$8409,Sheet3!$B$1,Sheet4!$B$2:$B$8409,Sheet3!$A$3)","v":0},{"$f":"+SUMIFS(Sheet4!$DM$2:$DM$8409,Sheet4!$C$2:$C$8409,Sheet3!$B15,Sheet4!$D$2:$D$8409,Sheet3!X$3,Sheet4!$E$2:$E$8409,Sheet3!X$4,Sheet4!$A$2:$A$8409,Sheet3!$B$1,Sheet4!$B$2:$B$8409,Sheet3!$A$3)","v":0},{"$f":"+SUMIFS(Sheet4!$DM$2:$DM$8409,Sheet4!$C$2:$C$8409,Sheet3!$B15,Sheet4!$D$2:$D$8409,Sheet3!Y$3,Sheet4!$E$2:$E$8409,Sheet3!Y$4,Sheet4!$A$2:$A$8409,Sheet3!$B$1,Sheet4!$B$2:$B$8409,Sheet3!$A$3)","v":0},{"$f":"+SUMIFS(Sheet4!$DM$2:$DM$8409,Sheet4!$C$2:$C$8409,Sheet3!$B15,Sheet4!$D$2:$D$8409,Sheet3!Z$3,Sheet4!$E$2:$E$8409,Sheet3!Z$4,Sheet4!$A$2:$A$8409,Sheet3!$B$1,Sheet4!$B$2:$B$8409,Sheet3!$A$3)","v":0},{"$f":"+SUMIFS(Sheet4!$DM$2:$DM$8409,Sheet4!$C$2:$C$8409,Sheet3!$B15,Sheet4!$D$2:$D$8409,Sheet3!AA$3,Sheet4!$E$2:$E$8409,Sheet3!AA$4,Sheet4!$A$2:$A$8409,Sheet3!$B$1,Sheet4!$B$2:$B$8409,Sheet3!$A$3)","v":0},{"$f":"+SUMIFS(Sheet4!$DM$2:$DM$8409,Sheet4!$C$2:$C$8409,Sheet3!$B15,Sheet4!$D$2:$D$8409,Sheet3!AB$3,Sheet4!$E$2:$E$8409,Sheet3!AB$4,Sheet4!$A$2:$A$8409,Sheet3!$B$1,Sheet4!$B$2:$B$8409,Sheet3!$A$3)","v":0},{"$f":"+SUMIFS(Sheet4!$DM$2:$DM$8409,Sheet4!$C$2:$C$8409,Sheet3!$B15,Sheet4!$D$2:$D$8409,Sheet3!AC$3,Sheet4!$E$2:$E$8409,Sheet3!AC$4,Sheet4!$A$2:$A$8409,Sheet3!$B$1,Sheet4!$B$2:$B$8409,Sheet3!$A$3)","v":0},{"$f":"+SUMIFS(Sheet4!$DM$2:$DM$8409,Sheet4!$C$2:$C$8409,Sheet3!$B15,Sheet4!$D$2:$D$8409,Sheet3!AD$3,Sheet4!$E$2:$E$8409,Sheet3!AD$4,Sheet4!$A$2:$A$8409,Sheet3!$B$1,Sheet4!$B$2:$B$8409,Sheet3!$A$3)","v":0},{"$f":"+SUMIFS(Sheet4!$DM$2:$DM$8409,Sheet4!$C$2:$C$8409,Sheet3!$B15,Sheet4!$D$2:$D$8409,Sheet3!AE$3,Sheet4!$E$2:$E$8409,Sheet3!AE$4,Sheet4!$A$2:$A$8409,Sheet3!$B$1,Sheet4!$B$2:$B$8409,Sheet3!$A$3)","v":0},{"$f":"+SUMIFS(Sheet4!$DM$2:$DM$8409,Sheet4!$C$2:$C$8409,Sheet3!$B15,Sheet4!$D$2:$D$8409,Sheet3!AF$3,Sheet4!$E$2:$E$8409,Sheet3!AF$4,Sheet4!$A$2:$A$8409,Sheet3!$B$1,Sheet4!$B$2:$B$8409,Sheet3!$A$3)","v":0},{"$f":"+SUMIFS(Sheet4!$DM$2:$DM$8409,Sheet4!$C$2:$C$8409,Sheet3!$B15,Sheet4!$D$2:$D$8409,Sheet3!AG$3,Sheet4!$E$2:$E$8409,Sheet3!AG$4,Sheet4!$A$2:$A$8409,Sheet3!$B$1,Sheet4!$B$2:$B$8409,Sheet3!$A$3)","v":0},{"$f":"+SUMIFS(Sheet4!$DM$2:$DM$8409,Sheet4!$C$2:$C$8409,Sheet3!$B15,Sheet4!$D$2:$D$8409,Sheet3!AH$3,Sheet4!$E$2:$E$8409,Sheet3!AH$4,Sheet4!$A$2:$A$8409,Sheet3!$B$1,Sheet4!$B$2:$B$8409,Sheet3!$A$3)","v":0},{"$f":"+SUMIFS(Sheet4!$DM$2:$DM$8409,Sheet4!$C$2:$C$8409,Sheet3!$B15,Sheet4!$D$2:$D$8409,Sheet3!AI$3,Sheet4!$E$2:$E$8409,Sheet3!AI$4,Sheet4!$A$2:$A$8409,Sheet3!$B$1,Sheet4!$B$2:$B$8409,Sheet3!$A$3)","v":0},{"$f":"+SUMIFS(Sheet4!$DM$2:$DM$8409,Sheet4!$C$2:$C$8409,Sheet3!$B15,Sheet4!$D$2:$D$8409,Sheet3!AJ$3,Sheet4!$E$2:$E$8409,Sheet3!AJ$4,Sheet4!$A$2:$A$8409,Sheet3!$B$1,Sheet4!$B$2:$B$8409,Sheet3!$A$3)","v":0},{"$f":"+SUMIFS(Sheet4!$DM$2:$DM$8409,Sheet4!$C$2:$C$8409,Sheet3!$B15,Sheet4!$D$2:$D$8409,Sheet3!AK$3,Sheet4!$E$2:$E$8409,Sheet3!AK$4,Sheet4!$A$2:$A$8409,Sheet3!$B$1,Sheet4!$B$2:$B$8409,Sheet3!$A$3)","v":0},{"$f":"+SUMIFS(Sheet4!$DM$2:$DM$8409,Sheet4!$C$2:$C$8409,Sheet3!$B15,Sheet4!$D$2:$D$8409,Sheet3!AL$3,Sheet4!$E$2:$E$8409,Sheet3!AL$4,Sheet4!$A$2:$A$8409,Sheet3!$B$1,Sheet4!$B$2:$B$8409,Sheet3!$A$3)","v":0},{"$f":"+SUMIFS(Sheet4!$DM$2:$DM$8409,Sheet4!$C$2:$C$8409,Sheet3!$B15,Sheet4!$D$2:$D$8409,Sheet3!AM$3,Sheet4!$E$2:$E$8409,Sheet3!AM$4,Sheet4!$A$2:$A$8409,Sheet3!$B$1,Sheet4!$B$2:$B$8409,Sheet3!$A$3)","v":0},{"$f":"+SUMIFS(Sheet4!$DM$2:$DM$8409,Sheet4!$C$2:$C$8409,Sheet3!$B15,Sheet4!$D$2:$D$8409,Sheet3!AN$3,Sheet4!$E$2:$E$8409,Sheet3!AN$4,Sheet4!$A$2:$A$8409,Sheet3!$B$1,Sheet4!$B$2:$B$8409,Sheet3!$A$3)","v":0},{"$f":"+SUMIFS(Sheet4!$DM$2:$DM$8409,Sheet4!$C$2:$C$8409,Sheet3!$B15,Sheet4!$D$2:$D$8409,Sheet3!AO$3,Sheet4!$E$2:$E$8409,Sheet3!AO$4,Sheet4!$A$2:$A$8409,Sheet3!$B$1,Sheet4!$B$2:$B$8409,Sheet3!$A$3)","v":0},{"$f":"+SUMIFS(Sheet4!$DM$2:$DM$8409,Sheet4!$C$2:$C$8409,Sheet3!$B15,Sheet4!$D$2:$D$8409,Sheet3!AP$3,Sheet4!$E$2:$E$8409,Sheet3!AP$4,Sheet4!$A$2:$A$8409,Sheet3!$B$1,Sheet4!$B$2:$B$8409,Sheet3!$A$3)","v":0},{"$f":"+SUMIFS(Sheet4!$DM$2:$DM$8409,Sheet4!$C$2:$C$8409,Sheet3!$B15,Sheet4!$D$2:$D$8409,Sheet3!AQ$3,Sheet4!$E$2:$E$8409,Sheet3!AQ$4,Sheet4!$A$2:$A$8409,Sheet3!$B$1,Sheet4!$B$2:$B$8409,Sheet3!$A$3)","v":0},{"$f":"+SUMIFS(Sheet4!$DM$2:$DM$8409,Sheet4!$C$2:$C$8409,Sheet3!$B15,Sheet4!$D$2:$D$8409,Sheet3!AR$3,Sheet4!$E$2:$E$8409,Sheet3!AR$4,Sheet4!$A$2:$A$8409,Sheet3!$B$1,Sheet4!$B$2:$B$8409,Sheet3!$A$3)","v":0},{"$f":"+SUMIFS(Sheet4!$DM$2:$DM$8409,Sheet4!$C$2:$C$8409,Sheet3!$B15,Sheet4!$D$2:$D$8409,Sheet3!AS$3,Sheet4!$E$2:$E$8409,Sheet3!AS$4,Sheet4!$A$2:$A$8409,Sheet3!$B$1,Sheet4!$B$2:$B$8409,Sheet3!$A$3)","v":0},{"$f":"+SUMIFS(Sheet4!$DM$2:$DM$8409,Sheet4!$C$2:$C$8409,Sheet3!$B15,Sheet4!$D$2:$D$8409,Sheet3!AT$3,Sheet4!$E$2:$E$8409,Sheet3!AT$4,Sheet4!$A$2:$A$8409,Sheet3!$B$1,Sheet4!$B$2:$B$8409,Sheet3!$A$3)","v":0},{"$f":"+SUMIFS(Sheet4!$DM$2:$DM$8409,Sheet4!$C$2:$C$8409,Sheet3!$B15,Sheet4!$D$2:$D$8409,Sheet3!AU$3,Sheet4!$E$2:$E$8409,Sheet3!AU$4,Sheet4!$A$2:$A$8409,Sheet3!$B$1,Sheet4!$B$2:$B$8409,Sheet3!$A$3)","v":0},{"$f":"+SUMIFS(Sheet4!$DM$2:$DM$8409,Sheet4!$C$2:$C$8409,Sheet3!$B15,Sheet4!$D$2:$D$8409,Sheet3!AV$3,Sheet4!$E$2:$E$8409,Sheet3!AV$4,Sheet4!$A$2:$A$8409,Sheet3!$B$1,Sheet4!$B$2:$B$8409,Sheet3!$A$3)","v":0},{"$f":"+SUMIFS(Sheet4!$DM$2:$DM$8409,Sheet4!$C$2:$C$8409,Sheet3!$B15,Sheet4!$D$2:$D$8409,Sheet3!AW$3,Sheet4!$E$2:$E$8409,Sheet3!AW$4,Sheet4!$A$2:$A$8409,Sheet3!$B$1,Sheet4!$B$2:$B$8409,Sheet3!$A$3)","v":0},{"$f":"+SUMIFS(Sheet4!$DM$2:$DM$8409,Sheet4!$C$2:$C$8409,Sheet3!$B15,Sheet4!$D$2:$D$8409,Sheet3!AX$3,Sheet4!$E$2:$E$8409,Sheet3!AX$4,Sheet4!$A$2:$A$8409,Sheet3!$B$1,Sheet4!$B$2:$B$8409,Sheet3!$A$3)","v":0},{"$f":"+SUMIFS(Sheet4!$DM$2:$DM$8409,Sheet4!$C$2:$C$8409,Sheet3!$B15,Sheet4!$D$2:$D$8409,Sheet3!AY$3,Sheet4!$E$2:$E$8409,Sheet3!AY$4,Sheet4!$A$2:$A$8409,Sheet3!$B$1,Sheet4!$B$2:$B$8409,Sheet3!$A$3)","v":240},{"$f":"+SUMIFS(Sheet4!$DM$2:$DM$8409,Sheet4!$C$2:$C$8409,Sheet3!$B15,Sheet4!$D$2:$D$8409,Sheet3!AZ$3,Sheet4!$E$2:$E$8409,Sheet3!AZ$4,Sheet4!$A$2:$A$8409,Sheet3!$B$1,Sheet4!$B$2:$B$8409,Sheet3!$A$3)","v":0},{"$f":"+SUMIFS(Sheet4!$DM$2:$DM$8409,Sheet4!$C$2:$C$8409,Sheet3!$B15,Sheet4!$D$2:$D$8409,Sheet3!BA$3,Sheet4!$E$2:$E$8409,Sheet3!BA$4,Sheet4!$A$2:$A$8409,Sheet3!$B$1,Sheet4!$B$2:$B$8409,Sheet3!$A$3)","v":0},{"$f":"+SUMIFS(Sheet4!$DM$2:$DM$8409,Sheet4!$C$2:$C$8409,Sheet3!$B15,Sheet4!$D$2:$D$8409,Sheet3!BB$3,Sheet4!$E$2:$E$8409,Sheet3!BB$4,Sheet4!$A$2:$A$8409,Sheet3!$B$1,Sheet4!$B$2:$B$8409,Sheet3!$A$3)","v":0},{"$f":"+SUMIFS(Sheet4!$DM$2:$DM$8409,Sheet4!$C$2:$C$8409,Sheet3!$B15,Sheet4!$D$2:$D$8409,Sheet3!BC$3,Sheet4!$E$2:$E$8409,Sheet3!BC$4,Sheet4!$A$2:$A$8409,Sheet3!$B$1,Sheet4!$B$2:$B$8409,Sheet3!$A$3)","v":0},{"$f":"+SUMIFS(Sheet4!$DM$2:$DM$8409,Sheet4!$C$2:$C$8409,Sheet3!$B15,Sheet4!$D$2:$D$8409,Sheet3!BD$3,Sheet4!$E$2:$E$8409,Sheet3!BD$4,Sheet4!$A$2:$A$8409,Sheet3!$B$1,Sheet4!$B$2:$B$8409,Sheet3!$A$3)","v":0},{"$f":"+SUMIFS(Sheet4!$DM$2:$DM$8409,Sheet4!$C$2:$C$8409,Sheet3!$B15,Sheet4!$D$2:$D$8409,Sheet3!BE$3,Sheet4!$E$2:$E$8409,Sheet3!BE$4,Sheet4!$A$2:$A$8409,Sheet3!$B$1,Sheet4!$B$2:$B$8409,Sheet3!$A$3)","v":0},{"$f":"+SUMIFS(Sheet4!$DM$2:$DM$8409,Sheet4!$C$2:$C$8409,Sheet3!$B15,Sheet4!$D$2:$D$8409,Sheet3!BF$3,Sheet4!$E$2:$E$8409,Sheet3!BF$4,Sheet4!$A$2:$A$8409,Sheet3!$B$1,Sheet4!$B$2:$B$8409,Sheet3!$A$3)","v":0},{"$f":"+SUMIFS(Sheet4!$DM$2:$DM$8409,Sheet4!$C$2:$C$8409,Sheet3!$B15,Sheet4!$D$2:$D$8409,Sheet3!BG$3,Sheet4!$E$2:$E$8409,Sheet3!BG$4,Sheet4!$A$2:$A$8409,Sheet3!$B$1,Sheet4!$B$2:$B$8409,Sheet3!$A$3)","v":0},{"$f":"+SUMIFS(Sheet4!$DM$2:$DM$8409,Sheet4!$C$2:$C$8409,Sheet3!$B15,Sheet4!$D$2:$D$8409,Sheet3!BH$3,Sheet4!$E$2:$E$8409,Sheet3!BH$4,Sheet4!$A$2:$A$8409,Sheet3!$B$1,Sheet4!$B$2:$B$8409,Sheet3!$A$3)","v":0},{"$f":"+SUMIFS(Sheet4!$DM$2:$DM$8409,Sheet4!$C$2:$C$8409,Sheet3!$B15,Sheet4!$D$2:$D$8409,Sheet3!BI$3,Sheet4!$E$2:$E$8409,Sheet3!BI$4,Sheet4!$A$2:$A$8409,Sheet3!$B$1,Sheet4!$B$2:$B$8409,Sheet3!$A$3)","v":0},{"$f":"+SUMIFS(Sheet4!$DM$2:$DM$8409,Sheet4!$C$2:$C$8409,Sheet3!$B15,Sheet4!$D$2:$D$8409,Sheet3!BJ$3,Sheet4!$E$2:$E$8409,Sheet3!BJ$4,Sheet4!$A$2:$A$8409,Sheet3!$B$1,Sheet4!$B$2:$B$8409,Sheet3!$A$3)","v":0},{"$f":"+SUMIFS(Sheet4!$DM$2:$DM$8409,Sheet4!$C$2:$C$8409,Sheet3!$B15,Sheet4!$D$2:$D$8409,Sheet3!BK$3,Sheet4!$E$2:$E$8409,Sheet3!BK$4,Sheet4!$A$2:$A$8409,Sheet3!$B$1,Sheet4!$B$2:$B$8409,Sheet3!$A$3)","v":0},{"$f":"+SUMIFS(Sheet4!$DM$2:$DM$8409,Sheet4!$C$2:$C$8409,Sheet3!$B15,Sheet4!$D$2:$D$8409,Sheet3!BL$3,Sheet4!$E$2:$E$8409,Sheet3!BL$4,Sheet4!$A$2:$A$8409,Sheet3!$B$1,Sheet4!$B$2:$B$8409,Sheet3!$A$3)","v":0},{"$f":"+SUMIFS(Sheet4!$DM$2:$DM$8409,Sheet4!$C$2:$C$8409,Sheet3!$B15,Sheet4!$D$2:$D$8409,Sheet3!BM$3,Sheet4!$E$2:$E$8409,Sheet3!BM$4,Sheet4!$A$2:$A$8409,Sheet3!$B$1,Sheet4!$B$2:$B$8409,Sheet3!$A$3)","v":0},{"$f":"+SUMIFS(Sheet4!$DM$2:$DM$8409,Sheet4!$C$2:$C$8409,Sheet3!$B15,Sheet4!$D$2:$D$8409,Sheet3!BN$3,Sheet4!$E$2:$E$8409,Sheet3!BN$4,Sheet4!$A$2:$A$8409,Sheet3!$B$1,Sheet4!$B$2:$B$8409,Sheet3!$A$3)","v":0},{"$f":"+SUMIFS(Sheet4!$DM$2:$DM$8409,Sheet4!$C$2:$C$8409,Sheet3!$B15,Sheet4!$D$2:$D$8409,Sheet3!BO$3,Sheet4!$E$2:$E$8409,Sheet3!BO$4,Sheet4!$A$2:$A$8409,Sheet3!$B$1,Sheet4!$B$2:$B$8409,Sheet3!$A$3)","v":0},{"$f":"+SUMIFS(Sheet4!$DM$2:$DM$8409,Sheet4!$C$2:$C$8409,Sheet3!$B15,Sheet4!$D$2:$D$8409,Sheet3!BP$3,Sheet4!$E$2:$E$8409,Sheet3!BP$4,Sheet4!$A$2:$A$8409,Sheet3!$B$1,Sheet4!$B$2:$B$8409,Sheet3!$A$3)","v":0},{"$f":"+SUMIFS(Sheet4!$DM$2:$DM$8409,Sheet4!$C$2:$C$8409,Sheet3!$B15,Sheet4!$D$2:$D$8409,Sheet3!BQ$3,Sheet4!$E$2:$E$8409,Sheet3!BQ$4,Sheet4!$A$2:$A$8409,Sheet3!$B$1,Sheet4!$B$2:$B$8409,Sheet3!$A$3)","v":0},{"$f":"+SUMIFS(Sheet4!$DM$2:$DM$8409,Sheet4!$C$2:$C$8409,Sheet3!$B15,Sheet4!$D$2:$D$8409,Sheet3!BR$3,Sheet4!$E$2:$E$8409,Sheet3!BR$4,Sheet4!$A$2:$A$8409,Sheet3!$B$1,Sheet4!$B$2:$B$8409,Sheet3!$A$3)","v":0},{"$f":"+SUMIFS(Sheet4!$DM$2:$DM$8409,Sheet4!$C$2:$C$8409,Sheet3!$B15,Sheet4!$D$2:$D$8409,Sheet3!BS$3,Sheet4!$E$2:$E$8409,Sheet3!BS$4,Sheet4!$A$2:$A$8409,Sheet3!$B$1,Sheet4!$B$2:$B$8409,Sheet3!$A$3)","v":4773.17},{"$f":"+SUMIFS(Sheet4!$DM$2:$DM$8409,Sheet4!$C$2:$C$8409,Sheet3!$B15,Sheet4!$D$2:$D$8409,Sheet3!BT$3,Sheet4!$E$2:$E$8409,Sheet3!BT$4,Sheet4!$A$2:$A$8409,Sheet3!$B$1,Sheet4!$B$2:$B$8409,Sheet3!$A$3)","v":4211.0600000000004},{"$f":"+SUMIFS(Sheet4!$DM$2:$DM$8409,Sheet4!$C$2:$C$8409,Sheet3!$B15,Sheet4!$D$2:$D$8409,Sheet3!BU$3,Sheet4!$E$2:$E$8409,Sheet3!BU$4,Sheet4!$A$2:$A$8409,Sheet3!$B$1,Sheet4!$B$2:$B$8409,Sheet3!$A$3)","v":0},{"$f":"+SUMIFS(Sheet4!$DM$2:$DM$8409,Sheet4!$C$2:$C$8409,Sheet3!$B15,Sheet4!$D$2:$D$8409,Sheet3!BV$3,Sheet4!$E$2:$E$8409,Sheet3!BV$4,Sheet4!$A$2:$A$8409,Sheet3!$B$1,Sheet4!$B$2:$B$8409,Sheet3!$A$3)","v":0},{"$f":"+SUMIFS(Sheet4!$DM$2:$DM$8409,Sheet4!$C$2:$C$8409,Sheet3!$B15,Sheet4!$D$2:$D$8409,Sheet3!BW$3,Sheet4!$E$2:$E$8409,Sheet3!BW$4,Sheet4!$A$2:$A$8409,Sheet3!$B$1,Sheet4!$B$2:$B$8409,Sheet3!$A$3)","v":0},{"$f":"+SUMIFS(Sheet4!$DM$2:$DM$8409,Sheet4!$C$2:$C$8409,Sheet3!$B15,Sheet4!$D$2:$D$8409,Sheet3!BX$3,Sheet4!$E$2:$E$8409,Sheet3!BX$4,Sheet4!$A$2:$A$8409,Sheet3!$B$1,Sheet4!$B$2:$B$8409,Sheet3!$A$3)","v":0},{"$f":"+SUMIFS(Sheet4!$DM$2:$DM$8409,Sheet4!$C$2:$C$8409,Sheet3!$B15,Sheet4!$D$2:$D$8409,Sheet3!BY$3,Sheet4!$E$2:$E$8409,Sheet3!BY$4,Sheet4!$A$2:$A$8409,Sheet3!$B$1,Sheet4!$B$2:$B$8409,Sheet3!$A$3)","v":0},{"$f":"+SUMIFS(Sheet4!$DM$2:$DM$8409,Sheet4!$C$2:$C$8409,Sheet3!$B15,Sheet4!$D$2:$D$8409,Sheet3!BZ$3,Sheet4!$E$2:$E$8409,Sheet3!BZ$4,Sheet4!$A$2:$A$8409,Sheet3!$B$1,Sheet4!$B$2:$B$8409,Sheet3!$A$3)","v":0},{"$f":"+SUMIFS(Sheet4!$DM$2:$DM$8409,Sheet4!$C$2:$C$8409,Sheet3!$B15,Sheet4!$D$2:$D$8409,Sheet3!CA$3,Sheet4!$E$2:$E$8409,Sheet3!CA$4,Sheet4!$A$2:$A$8409,Sheet3!$B$1,Sheet4!$B$2:$B$8409,Sheet3!$A$3)","v":0},{"$f":"+SUMIFS(Sheet4!$DM$2:$DM$8409,Sheet4!$C$2:$C$8409,Sheet3!$B15,Sheet4!$D$2:$D$8409,Sheet3!CB$3,Sheet4!$E$2:$E$8409,Sheet3!CB$4,Sheet4!$A$2:$A$8409,Sheet3!$B$1,Sheet4!$B$2:$B$8409,Sheet3!$A$3)","v":0},{"$f":"+SUMIFS(Sheet4!$DM$2:$DM$8409,Sheet4!$C$2:$C$8409,Sheet3!$B15,Sheet4!$D$2:$D$8409,Sheet3!CC$3,Sheet4!$E$2:$E$8409,Sheet3!CC$4,Sheet4!$A$2:$A$8409,Sheet3!$B$1,Sheet4!$B$2:$B$8409,Sheet3!$A$3)","v":419.88},{"$f":"+SUMIFS(Sheet4!$DM$2:$DM$8409,Sheet4!$C$2:$C$8409,Sheet3!$B15,Sheet4!$D$2:$D$8409,Sheet3!CD$3,Sheet4!$E$2:$E$8409,Sheet3!CD$4,Sheet4!$A$2:$A$8409,Sheet3!$B$1,Sheet4!$B$2:$B$8409,Sheet3!$A$3)","v":0},{"$f":"+SUMIFS(Sheet4!$DM$2:$DM$8409,Sheet4!$C$2:$C$8409,Sheet3!$B15,Sheet4!$D$2:$D$8409,Sheet3!CE$3,Sheet4!$E$2:$E$8409,Sheet3!CE$4,Sheet4!$A$2:$A$8409,Sheet3!$B$1,Sheet4!$B$2:$B$8409,Sheet3!$A$3)","v":0},{"$f":"+SUMIFS(Sheet4!$DM$2:$DM$8409,Sheet4!$C$2:$C$8409,Sheet3!$B15,Sheet4!$D$2:$D$8409,Sheet3!CF$3,Sheet4!$E$2:$E$8409,Sheet3!CF$4,Sheet4!$A$2:$A$8409,Sheet3!$B$1,Sheet4!$B$2:$B$8409,Sheet3!$A$3)","v":0},{"$f":"+SUMIFS(Sheet4!$DM$2:$DM$8409,Sheet4!$C$2:$C$8409,Sheet3!$B15,Sheet4!$D$2:$D$8409,Sheet3!CG$3,Sheet4!$E$2:$E$8409,Sheet3!CG$4,Sheet4!$A$2:$A$8409,Sheet3!$B$1,Sheet4!$B$2:$B$8409,Sheet3!$A$3)","v":0},{"$f":"+SUMIFS(Sheet4!$DM$2:$DM$8409,Sheet4!$C$2:$C$8409,Sheet3!$B15,Sheet4!$D$2:$D$8409,Sheet3!CH$3,Sheet4!$E$2:$E$8409,Sheet3!CH$4,Sheet4!$A$2:$A$8409,Sheet3!$B$1,Sheet4!$B$2:$B$8409,Sheet3!$A$3)","v":0},{"$f":"+SUMIFS(Sheet4!$DM$2:$DM$8409,Sheet4!$C$2:$C$8409,Sheet3!$B15,Sheet4!$D$2:$D$8409,Sheet3!CI$3,Sheet4!$E$2:$E$8409,Sheet3!CI$4,Sheet4!$A$2:$A$8409,Sheet3!$B$1,Sheet4!$B$2:$B$8409,Sheet3!$A$3)","v":0},{"$f":"+SUMIFS(Sheet4!$DM$2:$DM$8409,Sheet4!$C$2:$C$8409,Sheet3!$B15,Sheet4!$D$2:$D$8409,Sheet3!CJ$3,Sheet4!$E$2:$E$8409,Sheet3!CJ$4,Sheet4!$A$2:$A$8409,Sheet3!$B$1,Sheet4!$B$2:$B$8409,Sheet3!$A$3)","v":0},{"$f":"+SUMIFS(Sheet4!$DM$2:$DM$8409,Sheet4!$C$2:$C$8409,Sheet3!$B15,Sheet4!$D$2:$D$8409,Sheet3!CK$3,Sheet4!$E$2:$E$8409,Sheet3!CK$4,Sheet4!$A$2:$A$8409,Sheet3!$B$1,Sheet4!$B$2:$B$8409,Sheet3!$A$3)","v":0},{"$f":"+SUMIFS(Sheet4!$DM$2:$DM$8409,Sheet4!$C$2:$C$8409,Sheet3!$B15,Sheet4!$D$2:$D$8409,Sheet3!CL$3,Sheet4!$E$2:$E$8409,Sheet3!CL$4,Sheet4!$A$2:$A$8409,Sheet3!$B$1,Sheet4!$B$2:$B$8409,Sheet3!$A$3)","v":0},{"$f":"+SUMIFS(Sheet4!$DM$2:$DM$8409,Sheet4!$C$2:$C$8409,Sheet3!$B15,Sheet4!$D$2:$D$8409,Sheet3!CM$3,Sheet4!$E$2:$E$8409,Sheet3!CM$4,Sheet4!$A$2:$A$8409,Sheet3!$B$1,Sheet4!$B$2:$B$8409,Sheet3!$A$3)","v":0},{"$f":"+SUMIFS(Sheet4!$DM$2:$DM$8409,Sheet4!$C$2:$C$8409,Sheet3!$B15,Sheet4!$D$2:$D$8409,Sheet3!CN$3,Sheet4!$E$2:$E$8409,Sheet3!CN$4,Sheet4!$A$2:$A$8409,Sheet3!$B$1,Sheet4!$B$2:$B$8409,Sheet3!$A$3)","v":0},{"$f":"+SUMIFS(Sheet4!$DM$2:$DM$8409,Sheet4!$C$2:$C$8409,Sheet3!$B15,Sheet4!$D$2:$D$8409,Sheet3!CO$3,Sheet4!$E$2:$E$8409,Sheet3!CO$4,Sheet4!$A$2:$A$8409,Sheet3!$B$1,Sheet4!$B$2:$B$8409,Sheet3!$A$3)","v":0},{"$f":"+SUMIFS(Sheet4!$DM$2:$DM$8409,Sheet4!$C$2:$C$8409,Sheet3!$B15,Sheet4!$D$2:$D$8409,Sheet3!CP$3,Sheet4!$E$2:$E$8409,Sheet3!CP$4,Sheet4!$A$2:$A$8409,Sheet3!$B$1,Sheet4!$B$2:$B$8409,Sheet3!$A$3)","v":0},{"$f":"+SUMIFS(Sheet4!$DM$2:$DM$8409,Sheet4!$C$2:$C$8409,Sheet3!$B15,Sheet4!$D$2:$D$8409,Sheet3!CQ$3,Sheet4!$E$2:$E$8409,Sheet3!CQ$4,Sheet4!$A$2:$A$8409,Sheet3!$B$1,Sheet4!$B$2:$B$8409,Sheet3!$A$3)","v":0},{"$f":"+SUMIFS(Sheet4!$DM$2:$DM$8409,Sheet4!$C$2:$C$8409,Sheet3!$B15,Sheet4!$D$2:$D$8409,Sheet3!CR$3,Sheet4!$E$2:$E$8409,Sheet3!CR$4,Sheet4!$A$2:$A$8409,Sheet3!$B$1,Sheet4!$B$2:$B$8409,Sheet3!$A$3)","v":0},{"$f":"+SUMIFS(Sheet4!$DM$2:$DM$8409,Sheet4!$C$2:$C$8409,Sheet3!$B15,Sheet4!$D$2:$D$8409,Sheet3!CS$3,Sheet4!$E$2:$E$8409,Sheet3!CS$4,Sheet4!$A$2:$A$8409,Sheet3!$B$1,Sheet4!$B$2:$B$8409,Sheet3!$A$3)","v":0},{"$f":"+SUMIFS(Sheet4!$DM$2:$DM$8409,Sheet4!$C$2:$C$8409,Sheet3!$B15,Sheet4!$D$2:$D$8409,Sheet3!CT$3,Sheet4!$E$2:$E$8409,Sheet3!CT$4,Sheet4!$A$2:$A$8409,Sheet3!$B$1,Sheet4!$B$2:$B$8409,Sheet3!$A$3)","v":0},{"$f":"+IF(SUMIFS(Sheet4!$DN$2:$DN$8409,Sheet4!$C$2:$C$8409,Sheet3!$B15,Sheet4!$D$2:$D$8409,Sheet3!CU$3,Sheet4!$A$2:$A$8409,Sheet3!$B$1,Sheet4!$B$2:$B$8409,Sheet3!$A$3)<3,0,SUMIFS(Sheet4!$DN$2:$DN$8409,Sheet4!$C$2:$C$8409,Sheet3!$B15,Sheet4!$D$2:$D$8409,Sheet3!CU$3,Sheet4!$A$2:$A$8409,Sheet3!$B$1,Sheet4!$B$2:$B$8409,Sheet3!$A$3))","v":0},{"$f":"+IF(SUMIFS(Sheet4!$DN$2:$DN$8409,Sheet4!$C$2:$C$8409,Sheet3!$B15,Sheet4!$D$2:$D$8409,Sheet3!CV$3,Sheet4!$A$2:$A$8409,Sheet3!$B$1,Sheet4!$B$2:$B$8409,Sheet3!$A$3)<3,0,SUMIFS(Sheet4!$DN$2:$DN$8409,Sheet4!$C$2:$C$8409,Sheet3!$B15,Sheet4!$D$2:$D$8409,Sheet3!CV$3,Sheet4!$A$2:$A$8409,Sheet3!$B$1,Sheet4!$B$2:$B$8409,Sheet3!$A$3))","v":0},{"$f":"+IF(SUMIFS(Sheet4!$DN$2:$DN$8409,Sheet4!$C$2:$C$8409,Sheet3!$B15,Sheet4!$D$2:$D$8409,Sheet3!CW$3,Sheet4!$A$2:$A$8409,Sheet3!$B$1,Sheet4!$B$2:$B$8409,Sheet3!$A$3)<3,0,SUMIFS(Sheet4!$DN$2:$DN$8409,Sheet4!$C$2:$C$8409,Sheet3!$B15,Sheet4!$D$2:$D$8409,Sheet3!CW$3,Sheet4!$A$2:$A$8409,Sheet3!$B$1,Sheet4!$B$2:$B$8409,Sheet3!$A$3))","v":0},{"$f":"+IF(SUMIFS(Sheet4!$DN$2:$DN$8409,Sheet4!$C$2:$C$8409,Sheet3!$B15,Sheet4!$D$2:$D$8409,Sheet3!CX$3,Sheet4!$A$2:$A$8409,Sheet3!$B$1,Sheet4!$B$2:$B$8409,Sheet3!$A$3)<3,0,SUMIFS(Sheet4!$DN$2:$DN$8409,Sheet4!$C$2:$C$8409,Sheet3!$B15,Sheet4!$D$2:$D$8409,Sheet3!CX$3,Sheet4!$A$2:$A$8409,Sheet3!$B$1,Sheet4!$B$2:$B$8409,Sheet3!$A$3))","v":0},{"$f":"+IF(SUMIFS(Sheet4!$DN$2:$DN$8409,Sheet4!$C$2:$C$8409,Sheet3!$B15,Sheet4!$D$2:$D$8409,Sheet3!CY$3,Sheet4!$A$2:$A$8409,Sheet3!$B$1,Sheet4!$B$2:$B$8409,Sheet3!$A$3)<3,0,SUMIFS(Sheet4!$DN$2:$DN$8409,Sheet4!$C$2:$C$8409,Sheet3!$B15,Sheet4!$D$2:$D$8409,Sheet3!CY$3,Sheet4!$A$2:$A$8409,Sheet3!$B$1,Sheet4!$B$2:$B$8409,Sheet3!$A$3))","v":0},{"$f":"+IF(SUMIFS(Sheet4!$DN$2:$DN$8409,Sheet4!$C$2:$C$8409,Sheet3!$B15,Sheet4!$D$2:$D$8409,Sheet3!CZ$3,Sheet4!$A$2:$A$8409,Sheet3!$B$1,Sheet4!$B$2:$B$8409,Sheet3!$A$3)<3,0,SUMIFS(Sheet4!$DN$2:$DN$8409,Sheet4!$C$2:$C$8409,Sheet3!$B15,Sheet4!$D$2:$D$8409,Sheet3!CZ$3,Sheet4!$A$2:$A$8409,Sheet3!$B$1,Sheet4!$B$2:$B$8409,Sheet3!$A$3))","v":0},{"$f":"+IF(SUMIFS(Sheet4!$DN$2:$DN$8409,Sheet4!$C$2:$C$8409,Sheet3!$B15,Sheet4!$D$2:$D$8409,Sheet3!DA$3,Sheet4!$A$2:$A$8409,Sheet3!$B$1,Sheet4!$B$2:$B$8409,Sheet3!$A$3)<3,0,SUMIFS(Sheet4!$DN$2:$DN$8409,Sheet4!$C$2:$C$8409,Sheet3!$B15,Sheet4!$D$2:$D$8409,Sheet3!DA$3,Sheet4!$A$2:$A$8409,Sheet3!$B$1,Sheet4!$B$2:$B$8409,Sheet3!$A$3))","v":0},{"$f":"+IF(SUMIFS(Sheet4!$DN$2:$DN$8409,Sheet4!$C$2:$C$8409,Sheet3!$B15,Sheet4!$D$2:$D$8409,Sheet3!DB$3,Sheet4!$A$2:$A$8409,Sheet3!$B$1,Sheet4!$B$2:$B$8409,Sheet3!$A$3)<3,0,SUMIFS(Sheet4!$DN$2:$DN$8409,Sheet4!$C$2:$C$8409,Sheet3!$B15,Sheet4!$D$2:$D$8409,Sheet3!DB$3,Sheet4!$A$2:$A$8409,Sheet3!$B$1,Sheet4!$B$2:$B$8409,Sheet3!$A$3))","v":0},{"$f":"+IF(SUMIFS(Sheet4!$DN$2:$DN$8409,Sheet4!$C$2:$C$8409,Sheet3!$B15,Sheet4!$D$2:$D$8409,Sheet3!DC$3,Sheet4!$A$2:$A$8409,Sheet3!$B$1,Sheet4!$B$2:$B$8409,Sheet3!$A$3)<3,0,SUMIFS(Sheet4!$DN$2:$DN$8409,Sheet4!$C$2:$C$8409,Sheet3!$B15,Sheet4!$D$2:$D$8409,Sheet3!DC$3,Sheet4!$A$2:$A$8409,Sheet3!$B$1,Sheet4!$B$2:$B$8409,Sheet3!$A$3))","v":0},{"$f":"+IF(SUMIFS(Sheet4!$DN$2:$DN$8409,Sheet4!$C$2:$C$8409,Sheet3!$B15,Sheet4!$D$2:$D$8409,Sheet3!DD$3,Sheet4!$A$2:$A$8409,Sheet3!$B$1,Sheet4!$B$2:$B$8409,Sheet3!$A$3)<3,0,SUMIFS(Sheet4!$DN$2:$DN$8409,Sheet4!$C$2:$C$8409,Sheet3!$B15,Sheet4!$D$2:$D$8409,Sheet3!DD$3,Sheet4!$A$2:$A$8409,Sheet3!$B$1,Sheet4!$B$2:$B$8409,Sheet3!$A$3))","v":240},{"$f":"+IF(SUMIFS(Sheet4!$DN$2:$DN$8409,Sheet4!$C$2:$C$8409,Sheet3!$B15,Sheet4!$D$2:$D$8409,Sheet3!DE$3,Sheet4!$A$2:$A$8409,Sheet3!$B$1,Sheet4!$B$2:$B$8409,Sheet3!$A$3)<3,0,SUMIFS(Sheet4!$DN$2:$DN$8409,Sheet4!$C$2:$C$8409,Sheet3!$B15,Sheet4!$D$2:$D$8409,Sheet3!DE$3,Sheet4!$A$2:$A$8409,Sheet3!$B$1,Sheet4!$B$2:$B$8409,Sheet3!$A$3))","v":0},{"$f":"+IF(SUMIFS(Sheet4!$DN$2:$DN$8409,Sheet4!$C$2:$C$8409,Sheet3!$B15,Sheet4!$D$2:$D$8409,Sheet3!DF$3,Sheet4!$A$2:$A$8409,Sheet3!$B$1,Sheet4!$B$2:$B$8409,Sheet3!$A$3)<3,0,SUMIFS(Sheet4!$DN$2:$DN$8409,Sheet4!$C$2:$C$8409,Sheet3!$B15,Sheet4!$D$2:$D$8409,Sheet3!DF$3,Sheet4!$A$2:$A$8409,Sheet3!$B$1,Sheet4!$B$2:$B$8409,Sheet3!$A$3))","v":0},{"$f":"+IF(SUMIFS(Sheet4!$DN$2:$DN$8409,Sheet4!$C$2:$C$8409,Sheet3!$B15,Sheet4!$D$2:$D$8409,Sheet3!DG$3,Sheet4!$A$2:$A$8409,Sheet3!$B$1,Sheet4!$B$2:$B$8409,Sheet3!$A$3)<3,0,SUMIFS(Sheet4!$DN$2:$DN$8409,Sheet4!$C$2:$C$8409,Sheet3!$B15,Sheet4!$D$2:$D$8409,Sheet3!DG$3,Sheet4!$A$2:$A$8409,Sheet3!$B$1,Sheet4!$B$2:$B$8409,Sheet3!$A$3))","v":0},{"$f":"+IF(SUMIFS(Sheet4!$DN$2:$DN$8409,Sheet4!$C$2:$C$8409,Sheet3!$B15,Sheet4!$D$2:$D$8409,Sheet3!DH$3,Sheet4!$A$2:$A$8409,Sheet3!$B$1,Sheet4!$B$2:$B$8409,Sheet3!$A$3)<3,0,SUMIFS(Sheet4!$DN$2:$DN$8409,Sheet4!$C$2:$C$8409,Sheet3!$B15,Sheet4!$D$2:$D$8409,Sheet3!DH$3,Sheet4!$A$2:$A$8409,Sheet3!$B$1,Sheet4!$B$2:$B$8409,Sheet3!$A$3))","v":8984.23},{"$f":"+IF(SUMIFS(Sheet4!$DN$2:$DN$8409,Sheet4!$C$2:$C$8409,Sheet3!$B15,Sheet4!$D$2:$D$8409,Sheet3!DI$3,Sheet4!$A$2:$A$8409,Sheet3!$B$1,Sheet4!$B$2:$B$8409,Sheet3!$A$3)<3,0,SUMIFS(Sheet4!$DN$2:$DN$8409,Sheet4!$C$2:$C$8409,Sheet3!$B15,Sheet4!$D$2:$D$8409,Sheet3!DI$3,Sheet4!$A$2:$A$8409,Sheet3!$B$1,Sheet4!$B$2:$B$8409,Sheet3!$A$3))","v":0},{"$f":"+IF(SUMIFS(Sheet4!$DN$2:$DN$8409,Sheet4!$C$2:$C$8409,Sheet3!$B15,Sheet4!$D$2:$D$8409,Sheet3!DJ$3,Sheet4!$A$2:$A$8409,Sheet3!$B$1,Sheet4!$B$2:$B$8409,Sheet3!$A$3)<3,0,SUMIFS(Sheet4!$DN$2:$DN$8409,Sheet4!$C$2:$C$8409,Sheet3!$B15,Sheet4!$D$2:$D$8409,Sheet3!DJ$3,Sheet4!$A$2:$A$8409,Sheet3!$B$1,Sheet4!$B$2:$B$8409,Sheet3!$A$3))","v":419.88},{"$f":"+IF(SUMIFS(Sheet4!$DN$2:$DN$8409,Sheet4!$C$2:$C$8409,Sheet3!$B15,Sheet4!$D$2:$D$8409,Sheet3!DK$3,Sheet4!$A$2:$A$8409,Sheet3!$B$1,Sheet4!$B$2:$B$8409,Sheet3!$A$3)<3,0,SUMIFS(Sheet4!$DN$2:$DN$8409,Sheet4!$C$2:$C$8409,Sheet3!$B15,Sheet4!$D$2:$D$8409,Sheet3!DK$3,Sheet4!$A$2:$A$8409,Sheet3!$B$1,Sheet4!$B$2:$B$8409,Sheet3!$A$3))","v":0},{"$f":"+IF(SUMIFS(Sheet4!$DN$2:$DN$8409,Sheet4!$C$2:$C$8409,Sheet3!$B15,Sheet4!$D$2:$D$8409,Sheet3!DL$3,Sheet4!$A$2:$A$8409,Sheet3!$B$1,Sheet4!$B$2:$B$8409,Sheet3!$A$3)<3,0,SUMIFS(Sheet4!$DN$2:$DN$8409,Sheet4!$C$2:$C$8409,Sheet3!$B15,Sheet4!$D$2:$D$8409,Sheet3!DL$3,Sheet4!$A$2:$A$8409,Sheet3!$B$1,Sheet4!$B$2:$B$8409,Sheet3!$A$3))","v":0},{"$f":"+IF(SUMIFS(Sheet4!$DN$2:$DN$8409,Sheet4!$C$2:$C$8409,Sheet3!$B15,Sheet4!$D$2:$D$8409,Sheet3!DM$3,Sheet4!$A$2:$A$8409,Sheet3!$B$1,Sheet4!$B$2:$B$8409,Sheet3!$A$3)<3,0,SUMIFS(Sheet4!$DN$2:$DN$8409,Sheet4!$C$2:$C$8409,Sheet3!$B15,Sheet4!$D$2:$D$8409,Sheet3!DM$3,Sheet4!$A$2:$A$8409,Sheet3!$B$1,Sheet4!$B$2:$B$8409,Sheet3!$A$3))","v":0},{"$f":"+IF(SUMIFS(Sheet4!$DN$2:$DN$8409,Sheet4!$C$2:$C$8409,Sheet3!$B15,Sheet4!$E$2:$E$8409,Sheet3!DN$4,Sheet4!$A$2:$A$8409,Sheet3!$B$1,Sheet4!$B$2:$B$8409,Sheet3!$A$3)<3,0,SUMIFS(Sheet4!$DN$2:$DN$8409,Sheet4!$C$2:$C$8409,Sheet3!$B15,Sheet4!$E$2:$E$8409,Sheet3!DN$4,Sheet4!$A$2:$A$8409,Sheet3!$B$1,Sheet4!$B$2:$B$8409,Sheet3!$A$3))","v":0},{"$f":"+IF(SUMIFS(Sheet4!$DN$2:$DN$8409,Sheet4!$C$2:$C$8409,Sheet3!$B15,Sheet4!$E$2:$E$8409,Sheet3!DO$4,Sheet4!$A$2:$A$8409,Sheet3!$B$1,Sheet4!$B$2:$B$8409,Sheet3!$A$3)<3,0,SUMIFS(Sheet4!$DN$2:$DN$8409,Sheet4!$C$2:$C$8409,Sheet3!$B15,Sheet4!$E$2:$E$8409,Sheet3!DO$4,Sheet4!$A$2:$A$8409,Sheet3!$B$1,Sheet4!$B$2:$B$8409,Sheet3!$A$3))","v":0},{"$f":"+IF(SUMIFS(Sheet4!$DN$2:$DN$8409,Sheet4!$C$2:$C$8409,Sheet3!$B15,Sheet4!$E$2:$E$8409,Sheet3!DP$4,Sheet4!$A$2:$A$8409,Sheet3!$B$1,Sheet4!$B$2:$B$8409,Sheet3!$A$3)<3,0,SUMIFS(Sheet4!$DN$2:$DN$8409,Sheet4!$C$2:$C$8409,Sheet3!$B15,Sheet4!$E$2:$E$8409,Sheet3!DP$4,Sheet4!$A$2:$A$8409,Sheet3!$B$1,Sheet4!$B$2:$B$8409,Sheet3!$A$3))","v":5433.05},{"$f":"+IF(SUMIFS(Sheet4!$DN$2:$DN$8409,Sheet4!$C$2:$C$8409,Sheet3!$B15,Sheet4!$E$2:$E$8409,Sheet3!DQ$4,Sheet4!$A$2:$A$8409,Sheet3!$B$1,Sheet4!$B$2:$B$8409,Sheet3!$A$3)<3,0,SUMIFS(Sheet4!$DN$2:$DN$8409,Sheet4!$C$2:$C$8409,Sheet3!$B15,Sheet4!$E$2:$E$8409,Sheet3!DQ$4,Sheet4!$A$2:$A$8409,Sheet3!$B$1,Sheet4!$B$2:$B$8409,Sheet3!$A$3))","v":4211.0600000000004},{"$f":"+IF(SUMIFS(Sheet4!$DN$2:$DN$8409,Sheet4!$C$2:$C$8409,Sheet3!$B15,Sheet4!$E$2:$E$8409,Sheet3!DR$4,Sheet4!$A$2:$A$8409,Sheet3!$B$1,Sheet4!$B$2:$B$8409,Sheet3!$A$3)<3,0,SUMIFS(Sheet4!$DN$2:$DN$8409,Sheet4!$C$2:$C$8409,Sheet3!$B15,Sheet4!$E$2:$E$8409,Sheet3!DR$4,Sheet4!$A$2:$A$8409,Sheet3!$B$1,Sheet4!$B$2:$B$8409,Sheet3!$A$3))","v":0}]
[3,"16B","Oeste",{"$f":"+SUMIFS(Sheet4!$DM$2:$DM$8409,Sheet4!$C$2:$C$8409,Sheet3!$B16,Sheet4!$D$2:$D$8409,Sheet3!D$3,Sheet4!$E$2:$E$8409,Sheet3!D$4,Sheet4!$A$2:$A$8409,Sheet3!$B$1,Sheet4!$B$2:$B$8409,Sheet3!$A$3)","v":0},{"$f":"+SUMIFS(Sheet4!$DM$2:$DM$8409,Sheet4!$C$2:$C$8409,Sheet3!$B16,Sheet4!$D$2:$D$8409,Sheet3!E$3,Sheet4!$E$2:$E$8409,Sheet3!E$4,Sheet4!$A$2:$A$8409,Sheet3!$B$1,Sheet4!$B$2:$B$8409,Sheet3!$A$3)","v":0},{"$f":"+SUMIFS(Sheet4!$DM$2:$DM$8409,Sheet4!$C$2:$C$8409,Sheet3!$B16,Sheet4!$D$2:$D$8409,Sheet3!F$3,Sheet4!$E$2:$E$8409,Sheet3!F$4,Sheet4!$A$2:$A$8409,Sheet3!$B$1,Sheet4!$B$2:$B$8409,Sheet3!$A$3)","v":0},{"$f":"+SUMIFS(Sheet4!$DM$2:$DM$8409,Sheet4!$C$2:$C$8409,Sheet3!$B16,Sheet4!$D$2:$D$8409,Sheet3!G$3,Sheet4!$E$2:$E$8409,Sheet3!G$4,Sheet4!$A$2:$A$8409,Sheet3!$B$1,Sheet4!$B$2:$B$8409,Sheet3!$A$3)","v":0},{"$f":"+SUMIFS(Sheet4!$DM$2:$DM$8409,Sheet4!$C$2:$C$8409,Sheet3!$B16,Sheet4!$D$2:$D$8409,Sheet3!H$3,Sheet4!$E$2:$E$8409,Sheet3!H$4,Sheet4!$A$2:$A$8409,Sheet3!$B$1,Sheet4!$B$2:$B$8409,Sheet3!$A$3)","v":0},{"$f":"+SUMIFS(Sheet4!$DM$2:$DM$8409,Sheet4!$C$2:$C$8409,Sheet3!$B16,Sheet4!$D$2:$D$8409,Sheet3!I$3,Sheet4!$E$2:$E$8409,Sheet3!I$4,Sheet4!$A$2:$A$8409,Sheet3!$B$1,Sheet4!$B$2:$B$8409,Sheet3!$A$3)","v":0},{"$f":"+SUMIFS(Sheet4!$DM$2:$DM$8409,Sheet4!$C$2:$C$8409,Sheet3!$B16,Sheet4!$D$2:$D$8409,Sheet3!J$3,Sheet4!$E$2:$E$8409,Sheet3!J$4,Sheet4!$A$2:$A$8409,Sheet3!$B$1,Sheet4!$B$2:$B$8409,Sheet3!$A$3)","v":0},{"$f":"+SUMIFS(Sheet4!$DM$2:$DM$8409,Sheet4!$C$2:$C$8409,Sheet3!$B16,Sheet4!$D$2:$D$8409,Sheet3!K$3,Sheet4!$E$2:$E$8409,Sheet3!K$4,Sheet4!$A$2:$A$8409,Sheet3!$B$1,Sheet4!$B$2:$B$8409,Sheet3!$A$3)","v":0},{"$f":"+SUMIFS(Sheet4!$DM$2:$DM$8409,Sheet4!$C$2:$C$8409,Sheet3!$B16,Sheet4!$D$2:$D$8409,Sheet3!L$3,Sheet4!$E$2:$E$8409,Sheet3!L$4,Sheet4!$A$2:$A$8409,Sheet3!$B$1,Sheet4!$B$2:$B$8409,Sheet3!$A$3)","v":0},{"$f":"+SUMIFS(Sheet4!$DM$2:$DM$8409,Sheet4!$C$2:$C$8409,Sheet3!$B16,Sheet4!$D$2:$D$8409,Sheet3!M$3,Sheet4!$E$2:$E$8409,Sheet3!M$4,Sheet4!$A$2:$A$8409,Sheet3!$B$1,Sheet4!$B$2:$B$8409,Sheet3!$A$3)","v":0},{"$f":"+SUMIFS(Sheet4!$DM$2:$DM$8409,Sheet4!$C$2:$C$8409,Sheet3!$B16,Sheet4!$D$2:$D$8409,Sheet3!N$3,Sheet4!$E$2:$E$8409,Sheet3!N$4,Sheet4!$A$2:$A$8409,Sheet3!$B$1,Sheet4!$B$2:$B$8409,Sheet3!$A$3)","v":0},{"$f":"+SUMIFS(Sheet4!$DM$2:$DM$8409,Sheet4!$C$2:$C$8409,Sheet3!$B16,Sheet4!$D$2:$D$8409,Sheet3!O$3,Sheet4!$E$2:$E$8409,Sheet3!O$4,Sheet4!$A$2:$A$8409,Sheet3!$B$1,Sheet4!$B$2:$B$8409,Sheet3!$A$3)","v":0},{"$f":"+SUMIFS(Sheet4!$DM$2:$DM$8409,Sheet4!$C$2:$C$8409,Sheet3!$B16,Sheet4!$D$2:$D$8409,Sheet3!P$3,Sheet4!$E$2:$E$8409,Sheet3!P$4,Sheet4!$A$2:$A$8409,Sheet3!$B$1,Sheet4!$B$2:$B$8409,Sheet3!$A$3)","v":0},{"$f":"+SUMIFS(Sheet4!$DM$2:$DM$8409,Sheet4!$C$2:$C$8409,Sheet3!$B16,Sheet4!$D$2:$D$8409,Sheet3!Q$3,Sheet4!$E$2:$E$8409,Sheet3!Q$4,Sheet4!$A$2:$A$8409,Sheet3!$B$1,Sheet4!$B$2:$B$8409,Sheet3!$A$3)","v":0},{"$f":"+SUMIFS(Sheet4!$DM$2:$DM$8409,Sheet4!$C$2:$C$8409,Sheet3!$B16,Sheet4!$D$2:$D$8409,Sheet3!R$3,Sheet4!$E$2:$E$8409,Sheet3!R$4,Sheet4!$A$2:$A$8409,Sheet3!$B$1,Sheet4!$B$2:$B$8409,Sheet3!$A$3)","v":0},{"$f":"+SUMIFS(Sheet4!$DM$2:$DM$8409,Sheet4!$C$2:$C$8409,Sheet3!$B16,Sheet4!$D$2:$D$8409,Sheet3!S$3,Sheet4!$E$2:$E$8409,Sheet3!S$4,Sheet4!$A$2:$A$8409,Sheet3!$B$1,Sheet4!$B$2:$B$8409,Sheet3!$A$3)","v":0},{"$f":"+SUMIFS(Sheet4!$DM$2:$DM$8409,Sheet4!$C$2:$C$8409,Sheet3!$B16,Sheet4!$D$2:$D$8409,Sheet3!T$3,Sheet4!$E$2:$E$8409,Sheet3!T$4,Sheet4!$A$2:$A$8409,Sheet3!$B$1,Sheet4!$B$2:$B$8409,Sheet3!$A$3)","v":0},{"$f":"+SUMIFS(Sheet4!$DM$2:$DM$8409,Sheet4!$C$2:$C$8409,Sheet3!$B16,Sheet4!$D$2:$D$8409,Sheet3!U$3,Sheet4!$E$2:$E$8409,Sheet3!U$4,Sheet4!$A$2:$A$8409,Sheet3!$B$1,Sheet4!$B$2:$B$8409,Sheet3!$A$3)","v":0},{"$f":"+SUMIFS(Sheet4!$DM$2:$DM$8409,Sheet4!$C$2:$C$8409,Sheet3!$B16,Sheet4!$D$2:$D$8409,Sheet3!V$3,Sheet4!$E$2:$E$8409,Sheet3!V$4,Sheet4!$A$2:$A$8409,Sheet3!$B$1,Sheet4!$B$2:$B$8409,Sheet3!$A$3)","v":0},{"$f":"+SUMIFS(Sheet4!$DM$2:$DM$8409,Sheet4!$C$2:$C$8409,Sheet3!$B16,Sheet4!$D$2:$D$8409,Sheet3!W$3,Sheet4!$E$2:$E$8409,Sheet3!W$4,Sheet4!$A$2:$A$8409,Sheet3!$B$1,Sheet4!$B$2:$B$8409,Sheet3!$A$3)","v":0},{"$f":"+SUMIFS(Sheet4!$DM$2:$DM$8409,Sheet4!$C$2:$C$8409,Sheet3!$B16,Sheet4!$D$2:$D$8409,Sheet3!X$3,Sheet4!$E$2:$E$8409,Sheet3!X$4,Sheet4!$A$2:$A$8409,Sheet3!$B$1,Sheet4!$B$2:$B$8409,Sheet3!$A$3)","v":0},{"$f":"+SUMIFS(Sheet4!$DM$2:$DM$8409,Sheet4!$C$2:$C$8409,Sheet3!$B16,Sheet4!$D$2:$D$8409,Sheet3!Y$3,Sheet4!$E$2:$E$8409,Sheet3!Y$4,Sheet4!$A$2:$A$8409,Sheet3!$B$1,Sheet4!$B$2:$B$8409,Sheet3!$A$3)","v":0},{"$f":"+SUMIFS(Sheet4!$DM$2:$DM$8409,Sheet4!$C$2:$C$8409,Sheet3!$B16,Sheet4!$D$2:$D$8409,Sheet3!Z$3,Sheet4!$E$2:$E$8409,Sheet3!Z$4,Sheet4!$A$2:$A$8409,Sheet3!$B$1,Sheet4!$B$2:$B$8409,Sheet3!$A$3)","v":0},{"$f":"+SUMIFS(Sheet4!$DM$2:$DM$8409,Sheet4!$C$2:$C$8409,Sheet3!$B16,Sheet4!$D$2:$D$8409,Sheet3!AA$3,Sheet4!$E$2:$E$8409,Sheet3!AA$4,Sheet4!$A$2:$A$8409,Sheet3!$B$1,Sheet4!$B$2:$B$8409,Sheet3!$A$3)","v":0},{"$f":"+SUMIFS(Sheet4!$DM$2:$DM$8409,Sheet4!$C$2:$C$8409,Sheet3!$B16,Sheet4!$D$2:$D$8409,Sheet3!AB$3,Sheet4!$E$2:$E$8409,Sheet3!AB$4,Sheet4!$A$2:$A$8409,Sheet3!$B$1,Sheet4!$B$2:$B$8409,Sheet3!$A$3)","v":0},{"$f":"+SUMIFS(Sheet4!$DM$2:$DM$8409,Sheet4!$C$2:$C$8409,Sheet3!$B16,Sheet4!$D$2:$D$8409,Sheet3!AC$3,Sheet4!$E$2:$E$8409,Sheet3!AC$4,Sheet4!$A$2:$A$8409,Sheet3!$B$1,Sheet4!$B$2:$B$8409,Sheet3!$A$3)","v":0},{"$f":"+SUMIFS(Sheet4!$DM$2:$DM$8409,Sheet4!$C$2:$C$8409,Sheet3!$B16,Sheet4!$D$2:$D$8409,Sheet3!AD$3,Sheet4!$E$2:$E$8409,Sheet3!AD$4,Sheet4!$A$2:$A$8409,Sheet3!$B$1,Sheet4!$B$2:$B$8409,Sheet3!$A$3)","v":0},{"$f":"+SUMIFS(Sheet4!$DM$2:$DM$8409,Sheet4!$C$2:$C$8409,Sheet3!$B16,Sheet4!$D$2:$D$8409,Sheet3!AE$3,Sheet4!$E$2:$E$8409,Sheet3!AE$4,Sheet4!$A$2:$A$8409,Sheet3!$B$1,Sheet4!$B$2:$B$8409,Sheet3!$A$3)","v":0},{"$f":"+SUMIFS(Sheet4!$DM$2:$DM$8409,Sheet4!$C$2:$C$8409,Sheet3!$B16,Sheet4!$D$2:$D$8409,Sheet3!AF$3,Sheet4!$E$2:$E$8409,Sheet3!AF$4,Sheet4!$A$2:$A$8409,Sheet3!$B$1,Sheet4!$B$2:$B$8409,Sheet3!$A$3)","v":0},{"$f":"+SUMIFS(Sheet4!$DM$2:$DM$8409,Sheet4!$C$2:$C$8409,Sheet3!$B16,Sheet4!$D$2:$D$8409,Sheet3!AG$3,Sheet4!$E$2:$E$8409,Sheet3!AG$4,Sheet4!$A$2:$A$8409,Sheet3!$B$1,Sheet4!$B$2:$B$8409,Sheet3!$A$3)","v":0},{"$f":"+SUMIFS(Sheet4!$DM$2:$DM$8409,Sheet4!$C$2:$C$8409,Sheet3!$B16,Sheet4!$D$2:$D$8409,Sheet3!AH$3,Sheet4!$E$2:$E$8409,Sheet3!AH$4,Sheet4!$A$2:$A$8409,Sheet3!$B$1,Sheet4!$B$2:$B$8409,Sheet3!$A$3)","v":0},{"$f":"+SUMIFS(Sheet4!$DM$2:$DM$8409,Sheet4!$C$2:$C$8409,Sheet3!$B16,Sheet4!$D$2:$D$8409,Sheet3!AI$3,Sheet4!$E$2:$E$8409,Sheet3!AI$4,Sheet4!$A$2:$A$8409,Sheet3!$B$1,Sheet4!$B$2:$B$8409,Sheet3!$A$3)","v":0},{"$f":"+SUMIFS(Sheet4!$DM$2:$DM$8409,Sheet4!$C$2:$C$8409,Sheet3!$B16,Sheet4!$D$2:$D$8409,Sheet3!AJ$3,Sheet4!$E$2:$E$8409,Sheet3!AJ$4,Sheet4!$A$2:$A$8409,Sheet3!$B$1,Sheet4!$B$2:$B$8409,Sheet3!$A$3)","v":0},{"$f":"+SUMIFS(Sheet4!$DM$2:$DM$8409,Sheet4!$C$2:$C$8409,Sheet3!$B16,Sheet4!$D$2:$D$8409,Sheet3!AK$3,Sheet4!$E$2:$E$8409,Sheet3!AK$4,Sheet4!$A$2:$A$8409,Sheet3!$B$1,Sheet4!$B$2:$B$8409,Sheet3!$A$3)","v":0},{"$f":"+SUMIFS(Sheet4!$DM$2:$DM$8409,Sheet4!$C$2:$C$8409,Sheet3!$B16,Sheet4!$D$2:$D$8409,Sheet3!AL$3,Sheet4!$E$2:$E$8409,Sheet3!AL$4,Sheet4!$A$2:$A$8409,Sheet3!$B$1,Sheet4!$B$2:$B$8409,Sheet3!$A$3)","v":0},{"$f":"+SUMIFS(Sheet4!$DM$2:$DM$8409,Sheet4!$C$2:$C$8409,Sheet3!$B16,Sheet4!$D$2:$D$8409,Sheet3!AM$3,Sheet4!$E$2:$E$8409,Sheet3!AM$4,Sheet4!$A$2:$A$8409,Sheet3!$B$1,Sheet4!$B$2:$B$8409,Sheet3!$A$3)","v":0},{"$f":"+SUMIFS(Sheet4!$DM$2:$DM$8409,Sheet4!$C$2:$C$8409,Sheet3!$B16,Sheet4!$D$2:$D$8409,Sheet3!AN$3,Sheet4!$E$2:$E$8409,Sheet3!AN$4,Sheet4!$A$2:$A$8409,Sheet3!$B$1,Sheet4!$B$2:$B$8409,Sheet3!$A$3)","v":0},{"$f":"+SUMIFS(Sheet4!$DM$2:$DM$8409,Sheet4!$C$2:$C$8409,Sheet3!$B16,Sheet4!$D$2:$D$8409,Sheet3!AO$3,Sheet4!$E$2:$E$8409,Sheet3!AO$4,Sheet4!$A$2:$A$8409,Sheet3!$B$1,Sheet4!$B$2:$B$8409,Sheet3!$A$3)","v":0},{"$f":"+SUMIFS(Sheet4!$DM$2:$DM$8409,Sheet4!$C$2:$C$8409,Sheet3!$B16,Sheet4!$D$2:$D$8409,Sheet3!AP$3,Sheet4!$E$2:$E$8409,Sheet3!AP$4,Sheet4!$A$2:$A$8409,Sheet3!$B$1,Sheet4!$B$2:$B$8409,Sheet3!$A$3)","v":0},{"$f":"+SUMIFS(Sheet4!$DM$2:$DM$8409,Sheet4!$C$2:$C$8409,Sheet3!$B16,Sheet4!$D$2:$D$8409,Sheet3!AQ$3,Sheet4!$E$2:$E$8409,Sheet3!AQ$4,Sheet4!$A$2:$A$8409,Sheet3!$B$1,Sheet4!$B$2:$B$8409,Sheet3!$A$3)","v":0},{"$f":"+SUMIFS(Sheet4!$DM$2:$DM$8409,Sheet4!$C$2:$C$8409,Sheet3!$B16,Sheet4!$D$2:$D$8409,Sheet3!AR$3,Sheet4!$E$2:$E$8409,Sheet3!AR$4,Sheet4!$A$2:$A$8409,Sheet3!$B$1,Sheet4!$B$2:$B$8409,Sheet3!$A$3)","v":0},{"$f":"+SUMIFS(Sheet4!$DM$2:$DM$8409,Sheet4!$C$2:$C$8409,Sheet3!$B16,Sheet4!$D$2:$D$8409,Sheet3!AS$3,Sheet4!$E$2:$E$8409,Sheet3!AS$4,Sheet4!$A$2:$A$8409,Sheet3!$B$1,Sheet4!$B$2:$B$8409,Sheet3!$A$3)","v":0},{"$f":"+SUMIFS(Sheet4!$DM$2:$DM$8409,Sheet4!$C$2:$C$8409,Sheet3!$B16,Sheet4!$D$2:$D$8409,Sheet3!AT$3,Sheet4!$E$2:$E$8409,Sheet3!AT$4,Sheet4!$A$2:$A$8409,Sheet3!$B$1,Sheet4!$B$2:$B$8409,Sheet3!$A$3)","v":0},{"$f":"+SUMIFS(Sheet4!$DM$2:$DM$8409,Sheet4!$C$2:$C$8409,Sheet3!$B16,Sheet4!$D$2:$D$8409,Sheet3!AU$3,Sheet4!$E$2:$E$8409,Sheet3!AU$4,Sheet4!$A$2:$A$8409,Sheet3!$B$1,Sheet4!$B$2:$B$8409,Sheet3!$A$3)","v":0},{"$f":"+SUMIFS(Sheet4!$DM$2:$DM$8409,Sheet4!$C$2:$C$8409,Sheet3!$B16,Sheet4!$D$2:$D$8409,Sheet3!AV$3,Sheet4!$E$2:$E$8409,Sheet3!AV$4,Sheet4!$A$2:$A$8409,Sheet3!$B$1,Sheet4!$B$2:$B$8409,Sheet3!$A$3)","v":0},{"$f":"+SUMIFS(Sheet4!$DM$2:$DM$8409,Sheet4!$C$2:$C$8409,Sheet3!$B16,Sheet4!$D$2:$D$8409,Sheet3!AW$3,Sheet4!$E$2:$E$8409,Sheet3!AW$4,Sheet4!$A$2:$A$8409,Sheet3!$B$1,Sheet4!$B$2:$B$8409,Sheet3!$A$3)","v":0},{"$f":"+SUMIFS(Sheet4!$DM$2:$DM$8409,Sheet4!$C$2:$C$8409,Sheet3!$B16,Sheet4!$D$2:$D$8409,Sheet3!AX$3,Sheet4!$E$2:$E$8409,Sheet3!AX$4,Sheet4!$A$2:$A$8409,Sheet3!$B$1,Sheet4!$B$2:$B$8409,Sheet3!$A$3)","v":0},{"$f":"+SUMIFS(Sheet4!$DM$2:$DM$8409,Sheet4!$C$2:$C$8409,Sheet3!$B16,Sheet4!$D$2:$D$8409,Sheet3!AY$3,Sheet4!$E$2:$E$8409,Sheet3!AY$4,Sheet4!$A$2:$A$8409,Sheet3!$B$1,Sheet4!$B$2:$B$8409,Sheet3!$A$3)","v":0},{"$f":"+SUMIFS(Sheet4!$DM$2:$DM$8409,Sheet4!$C$2:$C$8409,Sheet3!$B16,Sheet4!$D$2:$D$8409,Sheet3!AZ$3,Sheet4!$E$2:$E$8409,Sheet3!AZ$4,Sheet4!$A$2:$A$8409,Sheet3!$B$1,Sheet4!$B$2:$B$8409,Sheet3!$A$3)","v":0},{"$f":"+SUMIFS(Sheet4!$DM$2:$DM$8409,Sheet4!$C$2:$C$8409,Sheet3!$B16,Sheet4!$D$2:$D$8409,Sheet3!BA$3,Sheet4!$E$2:$E$8409,Sheet3!BA$4,Sheet4!$A$2:$A$8409,Sheet3!$B$1,Sheet4!$B$2:$B$8409,Sheet3!$A$3)","v":0},{"$f":"+SUMIFS(Sheet4!$DM$2:$DM$8409,Sheet4!$C$2:$C$8409,Sheet3!$B16,Sheet4!$D$2:$D$8409,Sheet3!BB$3,Sheet4!$E$2:$E$8409,Sheet3!BB$4,Sheet4!$A$2:$A$8409,Sheet3!$B$1,Sheet4!$B$2:$B$8409,Sheet3!$A$3)","v":0},{"$f":"+SUMIFS(Sheet4!$DM$2:$DM$8409,Sheet4!$C$2:$C$8409,Sheet3!$B16,Sheet4!$D$2:$D$8409,Sheet3!BC$3,Sheet4!$E$2:$E$8409,Sheet3!BC$4,Sheet4!$A$2:$A$8409,Sheet3!$B$1,Sheet4!$B$2:$B$8409,Sheet3!$A$3)","v":0},{"$f":"+SUMIFS(Sheet4!$DM$2:$DM$8409,Sheet4!$C$2:$C$8409,Sheet3!$B16,Sheet4!$D$2:$D$8409,Sheet3!BD$3,Sheet4!$E$2:$E$8409,Sheet3!BD$4,Sheet4!$A$2:$A$8409,Sheet3!$B$1,Sheet4!$B$2:$B$8409,Sheet3!$A$3)","v":0},{"$f":"+SUMIFS(Sheet4!$DM$2:$DM$8409,Sheet4!$C$2:$C$8409,Sheet3!$B16,Sheet4!$D$2:$D$8409,Sheet3!BE$3,Sheet4!$E$2:$E$8409,Sheet3!BE$4,Sheet4!$A$2:$A$8409,Sheet3!$B$1,Sheet4!$B$2:$B$8409,Sheet3!$A$3)","v":0},{"$f":"+SUMIFS(Sheet4!$DM$2:$DM$8409,Sheet4!$C$2:$C$8409,Sheet3!$B16,Sheet4!$D$2:$D$8409,Sheet3!BF$3,Sheet4!$E$2:$E$8409,Sheet3!BF$4,Sheet4!$A$2:$A$8409,Sheet3!$B$1,Sheet4!$B$2:$B$8409,Sheet3!$A$3)","v":0},{"$f":"+SUMIFS(Sheet4!$DM$2:$DM$8409,Sheet4!$C$2:$C$8409,Sheet3!$B16,Sheet4!$D$2:$D$8409,Sheet3!BG$3,Sheet4!$E$2:$E$8409,Sheet3!BG$4,Sheet4!$A$2:$A$8409,Sheet3!$B$1,Sheet4!$B$2:$B$8409,Sheet3!$A$3)","v":0},{"$f":"+SUMIFS(Sheet4!$DM$2:$DM$8409,Sheet4!$C$2:$C$8409,Sheet3!$B16,Sheet4!$D$2:$D$8409,Sheet3!BH$3,Sheet4!$E$2:$E$8409,Sheet3!BH$4,Sheet4!$A$2:$A$8409,Sheet3!$B$1,Sheet4!$B$2:$B$8409,Sheet3!$A$3)","v":0},{"$f":"+SUMIFS(Sheet4!$DM$2:$DM$8409,Sheet4!$C$2:$C$8409,Sheet3!$B16,Sheet4!$D$2:$D$8409,Sheet3!BI$3,Sheet4!$E$2:$E$8409,Sheet3!BI$4,Sheet4!$A$2:$A$8409,Sheet3!$B$1,Sheet4!$B$2:$B$8409,Sheet3!$A$3)","v":0},{"$f":"+SUMIFS(Sheet4!$DM$2:$DM$8409,Sheet4!$C$2:$C$8409,Sheet3!$B16,Sheet4!$D$2:$D$8409,Sheet3!BJ$3,Sheet4!$E$2:$E$8409,Sheet3!BJ$4,Sheet4!$A$2:$A$8409,Sheet3!$B$1,Sheet4!$B$2:$B$8409,Sheet3!$A$3)","v":0},{"$f":"+SUMIFS(Sheet4!$DM$2:$DM$8409,Sheet4!$C$2:$C$8409,Sheet3!$B16,Sheet4!$D$2:$D$8409,Sheet3!BK$3,Sheet4!$E$2:$E$8409,Sheet3!BK$4,Sheet4!$A$2:$A$8409,Sheet3!$B$1,Sheet4!$B$2:$B$8409,Sheet3!$A$3)","v":0},{"$f":"+SUMIFS(Sheet4!$DM$2:$DM$8409,Sheet4!$C$2:$C$8409,Sheet3!$B16,Sheet4!$D$2:$D$8409,Sheet3!BL$3,Sheet4!$E$2:$E$8409,Sheet3!BL$4,Sheet4!$A$2:$A$8409,Sheet3!$B$1,Sheet4!$B$2:$B$8409,Sheet3!$A$3)","v":0},{"$f":"+SUMIFS(Sheet4!$DM$2:$DM$8409,Sheet4!$C$2:$C$8409,Sheet3!$B16,Sheet4!$D$2:$D$8409,Sheet3!BM$3,Sheet4!$E$2:$E$8409,Sheet3!BM$4,Sheet4!$A$2:$A$8409,Sheet3!$B$1,Sheet4!$B$2:$B$8409,Sheet3!$A$3)","v":0},{"$f":"+SUMIFS(Sheet4!$DM$2:$DM$8409,Sheet4!$C$2:$C$8409,Sheet3!$B16,Sheet4!$D$2:$D$8409,Sheet3!BN$3,Sheet4!$E$2:$E$8409,Sheet3!BN$4,Sheet4!$A$2:$A$8409,Sheet3!$B$1,Sheet4!$B$2:$B$8409,Sheet3!$A$3)","v":0},{"$f":"+SUMIFS(Sheet4!$DM$2:$DM$8409,Sheet4!$C$2:$C$8409,Sheet3!$B16,Sheet4!$D$2:$D$8409,Sheet3!BO$3,Sheet4!$E$2:$E$8409,Sheet3!BO$4,Sheet4!$A$2:$A$8409,Sheet3!$B$1,Sheet4!$B$2:$B$8409,Sheet3!$A$3)","v":0},{"$f":"+SUMIFS(Sheet4!$DM$2:$DM$8409,Sheet4!$C$2:$C$8409,Sheet3!$B16,Sheet4!$D$2:$D$8409,Sheet3!BP$3,Sheet4!$E$2:$E$8409,Sheet3!BP$4,Sheet4!$A$2:$A$8409,Sheet3!$B$1,Sheet4!$B$2:$B$8409,Sheet3!$A$3)","v":0},{"$f":"+SUMIFS(Sheet4!$DM$2:$DM$8409,Sheet4!$C$2:$C$8409,Sheet3!$B16,Sheet4!$D$2:$D$8409,Sheet3!BQ$3,Sheet4!$E$2:$E$8409,Sheet3!BQ$4,Sheet4!$A$2:$A$8409,Sheet3!$B$1,Sheet4!$B$2:$B$8409,Sheet3!$A$3)","v":0},{"$f":"+SUMIFS(Sheet4!$DM$2:$DM$8409,Sheet4!$C$2:$C$8409,Sheet3!$B16,Sheet4!$D$2:$D$8409,Sheet3!BR$3,Sheet4!$E$2:$E$8409,Sheet3!BR$4,Sheet4!$A$2:$A$8409,Sheet3!$B$1,Sheet4!$B$2:$B$8409,Sheet3!$A$3)","v":0},{"$f":"+SUMIFS(Sheet4!$DM$2:$DM$8409,Sheet4!$C$2:$C$8409,Sheet3!$B16,Sheet4!$D$2:$D$8409,Sheet3!BS$3,Sheet4!$E$2:$E$8409,Sheet3!BS$4,Sheet4!$A$2:$A$8409,Sheet3!$B$1,Sheet4!$B$2:$B$8409,Sheet3!$A$3)","v":0},{"$f":"+SUMIFS(Sheet4!$DM$2:$DM$8409,Sheet4!$C$2:$C$8409,Sheet3!$B16,Sheet4!$D$2:$D$8409,Sheet3!BT$3,Sheet4!$E$2:$E$8409,Sheet3!BT$4,Sheet4!$A$2:$A$8409,Sheet3!$B$1,Sheet4!$B$2:$B$8409,Sheet3!$A$3)","v":2066.87},{"$f":"+SUMIFS(Sheet4!$DM$2:$DM$8409,Sheet4!$C$2:$C$8409,Sheet3!$B16,Sheet4!$D$2:$D$8409,Sheet3!BU$3,Sheet4!$E$2:$E$8409,Sheet3!BU$4,Sheet4!$A$2:$A$8409,Sheet3!$B$1,Sheet4!$B$2:$B$8409,Sheet3!$A$3)","v":0},{"$f":"+SUMIFS(Sheet4!$DM$2:$DM$8409,Sheet4!$C$2:$C$8409,Sheet3!$B16,Sheet4!$D$2:$D$8409,Sheet3!BV$3,Sheet4!$E$2:$E$8409,Sheet3!BV$4,Sheet4!$A$2:$A$8409,Sheet3!$B$1,Sheet4!$B$2:$B$8409,Sheet3!$A$3)","v":0},{"$f":"+SUMIFS(Sheet4!$DM$2:$DM$8409,Sheet4!$C$2:$C$8409,Sheet3!$B16,Sheet4!$D$2:$D$8409,Sheet3!BW$3,Sheet4!$E$2:$E$8409,Sheet3!BW$4,Sheet4!$A$2:$A$8409,Sheet3!$B$1,Sheet4!$B$2:$B$8409,Sheet3!$A$3)","v":0},{"$f":"+SUMIFS(Sheet4!$DM$2:$DM$8409,Sheet4!$C$2:$C$8409,Sheet3!$B16,Sheet4!$D$2:$D$8409,Sheet3!BX$3,Sheet4!$E$2:$E$8409,Sheet3!BX$4,Sheet4!$A$2:$A$8409,Sheet3!$B$1,Sheet4!$B$2:$B$8409,Sheet3!$A$3)","v":0},{"$f":"+SUMIFS(Sheet4!$DM$2:$DM$8409,Sheet4!$C$2:$C$8409,Sheet3!$B16,Sheet4!$D$2:$D$8409,Sheet3!BY$3,Sheet4!$E$2:$E$8409,Sheet3!BY$4,Sheet4!$A$2:$A$8409,Sheet3!$B$1,Sheet4!$B$2:$B$8409,Sheet3!$A$3)","v":0},{"$f":"+SUMIFS(Sheet4!$DM$2:$DM$8409,Sheet4!$C$2:$C$8409,Sheet3!$B16,Sheet4!$D$2:$D$8409,Sheet3!BZ$3,Sheet4!$E$2:$E$8409,Sheet3!BZ$4,Sheet4!$A$2:$A$8409,Sheet3!$B$1,Sheet4!$B$2:$B$8409,Sheet3!$A$3)","v":0},{"$f":"+SUMIFS(Sheet4!$DM$2:$DM$8409,Sheet4!$C$2:$C$8409,Sheet3!$B16,Sheet4!$D$2:$D$8409,Sheet3!CA$3,Sheet4!$E$2:$E$8409,Sheet3!CA$4,Sheet4!$A$2:$A$8409,Sheet3!$B$1,Sheet4!$B$2:$B$8409,Sheet3!$A$3)","v":0},{"$f":"+SUMIFS(Sheet4!$DM$2:$DM$8409,Sheet4!$C$2:$C$8409,Sheet3!$B16,Sheet4!$D$2:$D$8409,Sheet3!CB$3,Sheet4!$E$2:$E$8409,Sheet3!CB$4,Sheet4!$A$2:$A$8409,Sheet3!$B$1,Sheet4!$B$2:$B$8409,Sheet3!$A$3)","v":0},{"$f":"+SUMIFS(Sheet4!$DM$2:$DM$8409,Sheet4!$C$2:$C$8409,Sheet3!$B16,Sheet4!$D$2:$D$8409,Sheet3!CC$3,Sheet4!$E$2:$E$8409,Sheet3!CC$4,Sheet4!$A$2:$A$8409,Sheet3!$B$1,Sheet4!$B$2:$B$8409,Sheet3!$A$3)","v":0},{"$f":"+SUMIFS(Sheet4!$DM$2:$DM$8409,Sheet4!$C$2:$C$8409,Sheet3!$B16,Sheet4!$D$2:$D$8409,Sheet3!CD$3,Sheet4!$E$2:$E$8409,Sheet3!CD$4,Sheet4!$A$2:$A$8409,Sheet3!$B$1,Sheet4!$B$2:$B$8409,Sheet3!$A$3)","v":0},{"$f":"+SUMIFS(Sheet4!$DM$2:$DM$8409,Sheet4!$C$2:$C$8409,Sheet3!$B16,Sheet4!$D$2:$D$8409,Sheet3!CE$3,Sheet4!$E$2:$E$8409,Sheet3!CE$4,Sheet4!$A$2:$A$8409,Sheet3!$B$1,Sheet4!$B$2:$B$8409,Sheet3!$A$3)","v":0},{"$f":"+SUMIFS(Sheet4!$DM$2:$DM$8409,Sheet4!$C$2:$C$8409,Sheet3!$B16,Sheet4!$D$2:$D$8409,Sheet3!CF$3,Sheet4!$E$2:$E$8409,Sheet3!CF$4,Sheet4!$A$2:$A$8409,Sheet3!$B$1,Sheet4!$B$2:$B$8409,Sheet3!$A$3)","v":0},{"$f":"+SUMIFS(Sheet4!$DM$2:$DM$8409,Sheet4!$C$2:$C$8409,Sheet3!$B16,Sheet4!$D$2:$D$8409,Sheet3!CG$3,Sheet4!$E$2:$E$8409,Sheet3!CG$4,Sheet4!$A$2:$A$8409,Sheet3!$B$1,Sheet4!$B$2:$B$8409,Sheet3!$A$3)","v":0},{"$f":"+SUMIFS(Sheet4!$DM$2:$DM$8409,Sheet4!$C$2:$C$8409,Sheet3!$B16,Sheet4!$D$2:$D$8409,Sheet3!CH$3,Sheet4!$E$2:$E$8409,Sheet3!CH$4,Sheet4!$A$2:$A$8409,Sheet3!$B$1,Sheet4!$B$2:$B$8409,Sheet3!$A$3)","v":0},{"$f":"+SUMIFS(Sheet4!$DM$2:$DM$8409,Sheet4!$C$2:$C$8409,Sheet3!$B16,Sheet4!$D$2:$D$8409,Sheet3!CI$3,Sheet4!$E$2:$E$8409,Sheet3!CI$4,Sheet4!$A$2:$A$8409,Sheet3!$B$1,Sheet4!$B$2:$B$8409,Sheet3!$A$3)","v":0},{"$f":"+SUMIFS(Sheet4!$DM$2:$DM$8409,Sheet4!$C$2:$C$8409,Sheet3!$B16,Sheet4!$D$2:$D$8409,Sheet3!CJ$3,Sheet4!$E$2:$E$8409,Sheet3!CJ$4,Sheet4!$A$2:$A$8409,Sheet3!$B$1,Sheet4!$B$2:$B$8409,Sheet3!$A$3)","v":0},{"$f":"+SUMIFS(Sheet4!$DM$2:$DM$8409,Sheet4!$C$2:$C$8409,Sheet3!$B16,Sheet4!$D$2:$D$8409,Sheet3!CK$3,Sheet4!$E$2:$E$8409,Sheet3!CK$4,Sheet4!$A$2:$A$8409,Sheet3!$B$1,Sheet4!$B$2:$B$8409,Sheet3!$A$3)","v":0},{"$f":"+SUMIFS(Sheet4!$DM$2:$DM$8409,Sheet4!$C$2:$C$8409,Sheet3!$B16,Sheet4!$D$2:$D$8409,Sheet3!CL$3,Sheet4!$E$2:$E$8409,Sheet3!CL$4,Sheet4!$A$2:$A$8409,Sheet3!$B$1,Sheet4!$B$2:$B$8409,Sheet3!$A$3)","v":0},{"$f":"+SUMIFS(Sheet4!$DM$2:$DM$8409,Sheet4!$C$2:$C$8409,Sheet3!$B16,Sheet4!$D$2:$D$8409,Sheet3!CM$3,Sheet4!$E$2:$E$8409,Sheet3!CM$4,Sheet4!$A$2:$A$8409,Sheet3!$B$1,Sheet4!$B$2:$B$8409,Sheet3!$A$3)","v":0},{"$f":"+SUMIFS(Sheet4!$DM$2:$DM$8409,Sheet4!$C$2:$C$8409,Sheet3!$B16,Sheet4!$D$2:$D$8409,Sheet3!CN$3,Sheet4!$E$2:$E$8409,Sheet3!CN$4,Sheet4!$A$2:$A$8409,Sheet3!$B$1,Sheet4!$B$2:$B$8409,Sheet3!$A$3)","v":0},{"$f":"+SUMIFS(Sheet4!$DM$2:$DM$8409,Sheet4!$C$2:$C$8409,Sheet3!$B16,Sheet4!$D$2:$D$8409,Sheet3!CO$3,Sheet4!$E$2:$E$8409,Sheet3!CO$4,Sheet4!$A$2:$A$8409,Sheet3!$B$1,Sheet4!$B$2:$B$8409,Sheet3!$A$3)","v":0},{"$f":"+SUMIFS(Sheet4!$DM$2:$DM$8409,Sheet4!$C$2:$C$8409,Sheet3!$B16,Sheet4!$D$2:$D$8409,Sheet3!CP$3,Sheet4!$E$2:$E$8409,Sheet3!CP$4,Sheet4!$A$2:$A$8409,Sheet3!$B$1,Sheet4!$B$2:$B$8409,Sheet3!$A$3)","v":0},{"$f":"+SUMIFS(Sheet4!$DM$2:$DM$8409,Sheet4!$C$2:$C$8409,Sheet3!$B16,Sheet4!$D$2:$D$8409,Sheet3!CQ$3,Sheet4!$E$2:$E$8409,Sheet3!CQ$4,Sheet4!$A$2:$A$8409,Sheet3!$B$1,Sheet4!$B$2:$B$8409,Sheet3!$A$3)","v":0},{"$f":"+SUMIFS(Sheet4!$DM$2:$DM$8409,Sheet4!$C$2:$C$8409,Sheet3!$B16,Sheet4!$D$2:$D$8409,Sheet3!CR$3,Sheet4!$E$2:$E$8409,Sheet3!CR$4,Sheet4!$A$2:$A$8409,Sheet3!$B$1,Sheet4!$B$2:$B$8409,Sheet3!$A$3)","v":0},{"$f":"+SUMIFS(Sheet4!$DM$2:$DM$8409,Sheet4!$C$2:$C$8409,Sheet3!$B16,Sheet4!$D$2:$D$8409,Sheet3!CS$3,Sheet4!$E$2:$E$8409,Sheet3!CS$4,Sheet4!$A$2:$A$8409,Sheet3!$B$1,Sheet4!$B$2:$B$8409,Sheet3!$A$3)","v":0},{"$f":"+SUMIFS(Sheet4!$DM$2:$DM$8409,Sheet4!$C$2:$C$8409,Sheet3!$B16,Sheet4!$D$2:$D$8409,Sheet3!CT$3,Sheet4!$E$2:$E$8409,Sheet3!CT$4,Sheet4!$A$2:$A$8409,Sheet3!$B$1,Sheet4!$B$2:$B$8409,Sheet3!$A$3)","v":0},{"$f":"+IF(SUMIFS(Sheet4!$DN$2:$DN$8409,Sheet4!$C$2:$C$8409,Sheet3!$B16,Sheet4!$D$2:$D$8409,Sheet3!CU$3,Sheet4!$A$2:$A$8409,Sheet3!$B$1,Sheet4!$B$2:$B$8409,Sheet3!$A$3)<3,0,SUMIFS(Sheet4!$DN$2:$DN$8409,Sheet4!$C$2:$C$8409,Sheet3!$B16,Sheet4!$D$2:$D$8409,Sheet3!CU$3,Sheet4!$A$2:$A$8409,Sheet3!$B$1,Sheet4!$B$2:$B$8409,Sheet3!$A$3))","v":0},{"$f":"+IF(SUMIFS(Sheet4!$DN$2:$DN$8409,Sheet4!$C$2:$C$8409,Sheet3!$B16,Sheet4!$D$2:$D$8409,Sheet3!CV$3,Sheet4!$A$2:$A$8409,Sheet3!$B$1,Sheet4!$B$2:$B$8409,Sheet3!$A$3)<3,0,SUMIFS(Sheet4!$DN$2:$DN$8409,Sheet4!$C$2:$C$8409,Sheet3!$B16,Sheet4!$D$2:$D$8409,Sheet3!CV$3,Sheet4!$A$2:$A$8409,Sheet3!$B$1,Sheet4!$B$2:$B$8409,Sheet3!$A$3))","v":0},{"$f":"+IF(SUMIFS(Sheet4!$DN$2:$DN$8409,Sheet4!$C$2:$C$8409,Sheet3!$B16,Sheet4!$D$2:$D$8409,Sheet3!CW$3,Sheet4!$A$2:$A$8409,Sheet3!$B$1,Sheet4!$B$2:$B$8409,Sheet3!$A$3)<3,0,SUMIFS(Sheet4!$DN$2:$DN$8409,Sheet4!$C$2:$C$8409,Sheet3!$B16,Sheet4!$D$2:$D$8409,Sheet3!CW$3,Sheet4!$A$2:$A$8409,Sheet3!$B$1,Sheet4!$B$2:$B$8409,Sheet3!$A$3))","v":0},{"$f":"+IF(SUMIFS(Sheet4!$DN$2:$DN$8409,Sheet4!$C$2:$C$8409,Sheet3!$B16,Sheet4!$D$2:$D$8409,Sheet3!CX$3,Sheet4!$A$2:$A$8409,Sheet3!$B$1,Sheet4!$B$2:$B$8409,Sheet3!$A$3)<3,0,SUMIFS(Sheet4!$DN$2:$DN$8409,Sheet4!$C$2:$C$8409,Sheet3!$B16,Sheet4!$D$2:$D$8409,Sheet3!CX$3,Sheet4!$A$2:$A$8409,Sheet3!$B$1,Sheet4!$B$2:$B$8409,Sheet3!$A$3))","v":0},{"$f":"+IF(SUMIFS(Sheet4!$DN$2:$DN$8409,Sheet4!$C$2:$C$8409,Sheet3!$B16,Sheet4!$D$2:$D$8409,Sheet3!CY$3,Sheet4!$A$2:$A$8409,Sheet3!$B$1,Sheet4!$B$2:$B$8409,Sheet3!$A$3)<3,0,SUMIFS(Sheet4!$DN$2:$DN$8409,Sheet4!$C$2:$C$8409,Sheet3!$B16,Sheet4!$D$2:$D$8409,Sheet3!CY$3,Sheet4!$A$2:$A$8409,Sheet3!$B$1,Sheet4!$B$2:$B$8409,Sheet3!$A$3))","v":0},{"$f":"+IF(SUMIFS(Sheet4!$DN$2:$DN$8409,Sheet4!$C$2:$C$8409,Sheet3!$B16,Sheet4!$D$2:$D$8409,Sheet3!CZ$3,Sheet4!$A$2:$A$8409,Sheet3!$B$1,Sheet4!$B$2:$B$8409,Sheet3!$A$3)<3,0,SUMIFS(Sheet4!$DN$2:$DN$8409,Sheet4!$C$2:$C$8409,Sheet3!$B16,Sheet4!$D$2:$D$8409,Sheet3!CZ$3,Sheet4!$A$2:$A$8409,Sheet3!$B$1,Sheet4!$B$2:$B$8409,Sheet3!$A$3))","v":0},{"$f":"+IF(SUMIFS(Sheet4!$DN$2:$DN$8409,Sheet4!$C$2:$C$8409,Sheet3!$B16,Sheet4!$D$2:$D$8409,Sheet3!DA$3,Sheet4!$A$2:$A$8409,Sheet3!$B$1,Sheet4!$B$2:$B$8409,Sheet3!$A$3)<3,0,SUMIFS(Sheet4!$DN$2:$DN$8409,Sheet4!$C$2:$C$8409,Sheet3!$B16,Sheet4!$D$2:$D$8409,Sheet3!DA$3,Sheet4!$A$2:$A$8409,Sheet3!$B$1,Sheet4!$B$2:$B$8409,Sheet3!$A$3))","v":0},{"$f":"+IF(SUMIFS(Sheet4!$DN$2:$DN$8409,Sheet4!$C$2:$C$8409,Sheet3!$B16,Sheet4!$D$2:$D$8409,Sheet3!DB$3,Sheet4!$A$2:$A$8409,Sheet3!$B$1,Sheet4!$B$2:$B$8409,Sheet3!$A$3)<3,0,SUMIFS(Sheet4!$DN$2:$DN$8409,Sheet4!$C$2:$C$8409,Sheet3!$B16,Sheet4!$D$2:$D$8409,Sheet3!DB$3,Sheet4!$A$2:$A$8409,Sheet3!$B$1,Sheet4!$B$2:$B$8409,Sheet3!$A$3))","v":0},{"$f":"+IF(SUMIFS(Sheet4!$DN$2:$DN$8409,Sheet4!$C$2:$C$8409,Sheet3!$B16,Sheet4!$D$2:$D$8409,Sheet3!DC$3,Sheet4!$A$2:$A$8409,Sheet3!$B$1,Sheet4!$B$2:$B$8409,Sheet3!$A$3)<3,0,SUMIFS(Sheet4!$DN$2:$DN$8409,Sheet4!$C$2:$C$8409,Sheet3!$B16,Sheet4!$D$2:$D$8409,Sheet3!DC$3,Sheet4!$A$2:$A$8409,Sheet3!$B$1,Sheet4!$B$2:$B$8409,Sheet3!$A$3))","v":0},{"$f":"+IF(SUMIFS(Sheet4!$DN$2:$DN$8409,Sheet4!$C$2:$C$8409,Sheet3!$B16,Sheet4!$D$2:$D$8409,Sheet3!DD$3,Sheet4!$A$2:$A$8409,Sheet3!$B$1,Sheet4!$B$2:$B$8409,Sheet3!$A$3)<3,0,SUMIFS(Sheet4!$DN$2:$DN$8409,Sheet4!$C$2:$C$8409,Sheet3!$B16,Sheet4!$D$2:$D$8409,Sheet3!DD$3,Sheet4!$A$2:$A$8409,Sheet3!$B$1,Sheet4!$B$2:$B$8409,Sheet3!$A$3))","v":0},{"$f":"+IF(SUMIFS(Sheet4!$DN$2:$DN$8409,Sheet4!$C$2:$C$8409,Sheet3!$B16,Sheet4!$D$2:$D$8409,Sheet3!DE$3,Sheet4!$A$2:$A$8409,Sheet3!$B$1,Sheet4!$B$2:$B$8409,Sheet3!$A$3)<3,0,SUMIFS(Sheet4!$DN$2:$DN$8409,Sheet4!$C$2:$C$8409,Sheet3!$B16,Sheet4!$D$2:$D$8409,Sheet3!DE$3,Sheet4!$A$2:$A$8409,Sheet3!$B$1,Sheet4!$B$2:$B$8409,Sheet3!$A$3))","v":0},{"$f":"+IF(SUMIFS(Sheet4!$DN$2:$DN$8409,Sheet4!$C$2:$C$8409,Sheet3!$B16,Sheet4!$D$2:$D$8409,Sheet3!DF$3,Sheet4!$A$2:$A$8409,Sheet3!$B$1,Sheet4!$B$2:$B$8409,Sheet3!$A$3)<3,0,SUMIFS(Sheet4!$DN$2:$DN$8409,Sheet4!$C$2:$C$8409,Sheet3!$B16,Sheet4!$D$2:$D$8409,Sheet3!DF$3,Sheet4!$A$2:$A$8409,Sheet3!$B$1,Sheet4!$B$2:$B$8409,Sheet3!$A$3))","v":0},{"$f":"+IF(SUMIFS(Sheet4!$DN$2:$DN$8409,Sheet4!$C$2:$C$8409,Sheet3!$B16,Sheet4!$D$2:$D$8409,Sheet3!DG$3,Sheet4!$A$2:$A$8409,Sheet3!$B$1,Sheet4!$B$2:$B$8409,Sheet3!$A$3)<3,0,SUMIFS(Sheet4!$DN$2:$DN$8409,Sheet4!$C$2:$C$8409,Sheet3!$B16,Sheet4!$D$2:$D$8409,Sheet3!DG$3,Sheet4!$A$2:$A$8409,Sheet3!$B$1,Sheet4!$B$2:$B$8409,Sheet3!$A$3))","v":0},{"$f":"+IF(SUMIFS(Sheet4!$DN$2:$DN$8409,Sheet4!$C$2:$C$8409,Sheet3!$B16,Sheet4!$D$2:$D$8409,Sheet3!DH$3,Sheet4!$A$2:$A$8409,Sheet3!$B$1,Sheet4!$B$2:$B$8409,Sheet3!$A$3)<3,0,SUMIFS(Sheet4!$DN$2:$DN$8409,Sheet4!$C$2:$C$8409,Sheet3!$B16,Sheet4!$D$2:$D$8409,Sheet3!DH$3,Sheet4!$A$2:$A$8409,Sheet3!$B$1,Sheet4!$B$2:$B$8409,Sheet3!$A$3))","v":2066.87},{"$f":"+IF(SUMIFS(Sheet4!$DN$2:$DN$8409,Sheet4!$C$2:$C$8409,Sheet3!$B16,Sheet4!$D$2:$D$8409,Sheet3!DI$3,Sheet4!$A$2:$A$8409,Sheet3!$B$1,Sheet4!$B$2:$B$8409,Sheet3!$A$3)<3,0,SUMIFS(Sheet4!$DN$2:$DN$8409,Sheet4!$C$2:$C$8409,Sheet3!$B16,Sheet4!$D$2:$D$8409,Sheet3!DI$3,Sheet4!$A$2:$A$8409,Sheet3!$B$1,Sheet4!$B$2:$B$8409,Sheet3!$A$3))","v":0},{"$f":"+IF(SUMIFS(Sheet4!$DN$2:$DN$8409,Sheet4!$C$2:$C$8409,Sheet3!$B16,Sheet4!$D$2:$D$8409,Sheet3!DJ$3,Sheet4!$A$2:$A$8409,Sheet3!$B$1,Sheet4!$B$2:$B$8409,Sheet3!$A$3)<3,0,SUMIFS(Sheet4!$DN$2:$DN$8409,Sheet4!$C$2:$C$8409,Sheet3!$B16,Sheet4!$D$2:$D$8409,Sheet3!DJ$3,Sheet4!$A$2:$A$8409,Sheet3!$B$1,Sheet4!$B$2:$B$8409,Sheet3!$A$3))","v":0},{"$f":"+IF(SUMIFS(Sheet4!$DN$2:$DN$8409,Sheet4!$C$2:$C$8409,Sheet3!$B16,Sheet4!$D$2:$D$8409,Sheet3!DK$3,Sheet4!$A$2:$A$8409,Sheet3!$B$1,Sheet4!$B$2:$B$8409,Sheet3!$A$3)<3,0,SUMIFS(Sheet4!$DN$2:$DN$8409,Sheet4!$C$2:$C$8409,Sheet3!$B16,Sheet4!$D$2:$D$8409,Sheet3!DK$3,Sheet4!$A$2:$A$8409,Sheet3!$B$1,Sheet4!$B$2:$B$8409,Sheet3!$A$3))","v":0},{"$f":"+IF(SUMIFS(Sheet4!$DN$2:$DN$8409,Sheet4!$C$2:$C$8409,Sheet3!$B16,Sheet4!$D$2:$D$8409,Sheet3!DL$3,Sheet4!$A$2:$A$8409,Sheet3!$B$1,Sheet4!$B$2:$B$8409,Sheet3!$A$3)<3,0,SUMIFS(Sheet4!$DN$2:$DN$8409,Sheet4!$C$2:$C$8409,Sheet3!$B16,Sheet4!$D$2:$D$8409,Sheet3!DL$3,Sheet4!$A$2:$A$8409,Sheet3!$B$1,Sheet4!$B$2:$B$8409,Sheet3!$A$3))","v":0},{"$f":"+IF(SUMIFS(Sheet4!$DN$2:$DN$8409,Sheet4!$C$2:$C$8409,Sheet3!$B16,Sheet4!$D$2:$D$8409,Sheet3!DM$3,Sheet4!$A$2:$A$8409,Sheet3!$B$1,Sheet4!$B$2:$B$8409,Sheet3!$A$3)<3,0,SUMIFS(Sheet4!$DN$2:$DN$8409,Sheet4!$C$2:$C$8409,Sheet3!$B16,Sheet4!$D$2:$D$8409,Sheet3!DM$3,Sheet4!$A$2:$A$8409,Sheet3!$B$1,Sheet4!$B$2:$B$8409,Sheet3!$A$3))","v":0},{"$f":"+IF(SUMIFS(Sheet4!$DN$2:$DN$8409,Sheet4!$C$2:$C$8409,Sheet3!$B16,Sheet4!$E$2:$E$8409,Sheet3!DN$4,Sheet4!$A$2:$A$8409,Sheet3!$B$1,Sheet4!$B$2:$B$8409,Sheet3!$A$3)<3,0,SUMIFS(Sheet4!$DN$2:$DN$8409,Sheet4!$C$2:$C$8409,Sheet3!$B16,Sheet4!$E$2:$E$8409,Sheet3!DN$4,Sheet4!$A$2:$A$8409,Sheet3!$B$1,Sheet4!$B$2:$B$8409,Sheet3!$A$3))","v":0},{"$f":"+IF(SUMIFS(Sheet4!$DN$2:$DN$8409,Sheet4!$C$2:$C$8409,Sheet3!$B16,Sheet4!$E$2:$E$8409,Sheet3!DO$4,Sheet4!$A$2:$A$8409,Sheet3!$B$1,Sheet4!$B$2:$B$8409,Sheet3!$A$3)<3,0,SUMIFS(Sheet4!$DN$2:$DN$8409,Sheet4!$C$2:$C$8409,Sheet3!$B16,Sheet4!$E$2:$E$8409,Sheet3!DO$4,Sheet4!$A$2:$A$8409,Sheet3!$B$1,Sheet4!$B$2:$B$8409,Sheet3!$A$3))","v":0},{"$f":"+IF(SUMIFS(Sheet4!$DN$2:$DN$8409,Sheet4!$C$2:$C$8409,Sheet3!$B16,Sheet4!$E$2:$E$8409,Sheet3!DP$4,Sheet4!$A$2:$A$8409,Sheet3!$B$1,Sheet4!$B$2:$B$8409,Sheet3!$A$3)<3,0,SUMIFS(Sheet4!$DN$2:$DN$8409,Sheet4!$C$2:$C$8409,Sheet3!$B16,Sheet4!$E$2:$E$8409,Sheet3!DP$4,Sheet4!$A$2:$A$8409,Sheet3!$B$1,Sheet4!$B$2:$B$8409,Sheet3!$A$3))","v":0},{"$f":"+IF(SUMIFS(Sheet4!$DN$2:$DN$8409,Sheet4!$C$2:$C$8409,Sheet3!$B16,Sheet4!$E$2:$E$8409,Sheet3!DQ$4,Sheet4!$A$2:$A$8409,Sheet3!$B$1,Sheet4!$B$2:$B$8409,Sheet3!$A$3)<3,0,SUMIFS(Sheet4!$DN$2:$DN$8409,Sheet4!$C$2:$C$8409,Sheet3!$B16,Sheet4!$E$2:$E$8409,Sheet3!DQ$4,Sheet4!$A$2:$A$8409,Sheet3!$B$1,Sheet4!$B$2:$B$8409,Sheet3!$A$3))","v":2066.87},{"$f":"+IF(SUMIFS(Sheet4!$DN$2:$DN$8409,Sheet4!$C$2:$C$8409,Sheet3!$B16,Sheet4!$E$2:$E$8409,Sheet3!DR$4,Sheet4!$A$2:$A$8409,Sheet3!$B$1,Sheet4!$B$2:$B$8409,Sheet3!$A$3)<3,0,SUMIFS(Sheet4!$DN$2:$DN$8409,Sheet4!$C$2:$C$8409,Sheet3!$B16,Sheet4!$E$2:$E$8409,Sheet3!DR$4,Sheet4!$A$2:$A$8409,Sheet3!$B$1,Sheet4!$B$2:$B$8409,Sheet3!$A$3))","v":0}]
[3,"16D","Região de Aveiro",{"$f":"+SUMIFS(Sheet4!$DM$2:$DM$8409,Sheet4!$C$2:$C$8409,Sheet3!$B17,Sheet4!$D$2:$D$8409,Sheet3!D$3,Sheet4!$E$2:$E$8409,Sheet3!D$4,Sheet4!$A$2:$A$8409,Sheet3!$B$1,Sheet4!$B$2:$B$8409,Sheet3!$A$3)","v":0},{"$f":"+SUMIFS(Sheet4!$DM$2:$DM$8409,Sheet4!$C$2:$C$8409,Sheet3!$B17,Sheet4!$D$2:$D$8409,Sheet3!E$3,Sheet4!$E$2:$E$8409,Sheet3!E$4,Sheet4!$A$2:$A$8409,Sheet3!$B$1,Sheet4!$B$2:$B$8409,Sheet3!$A$3)","v":0},{"$f":"+SUMIFS(Sheet4!$DM$2:$DM$8409,Sheet4!$C$2:$C$8409,Sheet3!$B17,Sheet4!$D$2:$D$8409,Sheet3!F$3,Sheet4!$E$2:$E$8409,Sheet3!F$4,Sheet4!$A$2:$A$8409,Sheet3!$B$1,Sheet4!$B$2:$B$8409,Sheet3!$A$3)","v":0},{"$f":"+SUMIFS(Sheet4!$DM$2:$DM$8409,Sheet4!$C$2:$C$8409,Sheet3!$B17,Sheet4!$D$2:$D$8409,Sheet3!G$3,Sheet4!$E$2:$E$8409,Sheet3!G$4,Sheet4!$A$2:$A$8409,Sheet3!$B$1,Sheet4!$B$2:$B$8409,Sheet3!$A$3)","v":0},{"$f":"+SUMIFS(Sheet4!$DM$2:$DM$8409,Sheet4!$C$2:$C$8409,Sheet3!$B17,Sheet4!$D$2:$D$8409,Sheet3!H$3,Sheet4!$E$2:$E$8409,Sheet3!H$4,Sheet4!$A$2:$A$8409,Sheet3!$B$1,Sheet4!$B$2:$B$8409,Sheet3!$A$3)","v":0},{"$f":"+SUMIFS(Sheet4!$DM$2:$DM$8409,Sheet4!$C$2:$C$8409,Sheet3!$B17,Sheet4!$D$2:$D$8409,Sheet3!I$3,Sheet4!$E$2:$E$8409,Sheet3!I$4,Sheet4!$A$2:$A$8409,Sheet3!$B$1,Sheet4!$B$2:$B$8409,Sheet3!$A$3)","v":0},{"$f":"+SUMIFS(Sheet4!$DM$2:$DM$8409,Sheet4!$C$2:$C$8409,Sheet3!$B17,Sheet4!$D$2:$D$8409,Sheet3!J$3,Sheet4!$E$2:$E$8409,Sheet3!J$4,Sheet4!$A$2:$A$8409,Sheet3!$B$1,Sheet4!$B$2:$B$8409,Sheet3!$A$3)","v":0},{"$f":"+SUMIFS(Sheet4!$DM$2:$DM$8409,Sheet4!$C$2:$C$8409,Sheet3!$B17,Sheet4!$D$2:$D$8409,Sheet3!K$3,Sheet4!$E$2:$E$8409,Sheet3!K$4,Sheet4!$A$2:$A$8409,Sheet3!$B$1,Sheet4!$B$2:$B$8409,Sheet3!$A$3)","v":0},{"$f":"+SUMIFS(Sheet4!$DM$2:$DM$8409,Sheet4!$C$2:$C$8409,Sheet3!$B17,Sheet4!$D$2:$D$8409,Sheet3!L$3,Sheet4!$E$2:$E$8409,Sheet3!L$4,Sheet4!$A$2:$A$8409,Sheet3!$B$1,Sheet4!$B$2:$B$8409,Sheet3!$A$3)","v":0},{"$f":"+SUMIFS(Sheet4!$DM$2:$DM$8409,Sheet4!$C$2:$C$8409,Sheet3!$B17,Sheet4!$D$2:$D$8409,Sheet3!M$3,Sheet4!$E$2:$E$8409,Sheet3!M$4,Sheet4!$A$2:$A$8409,Sheet3!$B$1,Sheet4!$B$2:$B$8409,Sheet3!$A$3)","v":0},{"$f":"+SUMIFS(Sheet4!$DM$2:$DM$8409,Sheet4!$C$2:$C$8409,Sheet3!$B17,Sheet4!$D$2:$D$8409,Sheet3!N$3,Sheet4!$E$2:$E$8409,Sheet3!N$4,Sheet4!$A$2:$A$8409,Sheet3!$B$1,Sheet4!$B$2:$B$8409,Sheet3!$A$3)","v":0},{"$f":"+SUMIFS(Sheet4!$DM$2:$DM$8409,Sheet4!$C$2:$C$8409,Sheet3!$B17,Sheet4!$D$2:$D$8409,Sheet3!O$3,Sheet4!$E$2:$E$8409,Sheet3!O$4,Sheet4!$A$2:$A$8409,Sheet3!$B$1,Sheet4!$B$2:$B$8409,Sheet3!$A$3)","v":0},{"$f":"+SUMIFS(Sheet4!$DM$2:$DM$8409,Sheet4!$C$2:$C$8409,Sheet3!$B17,Sheet4!$D$2:$D$8409,Sheet3!P$3,Sheet4!$E$2:$E$8409,Sheet3!P$4,Sheet4!$A$2:$A$8409,Sheet3!$B$1,Sheet4!$B$2:$B$8409,Sheet3!$A$3)","v":0},{"$f":"+SUMIFS(Sheet4!$DM$2:$DM$8409,Sheet4!$C$2:$C$8409,Sheet3!$B17,Sheet4!$D$2:$D$8409,Sheet3!Q$3,Sheet4!$E$2:$E$8409,Sheet3!Q$4,Sheet4!$A$2:$A$8409,Sheet3!$B$1,Sheet4!$B$2:$B$8409,Sheet3!$A$3)","v":0},{"$f":"+SUMIFS(Sheet4!$DM$2:$DM$8409,Sheet4!$C$2:$C$8409,Sheet3!$B17,Sheet4!$D$2:$D$8409,Sheet3!R$3,Sheet4!$E$2:$E$8409,Sheet3!R$4,Sheet4!$A$2:$A$8409,Sheet3!$B$1,Sheet4!$B$2:$B$8409,Sheet3!$A$3)","v":0},{"$f":"+SUMIFS(Sheet4!$DM$2:$DM$8409,Sheet4!$C$2:$C$8409,Sheet3!$B17,Sheet4!$D$2:$D$8409,Sheet3!S$3,Sheet4!$E$2:$E$8409,Sheet3!S$4,Sheet4!$A$2:$A$8409,Sheet3!$B$1,Sheet4!$B$2:$B$8409,Sheet3!$A$3)","v":0},{"$f":"+SUMIFS(Sheet4!$DM$2:$DM$8409,Sheet4!$C$2:$C$8409,Sheet3!$B17,Sheet4!$D$2:$D$8409,Sheet3!T$3,Sheet4!$E$2:$E$8409,Sheet3!T$4,Sheet4!$A$2:$A$8409,Sheet3!$B$1,Sheet4!$B$2:$B$8409,Sheet3!$A$3)","v":0},{"$f":"+SUMIFS(Sheet4!$DM$2:$DM$8409,Sheet4!$C$2:$C$8409,Sheet3!$B17,Sheet4!$D$2:$D$8409,Sheet3!U$3,Sheet4!$E$2:$E$8409,Sheet3!U$4,Sheet4!$A$2:$A$8409,Sheet3!$B$1,Sheet4!$B$2:$B$8409,Sheet3!$A$3)","v":0},{"$f":"+SUMIFS(Sheet4!$DM$2:$DM$8409,Sheet4!$C$2:$C$8409,Sheet3!$B17,Sheet4!$D$2:$D$8409,Sheet3!V$3,Sheet4!$E$2:$E$8409,Sheet3!V$4,Sheet4!$A$2:$A$8409,Sheet3!$B$1,Sheet4!$B$2:$B$8409,Sheet3!$A$3)","v":0},{"$f":"+SUMIFS(Sheet4!$DM$2:$DM$8409,Sheet4!$C$2:$C$8409,Sheet3!$B17,Sheet4!$D$2:$D$8409,Sheet3!W$3,Sheet4!$E$2:$E$8409,Sheet3!W$4,Sheet4!$A$2:$A$8409,Sheet3!$B$1,Sheet4!$B$2:$B$8409,Sheet3!$A$3)","v":0},{"$f":"+SUMIFS(Sheet4!$DM$2:$DM$8409,Sheet4!$C$2:$C$8409,Sheet3!$B17,Sheet4!$D$2:$D$8409,Sheet3!X$3,Sheet4!$E$2:$E$8409,Sheet3!X$4,Sheet4!$A$2:$A$8409,Sheet3!$B$1,Sheet4!$B$2:$B$8409,Sheet3!$A$3)","v":0},{"$f":"+SUMIFS(Sheet4!$DM$2:$DM$8409,Sheet4!$C$2:$C$8409,Sheet3!$B17,Sheet4!$D$2:$D$8409,Sheet3!Y$3,Sheet4!$E$2:$E$8409,Sheet3!Y$4,Sheet4!$A$2:$A$8409,Sheet3!$B$1,Sheet4!$B$2:$B$8409,Sheet3!$A$3)","v":0},{"$f":"+SUMIFS(Sheet4!$DM$2:$DM$8409,Sheet4!$C$2:$C$8409,Sheet3!$B17,Sheet4!$D$2:$D$8409,Sheet3!Z$3,Sheet4!$E$2:$E$8409,Sheet3!Z$4,Sheet4!$A$2:$A$8409,Sheet3!$B$1,Sheet4!$B$2:$B$8409,Sheet3!$A$3)","v":0},{"$f":"+SUMIFS(Sheet4!$DM$2:$DM$8409,Sheet4!$C$2:$C$8409,Sheet3!$B17,Sheet4!$D$2:$D$8409,Sheet3!AA$3,Sheet4!$E$2:$E$8409,Sheet3!AA$4,Sheet4!$A$2:$A$8409,Sheet3!$B$1,Sheet4!$B$2:$B$8409,Sheet3!$A$3)","v":0},{"$f":"+SUMIFS(Sheet4!$DM$2:$DM$8409,Sheet4!$C$2:$C$8409,Sheet3!$B17,Sheet4!$D$2:$D$8409,Sheet3!AB$3,Sheet4!$E$2:$E$8409,Sheet3!AB$4,Sheet4!$A$2:$A$8409,Sheet3!$B$1,Sheet4!$B$2:$B$8409,Sheet3!$A$3)","v":0},{"$f":"+SUMIFS(Sheet4!$DM$2:$DM$8409,Sheet4!$C$2:$C$8409,Sheet3!$B17,Sheet4!$D$2:$D$8409,Sheet3!AC$3,Sheet4!$E$2:$E$8409,Sheet3!AC$4,Sheet4!$A$2:$A$8409,Sheet3!$B$1,Sheet4!$B$2:$B$8409,Sheet3!$A$3)","v":0},{"$f":"+SUMIFS(Sheet4!$DM$2:$DM$8409,Sheet4!$C$2:$C$8409,Sheet3!$B17,Sheet4!$D$2:$D$8409,Sheet3!AD$3,Sheet4!$E$2:$E$8409,Sheet3!AD$4,Sheet4!$A$2:$A$8409,Sheet3!$B$1,Sheet4!$B$2:$B$8409,Sheet3!$A$3)","v":0},{"$f":"+SUMIFS(Sheet4!$DM$2:$DM$8409,Sheet4!$C$2:$C$8409,Sheet3!$B17,Sheet4!$D$2:$D$8409,Sheet3!AE$3,Sheet4!$E$2:$E$8409,Sheet3!AE$4,Sheet4!$A$2:$A$8409,Sheet3!$B$1,Sheet4!$B$2:$B$8409,Sheet3!$A$3)","v":0},{"$f":"+SUMIFS(Sheet4!$DM$2:$DM$8409,Sheet4!$C$2:$C$8409,Sheet3!$B17,Sheet4!$D$2:$D$8409,Sheet3!AF$3,Sheet4!$E$2:$E$8409,Sheet3!AF$4,Sheet4!$A$2:$A$8409,Sheet3!$B$1,Sheet4!$B$2:$B$8409,Sheet3!$A$3)","v":0},{"$f":"+SUMIFS(Sheet4!$DM$2:$DM$8409,Sheet4!$C$2:$C$8409,Sheet3!$B17,Sheet4!$D$2:$D$8409,Sheet3!AG$3,Sheet4!$E$2:$E$8409,Sheet3!AG$4,Sheet4!$A$2:$A$8409,Sheet3!$B$1,Sheet4!$B$2:$B$8409,Sheet3!$A$3)","v":0},{"$f":"+SUMIFS(Sheet4!$DM$2:$DM$8409,Sheet4!$C$2:$C$8409,Sheet3!$B17,Sheet4!$D$2:$D$8409,Sheet3!AH$3,Sheet4!$E$2:$E$8409,Sheet3!AH$4,Sheet4!$A$2:$A$8409,Sheet3!$B$1,Sheet4!$B$2:$B$8409,Sheet3!$A$3)","v":0},{"$f":"+SUMIFS(Sheet4!$DM$2:$DM$8409,Sheet4!$C$2:$C$8409,Sheet3!$B17,Sheet4!$D$2:$D$8409,Sheet3!AI$3,Sheet4!$E$2:$E$8409,Sheet3!AI$4,Sheet4!$A$2:$A$8409,Sheet3!$B$1,Sheet4!$B$2:$B$8409,Sheet3!$A$3)","v":0},{"$f":"+SUMIFS(Sheet4!$DM$2:$DM$8409,Sheet4!$C$2:$C$8409,Sheet3!$B17,Sheet4!$D$2:$D$8409,Sheet3!AJ$3,Sheet4!$E$2:$E$8409,Sheet3!AJ$4,Sheet4!$A$2:$A$8409,Sheet3!$B$1,Sheet4!$B$2:$B$8409,Sheet3!$A$3)","v":0},{"$f":"+SUMIFS(Sheet4!$DM$2:$DM$8409,Sheet4!$C$2:$C$8409,Sheet3!$B17,Sheet4!$D$2:$D$8409,Sheet3!AK$3,Sheet4!$E$2:$E$8409,Sheet3!AK$4,Sheet4!$A$2:$A$8409,Sheet3!$B$1,Sheet4!$B$2:$B$8409,Sheet3!$A$3)","v":0},{"$f":"+SUMIFS(Sheet4!$DM$2:$DM$8409,Sheet4!$C$2:$C$8409,Sheet3!$B17,Sheet4!$D$2:$D$8409,Sheet3!AL$3,Sheet4!$E$2:$E$8409,Sheet3!AL$4,Sheet4!$A$2:$A$8409,Sheet3!$B$1,Sheet4!$B$2:$B$8409,Sheet3!$A$3)","v":0},{"$f":"+SUMIFS(Sheet4!$DM$2:$DM$8409,Sheet4!$C$2:$C$8409,Sheet3!$B17,Sheet4!$D$2:$D$8409,Sheet3!AM$3,Sheet4!$E$2:$E$8409,Sheet3!AM$4,Sheet4!$A$2:$A$8409,Sheet3!$B$1,Sheet4!$B$2:$B$8409,Sheet3!$A$3)","v":0},{"$f":"+SUMIFS(Sheet4!$DM$2:$DM$8409,Sheet4!$C$2:$C$8409,Sheet3!$B17,Sheet4!$D$2:$D$8409,Sheet3!AN$3,Sheet4!$E$2:$E$8409,Sheet3!AN$4,Sheet4!$A$2:$A$8409,Sheet3!$B$1,Sheet4!$B$2:$B$8409,Sheet3!$A$3)","v":0},{"$f":"+SUMIFS(Sheet4!$DM$2:$DM$8409,Sheet4!$C$2:$C$8409,Sheet3!$B17,Sheet4!$D$2:$D$8409,Sheet3!AO$3,Sheet4!$E$2:$E$8409,Sheet3!AO$4,Sheet4!$A$2:$A$8409,Sheet3!$B$1,Sheet4!$B$2:$B$8409,Sheet3!$A$3)","v":0},{"$f":"+SUMIFS(Sheet4!$DM$2:$DM$8409,Sheet4!$C$2:$C$8409,Sheet3!$B17,Sheet4!$D$2:$D$8409,Sheet3!AP$3,Sheet4!$E$2:$E$8409,Sheet3!AP$4,Sheet4!$A$2:$A$8409,Sheet3!$B$1,Sheet4!$B$2:$B$8409,Sheet3!$A$3)","v":0},{"$f":"+SUMIFS(Sheet4!$DM$2:$DM$8409,Sheet4!$C$2:$C$8409,Sheet3!$B17,Sheet4!$D$2:$D$8409,Sheet3!AQ$3,Sheet4!$E$2:$E$8409,Sheet3!AQ$4,Sheet4!$A$2:$A$8409,Sheet3!$B$1,Sheet4!$B$2:$B$8409,Sheet3!$A$3)","v":0},{"$f":"+SUMIFS(Sheet4!$DM$2:$DM$8409,Sheet4!$C$2:$C$8409,Sheet3!$B17,Sheet4!$D$2:$D$8409,Sheet3!AR$3,Sheet4!$E$2:$E$8409,Sheet3!AR$4,Sheet4!$A$2:$A$8409,Sheet3!$B$1,Sheet4!$B$2:$B$8409,Sheet3!$A$3)","v":0},{"$f":"+SUMIFS(Sheet4!$DM$2:$DM$8409,Sheet4!$C$2:$C$8409,Sheet3!$B17,Sheet4!$D$2:$D$8409,Sheet3!AS$3,Sheet4!$E$2:$E$8409,Sheet3!AS$4,Sheet4!$A$2:$A$8409,Sheet3!$B$1,Sheet4!$B$2:$B$8409,Sheet3!$A$3)","v":0},{"$f":"+SUMIFS(Sheet4!$DM$2:$DM$8409,Sheet4!$C$2:$C$8409,Sheet3!$B17,Sheet4!$D$2:$D$8409,Sheet3!AT$3,Sheet4!$E$2:$E$8409,Sheet3!AT$4,Sheet4!$A$2:$A$8409,Sheet3!$B$1,Sheet4!$B$2:$B$8409,Sheet3!$A$3)","v":0},{"$f":"+SUMIFS(Sheet4!$DM$2:$DM$8409,Sheet4!$C$2:$C$8409,Sheet3!$B17,Sheet4!$D$2:$D$8409,Sheet3!AU$3,Sheet4!$E$2:$E$8409,Sheet3!AU$4,Sheet4!$A$2:$A$8409,Sheet3!$B$1,Sheet4!$B$2:$B$8409,Sheet3!$A$3)","v":0},{"$f":"+SUMIFS(Sheet4!$DM$2:$DM$8409,Sheet4!$C$2:$C$8409,Sheet3!$B17,Sheet4!$D$2:$D$8409,Sheet3!AV$3,Sheet4!$E$2:$E$8409,Sheet3!AV$4,Sheet4!$A$2:$A$8409,Sheet3!$B$1,Sheet4!$B$2:$B$8409,Sheet3!$A$3)","v":0},{"$f":"+SUMIFS(Sheet4!$DM$2:$DM$8409,Sheet4!$C$2:$C$8409,Sheet3!$B17,Sheet4!$D$2:$D$8409,Sheet3!AW$3,Sheet4!$E$2:$E$8409,Sheet3!AW$4,Sheet4!$A$2:$A$8409,Sheet3!$B$1,Sheet4!$B$2:$B$8409,Sheet3!$A$3)","v":0},{"$f":"+SUMIFS(Sheet4!$DM$2:$DM$8409,Sheet4!$C$2:$C$8409,Sheet3!$B17,Sheet4!$D$2:$D$8409,Sheet3!AX$3,Sheet4!$E$2:$E$8409,Sheet3!AX$4,Sheet4!$A$2:$A$8409,Sheet3!$B$1,Sheet4!$B$2:$B$8409,Sheet3!$A$3)","v":0},{"$f":"+SUMIFS(Sheet4!$DM$2:$DM$8409,Sheet4!$C$2:$C$8409,Sheet3!$B17,Sheet4!$D$2:$D$8409,Sheet3!AY$3,Sheet4!$E$2:$E$8409,Sheet3!AY$4,Sheet4!$A$2:$A$8409,Sheet3!$B$1,Sheet4!$B$2:$B$8409,Sheet3!$A$3)","v":0},{"$f":"+SUMIFS(Sheet4!$DM$2:$DM$8409,Sheet4!$C$2:$C$8409,Sheet3!$B17,Sheet4!$D$2:$D$8409,Sheet3!AZ$3,Sheet4!$E$2:$E$8409,Sheet3!AZ$4,Sheet4!$A$2:$A$8409,Sheet3!$B$1,Sheet4!$B$2:$B$8409,Sheet3!$A$3)","v":0},{"$f":"+SUMIFS(Sheet4!$DM$2:$DM$8409,Sheet4!$C$2:$C$8409,Sheet3!$B17,Sheet4!$D$2:$D$8409,Sheet3!BA$3,Sheet4!$E$2:$E$8409,Sheet3!BA$4,Sheet4!$A$2:$A$8409,Sheet3!$B$1,Sheet4!$B$2:$B$8409,Sheet3!$A$3)","v":0},{"$f":"+SUMIFS(Sheet4!$DM$2:$DM$8409,Sheet4!$C$2:$C$8409,Sheet3!$B17,Sheet4!$D$2:$D$8409,Sheet3!BB$3,Sheet4!$E$2:$E$8409,Sheet3!BB$4,Sheet4!$A$2:$A$8409,Sheet3!$B$1,Sheet4!$B$2:$B$8409,Sheet3!$A$3)","v":0},{"$f":"+SUMIFS(Sheet4!$DM$2:$DM$8409,Sheet4!$C$2:$C$8409,Sheet3!$B17,Sheet4!$D$2:$D$8409,Sheet3!BC$3,Sheet4!$E$2:$E$8409,Sheet3!BC$4,Sheet4!$A$2:$A$8409,Sheet3!$B$1,Sheet4!$B$2:$B$8409,Sheet3!$A$3)","v":0},{"$f":"+SUMIFS(Sheet4!$DM$2:$DM$8409,Sheet4!$C$2:$C$8409,Sheet3!$B17,Sheet4!$D$2:$D$8409,Sheet3!BD$3,Sheet4!$E$2:$E$8409,Sheet3!BD$4,Sheet4!$A$2:$A$8409,Sheet3!$B$1,Sheet4!$B$2:$B$8409,Sheet3!$A$3)","v":0},{"$f":"+SUMIFS(Sheet4!$DM$2:$DM$8409,Sheet4!$C$2:$C$8409,Sheet3!$B17,Sheet4!$D$2:$D$8409,Sheet3!BE$3,Sheet4!$E$2:$E$8409,Sheet3!BE$4,Sheet4!$A$2:$A$8409,Sheet3!$B$1,Sheet4!$B$2:$B$8409,Sheet3!$A$3)","v":0},{"$f":"+SUMIFS(Sheet4!$DM$2:$DM$8409,Sheet4!$C$2:$C$8409,Sheet3!$B17,Sheet4!$D$2:$D$8409,Sheet3!BF$3,Sheet4!$E$2:$E$8409,Sheet3!BF$4,Sheet4!$A$2:$A$8409,Sheet3!$B$1,Sheet4!$B$2:$B$8409,Sheet3!$A$3)","v":0},{"$f":"+SUMIFS(Sheet4!$DM$2:$DM$8409,Sheet4!$C$2:$C$8409,Sheet3!$B17,Sheet4!$D$2:$D$8409,Sheet3!BG$3,Sheet4!$E$2:$E$8409,Sheet3!BG$4,Sheet4!$A$2:$A$8409,Sheet3!$B$1,Sheet4!$B$2:$B$8409,Sheet3!$A$3)","v":0},{"$f":"+SUMIFS(Sheet4!$DM$2:$DM$8409,Sheet4!$C$2:$C$8409,Sheet3!$B17,Sheet4!$D$2:$D$8409,Sheet3!BH$3,Sheet4!$E$2:$E$8409,Sheet3!BH$4,Sheet4!$A$2:$A$8409,Sheet3!$B$1,Sheet4!$B$2:$B$8409,Sheet3!$A$3)","v":0},{"$f":"+SUMIFS(Sheet4!$DM$2:$DM$8409,Sheet4!$C$2:$C$8409,Sheet3!$B17,Sheet4!$D$2:$D$8409,Sheet3!BI$3,Sheet4!$E$2:$E$8409,Sheet3!BI$4,Sheet4!$A$2:$A$8409,Sheet3!$B$1,Sheet4!$B$2:$B$8409,Sheet3!$A$3)","v":0},{"$f":"+SUMIFS(Sheet4!$DM$2:$DM$8409,Sheet4!$C$2:$C$8409,Sheet3!$B17,Sheet4!$D$2:$D$8409,Sheet3!BJ$3,Sheet4!$E$2:$E$8409,Sheet3!BJ$4,Sheet4!$A$2:$A$8409,Sheet3!$B$1,Sheet4!$B$2:$B$8409,Sheet3!$A$3)","v":0},{"$f":"+SUMIFS(Sheet4!$DM$2:$DM$8409,Sheet4!$C$2:$C$8409,Sheet3!$B17,Sheet4!$D$2:$D$8409,Sheet3!BK$3,Sheet4!$E$2:$E$8409,Sheet3!BK$4,Sheet4!$A$2:$A$8409,Sheet3!$B$1,Sheet4!$B$2:$B$8409,Sheet3!$A$3)","v":0},{"$f":"+SUMIFS(Sheet4!$DM$2:$DM$8409,Sheet4!$C$2:$C$8409,Sheet3!$B17,Sheet4!$D$2:$D$8409,Sheet3!BL$3,Sheet4!$E$2:$E$8409,Sheet3!BL$4,Sheet4!$A$2:$A$8409,Sheet3!$B$1,Sheet4!$B$2:$B$8409,Sheet3!$A$3)","v":0},{"$f":"+SUMIFS(Sheet4!$DM$2:$DM$8409,Sheet4!$C$2:$C$8409,Sheet3!$B17,Sheet4!$D$2:$D$8409,Sheet3!BM$3,Sheet4!$E$2:$E$8409,Sheet3!BM$4,Sheet4!$A$2:$A$8409,Sheet3!$B$1,Sheet4!$B$2:$B$8409,Sheet3!$A$3)","v":0},{"$f":"+SUMIFS(Sheet4!$DM$2:$DM$8409,Sheet4!$C$2:$C$8409,Sheet3!$B17,Sheet4!$D$2:$D$8409,Sheet3!BN$3,Sheet4!$E$2:$E$8409,Sheet3!BN$4,Sheet4!$A$2:$A$8409,Sheet3!$B$1,Sheet4!$B$2:$B$8409,Sheet3!$A$3)","v":0},{"$f":"+SUMIFS(Sheet4!$DM$2:$DM$8409,Sheet4!$C$2:$C$8409,Sheet3!$B17,Sheet4!$D$2:$D$8409,Sheet3!BO$3,Sheet4!$E$2:$E$8409,Sheet3!BO$4,Sheet4!$A$2:$A$8409,Sheet3!$B$1,Sheet4!$B$2:$B$8409,Sheet3!$A$3)","v":0},{"$f":"+SUMIFS(Sheet4!$DM$2:$DM$8409,Sheet4!$C$2:$C$8409,Sheet3!$B17,Sheet4!$D$2:$D$8409,Sheet3!BP$3,Sheet4!$E$2:$E$8409,Sheet3!BP$4,Sheet4!$A$2:$A$8409,Sheet3!$B$1,Sheet4!$B$2:$B$8409,Sheet3!$A$3)","v":0},{"$f":"+SUMIFS(Sheet4!$DM$2:$DM$8409,Sheet4!$C$2:$C$8409,Sheet3!$B17,Sheet4!$D$2:$D$8409,Sheet3!BQ$3,Sheet4!$E$2:$E$8409,Sheet3!BQ$4,Sheet4!$A$2:$A$8409,Sheet3!$B$1,Sheet4!$B$2:$B$8409,Sheet3!$A$3)","v":0},{"$f":"+SUMIFS(Sheet4!$DM$2:$DM$8409,Sheet4!$C$2:$C$8409,Sheet3!$B17,Sheet4!$D$2:$D$8409,Sheet3!BR$3,Sheet4!$E$2:$E$8409,Sheet3!BR$4,Sheet4!$A$2:$A$8409,Sheet3!$B$1,Sheet4!$B$2:$B$8409,Sheet3!$A$3)","v":0},{"$f":"+SUMIFS(Sheet4!$DM$2:$DM$8409,Sheet4!$C$2:$C$8409,Sheet3!$B17,Sheet4!$D$2:$D$8409,Sheet3!BS$3,Sheet4!$E$2:$E$8409,Sheet3!BS$4,Sheet4!$A$2:$A$8409,Sheet3!$B$1,Sheet4!$B$2:$B$8409,Sheet3!$A$3)","v":0},{"$f":"+SUMIFS(Sheet4!$DM$2:$DM$8409,Sheet4!$C$2:$C$8409,Sheet3!$B17,Sheet4!$D$2:$D$8409,Sheet3!BT$3,Sheet4!$E$2:$E$8409,Sheet3!BT$4,Sheet4!$A$2:$A$8409,Sheet3!$B$1,Sheet4!$B$2:$B$8409,Sheet3!$A$3)","v":0},{"$f":"+SUMIFS(Sheet4!$DM$2:$DM$8409,Sheet4!$C$2:$C$8409,Sheet3!$B17,Sheet4!$D$2:$D$8409,Sheet3!BU$3,Sheet4!$E$2:$E$8409,Sheet3!BU$4,Sheet4!$A$2:$A$8409,Sheet3!$B$1,Sheet4!$B$2:$B$8409,Sheet3!$A$3)","v":0},{"$f":"+SUMIFS(Sheet4!$DM$2:$DM$8409,Sheet4!$C$2:$C$8409,Sheet3!$B17,Sheet4!$D$2:$D$8409,Sheet3!BV$3,Sheet4!$E$2:$E$8409,Sheet3!BV$4,Sheet4!$A$2:$A$8409,Sheet3!$B$1,Sheet4!$B$2:$B$8409,Sheet3!$A$3)","v":0},{"$f":"+SUMIFS(Sheet4!$DM$2:$DM$8409,Sheet4!$C$2:$C$8409,Sheet3!$B17,Sheet4!$D$2:$D$8409,Sheet3!BW$3,Sheet4!$E$2:$E$8409,Sheet3!BW$4,Sheet4!$A$2:$A$8409,Sheet3!$B$1,Sheet4!$B$2:$B$8409,Sheet3!$A$3)","v":0},{"$f":"+SUMIFS(Sheet4!$DM$2:$DM$8409,Sheet4!$C$2:$C$8409,Sheet3!$B17,Sheet4!$D$2:$D$8409,Sheet3!BX$3,Sheet4!$E$2:$E$8409,Sheet3!BX$4,Sheet4!$A$2:$A$8409,Sheet3!$B$1,Sheet4!$B$2:$B$8409,Sheet3!$A$3)","v":0},{"$f":"+SUMIFS(Sheet4!$DM$2:$DM$8409,Sheet4!$C$2:$C$8409,Sheet3!$B17,Sheet4!$D$2:$D$8409,Sheet3!BY$3,Sheet4!$E$2:$E$8409,Sheet3!BY$4,Sheet4!$A$2:$A$8409,Sheet3!$B$1,Sheet4!$B$2:$B$8409,Sheet3!$A$3)","v":0},{"$f":"+SUMIFS(Sheet4!$DM$2:$DM$8409,Sheet4!$C$2:$C$8409,Sheet3!$B17,Sheet4!$D$2:$D$8409,Sheet3!BZ$3,Sheet4!$E$2:$E$8409,Sheet3!BZ$4,Sheet4!$A$2:$A$8409,Sheet3!$B$1,Sheet4!$B$2:$B$8409,Sheet3!$A$3)","v":0},{"$f":"+SUMIFS(Sheet4!$DM$2:$DM$8409,Sheet4!$C$2:$C$8409,Sheet3!$B17,Sheet4!$D$2:$D$8409,Sheet3!CA$3,Sheet4!$E$2:$E$8409,Sheet3!CA$4,Sheet4!$A$2:$A$8409,Sheet3!$B$1,Sheet4!$B$2:$B$8409,Sheet3!$A$3)","v":0},{"$f":"+SUMIFS(Sheet4!$DM$2:$DM$8409,Sheet4!$C$2:$C$8409,Sheet3!$B17,Sheet4!$D$2:$D$8409,Sheet3!CB$3,Sheet4!$E$2:$E$8409,Sheet3!CB$4,Sheet4!$A$2:$A$8409,Sheet3!$B$1,Sheet4!$B$2:$B$8409,Sheet3!$A$3)","v":0},{"$f":"+SUMIFS(Sheet4!$DM$2:$DM$8409,Sheet4!$C$2:$C$8409,Sheet3!$B17,Sheet4!$D$2:$D$8409,Sheet3!CC$3,Sheet4!$E$2:$E$8409,Sheet3!CC$4,Sheet4!$A$2:$A$8409,Sheet3!$B$1,Sheet4!$B$2:$B$8409,Sheet3!$A$3)","v":0},{"$f":"+SUMIFS(Sheet4!$DM$2:$DM$8409,Sheet4!$C$2:$C$8409,Sheet3!$B17,Sheet4!$D$2:$D$8409,Sheet3!CD$3,Sheet4!$E$2:$E$8409,Sheet3!CD$4,Sheet4!$A$2:$A$8409,Sheet3!$B$1,Sheet4!$B$2:$B$8409,Sheet3!$A$3)","v":0},{"$f":"+SUMIFS(Sheet4!$DM$2:$DM$8409,Sheet4!$C$2:$C$8409,Sheet3!$B17,Sheet4!$D$2:$D$8409,Sheet3!CE$3,Sheet4!$E$2:$E$8409,Sheet3!CE$4,Sheet4!$A$2:$A$8409,Sheet3!$B$1,Sheet4!$B$2:$B$8409,Sheet3!$A$3)","v":0},{"$f":"+SUMIFS(Sheet4!$DM$2:$DM$8409,Sheet4!$C$2:$C$8409,Sheet3!$B17,Sheet4!$D$2:$D$8409,Sheet3!CF$3,Sheet4!$E$2:$E$8409,Sheet3!CF$4,Sheet4!$A$2:$A$8409,Sheet3!$B$1,Sheet4!$B$2:$B$8409,Sheet3!$A$3)","v":0},{"$f":"+SUMIFS(Sheet4!$DM$2:$DM$8409,Sheet4!$C$2:$C$8409,Sheet3!$B17,Sheet4!$D$2:$D$8409,Sheet3!CG$3,Sheet4!$E$2:$E$8409,Sheet3!CG$4,Sheet4!$A$2:$A$8409,Sheet3!$B$1,Sheet4!$B$2:$B$8409,Sheet3!$A$3)","v":0},{"$f":"+SUMIFS(Sheet4!$DM$2:$DM$8409,Sheet4!$C$2:$C$8409,Sheet3!$B17,Sheet4!$D$2:$D$8409,Sheet3!CH$3,Sheet4!$E$2:$E$8409,Sheet3!CH$4,Sheet4!$A$2:$A$8409,Sheet3!$B$1,Sheet4!$B$2:$B$8409,Sheet3!$A$3)","v":0},{"$f":"+SUMIFS(Sheet4!$DM$2:$DM$8409,Sheet4!$C$2:$C$8409,Sheet3!$B17,Sheet4!$D$2:$D$8409,Sheet3!CI$3,Sheet4!$E$2:$E$8409,Sheet3!CI$4,Sheet4!$A$2:$A$8409,Sheet3!$B$1,Sheet4!$B$2:$B$8409,Sheet3!$A$3)","v":0},{"$f":"+SUMIFS(Sheet4!$DM$2:$DM$8409,Sheet4!$C$2:$C$8409,Sheet3!$B17,Sheet4!$D$2:$D$8409,Sheet3!CJ$3,Sheet4!$E$2:$E$8409,Sheet3!CJ$4,Sheet4!$A$2:$A$8409,Sheet3!$B$1,Sheet4!$B$2:$B$8409,Sheet3!$A$3)","v":0},{"$f":"+SUMIFS(Sheet4!$DM$2:$DM$8409,Sheet4!$C$2:$C$8409,Sheet3!$B17,Sheet4!$D$2:$D$8409,Sheet3!CK$3,Sheet4!$E$2:$E$8409,Sheet3!CK$4,Sheet4!$A$2:$A$8409,Sheet3!$B$1,Sheet4!$B$2:$B$8409,Sheet3!$A$3)","v":0},{"$f":"+SUMIFS(Sheet4!$DM$2:$DM$8409,Sheet4!$C$2:$C$8409,Sheet3!$B17,Sheet4!$D$2:$D$8409,Sheet3!CL$3,Sheet4!$E$2:$E$8409,Sheet3!CL$4,Sheet4!$A$2:$A$8409,Sheet3!$B$1,Sheet4!$B$2:$B$8409,Sheet3!$A$3)","v":0},{"$f":"+SUMIFS(Sheet4!$DM$2:$DM$8409,Sheet4!$C$2:$C$8409,Sheet3!$B17,Sheet4!$D$2:$D$8409,Sheet3!CM$3,Sheet4!$E$2:$E$8409,Sheet3!CM$4,Sheet4!$A$2:$A$8409,Sheet3!$B$1,Sheet4!$B$2:$B$8409,Sheet3!$A$3)","v":0},{"$f":"+SUMIFS(Sheet4!$DM$2:$DM$8409,Sheet4!$C$2:$C$8409,Sheet3!$B17,Sheet4!$D$2:$D$8409,Sheet3!CN$3,Sheet4!$E$2:$E$8409,Sheet3!CN$4,Sheet4!$A$2:$A$8409,Sheet3!$B$1,Sheet4!$B$2:$B$8409,Sheet3!$A$3)","v":0},{"$f":"+SUMIFS(Sheet4!$DM$2:$DM$8409,Sheet4!$C$2:$C$8409,Sheet3!$B17,Sheet4!$D$2:$D$8409,Sheet3!CO$3,Sheet4!$E$2:$E$8409,Sheet3!CO$4,Sheet4!$A$2:$A$8409,Sheet3!$B$1,Sheet4!$B$2:$B$8409,Sheet3!$A$3)","v":0},{"$f":"+SUMIFS(Sheet4!$DM$2:$DM$8409,Sheet4!$C$2:$C$8409,Sheet3!$B17,Sheet4!$D$2:$D$8409,Sheet3!CP$3,Sheet4!$E$2:$E$8409,Sheet3!CP$4,Sheet4!$A$2:$A$8409,Sheet3!$B$1,Sheet4!$B$2:$B$8409,Sheet3!$A$3)","v":0},{"$f":"+SUMIFS(Sheet4!$DM$2:$DM$8409,Sheet4!$C$2:$C$8409,Sheet3!$B17,Sheet4!$D$2:$D$8409,Sheet3!CQ$3,Sheet4!$E$2:$E$8409,Sheet3!CQ$4,Sheet4!$A$2:$A$8409,Sheet3!$B$1,Sheet4!$B$2:$B$8409,Sheet3!$A$3)","v":0},{"$f":"+SUMIFS(Sheet4!$DM$2:$DM$8409,Sheet4!$C$2:$C$8409,Sheet3!$B17,Sheet4!$D$2:$D$8409,Sheet3!CR$3,Sheet4!$E$2:$E$8409,Sheet3!CR$4,Sheet4!$A$2:$A$8409,Sheet3!$B$1,Sheet4!$B$2:$B$8409,Sheet3!$A$3)","v":0},{"$f":"+SUMIFS(Sheet4!$DM$2:$DM$8409,Sheet4!$C$2:$C$8409,Sheet3!$B17,Sheet4!$D$2:$D$8409,Sheet3!CS$3,Sheet4!$E$2:$E$8409,Sheet3!CS$4,Sheet4!$A$2:$A$8409,Sheet3!$B$1,Sheet4!$B$2:$B$8409,Sheet3!$A$3)","v":0},{"$f":"+SUMIFS(Sheet4!$DM$2:$DM$8409,Sheet4!$C$2:$C$8409,Sheet3!$B17,Sheet4!$D$2:$D$8409,Sheet3!CT$3,Sheet4!$E$2:$E$8409,Sheet3!CT$4,Sheet4!$A$2:$A$8409,Sheet3!$B$1,Sheet4!$B$2:$B$8409,Sheet3!$A$3)","v":0},{"$f":"+IF(SUMIFS(Sheet4!$DN$2:$DN$8409,Sheet4!$C$2:$C$8409,Sheet3!$B17,Sheet4!$D$2:$D$8409,Sheet3!CU$3,Sheet4!$A$2:$A$8409,Sheet3!$B$1,Sheet4!$B$2:$B$8409,Sheet3!$A$3)<3,0,SUMIFS(Sheet4!$DN$2:$DN$8409,Sheet4!$C$2:$C$8409,Sheet3!$B17,Sheet4!$D$2:$D$8409,Sheet3!CU$3,Sheet4!$A$2:$A$8409,Sheet3!$B$1,Sheet4!$B$2:$B$8409,Sheet3!$A$3))","v":0},{"$f":"+IF(SUMIFS(Sheet4!$DN$2:$DN$8409,Sheet4!$C$2:$C$8409,Sheet3!$B17,Sheet4!$D$2:$D$8409,Sheet3!CV$3,Sheet4!$A$2:$A$8409,Sheet3!$B$1,Sheet4!$B$2:$B$8409,Sheet3!$A$3)<3,0,SUMIFS(Sheet4!$DN$2:$DN$8409,Sheet4!$C$2:$C$8409,Sheet3!$B17,Sheet4!$D$2:$D$8409,Sheet3!CV$3,Sheet4!$A$2:$A$8409,Sheet3!$B$1,Sheet4!$B$2:$B$8409,Sheet3!$A$3))","v":0},{"$f":"+IF(SUMIFS(Sheet4!$DN$2:$DN$8409,Sheet4!$C$2:$C$8409,Sheet3!$B17,Sheet4!$D$2:$D$8409,Sheet3!CW$3,Sheet4!$A$2:$A$8409,Sheet3!$B$1,Sheet4!$B$2:$B$8409,Sheet3!$A$3)<3,0,SUMIFS(Sheet4!$DN$2:$DN$8409,Sheet4!$C$2:$C$8409,Sheet3!$B17,Sheet4!$D$2:$D$8409,Sheet3!CW$3,Sheet4!$A$2:$A$8409,Sheet3!$B$1,Sheet4!$B$2:$B$8409,Sheet3!$A$3))","v":0},{"$f":"+IF(SUMIFS(Sheet4!$DN$2:$DN$8409,Sheet4!$C$2:$C$8409,Sheet3!$B17,Sheet4!$D$2:$D$8409,Sheet3!CX$3,Sheet4!$A$2:$A$8409,Sheet3!$B$1,Sheet4!$B$2:$B$8409,Sheet3!$A$3)<3,0,SUMIFS(Sheet4!$DN$2:$DN$8409,Sheet4!$C$2:$C$8409,Sheet3!$B17,Sheet4!$D$2:$D$8409,Sheet3!CX$3,Sheet4!$A$2:$A$8409,Sheet3!$B$1,Sheet4!$B$2:$B$8409,Sheet3!$A$3))","v":0},{"$f":"+IF(SUMIFS(Sheet4!$DN$2:$DN$8409,Sheet4!$C$2:$C$8409,Sheet3!$B17,Sheet4!$D$2:$D$8409,Sheet3!CY$3,Sheet4!$A$2:$A$8409,Sheet3!$B$1,Sheet4!$B$2:$B$8409,Sheet3!$A$3)<3,0,SUMIFS(Sheet4!$DN$2:$DN$8409,Sheet4!$C$2:$C$8409,Sheet3!$B17,Sheet4!$D$2:$D$8409,Sheet3!CY$3,Sheet4!$A$2:$A$8409,Sheet3!$B$1,Sheet4!$B$2:$B$8409,Sheet3!$A$3))","v":0},{"$f":"+IF(SUMIFS(Sheet4!$DN$2:$DN$8409,Sheet4!$C$2:$C$8409,Sheet3!$B17,Sheet4!$D$2:$D$8409,Sheet3!CZ$3,Sheet4!$A$2:$A$8409,Sheet3!$B$1,Sheet4!$B$2:$B$8409,Sheet3!$A$3)<3,0,SUMIFS(Sheet4!$DN$2:$DN$8409,Sheet4!$C$2:$C$8409,Sheet3!$B17,Sheet4!$D$2:$D$8409,Sheet3!CZ$3,Sheet4!$A$2:$A$8409,Sheet3!$B$1,Sheet4!$B$2:$B$8409,Sheet3!$A$3))","v":0},{"$f":"+IF(SUMIFS(Sheet4!$DN$2:$DN$8409,Sheet4!$C$2:$C$8409,Sheet3!$B17,Sheet4!$D$2:$D$8409,Sheet3!DA$3,Sheet4!$A$2:$A$8409,Sheet3!$B$1,Sheet4!$B$2:$B$8409,Sheet3!$A$3)<3,0,SUMIFS(Sheet4!$DN$2:$DN$8409,Sheet4!$C$2:$C$8409,Sheet3!$B17,Sheet4!$D$2:$D$8409,Sheet3!DA$3,Sheet4!$A$2:$A$8409,Sheet3!$B$1,Sheet4!$B$2:$B$8409,Sheet3!$A$3))","v":0},{"$f":"+IF(SUMIFS(Sheet4!$DN$2:$DN$8409,Sheet4!$C$2:$C$8409,Sheet3!$B17,Sheet4!$D$2:$D$8409,Sheet3!DB$3,Sheet4!$A$2:$A$8409,Sheet3!$B$1,Sheet4!$B$2:$B$8409,Sheet3!$A$3)<3,0,SUMIFS(Sheet4!$DN$2:$DN$8409,Sheet4!$C$2:$C$8409,Sheet3!$B17,Sheet4!$D$2:$D$8409,Sheet3!DB$3,Sheet4!$A$2:$A$8409,Sheet3!$B$1,Sheet4!$B$2:$B$8409,Sheet3!$A$3))","v":0},{"$f":"+IF(SUMIFS(Sheet4!$DN$2:$DN$8409,Sheet4!$C$2:$C$8409,Sheet3!$B17,Sheet4!$D$2:$D$8409,Sheet3!DC$3,Sheet4!$A$2:$A$8409,Sheet3!$B$1,Sheet4!$B$2:$B$8409,Sheet3!$A$3)<3,0,SUMIFS(Sheet4!$DN$2:$DN$8409,Sheet4!$C$2:$C$8409,Sheet3!$B17,Sheet4!$D$2:$D$8409,Sheet3!DC$3,Sheet4!$A$2:$A$8409,Sheet3!$B$1,Sheet4!$B$2:$B$8409,Sheet3!$A$3))","v":0},{"$f":"+IF(SUMIFS(Sheet4!$DN$2:$DN$8409,Sheet4!$C$2:$C$8409,Sheet3!$B17,Sheet4!$D$2:$D$8409,Sheet3!DD$3,Sheet4!$A$2:$A$8409,Sheet3!$B$1,Sheet4!$B$2:$B$8409,Sheet3!$A$3)<3,0,SUMIFS(Sheet4!$DN$2:$DN$8409,Sheet4!$C$2:$C$8409,Sheet3!$B17,Sheet4!$D$2:$D$8409,Sheet3!DD$3,Sheet4!$A$2:$A$8409,Sheet3!$B$1,Sheet4!$B$2:$B$8409,Sheet3!$A$3))","v":0},{"$f":"+IF(SUMIFS(Sheet4!$DN$2:$DN$8409,Sheet4!$C$2:$C$8409,Sheet3!$B17,Sheet4!$D$2:$D$8409,Sheet3!DE$3,Sheet4!$A$2:$A$8409,Sheet3!$B$1,Sheet4!$B$2:$B$8409,Sheet3!$A$3)<3,0,SUMIFS(Sheet4!$DN$2:$DN$8409,Sheet4!$C$2:$C$8409,Sheet3!$B17,Sheet4!$D$2:$D$8409,Sheet3!DE$3,Sheet4!$A$2:$A$8409,Sheet3!$B$1,Sheet4!$B$2:$B$8409,Sheet3!$A$3))","v":0},{"$f":"+IF(SUMIFS(Sheet4!$DN$2:$DN$8409,Sheet4!$C$2:$C$8409,Sheet3!$B17,Sheet4!$D$2:$D$8409,Sheet3!DF$3,Sheet4!$A$2:$A$8409,Sheet3!$B$1,Sheet4!$B$2:$B$8409,Sheet3!$A$3)<3,0,SUMIFS(Sheet4!$DN$2:$DN$8409,Sheet4!$C$2:$C$8409,Sheet3!$B17,Sheet4!$D$2:$D$8409,Sheet3!DF$3,Sheet4!$A$2:$A$8409,Sheet3!$B$1,Sheet4!$B$2:$B$8409,Sheet3!$A$3))","v":0},{"$f":"+IF(SUMIFS(Sheet4!$DN$2:$DN$8409,Sheet4!$C$2:$C$8409,Sheet3!$B17,Sheet4!$D$2:$D$8409,Sheet3!DG$3,Sheet4!$A$2:$A$8409,Sheet3!$B$1,Sheet4!$B$2:$B$8409,Sheet3!$A$3)<3,0,SUMIFS(Sheet4!$DN$2:$DN$8409,Sheet4!$C$2:$C$8409,Sheet3!$B17,Sheet4!$D$2:$D$8409,Sheet3!DG$3,Sheet4!$A$2:$A$8409,Sheet3!$B$1,Sheet4!$B$2:$B$8409,Sheet3!$A$3))","v":0},{"$f":"+IF(SUMIFS(Sheet4!$DN$2:$DN$8409,Sheet4!$C$2:$C$8409,Sheet3!$B17,Sheet4!$D$2:$D$8409,Sheet3!DH$3,Sheet4!$A$2:$A$8409,Sheet3!$B$1,Sheet4!$B$2:$B$8409,Sheet3!$A$3)<3,0,SUMIFS(Sheet4!$DN$2:$DN$8409,Sheet4!$C$2:$C$8409,Sheet3!$B17,Sheet4!$D$2:$D$8409,Sheet3!DH$3,Sheet4!$A$2:$A$8409,Sheet3!$B$1,Sheet4!$B$2:$B$8409,Sheet3!$A$3))","v":0},{"$f":"+IF(SUMIFS(Sheet4!$DN$2:$DN$8409,Sheet4!$C$2:$C$8409,Sheet3!$B17,Sheet4!$D$2:$D$8409,Sheet3!DI$3,Sheet4!$A$2:$A$8409,Sheet3!$B$1,Sheet4!$B$2:$B$8409,Sheet3!$A$3)<3,0,SUMIFS(Sheet4!$DN$2:$DN$8409,Sheet4!$C$2:$C$8409,Sheet3!$B17,Sheet4!$D$2:$D$8409,Sheet3!DI$3,Sheet4!$A$2:$A$8409,Sheet3!$B$1,Sheet4!$B$2:$B$8409,Sheet3!$A$3))","v":0},{"$f":"+IF(SUMIFS(Sheet4!$DN$2:$DN$8409,Sheet4!$C$2:$C$8409,Sheet3!$B17,Sheet4!$D$2:$D$8409,Sheet3!DJ$3,Sheet4!$A$2:$A$8409,Sheet3!$B$1,Sheet4!$B$2:$B$8409,Sheet3!$A$3)<3,0,SUMIFS(Sheet4!$DN$2:$DN$8409,Sheet4!$C$2:$C$8409,Sheet3!$B17,Sheet4!$D$2:$D$8409,Sheet3!DJ$3,Sheet4!$A$2:$A$8409,Sheet3!$B$1,Sheet4!$B$2:$B$8409,Sheet3!$A$3))","v":0},{"$f":"+IF(SUMIFS(Sheet4!$DN$2:$DN$8409,Sheet4!$C$2:$C$8409,Sheet3!$B17,Sheet4!$D$2:$D$8409,Sheet3!DK$3,Sheet4!$A$2:$A$8409,Sheet3!$B$1,Sheet4!$B$2:$B$8409,Sheet3!$A$3)<3,0,SUMIFS(Sheet4!$DN$2:$DN$8409,Sheet4!$C$2:$C$8409,Sheet3!$B17,Sheet4!$D$2:$D$8409,Sheet3!DK$3,Sheet4!$A$2:$A$8409,Sheet3!$B$1,Sheet4!$B$2:$B$8409,Sheet3!$A$3))","v":0},{"$f":"+IF(SUMIFS(Sheet4!$DN$2:$DN$8409,Sheet4!$C$2:$C$8409,Sheet3!$B17,Sheet4!$D$2:$D$8409,Sheet3!DL$3,Sheet4!$A$2:$A$8409,Sheet3!$B$1,Sheet4!$B$2:$B$8409,Sheet3!$A$3)<3,0,SUMIFS(Sheet4!$DN$2:$DN$8409,Sheet4!$C$2:$C$8409,Sheet3!$B17,Sheet4!$D$2:$D$8409,Sheet3!DL$3,Sheet4!$A$2:$A$8409,Sheet3!$B$1,Sheet4!$B$2:$B$8409,Sheet3!$A$3))","v":0},{"$f":"+IF(SUMIFS(Sheet4!$DN$2:$DN$8409,Sheet4!$C$2:$C$8409,Sheet3!$B17,Sheet4!$D$2:$D$8409,Sheet3!DM$3,Sheet4!$A$2:$A$8409,Sheet3!$B$1,Sheet4!$B$2:$B$8409,Sheet3!$A$3)<3,0,SUMIFS(Sheet4!$DN$2:$DN$8409,Sheet4!$C$2:$C$8409,Sheet3!$B17,Sheet4!$D$2:$D$8409,Sheet3!DM$3,Sheet4!$A$2:$A$8409,Sheet3!$B$1,Sheet4!$B$2:$B$8409,Sheet3!$A$3))","v":0},{"$f":"+IF(SUMIFS(Sheet4!$DN$2:$DN$8409,Sheet4!$C$2:$C$8409,Sheet3!$B17,Sheet4!$E$2:$E$8409,Sheet3!DN$4,Sheet4!$A$2:$A$8409,Sheet3!$B$1,Sheet4!$B$2:$B$8409,Sheet3!$A$3)<3,0,SUMIFS(Sheet4!$DN$2:$DN$8409,Sheet4!$C$2:$C$8409,Sheet3!$B17,Sheet4!$E$2:$E$8409,Sheet3!DN$4,Sheet4!$A$2:$A$8409,Sheet3!$B$1,Sheet4!$B$2:$B$8409,Sheet3!$A$3))","v":0},{"$f":"+IF(SUMIFS(Sheet4!$DN$2:$DN$8409,Sheet4!$C$2:$C$8409,Sheet3!$B17,Sheet4!$E$2:$E$8409,Sheet3!DO$4,Sheet4!$A$2:$A$8409,Sheet3!$B$1,Sheet4!$B$2:$B$8409,Sheet3!$A$3)<3,0,SUMIFS(Sheet4!$DN$2:$DN$8409,Sheet4!$C$2:$C$8409,Sheet3!$B17,Sheet4!$E$2:$E$8409,Sheet3!DO$4,Sheet4!$A$2:$A$8409,Sheet3!$B$1,Sheet4!$B$2:$B$8409,Sheet3!$A$3))","v":0},{"$f":"+IF(SUMIFS(Sheet4!$DN$2:$DN$8409,Sheet4!$C$2:$C$8409,Sheet3!$B17,Sheet4!$E$2:$E$8409,Sheet3!DP$4,Sheet4!$A$2:$A$8409,Sheet3!$B$1,Sheet4!$B$2:$B$8409,Sheet3!$A$3)<3,0,SUMIFS(Sheet4!$DN$2:$DN$8409,Sheet4!$C$2:$C$8409,Sheet3!$B17,Sheet4!$E$2:$E$8409,Sheet3!DP$4,Sheet4!$A$2:$A$8409,Sheet3!$B$1,Sheet4!$B$2:$B$8409,Sheet3!$A$3))","v":0},{"$f":"+IF(SUMIFS(Sheet4!$DN$2:$DN$8409,Sheet4!$C$2:$C$8409,Sheet3!$B17,Sheet4!$E$2:$E$8409,Sheet3!DQ$4,Sheet4!$A$2:$A$8409,Sheet3!$B$1,Sheet4!$B$2:$B$8409,Sheet3!$A$3)<3,0,SUMIFS(Sheet4!$DN$2:$DN$8409,Sheet4!$C$2:$C$8409,Sheet3!$B17,Sheet4!$E$2:$E$8409,Sheet3!DQ$4,Sheet4!$A$2:$A$8409,Sheet3!$B$1,Sheet4!$B$2:$B$8409,Sheet3!$A$3))","v":0},{"$f":"+IF(SUMIFS(Sheet4!$DN$2:$DN$8409,Sheet4!$C$2:$C$8409,Sheet3!$B17,Sheet4!$E$2:$E$8409,Sheet3!DR$4,Sheet4!$A$2:$A$8409,Sheet3!$B$1,Sheet4!$B$2:$B$8409,Sheet3!$A$3)<3,0,SUMIFS(Sheet4!$DN$2:$DN$8409,Sheet4!$C$2:$C$8409,Sheet3!$B17,Sheet4!$E$2:$E$8409,Sheet3!DR$4,Sheet4!$A$2:$A$8409,Sheet3!$B$1,Sheet4!$B$2:$B$8409,Sheet3!$A$3))","v":0}]
[3,"16E","Região de Coimbra",{"$f":"+SUMIFS(Sheet4!$DM$2:$DM$8409,Sheet4!$C$2:$C$8409,Sheet3!$B18,Sheet4!$D$2:$D$8409,Sheet3!D$3,Sheet4!$E$2:$E$8409,Sheet3!D$4,Sheet4!$A$2:$A$8409,Sheet3!$B$1,Sheet4!$B$2:$B$8409,Sheet3!$A$3)","v":0},{"$f":"+SUMIFS(Sheet4!$DM$2:$DM$8409,Sheet4!$C$2:$C$8409,Sheet3!$B18,Sheet4!$D$2:$D$8409,Sheet3!E$3,Sheet4!$E$2:$E$8409,Sheet3!E$4,Sheet4!$A$2:$A$8409,Sheet3!$B$1,Sheet4!$B$2:$B$8409,Sheet3!$A$3)","v":0},{"$f":"+SUMIFS(Sheet4!$DM$2:$DM$8409,Sheet4!$C$2:$C$8409,Sheet3!$B18,Sheet4!$D$2:$D$8409,Sheet3!F$3,Sheet4!$E$2:$E$8409,Sheet3!F$4,Sheet4!$A$2:$A$8409,Sheet3!$B$1,Sheet4!$B$2:$B$8409,Sheet3!$A$3)","v":0},{"$f":"+SUMIFS(Sheet4!$DM$2:$DM$8409,Sheet4!$C$2:$C$8409,Sheet3!$B18,Sheet4!$D$2:$D$8409,Sheet3!G$3,Sheet4!$E$2:$E$8409,Sheet3!G$4,Sheet4!$A$2:$A$8409,Sheet3!$B$1,Sheet4!$B$2:$B$8409,Sheet3!$A$3)","v":0},{"$f":"+SUMIFS(Sheet4!$DM$2:$DM$8409,Sheet4!$C$2:$C$8409,Sheet3!$B18,Sheet4!$D$2:$D$8409,Sheet3!H$3,Sheet4!$E$2:$E$8409,Sheet3!H$4,Sheet4!$A$2:$A$8409,Sheet3!$B$1,Sheet4!$B$2:$B$8409,Sheet3!$A$3)","v":0},{"$f":"+SUMIFS(Sheet4!$DM$2:$DM$8409,Sheet4!$C$2:$C$8409,Sheet3!$B18,Sheet4!$D$2:$D$8409,Sheet3!I$3,Sheet4!$E$2:$E$8409,Sheet3!I$4,Sheet4!$A$2:$A$8409,Sheet3!$B$1,Sheet4!$B$2:$B$8409,Sheet3!$A$3)","v":0},{"$f":"+SUMIFS(Sheet4!$DM$2:$DM$8409,Sheet4!$C$2:$C$8409,Sheet3!$B18,Sheet4!$D$2:$D$8409,Sheet3!J$3,Sheet4!$E$2:$E$8409,Sheet3!J$4,Sheet4!$A$2:$A$8409,Sheet3!$B$1,Sheet4!$B$2:$B$8409,Sheet3!$A$3)","v":0},{"$f":"+SUMIFS(Sheet4!$DM$2:$DM$8409,Sheet4!$C$2:$C$8409,Sheet3!$B18,Sheet4!$D$2:$D$8409,Sheet3!K$3,Sheet4!$E$2:$E$8409,Sheet3!K$4,Sheet4!$A$2:$A$8409,Sheet3!$B$1,Sheet4!$B$2:$B$8409,Sheet3!$A$3)","v":0},{"$f":"+SUMIFS(Sheet4!$DM$2:$DM$8409,Sheet4!$C$2:$C$8409,Sheet3!$B18,Sheet4!$D$2:$D$8409,Sheet3!L$3,Sheet4!$E$2:$E$8409,Sheet3!L$4,Sheet4!$A$2:$A$8409,Sheet3!$B$1,Sheet4!$B$2:$B$8409,Sheet3!$A$3)","v":0},{"$f":"+SUMIFS(Sheet4!$DM$2:$DM$8409,Sheet4!$C$2:$C$8409,Sheet3!$B18,Sheet4!$D$2:$D$8409,Sheet3!M$3,Sheet4!$E$2:$E$8409,Sheet3!M$4,Sheet4!$A$2:$A$8409,Sheet3!$B$1,Sheet4!$B$2:$B$8409,Sheet3!$A$3)","v":0},{"$f":"+SUMIFS(Sheet4!$DM$2:$DM$8409,Sheet4!$C$2:$C$8409,Sheet3!$B18,Sheet4!$D$2:$D$8409,Sheet3!N$3,Sheet4!$E$2:$E$8409,Sheet3!N$4,Sheet4!$A$2:$A$8409,Sheet3!$B$1,Sheet4!$B$2:$B$8409,Sheet3!$A$3)","v":0},{"$f":"+SUMIFS(Sheet4!$DM$2:$DM$8409,Sheet4!$C$2:$C$8409,Sheet3!$B18,Sheet4!$D$2:$D$8409,Sheet3!O$3,Sheet4!$E$2:$E$8409,Sheet3!O$4,Sheet4!$A$2:$A$8409,Sheet3!$B$1,Sheet4!$B$2:$B$8409,Sheet3!$A$3)","v":0},{"$f":"+SUMIFS(Sheet4!$DM$2:$DM$8409,Sheet4!$C$2:$C$8409,Sheet3!$B18,Sheet4!$D$2:$D$8409,Sheet3!P$3,Sheet4!$E$2:$E$8409,Sheet3!P$4,Sheet4!$A$2:$A$8409,Sheet3!$B$1,Sheet4!$B$2:$B$8409,Sheet3!$A$3)","v":0},{"$f":"+SUMIFS(Sheet4!$DM$2:$DM$8409,Sheet4!$C$2:$C$8409,Sheet3!$B18,Sheet4!$D$2:$D$8409,Sheet3!Q$3,Sheet4!$E$2:$E$8409,Sheet3!Q$4,Sheet4!$A$2:$A$8409,Sheet3!$B$1,Sheet4!$B$2:$B$8409,Sheet3!$A$3)","v":0},{"$f":"+SUMIFS(Sheet4!$DM$2:$DM$8409,Sheet4!$C$2:$C$8409,Sheet3!$B18,Sheet4!$D$2:$D$8409,Sheet3!R$3,Sheet4!$E$2:$E$8409,Sheet3!R$4,Sheet4!$A$2:$A$8409,Sheet3!$B$1,Sheet4!$B$2:$B$8409,Sheet3!$A$3)","v":0},{"$f":"+SUMIFS(Sheet4!$DM$2:$DM$8409,Sheet4!$C$2:$C$8409,Sheet3!$B18,Sheet4!$D$2:$D$8409,Sheet3!S$3,Sheet4!$E$2:$E$8409,Sheet3!S$4,Sheet4!$A$2:$A$8409,Sheet3!$B$1,Sheet4!$B$2:$B$8409,Sheet3!$A$3)","v":0},{"$f":"+SUMIFS(Sheet4!$DM$2:$DM$8409,Sheet4!$C$2:$C$8409,Sheet3!$B18,Sheet4!$D$2:$D$8409,Sheet3!T$3,Sheet4!$E$2:$E$8409,Sheet3!T$4,Sheet4!$A$2:$A$8409,Sheet3!$B$1,Sheet4!$B$2:$B$8409,Sheet3!$A$3)","v":0},{"$f":"+SUMIFS(Sheet4!$DM$2:$DM$8409,Sheet4!$C$2:$C$8409,Sheet3!$B18,Sheet4!$D$2:$D$8409,Sheet3!U$3,Sheet4!$E$2:$E$8409,Sheet3!U$4,Sheet4!$A$2:$A$8409,Sheet3!$B$1,Sheet4!$B$2:$B$8409,Sheet3!$A$3)","v":0},{"$f":"+SUMIFS(Sheet4!$DM$2:$DM$8409,Sheet4!$C$2:$C$8409,Sheet3!$B18,Sheet4!$D$2:$D$8409,Sheet3!V$3,Sheet4!$E$2:$E$8409,Sheet3!V$4,Sheet4!$A$2:$A$8409,Sheet3!$B$1,Sheet4!$B$2:$B$8409,Sheet3!$A$3)","v":0},{"$f":"+SUMIFS(Sheet4!$DM$2:$DM$8409,Sheet4!$C$2:$C$8409,Sheet3!$B18,Sheet4!$D$2:$D$8409,Sheet3!W$3,Sheet4!$E$2:$E$8409,Sheet3!W$4,Sheet4!$A$2:$A$8409,Sheet3!$B$1,Sheet4!$B$2:$B$8409,Sheet3!$A$3)","v":0},{"$f":"+SUMIFS(Sheet4!$DM$2:$DM$8409,Sheet4!$C$2:$C$8409,Sheet3!$B18,Sheet4!$D$2:$D$8409,Sheet3!X$3,Sheet4!$E$2:$E$8409,Sheet3!X$4,Sheet4!$A$2:$A$8409,Sheet3!$B$1,Sheet4!$B$2:$B$8409,Sheet3!$A$3)","v":0},{"$f":"+SUMIFS(Sheet4!$DM$2:$DM$8409,Sheet4!$C$2:$C$8409,Sheet3!$B18,Sheet4!$D$2:$D$8409,Sheet3!Y$3,Sheet4!$E$2:$E$8409,Sheet3!Y$4,Sheet4!$A$2:$A$8409,Sheet3!$B$1,Sheet4!$B$2:$B$8409,Sheet3!$A$3)","v":0},{"$f":"+SUMIFS(Sheet4!$DM$2:$DM$8409,Sheet4!$C$2:$C$8409,Sheet3!$B18,Sheet4!$D$2:$D$8409,Sheet3!Z$3,Sheet4!$E$2:$E$8409,Sheet3!Z$4,Sheet4!$A$2:$A$8409,Sheet3!$B$1,Sheet4!$B$2:$B$8409,Sheet3!$A$3)","v":0},{"$f":"+SUMIFS(Sheet4!$DM$2:$DM$8409,Sheet4!$C$2:$C$8409,Sheet3!$B18,Sheet4!$D$2:$D$8409,Sheet3!AA$3,Sheet4!$E$2:$E$8409,Sheet3!AA$4,Sheet4!$A$2:$A$8409,Sheet3!$B$1,Sheet4!$B$2:$B$8409,Sheet3!$A$3)","v":0},{"$f":"+SUMIFS(Sheet4!$DM$2:$DM$8409,Sheet4!$C$2:$C$8409,Sheet3!$B18,Sheet4!$D$2:$D$8409,Sheet3!AB$3,Sheet4!$E$2:$E$8409,Sheet3!AB$4,Sheet4!$A$2:$A$8409,Sheet3!$B$1,Sheet4!$B$2:$B$8409,Sheet3!$A$3)","v":0},{"$f":"+SUMIFS(Sheet4!$DM$2:$DM$8409,Sheet4!$C$2:$C$8409,Sheet3!$B18,Sheet4!$D$2:$D$8409,Sheet3!AC$3,Sheet4!$E$2:$E$8409,Sheet3!AC$4,Sheet4!$A$2:$A$8409,Sheet3!$B$1,Sheet4!$B$2:$B$8409,Sheet3!$A$3)","v":0},{"$f":"+SUMIFS(Sheet4!$DM$2:$DM$8409,Sheet4!$C$2:$C$8409,Sheet3!$B18,Sheet4!$D$2:$D$8409,Sheet3!AD$3,Sheet4!$E$2:$E$8409,Sheet3!AD$4,Sheet4!$A$2:$A$8409,Sheet3!$B$1,Sheet4!$B$2:$B$8409,Sheet3!$A$3)","v":0},{"$f":"+SUMIFS(Sheet4!$DM$2:$DM$8409,Sheet4!$C$2:$C$8409,Sheet3!$B18,Sheet4!$D$2:$D$8409,Sheet3!AE$3,Sheet4!$E$2:$E$8409,Sheet3!AE$4,Sheet4!$A$2:$A$8409,Sheet3!$B$1,Sheet4!$B$2:$B$8409,Sheet3!$A$3)","v":0},{"$f":"+SUMIFS(Sheet4!$DM$2:$DM$8409,Sheet4!$C$2:$C$8409,Sheet3!$B18,Sheet4!$D$2:$D$8409,Sheet3!AF$3,Sheet4!$E$2:$E$8409,Sheet3!AF$4,Sheet4!$A$2:$A$8409,Sheet3!$B$1,Sheet4!$B$2:$B$8409,Sheet3!$A$3)","v":0},{"$f":"+SUMIFS(Sheet4!$DM$2:$DM$8409,Sheet4!$C$2:$C$8409,Sheet3!$B18,Sheet4!$D$2:$D$8409,Sheet3!AG$3,Sheet4!$E$2:$E$8409,Sheet3!AG$4,Sheet4!$A$2:$A$8409,Sheet3!$B$1,Sheet4!$B$2:$B$8409,Sheet3!$A$3)","v":0},{"$f":"+SUMIFS(Sheet4!$DM$2:$DM$8409,Sheet4!$C$2:$C$8409,Sheet3!$B18,Sheet4!$D$2:$D$8409,Sheet3!AH$3,Sheet4!$E$2:$E$8409,Sheet3!AH$4,Sheet4!$A$2:$A$8409,Sheet3!$B$1,Sheet4!$B$2:$B$8409,Sheet3!$A$3)","v":0},{"$f":"+SUMIFS(Sheet4!$DM$2:$DM$8409,Sheet4!$C$2:$C$8409,Sheet3!$B18,Sheet4!$D$2:$D$8409,Sheet3!AI$3,Sheet4!$E$2:$E$8409,Sheet3!AI$4,Sheet4!$A$2:$A$8409,Sheet3!$B$1,Sheet4!$B$2:$B$8409,Sheet3!$A$3)","v":0},{"$f":"+SUMIFS(Sheet4!$DM$2:$DM$8409,Sheet4!$C$2:$C$8409,Sheet3!$B18,Sheet4!$D$2:$D$8409,Sheet3!AJ$3,Sheet4!$E$2:$E$8409,Sheet3!AJ$4,Sheet4!$A$2:$A$8409,Sheet3!$B$1,Sheet4!$B$2:$B$8409,Sheet3!$A$3)","v":0},{"$f":"+SUMIFS(Sheet4!$DM$2:$DM$8409,Sheet4!$C$2:$C$8409,Sheet3!$B18,Sheet4!$D$2:$D$8409,Sheet3!AK$3,Sheet4!$E$2:$E$8409,Sheet3!AK$4,Sheet4!$A$2:$A$8409,Sheet3!$B$1,Sheet4!$B$2:$B$8409,Sheet3!$A$3)","v":0},{"$f":"+SUMIFS(Sheet4!$DM$2:$DM$8409,Sheet4!$C$2:$C$8409,Sheet3!$B18,Sheet4!$D$2:$D$8409,Sheet3!AL$3,Sheet4!$E$2:$E$8409,Sheet3!AL$4,Sheet4!$A$2:$A$8409,Sheet3!$B$1,Sheet4!$B$2:$B$8409,Sheet3!$A$3)","v":0},{"$f":"+SUMIFS(Sheet4!$DM$2:$DM$8409,Sheet4!$C$2:$C$8409,Sheet3!$B18,Sheet4!$D$2:$D$8409,Sheet3!AM$3,Sheet4!$E$2:$E$8409,Sheet3!AM$4,Sheet4!$A$2:$A$8409,Sheet3!$B$1,Sheet4!$B$2:$B$8409,Sheet3!$A$3)","v":0},{"$f":"+SUMIFS(Sheet4!$DM$2:$DM$8409,Sheet4!$C$2:$C$8409,Sheet3!$B18,Sheet4!$D$2:$D$8409,Sheet3!AN$3,Sheet4!$E$2:$E$8409,Sheet3!AN$4,Sheet4!$A$2:$A$8409,Sheet3!$B$1,Sheet4!$B$2:$B$8409,Sheet3!$A$3)","v":0},{"$f":"+SUMIFS(Sheet4!$DM$2:$DM$8409,Sheet4!$C$2:$C$8409,Sheet3!$B18,Sheet4!$D$2:$D$8409,Sheet3!AO$3,Sheet4!$E$2:$E$8409,Sheet3!AO$4,Sheet4!$A$2:$A$8409,Sheet3!$B$1,Sheet4!$B$2:$B$8409,Sheet3!$A$3)","v":0},{"$f":"+SUMIFS(Sheet4!$DM$2:$DM$8409,Sheet4!$C$2:$C$8409,Sheet3!$B18,Sheet4!$D$2:$D$8409,Sheet3!AP$3,Sheet4!$E$2:$E$8409,Sheet3!AP$4,Sheet4!$A$2:$A$8409,Sheet3!$B$1,Sheet4!$B$2:$B$8409,Sheet3!$A$3)","v":0},{"$f":"+SUMIFS(Sheet4!$DM$2:$DM$8409,Sheet4!$C$2:$C$8409,Sheet3!$B18,Sheet4!$D$2:$D$8409,Sheet3!AQ$3,Sheet4!$E$2:$E$8409,Sheet3!AQ$4,Sheet4!$A$2:$A$8409,Sheet3!$B$1,Sheet4!$B$2:$B$8409,Sheet3!$A$3)","v":0},{"$f":"+SUMIFS(Sheet4!$DM$2:$DM$8409,Sheet4!$C$2:$C$8409,Sheet3!$B18,Sheet4!$D$2:$D$8409,Sheet3!AR$3,Sheet4!$E$2:$E$8409,Sheet3!AR$4,Sheet4!$A$2:$A$8409,Sheet3!$B$1,Sheet4!$B$2:$B$8409,Sheet3!$A$3)","v":0},{"$f":"+SUMIFS(Sheet4!$DM$2:$DM$8409,Sheet4!$C$2:$C$8409,Sheet3!$B18,Sheet4!$D$2:$D$8409,Sheet3!AS$3,Sheet4!$E$2:$E$8409,Sheet3!AS$4,Sheet4!$A$2:$A$8409,Sheet3!$B$1,Sheet4!$B$2:$B$8409,Sheet3!$A$3)","v":0},{"$f":"+SUMIFS(Sheet4!$DM$2:$DM$8409,Sheet4!$C$2:$C$8409,Sheet3!$B18,Sheet4!$D$2:$D$8409,Sheet3!AT$3,Sheet4!$E$2:$E$8409,Sheet3!AT$4,Sheet4!$A$2:$A$8409,Sheet3!$B$1,Sheet4!$B$2:$B$8409,Sheet3!$A$3)","v":0},{"$f":"+SUMIFS(Sheet4!$DM$2:$DM$8409,Sheet4!$C$2:$C$8409,Sheet3!$B18,Sheet4!$D$2:$D$8409,Sheet3!AU$3,Sheet4!$E$2:$E$8409,Sheet3!AU$4,Sheet4!$A$2:$A$8409,Sheet3!$B$1,Sheet4!$B$2:$B$8409,Sheet3!$A$3)","v":0},{"$f":"+SUMIFS(Sheet4!$DM$2:$DM$8409,Sheet4!$C$2:$C$8409,Sheet3!$B18,Sheet4!$D$2:$D$8409,Sheet3!AV$3,Sheet4!$E$2:$E$8409,Sheet3!AV$4,Sheet4!$A$2:$A$8409,Sheet3!$B$1,Sheet4!$B$2:$B$8409,Sheet3!$A$3)","v":0},{"$f":"+SUMIFS(Sheet4!$DM$2:$DM$8409,Sheet4!$C$2:$C$8409,Sheet3!$B18,Sheet4!$D$2:$D$8409,Sheet3!AW$3,Sheet4!$E$2:$E$8409,Sheet3!AW$4,Sheet4!$A$2:$A$8409,Sheet3!$B$1,Sheet4!$B$2:$B$8409,Sheet3!$A$3)","v":0},{"$f":"+SUMIFS(Sheet4!$DM$2:$DM$8409,Sheet4!$C$2:$C$8409,Sheet3!$B18,Sheet4!$D$2:$D$8409,Sheet3!AX$3,Sheet4!$E$2:$E$8409,Sheet3!AX$4,Sheet4!$A$2:$A$8409,Sheet3!$B$1,Sheet4!$B$2:$B$8409,Sheet3!$A$3)","v":0},{"$f":"+SUMIFS(Sheet4!$DM$2:$DM$8409,Sheet4!$C$2:$C$8409,Sheet3!$B18,Sheet4!$D$2:$D$8409,Sheet3!AY$3,Sheet4!$E$2:$E$8409,Sheet3!AY$4,Sheet4!$A$2:$A$8409,Sheet3!$B$1,Sheet4!$B$2:$B$8409,Sheet3!$A$3)","v":0},{"$f":"+SUMIFS(Sheet4!$DM$2:$DM$8409,Sheet4!$C$2:$C$8409,Sheet3!$B18,Sheet4!$D$2:$D$8409,Sheet3!AZ$3,Sheet4!$E$2:$E$8409,Sheet3!AZ$4,Sheet4!$A$2:$A$8409,Sheet3!$B$1,Sheet4!$B$2:$B$8409,Sheet3!$A$3)","v":0},{"$f":"+SUMIFS(Sheet4!$DM$2:$DM$8409,Sheet4!$C$2:$C$8409,Sheet3!$B18,Sheet4!$D$2:$D$8409,Sheet3!BA$3,Sheet4!$E$2:$E$8409,Sheet3!BA$4,Sheet4!$A$2:$A$8409,Sheet3!$B$1,Sheet4!$B$2:$B$8409,Sheet3!$A$3)","v":0},{"$f":"+SUMIFS(Sheet4!$DM$2:$DM$8409,Sheet4!$C$2:$C$8409,Sheet3!$B18,Sheet4!$D$2:$D$8409,Sheet3!BB$3,Sheet4!$E$2:$E$8409,Sheet3!BB$4,Sheet4!$A$2:$A$8409,Sheet3!$B$1,Sheet4!$B$2:$B$8409,Sheet3!$A$3)","v":0},{"$f":"+SUMIFS(Sheet4!$DM$2:$DM$8409,Sheet4!$C$2:$C$8409,Sheet3!$B18,Sheet4!$D$2:$D$8409,Sheet3!BC$3,Sheet4!$E$2:$E$8409,Sheet3!BC$4,Sheet4!$A$2:$A$8409,Sheet3!$B$1,Sheet4!$B$2:$B$8409,Sheet3!$A$3)","v":0},{"$f":"+SUMIFS(Sheet4!$DM$2:$DM$8409,Sheet4!$C$2:$C$8409,Sheet3!$B18,Sheet4!$D$2:$D$8409,Sheet3!BD$3,Sheet4!$E$2:$E$8409,Sheet3!BD$4,Sheet4!$A$2:$A$8409,Sheet3!$B$1,Sheet4!$B$2:$B$8409,Sheet3!$A$3)","v":0},{"$f":"+SUMIFS(Sheet4!$DM$2:$DM$8409,Sheet4!$C$2:$C$8409,Sheet3!$B18,Sheet4!$D$2:$D$8409,Sheet3!BE$3,Sheet4!$E$2:$E$8409,Sheet3!BE$4,Sheet4!$A$2:$A$8409,Sheet3!$B$1,Sheet4!$B$2:$B$8409,Sheet3!$A$3)","v":0},{"$f":"+SUMIFS(Sheet4!$DM$2:$DM$8409,Sheet4!$C$2:$C$8409,Sheet3!$B18,Sheet4!$D$2:$D$8409,Sheet3!BF$3,Sheet4!$E$2:$E$8409,Sheet3!BF$4,Sheet4!$A$2:$A$8409,Sheet3!$B$1,Sheet4!$B$2:$B$8409,Sheet3!$A$3)","v":0},{"$f":"+SUMIFS(Sheet4!$DM$2:$DM$8409,Sheet4!$C$2:$C$8409,Sheet3!$B18,Sheet4!$D$2:$D$8409,Sheet3!BG$3,Sheet4!$E$2:$E$8409,Sheet3!BG$4,Sheet4!$A$2:$A$8409,Sheet3!$B$1,Sheet4!$B$2:$B$8409,Sheet3!$A$3)","v":0},{"$f":"+SUMIFS(Sheet4!$DM$2:$DM$8409,Sheet4!$C$2:$C$8409,Sheet3!$B18,Sheet4!$D$2:$D$8409,Sheet3!BH$3,Sheet4!$E$2:$E$8409,Sheet3!BH$4,Sheet4!$A$2:$A$8409,Sheet3!$B$1,Sheet4!$B$2:$B$8409,Sheet3!$A$3)","v":0},{"$f":"+SUMIFS(Sheet4!$DM$2:$DM$8409,Sheet4!$C$2:$C$8409,Sheet3!$B18,Sheet4!$D$2:$D$8409,Sheet3!BI$3,Sheet4!$E$2:$E$8409,Sheet3!BI$4,Sheet4!$A$2:$A$8409,Sheet3!$B$1,Sheet4!$B$2:$B$8409,Sheet3!$A$3)","v":0},{"$f":"+SUMIFS(Sheet4!$DM$2:$DM$8409,Sheet4!$C$2:$C$8409,Sheet3!$B18,Sheet4!$D$2:$D$8409,Sheet3!BJ$3,Sheet4!$E$2:$E$8409,Sheet3!BJ$4,Sheet4!$A$2:$A$8409,Sheet3!$B$1,Sheet4!$B$2:$B$8409,Sheet3!$A$3)","v":0},{"$f":"+SUMIFS(Sheet4!$DM$2:$DM$8409,Sheet4!$C$2:$C$8409,Sheet3!$B18,Sheet4!$D$2:$D$8409,Sheet3!BK$3,Sheet4!$E$2:$E$8409,Sheet3!BK$4,Sheet4!$A$2:$A$8409,Sheet3!$B$1,Sheet4!$B$2:$B$8409,Sheet3!$A$3)","v":0},{"$f":"+SUMIFS(Sheet4!$DM$2:$DM$8409,Sheet4!$C$2:$C$8409,Sheet3!$B18,Sheet4!$D$2:$D$8409,Sheet3!BL$3,Sheet4!$E$2:$E$8409,Sheet3!BL$4,Sheet4!$A$2:$A$8409,Sheet3!$B$1,Sheet4!$B$2:$B$8409,Sheet3!$A$3)","v":0},{"$f":"+SUMIFS(Sheet4!$DM$2:$DM$8409,Sheet4!$C$2:$C$8409,Sheet3!$B18,Sheet4!$D$2:$D$8409,Sheet3!BM$3,Sheet4!$E$2:$E$8409,Sheet3!BM$4,Sheet4!$A$2:$A$8409,Sheet3!$B$1,Sheet4!$B$2:$B$8409,Sheet3!$A$3)","v":0},{"$f":"+SUMIFS(Sheet4!$DM$2:$DM$8409,Sheet4!$C$2:$C$8409,Sheet3!$B18,Sheet4!$D$2:$D$8409,Sheet3!BN$3,Sheet4!$E$2:$E$8409,Sheet3!BN$4,Sheet4!$A$2:$A$8409,Sheet3!$B$1,Sheet4!$B$2:$B$8409,Sheet3!$A$3)","v":0},{"$f":"+SUMIFS(Sheet4!$DM$2:$DM$8409,Sheet4!$C$2:$C$8409,Sheet3!$B18,Sheet4!$D$2:$D$8409,Sheet3!BO$3,Sheet4!$E$2:$E$8409,Sheet3!BO$4,Sheet4!$A$2:$A$8409,Sheet3!$B$1,Sheet4!$B$2:$B$8409,Sheet3!$A$3)","v":0},{"$f":"+SUMIFS(Sheet4!$DM$2:$DM$8409,Sheet4!$C$2:$C$8409,Sheet3!$B18,Sheet4!$D$2:$D$8409,Sheet3!BP$3,Sheet4!$E$2:$E$8409,Sheet3!BP$4,Sheet4!$A$2:$A$8409,Sheet3!$B$1,Sheet4!$B$2:$B$8409,Sheet3!$A$3)","v":0},{"$f":"+SUMIFS(Sheet4!$DM$2:$DM$8409,Sheet4!$C$2:$C$8409,Sheet3!$B18,Sheet4!$D$2:$D$8409,Sheet3!BQ$3,Sheet4!$E$2:$E$8409,Sheet3!BQ$4,Sheet4!$A$2:$A$8409,Sheet3!$B$1,Sheet4!$B$2:$B$8409,Sheet3!$A$3)","v":0},{"$f":"+SUMIFS(Sheet4!$DM$2:$DM$8409,Sheet4!$C$2:$C$8409,Sheet3!$B18,Sheet4!$D$2:$D$8409,Sheet3!BR$3,Sheet4!$E$2:$E$8409,Sheet3!BR$4,Sheet4!$A$2:$A$8409,Sheet3!$B$1,Sheet4!$B$2:$B$8409,Sheet3!$A$3)","v":0},{"$f":"+SUMIFS(Sheet4!$DM$2:$DM$8409,Sheet4!$C$2:$C$8409,Sheet3!$B18,Sheet4!$D$2:$D$8409,Sheet3!BS$3,Sheet4!$E$2:$E$8409,Sheet3!BS$4,Sheet4!$A$2:$A$8409,Sheet3!$B$1,Sheet4!$B$2:$B$8409,Sheet3!$A$3)","v":0},{"$f":"+SUMIFS(Sheet4!$DM$2:$DM$8409,Sheet4!$C$2:$C$8409,Sheet3!$B18,Sheet4!$D$2:$D$8409,Sheet3!BT$3,Sheet4!$E$2:$E$8409,Sheet3!BT$4,Sheet4!$A$2:$A$8409,Sheet3!$B$1,Sheet4!$B$2:$B$8409,Sheet3!$A$3)","v":0},{"$f":"+SUMIFS(Sheet4!$DM$2:$DM$8409,Sheet4!$C$2:$C$8409,Sheet3!$B18,Sheet4!$D$2:$D$8409,Sheet3!BU$3,Sheet4!$E$2:$E$8409,Sheet3!BU$4,Sheet4!$A$2:$A$8409,Sheet3!$B$1,Sheet4!$B$2:$B$8409,Sheet3!$A$3)","v":0},{"$f":"+SUMIFS(Sheet4!$DM$2:$DM$8409,Sheet4!$C$2:$C$8409,Sheet3!$B18,Sheet4!$D$2:$D$8409,Sheet3!BV$3,Sheet4!$E$2:$E$8409,Sheet3!BV$4,Sheet4!$A$2:$A$8409,Sheet3!$B$1,Sheet4!$B$2:$B$8409,Sheet3!$A$3)","v":0},{"$f":"+SUMIFS(Sheet4!$DM$2:$DM$8409,Sheet4!$C$2:$C$8409,Sheet3!$B18,Sheet4!$D$2:$D$8409,Sheet3!BW$3,Sheet4!$E$2:$E$8409,Sheet3!BW$4,Sheet4!$A$2:$A$8409,Sheet3!$B$1,Sheet4!$B$2:$B$8409,Sheet3!$A$3)","v":0},{"$f":"+SUMIFS(Sheet4!$DM$2:$DM$8409,Sheet4!$C$2:$C$8409,Sheet3!$B18,Sheet4!$D$2:$D$8409,Sheet3!BX$3,Sheet4!$E$2:$E$8409,Sheet3!BX$4,Sheet4!$A$2:$A$8409,Sheet3!$B$1,Sheet4!$B$2:$B$8409,Sheet3!$A$3)","v":0},{"$f":"+SUMIFS(Sheet4!$DM$2:$DM$8409,Sheet4!$C$2:$C$8409,Sheet3!$B18,Sheet4!$D$2:$D$8409,Sheet3!BY$3,Sheet4!$E$2:$E$8409,Sheet3!BY$4,Sheet4!$A$2:$A$8409,Sheet3!$B$1,Sheet4!$B$2:$B$8409,Sheet3!$A$3)","v":0},{"$f":"+SUMIFS(Sheet4!$DM$2:$DM$8409,Sheet4!$C$2:$C$8409,Sheet3!$B18,Sheet4!$D$2:$D$8409,Sheet3!BZ$3,Sheet4!$E$2:$E$8409,Sheet3!BZ$4,Sheet4!$A$2:$A$8409,Sheet3!$B$1,Sheet4!$B$2:$B$8409,Sheet3!$A$3)","v":0},{"$f":"+SUMIFS(Sheet4!$DM$2:$DM$8409,Sheet4!$C$2:$C$8409,Sheet3!$B18,Sheet4!$D$2:$D$8409,Sheet3!CA$3,Sheet4!$E$2:$E$8409,Sheet3!CA$4,Sheet4!$A$2:$A$8409,Sheet3!$B$1,Sheet4!$B$2:$B$8409,Sheet3!$A$3)","v":0},{"$f":"+SUMIFS(Sheet4!$DM$2:$DM$8409,Sheet4!$C$2:$C$8409,Sheet3!$B18,Sheet4!$D$2:$D$8409,Sheet3!CB$3,Sheet4!$E$2:$E$8409,Sheet3!CB$4,Sheet4!$A$2:$A$8409,Sheet3!$B$1,Sheet4!$B$2:$B$8409,Sheet3!$A$3)","v":0},{"$f":"+SUMIFS(Sheet4!$DM$2:$DM$8409,Sheet4!$C$2:$C$8409,Sheet3!$B18,Sheet4!$D$2:$D$8409,Sheet3!CC$3,Sheet4!$E$2:$E$8409,Sheet3!CC$4,Sheet4!$A$2:$A$8409,Sheet3!$B$1,Sheet4!$B$2:$B$8409,Sheet3!$A$3)","v":0},{"$f":"+SUMIFS(Sheet4!$DM$2:$DM$8409,Sheet4!$C$2:$C$8409,Sheet3!$B18,Sheet4!$D$2:$D$8409,Sheet3!CD$3,Sheet4!$E$2:$E$8409,Sheet3!CD$4,Sheet4!$A$2:$A$8409,Sheet3!$B$1,Sheet4!$B$2:$B$8409,Sheet3!$A$3)","v":0},{"$f":"+SUMIFS(Sheet4!$DM$2:$DM$8409,Sheet4!$C$2:$C$8409,Sheet3!$B18,Sheet4!$D$2:$D$8409,Sheet3!CE$3,Sheet4!$E$2:$E$8409,Sheet3!CE$4,Sheet4!$A$2:$A$8409,Sheet3!$B$1,Sheet4!$B$2:$B$8409,Sheet3!$A$3)","v":0},{"$f":"+SUMIFS(Sheet4!$DM$2:$DM$8409,Sheet4!$C$2:$C$8409,Sheet3!$B18,Sheet4!$D$2:$D$8409,Sheet3!CF$3,Sheet4!$E$2:$E$8409,Sheet3!CF$4,Sheet4!$A$2:$A$8409,Sheet3!$B$1,Sheet4!$B$2:$B$8409,Sheet3!$A$3)","v":0},{"$f":"+SUMIFS(Sheet4!$DM$2:$DM$8409,Sheet4!$C$2:$C$8409,Sheet3!$B18,Sheet4!$D$2:$D$8409,Sheet3!CG$3,Sheet4!$E$2:$E$8409,Sheet3!CG$4,Sheet4!$A$2:$A$8409,Sheet3!$B$1,Sheet4!$B$2:$B$8409,Sheet3!$A$3)","v":0},{"$f":"+SUMIFS(Sheet4!$DM$2:$DM$8409,Sheet4!$C$2:$C$8409,Sheet3!$B18,Sheet4!$D$2:$D$8409,Sheet3!CH$3,Sheet4!$E$2:$E$8409,Sheet3!CH$4,Sheet4!$A$2:$A$8409,Sheet3!$B$1,Sheet4!$B$2:$B$8409,Sheet3!$A$3)","v":0},{"$f":"+SUMIFS(Sheet4!$DM$2:$DM$8409,Sheet4!$C$2:$C$8409,Sheet3!$B18,Sheet4!$D$2:$D$8409,Sheet3!CI$3,Sheet4!$E$2:$E$8409,Sheet3!CI$4,Sheet4!$A$2:$A$8409,Sheet3!$B$1,Sheet4!$B$2:$B$8409,Sheet3!$A$3)","v":0},{"$f":"+SUMIFS(Sheet4!$DM$2:$DM$8409,Sheet4!$C$2:$C$8409,Sheet3!$B18,Sheet4!$D$2:$D$8409,Sheet3!CJ$3,Sheet4!$E$2:$E$8409,Sheet3!CJ$4,Sheet4!$A$2:$A$8409,Sheet3!$B$1,Sheet4!$B$2:$B$8409,Sheet3!$A$3)","v":0},{"$f":"+SUMIFS(Sheet4!$DM$2:$DM$8409,Sheet4!$C$2:$C$8409,Sheet3!$B18,Sheet4!$D$2:$D$8409,Sheet3!CK$3,Sheet4!$E$2:$E$8409,Sheet3!CK$4,Sheet4!$A$2:$A$8409,Sheet3!$B$1,Sheet4!$B$2:$B$8409,Sheet3!$A$3)","v":0},{"$f":"+SUMIFS(Sheet4!$DM$2:$DM$8409,Sheet4!$C$2:$C$8409,Sheet3!$B18,Sheet4!$D$2:$D$8409,Sheet3!CL$3,Sheet4!$E$2:$E$8409,Sheet3!CL$4,Sheet4!$A$2:$A$8409,Sheet3!$B$1,Sheet4!$B$2:$B$8409,Sheet3!$A$3)","v":0},{"$f":"+SUMIFS(Sheet4!$DM$2:$DM$8409,Sheet4!$C$2:$C$8409,Sheet3!$B18,Sheet4!$D$2:$D$8409,Sheet3!CM$3,Sheet4!$E$2:$E$8409,Sheet3!CM$4,Sheet4!$A$2:$A$8409,Sheet3!$B$1,Sheet4!$B$2:$B$8409,Sheet3!$A$3)","v":0},{"$f":"+SUMIFS(Sheet4!$DM$2:$DM$8409,Sheet4!$C$2:$C$8409,Sheet3!$B18,Sheet4!$D$2:$D$8409,Sheet3!CN$3,Sheet4!$E$2:$E$8409,Sheet3!CN$4,Sheet4!$A$2:$A$8409,Sheet3!$B$1,Sheet4!$B$2:$B$8409,Sheet3!$A$3)","v":0},{"$f":"+SUMIFS(Sheet4!$DM$2:$DM$8409,Sheet4!$C$2:$C$8409,Sheet3!$B18,Sheet4!$D$2:$D$8409,Sheet3!CO$3,Sheet4!$E$2:$E$8409,Sheet3!CO$4,Sheet4!$A$2:$A$8409,Sheet3!$B$1,Sheet4!$B$2:$B$8409,Sheet3!$A$3)","v":0},{"$f":"+SUMIFS(Sheet4!$DM$2:$DM$8409,Sheet4!$C$2:$C$8409,Sheet3!$B18,Sheet4!$D$2:$D$8409,Sheet3!CP$3,Sheet4!$E$2:$E$8409,Sheet3!CP$4,Sheet4!$A$2:$A$8409,Sheet3!$B$1,Sheet4!$B$2:$B$8409,Sheet3!$A$3)","v":0},{"$f":"+SUMIFS(Sheet4!$DM$2:$DM$8409,Sheet4!$C$2:$C$8409,Sheet3!$B18,Sheet4!$D$2:$D$8409,Sheet3!CQ$3,Sheet4!$E$2:$E$8409,Sheet3!CQ$4,Sheet4!$A$2:$A$8409,Sheet3!$B$1,Sheet4!$B$2:$B$8409,Sheet3!$A$3)","v":0},{"$f":"+SUMIFS(Sheet4!$DM$2:$DM$8409,Sheet4!$C$2:$C$8409,Sheet3!$B18,Sheet4!$D$2:$D$8409,Sheet3!CR$3,Sheet4!$E$2:$E$8409,Sheet3!CR$4,Sheet4!$A$2:$A$8409,Sheet3!$B$1,Sheet4!$B$2:$B$8409,Sheet3!$A$3)","v":0},{"$f":"+SUMIFS(Sheet4!$DM$2:$DM$8409,Sheet4!$C$2:$C$8409,Sheet3!$B18,Sheet4!$D$2:$D$8409,Sheet3!CS$3,Sheet4!$E$2:$E$8409,Sheet3!CS$4,Sheet4!$A$2:$A$8409,Sheet3!$B$1,Sheet4!$B$2:$B$8409,Sheet3!$A$3)","v":0},{"$f":"+SUMIFS(Sheet4!$DM$2:$DM$8409,Sheet4!$C$2:$C$8409,Sheet3!$B18,Sheet4!$D$2:$D$8409,Sheet3!CT$3,Sheet4!$E$2:$E$8409,Sheet3!CT$4,Sheet4!$A$2:$A$8409,Sheet3!$B$1,Sheet4!$B$2:$B$8409,Sheet3!$A$3)","v":0},{"$f":"+IF(SUMIFS(Sheet4!$DN$2:$DN$8409,Sheet4!$C$2:$C$8409,Sheet3!$B18,Sheet4!$D$2:$D$8409,Sheet3!CU$3,Sheet4!$A$2:$A$8409,Sheet3!$B$1,Sheet4!$B$2:$B$8409,Sheet3!$A$3)<3,0,SUMIFS(Sheet4!$DN$2:$DN$8409,Sheet4!$C$2:$C$8409,Sheet3!$B18,Sheet4!$D$2:$D$8409,Sheet3!CU$3,Sheet4!$A$2:$A$8409,Sheet3!$B$1,Sheet4!$B$2:$B$8409,Sheet3!$A$3))","v":0},{"$f":"+IF(SUMIFS(Sheet4!$DN$2:$DN$8409,Sheet4!$C$2:$C$8409,Sheet3!$B18,Sheet4!$D$2:$D$8409,Sheet3!CV$3,Sheet4!$A$2:$A$8409,Sheet3!$B$1,Sheet4!$B$2:$B$8409,Sheet3!$A$3)<3,0,SUMIFS(Sheet4!$DN$2:$DN$8409,Sheet4!$C$2:$C$8409,Sheet3!$B18,Sheet4!$D$2:$D$8409,Sheet3!CV$3,Sheet4!$A$2:$A$8409,Sheet3!$B$1,Sheet4!$B$2:$B$8409,Sheet3!$A$3))","v":0},{"$f":"+IF(SUMIFS(Sheet4!$DN$2:$DN$8409,Sheet4!$C$2:$C$8409,Sheet3!$B18,Sheet4!$D$2:$D$8409,Sheet3!CW$3,Sheet4!$A$2:$A$8409,Sheet3!$B$1,Sheet4!$B$2:$B$8409,Sheet3!$A$3)<3,0,SUMIFS(Sheet4!$DN$2:$DN$8409,Sheet4!$C$2:$C$8409,Sheet3!$B18,Sheet4!$D$2:$D$8409,Sheet3!CW$3,Sheet4!$A$2:$A$8409,Sheet3!$B$1,Sheet4!$B$2:$B$8409,Sheet3!$A$3))","v":0},{"$f":"+IF(SUMIFS(Sheet4!$DN$2:$DN$8409,Sheet4!$C$2:$C$8409,Sheet3!$B18,Sheet4!$D$2:$D$8409,Sheet3!CX$3,Sheet4!$A$2:$A$8409,Sheet3!$B$1,Sheet4!$B$2:$B$8409,Sheet3!$A$3)<3,0,SUMIFS(Sheet4!$DN$2:$DN$8409,Sheet4!$C$2:$C$8409,Sheet3!$B18,Sheet4!$D$2:$D$8409,Sheet3!CX$3,Sheet4!$A$2:$A$8409,Sheet3!$B$1,Sheet4!$B$2:$B$8409,Sheet3!$A$3))","v":0},{"$f":"+IF(SUMIFS(Sheet4!$DN$2:$DN$8409,Sheet4!$C$2:$C$8409,Sheet3!$B18,Sheet4!$D$2:$D$8409,Sheet3!CY$3,Sheet4!$A$2:$A$8409,Sheet3!$B$1,Sheet4!$B$2:$B$8409,Sheet3!$A$3)<3,0,SUMIFS(Sheet4!$DN$2:$DN$8409,Sheet4!$C$2:$C$8409,Sheet3!$B18,Sheet4!$D$2:$D$8409,Sheet3!CY$3,Sheet4!$A$2:$A$8409,Sheet3!$B$1,Sheet4!$B$2:$B$8409,Sheet3!$A$3))","v":0},{"$f":"+IF(SUMIFS(Sheet4!$DN$2:$DN$8409,Sheet4!$C$2:$C$8409,Sheet3!$B18,Sheet4!$D$2:$D$8409,Sheet3!CZ$3,Sheet4!$A$2:$A$8409,Sheet3!$B$1,Sheet4!$B$2:$B$8409,Sheet3!$A$3)<3,0,SUMIFS(Sheet4!$DN$2:$DN$8409,Sheet4!$C$2:$C$8409,Sheet3!$B18,Sheet4!$D$2:$D$8409,Sheet3!CZ$3,Sheet4!$A$2:$A$8409,Sheet3!$B$1,Sheet4!$B$2:$B$8409,Sheet3!$A$3))","v":0},{"$f":"+IF(SUMIFS(Sheet4!$DN$2:$DN$8409,Sheet4!$C$2:$C$8409,Sheet3!$B18,Sheet4!$D$2:$D$8409,Sheet3!DA$3,Sheet4!$A$2:$A$8409,Sheet3!$B$1,Sheet4!$B$2:$B$8409,Sheet3!$A$3)<3,0,SUMIFS(Sheet4!$DN$2:$DN$8409,Sheet4!$C$2:$C$8409,Sheet3!$B18,Sheet4!$D$2:$D$8409,Sheet3!DA$3,Sheet4!$A$2:$A$8409,Sheet3!$B$1,Sheet4!$B$2:$B$8409,Sheet3!$A$3))","v":0},{"$f":"+IF(SUMIFS(Sheet4!$DN$2:$DN$8409,Sheet4!$C$2:$C$8409,Sheet3!$B18,Sheet4!$D$2:$D$8409,Sheet3!DB$3,Sheet4!$A$2:$A$8409,Sheet3!$B$1,Sheet4!$B$2:$B$8409,Sheet3!$A$3)<3,0,SUMIFS(Sheet4!$DN$2:$DN$8409,Sheet4!$C$2:$C$8409,Sheet3!$B18,Sheet4!$D$2:$D$8409,Sheet3!DB$3,Sheet4!$A$2:$A$8409,Sheet3!$B$1,Sheet4!$B$2:$B$8409,Sheet3!$A$3))","v":0},{"$f":"+IF(SUMIFS(Sheet4!$DN$2:$DN$8409,Sheet4!$C$2:$C$8409,Sheet3!$B18,Sheet4!$D$2:$D$8409,Sheet3!DC$3,Sheet4!$A$2:$A$8409,Sheet3!$B$1,Sheet4!$B$2:$B$8409,Sheet3!$A$3)<3,0,SUMIFS(Sheet4!$DN$2:$DN$8409,Sheet4!$C$2:$C$8409,Sheet3!$B18,Sheet4!$D$2:$D$8409,Sheet3!DC$3,Sheet4!$A$2:$A$8409,Sheet3!$B$1,Sheet4!$B$2:$B$8409,Sheet3!$A$3))","v":0},{"$f":"+IF(SUMIFS(Sheet4!$DN$2:$DN$8409,Sheet4!$C$2:$C$8409,Sheet3!$B18,Sheet4!$D$2:$D$8409,Sheet3!DD$3,Sheet4!$A$2:$A$8409,Sheet3!$B$1,Sheet4!$B$2:$B$8409,Sheet3!$A$3)<3,0,SUMIFS(Sheet4!$DN$2:$DN$8409,Sheet4!$C$2:$C$8409,Sheet3!$B18,Sheet4!$D$2:$D$8409,Sheet3!DD$3,Sheet4!$A$2:$A$8409,Sheet3!$B$1,Sheet4!$B$2:$B$8409,Sheet3!$A$3))","v":0},{"$f":"+IF(SUMIFS(Sheet4!$DN$2:$DN$8409,Sheet4!$C$2:$C$8409,Sheet3!$B18,Sheet4!$D$2:$D$8409,Sheet3!DE$3,Sheet4!$A$2:$A$8409,Sheet3!$B$1,Sheet4!$B$2:$B$8409,Sheet3!$A$3)<3,0,SUMIFS(Sheet4!$DN$2:$DN$8409,Sheet4!$C$2:$C$8409,Sheet3!$B18,Sheet4!$D$2:$D$8409,Sheet3!DE$3,Sheet4!$A$2:$A$8409,Sheet3!$B$1,Sheet4!$B$2:$B$8409,Sheet3!$A$3))","v":0},{"$f":"+IF(SUMIFS(Sheet4!$DN$2:$DN$8409,Sheet4!$C$2:$C$8409,Sheet3!$B18,Sheet4!$D$2:$D$8409,Sheet3!DF$3,Sheet4!$A$2:$A$8409,Sheet3!$B$1,Sheet4!$B$2:$B$8409,Sheet3!$A$3)<3,0,SUMIFS(Sheet4!$DN$2:$DN$8409,Sheet4!$C$2:$C$8409,Sheet3!$B18,Sheet4!$D$2:$D$8409,Sheet3!DF$3,Sheet4!$A$2:$A$8409,Sheet3!$B$1,Sheet4!$B$2:$B$8409,Sheet3!$A$3))","v":0},{"$f":"+IF(SUMIFS(Sheet4!$DN$2:$DN$8409,Sheet4!$C$2:$C$8409,Sheet3!$B18,Sheet4!$D$2:$D$8409,Sheet3!DG$3,Sheet4!$A$2:$A$8409,Sheet3!$B$1,Sheet4!$B$2:$B$8409,Sheet3!$A$3)<3,0,SUMIFS(Sheet4!$DN$2:$DN$8409,Sheet4!$C$2:$C$8409,Sheet3!$B18,Sheet4!$D$2:$D$8409,Sheet3!DG$3,Sheet4!$A$2:$A$8409,Sheet3!$B$1,Sheet4!$B$2:$B$8409,Sheet3!$A$3))","v":0},{"$f":"+IF(SUMIFS(Sheet4!$DN$2:$DN$8409,Sheet4!$C$2:$C$8409,Sheet3!$B18,Sheet4!$D$2:$D$8409,Sheet3!DH$3,Sheet4!$A$2:$A$8409,Sheet3!$B$1,Sheet4!$B$2:$B$8409,Sheet3!$A$3)<3,0,SUMIFS(Sheet4!$DN$2:$DN$8409,Sheet4!$C$2:$C$8409,Sheet3!$B18,Sheet4!$D$2:$D$8409,Sheet3!DH$3,Sheet4!$A$2:$A$8409,Sheet3!$B$1,Sheet4!$B$2:$B$8409,Sheet3!$A$3))","v":0},{"$f":"+IF(SUMIFS(Sheet4!$DN$2:$DN$8409,Sheet4!$C$2:$C$8409,Sheet3!$B18,Sheet4!$D$2:$D$8409,Sheet3!DI$3,Sheet4!$A$2:$A$8409,Sheet3!$B$1,Sheet4!$B$2:$B$8409,Sheet3!$A$3)<3,0,SUMIFS(Sheet4!$DN$2:$DN$8409,Sheet4!$C$2:$C$8409,Sheet3!$B18,Sheet4!$D$2:$D$8409,Sheet3!DI$3,Sheet4!$A$2:$A$8409,Sheet3!$B$1,Sheet4!$B$2:$B$8409,Sheet3!$A$3))","v":0},{"$f":"+IF(SUMIFS(Sheet4!$DN$2:$DN$8409,Sheet4!$C$2:$C$8409,Sheet3!$B18,Sheet4!$D$2:$D$8409,Sheet3!DJ$3,Sheet4!$A$2:$A$8409,Sheet3!$B$1,Sheet4!$B$2:$B$8409,Sheet3!$A$3)<3,0,SUMIFS(Sheet4!$DN$2:$DN$8409,Sheet4!$C$2:$C$8409,Sheet3!$B18,Sheet4!$D$2:$D$8409,Sheet3!DJ$3,Sheet4!$A$2:$A$8409,Sheet3!$B$1,Sheet4!$B$2:$B$8409,Sheet3!$A$3))","v":0},{"$f":"+IF(SUMIFS(Sheet4!$DN$2:$DN$8409,Sheet4!$C$2:$C$8409,Sheet3!$B18,Sheet4!$D$2:$D$8409,Sheet3!DK$3,Sheet4!$A$2:$A$8409,Sheet3!$B$1,Sheet4!$B$2:$B$8409,Sheet3!$A$3)<3,0,SUMIFS(Sheet4!$DN$2:$DN$8409,Sheet4!$C$2:$C$8409,Sheet3!$B18,Sheet4!$D$2:$D$8409,Sheet3!DK$3,Sheet4!$A$2:$A$8409,Sheet3!$B$1,Sheet4!$B$2:$B$8409,Sheet3!$A$3))","v":0},{"$f":"+IF(SUMIFS(Sheet4!$DN$2:$DN$8409,Sheet4!$C$2:$C$8409,Sheet3!$B18,Sheet4!$D$2:$D$8409,Sheet3!DL$3,Sheet4!$A$2:$A$8409,Sheet3!$B$1,Sheet4!$B$2:$B$8409,Sheet3!$A$3)<3,0,SUMIFS(Sheet4!$DN$2:$DN$8409,Sheet4!$C$2:$C$8409,Sheet3!$B18,Sheet4!$D$2:$D$8409,Sheet3!DL$3,Sheet4!$A$2:$A$8409,Sheet3!$B$1,Sheet4!$B$2:$B$8409,Sheet3!$A$3))","v":0},{"$f":"+IF(SUMIFS(Sheet4!$DN$2:$DN$8409,Sheet4!$C$2:$C$8409,Sheet3!$B18,Sheet4!$D$2:$D$8409,Sheet3!DM$3,Sheet4!$A$2:$A$8409,Sheet3!$B$1,Sheet4!$B$2:$B$8409,Sheet3!$A$3)<3,0,SUMIFS(Sheet4!$DN$2:$DN$8409,Sheet4!$C$2:$C$8409,Sheet3!$B18,Sheet4!$D$2:$D$8409,Sheet3!DM$3,Sheet4!$A$2:$A$8409,Sheet3!$B$1,Sheet4!$B$2:$B$8409,Sheet3!$A$3))","v":0},{"$f":"+IF(SUMIFS(Sheet4!$DN$2:$DN$8409,Sheet4!$C$2:$C$8409,Sheet3!$B18,Sheet4!$E$2:$E$8409,Sheet3!DN$4,Sheet4!$A$2:$A$8409,Sheet3!$B$1,Sheet4!$B$2:$B$8409,Sheet3!$A$3)<3,0,SUMIFS(Sheet4!$DN$2:$DN$8409,Sheet4!$C$2:$C$8409,Sheet3!$B18,Sheet4!$E$2:$E$8409,Sheet3!DN$4,Sheet4!$A$2:$A$8409,Sheet3!$B$1,Sheet4!$B$2:$B$8409,Sheet3!$A$3))","v":0},{"$f":"+IF(SUMIFS(Sheet4!$DN$2:$DN$8409,Sheet4!$C$2:$C$8409,Sheet3!$B18,Sheet4!$E$2:$E$8409,Sheet3!DO$4,Sheet4!$A$2:$A$8409,Sheet3!$B$1,Sheet4!$B$2:$B$8409,Sheet3!$A$3)<3,0,SUMIFS(Sheet4!$DN$2:$DN$8409,Sheet4!$C$2:$C$8409,Sheet3!$B18,Sheet4!$E$2:$E$8409,Sheet3!DO$4,Sheet4!$A$2:$A$8409,Sheet3!$B$1,Sheet4!$B$2:$B$8409,Sheet3!$A$3))","v":0},{"$f":"+IF(SUMIFS(Sheet4!$DN$2:$DN$8409,Sheet4!$C$2:$C$8409,Sheet3!$B18,Sheet4!$E$2:$E$8409,Sheet3!DP$4,Sheet4!$A$2:$A$8409,Sheet3!$B$1,Sheet4!$B$2:$B$8409,Sheet3!$A$3)<3,0,SUMIFS(Sheet4!$DN$2:$DN$8409,Sheet4!$C$2:$C$8409,Sheet3!$B18,Sheet4!$E$2:$E$8409,Sheet3!DP$4,Sheet4!$A$2:$A$8409,Sheet3!$B$1,Sheet4!$B$2:$B$8409,Sheet3!$A$3))","v":0},{"$f":"+IF(SUMIFS(Sheet4!$DN$2:$DN$8409,Sheet4!$C$2:$C$8409,Sheet3!$B18,Sheet4!$E$2:$E$8409,Sheet3!DQ$4,Sheet4!$A$2:$A$8409,Sheet3!$B$1,Sheet4!$B$2:$B$8409,Sheet3!$A$3)<3,0,SUMIFS(Sheet4!$DN$2:$DN$8409,Sheet4!$C$2:$C$8409,Sheet3!$B18,Sheet4!$E$2:$E$8409,Sheet3!DQ$4,Sheet4!$A$2:$A$8409,Sheet3!$B$1,Sheet4!$B$2:$B$8409,Sheet3!$A$3))","v":0},{"$f":"+IF(SUMIFS(Sheet4!$DN$2:$DN$8409,Sheet4!$C$2:$C$8409,Sheet3!$B18,Sheet4!$E$2:$E$8409,Sheet3!DR$4,Sheet4!$A$2:$A$8409,Sheet3!$B$1,Sheet4!$B$2:$B$8409,Sheet3!$A$3)<3,0,SUMIFS(Sheet4!$DN$2:$DN$8409,Sheet4!$C$2:$C$8409,Sheet3!$B18,Sheet4!$E$2:$E$8409,Sheet3!DR$4,Sheet4!$A$2:$A$8409,Sheet3!$B$1,Sheet4!$B$2:$B$8409,Sheet3!$A$3))","v":0}]
[2,"16F","Região de Leiria",{"$f":"+SUMIFS(Sheet4!$DM$2:$DM$8409,Sheet4!$C$2:$C$8409,Sheet3!$B19,Sheet4!$D$2:$D$8409,Sheet3!D$3,Sheet4!$E$2:$E$8409,Sheet3!D$4,Sheet4!$A$2:$A$8409,Sheet3!$B$1,Sheet4!$B$2:$B$8409,Sheet3!$A$3)","v":0},{"$f":"+SUMIFS(Sheet4!$DM$2:$DM$8409,Sheet4!$C$2:$C$8409,Sheet3!$B19,Sheet4!$D$2:$D$8409,Sheet3!E$3,Sheet4!$E$2:$E$8409,Sheet3!E$4,Sheet4!$A$2:$A$8409,Sheet3!$B$1,Sheet4!$B$2:$B$8409,Sheet3!$A$3)","v":0},{"$f":"+SUMIFS(Sheet4!$DM$2:$DM$8409,Sheet4!$C$2:$C$8409,Sheet3!$B19,Sheet4!$D$2:$D$8409,Sheet3!F$3,Sheet4!$E$2:$E$8409,Sheet3!F$4,Sheet4!$A$2:$A$8409,Sheet3!$B$1,Sheet4!$B$2:$B$8409,Sheet3!$A$3)","v":0},{"$f":"+SUMIFS(Sheet4!$DM$2:$DM$8409,Sheet4!$C$2:$C$8409,Sheet3!$B19,Sheet4!$D$2:$D$8409,Sheet3!G$3,Sheet4!$E$2:$E$8409,Sheet3!G$4,Sheet4!$A$2:$A$8409,Sheet3!$B$1,Sheet4!$B$2:$B$8409,Sheet3!$A$3)","v":0},{"$f":"+SUMIFS(Sheet4!$DM$2:$DM$8409,Sheet4!$C$2:$C$8409,Sheet3!$B19,Sheet4!$D$2:$D$8409,Sheet3!H$3,Sheet4!$E$2:$E$8409,Sheet3!H$4,Sheet4!$A$2:$A$8409,Sheet3!$B$1,Sheet4!$B$2:$B$8409,Sheet3!$A$3)","v":0},{"$f":"+SUMIFS(Sheet4!$DM$2:$DM$8409,Sheet4!$C$2:$C$8409,Sheet3!$B19,Sheet4!$D$2:$D$8409,Sheet3!I$3,Sheet4!$E$2:$E$8409,Sheet3!I$4,Sheet4!$A$2:$A$8409,Sheet3!$B$1,Sheet4!$B$2:$B$8409,Sheet3!$A$3)","v":0},{"$f":"+SUMIFS(Sheet4!$DM$2:$DM$8409,Sheet4!$C$2:$C$8409,Sheet3!$B19,Sheet4!$D$2:$D$8409,Sheet3!J$3,Sheet4!$E$2:$E$8409,Sheet3!J$4,Sheet4!$A$2:$A$8409,Sheet3!$B$1,Sheet4!$B$2:$B$8409,Sheet3!$A$3)","v":0},{"$f":"+SUMIFS(Sheet4!$DM$2:$DM$8409,Sheet4!$C$2:$C$8409,Sheet3!$B19,Sheet4!$D$2:$D$8409,Sheet3!K$3,Sheet4!$E$2:$E$8409,Sheet3!K$4,Sheet4!$A$2:$A$8409,Sheet3!$B$1,Sheet4!$B$2:$B$8409,Sheet3!$A$3)","v":0},{"$f":"+SUMIFS(Sheet4!$DM$2:$DM$8409,Sheet4!$C$2:$C$8409,Sheet3!$B19,Sheet4!$D$2:$D$8409,Sheet3!L$3,Sheet4!$E$2:$E$8409,Sheet3!L$4,Sheet4!$A$2:$A$8409,Sheet3!$B$1,Sheet4!$B$2:$B$8409,Sheet3!$A$3)","v":0},{"$f":"+SUMIFS(Sheet4!$DM$2:$DM$8409,Sheet4!$C$2:$C$8409,Sheet3!$B19,Sheet4!$D$2:$D$8409,Sheet3!M$3,Sheet4!$E$2:$E$8409,Sheet3!M$4,Sheet4!$A$2:$A$8409,Sheet3!$B$1,Sheet4!$B$2:$B$8409,Sheet3!$A$3)","v":0},{"$f":"+SUMIFS(Sheet4!$DM$2:$DM$8409,Sheet4!$C$2:$C$8409,Sheet3!$B19,Sheet4!$D$2:$D$8409,Sheet3!N$3,Sheet4!$E$2:$E$8409,Sheet3!N$4,Sheet4!$A$2:$A$8409,Sheet3!$B$1,Sheet4!$B$2:$B$8409,Sheet3!$A$3)","v":0},{"$f":"+SUMIFS(Sheet4!$DM$2:$DM$8409,Sheet4!$C$2:$C$8409,Sheet3!$B19,Sheet4!$D$2:$D$8409,Sheet3!O$3,Sheet4!$E$2:$E$8409,Sheet3!O$4,Sheet4!$A$2:$A$8409,Sheet3!$B$1,Sheet4!$B$2:$B$8409,Sheet3!$A$3)","v":0},{"$f":"+SUMIFS(Sheet4!$DM$2:$DM$8409,Sheet4!$C$2:$C$8409,Sheet3!$B19,Sheet4!$D$2:$D$8409,Sheet3!P$3,Sheet4!$E$2:$E$8409,Sheet3!P$4,Sheet4!$A$2:$A$8409,Sheet3!$B$1,Sheet4!$B$2:$B$8409,Sheet3!$A$3)","v":0},{"$f":"+SUMIFS(Sheet4!$DM$2:$DM$8409,Sheet4!$C$2:$C$8409,Sheet3!$B19,Sheet4!$D$2:$D$8409,Sheet3!Q$3,Sheet4!$E$2:$E$8409,Sheet3!Q$4,Sheet4!$A$2:$A$8409,Sheet3!$B$1,Sheet4!$B$2:$B$8409,Sheet3!$A$3)","v":0},{"$f":"+SUMIFS(Sheet4!$DM$2:$DM$8409,Sheet4!$C$2:$C$8409,Sheet3!$B19,Sheet4!$D$2:$D$8409,Sheet3!R$3,Sheet4!$E$2:$E$8409,Sheet3!R$4,Sheet4!$A$2:$A$8409,Sheet3!$B$1,Sheet4!$B$2:$B$8409,Sheet3!$A$3)","v":0},{"$f":"+SUMIFS(Sheet4!$DM$2:$DM$8409,Sheet4!$C$2:$C$8409,Sheet3!$B19,Sheet4!$D$2:$D$8409,Sheet3!S$3,Sheet4!$E$2:$E$8409,Sheet3!S$4,Sheet4!$A$2:$A$8409,Sheet3!$B$1,Sheet4!$B$2:$B$8409,Sheet3!$A$3)","v":0},{"$f":"+SUMIFS(Sheet4!$DM$2:$DM$8409,Sheet4!$C$2:$C$8409,Sheet3!$B19,Sheet4!$D$2:$D$8409,Sheet3!T$3,Sheet4!$E$2:$E$8409,Sheet3!T$4,Sheet4!$A$2:$A$8409,Sheet3!$B$1,Sheet4!$B$2:$B$8409,Sheet3!$A$3)","v":0},{"$f":"+SUMIFS(Sheet4!$DM$2:$DM$8409,Sheet4!$C$2:$C$8409,Sheet3!$B19,Sheet4!$D$2:$D$8409,Sheet3!U$3,Sheet4!$E$2:$E$8409,Sheet3!U$4,Sheet4!$A$2:$A$8409,Sheet3!$B$1,Sheet4!$B$2:$B$8409,Sheet3!$A$3)","v":0},{"$f":"+SUMIFS(Sheet4!$DM$2:$DM$8409,Sheet4!$C$2:$C$8409,Sheet3!$B19,Sheet4!$D$2:$D$8409,Sheet3!V$3,Sheet4!$E$2:$E$8409,Sheet3!V$4,Sheet4!$A$2:$A$8409,Sheet3!$B$1,Sheet4!$B$2:$B$8409,Sheet3!$A$3)","v":0},{"$f":"+SUMIFS(Sheet4!$DM$2:$DM$8409,Sheet4!$C$2:$C$8409,Sheet3!$B19,Sheet4!$D$2:$D$8409,Sheet3!W$3,Sheet4!$E$2:$E$8409,Sheet3!W$4,Sheet4!$A$2:$A$8409,Sheet3!$B$1,Sheet4!$B$2:$B$8409,Sheet3!$A$3)","v":0},{"$f":"+SUMIFS(Sheet4!$DM$2:$DM$8409,Sheet4!$C$2:$C$8409,Sheet3!$B19,Sheet4!$D$2:$D$8409,Sheet3!X$3,Sheet4!$E$2:$E$8409,Sheet3!X$4,Sheet4!$A$2:$A$8409,Sheet3!$B$1,Sheet4!$B$2:$B$8409,Sheet3!$A$3)","v":0},{"$f":"+SUMIFS(Sheet4!$DM$2:$DM$8409,Sheet4!$C$2:$C$8409,Sheet3!$B19,Sheet4!$D$2:$D$8409,Sheet3!Y$3,Sheet4!$E$2:$E$8409,Sheet3!Y$4,Sheet4!$A$2:$A$8409,Sheet3!$B$1,Sheet4!$B$2:$B$8409,Sheet3!$A$3)","v":0},{"$f":"+SUMIFS(Sheet4!$DM$2:$DM$8409,Sheet4!$C$2:$C$8409,Sheet3!$B19,Sheet4!$D$2:$D$8409,Sheet3!Z$3,Sheet4!$E$2:$E$8409,Sheet3!Z$4,Sheet4!$A$2:$A$8409,Sheet3!$B$1,Sheet4!$B$2:$B$8409,Sheet3!$A$3)","v":0},{"$f":"+SUMIFS(Sheet4!$DM$2:$DM$8409,Sheet4!$C$2:$C$8409,Sheet3!$B19,Sheet4!$D$2:$D$8409,Sheet3!AA$3,Sheet4!$E$2:$E$8409,Sheet3!AA$4,Sheet4!$A$2:$A$8409,Sheet3!$B$1,Sheet4!$B$2:$B$8409,Sheet3!$A$3)","v":0},{"$f":"+SUMIFS(Sheet4!$DM$2:$DM$8409,Sheet4!$C$2:$C$8409,Sheet3!$B19,Sheet4!$D$2:$D$8409,Sheet3!AB$3,Sheet4!$E$2:$E$8409,Sheet3!AB$4,Sheet4!$A$2:$A$8409,Sheet3!$B$1,Sheet4!$B$2:$B$8409,Sheet3!$A$3)","v":0},{"$f":"+SUMIFS(Sheet4!$DM$2:$DM$8409,Sheet4!$C$2:$C$8409,Sheet3!$B19,Sheet4!$D$2:$D$8409,Sheet3!AC$3,Sheet4!$E$2:$E$8409,Sheet3!AC$4,Sheet4!$A$2:$A$8409,Sheet3!$B$1,Sheet4!$B$2:$B$8409,Sheet3!$A$3)","v":0},{"$f":"+SUMIFS(Sheet4!$DM$2:$DM$8409,Sheet4!$C$2:$C$8409,Sheet3!$B19,Sheet4!$D$2:$D$8409,Sheet3!AD$3,Sheet4!$E$2:$E$8409,Sheet3!AD$4,Sheet4!$A$2:$A$8409,Sheet3!$B$1,Sheet4!$B$2:$B$8409,Sheet3!$A$3)","v":0},{"$f":"+SUMIFS(Sheet4!$DM$2:$DM$8409,Sheet4!$C$2:$C$8409,Sheet3!$B19,Sheet4!$D$2:$D$8409,Sheet3!AE$3,Sheet4!$E$2:$E$8409,Sheet3!AE$4,Sheet4!$A$2:$A$8409,Sheet3!$B$1,Sheet4!$B$2:$B$8409,Sheet3!$A$3)","v":0},{"$f":"+SUMIFS(Sheet4!$DM$2:$DM$8409,Sheet4!$C$2:$C$8409,Sheet3!$B19,Sheet4!$D$2:$D$8409,Sheet3!AF$3,Sheet4!$E$2:$E$8409,Sheet3!AF$4,Sheet4!$A$2:$A$8409,Sheet3!$B$1,Sheet4!$B$2:$B$8409,Sheet3!$A$3)","v":0},{"$f":"+SUMIFS(Sheet4!$DM$2:$DM$8409,Sheet4!$C$2:$C$8409,Sheet3!$B19,Sheet4!$D$2:$D$8409,Sheet3!AG$3,Sheet4!$E$2:$E$8409,Sheet3!AG$4,Sheet4!$A$2:$A$8409,Sheet3!$B$1,Sheet4!$B$2:$B$8409,Sheet3!$A$3)","v":0},{"$f":"+SUMIFS(Sheet4!$DM$2:$DM$8409,Sheet4!$C$2:$C$8409,Sheet3!$B19,Sheet4!$D$2:$D$8409,Sheet3!AH$3,Sheet4!$E$2:$E$8409,Sheet3!AH$4,Sheet4!$A$2:$A$8409,Sheet3!$B$1,Sheet4!$B$2:$B$8409,Sheet3!$A$3)","v":0},{"$f":"+SUMIFS(Sheet4!$DM$2:$DM$8409,Sheet4!$C$2:$C$8409,Sheet3!$B19,Sheet4!$D$2:$D$8409,Sheet3!AI$3,Sheet4!$E$2:$E$8409,Sheet3!AI$4,Sheet4!$A$2:$A$8409,Sheet3!$B$1,Sheet4!$B$2:$B$8409,Sheet3!$A$3)","v":0},{"$f":"+SUMIFS(Sheet4!$DM$2:$DM$8409,Sheet4!$C$2:$C$8409,Sheet3!$B19,Sheet4!$D$2:$D$8409,Sheet3!AJ$3,Sheet4!$E$2:$E$8409,Sheet3!AJ$4,Sheet4!$A$2:$A$8409,Sheet3!$B$1,Sheet4!$B$2:$B$8409,Sheet3!$A$3)","v":0},{"$f":"+SUMIFS(Sheet4!$DM$2:$DM$8409,Sheet4!$C$2:$C$8409,Sheet3!$B19,Sheet4!$D$2:$D$8409,Sheet3!AK$3,Sheet4!$E$2:$E$8409,Sheet3!AK$4,Sheet4!$A$2:$A$8409,Sheet3!$B$1,Sheet4!$B$2:$B$8409,Sheet3!$A$3)","v":0},{"$f":"+SUMIFS(Sheet4!$DM$2:$DM$8409,Sheet4!$C$2:$C$8409,Sheet3!$B19,Sheet4!$D$2:$D$8409,Sheet3!AL$3,Sheet4!$E$2:$E$8409,Sheet3!AL$4,Sheet4!$A$2:$A$8409,Sheet3!$B$1,Sheet4!$B$2:$B$8409,Sheet3!$A$3)","v":0},{"$f":"+SUMIFS(Sheet4!$DM$2:$DM$8409,Sheet4!$C$2:$C$8409,Sheet3!$B19,Sheet4!$D$2:$D$8409,Sheet3!AM$3,Sheet4!$E$2:$E$8409,Sheet3!AM$4,Sheet4!$A$2:$A$8409,Sheet3!$B$1,Sheet4!$B$2:$B$8409,Sheet3!$A$3)","v":0},{"$f":"+SUMIFS(Sheet4!$DM$2:$DM$8409,Sheet4!$C$2:$C$8409,Sheet3!$B19,Sheet4!$D$2:$D$8409,Sheet3!AN$3,Sheet4!$E$2:$E$8409,Sheet3!AN$4,Sheet4!$A$2:$A$8409,Sheet3!$B$1,Sheet4!$B$2:$B$8409,Sheet3!$A$3)","v":0},{"$f":"+SUMIFS(Sheet4!$DM$2:$DM$8409,Sheet4!$C$2:$C$8409,Sheet3!$B19,Sheet4!$D$2:$D$8409,Sheet3!AO$3,Sheet4!$E$2:$E$8409,Sheet3!AO$4,Sheet4!$A$2:$A$8409,Sheet3!$B$1,Sheet4!$B$2:$B$8409,Sheet3!$A$3)","v":0},{"$f":"+SUMIFS(Sheet4!$DM$2:$DM$8409,Sheet4!$C$2:$C$8409,Sheet3!$B19,Sheet4!$D$2:$D$8409,Sheet3!AP$3,Sheet4!$E$2:$E$8409,Sheet3!AP$4,Sheet4!$A$2:$A$8409,Sheet3!$B$1,Sheet4!$B$2:$B$8409,Sheet3!$A$3)","v":0},{"$f":"+SUMIFS(Sheet4!$DM$2:$DM$8409,Sheet4!$C$2:$C$8409,Sheet3!$B19,Sheet4!$D$2:$D$8409,Sheet3!AQ$3,Sheet4!$E$2:$E$8409,Sheet3!AQ$4,Sheet4!$A$2:$A$8409,Sheet3!$B$1,Sheet4!$B$2:$B$8409,Sheet3!$A$3)","v":0},{"$f":"+SUMIFS(Sheet4!$DM$2:$DM$8409,Sheet4!$C$2:$C$8409,Sheet3!$B19,Sheet4!$D$2:$D$8409,Sheet3!AR$3,Sheet4!$E$2:$E$8409,Sheet3!AR$4,Sheet4!$A$2:$A$8409,Sheet3!$B$1,Sheet4!$B$2:$B$8409,Sheet3!$A$3)","v":0},{"$f":"+SUMIFS(Sheet4!$DM$2:$DM$8409,Sheet4!$C$2:$C$8409,Sheet3!$B19,Sheet4!$D$2:$D$8409,Sheet3!AS$3,Sheet4!$E$2:$E$8409,Sheet3!AS$4,Sheet4!$A$2:$A$8409,Sheet3!$B$1,Sheet4!$B$2:$B$8409,Sheet3!$A$3)","v":0},{"$f":"+SUMIFS(Sheet4!$DM$2:$DM$8409,Sheet4!$C$2:$C$8409,Sheet3!$B19,Sheet4!$D$2:$D$8409,Sheet3!AT$3,Sheet4!$E$2:$E$8409,Sheet3!AT$4,Sheet4!$A$2:$A$8409,Sheet3!$B$1,Sheet4!$B$2:$B$8409,Sheet3!$A$3)","v":0},{"$f":"+SUMIFS(Sheet4!$DM$2:$DM$8409,Sheet4!$C$2:$C$8409,Sheet3!$B19,Sheet4!$D$2:$D$8409,Sheet3!AU$3,Sheet4!$E$2:$E$8409,Sheet3!AU$4,Sheet4!$A$2:$A$8409,Sheet3!$B$1,Sheet4!$B$2:$B$8409,Sheet3!$A$3)","v":0},{"$f":"+SUMIFS(Sheet4!$DM$2:$DM$8409,Sheet4!$C$2:$C$8409,Sheet3!$B19,Sheet4!$D$2:$D$8409,Sheet3!AV$3,Sheet4!$E$2:$E$8409,Sheet3!AV$4,Sheet4!$A$2:$A$8409,Sheet3!$B$1,Sheet4!$B$2:$B$8409,Sheet3!$A$3)","v":0},{"$f":"+SUMIFS(Sheet4!$DM$2:$DM$8409,Sheet4!$C$2:$C$8409,Sheet3!$B19,Sheet4!$D$2:$D$8409,Sheet3!AW$3,Sheet4!$E$2:$E$8409,Sheet3!AW$4,Sheet4!$A$2:$A$8409,Sheet3!$B$1,Sheet4!$B$2:$B$8409,Sheet3!$A$3)","v":0},{"$f":"+SUMIFS(Sheet4!$DM$2:$DM$8409,Sheet4!$C$2:$C$8409,Sheet3!$B19,Sheet4!$D$2:$D$8409,Sheet3!AX$3,Sheet4!$E$2:$E$8409,Sheet3!AX$4,Sheet4!$A$2:$A$8409,Sheet3!$B$1,Sheet4!$B$2:$B$8409,Sheet3!$A$3)","v":0},{"$f":"+SUMIFS(Sheet4!$DM$2:$DM$8409,Sheet4!$C$2:$C$8409,Sheet3!$B19,Sheet4!$D$2:$D$8409,Sheet3!AY$3,Sheet4!$E$2:$E$8409,Sheet3!AY$4,Sheet4!$A$2:$A$8409,Sheet3!$B$1,Sheet4!$B$2:$B$8409,Sheet3!$A$3)","v":0},{"$f":"+SUMIFS(Sheet4!$DM$2:$DM$8409,Sheet4!$C$2:$C$8409,Sheet3!$B19,Sheet4!$D$2:$D$8409,Sheet3!AZ$3,Sheet4!$E$2:$E$8409,Sheet3!AZ$4,Sheet4!$A$2:$A$8409,Sheet3!$B$1,Sheet4!$B$2:$B$8409,Sheet3!$A$3)","v":0},{"$f":"+SUMIFS(Sheet4!$DM$2:$DM$8409,Sheet4!$C$2:$C$8409,Sheet3!$B19,Sheet4!$D$2:$D$8409,Sheet3!BA$3,Sheet4!$E$2:$E$8409,Sheet3!BA$4,Sheet4!$A$2:$A$8409,Sheet3!$B$1,Sheet4!$B$2:$B$8409,Sheet3!$A$3)","v":0},{"$f":"+SUMIFS(Sheet4!$DM$2:$DM$8409,Sheet4!$C$2:$C$8409,Sheet3!$B19,Sheet4!$D$2:$D$8409,Sheet3!BB$3,Sheet4!$E$2:$E$8409,Sheet3!BB$4,Sheet4!$A$2:$A$8409,Sheet3!$B$1,Sheet4!$B$2:$B$8409,Sheet3!$A$3)","v":0},{"$f":"+SUMIFS(Sheet4!$DM$2:$DM$8409,Sheet4!$C$2:$C$8409,Sheet3!$B19,Sheet4!$D$2:$D$8409,Sheet3!BC$3,Sheet4!$E$2:$E$8409,Sheet3!BC$4,Sheet4!$A$2:$A$8409,Sheet3!$B$1,Sheet4!$B$2:$B$8409,Sheet3!$A$3)","v":0},{"$f":"+SUMIFS(Sheet4!$DM$2:$DM$8409,Sheet4!$C$2:$C$8409,Sheet3!$B19,Sheet4!$D$2:$D$8409,Sheet3!BD$3,Sheet4!$E$2:$E$8409,Sheet3!BD$4,Sheet4!$A$2:$A$8409,Sheet3!$B$1,Sheet4!$B$2:$B$8409,Sheet3!$A$3)","v":0},{"$f":"+SUMIFS(Sheet4!$DM$2:$DM$8409,Sheet4!$C$2:$C$8409,Sheet3!$B19,Sheet4!$D$2:$D$8409,Sheet3!BE$3,Sheet4!$E$2:$E$8409,Sheet3!BE$4,Sheet4!$A$2:$A$8409,Sheet3!$B$1,Sheet4!$B$2:$B$8409,Sheet3!$A$3)","v":0},{"$f":"+SUMIFS(Sheet4!$DM$2:$DM$8409,Sheet4!$C$2:$C$8409,Sheet3!$B19,Sheet4!$D$2:$D$8409,Sheet3!BF$3,Sheet4!$E$2:$E$8409,Sheet3!BF$4,Sheet4!$A$2:$A$8409,Sheet3!$B$1,Sheet4!$B$2:$B$8409,Sheet3!$A$3)","v":0},{"$f":"+SUMIFS(Sheet4!$DM$2:$DM$8409,Sheet4!$C$2:$C$8409,Sheet3!$B19,Sheet4!$D$2:$D$8409,Sheet3!BG$3,Sheet4!$E$2:$E$8409,Sheet3!BG$4,Sheet4!$A$2:$A$8409,Sheet3!$B$1,Sheet4!$B$2:$B$8409,Sheet3!$A$3)","v":0},{"$f":"+SUMIFS(Sheet4!$DM$2:$DM$8409,Sheet4!$C$2:$C$8409,Sheet3!$B19,Sheet4!$D$2:$D$8409,Sheet3!BH$3,Sheet4!$E$2:$E$8409,Sheet3!BH$4,Sheet4!$A$2:$A$8409,Sheet3!$B$1,Sheet4!$B$2:$B$8409,Sheet3!$A$3)","v":0},{"$f":"+SUMIFS(Sheet4!$DM$2:$DM$8409,Sheet4!$C$2:$C$8409,Sheet3!$B19,Sheet4!$D$2:$D$8409,Sheet3!BI$3,Sheet4!$E$2:$E$8409,Sheet3!BI$4,Sheet4!$A$2:$A$8409,Sheet3!$B$1,Sheet4!$B$2:$B$8409,Sheet3!$A$3)","v":0},{"$f":"+SUMIFS(Sheet4!$DM$2:$DM$8409,Sheet4!$C$2:$C$8409,Sheet3!$B19,Sheet4!$D$2:$D$8409,Sheet3!BJ$3,Sheet4!$E$2:$E$8409,Sheet3!BJ$4,Sheet4!$A$2:$A$8409,Sheet3!$B$1,Sheet4!$B$2:$B$8409,Sheet3!$A$3)","v":0},{"$f":"+SUMIFS(Sheet4!$DM$2:$DM$8409,Sheet4!$C$2:$C$8409,Sheet3!$B19,Sheet4!$D$2:$D$8409,Sheet3!BK$3,Sheet4!$E$2:$E$8409,Sheet3!BK$4,Sheet4!$A$2:$A$8409,Sheet3!$B$1,Sheet4!$B$2:$B$8409,Sheet3!$A$3)","v":0},{"$f":"+SUMIFS(Sheet4!$DM$2:$DM$8409,Sheet4!$C$2:$C$8409,Sheet3!$B19,Sheet4!$D$2:$D$8409,Sheet3!BL$3,Sheet4!$E$2:$E$8409,Sheet3!BL$4,Sheet4!$A$2:$A$8409,Sheet3!$B$1,Sheet4!$B$2:$B$8409,Sheet3!$A$3)","v":0},{"$f":"+SUMIFS(Sheet4!$DM$2:$DM$8409,Sheet4!$C$2:$C$8409,Sheet3!$B19,Sheet4!$D$2:$D$8409,Sheet3!BM$3,Sheet4!$E$2:$E$8409,Sheet3!BM$4,Sheet4!$A$2:$A$8409,Sheet3!$B$1,Sheet4!$B$2:$B$8409,Sheet3!$A$3)","v":0},{"$f":"+SUMIFS(Sheet4!$DM$2:$DM$8409,Sheet4!$C$2:$C$8409,Sheet3!$B19,Sheet4!$D$2:$D$8409,Sheet3!BN$3,Sheet4!$E$2:$E$8409,Sheet3!BN$4,Sheet4!$A$2:$A$8409,Sheet3!$B$1,Sheet4!$B$2:$B$8409,Sheet3!$A$3)","v":0},{"$f":"+SUMIFS(Sheet4!$DM$2:$DM$8409,Sheet4!$C$2:$C$8409,Sheet3!$B19,Sheet4!$D$2:$D$8409,Sheet3!BO$3,Sheet4!$E$2:$E$8409,Sheet3!BO$4,Sheet4!$A$2:$A$8409,Sheet3!$B$1,Sheet4!$B$2:$B$8409,Sheet3!$A$3)","v":0},{"$f":"+SUMIFS(Sheet4!$DM$2:$DM$8409,Sheet4!$C$2:$C$8409,Sheet3!$B19,Sheet4!$D$2:$D$8409,Sheet3!BP$3,Sheet4!$E$2:$E$8409,Sheet3!BP$4,Sheet4!$A$2:$A$8409,Sheet3!$B$1,Sheet4!$B$2:$B$8409,Sheet3!$A$3)","v":0},{"$f":"+SUMIFS(Sheet4!$DM$2:$DM$8409,Sheet4!$C$2:$C$8409,Sheet3!$B19,Sheet4!$D$2:$D$8409,Sheet3!BQ$3,Sheet4!$E$2:$E$8409,Sheet3!BQ$4,Sheet4!$A$2:$A$8409,Sheet3!$B$1,Sheet4!$B$2:$B$8409,Sheet3!$A$3)","v":0},{"$f":"+SUMIFS(Sheet4!$DM$2:$DM$8409,Sheet4!$C$2:$C$8409,Sheet3!$B19,Sheet4!$D$2:$D$8409,Sheet3!BR$3,Sheet4!$E$2:$E$8409,Sheet3!BR$4,Sheet4!$A$2:$A$8409,Sheet3!$B$1,Sheet4!$B$2:$B$8409,Sheet3!$A$3)","v":0},{"$f":"+SUMIFS(Sheet4!$DM$2:$DM$8409,Sheet4!$C$2:$C$8409,Sheet3!$B19,Sheet4!$D$2:$D$8409,Sheet3!BS$3,Sheet4!$E$2:$E$8409,Sheet3!BS$4,Sheet4!$A$2:$A$8409,Sheet3!$B$1,Sheet4!$B$2:$B$8409,Sheet3!$A$3)","v":0},{"$f":"+SUMIFS(Sheet4!$DM$2:$DM$8409,Sheet4!$C$2:$C$8409,Sheet3!$B19,Sheet4!$D$2:$D$8409,Sheet3!BT$3,Sheet4!$E$2:$E$8409,Sheet3!BT$4,Sheet4!$A$2:$A$8409,Sheet3!$B$1,Sheet4!$B$2:$B$8409,Sheet3!$A$3)","v":0},{"$f":"+SUMIFS(Sheet4!$DM$2:$DM$8409,Sheet4!$C$2:$C$8409,Sheet3!$B19,Sheet4!$D$2:$D$8409,Sheet3!BU$3,Sheet4!$E$2:$E$8409,Sheet3!BU$4,Sheet4!$A$2:$A$8409,Sheet3!$B$1,Sheet4!$B$2:$B$8409,Sheet3!$A$3)","v":0},{"$f":"+SUMIFS(Sheet4!$DM$2:$DM$8409,Sheet4!$C$2:$C$8409,Sheet3!$B19,Sheet4!$D$2:$D$8409,Sheet3!BV$3,Sheet4!$E$2:$E$8409,Sheet3!BV$4,Sheet4!$A$2:$A$8409,Sheet3!$B$1,Sheet4!$B$2:$B$8409,Sheet3!$A$3)","v":0},{"$f":"+SUMIFS(Sheet4!$DM$2:$DM$8409,Sheet4!$C$2:$C$8409,Sheet3!$B19,Sheet4!$D$2:$D$8409,Sheet3!BW$3,Sheet4!$E$2:$E$8409,Sheet3!BW$4,Sheet4!$A$2:$A$8409,Sheet3!$B$1,Sheet4!$B$2:$B$8409,Sheet3!$A$3)","v":0},{"$f":"+SUMIFS(Sheet4!$DM$2:$DM$8409,Sheet4!$C$2:$C$8409,Sheet3!$B19,Sheet4!$D$2:$D$8409,Sheet3!BX$3,Sheet4!$E$2:$E$8409,Sheet3!BX$4,Sheet4!$A$2:$A$8409,Sheet3!$B$1,Sheet4!$B$2:$B$8409,Sheet3!$A$3)","v":0},{"$f":"+SUMIFS(Sheet4!$DM$2:$DM$8409,Sheet4!$C$2:$C$8409,Sheet3!$B19,Sheet4!$D$2:$D$8409,Sheet3!BY$3,Sheet4!$E$2:$E$8409,Sheet3!BY$4,Sheet4!$A$2:$A$8409,Sheet3!$B$1,Sheet4!$B$2:$B$8409,Sheet3!$A$3)","v":0},{"$f":"+SUMIFS(Sheet4!$DM$2:$DM$8409,Sheet4!$C$2:$C$8409,Sheet3!$B19,Sheet4!$D$2:$D$8409,Sheet3!BZ$3,Sheet4!$E$2:$E$8409,Sheet3!BZ$4,Sheet4!$A$2:$A$8409,Sheet3!$B$1,Sheet4!$B$2:$B$8409,Sheet3!$A$3)","v":0},{"$f":"+SUMIFS(Sheet4!$DM$2:$DM$8409,Sheet4!$C$2:$C$8409,Sheet3!$B19,Sheet4!$D$2:$D$8409,Sheet3!CA$3,Sheet4!$E$2:$E$8409,Sheet3!CA$4,Sheet4!$A$2:$A$8409,Sheet3!$B$1,Sheet4!$B$2:$B$8409,Sheet3!$A$3)","v":0},{"$f":"+SUMIFS(Sheet4!$DM$2:$DM$8409,Sheet4!$C$2:$C$8409,Sheet3!$B19,Sheet4!$D$2:$D$8409,Sheet3!CB$3,Sheet4!$E$2:$E$8409,Sheet3!CB$4,Sheet4!$A$2:$A$8409,Sheet3!$B$1,Sheet4!$B$2:$B$8409,Sheet3!$A$3)","v":0},{"$f":"+SUMIFS(Sheet4!$DM$2:$DM$8409,Sheet4!$C$2:$C$8409,Sheet3!$B19,Sheet4!$D$2:$D$8409,Sheet3!CC$3,Sheet4!$E$2:$E$8409,Sheet3!CC$4,Sheet4!$A$2:$A$8409,Sheet3!$B$1,Sheet4!$B$2:$B$8409,Sheet3!$A$3)","v":0},{"$f":"+SUMIFS(Sheet4!$DM$2:$DM$8409,Sheet4!$C$2:$C$8409,Sheet3!$B19,Sheet4!$D$2:$D$8409,Sheet3!CD$3,Sheet4!$E$2:$E$8409,Sheet3!CD$4,Sheet4!$A$2:$A$8409,Sheet3!$B$1,Sheet4!$B$2:$B$8409,Sheet3!$A$3)","v":0},{"$f":"+SUMIFS(Sheet4!$DM$2:$DM$8409,Sheet4!$C$2:$C$8409,Sheet3!$B19,Sheet4!$D$2:$D$8409,Sheet3!CE$3,Sheet4!$E$2:$E$8409,Sheet3!CE$4,Sheet4!$A$2:$A$8409,Sheet3!$B$1,Sheet4!$B$2:$B$8409,Sheet3!$A$3)","v":0},{"$f":"+SUMIFS(Sheet4!$DM$2:$DM$8409,Sheet4!$C$2:$C$8409,Sheet3!$B19,Sheet4!$D$2:$D$8409,Sheet3!CF$3,Sheet4!$E$2:$E$8409,Sheet3!CF$4,Sheet4!$A$2:$A$8409,Sheet3!$B$1,Sheet4!$B$2:$B$8409,Sheet3!$A$3)","v":0},{"$f":"+SUMIFS(Sheet4!$DM$2:$DM$8409,Sheet4!$C$2:$C$8409,Sheet3!$B19,Sheet4!$D$2:$D$8409,Sheet3!CG$3,Sheet4!$E$2:$E$8409,Sheet3!CG$4,Sheet4!$A$2:$A$8409,Sheet3!$B$1,Sheet4!$B$2:$B$8409,Sheet3!$A$3)","v":0},{"$f":"+SUMIFS(Sheet4!$DM$2:$DM$8409,Sheet4!$C$2:$C$8409,Sheet3!$B19,Sheet4!$D$2:$D$8409,Sheet3!CH$3,Sheet4!$E$2:$E$8409,Sheet3!CH$4,Sheet4!$A$2:$A$8409,Sheet3!$B$1,Sheet4!$B$2:$B$8409,Sheet3!$A$3)","v":0},{"$f":"+SUMIFS(Sheet4!$DM$2:$DM$8409,Sheet4!$C$2:$C$8409,Sheet3!$B19,Sheet4!$D$2:$D$8409,Sheet3!CI$3,Sheet4!$E$2:$E$8409,Sheet3!CI$4,Sheet4!$A$2:$A$8409,Sheet3!$B$1,Sheet4!$B$2:$B$8409,Sheet3!$A$3)","v":0},{"$f":"+SUMIFS(Sheet4!$DM$2:$DM$8409,Sheet4!$C$2:$C$8409,Sheet3!$B19,Sheet4!$D$2:$D$8409,Sheet3!CJ$3,Sheet4!$E$2:$E$8409,Sheet3!CJ$4,Sheet4!$A$2:$A$8409,Sheet3!$B$1,Sheet4!$B$2:$B$8409,Sheet3!$A$3)","v":0},{"$f":"+SUMIFS(Sheet4!$DM$2:$DM$8409,Sheet4!$C$2:$C$8409,Sheet3!$B19,Sheet4!$D$2:$D$8409,Sheet3!CK$3,Sheet4!$E$2:$E$8409,Sheet3!CK$4,Sheet4!$A$2:$A$8409,Sheet3!$B$1,Sheet4!$B$2:$B$8409,Sheet3!$A$3)","v":0},{"$f":"+SUMIFS(Sheet4!$DM$2:$DM$8409,Sheet4!$C$2:$C$8409,Sheet3!$B19,Sheet4!$D$2:$D$8409,Sheet3!CL$3,Sheet4!$E$2:$E$8409,Sheet3!CL$4,Sheet4!$A$2:$A$8409,Sheet3!$B$1,Sheet4!$B$2:$B$8409,Sheet3!$A$3)","v":0},{"$f":"+SUMIFS(Sheet4!$DM$2:$DM$8409,Sheet4!$C$2:$C$8409,Sheet3!$B19,Sheet4!$D$2:$D$8409,Sheet3!CM$3,Sheet4!$E$2:$E$8409,Sheet3!CM$4,Sheet4!$A$2:$A$8409,Sheet3!$B$1,Sheet4!$B$2:$B$8409,Sheet3!$A$3)","v":0},{"$f":"+SUMIFS(Sheet4!$DM$2:$DM$8409,Sheet4!$C$2:$C$8409,Sheet3!$B19,Sheet4!$D$2:$D$8409,Sheet3!CN$3,Sheet4!$E$2:$E$8409,Sheet3!CN$4,Sheet4!$A$2:$A$8409,Sheet3!$B$1,Sheet4!$B$2:$B$8409,Sheet3!$A$3)","v":0},{"$f":"+SUMIFS(Sheet4!$DM$2:$DM$8409,Sheet4!$C$2:$C$8409,Sheet3!$B19,Sheet4!$D$2:$D$8409,Sheet3!CO$3,Sheet4!$E$2:$E$8409,Sheet3!CO$4,Sheet4!$A$2:$A$8409,Sheet3!$B$1,Sheet4!$B$2:$B$8409,Sheet3!$A$3)","v":0},{"$f":"+SUMIFS(Sheet4!$DM$2:$DM$8409,Sheet4!$C$2:$C$8409,Sheet3!$B19,Sheet4!$D$2:$D$8409,Sheet3!CP$3,Sheet4!$E$2:$E$8409,Sheet3!CP$4,Sheet4!$A$2:$A$8409,Sheet3!$B$1,Sheet4!$B$2:$B$8409,Sheet3!$A$3)","v":0},{"$f":"+SUMIFS(Sheet4!$DM$2:$DM$8409,Sheet4!$C$2:$C$8409,Sheet3!$B19,Sheet4!$D$2:$D$8409,Sheet3!CQ$3,Sheet4!$E$2:$E$8409,Sheet3!CQ$4,Sheet4!$A$2:$A$8409,Sheet3!$B$1,Sheet4!$B$2:$B$8409,Sheet3!$A$3)","v":0},{"$f":"+SUMIFS(Sheet4!$DM$2:$DM$8409,Sheet4!$C$2:$C$8409,Sheet3!$B19,Sheet4!$D$2:$D$8409,Sheet3!CR$3,Sheet4!$E$2:$E$8409,Sheet3!CR$4,Sheet4!$A$2:$A$8409,Sheet3!$B$1,Sheet4!$B$2:$B$8409,Sheet3!$A$3)","v":0},{"$f":"+SUMIFS(Sheet4!$DM$2:$DM$8409,Sheet4!$C$2:$C$8409,Sheet3!$B19,Sheet4!$D$2:$D$8409,Sheet3!CS$3,Sheet4!$E$2:$E$8409,Sheet3!CS$4,Sheet4!$A$2:$A$8409,Sheet3!$B$1,Sheet4!$B$2:$B$8409,Sheet3!$A$3)","v":0},{"$f":"+SUMIFS(Sheet4!$DM$2:$DM$8409,Sheet4!$C$2:$C$8409,Sheet3!$B19,Sheet4!$D$2:$D$8409,Sheet3!CT$3,Sheet4!$E$2:$E$8409,Sheet3!CT$4,Sheet4!$A$2:$A$8409,Sheet3!$B$1,Sheet4!$B$2:$B$8409,Sheet3!$A$3)","v":0},{"$f":"+IF(SUMIFS(Sheet4!$DN$2:$DN$8409,Sheet4!$C$2:$C$8409,Sheet3!$B19,Sheet4!$D$2:$D$8409,Sheet3!CU$3,Sheet4!$A$2:$A$8409,Sheet3!$B$1,Sheet4!$B$2:$B$8409,Sheet3!$A$3)<3,0,SUMIFS(Sheet4!$DN$2:$DN$8409,Sheet4!$C$2:$C$8409,Sheet3!$B19,Sheet4!$D$2:$D$8409,Sheet3!CU$3,Sheet4!$A$2:$A$8409,Sheet3!$B$1,Sheet4!$B$2:$B$8409,Sheet3!$A$3))","v":0},{"$f":"+IF(SUMIFS(Sheet4!$DN$2:$DN$8409,Sheet4!$C$2:$C$8409,Sheet3!$B19,Sheet4!$D$2:$D$8409,Sheet3!CV$3,Sheet4!$A$2:$A$8409,Sheet3!$B$1,Sheet4!$B$2:$B$8409,Sheet3!$A$3)<3,0,SUMIFS(Sheet4!$DN$2:$DN$8409,Sheet4!$C$2:$C$8409,Sheet3!$B19,Sheet4!$D$2:$D$8409,Sheet3!CV$3,Sheet4!$A$2:$A$8409,Sheet3!$B$1,Sheet4!$B$2:$B$8409,Sheet3!$A$3))","v":0},{"$f":"+IF(SUMIFS(Sheet4!$DN$2:$DN$8409,Sheet4!$C$2:$C$8409,Sheet3!$B19,Sheet4!$D$2:$D$8409,Sheet3!CW$3,Sheet4!$A$2:$A$8409,Sheet3!$B$1,Sheet4!$B$2:$B$8409,Sheet3!$A$3)<3,0,SUMIFS(Sheet4!$DN$2:$DN$8409,Sheet4!$C$2:$C$8409,Sheet3!$B19,Sheet4!$D$2:$D$8409,Sheet3!CW$3,Sheet4!$A$2:$A$8409,Sheet3!$B$1,Sheet4!$B$2:$B$8409,Sheet3!$A$3))","v":0},{"$f":"+IF(SUMIFS(Sheet4!$DN$2:$DN$8409,Sheet4!$C$2:$C$8409,Sheet3!$B19,Sheet4!$D$2:$D$8409,Sheet3!CX$3,Sheet4!$A$2:$A$8409,Sheet3!$B$1,Sheet4!$B$2:$B$8409,Sheet3!$A$3)<3,0,SUMIFS(Sheet4!$DN$2:$DN$8409,Sheet4!$C$2:$C$8409,Sheet3!$B19,Sheet4!$D$2:$D$8409,Sheet3!CX$3,Sheet4!$A$2:$A$8409,Sheet3!$B$1,Sheet4!$B$2:$B$8409,Sheet3!$A$3))","v":0},{"$f":"+IF(SUMIFS(Sheet4!$DN$2:$DN$8409,Sheet4!$C$2:$C$8409,Sheet3!$B19,Sheet4!$D$2:$D$8409,Sheet3!CY$3,Sheet4!$A$2:$A$8409,Sheet3!$B$1,Sheet4!$B$2:$B$8409,Sheet3!$A$3)<3,0,SUMIFS(Sheet4!$DN$2:$DN$8409,Sheet4!$C$2:$C$8409,Sheet3!$B19,Sheet4!$D$2:$D$8409,Sheet3!CY$3,Sheet4!$A$2:$A$8409,Sheet3!$B$1,Sheet4!$B$2:$B$8409,Sheet3!$A$3))","v":0},{"$f":"+IF(SUMIFS(Sheet4!$DN$2:$DN$8409,Sheet4!$C$2:$C$8409,Sheet3!$B19,Sheet4!$D$2:$D$8409,Sheet3!CZ$3,Sheet4!$A$2:$A$8409,Sheet3!$B$1,Sheet4!$B$2:$B$8409,Sheet3!$A$3)<3,0,SUMIFS(Sheet4!$DN$2:$DN$8409,Sheet4!$C$2:$C$8409,Sheet3!$B19,Sheet4!$D$2:$D$8409,Sheet3!CZ$3,Sheet4!$A$2:$A$8409,Sheet3!$B$1,Sheet4!$B$2:$B$8409,Sheet3!$A$3))","v":0},{"$f":"+IF(SUMIFS(Sheet4!$DN$2:$DN$8409,Sheet4!$C$2:$C$8409,Sheet3!$B19,Sheet4!$D$2:$D$8409,Sheet3!DA$3,Sheet4!$A$2:$A$8409,Sheet3!$B$1,Sheet4!$B$2:$B$8409,Sheet3!$A$3)<3,0,SUMIFS(Sheet4!$DN$2:$DN$8409,Sheet4!$C$2:$C$8409,Sheet3!$B19,Sheet4!$D$2:$D$8409,Sheet3!DA$3,Sheet4!$A$2:$A$8409,Sheet3!$B$1,Sheet4!$B$2:$B$8409,Sheet3!$A$3))","v":0},{"$f":"+IF(SUMIFS(Sheet4!$DN$2:$DN$8409,Sheet4!$C$2:$C$8409,Sheet3!$B19,Sheet4!$D$2:$D$8409,Sheet3!DB$3,Sheet4!$A$2:$A$8409,Sheet3!$B$1,Sheet4!$B$2:$B$8409,Sheet3!$A$3)<3,0,SUMIFS(Sheet4!$DN$2:$DN$8409,Sheet4!$C$2:$C$8409,Sheet3!$B19,Sheet4!$D$2:$D$8409,Sheet3!DB$3,Sheet4!$A$2:$A$8409,Sheet3!$B$1,Sheet4!$B$2:$B$8409,Sheet3!$A$3))","v":0},{"$f":"+IF(SUMIFS(Sheet4!$DN$2:$DN$8409,Sheet4!$C$2:$C$8409,Sheet3!$B19,Sheet4!$D$2:$D$8409,Sheet3!DC$3,Sheet4!$A$2:$A$8409,Sheet3!$B$1,Sheet4!$B$2:$B$8409,Sheet3!$A$3)<3,0,SUMIFS(Sheet4!$DN$2:$DN$8409,Sheet4!$C$2:$C$8409,Sheet3!$B19,Sheet4!$D$2:$D$8409,Sheet3!DC$3,Sheet4!$A$2:$A$8409,Sheet3!$B$1,Sheet4!$B$2:$B$8409,Sheet3!$A$3))","v":0},{"$f":"+IF(SUMIFS(Sheet4!$DN$2:$DN$8409,Sheet4!$C$2:$C$8409,Sheet3!$B19,Sheet4!$D$2:$D$8409,Sheet3!DD$3,Sheet4!$A$2:$A$8409,Sheet3!$B$1,Sheet4!$B$2:$B$8409,Sheet3!$A$3)<3,0,SUMIFS(Sheet4!$DN$2:$DN$8409,Sheet4!$C$2:$C$8409,Sheet3!$B19,Sheet4!$D$2:$D$8409,Sheet3!DD$3,Sheet4!$A$2:$A$8409,Sheet3!$B$1,Sheet4!$B$2:$B$8409,Sheet3!$A$3))","v":0},{"$f":"+IF(SUMIFS(Sheet4!$DN$2:$DN$8409,Sheet4!$C$2:$C$8409,Sheet3!$B19,Sheet4!$D$2:$D$8409,Sheet3!DE$3,Sheet4!$A$2:$A$8409,Sheet3!$B$1,Sheet4!$B$2:$B$8409,Sheet3!$A$3)<3,0,SUMIFS(Sheet4!$DN$2:$DN$8409,Sheet4!$C$2:$C$8409,Sheet3!$B19,Sheet4!$D$2:$D$8409,Sheet3!DE$3,Sheet4!$A$2:$A$8409,Sheet3!$B$1,Sheet4!$B$2:$B$8409,Sheet3!$A$3))","v":0},{"$f":"+IF(SUMIFS(Sheet4!$DN$2:$DN$8409,Sheet4!$C$2:$C$8409,Sheet3!$B19,Sheet4!$D$2:$D$8409,Sheet3!DF$3,Sheet4!$A$2:$A$8409,Sheet3!$B$1,Sheet4!$B$2:$B$8409,Sheet3!$A$3)<3,0,SUMIFS(Sheet4!$DN$2:$DN$8409,Sheet4!$C$2:$C$8409,Sheet3!$B19,Sheet4!$D$2:$D$8409,Sheet3!DF$3,Sheet4!$A$2:$A$8409,Sheet3!$B$1,Sheet4!$B$2:$B$8409,Sheet3!$A$3))","v":0},{"$f":"+IF(SUMIFS(Sheet4!$DN$2:$DN$8409,Sheet4!$C$2:$C$8409,Sheet3!$B19,Sheet4!$D$2:$D$8409,Sheet3!DG$3,Sheet4!$A$2:$A$8409,Sheet3!$B$1,Sheet4!$B$2:$B$8409,Sheet3!$A$3)<3,0,SUMIFS(Sheet4!$DN$2:$DN$8409,Sheet4!$C$2:$C$8409,Sheet3!$B19,Sheet4!$D$2:$D$8409,Sheet3!DG$3,Sheet4!$A$2:$A$8409,Sheet3!$B$1,Sheet4!$B$2:$B$8409,Sheet3!$A$3))","v":0},{"$f":"+IF(SUMIFS(Sheet4!$DN$2:$DN$8409,Sheet4!$C$2:$C$8409,Sheet3!$B19,Sheet4!$D$2:$D$8409,Sheet3!DH$3,Sheet4!$A$2:$A$8409,Sheet3!$B$1,Sheet4!$B$2:$B$8409,Sheet3!$A$3)<3,0,SUMIFS(Sheet4!$DN$2:$DN$8409,Sheet4!$C$2:$C$8409,Sheet3!$B19,Sheet4!$D$2:$D$8409,Sheet3!DH$3,Sheet4!$A$2:$A$8409,Sheet3!$B$1,Sheet4!$B$2:$B$8409,Sheet3!$A$3))","v":0},{"$f":"+IF(SUMIFS(Sheet4!$DN$2:$DN$8409,Sheet4!$C$2:$C$8409,Sheet3!$B19,Sheet4!$D$2:$D$8409,Sheet3!DI$3,Sheet4!$A$2:$A$8409,Sheet3!$B$1,Sheet4!$B$2:$B$8409,Sheet3!$A$3)<3,0,SUMIFS(Sheet4!$DN$2:$DN$8409,Sheet4!$C$2:$C$8409,Sheet3!$B19,Sheet4!$D$2:$D$8409,Sheet3!DI$3,Sheet4!$A$2:$A$8409,Sheet3!$B$1,Sheet4!$B$2:$B$8409,Sheet3!$A$3))","v":0},{"$f":"+IF(SUMIFS(Sheet4!$DN$2:$DN$8409,Sheet4!$C$2:$C$8409,Sheet3!$B19,Sheet4!$D$2:$D$8409,Sheet3!DJ$3,Sheet4!$A$2:$A$8409,Sheet3!$B$1,Sheet4!$B$2:$B$8409,Sheet3!$A$3)<3,0,SUMIFS(Sheet4!$DN$2:$DN$8409,Sheet4!$C$2:$C$8409,Sheet3!$B19,Sheet4!$D$2:$D$8409,Sheet3!DJ$3,Sheet4!$A$2:$A$8409,Sheet3!$B$1,Sheet4!$B$2:$B$8409,Sheet3!$A$3))","v":0},{"$f":"+IF(SUMIFS(Sheet4!$DN$2:$DN$8409,Sheet4!$C$2:$C$8409,Sheet3!$B19,Sheet4!$D$2:$D$8409,Sheet3!DK$3,Sheet4!$A$2:$A$8409,Sheet3!$B$1,Sheet4!$B$2:$B$8409,Sheet3!$A$3)<3,0,SUMIFS(Sheet4!$DN$2:$DN$8409,Sheet4!$C$2:$C$8409,Sheet3!$B19,Sheet4!$D$2:$D$8409,Sheet3!DK$3,Sheet4!$A$2:$A$8409,Sheet3!$B$1,Sheet4!$B$2:$B$8409,Sheet3!$A$3))","v":0},{"$f":"+IF(SUMIFS(Sheet4!$DN$2:$DN$8409,Sheet4!$C$2:$C$8409,Sheet3!$B19,Sheet4!$D$2:$D$8409,Sheet3!DL$3,Sheet4!$A$2:$A$8409,Sheet3!$B$1,Sheet4!$B$2:$B$8409,Sheet3!$A$3)<3,0,SUMIFS(Sheet4!$DN$2:$DN$8409,Sheet4!$C$2:$C$8409,Sheet3!$B19,Sheet4!$D$2:$D$8409,Sheet3!DL$3,Sheet4!$A$2:$A$8409,Sheet3!$B$1,Sheet4!$B$2:$B$8409,Sheet3!$A$3))","v":0},{"$f":"+IF(SUMIFS(Sheet4!$DN$2:$DN$8409,Sheet4!$C$2:$C$8409,Sheet3!$B19,Sheet4!$D$2:$D$8409,Sheet3!DM$3,Sheet4!$A$2:$A$8409,Sheet3!$B$1,Sheet4!$B$2:$B$8409,Sheet3!$A$3)<3,0,SUMIFS(Sheet4!$DN$2:$DN$8409,Sheet4!$C$2:$C$8409,Sheet3!$B19,Sheet4!$D$2:$D$8409,Sheet3!DM$3,Sheet4!$A$2:$A$8409,Sheet3!$B$1,Sheet4!$B$2:$B$8409,Sheet3!$A$3))","v":0},{"$f":"+IF(SUMIFS(Sheet4!$DN$2:$DN$8409,Sheet4!$C$2:$C$8409,Sheet3!$B19,Sheet4!$E$2:$E$8409,Sheet3!DN$4,Sheet4!$A$2:$A$8409,Sheet3!$B$1,Sheet4!$B$2:$B$8409,Sheet3!$A$3)<3,0,SUMIFS(Sheet4!$DN$2:$DN$8409,Sheet4!$C$2:$C$8409,Sheet3!$B19,Sheet4!$E$2:$E$8409,Sheet3!DN$4,Sheet4!$A$2:$A$8409,Sheet3!$B$1,Sheet4!$B$2:$B$8409,Sheet3!$A$3))","v":0},{"$f":"+IF(SUMIFS(Sheet4!$DN$2:$DN$8409,Sheet4!$C$2:$C$8409,Sheet3!$B19,Sheet4!$E$2:$E$8409,Sheet3!DO$4,Sheet4!$A$2:$A$8409,Sheet3!$B$1,Sheet4!$B$2:$B$8409,Sheet3!$A$3)<3,0,SUMIFS(Sheet4!$DN$2:$DN$8409,Sheet4!$C$2:$C$8409,Sheet3!$B19,Sheet4!$E$2:$E$8409,Sheet3!DO$4,Sheet4!$A$2:$A$8409,Sheet3!$B$1,Sheet4!$B$2:$B$8409,Sheet3!$A$3))","v":0},{"$f":"+IF(SUMIFS(Sheet4!$DN$2:$DN$8409,Sheet4!$C$2:$C$8409,Sheet3!$B19,Sheet4!$E$2:$E$8409,Sheet3!DP$4,Sheet4!$A$2:$A$8409,Sheet3!$B$1,Sheet4!$B$2:$B$8409,Sheet3!$A$3)<3,0,SUMIFS(Sheet4!$DN$2:$DN$8409,Sheet4!$C$2:$C$8409,Sheet3!$B19,Sheet4!$E$2:$E$8409,Sheet3!DP$4,Sheet4!$A$2:$A$8409,Sheet3!$B$1,Sheet4!$B$2:$B$8409,Sheet3!$A$3))","v":0},{"$f":"+IF(SUMIFS(Sheet4!$DN$2:$DN$8409,Sheet4!$C$2:$C$8409,Sheet3!$B19,Sheet4!$E$2:$E$8409,Sheet3!DQ$4,Sheet4!$A$2:$A$8409,Sheet3!$B$1,Sheet4!$B$2:$B$8409,Sheet3!$A$3)<3,0,SUMIFS(Sheet4!$DN$2:$DN$8409,Sheet4!$C$2:$C$8409,Sheet3!$B19,Sheet4!$E$2:$E$8409,Sheet3!DQ$4,Sheet4!$A$2:$A$8409,Sheet3!$B$1,Sheet4!$B$2:$B$8409,Sheet3!$A$3))","v":0},{"$f":"+IF(SUMIFS(Sheet4!$DN$2:$DN$8409,Sheet4!$C$2:$C$8409,Sheet3!$B19,Sheet4!$E$2:$E$8409,Sheet3!DR$4,Sheet4!$A$2:$A$8409,Sheet3!$B$1,Sheet4!$B$2:$B$8409,Sheet3!$A$3)<3,0,SUMIFS(Sheet4!$DN$2:$DN$8409,Sheet4!$C$2:$C$8409,Sheet3!$B19,Sheet4!$E$2:$E$8409,Sheet3!DR$4,Sheet4!$A$2:$A$8409,Sheet3!$B$1,Sheet4!$B$2:$B$8409,Sheet3!$A$3))","v":0}]
[2,"16G","Viseu Dão Lafões",{"$f":"+SUMIFS(Sheet4!$DM$2:$DM$8409,Sheet4!$C$2:$C$8409,Sheet3!$B20,Sheet4!$D$2:$D$8409,Sheet3!D$3,Sheet4!$E$2:$E$8409,Sheet3!D$4,Sheet4!$A$2:$A$8409,Sheet3!$B$1,Sheet4!$B$2:$B$8409,Sheet3!$A$3)","v":0},{"$f":"+SUMIFS(Sheet4!$DM$2:$DM$8409,Sheet4!$C$2:$C$8409,Sheet3!$B20,Sheet4!$D$2:$D$8409,Sheet3!E$3,Sheet4!$E$2:$E$8409,Sheet3!E$4,Sheet4!$A$2:$A$8409,Sheet3!$B$1,Sheet4!$B$2:$B$8409,Sheet3!$A$3)","v":0},{"$f":"+SUMIFS(Sheet4!$DM$2:$DM$8409,Sheet4!$C$2:$C$8409,Sheet3!$B20,Sheet4!$D$2:$D$8409,Sheet3!F$3,Sheet4!$E$2:$E$8409,Sheet3!F$4,Sheet4!$A$2:$A$8409,Sheet3!$B$1,Sheet4!$B$2:$B$8409,Sheet3!$A$3)","v":0},{"$f":"+SUMIFS(Sheet4!$DM$2:$DM$8409,Sheet4!$C$2:$C$8409,Sheet3!$B20,Sheet4!$D$2:$D$8409,Sheet3!G$3,Sheet4!$E$2:$E$8409,Sheet3!G$4,Sheet4!$A$2:$A$8409,Sheet3!$B$1,Sheet4!$B$2:$B$8409,Sheet3!$A$3)","v":0},{"$f":"+SUMIFS(Sheet4!$DM$2:$DM$8409,Sheet4!$C$2:$C$8409,Sheet3!$B20,Sheet4!$D$2:$D$8409,Sheet3!H$3,Sheet4!$E$2:$E$8409,Sheet3!H$4,Sheet4!$A$2:$A$8409,Sheet3!$B$1,Sheet4!$B$2:$B$8409,Sheet3!$A$3)","v":0},{"$f":"+SUMIFS(Sheet4!$DM$2:$DM$8409,Sheet4!$C$2:$C$8409,Sheet3!$B20,Sheet4!$D$2:$D$8409,Sheet3!I$3,Sheet4!$E$2:$E$8409,Sheet3!I$4,Sheet4!$A$2:$A$8409,Sheet3!$B$1,Sheet4!$B$2:$B$8409,Sheet3!$A$3)","v":0},{"$f":"+SUMIFS(Sheet4!$DM$2:$DM$8409,Sheet4!$C$2:$C$8409,Sheet3!$B20,Sheet4!$D$2:$D$8409,Sheet3!J$3,Sheet4!$E$2:$E$8409,Sheet3!J$4,Sheet4!$A$2:$A$8409,Sheet3!$B$1,Sheet4!$B$2:$B$8409,Sheet3!$A$3)","v":0},{"$f":"+SUMIFS(Sheet4!$DM$2:$DM$8409,Sheet4!$C$2:$C$8409,Sheet3!$B20,Sheet4!$D$2:$D$8409,Sheet3!K$3,Sheet4!$E$2:$E$8409,Sheet3!K$4,Sheet4!$A$2:$A$8409,Sheet3!$B$1,Sheet4!$B$2:$B$8409,Sheet3!$A$3)","v":0},{"$f":"+SUMIFS(Sheet4!$DM$2:$DM$8409,Sheet4!$C$2:$C$8409,Sheet3!$B20,Sheet4!$D$2:$D$8409,Sheet3!L$3,Sheet4!$E$2:$E$8409,Sheet3!L$4,Sheet4!$A$2:$A$8409,Sheet3!$B$1,Sheet4!$B$2:$B$8409,Sheet3!$A$3)","v":0},{"$f":"+SUMIFS(Sheet4!$DM$2:$DM$8409,Sheet4!$C$2:$C$8409,Sheet3!$B20,Sheet4!$D$2:$D$8409,Sheet3!M$3,Sheet4!$E$2:$E$8409,Sheet3!M$4,Sheet4!$A$2:$A$8409,Sheet3!$B$1,Sheet4!$B$2:$B$8409,Sheet3!$A$3)","v":0},{"$f":"+SUMIFS(Sheet4!$DM$2:$DM$8409,Sheet4!$C$2:$C$8409,Sheet3!$B20,Sheet4!$D$2:$D$8409,Sheet3!N$3,Sheet4!$E$2:$E$8409,Sheet3!N$4,Sheet4!$A$2:$A$8409,Sheet3!$B$1,Sheet4!$B$2:$B$8409,Sheet3!$A$3)","v":0},{"$f":"+SUMIFS(Sheet4!$DM$2:$DM$8409,Sheet4!$C$2:$C$8409,Sheet3!$B20,Sheet4!$D$2:$D$8409,Sheet3!O$3,Sheet4!$E$2:$E$8409,Sheet3!O$4,Sheet4!$A$2:$A$8409,Sheet3!$B$1,Sheet4!$B$2:$B$8409,Sheet3!$A$3)","v":0},{"$f":"+SUMIFS(Sheet4!$DM$2:$DM$8409,Sheet4!$C$2:$C$8409,Sheet3!$B20,Sheet4!$D$2:$D$8409,Sheet3!P$3,Sheet4!$E$2:$E$8409,Sheet3!P$4,Sheet4!$A$2:$A$8409,Sheet3!$B$1,Sheet4!$B$2:$B$8409,Sheet3!$A$3)","v":0},{"$f":"+SUMIFS(Sheet4!$DM$2:$DM$8409,Sheet4!$C$2:$C$8409,Sheet3!$B20,Sheet4!$D$2:$D$8409,Sheet3!Q$3,Sheet4!$E$2:$E$8409,Sheet3!Q$4,Sheet4!$A$2:$A$8409,Sheet3!$B$1,Sheet4!$B$2:$B$8409,Sheet3!$A$3)","v":0},{"$f":"+SUMIFS(Sheet4!$DM$2:$DM$8409,Sheet4!$C$2:$C$8409,Sheet3!$B20,Sheet4!$D$2:$D$8409,Sheet3!R$3,Sheet4!$E$2:$E$8409,Sheet3!R$4,Sheet4!$A$2:$A$8409,Sheet3!$B$1,Sheet4!$B$2:$B$8409,Sheet3!$A$3)","v":0},{"$f":"+SUMIFS(Sheet4!$DM$2:$DM$8409,Sheet4!$C$2:$C$8409,Sheet3!$B20,Sheet4!$D$2:$D$8409,Sheet3!S$3,Sheet4!$E$2:$E$8409,Sheet3!S$4,Sheet4!$A$2:$A$8409,Sheet3!$B$1,Sheet4!$B$2:$B$8409,Sheet3!$A$3)","v":0},{"$f":"+SUMIFS(Sheet4!$DM$2:$DM$8409,Sheet4!$C$2:$C$8409,Sheet3!$B20,Sheet4!$D$2:$D$8409,Sheet3!T$3,Sheet4!$E$2:$E$8409,Sheet3!T$4,Sheet4!$A$2:$A$8409,Sheet3!$B$1,Sheet4!$B$2:$B$8409,Sheet3!$A$3)","v":0},{"$f":"+SUMIFS(Sheet4!$DM$2:$DM$8409,Sheet4!$C$2:$C$8409,Sheet3!$B20,Sheet4!$D$2:$D$8409,Sheet3!U$3,Sheet4!$E$2:$E$8409,Sheet3!U$4,Sheet4!$A$2:$A$8409,Sheet3!$B$1,Sheet4!$B$2:$B$8409,Sheet3!$A$3)","v":0},{"$f":"+SUMIFS(Sheet4!$DM$2:$DM$8409,Sheet4!$C$2:$C$8409,Sheet3!$B20,Sheet4!$D$2:$D$8409,Sheet3!V$3,Sheet4!$E$2:$E$8409,Sheet3!V$4,Sheet4!$A$2:$A$8409,Sheet3!$B$1,Sheet4!$B$2:$B$8409,Sheet3!$A$3)","v":0},{"$f":"+SUMIFS(Sheet4!$DM$2:$DM$8409,Sheet4!$C$2:$C$8409,Sheet3!$B20,Sheet4!$D$2:$D$8409,Sheet3!W$3,Sheet4!$E$2:$E$8409,Sheet3!W$4,Sheet4!$A$2:$A$8409,Sheet3!$B$1,Sheet4!$B$2:$B$8409,Sheet3!$A$3)","v":0},{"$f":"+SUMIFS(Sheet4!$DM$2:$DM$8409,Sheet4!$C$2:$C$8409,Sheet3!$B20,Sheet4!$D$2:$D$8409,Sheet3!X$3,Sheet4!$E$2:$E$8409,Sheet3!X$4,Sheet4!$A$2:$A$8409,Sheet3!$B$1,Sheet4!$B$2:$B$8409,Sheet3!$A$3)","v":0},{"$f":"+SUMIFS(Sheet4!$DM$2:$DM$8409,Sheet4!$C$2:$C$8409,Sheet3!$B20,Sheet4!$D$2:$D$8409,Sheet3!Y$3,Sheet4!$E$2:$E$8409,Sheet3!Y$4,Sheet4!$A$2:$A$8409,Sheet3!$B$1,Sheet4!$B$2:$B$8409,Sheet3!$A$3)","v":0},{"$f":"+SUMIFS(Sheet4!$DM$2:$DM$8409,Sheet4!$C$2:$C$8409,Sheet3!$B20,Sheet4!$D$2:$D$8409,Sheet3!Z$3,Sheet4!$E$2:$E$8409,Sheet3!Z$4,Sheet4!$A$2:$A$8409,Sheet3!$B$1,Sheet4!$B$2:$B$8409,Sheet3!$A$3)","v":0},{"$f":"+SUMIFS(Sheet4!$DM$2:$DM$8409,Sheet4!$C$2:$C$8409,Sheet3!$B20,Sheet4!$D$2:$D$8409,Sheet3!AA$3,Sheet4!$E$2:$E$8409,Sheet3!AA$4,Sheet4!$A$2:$A$8409,Sheet3!$B$1,Sheet4!$B$2:$B$8409,Sheet3!$A$3)","v":0},{"$f":"+SUMIFS(Sheet4!$DM$2:$DM$8409,Sheet4!$C$2:$C$8409,Sheet3!$B20,Sheet4!$D$2:$D$8409,Sheet3!AB$3,Sheet4!$E$2:$E$8409,Sheet3!AB$4,Sheet4!$A$2:$A$8409,Sheet3!$B$1,Sheet4!$B$2:$B$8409,Sheet3!$A$3)","v":0},{"$f":"+SUMIFS(Sheet4!$DM$2:$DM$8409,Sheet4!$C$2:$C$8409,Sheet3!$B20,Sheet4!$D$2:$D$8409,Sheet3!AC$3,Sheet4!$E$2:$E$8409,Sheet3!AC$4,Sheet4!$A$2:$A$8409,Sheet3!$B$1,Sheet4!$B$2:$B$8409,Sheet3!$A$3)","v":0},{"$f":"+SUMIFS(Sheet4!$DM$2:$DM$8409,Sheet4!$C$2:$C$8409,Sheet3!$B20,Sheet4!$D$2:$D$8409,Sheet3!AD$3,Sheet4!$E$2:$E$8409,Sheet3!AD$4,Sheet4!$A$2:$A$8409,Sheet3!$B$1,Sheet4!$B$2:$B$8409,Sheet3!$A$3)","v":0},{"$f":"+SUMIFS(Sheet4!$DM$2:$DM$8409,Sheet4!$C$2:$C$8409,Sheet3!$B20,Sheet4!$D$2:$D$8409,Sheet3!AE$3,Sheet4!$E$2:$E$8409,Sheet3!AE$4,Sheet4!$A$2:$A$8409,Sheet3!$B$1,Sheet4!$B$2:$B$8409,Sheet3!$A$3)","v":0},{"$f":"+SUMIFS(Sheet4!$DM$2:$DM$8409,Sheet4!$C$2:$C$8409,Sheet3!$B20,Sheet4!$D$2:$D$8409,Sheet3!AF$3,Sheet4!$E$2:$E$8409,Sheet3!AF$4,Sheet4!$A$2:$A$8409,Sheet3!$B$1,Sheet4!$B$2:$B$8409,Sheet3!$A$3)","v":0},{"$f":"+SUMIFS(Sheet4!$DM$2:$DM$8409,Sheet4!$C$2:$C$8409,Sheet3!$B20,Sheet4!$D$2:$D$8409,Sheet3!AG$3,Sheet4!$E$2:$E$8409,Sheet3!AG$4,Sheet4!$A$2:$A$8409,Sheet3!$B$1,Sheet4!$B$2:$B$8409,Sheet3!$A$3)","v":0},{"$f":"+SUMIFS(Sheet4!$DM$2:$DM$8409,Sheet4!$C$2:$C$8409,Sheet3!$B20,Sheet4!$D$2:$D$8409,Sheet3!AH$3,Sheet4!$E$2:$E$8409,Sheet3!AH$4,Sheet4!$A$2:$A$8409,Sheet3!$B$1,Sheet4!$B$2:$B$8409,Sheet3!$A$3)","v":0},{"$f":"+SUMIFS(Sheet4!$DM$2:$DM$8409,Sheet4!$C$2:$C$8409,Sheet3!$B20,Sheet4!$D$2:$D$8409,Sheet3!AI$3,Sheet4!$E$2:$E$8409,Sheet3!AI$4,Sheet4!$A$2:$A$8409,Sheet3!$B$1,Sheet4!$B$2:$B$8409,Sheet3!$A$3)","v":0},{"$f":"+SUMIFS(Sheet4!$DM$2:$DM$8409,Sheet4!$C$2:$C$8409,Sheet3!$B20,Sheet4!$D$2:$D$8409,Sheet3!AJ$3,Sheet4!$E$2:$E$8409,Sheet3!AJ$4,Sheet4!$A$2:$A$8409,Sheet3!$B$1,Sheet4!$B$2:$B$8409,Sheet3!$A$3)","v":0},{"$f":"+SUMIFS(Sheet4!$DM$2:$DM$8409,Sheet4!$C$2:$C$8409,Sheet3!$B20,Sheet4!$D$2:$D$8409,Sheet3!AK$3,Sheet4!$E$2:$E$8409,Sheet3!AK$4,Sheet4!$A$2:$A$8409,Sheet3!$B$1,Sheet4!$B$2:$B$8409,Sheet3!$A$3)","v":0},{"$f":"+SUMIFS(Sheet4!$DM$2:$DM$8409,Sheet4!$C$2:$C$8409,Sheet3!$B20,Sheet4!$D$2:$D$8409,Sheet3!AL$3,Sheet4!$E$2:$E$8409,Sheet3!AL$4,Sheet4!$A$2:$A$8409,Sheet3!$B$1,Sheet4!$B$2:$B$8409,Sheet3!$A$3)","v":0},{"$f":"+SUMIFS(Sheet4!$DM$2:$DM$8409,Sheet4!$C$2:$C$8409,Sheet3!$B20,Sheet4!$D$2:$D$8409,Sheet3!AM$3,Sheet4!$E$2:$E$8409,Sheet3!AM$4,Sheet4!$A$2:$A$8409,Sheet3!$B$1,Sheet4!$B$2:$B$8409,Sheet3!$A$3)","v":0},{"$f":"+SUMIFS(Sheet4!$DM$2:$DM$8409,Sheet4!$C$2:$C$8409,Sheet3!$B20,Sheet4!$D$2:$D$8409,Sheet3!AN$3,Sheet4!$E$2:$E$8409,Sheet3!AN$4,Sheet4!$A$2:$A$8409,Sheet3!$B$1,Sheet4!$B$2:$B$8409,Sheet3!$A$3)","v":0},{"$f":"+SUMIFS(Sheet4!$DM$2:$DM$8409,Sheet4!$C$2:$C$8409,Sheet3!$B20,Sheet4!$D$2:$D$8409,Sheet3!AO$3,Sheet4!$E$2:$E$8409,Sheet3!AO$4,Sheet4!$A$2:$A$8409,Sheet3!$B$1,Sheet4!$B$2:$B$8409,Sheet3!$A$3)","v":0},{"$f":"+SUMIFS(Sheet4!$DM$2:$DM$8409,Sheet4!$C$2:$C$8409,Sheet3!$B20,Sheet4!$D$2:$D$8409,Sheet3!AP$3,Sheet4!$E$2:$E$8409,Sheet3!AP$4,Sheet4!$A$2:$A$8409,Sheet3!$B$1,Sheet4!$B$2:$B$8409,Sheet3!$A$3)","v":0},{"$f":"+SUMIFS(Sheet4!$DM$2:$DM$8409,Sheet4!$C$2:$C$8409,Sheet3!$B20,Sheet4!$D$2:$D$8409,Sheet3!AQ$3,Sheet4!$E$2:$E$8409,Sheet3!AQ$4,Sheet4!$A$2:$A$8409,Sheet3!$B$1,Sheet4!$B$2:$B$8409,Sheet3!$A$3)","v":0},{"$f":"+SUMIFS(Sheet4!$DM$2:$DM$8409,Sheet4!$C$2:$C$8409,Sheet3!$B20,Sheet4!$D$2:$D$8409,Sheet3!AR$3,Sheet4!$E$2:$E$8409,Sheet3!AR$4,Sheet4!$A$2:$A$8409,Sheet3!$B$1,Sheet4!$B$2:$B$8409,Sheet3!$A$3)","v":0},{"$f":"+SUMIFS(Sheet4!$DM$2:$DM$8409,Sheet4!$C$2:$C$8409,Sheet3!$B20,Sheet4!$D$2:$D$8409,Sheet3!AS$3,Sheet4!$E$2:$E$8409,Sheet3!AS$4,Sheet4!$A$2:$A$8409,Sheet3!$B$1,Sheet4!$B$2:$B$8409,Sheet3!$A$3)","v":0},{"$f":"+SUMIFS(Sheet4!$DM$2:$DM$8409,Sheet4!$C$2:$C$8409,Sheet3!$B20,Sheet4!$D$2:$D$8409,Sheet3!AT$3,Sheet4!$E$2:$E$8409,Sheet3!AT$4,Sheet4!$A$2:$A$8409,Sheet3!$B$1,Sheet4!$B$2:$B$8409,Sheet3!$A$3)","v":0},{"$f":"+SUMIFS(Sheet4!$DM$2:$DM$8409,Sheet4!$C$2:$C$8409,Sheet3!$B20,Sheet4!$D$2:$D$8409,Sheet3!AU$3,Sheet4!$E$2:$E$8409,Sheet3!AU$4,Sheet4!$A$2:$A$8409,Sheet3!$B$1,Sheet4!$B$2:$B$8409,Sheet3!$A$3)","v":0},{"$f":"+SUMIFS(Sheet4!$DM$2:$DM$8409,Sheet4!$C$2:$C$8409,Sheet3!$B20,Sheet4!$D$2:$D$8409,Sheet3!AV$3,Sheet4!$E$2:$E$8409,Sheet3!AV$4,Sheet4!$A$2:$A$8409,Sheet3!$B$1,Sheet4!$B$2:$B$8409,Sheet3!$A$3)","v":0},{"$f":"+SUMIFS(Sheet4!$DM$2:$DM$8409,Sheet4!$C$2:$C$8409,Sheet3!$B20,Sheet4!$D$2:$D$8409,Sheet3!AW$3,Sheet4!$E$2:$E$8409,Sheet3!AW$4,Sheet4!$A$2:$A$8409,Sheet3!$B$1,Sheet4!$B$2:$B$8409,Sheet3!$A$3)","v":0},{"$f":"+SUMIFS(Sheet4!$DM$2:$DM$8409,Sheet4!$C$2:$C$8409,Sheet3!$B20,Sheet4!$D$2:$D$8409,Sheet3!AX$3,Sheet4!$E$2:$E$8409,Sheet3!AX$4,Sheet4!$A$2:$A$8409,Sheet3!$B$1,Sheet4!$B$2:$B$8409,Sheet3!$A$3)","v":0},{"$f":"+SUMIFS(Sheet4!$DM$2:$DM$8409,Sheet4!$C$2:$C$8409,Sheet3!$B20,Sheet4!$D$2:$D$8409,Sheet3!AY$3,Sheet4!$E$2:$E$8409,Sheet3!AY$4,Sheet4!$A$2:$A$8409,Sheet3!$B$1,Sheet4!$B$2:$B$8409,Sheet3!$A$3)","v":0},{"$f":"+SUMIFS(Sheet4!$DM$2:$DM$8409,Sheet4!$C$2:$C$8409,Sheet3!$B20,Sheet4!$D$2:$D$8409,Sheet3!AZ$3,Sheet4!$E$2:$E$8409,Sheet3!AZ$4,Sheet4!$A$2:$A$8409,Sheet3!$B$1,Sheet4!$B$2:$B$8409,Sheet3!$A$3)","v":0},{"$f":"+SUMIFS(Sheet4!$DM$2:$DM$8409,Sheet4!$C$2:$C$8409,Sheet3!$B20,Sheet4!$D$2:$D$8409,Sheet3!BA$3,Sheet4!$E$2:$E$8409,Sheet3!BA$4,Sheet4!$A$2:$A$8409,Sheet3!$B$1,Sheet4!$B$2:$B$8409,Sheet3!$A$3)","v":0},{"$f":"+SUMIFS(Sheet4!$DM$2:$DM$8409,Sheet4!$C$2:$C$8409,Sheet3!$B20,Sheet4!$D$2:$D$8409,Sheet3!BB$3,Sheet4!$E$2:$E$8409,Sheet3!BB$4,Sheet4!$A$2:$A$8409,Sheet3!$B$1,Sheet4!$B$2:$B$8409,Sheet3!$A$3)","v":0},{"$f":"+SUMIFS(Sheet4!$DM$2:$DM$8409,Sheet4!$C$2:$C$8409,Sheet3!$B20,Sheet4!$D$2:$D$8409,Sheet3!BC$3,Sheet4!$E$2:$E$8409,Sheet3!BC$4,Sheet4!$A$2:$A$8409,Sheet3!$B$1,Sheet4!$B$2:$B$8409,Sheet3!$A$3)","v":0},{"$f":"+SUMIFS(Sheet4!$DM$2:$DM$8409,Sheet4!$C$2:$C$8409,Sheet3!$B20,Sheet4!$D$2:$D$8409,Sheet3!BD$3,Sheet4!$E$2:$E$8409,Sheet3!BD$4,Sheet4!$A$2:$A$8409,Sheet3!$B$1,Sheet4!$B$2:$B$8409,Sheet3!$A$3)","v":0},{"$f":"+SUMIFS(Sheet4!$DM$2:$DM$8409,Sheet4!$C$2:$C$8409,Sheet3!$B20,Sheet4!$D$2:$D$8409,Sheet3!BE$3,Sheet4!$E$2:$E$8409,Sheet3!BE$4,Sheet4!$A$2:$A$8409,Sheet3!$B$1,Sheet4!$B$2:$B$8409,Sheet3!$A$3)","v":0},{"$f":"+SUMIFS(Sheet4!$DM$2:$DM$8409,Sheet4!$C$2:$C$8409,Sheet3!$B20,Sheet4!$D$2:$D$8409,Sheet3!BF$3,Sheet4!$E$2:$E$8409,Sheet3!BF$4,Sheet4!$A$2:$A$8409,Sheet3!$B$1,Sheet4!$B$2:$B$8409,Sheet3!$A$3)","v":0},{"$f":"+SUMIFS(Sheet4!$DM$2:$DM$8409,Sheet4!$C$2:$C$8409,Sheet3!$B20,Sheet4!$D$2:$D$8409,Sheet3!BG$3,Sheet4!$E$2:$E$8409,Sheet3!BG$4,Sheet4!$A$2:$A$8409,Sheet3!$B$1,Sheet4!$B$2:$B$8409,Sheet3!$A$3)","v":0},{"$f":"+SUMIFS(Sheet4!$DM$2:$DM$8409,Sheet4!$C$2:$C$8409,Sheet3!$B20,Sheet4!$D$2:$D$8409,Sheet3!BH$3,Sheet4!$E$2:$E$8409,Sheet3!BH$4,Sheet4!$A$2:$A$8409,Sheet3!$B$1,Sheet4!$B$2:$B$8409,Sheet3!$A$3)","v":0},{"$f":"+SUMIFS(Sheet4!$DM$2:$DM$8409,Sheet4!$C$2:$C$8409,Sheet3!$B20,Sheet4!$D$2:$D$8409,Sheet3!BI$3,Sheet4!$E$2:$E$8409,Sheet3!BI$4,Sheet4!$A$2:$A$8409,Sheet3!$B$1,Sheet4!$B$2:$B$8409,Sheet3!$A$3)","v":0},{"$f":"+SUMIFS(Sheet4!$DM$2:$DM$8409,Sheet4!$C$2:$C$8409,Sheet3!$B20,Sheet4!$D$2:$D$8409,Sheet3!BJ$3,Sheet4!$E$2:$E$8409,Sheet3!BJ$4,Sheet4!$A$2:$A$8409,Sheet3!$B$1,Sheet4!$B$2:$B$8409,Sheet3!$A$3)","v":0},{"$f":"+SUMIFS(Sheet4!$DM$2:$DM$8409,Sheet4!$C$2:$C$8409,Sheet3!$B20,Sheet4!$D$2:$D$8409,Sheet3!BK$3,Sheet4!$E$2:$E$8409,Sheet3!BK$4,Sheet4!$A$2:$A$8409,Sheet3!$B$1,Sheet4!$B$2:$B$8409,Sheet3!$A$3)","v":0},{"$f":"+SUMIFS(Sheet4!$DM$2:$DM$8409,Sheet4!$C$2:$C$8409,Sheet3!$B20,Sheet4!$D$2:$D$8409,Sheet3!BL$3,Sheet4!$E$2:$E$8409,Sheet3!BL$4,Sheet4!$A$2:$A$8409,Sheet3!$B$1,Sheet4!$B$2:$B$8409,Sheet3!$A$3)","v":0},{"$f":"+SUMIFS(Sheet4!$DM$2:$DM$8409,Sheet4!$C$2:$C$8409,Sheet3!$B20,Sheet4!$D$2:$D$8409,Sheet3!BM$3,Sheet4!$E$2:$E$8409,Sheet3!BM$4,Sheet4!$A$2:$A$8409,Sheet3!$B$1,Sheet4!$B$2:$B$8409,Sheet3!$A$3)","v":0},{"$f":"+SUMIFS(Sheet4!$DM$2:$DM$8409,Sheet4!$C$2:$C$8409,Sheet3!$B20,Sheet4!$D$2:$D$8409,Sheet3!BN$3,Sheet4!$E$2:$E$8409,Sheet3!BN$4,Sheet4!$A$2:$A$8409,Sheet3!$B$1,Sheet4!$B$2:$B$8409,Sheet3!$A$3)","v":0},{"$f":"+SUMIFS(Sheet4!$DM$2:$DM$8409,Sheet4!$C$2:$C$8409,Sheet3!$B20,Sheet4!$D$2:$D$8409,Sheet3!BO$3,Sheet4!$E$2:$E$8409,Sheet3!BO$4,Sheet4!$A$2:$A$8409,Sheet3!$B$1,Sheet4!$B$2:$B$8409,Sheet3!$A$3)","v":0},{"$f":"+SUMIFS(Sheet4!$DM$2:$DM$8409,Sheet4!$C$2:$C$8409,Sheet3!$B20,Sheet4!$D$2:$D$8409,Sheet3!BP$3,Sheet4!$E$2:$E$8409,Sheet3!BP$4,Sheet4!$A$2:$A$8409,Sheet3!$B$1,Sheet4!$B$2:$B$8409,Sheet3!$A$3)","v":0},{"$f":"+SUMIFS(Sheet4!$DM$2:$DM$8409,Sheet4!$C$2:$C$8409,Sheet3!$B20,Sheet4!$D$2:$D$8409,Sheet3!BQ$3,Sheet4!$E$2:$E$8409,Sheet3!BQ$4,Sheet4!$A$2:$A$8409,Sheet3!$B$1,Sheet4!$B$2:$B$8409,Sheet3!$A$3)","v":0},{"$f":"+SUMIFS(Sheet4!$DM$2:$DM$8409,Sheet4!$C$2:$C$8409,Sheet3!$B20,Sheet4!$D$2:$D$8409,Sheet3!BR$3,Sheet4!$E$2:$E$8409,Sheet3!BR$4,Sheet4!$A$2:$A$8409,Sheet3!$B$1,Sheet4!$B$2:$B$8409,Sheet3!$A$3)","v":0},{"$f":"+SUMIFS(Sheet4!$DM$2:$DM$8409,Sheet4!$C$2:$C$8409,Sheet3!$B20,Sheet4!$D$2:$D$8409,Sheet3!BS$3,Sheet4!$E$2:$E$8409,Sheet3!BS$4,Sheet4!$A$2:$A$8409,Sheet3!$B$1,Sheet4!$B$2:$B$8409,Sheet3!$A$3)","v":0},{"$f":"+SUMIFS(Sheet4!$DM$2:$DM$8409,Sheet4!$C$2:$C$8409,Sheet3!$B20,Sheet4!$D$2:$D$8409,Sheet3!BT$3,Sheet4!$E$2:$E$8409,Sheet3!BT$4,Sheet4!$A$2:$A$8409,Sheet3!$B$1,Sheet4!$B$2:$B$8409,Sheet3!$A$3)","v":0},{"$f":"+SUMIFS(Sheet4!$DM$2:$DM$8409,Sheet4!$C$2:$C$8409,Sheet3!$B20,Sheet4!$D$2:$D$8409,Sheet3!BU$3,Sheet4!$E$2:$E$8409,Sheet3!BU$4,Sheet4!$A$2:$A$8409,Sheet3!$B$1,Sheet4!$B$2:$B$8409,Sheet3!$A$3)","v":0},{"$f":"+SUMIFS(Sheet4!$DM$2:$DM$8409,Sheet4!$C$2:$C$8409,Sheet3!$B20,Sheet4!$D$2:$D$8409,Sheet3!BV$3,Sheet4!$E$2:$E$8409,Sheet3!BV$4,Sheet4!$A$2:$A$8409,Sheet3!$B$1,Sheet4!$B$2:$B$8409,Sheet3!$A$3)","v":0},{"$f":"+SUMIFS(Sheet4!$DM$2:$DM$8409,Sheet4!$C$2:$C$8409,Sheet3!$B20,Sheet4!$D$2:$D$8409,Sheet3!BW$3,Sheet4!$E$2:$E$8409,Sheet3!BW$4,Sheet4!$A$2:$A$8409,Sheet3!$B$1,Sheet4!$B$2:$B$8409,Sheet3!$A$3)","v":0},{"$f":"+SUMIFS(Sheet4!$DM$2:$DM$8409,Sheet4!$C$2:$C$8409,Sheet3!$B20,Sheet4!$D$2:$D$8409,Sheet3!BX$3,Sheet4!$E$2:$E$8409,Sheet3!BX$4,Sheet4!$A$2:$A$8409,Sheet3!$B$1,Sheet4!$B$2:$B$8409,Sheet3!$A$3)","v":0},{"$f":"+SUMIFS(Sheet4!$DM$2:$DM$8409,Sheet4!$C$2:$C$8409,Sheet3!$B20,Sheet4!$D$2:$D$8409,Sheet3!BY$3,Sheet4!$E$2:$E$8409,Sheet3!BY$4,Sheet4!$A$2:$A$8409,Sheet3!$B$1,Sheet4!$B$2:$B$8409,Sheet3!$A$3)","v":0},{"$f":"+SUMIFS(Sheet4!$DM$2:$DM$8409,Sheet4!$C$2:$C$8409,Sheet3!$B20,Sheet4!$D$2:$D$8409,Sheet3!BZ$3,Sheet4!$E$2:$E$8409,Sheet3!BZ$4,Sheet4!$A$2:$A$8409,Sheet3!$B$1,Sheet4!$B$2:$B$8409,Sheet3!$A$3)","v":0},{"$f":"+SUMIFS(Sheet4!$DM$2:$DM$8409,Sheet4!$C$2:$C$8409,Sheet3!$B20,Sheet4!$D$2:$D$8409,Sheet3!CA$3,Sheet4!$E$2:$E$8409,Sheet3!CA$4,Sheet4!$A$2:$A$8409,Sheet3!$B$1,Sheet4!$B$2:$B$8409,Sheet3!$A$3)","v":0},{"$f":"+SUMIFS(Sheet4!$DM$2:$DM$8409,Sheet4!$C$2:$C$8409,Sheet3!$B20,Sheet4!$D$2:$D$8409,Sheet3!CB$3,Sheet4!$E$2:$E$8409,Sheet3!CB$4,Sheet4!$A$2:$A$8409,Sheet3!$B$1,Sheet4!$B$2:$B$8409,Sheet3!$A$3)","v":0},{"$f":"+SUMIFS(Sheet4!$DM$2:$DM$8409,Sheet4!$C$2:$C$8409,Sheet3!$B20,Sheet4!$D$2:$D$8409,Sheet3!CC$3,Sheet4!$E$2:$E$8409,Sheet3!CC$4,Sheet4!$A$2:$A$8409,Sheet3!$B$1,Sheet4!$B$2:$B$8409,Sheet3!$A$3)","v":0},{"$f":"+SUMIFS(Sheet4!$DM$2:$DM$8409,Sheet4!$C$2:$C$8409,Sheet3!$B20,Sheet4!$D$2:$D$8409,Sheet3!CD$3,Sheet4!$E$2:$E$8409,Sheet3!CD$4,Sheet4!$A$2:$A$8409,Sheet3!$B$1,Sheet4!$B$2:$B$8409,Sheet3!$A$3)","v":0},{"$f":"+SUMIFS(Sheet4!$DM$2:$DM$8409,Sheet4!$C$2:$C$8409,Sheet3!$B20,Sheet4!$D$2:$D$8409,Sheet3!CE$3,Sheet4!$E$2:$E$8409,Sheet3!CE$4,Sheet4!$A$2:$A$8409,Sheet3!$B$1,Sheet4!$B$2:$B$8409,Sheet3!$A$3)","v":0},{"$f":"+SUMIFS(Sheet4!$DM$2:$DM$8409,Sheet4!$C$2:$C$8409,Sheet3!$B20,Sheet4!$D$2:$D$8409,Sheet3!CF$3,Sheet4!$E$2:$E$8409,Sheet3!CF$4,Sheet4!$A$2:$A$8409,Sheet3!$B$1,Sheet4!$B$2:$B$8409,Sheet3!$A$3)","v":0},{"$f":"+SUMIFS(Sheet4!$DM$2:$DM$8409,Sheet4!$C$2:$C$8409,Sheet3!$B20,Sheet4!$D$2:$D$8409,Sheet3!CG$3,Sheet4!$E$2:$E$8409,Sheet3!CG$4,Sheet4!$A$2:$A$8409,Sheet3!$B$1,Sheet4!$B$2:$B$8409,Sheet3!$A$3)","v":0},{"$f":"+SUMIFS(Sheet4!$DM$2:$DM$8409,Sheet4!$C$2:$C$8409,Sheet3!$B20,Sheet4!$D$2:$D$8409,Sheet3!CH$3,Sheet4!$E$2:$E$8409,Sheet3!CH$4,Sheet4!$A$2:$A$8409,Sheet3!$B$1,Sheet4!$B$2:$B$8409,Sheet3!$A$3)","v":0},{"$f":"+SUMIFS(Sheet4!$DM$2:$DM$8409,Sheet4!$C$2:$C$8409,Sheet3!$B20,Sheet4!$D$2:$D$8409,Sheet3!CI$3,Sheet4!$E$2:$E$8409,Sheet3!CI$4,Sheet4!$A$2:$A$8409,Sheet3!$B$1,Sheet4!$B$2:$B$8409,Sheet3!$A$3)","v":0},{"$f":"+SUMIFS(Sheet4!$DM$2:$DM$8409,Sheet4!$C$2:$C$8409,Sheet3!$B20,Sheet4!$D$2:$D$8409,Sheet3!CJ$3,Sheet4!$E$2:$E$8409,Sheet3!CJ$4,Sheet4!$A$2:$A$8409,Sheet3!$B$1,Sheet4!$B$2:$B$8409,Sheet3!$A$3)","v":0},{"$f":"+SUMIFS(Sheet4!$DM$2:$DM$8409,Sheet4!$C$2:$C$8409,Sheet3!$B20,Sheet4!$D$2:$D$8409,Sheet3!CK$3,Sheet4!$E$2:$E$8409,Sheet3!CK$4,Sheet4!$A$2:$A$8409,Sheet3!$B$1,Sheet4!$B$2:$B$8409,Sheet3!$A$3)","v":0},{"$f":"+SUMIFS(Sheet4!$DM$2:$DM$8409,Sheet4!$C$2:$C$8409,Sheet3!$B20,Sheet4!$D$2:$D$8409,Sheet3!CL$3,Sheet4!$E$2:$E$8409,Sheet3!CL$4,Sheet4!$A$2:$A$8409,Sheet3!$B$1,Sheet4!$B$2:$B$8409,Sheet3!$A$3)","v":0},{"$f":"+SUMIFS(Sheet4!$DM$2:$DM$8409,Sheet4!$C$2:$C$8409,Sheet3!$B20,Sheet4!$D$2:$D$8409,Sheet3!CM$3,Sheet4!$E$2:$E$8409,Sheet3!CM$4,Sheet4!$A$2:$A$8409,Sheet3!$B$1,Sheet4!$B$2:$B$8409,Sheet3!$A$3)","v":0},{"$f":"+SUMIFS(Sheet4!$DM$2:$DM$8409,Sheet4!$C$2:$C$8409,Sheet3!$B20,Sheet4!$D$2:$D$8409,Sheet3!CN$3,Sheet4!$E$2:$E$8409,Sheet3!CN$4,Sheet4!$A$2:$A$8409,Sheet3!$B$1,Sheet4!$B$2:$B$8409,Sheet3!$A$3)","v":0},{"$f":"+SUMIFS(Sheet4!$DM$2:$DM$8409,Sheet4!$C$2:$C$8409,Sheet3!$B20,Sheet4!$D$2:$D$8409,Sheet3!CO$3,Sheet4!$E$2:$E$8409,Sheet3!CO$4,Sheet4!$A$2:$A$8409,Sheet3!$B$1,Sheet4!$B$2:$B$8409,Sheet3!$A$3)","v":0},{"$f":"+SUMIFS(Sheet4!$DM$2:$DM$8409,Sheet4!$C$2:$C$8409,Sheet3!$B20,Sheet4!$D$2:$D$8409,Sheet3!CP$3,Sheet4!$E$2:$E$8409,Sheet3!CP$4,Sheet4!$A$2:$A$8409,Sheet3!$B$1,Sheet4!$B$2:$B$8409,Sheet3!$A$3)","v":0},{"$f":"+SUMIFS(Sheet4!$DM$2:$DM$8409,Sheet4!$C$2:$C$8409,Sheet3!$B20,Sheet4!$D$2:$D$8409,Sheet3!CQ$3,Sheet4!$E$2:$E$8409,Sheet3!CQ$4,Sheet4!$A$2:$A$8409,Sheet3!$B$1,Sheet4!$B$2:$B$8409,Sheet3!$A$3)","v":0},{"$f":"+SUMIFS(Sheet4!$DM$2:$DM$8409,Sheet4!$C$2:$C$8409,Sheet3!$B20,Sheet4!$D$2:$D$8409,Sheet3!CR$3,Sheet4!$E$2:$E$8409,Sheet3!CR$4,Sheet4!$A$2:$A$8409,Sheet3!$B$1,Sheet4!$B$2:$B$8409,Sheet3!$A$3)","v":0},{"$f":"+SUMIFS(Sheet4!$DM$2:$DM$8409,Sheet4!$C$2:$C$8409,Sheet3!$B20,Sheet4!$D$2:$D$8409,Sheet3!CS$3,Sheet4!$E$2:$E$8409,Sheet3!CS$4,Sheet4!$A$2:$A$8409,Sheet3!$B$1,Sheet4!$B$2:$B$8409,Sheet3!$A$3)","v":0},{"$f":"+SUMIFS(Sheet4!$DM$2:$DM$8409,Sheet4!$C$2:$C$8409,Sheet3!$B20,Sheet4!$D$2:$D$8409,Sheet3!CT$3,Sheet4!$E$2:$E$8409,Sheet3!CT$4,Sheet4!$A$2:$A$8409,Sheet3!$B$1,Sheet4!$B$2:$B$8409,Sheet3!$A$3)","v":0},{"$f":"+IF(SUMIFS(Sheet4!$DN$2:$DN$8409,Sheet4!$C$2:$C$8409,Sheet3!$B20,Sheet4!$D$2:$D$8409,Sheet3!CU$3,Sheet4!$A$2:$A$8409,Sheet3!$B$1,Sheet4!$B$2:$B$8409,Sheet3!$A$3)<3,0,SUMIFS(Sheet4!$DN$2:$DN$8409,Sheet4!$C$2:$C$8409,Sheet3!$B20,Sheet4!$D$2:$D$8409,Sheet3!CU$3,Sheet4!$A$2:$A$8409,Sheet3!$B$1,Sheet4!$B$2:$B$8409,Sheet3!$A$3))","v":0},{"$f":"+IF(SUMIFS(Sheet4!$DN$2:$DN$8409,Sheet4!$C$2:$C$8409,Sheet3!$B20,Sheet4!$D$2:$D$8409,Sheet3!CV$3,Sheet4!$A$2:$A$8409,Sheet3!$B$1,Sheet4!$B$2:$B$8409,Sheet3!$A$3)<3,0,SUMIFS(Sheet4!$DN$2:$DN$8409,Sheet4!$C$2:$C$8409,Sheet3!$B20,Sheet4!$D$2:$D$8409,Sheet3!CV$3,Sheet4!$A$2:$A$8409,Sheet3!$B$1,Sheet4!$B$2:$B$8409,Sheet3!$A$3))","v":0},{"$f":"+IF(SUMIFS(Sheet4!$DN$2:$DN$8409,Sheet4!$C$2:$C$8409,Sheet3!$B20,Sheet4!$D$2:$D$8409,Sheet3!CW$3,Sheet4!$A$2:$A$8409,Sheet3!$B$1,Sheet4!$B$2:$B$8409,Sheet3!$A$3)<3,0,SUMIFS(Sheet4!$DN$2:$DN$8409,Sheet4!$C$2:$C$8409,Sheet3!$B20,Sheet4!$D$2:$D$8409,Sheet3!CW$3,Sheet4!$A$2:$A$8409,Sheet3!$B$1,Sheet4!$B$2:$B$8409,Sheet3!$A$3))","v":0},{"$f":"+IF(SUMIFS(Sheet4!$DN$2:$DN$8409,Sheet4!$C$2:$C$8409,Sheet3!$B20,Sheet4!$D$2:$D$8409,Sheet3!CX$3,Sheet4!$A$2:$A$8409,Sheet3!$B$1,Sheet4!$B$2:$B$8409,Sheet3!$A$3)<3,0,SUMIFS(Sheet4!$DN$2:$DN$8409,Sheet4!$C$2:$C$8409,Sheet3!$B20,Sheet4!$D$2:$D$8409,Sheet3!CX$3,Sheet4!$A$2:$A$8409,Sheet3!$B$1,Sheet4!$B$2:$B$8409,Sheet3!$A$3))","v":0},{"$f":"+IF(SUMIFS(Sheet4!$DN$2:$DN$8409,Sheet4!$C$2:$C$8409,Sheet3!$B20,Sheet4!$D$2:$D$8409,Sheet3!CY$3,Sheet4!$A$2:$A$8409,Sheet3!$B$1,Sheet4!$B$2:$B$8409,Sheet3!$A$3)<3,0,SUMIFS(Sheet4!$DN$2:$DN$8409,Sheet4!$C$2:$C$8409,Sheet3!$B20,Sheet4!$D$2:$D$8409,Sheet3!CY$3,Sheet4!$A$2:$A$8409,Sheet3!$B$1,Sheet4!$B$2:$B$8409,Sheet3!$A$3))","v":0},{"$f":"+IF(SUMIFS(Sheet4!$DN$2:$DN$8409,Sheet4!$C$2:$C$8409,Sheet3!$B20,Sheet4!$D$2:$D$8409,Sheet3!CZ$3,Sheet4!$A$2:$A$8409,Sheet3!$B$1,Sheet4!$B$2:$B$8409,Sheet3!$A$3)<3,0,SUMIFS(Sheet4!$DN$2:$DN$8409,Sheet4!$C$2:$C$8409,Sheet3!$B20,Sheet4!$D$2:$D$8409,Sheet3!CZ$3,Sheet4!$A$2:$A$8409,Sheet3!$B$1,Sheet4!$B$2:$B$8409,Sheet3!$A$3))","v":0},{"$f":"+IF(SUMIFS(Sheet4!$DN$2:$DN$8409,Sheet4!$C$2:$C$8409,Sheet3!$B20,Sheet4!$D$2:$D$8409,Sheet3!DA$3,Sheet4!$A$2:$A$8409,Sheet3!$B$1,Sheet4!$B$2:$B$8409,Sheet3!$A$3)<3,0,SUMIFS(Sheet4!$DN$2:$DN$8409,Sheet4!$C$2:$C$8409,Sheet3!$B20,Sheet4!$D$2:$D$8409,Sheet3!DA$3,Sheet4!$A$2:$A$8409,Sheet3!$B$1,Sheet4!$B$2:$B$8409,Sheet3!$A$3))","v":0},{"$f":"+IF(SUMIFS(Sheet4!$DN$2:$DN$8409,Sheet4!$C$2:$C$8409,Sheet3!$B20,Sheet4!$D$2:$D$8409,Sheet3!DB$3,Sheet4!$A$2:$A$8409,Sheet3!$B$1,Sheet4!$B$2:$B$8409,Sheet3!$A$3)<3,0,SUMIFS(Sheet4!$DN$2:$DN$8409,Sheet4!$C$2:$C$8409,Sheet3!$B20,Sheet4!$D$2:$D$8409,Sheet3!DB$3,Sheet4!$A$2:$A$8409,Sheet3!$B$1,Sheet4!$B$2:$B$8409,Sheet3!$A$3))","v":0},{"$f":"+IF(SUMIFS(Sheet4!$DN$2:$DN$8409,Sheet4!$C$2:$C$8409,Sheet3!$B20,Sheet4!$D$2:$D$8409,Sheet3!DC$3,Sheet4!$A$2:$A$8409,Sheet3!$B$1,Sheet4!$B$2:$B$8409,Sheet3!$A$3)<3,0,SUMIFS(Sheet4!$DN$2:$DN$8409,Sheet4!$C$2:$C$8409,Sheet3!$B20,Sheet4!$D$2:$D$8409,Sheet3!DC$3,Sheet4!$A$2:$A$8409,Sheet3!$B$1,Sheet4!$B$2:$B$8409,Sheet3!$A$3))","v":0},{"$f":"+IF(SUMIFS(Sheet4!$DN$2:$DN$8409,Sheet4!$C$2:$C$8409,Sheet3!$B20,Sheet4!$D$2:$D$8409,Sheet3!DD$3,Sheet4!$A$2:$A$8409,Sheet3!$B$1,Sheet4!$B$2:$B$8409,Sheet3!$A$3)<3,0,SUMIFS(Sheet4!$DN$2:$DN$8409,Sheet4!$C$2:$C$8409,Sheet3!$B20,Sheet4!$D$2:$D$8409,Sheet3!DD$3,Sheet4!$A$2:$A$8409,Sheet3!$B$1,Sheet4!$B$2:$B$8409,Sheet3!$A$3))","v":0},{"$f":"+IF(SUMIFS(Sheet4!$DN$2:$DN$8409,Sheet4!$C$2:$C$8409,Sheet3!$B20,Sheet4!$D$2:$D$8409,Sheet3!DE$3,Sheet4!$A$2:$A$8409,Sheet3!$B$1,Sheet4!$B$2:$B$8409,Sheet3!$A$3)<3,0,SUMIFS(Sheet4!$DN$2:$DN$8409,Sheet4!$C$2:$C$8409,Sheet3!$B20,Sheet4!$D$2:$D$8409,Sheet3!DE$3,Sheet4!$A$2:$A$8409,Sheet3!$B$1,Sheet4!$B$2:$B$8409,Sheet3!$A$3))","v":0},{"$f":"+IF(SUMIFS(Sheet4!$DN$2:$DN$8409,Sheet4!$C$2:$C$8409,Sheet3!$B20,Sheet4!$D$2:$D$8409,Sheet3!DF$3,Sheet4!$A$2:$A$8409,Sheet3!$B$1,Sheet4!$B$2:$B$8409,Sheet3!$A$3)<3,0,SUMIFS(Sheet4!$DN$2:$DN$8409,Sheet4!$C$2:$C$8409,Sheet3!$B20,Sheet4!$D$2:$D$8409,Sheet3!DF$3,Sheet4!$A$2:$A$8409,Sheet3!$B$1,Sheet4!$B$2:$B$8409,Sheet3!$A$3))","v":0},{"$f":"+IF(SUMIFS(Sheet4!$DN$2:$DN$8409,Sheet4!$C$2:$C$8409,Sheet3!$B20,Sheet4!$D$2:$D$8409,Sheet3!DG$3,Sheet4!$A$2:$A$8409,Sheet3!$B$1,Sheet4!$B$2:$B$8409,Sheet3!$A$3)<3,0,SUMIFS(Sheet4!$DN$2:$DN$8409,Sheet4!$C$2:$C$8409,Sheet3!$B20,Sheet4!$D$2:$D$8409,Sheet3!DG$3,Sheet4!$A$2:$A$8409,Sheet3!$B$1,Sheet4!$B$2:$B$8409,Sheet3!$A$3))","v":0},{"$f":"+IF(SUMIFS(Sheet4!$DN$2:$DN$8409,Sheet4!$C$2:$C$8409,Sheet3!$B20,Sheet4!$D$2:$D$8409,Sheet3!DH$3,Sheet4!$A$2:$A$8409,Sheet3!$B$1,Sheet4!$B$2:$B$8409,Sheet3!$A$3)<3,0,SUMIFS(Sheet4!$DN$2:$DN$8409,Sheet4!$C$2:$C$8409,Sheet3!$B20,Sheet4!$D$2:$D$8409,Sheet3!DH$3,Sheet4!$A$2:$A$8409,Sheet3!$B$1,Sheet4!$B$2:$B$8409,Sheet3!$A$3))","v":0},{"$f":"+IF(SUMIFS(Sheet4!$DN$2:$DN$8409,Sheet4!$C$2:$C$8409,Sheet3!$B20,Sheet4!$D$2:$D$8409,Sheet3!DI$3,Sheet4!$A$2:$A$8409,Sheet3!$B$1,Sheet4!$B$2:$B$8409,Sheet3!$A$3)<3,0,SUMIFS(Sheet4!$DN$2:$DN$8409,Sheet4!$C$2:$C$8409,Sheet3!$B20,Sheet4!$D$2:$D$8409,Sheet3!DI$3,Sheet4!$A$2:$A$8409,Sheet3!$B$1,Sheet4!$B$2:$B$8409,Sheet3!$A$3))","v":0},{"$f":"+IF(SUMIFS(Sheet4!$DN$2:$DN$8409,Sheet4!$C$2:$C$8409,Sheet3!$B20,Sheet4!$D$2:$D$8409,Sheet3!DJ$3,Sheet4!$A$2:$A$8409,Sheet3!$B$1,Sheet4!$B$2:$B$8409,Sheet3!$A$3)<3,0,SUMIFS(Sheet4!$DN$2:$DN$8409,Sheet4!$C$2:$C$8409,Sheet3!$B20,Sheet4!$D$2:$D$8409,Sheet3!DJ$3,Sheet4!$A$2:$A$8409,Sheet3!$B$1,Sheet4!$B$2:$B$8409,Sheet3!$A$3))","v":0},{"$f":"+IF(SUMIFS(Sheet4!$DN$2:$DN$8409,Sheet4!$C$2:$C$8409,Sheet3!$B20,Sheet4!$D$2:$D$8409,Sheet3!DK$3,Sheet4!$A$2:$A$8409,Sheet3!$B$1,Sheet4!$B$2:$B$8409,Sheet3!$A$3)<3,0,SUMIFS(Sheet4!$DN$2:$DN$8409,Sheet4!$C$2:$C$8409,Sheet3!$B20,Sheet4!$D$2:$D$8409,Sheet3!DK$3,Sheet4!$A$2:$A$8409,Sheet3!$B$1,Sheet4!$B$2:$B$8409,Sheet3!$A$3))","v":0},{"$f":"+IF(SUMIFS(Sheet4!$DN$2:$DN$8409,Sheet4!$C$2:$C$8409,Sheet3!$B20,Sheet4!$D$2:$D$8409,Sheet3!DL$3,Sheet4!$A$2:$A$8409,Sheet3!$B$1,Sheet4!$B$2:$B$8409,Sheet3!$A$3)<3,0,SUMIFS(Sheet4!$DN$2:$DN$8409,Sheet4!$C$2:$C$8409,Sheet3!$B20,Sheet4!$D$2:$D$8409,Sheet3!DL$3,Sheet4!$A$2:$A$8409,Sheet3!$B$1,Sheet4!$B$2:$B$8409,Sheet3!$A$3))","v":0},{"$f":"+IF(SUMIFS(Sheet4!$DN$2:$DN$8409,Sheet4!$C$2:$C$8409,Sheet3!$B20,Sheet4!$D$2:$D$8409,Sheet3!DM$3,Sheet4!$A$2:$A$8409,Sheet3!$B$1,Sheet4!$B$2:$B$8409,Sheet3!$A$3)<3,0,SUMIFS(Sheet4!$DN$2:$DN$8409,Sheet4!$C$2:$C$8409,Sheet3!$B20,Sheet4!$D$2:$D$8409,Sheet3!DM$3,Sheet4!$A$2:$A$8409,Sheet3!$B$1,Sheet4!$B$2:$B$8409,Sheet3!$A$3))","v":0},{"$f":"+IF(SUMIFS(Sheet4!$DN$2:$DN$8409,Sheet4!$C$2:$C$8409,Sheet3!$B20,Sheet4!$E$2:$E$8409,Sheet3!DN$4,Sheet4!$A$2:$A$8409,Sheet3!$B$1,Sheet4!$B$2:$B$8409,Sheet3!$A$3)<3,0,SUMIFS(Sheet4!$DN$2:$DN$8409,Sheet4!$C$2:$C$8409,Sheet3!$B20,Sheet4!$E$2:$E$8409,Sheet3!DN$4,Sheet4!$A$2:$A$8409,Sheet3!$B$1,Sheet4!$B$2:$B$8409,Sheet3!$A$3))","v":0},{"$f":"+IF(SUMIFS(Sheet4!$DN$2:$DN$8409,Sheet4!$C$2:$C$8409,Sheet3!$B20,Sheet4!$E$2:$E$8409,Sheet3!DO$4,Sheet4!$A$2:$A$8409,Sheet3!$B$1,Sheet4!$B$2:$B$8409,Sheet3!$A$3)<3,0,SUMIFS(Sheet4!$DN$2:$DN$8409,Sheet4!$C$2:$C$8409,Sheet3!$B20,Sheet4!$E$2:$E$8409,Sheet3!DO$4,Sheet4!$A$2:$A$8409,Sheet3!$B$1,Sheet4!$B$2:$B$8409,Sheet3!$A$3))","v":0},{"$f":"+IF(SUMIFS(Sheet4!$DN$2:$DN$8409,Sheet4!$C$2:$C$8409,Sheet3!$B20,Sheet4!$E$2:$E$8409,Sheet3!DP$4,Sheet4!$A$2:$A$8409,Sheet3!$B$1,Sheet4!$B$2:$B$8409,Sheet3!$A$3)<3,0,SUMIFS(Sheet4!$DN$2:$DN$8409,Sheet4!$C$2:$C$8409,Sheet3!$B20,Sheet4!$E$2:$E$8409,Sheet3!DP$4,Sheet4!$A$2:$A$8409,Sheet3!$B$1,Sheet4!$B$2:$B$8409,Sheet3!$A$3))","v":0},{"$f":"+IF(SUMIFS(Sheet4!$DN$2:$DN$8409,Sheet4!$C$2:$C$8409,Sheet3!$B20,Sheet4!$E$2:$E$8409,Sheet3!DQ$4,Sheet4!$A$2:$A$8409,Sheet3!$B$1,Sheet4!$B$2:$B$8409,Sheet3!$A$3)<3,0,SUMIFS(Sheet4!$DN$2:$DN$8409,Sheet4!$C$2:$C$8409,Sheet3!$B20,Sheet4!$E$2:$E$8409,Sheet3!DQ$4,Sheet4!$A$2:$A$8409,Sheet3!$B$1,Sheet4!$B$2:$B$8409,Sheet3!$A$3))","v":0},{"$f":"+IF(SUMIFS(Sheet4!$DN$2:$DN$8409,Sheet4!$C$2:$C$8409,Sheet3!$B20,Sheet4!$E$2:$E$8409,Sheet3!DR$4,Sheet4!$A$2:$A$8409,Sheet3!$B$1,Sheet4!$B$2:$B$8409,Sheet3!$A$3)<3,0,SUMIFS(Sheet4!$DN$2:$DN$8409,Sheet4!$C$2:$C$8409,Sheet3!$B20,Sheet4!$E$2:$E$8409,Sheet3!DR$4,Sheet4!$A$2:$A$8409,Sheet3!$B$1,Sheet4!$B$2:$B$8409,Sheet3!$A$3))","v":0}]
[4,"16H","Beira Baixa",{"$f":"+SUMIFS(Sheet4!$DM$2:$DM$8409,Sheet4!$C$2:$C$8409,Sheet3!$B21,Sheet4!$D$2:$D$8409,Sheet3!D$3,Sheet4!$E$2:$E$8409,Sheet3!D$4,Sheet4!$A$2:$A$8409,Sheet3!$B$1,Sheet4!$B$2:$B$8409,Sheet3!$A$3)","v":0},{"$f":"+SUMIFS(Sheet4!$DM$2:$DM$8409,Sheet4!$C$2:$C$8409,Sheet3!$B21,Sheet4!$D$2:$D$8409,Sheet3!E$3,Sheet4!$E$2:$E$8409,Sheet3!E$4,Sheet4!$A$2:$A$8409,Sheet3!$B$1,Sheet4!$B$2:$B$8409,Sheet3!$A$3)","v":0},{"$f":"+SUMIFS(Sheet4!$DM$2:$DM$8409,Sheet4!$C$2:$C$8409,Sheet3!$B21,Sheet4!$D$2:$D$8409,Sheet3!F$3,Sheet4!$E$2:$E$8409,Sheet3!F$4,Sheet4!$A$2:$A$8409,Sheet3!$B$1,Sheet4!$B$2:$B$8409,Sheet3!$A$3)","v":0},{"$f":"+SUMIFS(Sheet4!$DM$2:$DM$8409,Sheet4!$C$2:$C$8409,Sheet3!$B21,Sheet4!$D$2:$D$8409,Sheet3!G$3,Sheet4!$E$2:$E$8409,Sheet3!G$4,Sheet4!$A$2:$A$8409,Sheet3!$B$1,Sheet4!$B$2:$B$8409,Sheet3!$A$3)","v":0},{"$f":"+SUMIFS(Sheet4!$DM$2:$DM$8409,Sheet4!$C$2:$C$8409,Sheet3!$B21,Sheet4!$D$2:$D$8409,Sheet3!H$3,Sheet4!$E$2:$E$8409,Sheet3!H$4,Sheet4!$A$2:$A$8409,Sheet3!$B$1,Sheet4!$B$2:$B$8409,Sheet3!$A$3)","v":0},{"$f":"+SUMIFS(Sheet4!$DM$2:$DM$8409,Sheet4!$C$2:$C$8409,Sheet3!$B21,Sheet4!$D$2:$D$8409,Sheet3!I$3,Sheet4!$E$2:$E$8409,Sheet3!I$4,Sheet4!$A$2:$A$8409,Sheet3!$B$1,Sheet4!$B$2:$B$8409,Sheet3!$A$3)","v":0},{"$f":"+SUMIFS(Sheet4!$DM$2:$DM$8409,Sheet4!$C$2:$C$8409,Sheet3!$B21,Sheet4!$D$2:$D$8409,Sheet3!J$3,Sheet4!$E$2:$E$8409,Sheet3!J$4,Sheet4!$A$2:$A$8409,Sheet3!$B$1,Sheet4!$B$2:$B$8409,Sheet3!$A$3)","v":0},{"$f":"+SUMIFS(Sheet4!$DM$2:$DM$8409,Sheet4!$C$2:$C$8409,Sheet3!$B21,Sheet4!$D$2:$D$8409,Sheet3!K$3,Sheet4!$E$2:$E$8409,Sheet3!K$4,Sheet4!$A$2:$A$8409,Sheet3!$B$1,Sheet4!$B$2:$B$8409,Sheet3!$A$3)","v":0},{"$f":"+SUMIFS(Sheet4!$DM$2:$DM$8409,Sheet4!$C$2:$C$8409,Sheet3!$B21,Sheet4!$D$2:$D$8409,Sheet3!L$3,Sheet4!$E$2:$E$8409,Sheet3!L$4,Sheet4!$A$2:$A$8409,Sheet3!$B$1,Sheet4!$B$2:$B$8409,Sheet3!$A$3)","v":0},{"$f":"+SUMIFS(Sheet4!$DM$2:$DM$8409,Sheet4!$C$2:$C$8409,Sheet3!$B21,Sheet4!$D$2:$D$8409,Sheet3!M$3,Sheet4!$E$2:$E$8409,Sheet3!M$4,Sheet4!$A$2:$A$8409,Sheet3!$B$1,Sheet4!$B$2:$B$8409,Sheet3!$A$3)","v":0},{"$f":"+SUMIFS(Sheet4!$DM$2:$DM$8409,Sheet4!$C$2:$C$8409,Sheet3!$B21,Sheet4!$D$2:$D$8409,Sheet3!N$3,Sheet4!$E$2:$E$8409,Sheet3!N$4,Sheet4!$A$2:$A$8409,Sheet3!$B$1,Sheet4!$B$2:$B$8409,Sheet3!$A$3)","v":0},{"$f":"+SUMIFS(Sheet4!$DM$2:$DM$8409,Sheet4!$C$2:$C$8409,Sheet3!$B21,Sheet4!$D$2:$D$8409,Sheet3!O$3,Sheet4!$E$2:$E$8409,Sheet3!O$4,Sheet4!$A$2:$A$8409,Sheet3!$B$1,Sheet4!$B$2:$B$8409,Sheet3!$A$3)","v":0},{"$f":"+SUMIFS(Sheet4!$DM$2:$DM$8409,Sheet4!$C$2:$C$8409,Sheet3!$B21,Sheet4!$D$2:$D$8409,Sheet3!P$3,Sheet4!$E$2:$E$8409,Sheet3!P$4,Sheet4!$A$2:$A$8409,Sheet3!$B$1,Sheet4!$B$2:$B$8409,Sheet3!$A$3)","v":0},{"$f":"+SUMIFS(Sheet4!$DM$2:$DM$8409,Sheet4!$C$2:$C$8409,Sheet3!$B21,Sheet4!$D$2:$D$8409,Sheet3!Q$3,Sheet4!$E$2:$E$8409,Sheet3!Q$4,Sheet4!$A$2:$A$8409,Sheet3!$B$1,Sheet4!$B$2:$B$8409,Sheet3!$A$3)","v":7353.83},{"$f":"+SUMIFS(Sheet4!$DM$2:$DM$8409,Sheet4!$C$2:$C$8409,Sheet3!$B21,Sheet4!$D$2:$D$8409,Sheet3!R$3,Sheet4!$E$2:$E$8409,Sheet3!R$4,Sheet4!$A$2:$A$8409,Sheet3!$B$1,Sheet4!$B$2:$B$8409,Sheet3!$A$3)","v":0},{"$f":"+SUMIFS(Sheet4!$DM$2:$DM$8409,Sheet4!$C$2:$C$8409,Sheet3!$B21,Sheet4!$D$2:$D$8409,Sheet3!S$3,Sheet4!$E$2:$E$8409,Sheet3!S$4,Sheet4!$A$2:$A$8409,Sheet3!$B$1,Sheet4!$B$2:$B$8409,Sheet3!$A$3)","v":0},{"$f":"+SUMIFS(Sheet4!$DM$2:$DM$8409,Sheet4!$C$2:$C$8409,Sheet3!$B21,Sheet4!$D$2:$D$8409,Sheet3!T$3,Sheet4!$E$2:$E$8409,Sheet3!T$4,Sheet4!$A$2:$A$8409,Sheet3!$B$1,Sheet4!$B$2:$B$8409,Sheet3!$A$3)","v":0},{"$f":"+SUMIFS(Sheet4!$DM$2:$DM$8409,Sheet4!$C$2:$C$8409,Sheet3!$B21,Sheet4!$D$2:$D$8409,Sheet3!U$3,Sheet4!$E$2:$E$8409,Sheet3!U$4,Sheet4!$A$2:$A$8409,Sheet3!$B$1,Sheet4!$B$2:$B$8409,Sheet3!$A$3)","v":0},{"$f":"+SUMIFS(Sheet4!$DM$2:$DM$8409,Sheet4!$C$2:$C$8409,Sheet3!$B21,Sheet4!$D$2:$D$8409,Sheet3!V$3,Sheet4!$E$2:$E$8409,Sheet3!V$4,Sheet4!$A$2:$A$8409,Sheet3!$B$1,Sheet4!$B$2:$B$8409,Sheet3!$A$3)","v":0},{"$f":"+SUMIFS(Sheet4!$DM$2:$DM$8409,Sheet4!$C$2:$C$8409,Sheet3!$B21,Sheet4!$D$2:$D$8409,Sheet3!W$3,Sheet4!$E$2:$E$8409,Sheet3!W$4,Sheet4!$A$2:$A$8409,Sheet3!$B$1,Sheet4!$B$2:$B$8409,Sheet3!$A$3)","v":0},{"$f":"+SUMIFS(Sheet4!$DM$2:$DM$8409,Sheet4!$C$2:$C$8409,Sheet3!$B21,Sheet4!$D$2:$D$8409,Sheet3!X$3,Sheet4!$E$2:$E$8409,Sheet3!X$4,Sheet4!$A$2:$A$8409,Sheet3!$B$1,Sheet4!$B$2:$B$8409,Sheet3!$A$3)","v":0},{"$f":"+SUMIFS(Sheet4!$DM$2:$DM$8409,Sheet4!$C$2:$C$8409,Sheet3!$B21,Sheet4!$D$2:$D$8409,Sheet3!Y$3,Sheet4!$E$2:$E$8409,Sheet3!Y$4,Sheet4!$A$2:$A$8409,Sheet3!$B$1,Sheet4!$B$2:$B$8409,Sheet3!$A$3)","v":0},{"$f":"+SUMIFS(Sheet4!$DM$2:$DM$8409,Sheet4!$C$2:$C$8409,Sheet3!$B21,Sheet4!$D$2:$D$8409,Sheet3!Z$3,Sheet4!$E$2:$E$8409,Sheet3!Z$4,Sheet4!$A$2:$A$8409,Sheet3!$B$1,Sheet4!$B$2:$B$8409,Sheet3!$A$3)","v":2471.79},{"$f":"+SUMIFS(Sheet4!$DM$2:$DM$8409,Sheet4!$C$2:$C$8409,Sheet3!$B21,Sheet4!$D$2:$D$8409,Sheet3!AA$3,Sheet4!$E$2:$E$8409,Sheet3!AA$4,Sheet4!$A$2:$A$8409,Sheet3!$B$1,Sheet4!$B$2:$B$8409,Sheet3!$A$3)","v":0},{"$f":"+SUMIFS(Sheet4!$DM$2:$DM$8409,Sheet4!$C$2:$C$8409,Sheet3!$B21,Sheet4!$D$2:$D$8409,Sheet3!AB$3,Sheet4!$E$2:$E$8409,Sheet3!AB$4,Sheet4!$A$2:$A$8409,Sheet3!$B$1,Sheet4!$B$2:$B$8409,Sheet3!$A$3)","v":0},{"$f":"+SUMIFS(Sheet4!$DM$2:$DM$8409,Sheet4!$C$2:$C$8409,Sheet3!$B21,Sheet4!$D$2:$D$8409,Sheet3!AC$3,Sheet4!$E$2:$E$8409,Sheet3!AC$4,Sheet4!$A$2:$A$8409,Sheet3!$B$1,Sheet4!$B$2:$B$8409,Sheet3!$A$3)","v":0},{"$f":"+SUMIFS(Sheet4!$DM$2:$DM$8409,Sheet4!$C$2:$C$8409,Sheet3!$B21,Sheet4!$D$2:$D$8409,Sheet3!AD$3,Sheet4!$E$2:$E$8409,Sheet3!AD$4,Sheet4!$A$2:$A$8409,Sheet3!$B$1,Sheet4!$B$2:$B$8409,Sheet3!$A$3)","v":0},{"$f":"+SUMIFS(Sheet4!$DM$2:$DM$8409,Sheet4!$C$2:$C$8409,Sheet3!$B21,Sheet4!$D$2:$D$8409,Sheet3!AE$3,Sheet4!$E$2:$E$8409,Sheet3!AE$4,Sheet4!$A$2:$A$8409,Sheet3!$B$1,Sheet4!$B$2:$B$8409,Sheet3!$A$3)","v":267.5},{"$f":"+SUMIFS(Sheet4!$DM$2:$DM$8409,Sheet4!$C$2:$C$8409,Sheet3!$B21,Sheet4!$D$2:$D$8409,Sheet3!AF$3,Sheet4!$E$2:$E$8409,Sheet3!AF$4,Sheet4!$A$2:$A$8409,Sheet3!$B$1,Sheet4!$B$2:$B$8409,Sheet3!$A$3)","v":0},{"$f":"+SUMIFS(Sheet4!$DM$2:$DM$8409,Sheet4!$C$2:$C$8409,Sheet3!$B21,Sheet4!$D$2:$D$8409,Sheet3!AG$3,Sheet4!$E$2:$E$8409,Sheet3!AG$4,Sheet4!$A$2:$A$8409,Sheet3!$B$1,Sheet4!$B$2:$B$8409,Sheet3!$A$3)","v":0},{"$f":"+SUMIFS(Sheet4!$DM$2:$DM$8409,Sheet4!$C$2:$C$8409,Sheet3!$B21,Sheet4!$D$2:$D$8409,Sheet3!AH$3,Sheet4!$E$2:$E$8409,Sheet3!AH$4,Sheet4!$A$2:$A$8409,Sheet3!$B$1,Sheet4!$B$2:$B$8409,Sheet3!$A$3)","v":0},{"$f":"+SUMIFS(Sheet4!$DM$2:$DM$8409,Sheet4!$C$2:$C$8409,Sheet3!$B21,Sheet4!$D$2:$D$8409,Sheet3!AI$3,Sheet4!$E$2:$E$8409,Sheet3!AI$4,Sheet4!$A$2:$A$8409,Sheet3!$B$1,Sheet4!$B$2:$B$8409,Sheet3!$A$3)","v":0},{"$f":"+SUMIFS(Sheet4!$DM$2:$DM$8409,Sheet4!$C$2:$C$8409,Sheet3!$B21,Sheet4!$D$2:$D$8409,Sheet3!AJ$3,Sheet4!$E$2:$E$8409,Sheet3!AJ$4,Sheet4!$A$2:$A$8409,Sheet3!$B$1,Sheet4!$B$2:$B$8409,Sheet3!$A$3)","v":0},{"$f":"+SUMIFS(Sheet4!$DM$2:$DM$8409,Sheet4!$C$2:$C$8409,Sheet3!$B21,Sheet4!$D$2:$D$8409,Sheet3!AK$3,Sheet4!$E$2:$E$8409,Sheet3!AK$4,Sheet4!$A$2:$A$8409,Sheet3!$B$1,Sheet4!$B$2:$B$8409,Sheet3!$A$3)","v":0},{"$f":"+SUMIFS(Sheet4!$DM$2:$DM$8409,Sheet4!$C$2:$C$8409,Sheet3!$B21,Sheet4!$D$2:$D$8409,Sheet3!AL$3,Sheet4!$E$2:$E$8409,Sheet3!AL$4,Sheet4!$A$2:$A$8409,Sheet3!$B$1,Sheet4!$B$2:$B$8409,Sheet3!$A$3)","v":0},{"$f":"+SUMIFS(Sheet4!$DM$2:$DM$8409,Sheet4!$C$2:$C$8409,Sheet3!$B21,Sheet4!$D$2:$D$8409,Sheet3!AM$3,Sheet4!$E$2:$E$8409,Sheet3!AM$4,Sheet4!$A$2:$A$8409,Sheet3!$B$1,Sheet4!$B$2:$B$8409,Sheet3!$A$3)","v":0},{"$f":"+SUMIFS(Sheet4!$DM$2:$DM$8409,Sheet4!$C$2:$C$8409,Sheet3!$B21,Sheet4!$D$2:$D$8409,Sheet3!AN$3,Sheet4!$E$2:$E$8409,Sheet3!AN$4,Sheet4!$A$2:$A$8409,Sheet3!$B$1,Sheet4!$B$2:$B$8409,Sheet3!$A$3)","v":0},{"$f":"+SUMIFS(Sheet4!$DM$2:$DM$8409,Sheet4!$C$2:$C$8409,Sheet3!$B21,Sheet4!$D$2:$D$8409,Sheet3!AO$3,Sheet4!$E$2:$E$8409,Sheet3!AO$4,Sheet4!$A$2:$A$8409,Sheet3!$B$1,Sheet4!$B$2:$B$8409,Sheet3!$A$3)","v":0},{"$f":"+SUMIFS(Sheet4!$DM$2:$DM$8409,Sheet4!$C$2:$C$8409,Sheet3!$B21,Sheet4!$D$2:$D$8409,Sheet3!AP$3,Sheet4!$E$2:$E$8409,Sheet3!AP$4,Sheet4!$A$2:$A$8409,Sheet3!$B$1,Sheet4!$B$2:$B$8409,Sheet3!$A$3)","v":2047.3},{"$f":"+SUMIFS(Sheet4!$DM$2:$DM$8409,Sheet4!$C$2:$C$8409,Sheet3!$B21,Sheet4!$D$2:$D$8409,Sheet3!AQ$3,Sheet4!$E$2:$E$8409,Sheet3!AQ$4,Sheet4!$A$2:$A$8409,Sheet3!$B$1,Sheet4!$B$2:$B$8409,Sheet3!$A$3)","v":0},{"$f":"+SUMIFS(Sheet4!$DM$2:$DM$8409,Sheet4!$C$2:$C$8409,Sheet3!$B21,Sheet4!$D$2:$D$8409,Sheet3!AR$3,Sheet4!$E$2:$E$8409,Sheet3!AR$4,Sheet4!$A$2:$A$8409,Sheet3!$B$1,Sheet4!$B$2:$B$8409,Sheet3!$A$3)","v":0},{"$f":"+SUMIFS(Sheet4!$DM$2:$DM$8409,Sheet4!$C$2:$C$8409,Sheet3!$B21,Sheet4!$D$2:$D$8409,Sheet3!AS$3,Sheet4!$E$2:$E$8409,Sheet3!AS$4,Sheet4!$A$2:$A$8409,Sheet3!$B$1,Sheet4!$B$2:$B$8409,Sheet3!$A$3)","v":0},{"$f":"+SUMIFS(Sheet4!$DM$2:$DM$8409,Sheet4!$C$2:$C$8409,Sheet3!$B21,Sheet4!$D$2:$D$8409,Sheet3!AT$3,Sheet4!$E$2:$E$8409,Sheet3!AT$4,Sheet4!$A$2:$A$8409,Sheet3!$B$1,Sheet4!$B$2:$B$8409,Sheet3!$A$3)","v":0},{"$f":"+SUMIFS(Sheet4!$DM$2:$DM$8409,Sheet4!$C$2:$C$8409,Sheet3!$B21,Sheet4!$D$2:$D$8409,Sheet3!AU$3,Sheet4!$E$2:$E$8409,Sheet3!AU$4,Sheet4!$A$2:$A$8409,Sheet3!$B$1,Sheet4!$B$2:$B$8409,Sheet3!$A$3)","v":0},{"$f":"+SUMIFS(Sheet4!$DM$2:$DM$8409,Sheet4!$C$2:$C$8409,Sheet3!$B21,Sheet4!$D$2:$D$8409,Sheet3!AV$3,Sheet4!$E$2:$E$8409,Sheet3!AV$4,Sheet4!$A$2:$A$8409,Sheet3!$B$1,Sheet4!$B$2:$B$8409,Sheet3!$A$3)","v":0},{"$f":"+SUMIFS(Sheet4!$DM$2:$DM$8409,Sheet4!$C$2:$C$8409,Sheet3!$B21,Sheet4!$D$2:$D$8409,Sheet3!AW$3,Sheet4!$E$2:$E$8409,Sheet3!AW$4,Sheet4!$A$2:$A$8409,Sheet3!$B$1,Sheet4!$B$2:$B$8409,Sheet3!$A$3)","v":0},{"$f":"+SUMIFS(Sheet4!$DM$2:$DM$8409,Sheet4!$C$2:$C$8409,Sheet3!$B21,Sheet4!$D$2:$D$8409,Sheet3!AX$3,Sheet4!$E$2:$E$8409,Sheet3!AX$4,Sheet4!$A$2:$A$8409,Sheet3!$B$1,Sheet4!$B$2:$B$8409,Sheet3!$A$3)","v":0},{"$f":"+SUMIFS(Sheet4!$DM$2:$DM$8409,Sheet4!$C$2:$C$8409,Sheet3!$B21,Sheet4!$D$2:$D$8409,Sheet3!AY$3,Sheet4!$E$2:$E$8409,Sheet3!AY$4,Sheet4!$A$2:$A$8409,Sheet3!$B$1,Sheet4!$B$2:$B$8409,Sheet3!$A$3)","v":0},{"$f":"+SUMIFS(Sheet4!$DM$2:$DM$8409,Sheet4!$C$2:$C$8409,Sheet3!$B21,Sheet4!$D$2:$D$8409,Sheet3!AZ$3,Sheet4!$E$2:$E$8409,Sheet3!AZ$4,Sheet4!$A$2:$A$8409,Sheet3!$B$1,Sheet4!$B$2:$B$8409,Sheet3!$A$3)","v":0},{"$f":"+SUMIFS(Sheet4!$DM$2:$DM$8409,Sheet4!$C$2:$C$8409,Sheet3!$B21,Sheet4!$D$2:$D$8409,Sheet3!BA$3,Sheet4!$E$2:$E$8409,Sheet3!BA$4,Sheet4!$A$2:$A$8409,Sheet3!$B$1,Sheet4!$B$2:$B$8409,Sheet3!$A$3)","v":0},{"$f":"+SUMIFS(Sheet4!$DM$2:$DM$8409,Sheet4!$C$2:$C$8409,Sheet3!$B21,Sheet4!$D$2:$D$8409,Sheet3!BB$3,Sheet4!$E$2:$E$8409,Sheet3!BB$4,Sheet4!$A$2:$A$8409,Sheet3!$B$1,Sheet4!$B$2:$B$8409,Sheet3!$A$3)","v":0},{"$f":"+SUMIFS(Sheet4!$DM$2:$DM$8409,Sheet4!$C$2:$C$8409,Sheet3!$B21,Sheet4!$D$2:$D$8409,Sheet3!BC$3,Sheet4!$E$2:$E$8409,Sheet3!BC$4,Sheet4!$A$2:$A$8409,Sheet3!$B$1,Sheet4!$B$2:$B$8409,Sheet3!$A$3)","v":0},{"$f":"+SUMIFS(Sheet4!$DM$2:$DM$8409,Sheet4!$C$2:$C$8409,Sheet3!$B21,Sheet4!$D$2:$D$8409,Sheet3!BD$3,Sheet4!$E$2:$E$8409,Sheet3!BD$4,Sheet4!$A$2:$A$8409,Sheet3!$B$1,Sheet4!$B$2:$B$8409,Sheet3!$A$3)","v":0},{"$f":"+SUMIFS(Sheet4!$DM$2:$DM$8409,Sheet4!$C$2:$C$8409,Sheet3!$B21,Sheet4!$D$2:$D$8409,Sheet3!BE$3,Sheet4!$E$2:$E$8409,Sheet3!BE$4,Sheet4!$A$2:$A$8409,Sheet3!$B$1,Sheet4!$B$2:$B$8409,Sheet3!$A$3)","v":0},{"$f":"+SUMIFS(Sheet4!$DM$2:$DM$8409,Sheet4!$C$2:$C$8409,Sheet3!$B21,Sheet4!$D$2:$D$8409,Sheet3!BF$3,Sheet4!$E$2:$E$8409,Sheet3!BF$4,Sheet4!$A$2:$A$8409,Sheet3!$B$1,Sheet4!$B$2:$B$8409,Sheet3!$A$3)","v":0},{"$f":"+SUMIFS(Sheet4!$DM$2:$DM$8409,Sheet4!$C$2:$C$8409,Sheet3!$B21,Sheet4!$D$2:$D$8409,Sheet3!BG$3,Sheet4!$E$2:$E$8409,Sheet3!BG$4,Sheet4!$A$2:$A$8409,Sheet3!$B$1,Sheet4!$B$2:$B$8409,Sheet3!$A$3)","v":0},{"$f":"+SUMIFS(Sheet4!$DM$2:$DM$8409,Sheet4!$C$2:$C$8409,Sheet3!$B21,Sheet4!$D$2:$D$8409,Sheet3!BH$3,Sheet4!$E$2:$E$8409,Sheet3!BH$4,Sheet4!$A$2:$A$8409,Sheet3!$B$1,Sheet4!$B$2:$B$8409,Sheet3!$A$3)","v":0},{"$f":"+SUMIFS(Sheet4!$DM$2:$DM$8409,Sheet4!$C$2:$C$8409,Sheet3!$B21,Sheet4!$D$2:$D$8409,Sheet3!BI$3,Sheet4!$E$2:$E$8409,Sheet3!BI$4,Sheet4!$A$2:$A$8409,Sheet3!$B$1,Sheet4!$B$2:$B$8409,Sheet3!$A$3)","v":0},{"$f":"+SUMIFS(Sheet4!$DM$2:$DM$8409,Sheet4!$C$2:$C$8409,Sheet3!$B21,Sheet4!$D$2:$D$8409,Sheet3!BJ$3,Sheet4!$E$2:$E$8409,Sheet3!BJ$4,Sheet4!$A$2:$A$8409,Sheet3!$B$1,Sheet4!$B$2:$B$8409,Sheet3!$A$3)","v":0},{"$f":"+SUMIFS(Sheet4!$DM$2:$DM$8409,Sheet4!$C$2:$C$8409,Sheet3!$B21,Sheet4!$D$2:$D$8409,Sheet3!BK$3,Sheet4!$E$2:$E$8409,Sheet3!BK$4,Sheet4!$A$2:$A$8409,Sheet3!$B$1,Sheet4!$B$2:$B$8409,Sheet3!$A$3)","v":0},{"$f":"+SUMIFS(Sheet4!$DM$2:$DM$8409,Sheet4!$C$2:$C$8409,Sheet3!$B21,Sheet4!$D$2:$D$8409,Sheet3!BL$3,Sheet4!$E$2:$E$8409,Sheet3!BL$4,Sheet4!$A$2:$A$8409,Sheet3!$B$1,Sheet4!$B$2:$B$8409,Sheet3!$A$3)","v":0},{"$f":"+SUMIFS(Sheet4!$DM$2:$DM$8409,Sheet4!$C$2:$C$8409,Sheet3!$B21,Sheet4!$D$2:$D$8409,Sheet3!BM$3,Sheet4!$E$2:$E$8409,Sheet3!BM$4,Sheet4!$A$2:$A$8409,Sheet3!$B$1,Sheet4!$B$2:$B$8409,Sheet3!$A$3)","v":0},{"$f":"+SUMIFS(Sheet4!$DM$2:$DM$8409,Sheet4!$C$2:$C$8409,Sheet3!$B21,Sheet4!$D$2:$D$8409,Sheet3!BN$3,Sheet4!$E$2:$E$8409,Sheet3!BN$4,Sheet4!$A$2:$A$8409,Sheet3!$B$1,Sheet4!$B$2:$B$8409,Sheet3!$A$3)","v":0},{"$f":"+SUMIFS(Sheet4!$DM$2:$DM$8409,Sheet4!$C$2:$C$8409,Sheet3!$B21,Sheet4!$D$2:$D$8409,Sheet3!BO$3,Sheet4!$E$2:$E$8409,Sheet3!BO$4,Sheet4!$A$2:$A$8409,Sheet3!$B$1,Sheet4!$B$2:$B$8409,Sheet3!$A$3)","v":3886.04},{"$f":"+SUMIFS(Sheet4!$DM$2:$DM$8409,Sheet4!$C$2:$C$8409,Sheet3!$B21,Sheet4!$D$2:$D$8409,Sheet3!BP$3,Sheet4!$E$2:$E$8409,Sheet3!BP$4,Sheet4!$A$2:$A$8409,Sheet3!$B$1,Sheet4!$B$2:$B$8409,Sheet3!$A$3)","v":0},{"$f":"+SUMIFS(Sheet4!$DM$2:$DM$8409,Sheet4!$C$2:$C$8409,Sheet3!$B21,Sheet4!$D$2:$D$8409,Sheet3!BQ$3,Sheet4!$E$2:$E$8409,Sheet3!BQ$4,Sheet4!$A$2:$A$8409,Sheet3!$B$1,Sheet4!$B$2:$B$8409,Sheet3!$A$3)","v":0},{"$f":"+SUMIFS(Sheet4!$DM$2:$DM$8409,Sheet4!$C$2:$C$8409,Sheet3!$B21,Sheet4!$D$2:$D$8409,Sheet3!BR$3,Sheet4!$E$2:$E$8409,Sheet3!BR$4,Sheet4!$A$2:$A$8409,Sheet3!$B$1,Sheet4!$B$2:$B$8409,Sheet3!$A$3)","v":0},{"$f":"+SUMIFS(Sheet4!$DM$2:$DM$8409,Sheet4!$C$2:$C$8409,Sheet3!$B21,Sheet4!$D$2:$D$8409,Sheet3!BS$3,Sheet4!$E$2:$E$8409,Sheet3!BS$4,Sheet4!$A$2:$A$8409,Sheet3!$B$1,Sheet4!$B$2:$B$8409,Sheet3!$A$3)","v":33504.28},{"$f":"+SUMIFS(Sheet4!$DM$2:$DM$8409,Sheet4!$C$2:$C$8409,Sheet3!$B21,Sheet4!$D$2:$D$8409,Sheet3!BT$3,Sheet4!$E$2:$E$8409,Sheet3!BT$4,Sheet4!$A$2:$A$8409,Sheet3!$B$1,Sheet4!$B$2:$B$8409,Sheet3!$A$3)","v":82007.740000000005},{"$f":"+SUMIFS(Sheet4!$DM$2:$DM$8409,Sheet4!$C$2:$C$8409,Sheet3!$B21,Sheet4!$D$2:$D$8409,Sheet3!BU$3,Sheet4!$E$2:$E$8409,Sheet3!BU$4,Sheet4!$A$2:$A$8409,Sheet3!$B$1,Sheet4!$B$2:$B$8409,Sheet3!$A$3)","v":9271.06},{"$f":"+SUMIFS(Sheet4!$DM$2:$DM$8409,Sheet4!$C$2:$C$8409,Sheet3!$B21,Sheet4!$D$2:$D$8409,Sheet3!BV$3,Sheet4!$E$2:$E$8409,Sheet3!BV$4,Sheet4!$A$2:$A$8409,Sheet3!$B$1,Sheet4!$B$2:$B$8409,Sheet3!$A$3)","v":0},{"$f":"+SUMIFS(Sheet4!$DM$2:$DM$8409,Sheet4!$C$2:$C$8409,Sheet3!$B21,Sheet4!$D$2:$D$8409,Sheet3!BW$3,Sheet4!$E$2:$E$8409,Sheet3!BW$4,Sheet4!$A$2:$A$8409,Sheet3!$B$1,Sheet4!$B$2:$B$8409,Sheet3!$A$3)","v":108.5},{"$f":"+SUMIFS(Sheet4!$DM$2:$DM$8409,Sheet4!$C$2:$C$8409,Sheet3!$B21,Sheet4!$D$2:$D$8409,Sheet3!BX$3,Sheet4!$E$2:$E$8409,Sheet3!BX$4,Sheet4!$A$2:$A$8409,Sheet3!$B$1,Sheet4!$B$2:$B$8409,Sheet3!$A$3)","v":21883.18},{"$f":"+SUMIFS(Sheet4!$DM$2:$DM$8409,Sheet4!$C$2:$C$8409,Sheet3!$B21,Sheet4!$D$2:$D$8409,Sheet3!BY$3,Sheet4!$E$2:$E$8409,Sheet3!BY$4,Sheet4!$A$2:$A$8409,Sheet3!$B$1,Sheet4!$B$2:$B$8409,Sheet3!$A$3)","v":44594.61},{"$f":"+SUMIFS(Sheet4!$DM$2:$DM$8409,Sheet4!$C$2:$C$8409,Sheet3!$B21,Sheet4!$D$2:$D$8409,Sheet3!BZ$3,Sheet4!$E$2:$E$8409,Sheet3!BZ$4,Sheet4!$A$2:$A$8409,Sheet3!$B$1,Sheet4!$B$2:$B$8409,Sheet3!$A$3)","v":13032.15},{"$f":"+SUMIFS(Sheet4!$DM$2:$DM$8409,Sheet4!$C$2:$C$8409,Sheet3!$B21,Sheet4!$D$2:$D$8409,Sheet3!CA$3,Sheet4!$E$2:$E$8409,Sheet3!CA$4,Sheet4!$A$2:$A$8409,Sheet3!$B$1,Sheet4!$B$2:$B$8409,Sheet3!$A$3)","v":0},{"$f":"+SUMIFS(Sheet4!$DM$2:$DM$8409,Sheet4!$C$2:$C$8409,Sheet3!$B21,Sheet4!$D$2:$D$8409,Sheet3!CB$3,Sheet4!$E$2:$E$8409,Sheet3!CB$4,Sheet4!$A$2:$A$8409,Sheet3!$B$1,Sheet4!$B$2:$B$8409,Sheet3!$A$3)","v":0},{"$f":"+SUMIFS(Sheet4!$DM$2:$DM$8409,Sheet4!$C$2:$C$8409,Sheet3!$B21,Sheet4!$D$2:$D$8409,Sheet3!CC$3,Sheet4!$E$2:$E$8409,Sheet3!CC$4,Sheet4!$A$2:$A$8409,Sheet3!$B$1,Sheet4!$B$2:$B$8409,Sheet3!$A$3)","v":1681.18},{"$f":"+SUMIFS(Sheet4!$DM$2:$DM$8409,Sheet4!$C$2:$C$8409,Sheet3!$B21,Sheet4!$D$2:$D$8409,Sheet3!CD$3,Sheet4!$E$2:$E$8409,Sheet3!CD$4,Sheet4!$A$2:$A$8409,Sheet3!$B$1,Sheet4!$B$2:$B$8409,Sheet3!$A$3)","v":3681.55},{"$f":"+SUMIFS(Sheet4!$DM$2:$DM$8409,Sheet4!$C$2:$C$8409,Sheet3!$B21,Sheet4!$D$2:$D$8409,Sheet3!CE$3,Sheet4!$E$2:$E$8409,Sheet3!CE$4,Sheet4!$A$2:$A$8409,Sheet3!$B$1,Sheet4!$B$2:$B$8409,Sheet3!$A$3)","v":0},{"$f":"+SUMIFS(Sheet4!$DM$2:$DM$8409,Sheet4!$C$2:$C$8409,Sheet3!$B21,Sheet4!$D$2:$D$8409,Sheet3!CF$3,Sheet4!$E$2:$E$8409,Sheet3!CF$4,Sheet4!$A$2:$A$8409,Sheet3!$B$1,Sheet4!$B$2:$B$8409,Sheet3!$A$3)","v":0},{"$f":"+SUMIFS(Sheet4!$DM$2:$DM$8409,Sheet4!$C$2:$C$8409,Sheet3!$B21,Sheet4!$D$2:$D$8409,Sheet3!CG$3,Sheet4!$E$2:$E$8409,Sheet3!CG$4,Sheet4!$A$2:$A$8409,Sheet3!$B$1,Sheet4!$B$2:$B$8409,Sheet3!$A$3)","v":0},{"$f":"+SUMIFS(Sheet4!$DM$2:$DM$8409,Sheet4!$C$2:$C$8409,Sheet3!$B21,Sheet4!$D$2:$D$8409,Sheet3!CH$3,Sheet4!$E$2:$E$8409,Sheet3!CH$4,Sheet4!$A$2:$A$8409,Sheet3!$B$1,Sheet4!$B$2:$B$8409,Sheet3!$A$3)","v":0},{"$f":"+SUMIFS(Sheet4!$DM$2:$DM$8409,Sheet4!$C$2:$C$8409,Sheet3!$B21,Sheet4!$D$2:$D$8409,Sheet3!CI$3,Sheet4!$E$2:$E$8409,Sheet3!CI$4,Sheet4!$A$2:$A$8409,Sheet3!$B$1,Sheet4!$B$2:$B$8409,Sheet3!$A$3)","v":0},{"$f":"+SUMIFS(Sheet4!$DM$2:$DM$8409,Sheet4!$C$2:$C$8409,Sheet3!$B21,Sheet4!$D$2:$D$8409,Sheet3!CJ$3,Sheet4!$E$2:$E$8409,Sheet3!CJ$4,Sheet4!$A$2:$A$8409,Sheet3!$B$1,Sheet4!$B$2:$B$8409,Sheet3!$A$3)","v":0},{"$f":"+SUMIFS(Sheet4!$DM$2:$DM$8409,Sheet4!$C$2:$C$8409,Sheet3!$B21,Sheet4!$D$2:$D$8409,Sheet3!CK$3,Sheet4!$E$2:$E$8409,Sheet3!CK$4,Sheet4!$A$2:$A$8409,Sheet3!$B$1,Sheet4!$B$2:$B$8409,Sheet3!$A$3)","v":0},{"$f":"+SUMIFS(Sheet4!$DM$2:$DM$8409,Sheet4!$C$2:$C$8409,Sheet3!$B21,Sheet4!$D$2:$D$8409,Sheet3!CL$3,Sheet4!$E$2:$E$8409,Sheet3!CL$4,Sheet4!$A$2:$A$8409,Sheet3!$B$1,Sheet4!$B$2:$B$8409,Sheet3!$A$3)","v":0},{"$f":"+SUMIFS(Sheet4!$DM$2:$DM$8409,Sheet4!$C$2:$C$8409,Sheet3!$B21,Sheet4!$D$2:$D$8409,Sheet3!CM$3,Sheet4!$E$2:$E$8409,Sheet3!CM$4,Sheet4!$A$2:$A$8409,Sheet3!$B$1,Sheet4!$B$2:$B$8409,Sheet3!$A$3)","v":0},{"$f":"+SUMIFS(Sheet4!$DM$2:$DM$8409,Sheet4!$C$2:$C$8409,Sheet3!$B21,Sheet4!$D$2:$D$8409,Sheet3!CN$3,Sheet4!$E$2:$E$8409,Sheet3!CN$4,Sheet4!$A$2:$A$8409,Sheet3!$B$1,Sheet4!$B$2:$B$8409,Sheet3!$A$3)","v":0},{"$f":"+SUMIFS(Sheet4!$DM$2:$DM$8409,Sheet4!$C$2:$C$8409,Sheet3!$B21,Sheet4!$D$2:$D$8409,Sheet3!CO$3,Sheet4!$E$2:$E$8409,Sheet3!CO$4,Sheet4!$A$2:$A$8409,Sheet3!$B$1,Sheet4!$B$2:$B$8409,Sheet3!$A$3)","v":0},{"$f":"+SUMIFS(Sheet4!$DM$2:$DM$8409,Sheet4!$C$2:$C$8409,Sheet3!$B21,Sheet4!$D$2:$D$8409,Sheet3!CP$3,Sheet4!$E$2:$E$8409,Sheet3!CP$4,Sheet4!$A$2:$A$8409,Sheet3!$B$1,Sheet4!$B$2:$B$8409,Sheet3!$A$3)","v":0},{"$f":"+SUMIFS(Sheet4!$DM$2:$DM$8409,Sheet4!$C$2:$C$8409,Sheet3!$B21,Sheet4!$D$2:$D$8409,Sheet3!CQ$3,Sheet4!$E$2:$E$8409,Sheet3!CQ$4,Sheet4!$A$2:$A$8409,Sheet3!$B$1,Sheet4!$B$2:$B$8409,Sheet3!$A$3)","v":0},{"$f":"+SUMIFS(Sheet4!$DM$2:$DM$8409,Sheet4!$C$2:$C$8409,Sheet3!$B21,Sheet4!$D$2:$D$8409,Sheet3!CR$3,Sheet4!$E$2:$E$8409,Sheet3!CR$4,Sheet4!$A$2:$A$8409,Sheet3!$B$1,Sheet4!$B$2:$B$8409,Sheet3!$A$3)","v":0},{"$f":"+SUMIFS(Sheet4!$DM$2:$DM$8409,Sheet4!$C$2:$C$8409,Sheet3!$B21,Sheet4!$D$2:$D$8409,Sheet3!CS$3,Sheet4!$E$2:$E$8409,Sheet3!CS$4,Sheet4!$A$2:$A$8409,Sheet3!$B$1,Sheet4!$B$2:$B$8409,Sheet3!$A$3)","v":0},{"$f":"+SUMIFS(Sheet4!$DM$2:$DM$8409,Sheet4!$C$2:$C$8409,Sheet3!$B21,Sheet4!$D$2:$D$8409,Sheet3!CT$3,Sheet4!$E$2:$E$8409,Sheet3!CT$4,Sheet4!$A$2:$A$8409,Sheet3!$B$1,Sheet4!$B$2:$B$8409,Sheet3!$A$3)","v":0},{"$f":"+IF(SUMIFS(Sheet4!$DN$2:$DN$8409,Sheet4!$C$2:$C$8409,Sheet3!$B21,Sheet4!$D$2:$D$8409,Sheet3!CU$3,Sheet4!$A$2:$A$8409,Sheet3!$B$1,Sheet4!$B$2:$B$8409,Sheet3!$A$3)<3,0,SUMIFS(Sheet4!$DN$2:$DN$8409,Sheet4!$C$2:$C$8409,Sheet3!$B21,Sheet4!$D$2:$D$8409,Sheet3!CU$3,Sheet4!$A$2:$A$8409,Sheet3!$B$1,Sheet4!$B$2:$B$8409,Sheet3!$A$3))","v":0},{"$f":"+IF(SUMIFS(Sheet4!$DN$2:$DN$8409,Sheet4!$C$2:$C$8409,Sheet3!$B21,Sheet4!$D$2:$D$8409,Sheet3!CV$3,Sheet4!$A$2:$A$8409,Sheet3!$B$1,Sheet4!$B$2:$B$8409,Sheet3!$A$3)<3,0,SUMIFS(Sheet4!$DN$2:$DN$8409,Sheet4!$C$2:$C$8409,Sheet3!$B21,Sheet4!$D$2:$D$8409,Sheet3!CV$3,Sheet4!$A$2:$A$8409,Sheet3!$B$1,Sheet4!$B$2:$B$8409,Sheet3!$A$3))","v":0},{"$f":"+IF(SUMIFS(Sheet4!$DN$2:$DN$8409,Sheet4!$C$2:$C$8409,Sheet3!$B21,Sheet4!$D$2:$D$8409,Sheet3!CW$3,Sheet4!$A$2:$A$8409,Sheet3!$B$1,Sheet4!$B$2:$B$8409,Sheet3!$A$3)<3,0,SUMIFS(Sheet4!$DN$2:$DN$8409,Sheet4!$C$2:$C$8409,Sheet3!$B21,Sheet4!$D$2:$D$8409,Sheet3!CW$3,Sheet4!$A$2:$A$8409,Sheet3!$B$1,Sheet4!$B$2:$B$8409,Sheet3!$A$3))","v":7353.83},{"$f":"+IF(SUMIFS(Sheet4!$DN$2:$DN$8409,Sheet4!$C$2:$C$8409,Sheet3!$B21,Sheet4!$D$2:$D$8409,Sheet3!CX$3,Sheet4!$A$2:$A$8409,Sheet3!$B$1,Sheet4!$B$2:$B$8409,Sheet3!$A$3)<3,0,SUMIFS(Sheet4!$DN$2:$DN$8409,Sheet4!$C$2:$C$8409,Sheet3!$B21,Sheet4!$D$2:$D$8409,Sheet3!CX$3,Sheet4!$A$2:$A$8409,Sheet3!$B$1,Sheet4!$B$2:$B$8409,Sheet3!$A$3))","v":0},{"$f":"+IF(SUMIFS(Sheet4!$DN$2:$DN$8409,Sheet4!$C$2:$C$8409,Sheet3!$B21,Sheet4!$D$2:$D$8409,Sheet3!CY$3,Sheet4!$A$2:$A$8409,Sheet3!$B$1,Sheet4!$B$2:$B$8409,Sheet3!$A$3)<3,0,SUMIFS(Sheet4!$DN$2:$DN$8409,Sheet4!$C$2:$C$8409,Sheet3!$B21,Sheet4!$D$2:$D$8409,Sheet3!CY$3,Sheet4!$A$2:$A$8409,Sheet3!$B$1,Sheet4!$B$2:$B$8409,Sheet3!$A$3))","v":2471.79},{"$f":"+IF(SUMIFS(Sheet4!$DN$2:$DN$8409,Sheet4!$C$2:$C$8409,Sheet3!$B21,Sheet4!$D$2:$D$8409,Sheet3!CZ$3,Sheet4!$A$2:$A$8409,Sheet3!$B$1,Sheet4!$B$2:$B$8409,Sheet3!$A$3)<3,0,SUMIFS(Sheet4!$DN$2:$DN$8409,Sheet4!$C$2:$C$8409,Sheet3!$B21,Sheet4!$D$2:$D$8409,Sheet3!CZ$3,Sheet4!$A$2:$A$8409,Sheet3!$B$1,Sheet4!$B$2:$B$8409,Sheet3!$A$3))","v":267.5},{"$f":"+IF(SUMIFS(Sheet4!$DN$2:$DN$8409,Sheet4!$C$2:$C$8409,Sheet3!$B21,Sheet4!$D$2:$D$8409,Sheet3!DA$3,Sheet4!$A$2:$A$8409,Sheet3!$B$1,Sheet4!$B$2:$B$8409,Sheet3!$A$3)<3,0,SUMIFS(Sheet4!$DN$2:$DN$8409,Sheet4!$C$2:$C$8409,Sheet3!$B21,Sheet4!$D$2:$D$8409,Sheet3!DA$3,Sheet4!$A$2:$A$8409,Sheet3!$B$1,Sheet4!$B$2:$B$8409,Sheet3!$A$3))","v":0},{"$f":"+IF(SUMIFS(Sheet4!$DN$2:$DN$8409,Sheet4!$C$2:$C$8409,Sheet3!$B21,Sheet4!$D$2:$D$8409,Sheet3!DB$3,Sheet4!$A$2:$A$8409,Sheet3!$B$1,Sheet4!$B$2:$B$8409,Sheet3!$A$3)<3,0,SUMIFS(Sheet4!$DN$2:$DN$8409,Sheet4!$C$2:$C$8409,Sheet3!$B21,Sheet4!$D$2:$D$8409,Sheet3!DB$3,Sheet4!$A$2:$A$8409,Sheet3!$B$1,Sheet4!$B$2:$B$8409,Sheet3!$A$3))","v":2047.3},{"$f":"+IF(SUMIFS(Sheet4!$DN$2:$DN$8409,Sheet4!$C$2:$C$8409,Sheet3!$B21,Sheet4!$D$2:$D$8409,Sheet3!DC$3,Sheet4!$A$2:$A$8409,Sheet3!$B$1,Sheet4!$B$2:$B$8409,Sheet3!$A$3)<3,0,SUMIFS(Sheet4!$DN$2:$DN$8409,Sheet4!$C$2:$C$8409,Sheet3!$B21,Sheet4!$D$2:$D$8409,Sheet3!DC$3,Sheet4!$A$2:$A$8409,Sheet3!$B$1,Sheet4!$B$2:$B$8409,Sheet3!$A$3))","v":0},{"$f":"+IF(SUMIFS(Sheet4!$DN$2:$DN$8409,Sheet4!$C$2:$C$8409,Sheet3!$B21,Sheet4!$D$2:$D$8409,Sheet3!DD$3,Sheet4!$A$2:$A$8409,Sheet3!$B$1,Sheet4!$B$2:$B$8409,Sheet3!$A$3)<3,0,SUMIFS(Sheet4!$DN$2:$DN$8409,Sheet4!$C$2:$C$8409,Sheet3!$B21,Sheet4!$D$2:$D$8409,Sheet3!DD$3,Sheet4!$A$2:$A$8409,Sheet3!$B$1,Sheet4!$B$2:$B$8409,Sheet3!$A$3))","v":0},{"$f":"+IF(SUMIFS(Sheet4!$DN$2:$DN$8409,Sheet4!$C$2:$C$8409,Sheet3!$B21,Sheet4!$D$2:$D$8409,Sheet3!DE$3,Sheet4!$A$2:$A$8409,Sheet3!$B$1,Sheet4!$B$2:$B$8409,Sheet3!$A$3)<3,0,SUMIFS(Sheet4!$DN$2:$DN$8409,Sheet4!$C$2:$C$8409,Sheet3!$B21,Sheet4!$D$2:$D$8409,Sheet3!DE$3,Sheet4!$A$2:$A$8409,Sheet3!$B$1,Sheet4!$B$2:$B$8409,Sheet3!$A$3))","v":0},{"$f":"+IF(SUMIFS(Sheet4!$DN$2:$DN$8409,Sheet4!$C$2:$C$8409,Sheet3!$B21,Sheet4!$D$2:$D$8409,Sheet3!DF$3,Sheet4!$A$2:$A$8409,Sheet3!$B$1,Sheet4!$B$2:$B$8409,Sheet3!$A$3)<3,0,SUMIFS(Sheet4!$DN$2:$DN$8409,Sheet4!$C$2:$C$8409,Sheet3!$B21,Sheet4!$D$2:$D$8409,Sheet3!DF$3,Sheet4!$A$2:$A$8409,Sheet3!$B$1,Sheet4!$B$2:$B$8409,Sheet3!$A$3))","v":0},{"$f":"+IF(SUMIFS(Sheet4!$DN$2:$DN$8409,Sheet4!$C$2:$C$8409,Sheet3!$B21,Sheet4!$D$2:$D$8409,Sheet3!DG$3,Sheet4!$A$2:$A$8409,Sheet3!$B$1,Sheet4!$B$2:$B$8409,Sheet3!$A$3)<3,0,SUMIFS(Sheet4!$DN$2:$DN$8409,Sheet4!$C$2:$C$8409,Sheet3!$B21,Sheet4!$D$2:$D$8409,Sheet3!DG$3,Sheet4!$A$2:$A$8409,Sheet3!$B$1,Sheet4!$B$2:$B$8409,Sheet3!$A$3))","v":3886.04},{"$f":"+IF(SUMIFS(Sheet4!$DN$2:$DN$8409,Sheet4!$C$2:$C$8409,Sheet3!$B21,Sheet4!$D$2:$D$8409,Sheet3!DH$3,Sheet4!$A$2:$A$8409,Sheet3!$B$1,Sheet4!$B$2:$B$8409,Sheet3!$A$3)<3,0,SUMIFS(Sheet4!$DN$2:$DN$8409,Sheet4!$C$2:$C$8409,Sheet3!$B21,Sheet4!$D$2:$D$8409,Sheet3!DH$3,Sheet4!$A$2:$A$8409,Sheet3!$B$1,Sheet4!$B$2:$B$8409,Sheet3!$A$3))","v":124783.08},{"$f":"+IF(SUMIFS(Sheet4!$DN$2:$DN$8409,Sheet4!$C$2:$C$8409,Sheet3!$B21,Sheet4!$D$2:$D$8409,Sheet3!DI$3,Sheet4!$A$2:$A$8409,Sheet3!$B$1,Sheet4!$B$2:$B$8409,Sheet3!$A$3)<3,0,SUMIFS(Sheet4!$DN$2:$DN$8409,Sheet4!$C$2:$C$8409,Sheet3!$B21,Sheet4!$D$2:$D$8409,Sheet3!DI$3,Sheet4!$A$2:$A$8409,Sheet3!$B$1,Sheet4!$B$2:$B$8409,Sheet3!$A$3))","v":79618.44},{"$f":"+IF(SUMIFS(Sheet4!$DN$2:$DN$8409,Sheet4!$C$2:$C$8409,Sheet3!$B21,Sheet4!$D$2:$D$8409,Sheet3!DJ$3,Sheet4!$A$2:$A$8409,Sheet3!$B$1,Sheet4!$B$2:$B$8409,Sheet3!$A$3)<3,0,SUMIFS(Sheet4!$DN$2:$DN$8409,Sheet4!$C$2:$C$8409,Sheet3!$B21,Sheet4!$D$2:$D$8409,Sheet3!DJ$3,Sheet4!$A$2:$A$8409,Sheet3!$B$1,Sheet4!$B$2:$B$8409,Sheet3!$A$3))","v":5362.7300000000005},{"$f":"+IF(SUMIFS(Sheet4!$DN$2:$DN$8409,Sheet4!$C$2:$C$8409,Sheet3!$B21,Sheet4!$D$2:$D$8409,Sheet3!DK$3,Sheet4!$A$2:$A$8409,Sheet3!$B$1,Sheet4!$B$2:$B$8409,Sheet3!$A$3)<3,0,SUMIFS(Sheet4!$DN$2:$DN$8409,Sheet4!$C$2:$C$8409,Sheet3!$B21,Sheet4!$D$2:$D$8409,Sheet3!DK$3,Sheet4!$A$2:$A$8409,Sheet3!$B$1,Sheet4!$B$2:$B$8409,Sheet3!$A$3))","v":0},{"$f":"+IF(SUMIFS(Sheet4!$DN$2:$DN$8409,Sheet4!$C$2:$C$8409,Sheet3!$B21,Sheet4!$D$2:$D$8409,Sheet3!DL$3,Sheet4!$A$2:$A$8409,Sheet3!$B$1,Sheet4!$B$2:$B$8409,Sheet3!$A$3)<3,0,SUMIFS(Sheet4!$DN$2:$DN$8409,Sheet4!$C$2:$C$8409,Sheet3!$B21,Sheet4!$D$2:$D$8409,Sheet3!DL$3,Sheet4!$A$2:$A$8409,Sheet3!$B$1,Sheet4!$B$2:$B$8409,Sheet3!$A$3))","v":0},{"$f":"+IF(SUMIFS(Sheet4!$DN$2:$DN$8409,Sheet4!$C$2:$C$8409,Sheet3!$B21,Sheet4!$D$2:$D$8409,Sheet3!DM$3,Sheet4!$A$2:$A$8409,Sheet3!$B$1,Sheet4!$B$2:$B$8409,Sheet3!$A$3)<3,0,SUMIFS(Sheet4!$DN$2:$DN$8409,Sheet4!$C$2:$C$8409,Sheet3!$B21,Sheet4!$D$2:$D$8409,Sheet3!DM$3,Sheet4!$A$2:$A$8409,Sheet3!$B$1,Sheet4!$B$2:$B$8409,Sheet3!$A$3))","v":0},{"$f":"+IF(SUMIFS(Sheet4!$DN$2:$DN$8409,Sheet4!$C$2:$C$8409,Sheet3!$B21,Sheet4!$E$2:$E$8409,Sheet3!DN$4,Sheet4!$A$2:$A$8409,Sheet3!$B$1,Sheet4!$B$2:$B$8409,Sheet3!$A$3)<3,0,SUMIFS(Sheet4!$DN$2:$DN$8409,Sheet4!$C$2:$C$8409,Sheet3!$B21,Sheet4!$E$2:$E$8409,Sheet3!DN$4,Sheet4!$A$2:$A$8409,Sheet3!$B$1,Sheet4!$B$2:$B$8409,Sheet3!$A$3))","v":0},{"$f":"+IF(SUMIFS(Sheet4!$DN$2:$DN$8409,Sheet4!$C$2:$C$8409,Sheet3!$B21,Sheet4!$E$2:$E$8409,Sheet3!DO$4,Sheet4!$A$2:$A$8409,Sheet3!$B$1,Sheet4!$B$2:$B$8409,Sheet3!$A$3)<3,0,SUMIFS(Sheet4!$DN$2:$DN$8409,Sheet4!$C$2:$C$8409,Sheet3!$B21,Sheet4!$E$2:$E$8409,Sheet3!DO$4,Sheet4!$A$2:$A$8409,Sheet3!$B$1,Sheet4!$B$2:$B$8409,Sheet3!$A$3))","v":108.5},{"$f":"+IF(SUMIFS(Sheet4!$DN$2:$DN$8409,Sheet4!$C$2:$C$8409,Sheet3!$B21,Sheet4!$E$2:$E$8409,Sheet3!DP$4,Sheet4!$A$2:$A$8409,Sheet3!$B$1,Sheet4!$B$2:$B$8409,Sheet3!$A$3)<3,0,SUMIFS(Sheet4!$DN$2:$DN$8409,Sheet4!$C$2:$C$8409,Sheet3!$B21,Sheet4!$E$2:$E$8409,Sheet3!DP$4,Sheet4!$A$2:$A$8409,Sheet3!$B$1,Sheet4!$B$2:$B$8409,Sheet3!$A$3))","v":59807.93},{"$f":"+IF(SUMIFS(Sheet4!$DN$2:$DN$8409,Sheet4!$C$2:$C$8409,Sheet3!$B21,Sheet4!$E$2:$E$8409,Sheet3!DQ$4,Sheet4!$A$2:$A$8409,Sheet3!$B$1,Sheet4!$B$2:$B$8409,Sheet3!$A$3)<3,0,SUMIFS(Sheet4!$DN$2:$DN$8409,Sheet4!$C$2:$C$8409,Sheet3!$B21,Sheet4!$E$2:$E$8409,Sheet3!DQ$4,Sheet4!$A$2:$A$8409,Sheet3!$B$1,Sheet4!$B$2:$B$8409,Sheet3!$A$3))","v":143571.07},{"$f":"+IF(SUMIFS(Sheet4!$DN$2:$DN$8409,Sheet4!$C$2:$C$8409,Sheet3!$B21,Sheet4!$E$2:$E$8409,Sheet3!DR$4,Sheet4!$A$2:$A$8409,Sheet3!$B$1,Sheet4!$B$2:$B$8409,Sheet3!$A$3)<3,0,SUMIFS(Sheet4!$DN$2:$DN$8409,Sheet4!$C$2:$C$8409,Sheet3!$B21,Sheet4!$E$2:$E$8409,Sheet3!DR$4,Sheet4!$A$2:$A$8409,Sheet3!$B$1,Sheet4!$B$2:$B$8409,Sheet3!$A$3))","v":22303.21}]
[4,"16I","Médio Tejo",{"$f":"+SUMIFS(Sheet4!$DM$2:$DM$8409,Sheet4!$C$2:$C$8409,Sheet3!$B22,Sheet4!$D$2:$D$8409,Sheet3!D$3,Sheet4!$E$2:$E$8409,Sheet3!D$4,Sheet4!$A$2:$A$8409,Sheet3!$B$1,Sheet4!$B$2:$B$8409,Sheet3!$A$3)","v":0},{"$f":"+SUMIFS(Sheet4!$DM$2:$DM$8409,Sheet4!$C$2:$C$8409,Sheet3!$B22,Sheet4!$D$2:$D$8409,Sheet3!E$3,Sheet4!$E$2:$E$8409,Sheet3!E$4,Sheet4!$A$2:$A$8409,Sheet3!$B$1,Sheet4!$B$2:$B$8409,Sheet3!$A$3)","v":0},{"$f":"+SUMIFS(Sheet4!$DM$2:$DM$8409,Sheet4!$C$2:$C$8409,Sheet3!$B22,Sheet4!$D$2:$D$8409,Sheet3!F$3,Sheet4!$E$2:$E$8409,Sheet3!F$4,Sheet4!$A$2:$A$8409,Sheet3!$B$1,Sheet4!$B$2:$B$8409,Sheet3!$A$3)","v":0},{"$f":"+SUMIFS(Sheet4!$DM$2:$DM$8409,Sheet4!$C$2:$C$8409,Sheet3!$B22,Sheet4!$D$2:$D$8409,Sheet3!G$3,Sheet4!$E$2:$E$8409,Sheet3!G$4,Sheet4!$A$2:$A$8409,Sheet3!$B$1,Sheet4!$B$2:$B$8409,Sheet3!$A$3)","v":0},{"$f":"+SUMIFS(Sheet4!$DM$2:$DM$8409,Sheet4!$C$2:$C$8409,Sheet3!$B22,Sheet4!$D$2:$D$8409,Sheet3!H$3,Sheet4!$E$2:$E$8409,Sheet3!H$4,Sheet4!$A$2:$A$8409,Sheet3!$B$1,Sheet4!$B$2:$B$8409,Sheet3!$A$3)","v":0},{"$f":"+SUMIFS(Sheet4!$DM$2:$DM$8409,Sheet4!$C$2:$C$8409,Sheet3!$B22,Sheet4!$D$2:$D$8409,Sheet3!I$3,Sheet4!$E$2:$E$8409,Sheet3!I$4,Sheet4!$A$2:$A$8409,Sheet3!$B$1,Sheet4!$B$2:$B$8409,Sheet3!$A$3)","v":0},{"$f":"+SUMIFS(Sheet4!$DM$2:$DM$8409,Sheet4!$C$2:$C$8409,Sheet3!$B22,Sheet4!$D$2:$D$8409,Sheet3!J$3,Sheet4!$E$2:$E$8409,Sheet3!J$4,Sheet4!$A$2:$A$8409,Sheet3!$B$1,Sheet4!$B$2:$B$8409,Sheet3!$A$3)","v":0},{"$f":"+SUMIFS(Sheet4!$DM$2:$DM$8409,Sheet4!$C$2:$C$8409,Sheet3!$B22,Sheet4!$D$2:$D$8409,Sheet3!K$3,Sheet4!$E$2:$E$8409,Sheet3!K$4,Sheet4!$A$2:$A$8409,Sheet3!$B$1,Sheet4!$B$2:$B$8409,Sheet3!$A$3)","v":0},{"$f":"+SUMIFS(Sheet4!$DM$2:$DM$8409,Sheet4!$C$2:$C$8409,Sheet3!$B22,Sheet4!$D$2:$D$8409,Sheet3!L$3,Sheet4!$E$2:$E$8409,Sheet3!L$4,Sheet4!$A$2:$A$8409,Sheet3!$B$1,Sheet4!$B$2:$B$8409,Sheet3!$A$3)","v":0},{"$f":"+SUMIFS(Sheet4!$DM$2:$DM$8409,Sheet4!$C$2:$C$8409,Sheet3!$B22,Sheet4!$D$2:$D$8409,Sheet3!M$3,Sheet4!$E$2:$E$8409,Sheet3!M$4,Sheet4!$A$2:$A$8409,Sheet3!$B$1,Sheet4!$B$2:$B$8409,Sheet3!$A$3)","v":0},{"$f":"+SUMIFS(Sheet4!$DM$2:$DM$8409,Sheet4!$C$2:$C$8409,Sheet3!$B22,Sheet4!$D$2:$D$8409,Sheet3!N$3,Sheet4!$E$2:$E$8409,Sheet3!N$4,Sheet4!$A$2:$A$8409,Sheet3!$B$1,Sheet4!$B$2:$B$8409,Sheet3!$A$3)","v":0},{"$f":"+SUMIFS(Sheet4!$DM$2:$DM$8409,Sheet4!$C$2:$C$8409,Sheet3!$B22,Sheet4!$D$2:$D$8409,Sheet3!O$3,Sheet4!$E$2:$E$8409,Sheet3!O$4,Sheet4!$A$2:$A$8409,Sheet3!$B$1,Sheet4!$B$2:$B$8409,Sheet3!$A$3)","v":0},{"$f":"+SUMIFS(Sheet4!$DM$2:$DM$8409,Sheet4!$C$2:$C$8409,Sheet3!$B22,Sheet4!$D$2:$D$8409,Sheet3!P$3,Sheet4!$E$2:$E$8409,Sheet3!P$4,Sheet4!$A$2:$A$8409,Sheet3!$B$1,Sheet4!$B$2:$B$8409,Sheet3!$A$3)","v":0},{"$f":"+SUMIFS(Sheet4!$DM$2:$DM$8409,Sheet4!$C$2:$C$8409,Sheet3!$B22,Sheet4!$D$2:$D$8409,Sheet3!Q$3,Sheet4!$E$2:$E$8409,Sheet3!Q$4,Sheet4!$A$2:$A$8409,Sheet3!$B$1,Sheet4!$B$2:$B$8409,Sheet3!$A$3)","v":0},{"$f":"+SUMIFS(Sheet4!$DM$2:$DM$8409,Sheet4!$C$2:$C$8409,Sheet3!$B22,Sheet4!$D$2:$D$8409,Sheet3!R$3,Sheet4!$E$2:$E$8409,Sheet3!R$4,Sheet4!$A$2:$A$8409,Sheet3!$B$1,Sheet4!$B$2:$B$8409,Sheet3!$A$3)","v":0},{"$f":"+SUMIFS(Sheet4!$DM$2:$DM$8409,Sheet4!$C$2:$C$8409,Sheet3!$B22,Sheet4!$D$2:$D$8409,Sheet3!S$3,Sheet4!$E$2:$E$8409,Sheet3!S$4,Sheet4!$A$2:$A$8409,Sheet3!$B$1,Sheet4!$B$2:$B$8409,Sheet3!$A$3)","v":0},{"$f":"+SUMIFS(Sheet4!$DM$2:$DM$8409,Sheet4!$C$2:$C$8409,Sheet3!$B22,Sheet4!$D$2:$D$8409,Sheet3!T$3,Sheet4!$E$2:$E$8409,Sheet3!T$4,Sheet4!$A$2:$A$8409,Sheet3!$B$1,Sheet4!$B$2:$B$8409,Sheet3!$A$3)","v":0},{"$f":"+SUMIFS(Sheet4!$DM$2:$DM$8409,Sheet4!$C$2:$C$8409,Sheet3!$B22,Sheet4!$D$2:$D$8409,Sheet3!U$3,Sheet4!$E$2:$E$8409,Sheet3!U$4,Sheet4!$A$2:$A$8409,Sheet3!$B$1,Sheet4!$B$2:$B$8409,Sheet3!$A$3)","v":0},{"$f":"+SUMIFS(Sheet4!$DM$2:$DM$8409,Sheet4!$C$2:$C$8409,Sheet3!$B22,Sheet4!$D$2:$D$8409,Sheet3!V$3,Sheet4!$E$2:$E$8409,Sheet3!V$4,Sheet4!$A$2:$A$8409,Sheet3!$B$1,Sheet4!$B$2:$B$8409,Sheet3!$A$3)","v":0},{"$f":"+SUMIFS(Sheet4!$DM$2:$DM$8409,Sheet4!$C$2:$C$8409,Sheet3!$B22,Sheet4!$D$2:$D$8409,Sheet3!W$3,Sheet4!$E$2:$E$8409,Sheet3!W$4,Sheet4!$A$2:$A$8409,Sheet3!$B$1,Sheet4!$B$2:$B$8409,Sheet3!$A$3)","v":0},{"$f":"+SUMIFS(Sheet4!$DM$2:$DM$8409,Sheet4!$C$2:$C$8409,Sheet3!$B22,Sheet4!$D$2:$D$8409,Sheet3!X$3,Sheet4!$E$2:$E$8409,Sheet3!X$4,Sheet4!$A$2:$A$8409,Sheet3!$B$1,Sheet4!$B$2:$B$8409,Sheet3!$A$3)","v":0},{"$f":"+SUMIFS(Sheet4!$DM$2:$DM$8409,Sheet4!$C$2:$C$8409,Sheet3!$B22,Sheet4!$D$2:$D$8409,Sheet3!Y$3,Sheet4!$E$2:$E$8409,Sheet3!Y$4,Sheet4!$A$2:$A$8409,Sheet3!$B$1,Sheet4!$B$2:$B$8409,Sheet3!$A$3)","v":0},{"$f":"+SUMIFS(Sheet4!$DM$2:$DM$8409,Sheet4!$C$2:$C$8409,Sheet3!$B22,Sheet4!$D$2:$D$8409,Sheet3!Z$3,Sheet4!$E$2:$E$8409,Sheet3!Z$4,Sheet4!$A$2:$A$8409,Sheet3!$B$1,Sheet4!$B$2:$B$8409,Sheet3!$A$3)","v":0},{"$f":"+SUMIFS(Sheet4!$DM$2:$DM$8409,Sheet4!$C$2:$C$8409,Sheet3!$B22,Sheet4!$D$2:$D$8409,Sheet3!AA$3,Sheet4!$E$2:$E$8409,Sheet3!AA$4,Sheet4!$A$2:$A$8409,Sheet3!$B$1,Sheet4!$B$2:$B$8409,Sheet3!$A$3)","v":0},{"$f":"+SUMIFS(Sheet4!$DM$2:$DM$8409,Sheet4!$C$2:$C$8409,Sheet3!$B22,Sheet4!$D$2:$D$8409,Sheet3!AB$3,Sheet4!$E$2:$E$8409,Sheet3!AB$4,Sheet4!$A$2:$A$8409,Sheet3!$B$1,Sheet4!$B$2:$B$8409,Sheet3!$A$3)","v":0},{"$f":"+SUMIFS(Sheet4!$DM$2:$DM$8409,Sheet4!$C$2:$C$8409,Sheet3!$B22,Sheet4!$D$2:$D$8409,Sheet3!AC$3,Sheet4!$E$2:$E$8409,Sheet3!AC$4,Sheet4!$A$2:$A$8409,Sheet3!$B$1,Sheet4!$B$2:$B$8409,Sheet3!$A$3)","v":0},{"$f":"+SUMIFS(Sheet4!$DM$2:$DM$8409,Sheet4!$C$2:$C$8409,Sheet3!$B22,Sheet4!$D$2:$D$8409,Sheet3!AD$3,Sheet4!$E$2:$E$8409,Sheet3!AD$4,Sheet4!$A$2:$A$8409,Sheet3!$B$1,Sheet4!$B$2:$B$8409,Sheet3!$A$3)","v":0},{"$f":"+SUMIFS(Sheet4!$DM$2:$DM$8409,Sheet4!$C$2:$C$8409,Sheet3!$B22,Sheet4!$D$2:$D$8409,Sheet3!AE$3,Sheet4!$E$2:$E$8409,Sheet3!AE$4,Sheet4!$A$2:$A$8409,Sheet3!$B$1,Sheet4!$B$2:$B$8409,Sheet3!$A$3)","v":0},{"$f":"+SUMIFS(Sheet4!$DM$2:$DM$8409,Sheet4!$C$2:$C$8409,Sheet3!$B22,Sheet4!$D$2:$D$8409,Sheet3!AF$3,Sheet4!$E$2:$E$8409,Sheet3!AF$4,Sheet4!$A$2:$A$8409,Sheet3!$B$1,Sheet4!$B$2:$B$8409,Sheet3!$A$3)","v":0},{"$f":"+SUMIFS(Sheet4!$DM$2:$DM$8409,Sheet4!$C$2:$C$8409,Sheet3!$B22,Sheet4!$D$2:$D$8409,Sheet3!AG$3,Sheet4!$E$2:$E$8409,Sheet3!AG$4,Sheet4!$A$2:$A$8409,Sheet3!$B$1,Sheet4!$B$2:$B$8409,Sheet3!$A$3)","v":0},{"$f":"+SUMIFS(Sheet4!$DM$2:$DM$8409,Sheet4!$C$2:$C$8409,Sheet3!$B22,Sheet4!$D$2:$D$8409,Sheet3!AH$3,Sheet4!$E$2:$E$8409,Sheet3!AH$4,Sheet4!$A$2:$A$8409,Sheet3!$B$1,Sheet4!$B$2:$B$8409,Sheet3!$A$3)","v":0},{"$f":"+SUMIFS(Sheet4!$DM$2:$DM$8409,Sheet4!$C$2:$C$8409,Sheet3!$B22,Sheet4!$D$2:$D$8409,Sheet3!AI$3,Sheet4!$E$2:$E$8409,Sheet3!AI$4,Sheet4!$A$2:$A$8409,Sheet3!$B$1,Sheet4!$B$2:$B$8409,Sheet3!$A$3)","v":0},{"$f":"+SUMIFS(Sheet4!$DM$2:$DM$8409,Sheet4!$C$2:$C$8409,Sheet3!$B22,Sheet4!$D$2:$D$8409,Sheet3!AJ$3,Sheet4!$E$2:$E$8409,Sheet3!AJ$4,Sheet4!$A$2:$A$8409,Sheet3!$B$1,Sheet4!$B$2:$B$8409,Sheet3!$A$3)","v":0},{"$f":"+SUMIFS(Sheet4!$DM$2:$DM$8409,Sheet4!$C$2:$C$8409,Sheet3!$B22,Sheet4!$D$2:$D$8409,Sheet3!AK$3,Sheet4!$E$2:$E$8409,Sheet3!AK$4,Sheet4!$A$2:$A$8409,Sheet3!$B$1,Sheet4!$B$2:$B$8409,Sheet3!$A$3)","v":0},{"$f":"+SUMIFS(Sheet4!$DM$2:$DM$8409,Sheet4!$C$2:$C$8409,Sheet3!$B22,Sheet4!$D$2:$D$8409,Sheet3!AL$3,Sheet4!$E$2:$E$8409,Sheet3!AL$4,Sheet4!$A$2:$A$8409,Sheet3!$B$1,Sheet4!$B$2:$B$8409,Sheet3!$A$3)","v":0},{"$f":"+SUMIFS(Sheet4!$DM$2:$DM$8409,Sheet4!$C$2:$C$8409,Sheet3!$B22,Sheet4!$D$2:$D$8409,Sheet3!AM$3,Sheet4!$E$2:$E$8409,Sheet3!AM$4,Sheet4!$A$2:$A$8409,Sheet3!$B$1,Sheet4!$B$2:$B$8409,Sheet3!$A$3)","v":0},{"$f":"+SUMIFS(Sheet4!$DM$2:$DM$8409,Sheet4!$C$2:$C$8409,Sheet3!$B22,Sheet4!$D$2:$D$8409,Sheet3!AN$3,Sheet4!$E$2:$E$8409,Sheet3!AN$4,Sheet4!$A$2:$A$8409,Sheet3!$B$1,Sheet4!$B$2:$B$8409,Sheet3!$A$3)","v":0},{"$f":"+SUMIFS(Sheet4!$DM$2:$DM$8409,Sheet4!$C$2:$C$8409,Sheet3!$B22,Sheet4!$D$2:$D$8409,Sheet3!AO$3,Sheet4!$E$2:$E$8409,Sheet3!AO$4,Sheet4!$A$2:$A$8409,Sheet3!$B$1,Sheet4!$B$2:$B$8409,Sheet3!$A$3)","v":907.74},{"$f":"+SUMIFS(Sheet4!$DM$2:$DM$8409,Sheet4!$C$2:$C$8409,Sheet3!$B22,Sheet4!$D$2:$D$8409,Sheet3!AP$3,Sheet4!$E$2:$E$8409,Sheet3!AP$4,Sheet4!$A$2:$A$8409,Sheet3!$B$1,Sheet4!$B$2:$B$8409,Sheet3!$A$3)","v":0},{"$f":"+SUMIFS(Sheet4!$DM$2:$DM$8409,Sheet4!$C$2:$C$8409,Sheet3!$B22,Sheet4!$D$2:$D$8409,Sheet3!AQ$3,Sheet4!$E$2:$E$8409,Sheet3!AQ$4,Sheet4!$A$2:$A$8409,Sheet3!$B$1,Sheet4!$B$2:$B$8409,Sheet3!$A$3)","v":0},{"$f":"+SUMIFS(Sheet4!$DM$2:$DM$8409,Sheet4!$C$2:$C$8409,Sheet3!$B22,Sheet4!$D$2:$D$8409,Sheet3!AR$3,Sheet4!$E$2:$E$8409,Sheet3!AR$4,Sheet4!$A$2:$A$8409,Sheet3!$B$1,Sheet4!$B$2:$B$8409,Sheet3!$A$3)","v":0},{"$f":"+SUMIFS(Sheet4!$DM$2:$DM$8409,Sheet4!$C$2:$C$8409,Sheet3!$B22,Sheet4!$D$2:$D$8409,Sheet3!AS$3,Sheet4!$E$2:$E$8409,Sheet3!AS$4,Sheet4!$A$2:$A$8409,Sheet3!$B$1,Sheet4!$B$2:$B$8409,Sheet3!$A$3)","v":0},{"$f":"+SUMIFS(Sheet4!$DM$2:$DM$8409,Sheet4!$C$2:$C$8409,Sheet3!$B22,Sheet4!$D$2:$D$8409,Sheet3!AT$3,Sheet4!$E$2:$E$8409,Sheet3!AT$4,Sheet4!$A$2:$A$8409,Sheet3!$B$1,Sheet4!$B$2:$B$8409,Sheet3!$A$3)","v":0},{"$f":"+SUMIFS(Sheet4!$DM$2:$DM$8409,Sheet4!$C$2:$C$8409,Sheet3!$B22,Sheet4!$D$2:$D$8409,Sheet3!AU$3,Sheet4!$E$2:$E$8409,Sheet3!AU$4,Sheet4!$A$2:$A$8409,Sheet3!$B$1,Sheet4!$B$2:$B$8409,Sheet3!$A$3)","v":0},{"$f":"+SUMIFS(Sheet4!$DM$2:$DM$8409,Sheet4!$C$2:$C$8409,Sheet3!$B22,Sheet4!$D$2:$D$8409,Sheet3!AV$3,Sheet4!$E$2:$E$8409,Sheet3!AV$4,Sheet4!$A$2:$A$8409,Sheet3!$B$1,Sheet4!$B$2:$B$8409,Sheet3!$A$3)","v":0},{"$f":"+SUMIFS(Sheet4!$DM$2:$DM$8409,Sheet4!$C$2:$C$8409,Sheet3!$B22,Sheet4!$D$2:$D$8409,Sheet3!AW$3,Sheet4!$E$2:$E$8409,Sheet3!AW$4,Sheet4!$A$2:$A$8409,Sheet3!$B$1,Sheet4!$B$2:$B$8409,Sheet3!$A$3)","v":0},{"$f":"+SUMIFS(Sheet4!$DM$2:$DM$8409,Sheet4!$C$2:$C$8409,Sheet3!$B22,Sheet4!$D$2:$D$8409,Sheet3!AX$3,Sheet4!$E$2:$E$8409,Sheet3!AX$4,Sheet4!$A$2:$A$8409,Sheet3!$B$1,Sheet4!$B$2:$B$8409,Sheet3!$A$3)","v":0},{"$f":"+SUMIFS(Sheet4!$DM$2:$DM$8409,Sheet4!$C$2:$C$8409,Sheet3!$B22,Sheet4!$D$2:$D$8409,Sheet3!AY$3,Sheet4!$E$2:$E$8409,Sheet3!AY$4,Sheet4!$A$2:$A$8409,Sheet3!$B$1,Sheet4!$B$2:$B$8409,Sheet3!$A$3)","v":0},{"$f":"+SUMIFS(Sheet4!$DM$2:$DM$8409,Sheet4!$C$2:$C$8409,Sheet3!$B22,Sheet4!$D$2:$D$8409,Sheet3!AZ$3,Sheet4!$E$2:$E$8409,Sheet3!AZ$4,Sheet4!$A$2:$A$8409,Sheet3!$B$1,Sheet4!$B$2:$B$8409,Sheet3!$A$3)","v":0},{"$f":"+SUMIFS(Sheet4!$DM$2:$DM$8409,Sheet4!$C$2:$C$8409,Sheet3!$B22,Sheet4!$D$2:$D$8409,Sheet3!BA$3,Sheet4!$E$2:$E$8409,Sheet3!BA$4,Sheet4!$A$2:$A$8409,Sheet3!$B$1,Sheet4!$B$2:$B$8409,Sheet3!$A$3)","v":0},{"$f":"+SUMIFS(Sheet4!$DM$2:$DM$8409,Sheet4!$C$2:$C$8409,Sheet3!$B22,Sheet4!$D$2:$D$8409,Sheet3!BB$3,Sheet4!$E$2:$E$8409,Sheet3!BB$4,Sheet4!$A$2:$A$8409,Sheet3!$B$1,Sheet4!$B$2:$B$8409,Sheet3!$A$3)","v":0},{"$f":"+SUMIFS(Sheet4!$DM$2:$DM$8409,Sheet4!$C$2:$C$8409,Sheet3!$B22,Sheet4!$D$2:$D$8409,Sheet3!BC$3,Sheet4!$E$2:$E$8409,Sheet3!BC$4,Sheet4!$A$2:$A$8409,Sheet3!$B$1,Sheet4!$B$2:$B$8409,Sheet3!$A$3)","v":0},{"$f":"+SUMIFS(Sheet4!$DM$2:$DM$8409,Sheet4!$C$2:$C$8409,Sheet3!$B22,Sheet4!$D$2:$D$8409,Sheet3!BD$3,Sheet4!$E$2:$E$8409,Sheet3!BD$4,Sheet4!$A$2:$A$8409,Sheet3!$B$1,Sheet4!$B$2:$B$8409,Sheet3!$A$3)","v":0},{"$f":"+SUMIFS(Sheet4!$DM$2:$DM$8409,Sheet4!$C$2:$C$8409,Sheet3!$B22,Sheet4!$D$2:$D$8409,Sheet3!BE$3,Sheet4!$E$2:$E$8409,Sheet3!BE$4,Sheet4!$A$2:$A$8409,Sheet3!$B$1,Sheet4!$B$2:$B$8409,Sheet3!$A$3)","v":0},{"$f":"+SUMIFS(Sheet4!$DM$2:$DM$8409,Sheet4!$C$2:$C$8409,Sheet3!$B22,Sheet4!$D$2:$D$8409,Sheet3!BF$3,Sheet4!$E$2:$E$8409,Sheet3!BF$4,Sheet4!$A$2:$A$8409,Sheet3!$B$1,Sheet4!$B$2:$B$8409,Sheet3!$A$3)","v":0},{"$f":"+SUMIFS(Sheet4!$DM$2:$DM$8409,Sheet4!$C$2:$C$8409,Sheet3!$B22,Sheet4!$D$2:$D$8409,Sheet3!BG$3,Sheet4!$E$2:$E$8409,Sheet3!BG$4,Sheet4!$A$2:$A$8409,Sheet3!$B$1,Sheet4!$B$2:$B$8409,Sheet3!$A$3)","v":0},{"$f":"+SUMIFS(Sheet4!$DM$2:$DM$8409,Sheet4!$C$2:$C$8409,Sheet3!$B22,Sheet4!$D$2:$D$8409,Sheet3!BH$3,Sheet4!$E$2:$E$8409,Sheet3!BH$4,Sheet4!$A$2:$A$8409,Sheet3!$B$1,Sheet4!$B$2:$B$8409,Sheet3!$A$3)","v":0},{"$f":"+SUMIFS(Sheet4!$DM$2:$DM$8409,Sheet4!$C$2:$C$8409,Sheet3!$B22,Sheet4!$D$2:$D$8409,Sheet3!BI$3,Sheet4!$E$2:$E$8409,Sheet3!BI$4,Sheet4!$A$2:$A$8409,Sheet3!$B$1,Sheet4!$B$2:$B$8409,Sheet3!$A$3)","v":0},{"$f":"+SUMIFS(Sheet4!$DM$2:$DM$8409,Sheet4!$C$2:$C$8409,Sheet3!$B22,Sheet4!$D$2:$D$8409,Sheet3!BJ$3,Sheet4!$E$2:$E$8409,Sheet3!BJ$4,Sheet4!$A$2:$A$8409,Sheet3!$B$1,Sheet4!$B$2:$B$8409,Sheet3!$A$3)","v":0},{"$f":"+SUMIFS(Sheet4!$DM$2:$DM$8409,Sheet4!$C$2:$C$8409,Sheet3!$B22,Sheet4!$D$2:$D$8409,Sheet3!BK$3,Sheet4!$E$2:$E$8409,Sheet3!BK$4,Sheet4!$A$2:$A$8409,Sheet3!$B$1,Sheet4!$B$2:$B$8409,Sheet3!$A$3)","v":0},{"$f":"+SUMIFS(Sheet4!$DM$2:$DM$8409,Sheet4!$C$2:$C$8409,Sheet3!$B22,Sheet4!$D$2:$D$8409,Sheet3!BL$3,Sheet4!$E$2:$E$8409,Sheet3!BL$4,Sheet4!$A$2:$A$8409,Sheet3!$B$1,Sheet4!$B$2:$B$8409,Sheet3!$A$3)","v":0},{"$f":"+SUMIFS(Sheet4!$DM$2:$DM$8409,Sheet4!$C$2:$C$8409,Sheet3!$B22,Sheet4!$D$2:$D$8409,Sheet3!BM$3,Sheet4!$E$2:$E$8409,Sheet3!BM$4,Sheet4!$A$2:$A$8409,Sheet3!$B$1,Sheet4!$B$2:$B$8409,Sheet3!$A$3)","v":0},{"$f":"+SUMIFS(Sheet4!$DM$2:$DM$8409,Sheet4!$C$2:$C$8409,Sheet3!$B22,Sheet4!$D$2:$D$8409,Sheet3!BN$3,Sheet4!$E$2:$E$8409,Sheet3!BN$4,Sheet4!$A$2:$A$8409,Sheet3!$B$1,Sheet4!$B$2:$B$8409,Sheet3!$A$3)","v":0},{"$f":"+SUMIFS(Sheet4!$DM$2:$DM$8409,Sheet4!$C$2:$C$8409,Sheet3!$B22,Sheet4!$D$2:$D$8409,Sheet3!BO$3,Sheet4!$E$2:$E$8409,Sheet3!BO$4,Sheet4!$A$2:$A$8409,Sheet3!$B$1,Sheet4!$B$2:$B$8409,Sheet3!$A$3)","v":0},{"$f":"+SUMIFS(Sheet4!$DM$2:$DM$8409,Sheet4!$C$2:$C$8409,Sheet3!$B22,Sheet4!$D$2:$D$8409,Sheet3!BP$3,Sheet4!$E$2:$E$8409,Sheet3!BP$4,Sheet4!$A$2:$A$8409,Sheet3!$B$1,Sheet4!$B$2:$B$8409,Sheet3!$A$3)","v":0},{"$f":"+SUMIFS(Sheet4!$DM$2:$DM$8409,Sheet4!$C$2:$C$8409,Sheet3!$B22,Sheet4!$D$2:$D$8409,Sheet3!BQ$3,Sheet4!$E$2:$E$8409,Sheet3!BQ$4,Sheet4!$A$2:$A$8409,Sheet3!$B$1,Sheet4!$B$2:$B$8409,Sheet3!$A$3)","v":0},{"$f":"+SUMIFS(Sheet4!$DM$2:$DM$8409,Sheet4!$C$2:$C$8409,Sheet3!$B22,Sheet4!$D$2:$D$8409,Sheet3!BR$3,Sheet4!$E$2:$E$8409,Sheet3!BR$4,Sheet4!$A$2:$A$8409,Sheet3!$B$1,Sheet4!$B$2:$B$8409,Sheet3!$A$3)","v":0},{"$f":"+SUMIFS(Sheet4!$DM$2:$DM$8409,Sheet4!$C$2:$C$8409,Sheet3!$B22,Sheet4!$D$2:$D$8409,Sheet3!BS$3,Sheet4!$E$2:$E$8409,Sheet3!BS$4,Sheet4!$A$2:$A$8409,Sheet3!$B$1,Sheet4!$B$2:$B$8409,Sheet3!$A$3)","v":0},{"$f":"+SUMIFS(Sheet4!$DM$2:$DM$8409,Sheet4!$C$2:$C$8409,Sheet3!$B22,Sheet4!$D$2:$D$8409,Sheet3!BT$3,Sheet4!$E$2:$E$8409,Sheet3!BT$4,Sheet4!$A$2:$A$8409,Sheet3!$B$1,Sheet4!$B$2:$B$8409,Sheet3!$A$3)","v":5420.2},{"$f":"+SUMIFS(Sheet4!$DM$2:$DM$8409,Sheet4!$C$2:$C$8409,Sheet3!$B22,Sheet4!$D$2:$D$8409,Sheet3!BU$3,Sheet4!$E$2:$E$8409,Sheet3!BU$4,Sheet4!$A$2:$A$8409,Sheet3!$B$1,Sheet4!$B$2:$B$8409,Sheet3!$A$3)","v":0},{"$f":"+SUMIFS(Sheet4!$DM$2:$DM$8409,Sheet4!$C$2:$C$8409,Sheet3!$B22,Sheet4!$D$2:$D$8409,Sheet3!BV$3,Sheet4!$E$2:$E$8409,Sheet3!BV$4,Sheet4!$A$2:$A$8409,Sheet3!$B$1,Sheet4!$B$2:$B$8409,Sheet3!$A$3)","v":0},{"$f":"+SUMIFS(Sheet4!$DM$2:$DM$8409,Sheet4!$C$2:$C$8409,Sheet3!$B22,Sheet4!$D$2:$D$8409,Sheet3!BW$3,Sheet4!$E$2:$E$8409,Sheet3!BW$4,Sheet4!$A$2:$A$8409,Sheet3!$B$1,Sheet4!$B$2:$B$8409,Sheet3!$A$3)","v":0},{"$f":"+SUMIFS(Sheet4!$DM$2:$DM$8409,Sheet4!$C$2:$C$8409,Sheet3!$B22,Sheet4!$D$2:$D$8409,Sheet3!BX$3,Sheet4!$E$2:$E$8409,Sheet3!BX$4,Sheet4!$A$2:$A$8409,Sheet3!$B$1,Sheet4!$B$2:$B$8409,Sheet3!$A$3)","v":8690.56},{"$f":"+SUMIFS(Sheet4!$DM$2:$DM$8409,Sheet4!$C$2:$C$8409,Sheet3!$B22,Sheet4!$D$2:$D$8409,Sheet3!BY$3,Sheet4!$E$2:$E$8409,Sheet3!BY$4,Sheet4!$A$2:$A$8409,Sheet3!$B$1,Sheet4!$B$2:$B$8409,Sheet3!$A$3)","v":0},{"$f":"+SUMIFS(Sheet4!$DM$2:$DM$8409,Sheet4!$C$2:$C$8409,Sheet3!$B22,Sheet4!$D$2:$D$8409,Sheet3!BZ$3,Sheet4!$E$2:$E$8409,Sheet3!BZ$4,Sheet4!$A$2:$A$8409,Sheet3!$B$1,Sheet4!$B$2:$B$8409,Sheet3!$A$3)","v":0},{"$f":"+SUMIFS(Sheet4!$DM$2:$DM$8409,Sheet4!$C$2:$C$8409,Sheet3!$B22,Sheet4!$D$2:$D$8409,Sheet3!CA$3,Sheet4!$E$2:$E$8409,Sheet3!CA$4,Sheet4!$A$2:$A$8409,Sheet3!$B$1,Sheet4!$B$2:$B$8409,Sheet3!$A$3)","v":0},{"$f":"+SUMIFS(Sheet4!$DM$2:$DM$8409,Sheet4!$C$2:$C$8409,Sheet3!$B22,Sheet4!$D$2:$D$8409,Sheet3!CB$3,Sheet4!$E$2:$E$8409,Sheet3!CB$4,Sheet4!$A$2:$A$8409,Sheet3!$B$1,Sheet4!$B$2:$B$8409,Sheet3!$A$3)","v":0},{"$f":"+SUMIFS(Sheet4!$DM$2:$DM$8409,Sheet4!$C$2:$C$8409,Sheet3!$B22,Sheet4!$D$2:$D$8409,Sheet3!CC$3,Sheet4!$E$2:$E$8409,Sheet3!CC$4,Sheet4!$A$2:$A$8409,Sheet3!$B$1,Sheet4!$B$2:$B$8409,Sheet3!$A$3)","v":0},{"$f":"+SUMIFS(Sheet4!$DM$2:$DM$8409,Sheet4!$C$2:$C$8409,Sheet3!$B22,Sheet4!$D$2:$D$8409,Sheet3!CD$3,Sheet4!$E$2:$E$8409,Sheet3!CD$4,Sheet4!$A$2:$A$8409,Sheet3!$B$1,Sheet4!$B$2:$B$8409,Sheet3!$A$3)","v":7307.34},{"$f":"+SUMIFS(Sheet4!$DM$2:$DM$8409,Sheet4!$C$2:$C$8409,Sheet3!$B22,Sheet4!$D$2:$D$8409,Sheet3!CE$3,Sheet4!$E$2:$E$8409,Sheet3!CE$4,Sheet4!$A$2:$A$8409,Sheet3!$B$1,Sheet4!$B$2:$B$8409,Sheet3!$A$3)","v":3760.9},{"$f":"+SUMIFS(Sheet4!$DM$2:$DM$8409,Sheet4!$C$2:$C$8409,Sheet3!$B22,Sheet4!$D$2:$D$8409,Sheet3!CF$3,Sheet4!$E$2:$E$8409,Sheet3!CF$4,Sheet4!$A$2:$A$8409,Sheet3!$B$1,Sheet4!$B$2:$B$8409,Sheet3!$A$3)","v":0},{"$f":"+SUMIFS(Sheet4!$DM$2:$DM$8409,Sheet4!$C$2:$C$8409,Sheet3!$B22,Sheet4!$D$2:$D$8409,Sheet3!CG$3,Sheet4!$E$2:$E$8409,Sheet3!CG$4,Sheet4!$A$2:$A$8409,Sheet3!$B$1,Sheet4!$B$2:$B$8409,Sheet3!$A$3)","v":0},{"$f":"+SUMIFS(Sheet4!$DM$2:$DM$8409,Sheet4!$C$2:$C$8409,Sheet3!$B22,Sheet4!$D$2:$D$8409,Sheet3!CH$3,Sheet4!$E$2:$E$8409,Sheet3!CH$4,Sheet4!$A$2:$A$8409,Sheet3!$B$1,Sheet4!$B$2:$B$8409,Sheet3!$A$3)","v":0},{"$f":"+SUMIFS(Sheet4!$DM$2:$DM$8409,Sheet4!$C$2:$C$8409,Sheet3!$B22,Sheet4!$D$2:$D$8409,Sheet3!CI$3,Sheet4!$E$2:$E$8409,Sheet3!CI$4,Sheet4!$A$2:$A$8409,Sheet3!$B$1,Sheet4!$B$2:$B$8409,Sheet3!$A$3)","v":0},{"$f":"+SUMIFS(Sheet4!$DM$2:$DM$8409,Sheet4!$C$2:$C$8409,Sheet3!$B22,Sheet4!$D$2:$D$8409,Sheet3!CJ$3,Sheet4!$E$2:$E$8409,Sheet3!CJ$4,Sheet4!$A$2:$A$8409,Sheet3!$B$1,Sheet4!$B$2:$B$8409,Sheet3!$A$3)","v":0},{"$f":"+SUMIFS(Sheet4!$DM$2:$DM$8409,Sheet4!$C$2:$C$8409,Sheet3!$B22,Sheet4!$D$2:$D$8409,Sheet3!CK$3,Sheet4!$E$2:$E$8409,Sheet3!CK$4,Sheet4!$A$2:$A$8409,Sheet3!$B$1,Sheet4!$B$2:$B$8409,Sheet3!$A$3)","v":0},{"$f":"+SUMIFS(Sheet4!$DM$2:$DM$8409,Sheet4!$C$2:$C$8409,Sheet3!$B22,Sheet4!$D$2:$D$8409,Sheet3!CL$3,Sheet4!$E$2:$E$8409,Sheet3!CL$4,Sheet4!$A$2:$A$8409,Sheet3!$B$1,Sheet4!$B$2:$B$8409,Sheet3!$A$3)","v":0},{"$f":"+SUMIFS(Sheet4!$DM$2:$DM$8409,Sheet4!$C$2:$C$8409,Sheet3!$B22,Sheet4!$D$2:$D$8409,Sheet3!CM$3,Sheet4!$E$2:$E$8409,Sheet3!CM$4,Sheet4!$A$2:$A$8409,Sheet3!$B$1,Sheet4!$B$2:$B$8409,Sheet3!$A$3)","v":0},{"$f":"+SUMIFS(Sheet4!$DM$2:$DM$8409,Sheet4!$C$2:$C$8409,Sheet3!$B22,Sheet4!$D$2:$D$8409,Sheet3!CN$3,Sheet4!$E$2:$E$8409,Sheet3!CN$4,Sheet4!$A$2:$A$8409,Sheet3!$B$1,Sheet4!$B$2:$B$8409,Sheet3!$A$3)","v":0},{"$f":"+SUMIFS(Sheet4!$DM$2:$DM$8409,Sheet4!$C$2:$C$8409,Sheet3!$B22,Sheet4!$D$2:$D$8409,Sheet3!CO$3,Sheet4!$E$2:$E$8409,Sheet3!CO$4,Sheet4!$A$2:$A$8409,Sheet3!$B$1,Sheet4!$B$2:$B$8409,Sheet3!$A$3)","v":0},{"$f":"+SUMIFS(Sheet4!$DM$2:$DM$8409,Sheet4!$C$2:$C$8409,Sheet3!$B22,Sheet4!$D$2:$D$8409,Sheet3!CP$3,Sheet4!$E$2:$E$8409,Sheet3!CP$4,Sheet4!$A$2:$A$8409,Sheet3!$B$1,Sheet4!$B$2:$B$8409,Sheet3!$A$3)","v":0},{"$f":"+SUMIFS(Sheet4!$DM$2:$DM$8409,Sheet4!$C$2:$C$8409,Sheet3!$B22,Sheet4!$D$2:$D$8409,Sheet3!CQ$3,Sheet4!$E$2:$E$8409,Sheet3!CQ$4,Sheet4!$A$2:$A$8409,Sheet3!$B$1,Sheet4!$B$2:$B$8409,Sheet3!$A$3)","v":0},{"$f":"+SUMIFS(Sheet4!$DM$2:$DM$8409,Sheet4!$C$2:$C$8409,Sheet3!$B22,Sheet4!$D$2:$D$8409,Sheet3!CR$3,Sheet4!$E$2:$E$8409,Sheet3!CR$4,Sheet4!$A$2:$A$8409,Sheet3!$B$1,Sheet4!$B$2:$B$8409,Sheet3!$A$3)","v":0},{"$f":"+SUMIFS(Sheet4!$DM$2:$DM$8409,Sheet4!$C$2:$C$8409,Sheet3!$B22,Sheet4!$D$2:$D$8409,Sheet3!CS$3,Sheet4!$E$2:$E$8409,Sheet3!CS$4,Sheet4!$A$2:$A$8409,Sheet3!$B$1,Sheet4!$B$2:$B$8409,Sheet3!$A$3)","v":0},{"$f":"+SUMIFS(Sheet4!$DM$2:$DM$8409,Sheet4!$C$2:$C$8409,Sheet3!$B22,Sheet4!$D$2:$D$8409,Sheet3!CT$3,Sheet4!$E$2:$E$8409,Sheet3!CT$4,Sheet4!$A$2:$A$8409,Sheet3!$B$1,Sheet4!$B$2:$B$8409,Sheet3!$A$3)","v":0},{"$f":"+IF(SUMIFS(Sheet4!$DN$2:$DN$8409,Sheet4!$C$2:$C$8409,Sheet3!$B22,Sheet4!$D$2:$D$8409,Sheet3!CU$3,Sheet4!$A$2:$A$8409,Sheet3!$B$1,Sheet4!$B$2:$B$8409,Sheet3!$A$3)<3,0,SUMIFS(Sheet4!$DN$2:$DN$8409,Sheet4!$C$2:$C$8409,Sheet3!$B22,Sheet4!$D$2:$D$8409,Sheet3!CU$3,Sheet4!$A$2:$A$8409,Sheet3!$B$1,Sheet4!$B$2:$B$8409,Sheet3!$A$3))","v":0},{"$f":"+IF(SUMIFS(Sheet4!$DN$2:$DN$8409,Sheet4!$C$2:$C$8409,Sheet3!$B22,Sheet4!$D$2:$D$8409,Sheet3!CV$3,Sheet4!$A$2:$A$8409,Sheet3!$B$1,Sheet4!$B$2:$B$8409,Sheet3!$A$3)<3,0,SUMIFS(Sheet4!$DN$2:$DN$8409,Sheet4!$C$2:$C$8409,Sheet3!$B22,Sheet4!$D$2:$D$8409,Sheet3!CV$3,Sheet4!$A$2:$A$8409,Sheet3!$B$1,Sheet4!$B$2:$B$8409,Sheet3!$A$3))","v":0},{"$f":"+IF(SUMIFS(Sheet4!$DN$2:$DN$8409,Sheet4!$C$2:$C$8409,Sheet3!$B22,Sheet4!$D$2:$D$8409,Sheet3!CW$3,Sheet4!$A$2:$A$8409,Sheet3!$B$1,Sheet4!$B$2:$B$8409,Sheet3!$A$3)<3,0,SUMIFS(Sheet4!$DN$2:$DN$8409,Sheet4!$C$2:$C$8409,Sheet3!$B22,Sheet4!$D$2:$D$8409,Sheet3!CW$3,Sheet4!$A$2:$A$8409,Sheet3!$B$1,Sheet4!$B$2:$B$8409,Sheet3!$A$3))","v":0},{"$f":"+IF(SUMIFS(Sheet4!$DN$2:$DN$8409,Sheet4!$C$2:$C$8409,Sheet3!$B22,Sheet4!$D$2:$D$8409,Sheet3!CX$3,Sheet4!$A$2:$A$8409,Sheet3!$B$1,Sheet4!$B$2:$B$8409,Sheet3!$A$3)<3,0,SUMIFS(Sheet4!$DN$2:$DN$8409,Sheet4!$C$2:$C$8409,Sheet3!$B22,Sheet4!$D$2:$D$8409,Sheet3!CX$3,Sheet4!$A$2:$A$8409,Sheet3!$B$1,Sheet4!$B$2:$B$8409,Sheet3!$A$3))","v":0},{"$f":"+IF(SUMIFS(Sheet4!$DN$2:$DN$8409,Sheet4!$C$2:$C$8409,Sheet3!$B22,Sheet4!$D$2:$D$8409,Sheet3!CY$3,Sheet4!$A$2:$A$8409,Sheet3!$B$1,Sheet4!$B$2:$B$8409,Sheet3!$A$3)<3,0,SUMIFS(Sheet4!$DN$2:$DN$8409,Sheet4!$C$2:$C$8409,Sheet3!$B22,Sheet4!$D$2:$D$8409,Sheet3!CY$3,Sheet4!$A$2:$A$8409,Sheet3!$B$1,Sheet4!$B$2:$B$8409,Sheet3!$A$3))","v":0},{"$f":"+IF(SUMIFS(Sheet4!$DN$2:$DN$8409,Sheet4!$C$2:$C$8409,Sheet3!$B22,Sheet4!$D$2:$D$8409,Sheet3!CZ$3,Sheet4!$A$2:$A$8409,Sheet3!$B$1,Sheet4!$B$2:$B$8409,Sheet3!$A$3)<3,0,SUMIFS(Sheet4!$DN$2:$DN$8409,Sheet4!$C$2:$C$8409,Sheet3!$B22,Sheet4!$D$2:$D$8409,Sheet3!CZ$3,Sheet4!$A$2:$A$8409,Sheet3!$B$1,Sheet4!$B$2:$B$8409,Sheet3!$A$3))","v":0},{"$f":"+IF(SUMIFS(Sheet4!$DN$2:$DN$8409,Sheet4!$C$2:$C$8409,Sheet3!$B22,Sheet4!$D$2:$D$8409,Sheet3!DA$3,Sheet4!$A$2:$A$8409,Sheet3!$B$1,Sheet4!$B$2:$B$8409,Sheet3!$A$3)<3,0,SUMIFS(Sheet4!$DN$2:$DN$8409,Sheet4!$C$2:$C$8409,Sheet3!$B22,Sheet4!$D$2:$D$8409,Sheet3!DA$3,Sheet4!$A$2:$A$8409,Sheet3!$B$1,Sheet4!$B$2:$B$8409,Sheet3!$A$3))","v":0},{"$f":"+IF(SUMIFS(Sheet4!$DN$2:$DN$8409,Sheet4!$C$2:$C$8409,Sheet3!$B22,Sheet4!$D$2:$D$8409,Sheet3!DB$3,Sheet4!$A$2:$A$8409,Sheet3!$B$1,Sheet4!$B$2:$B$8409,Sheet3!$A$3)<3,0,SUMIFS(Sheet4!$DN$2:$DN$8409,Sheet4!$C$2:$C$8409,Sheet3!$B22,Sheet4!$D$2:$D$8409,Sheet3!DB$3,Sheet4!$A$2:$A$8409,Sheet3!$B$1,Sheet4!$B$2:$B$8409,Sheet3!$A$3))","v":907.74},{"$f":"+IF(SUMIFS(Sheet4!$DN$2:$DN$8409,Sheet4!$C$2:$C$8409,Sheet3!$B22,Sheet4!$D$2:$D$8409,Sheet3!DC$3,Sheet4!$A$2:$A$8409,Sheet3!$B$1,Sheet4!$B$2:$B$8409,Sheet3!$A$3)<3,0,SUMIFS(Sheet4!$DN$2:$DN$8409,Sheet4!$C$2:$C$8409,Sheet3!$B22,Sheet4!$D$2:$D$8409,Sheet3!DC$3,Sheet4!$A$2:$A$8409,Sheet3!$B$1,Sheet4!$B$2:$B$8409,Sheet3!$A$3))","v":0},{"$f":"+IF(SUMIFS(Sheet4!$DN$2:$DN$8409,Sheet4!$C$2:$C$8409,Sheet3!$B22,Sheet4!$D$2:$D$8409,Sheet3!DD$3,Sheet4!$A$2:$A$8409,Sheet3!$B$1,Sheet4!$B$2:$B$8409,Sheet3!$A$3)<3,0,SUMIFS(Sheet4!$DN$2:$DN$8409,Sheet4!$C$2:$C$8409,Sheet3!$B22,Sheet4!$D$2:$D$8409,Sheet3!DD$3,Sheet4!$A$2:$A$8409,Sheet3!$B$1,Sheet4!$B$2:$B$8409,Sheet3!$A$3))","v":0},{"$f":"+IF(SUMIFS(Sheet4!$DN$2:$DN$8409,Sheet4!$C$2:$C$8409,Sheet3!$B22,Sheet4!$D$2:$D$8409,Sheet3!DE$3,Sheet4!$A$2:$A$8409,Sheet3!$B$1,Sheet4!$B$2:$B$8409,Sheet3!$A$3)<3,0,SUMIFS(Sheet4!$DN$2:$DN$8409,Sheet4!$C$2:$C$8409,Sheet3!$B22,Sheet4!$D$2:$D$8409,Sheet3!DE$3,Sheet4!$A$2:$A$8409,Sheet3!$B$1,Sheet4!$B$2:$B$8409,Sheet3!$A$3))","v":0},{"$f":"+IF(SUMIFS(Sheet4!$DN$2:$DN$8409,Sheet4!$C$2:$C$8409,Sheet3!$B22,Sheet4!$D$2:$D$8409,Sheet3!DF$3,Sheet4!$A$2:$A$8409,Sheet3!$B$1,Sheet4!$B$2:$B$8409,Sheet3!$A$3)<3,0,SUMIFS(Sheet4!$DN$2:$DN$8409,Sheet4!$C$2:$C$8409,Sheet3!$B22,Sheet4!$D$2:$D$8409,Sheet3!DF$3,Sheet4!$A$2:$A$8409,Sheet3!$B$1,Sheet4!$B$2:$B$8409,Sheet3!$A$3))","v":0},{"$f":"+IF(SUMIFS(Sheet4!$DN$2:$DN$8409,Sheet4!$C$2:$C$8409,Sheet3!$B22,Sheet4!$D$2:$D$8409,Sheet3!DG$3,Sheet4!$A$2:$A$8409,Sheet3!$B$1,Sheet4!$B$2:$B$8409,Sheet3!$A$3)<3,0,SUMIFS(Sheet4!$DN$2:$DN$8409,Sheet4!$C$2:$C$8409,Sheet3!$B22,Sheet4!$D$2:$D$8409,Sheet3!DG$3,Sheet4!$A$2:$A$8409,Sheet3!$B$1,Sheet4!$B$2:$B$8409,Sheet3!$A$3))","v":0},{"$f":"+IF(SUMIFS(Sheet4!$DN$2:$DN$8409,Sheet4!$C$2:$C$8409,Sheet3!$B22,Sheet4!$D$2:$D$8409,Sheet3!DH$3,Sheet4!$A$2:$A$8409,Sheet3!$B$1,Sheet4!$B$2:$B$8409,Sheet3!$A$3)<3,0,SUMIFS(Sheet4!$DN$2:$DN$8409,Sheet4!$C$2:$C$8409,Sheet3!$B22,Sheet4!$D$2:$D$8409,Sheet3!DH$3,Sheet4!$A$2:$A$8409,Sheet3!$B$1,Sheet4!$B$2:$B$8409,Sheet3!$A$3))","v":5420.2},{"$f":"+IF(SUMIFS(Sheet4!$DN$2:$DN$8409,Sheet4!$C$2:$C$8409,Sheet3!$B22,Sheet4!$D$2:$D$8409,Sheet3!DI$3,Sheet4!$A$2:$A$8409,Sheet3!$B$1,Sheet4!$B$2:$B$8409,Sheet3!$A$3)<3,0,SUMIFS(Sheet4!$DN$2:$DN$8409,Sheet4!$C$2:$C$8409,Sheet3!$B22,Sheet4!$D$2:$D$8409,Sheet3!DI$3,Sheet4!$A$2:$A$8409,Sheet3!$B$1,Sheet4!$B$2:$B$8409,Sheet3!$A$3))","v":8690.56},{"$f":"+IF(SUMIFS(Sheet4!$DN$2:$DN$8409,Sheet4!$C$2:$C$8409,Sheet3!$B22,Sheet4!$D$2:$D$8409,Sheet3!DJ$3,Sheet4!$A$2:$A$8409,Sheet3!$B$1,Sheet4!$B$2:$B$8409,Sheet3!$A$3)<3,0,SUMIFS(Sheet4!$DN$2:$DN$8409,Sheet4!$C$2:$C$8409,Sheet3!$B22,Sheet4!$D$2:$D$8409,Sheet3!DJ$3,Sheet4!$A$2:$A$8409,Sheet3!$B$1,Sheet4!$B$2:$B$8409,Sheet3!$A$3))","v":11068.24},{"$f":"+IF(SUMIFS(Sheet4!$DN$2:$DN$8409,Sheet4!$C$2:$C$8409,Sheet3!$B22,Sheet4!$D$2:$D$8409,Sheet3!DK$3,Sheet4!$A$2:$A$8409,Sheet3!$B$1,Sheet4!$B$2:$B$8409,Sheet3!$A$3)<3,0,SUMIFS(Sheet4!$DN$2:$DN$8409,Sheet4!$C$2:$C$8409,Sheet3!$B22,Sheet4!$D$2:$D$8409,Sheet3!DK$3,Sheet4!$A$2:$A$8409,Sheet3!$B$1,Sheet4!$B$2:$B$8409,Sheet3!$A$3))","v":0},{"$f":"+IF(SUMIFS(Sheet4!$DN$2:$DN$8409,Sheet4!$C$2:$C$8409,Sheet3!$B22,Sheet4!$D$2:$D$8409,Sheet3!DL$3,Sheet4!$A$2:$A$8409,Sheet3!$B$1,Sheet4!$B$2:$B$8409,Sheet3!$A$3)<3,0,SUMIFS(Sheet4!$DN$2:$DN$8409,Sheet4!$C$2:$C$8409,Sheet3!$B22,Sheet4!$D$2:$D$8409,Sheet3!DL$3,Sheet4!$A$2:$A$8409,Sheet3!$B$1,Sheet4!$B$2:$B$8409,Sheet3!$A$3))","v":0},{"$f":"+IF(SUMIFS(Sheet4!$DN$2:$DN$8409,Sheet4!$C$2:$C$8409,Sheet3!$B22,Sheet4!$D$2:$D$8409,Sheet3!DM$3,Sheet4!$A$2:$A$8409,Sheet3!$B$1,Sheet4!$B$2:$B$8409,Sheet3!$A$3)<3,0,SUMIFS(Sheet4!$DN$2:$DN$8409,Sheet4!$C$2:$C$8409,Sheet3!$B22,Sheet4!$D$2:$D$8409,Sheet3!DM$3,Sheet4!$A$2:$A$8409,Sheet3!$B$1,Sheet4!$B$2:$B$8409,Sheet3!$A$3))","v":0},{"$f":"+IF(SUMIFS(Sheet4!$DN$2:$DN$8409,Sheet4!$C$2:$C$8409,Sheet3!$B22,Sheet4!$E$2:$E$8409,Sheet3!DN$4,Sheet4!$A$2:$A$8409,Sheet3!$B$1,Sheet4!$B$2:$B$8409,Sheet3!$A$3)<3,0,SUMIFS(Sheet4!$DN$2:$DN$8409,Sheet4!$C$2:$C$8409,Sheet3!$B22,Sheet4!$E$2:$E$8409,Sheet3!DN$4,Sheet4!$A$2:$A$8409,Sheet3!$B$1,Sheet4!$B$2:$B$8409,Sheet3!$A$3))","v":0},{"$f":"+IF(SUMIFS(Sheet4!$DN$2:$DN$8409,Sheet4!$C$2:$C$8409,Sheet3!$B22,Sheet4!$E$2:$E$8409,Sheet3!DO$4,Sheet4!$A$2:$A$8409,Sheet3!$B$1,Sheet4!$B$2:$B$8409,Sheet3!$A$3)<3,0,SUMIFS(Sheet4!$DN$2:$DN$8409,Sheet4!$C$2:$C$8409,Sheet3!$B22,Sheet4!$E$2:$E$8409,Sheet3!DO$4,Sheet4!$A$2:$A$8409,Sheet3!$B$1,Sheet4!$B$2:$B$8409,Sheet3!$A$3))","v":0},{"$f":"+IF(SUMIFS(Sheet4!$DN$2:$DN$8409,Sheet4!$C$2:$C$8409,Sheet3!$B22,Sheet4!$E$2:$E$8409,Sheet3!DP$4,Sheet4!$A$2:$A$8409,Sheet3!$B$1,Sheet4!$B$2:$B$8409,Sheet3!$A$3)<3,0,SUMIFS(Sheet4!$DN$2:$DN$8409,Sheet4!$C$2:$C$8409,Sheet3!$B22,Sheet4!$E$2:$E$8409,Sheet3!DP$4,Sheet4!$A$2:$A$8409,Sheet3!$B$1,Sheet4!$B$2:$B$8409,Sheet3!$A$3))","v":9598.2999999999993},{"$f":"+IF(SUMIFS(Sheet4!$DN$2:$DN$8409,Sheet4!$C$2:$C$8409,Sheet3!$B22,Sheet4!$E$2:$E$8409,Sheet3!DQ$4,Sheet4!$A$2:$A$8409,Sheet3!$B$1,Sheet4!$B$2:$B$8409,Sheet3!$A$3)<3,0,SUMIFS(Sheet4!$DN$2:$DN$8409,Sheet4!$C$2:$C$8409,Sheet3!$B22,Sheet4!$E$2:$E$8409,Sheet3!DQ$4,Sheet4!$A$2:$A$8409,Sheet3!$B$1,Sheet4!$B$2:$B$8409,Sheet3!$A$3))","v":12727.54},{"$f":"+IF(SUMIFS(Sheet4!$DN$2:$DN$8409,Sheet4!$C$2:$C$8409,Sheet3!$B22,Sheet4!$E$2:$E$8409,Sheet3!DR$4,Sheet4!$A$2:$A$8409,Sheet3!$B$1,Sheet4!$B$2:$B$8409,Sheet3!$A$3)<3,0,SUMIFS(Sheet4!$DN$2:$DN$8409,Sheet4!$C$2:$C$8409,Sheet3!$B22,Sheet4!$E$2:$E$8409,Sheet3!DR$4,Sheet4!$A$2:$A$8409,Sheet3!$B$1,Sheet4!$B$2:$B$8409,Sheet3!$A$3))","v":3760.9}]
[4,"16J","Beiras e Serra da Estrela",{"$f":"+SUMIFS(Sheet4!$DM$2:$DM$8409,Sheet4!$C$2:$C$8409,Sheet3!$B23,Sheet4!$D$2:$D$8409,Sheet3!D$3,Sheet4!$E$2:$E$8409,Sheet3!D$4,Sheet4!$A$2:$A$8409,Sheet3!$B$1,Sheet4!$B$2:$B$8409,Sheet3!$A$3)","v":0},{"$f":"+SUMIFS(Sheet4!$DM$2:$DM$8409,Sheet4!$C$2:$C$8409,Sheet3!$B23,Sheet4!$D$2:$D$8409,Sheet3!E$3,Sheet4!$E$2:$E$8409,Sheet3!E$4,Sheet4!$A$2:$A$8409,Sheet3!$B$1,Sheet4!$B$2:$B$8409,Sheet3!$A$3)","v":0},{"$f":"+SUMIFS(Sheet4!$DM$2:$DM$8409,Sheet4!$C$2:$C$8409,Sheet3!$B23,Sheet4!$D$2:$D$8409,Sheet3!F$3,Sheet4!$E$2:$E$8409,Sheet3!F$4,Sheet4!$A$2:$A$8409,Sheet3!$B$1,Sheet4!$B$2:$B$8409,Sheet3!$A$3)","v":0},{"$f":"+SUMIFS(Sheet4!$DM$2:$DM$8409,Sheet4!$C$2:$C$8409,Sheet3!$B23,Sheet4!$D$2:$D$8409,Sheet3!G$3,Sheet4!$E$2:$E$8409,Sheet3!G$4,Sheet4!$A$2:$A$8409,Sheet3!$B$1,Sheet4!$B$2:$B$8409,Sheet3!$A$3)","v":0},{"$f":"+SUMIFS(Sheet4!$DM$2:$DM$8409,Sheet4!$C$2:$C$8409,Sheet3!$B23,Sheet4!$D$2:$D$8409,Sheet3!H$3,Sheet4!$E$2:$E$8409,Sheet3!H$4,Sheet4!$A$2:$A$8409,Sheet3!$B$1,Sheet4!$B$2:$B$8409,Sheet3!$A$3)","v":0},{"$f":"+SUMIFS(Sheet4!$DM$2:$DM$8409,Sheet4!$C$2:$C$8409,Sheet3!$B23,Sheet4!$D$2:$D$8409,Sheet3!I$3,Sheet4!$E$2:$E$8409,Sheet3!I$4,Sheet4!$A$2:$A$8409,Sheet3!$B$1,Sheet4!$B$2:$B$8409,Sheet3!$A$3)","v":0},{"$f":"+SUMIFS(Sheet4!$DM$2:$DM$8409,Sheet4!$C$2:$C$8409,Sheet3!$B23,Sheet4!$D$2:$D$8409,Sheet3!J$3,Sheet4!$E$2:$E$8409,Sheet3!J$4,Sheet4!$A$2:$A$8409,Sheet3!$B$1,Sheet4!$B$2:$B$8409,Sheet3!$A$3)","v":0},{"$f":"+SUMIFS(Sheet4!$DM$2:$DM$8409,Sheet4!$C$2:$C$8409,Sheet3!$B23,Sheet4!$D$2:$D$8409,Sheet3!K$3,Sheet4!$E$2:$E$8409,Sheet3!K$4,Sheet4!$A$2:$A$8409,Sheet3!$B$1,Sheet4!$B$2:$B$8409,Sheet3!$A$3)","v":0},{"$f":"+SUMIFS(Sheet4!$DM$2:$DM$8409,Sheet4!$C$2:$C$8409,Sheet3!$B23,Sheet4!$D$2:$D$8409,Sheet3!L$3,Sheet4!$E$2:$E$8409,Sheet3!L$4,Sheet4!$A$2:$A$8409,Sheet3!$B$1,Sheet4!$B$2:$B$8409,Sheet3!$A$3)","v":0},{"$f":"+SUMIFS(Sheet4!$DM$2:$DM$8409,Sheet4!$C$2:$C$8409,Sheet3!$B23,Sheet4!$D$2:$D$8409,Sheet3!M$3,Sheet4!$E$2:$E$8409,Sheet3!M$4,Sheet4!$A$2:$A$8409,Sheet3!$B$1,Sheet4!$B$2:$B$8409,Sheet3!$A$3)","v":0},{"$f":"+SUMIFS(Sheet4!$DM$2:$DM$8409,Sheet4!$C$2:$C$8409,Sheet3!$B23,Sheet4!$D$2:$D$8409,Sheet3!N$3,Sheet4!$E$2:$E$8409,Sheet3!N$4,Sheet4!$A$2:$A$8409,Sheet3!$B$1,Sheet4!$B$2:$B$8409,Sheet3!$A$3)","v":0},{"$f":"+SUMIFS(Sheet4!$DM$2:$DM$8409,Sheet4!$C$2:$C$8409,Sheet3!$B23,Sheet4!$D$2:$D$8409,Sheet3!O$3,Sheet4!$E$2:$E$8409,Sheet3!O$4,Sheet4!$A$2:$A$8409,Sheet3!$B$1,Sheet4!$B$2:$B$8409,Sheet3!$A$3)","v":0},{"$f":"+SUMIFS(Sheet4!$DM$2:$DM$8409,Sheet4!$C$2:$C$8409,Sheet3!$B23,Sheet4!$D$2:$D$8409,Sheet3!P$3,Sheet4!$E$2:$E$8409,Sheet3!P$4,Sheet4!$A$2:$A$8409,Sheet3!$B$1,Sheet4!$B$2:$B$8409,Sheet3!$A$3)","v":0},{"$f":"+SUMIFS(Sheet4!$DM$2:$DM$8409,Sheet4!$C$2:$C$8409,Sheet3!$B23,Sheet4!$D$2:$D$8409,Sheet3!Q$3,Sheet4!$E$2:$E$8409,Sheet3!Q$4,Sheet4!$A$2:$A$8409,Sheet3!$B$1,Sheet4!$B$2:$B$8409,Sheet3!$A$3)","v":0},{"$f":"+SUMIFS(Sheet4!$DM$2:$DM$8409,Sheet4!$C$2:$C$8409,Sheet3!$B23,Sheet4!$D$2:$D$8409,Sheet3!R$3,Sheet4!$E$2:$E$8409,Sheet3!R$4,Sheet4!$A$2:$A$8409,Sheet3!$B$1,Sheet4!$B$2:$B$8409,Sheet3!$A$3)","v":0},{"$f":"+SUMIFS(Sheet4!$DM$2:$DM$8409,Sheet4!$C$2:$C$8409,Sheet3!$B23,Sheet4!$D$2:$D$8409,Sheet3!S$3,Sheet4!$E$2:$E$8409,Sheet3!S$4,Sheet4!$A$2:$A$8409,Sheet3!$B$1,Sheet4!$B$2:$B$8409,Sheet3!$A$3)","v":0},{"$f":"+SUMIFS(Sheet4!$DM$2:$DM$8409,Sheet4!$C$2:$C$8409,Sheet3!$B23,Sheet4!$D$2:$D$8409,Sheet3!T$3,Sheet4!$E$2:$E$8409,Sheet3!T$4,Sheet4!$A$2:$A$8409,Sheet3!$B$1,Sheet4!$B$2:$B$8409,Sheet3!$A$3)","v":0},{"$f":"+SUMIFS(Sheet4!$DM$2:$DM$8409,Sheet4!$C$2:$C$8409,Sheet3!$B23,Sheet4!$D$2:$D$8409,Sheet3!U$3,Sheet4!$E$2:$E$8409,Sheet3!U$4,Sheet4!$A$2:$A$8409,Sheet3!$B$1,Sheet4!$B$2:$B$8409,Sheet3!$A$3)","v":0},{"$f":"+SUMIFS(Sheet4!$DM$2:$DM$8409,Sheet4!$C$2:$C$8409,Sheet3!$B23,Sheet4!$D$2:$D$8409,Sheet3!V$3,Sheet4!$E$2:$E$8409,Sheet3!V$4,Sheet4!$A$2:$A$8409,Sheet3!$B$1,Sheet4!$B$2:$B$8409,Sheet3!$A$3)","v":0},{"$f":"+SUMIFS(Sheet4!$DM$2:$DM$8409,Sheet4!$C$2:$C$8409,Sheet3!$B23,Sheet4!$D$2:$D$8409,Sheet3!W$3,Sheet4!$E$2:$E$8409,Sheet3!W$4,Sheet4!$A$2:$A$8409,Sheet3!$B$1,Sheet4!$B$2:$B$8409,Sheet3!$A$3)","v":0},{"$f":"+SUMIFS(Sheet4!$DM$2:$DM$8409,Sheet4!$C$2:$C$8409,Sheet3!$B23,Sheet4!$D$2:$D$8409,Sheet3!X$3,Sheet4!$E$2:$E$8409,Sheet3!X$4,Sheet4!$A$2:$A$8409,Sheet3!$B$1,Sheet4!$B$2:$B$8409,Sheet3!$A$3)","v":0},{"$f":"+SUMIFS(Sheet4!$DM$2:$DM$8409,Sheet4!$C$2:$C$8409,Sheet3!$B23,Sheet4!$D$2:$D$8409,Sheet3!Y$3,Sheet4!$E$2:$E$8409,Sheet3!Y$4,Sheet4!$A$2:$A$8409,Sheet3!$B$1,Sheet4!$B$2:$B$8409,Sheet3!$A$3)","v":0},{"$f":"+SUMIFS(Sheet4!$DM$2:$DM$8409,Sheet4!$C$2:$C$8409,Sheet3!$B23,Sheet4!$D$2:$D$8409,Sheet3!Z$3,Sheet4!$E$2:$E$8409,Sheet3!Z$4,Sheet4!$A$2:$A$8409,Sheet3!$B$1,Sheet4!$B$2:$B$8409,Sheet3!$A$3)","v":0},{"$f":"+SUMIFS(Sheet4!$DM$2:$DM$8409,Sheet4!$C$2:$C$8409,Sheet3!$B23,Sheet4!$D$2:$D$8409,Sheet3!AA$3,Sheet4!$E$2:$E$8409,Sheet3!AA$4,Sheet4!$A$2:$A$8409,Sheet3!$B$1,Sheet4!$B$2:$B$8409,Sheet3!$A$3)","v":0},{"$f":"+SUMIFS(Sheet4!$DM$2:$DM$8409,Sheet4!$C$2:$C$8409,Sheet3!$B23,Sheet4!$D$2:$D$8409,Sheet3!AB$3,Sheet4!$E$2:$E$8409,Sheet3!AB$4,Sheet4!$A$2:$A$8409,Sheet3!$B$1,Sheet4!$B$2:$B$8409,Sheet3!$A$3)","v":0},{"$f":"+SUMIFS(Sheet4!$DM$2:$DM$8409,Sheet4!$C$2:$C$8409,Sheet3!$B23,Sheet4!$D$2:$D$8409,Sheet3!AC$3,Sheet4!$E$2:$E$8409,Sheet3!AC$4,Sheet4!$A$2:$A$8409,Sheet3!$B$1,Sheet4!$B$2:$B$8409,Sheet3!$A$3)","v":0},{"$f":"+SUMIFS(Sheet4!$DM$2:$DM$8409,Sheet4!$C$2:$C$8409,Sheet3!$B23,Sheet4!$D$2:$D$8409,Sheet3!AD$3,Sheet4!$E$2:$E$8409,Sheet3!AD$4,Sheet4!$A$2:$A$8409,Sheet3!$B$1,Sheet4!$B$2:$B$8409,Sheet3!$A$3)","v":187},{"$f":"+SUMIFS(Sheet4!$DM$2:$DM$8409,Sheet4!$C$2:$C$8409,Sheet3!$B23,Sheet4!$D$2:$D$8409,Sheet3!AE$3,Sheet4!$E$2:$E$8409,Sheet3!AE$4,Sheet4!$A$2:$A$8409,Sheet3!$B$1,Sheet4!$B$2:$B$8409,Sheet3!$A$3)","v":1541.11},{"$f":"+SUMIFS(Sheet4!$DM$2:$DM$8409,Sheet4!$C$2:$C$8409,Sheet3!$B23,Sheet4!$D$2:$D$8409,Sheet3!AF$3,Sheet4!$E$2:$E$8409,Sheet3!AF$4,Sheet4!$A$2:$A$8409,Sheet3!$B$1,Sheet4!$B$2:$B$8409,Sheet3!$A$3)","v":0},{"$f":"+SUMIFS(Sheet4!$DM$2:$DM$8409,Sheet4!$C$2:$C$8409,Sheet3!$B23,Sheet4!$D$2:$D$8409,Sheet3!AG$3,Sheet4!$E$2:$E$8409,Sheet3!AG$4,Sheet4!$A$2:$A$8409,Sheet3!$B$1,Sheet4!$B$2:$B$8409,Sheet3!$A$3)","v":0},{"$f":"+SUMIFS(Sheet4!$DM$2:$DM$8409,Sheet4!$C$2:$C$8409,Sheet3!$B23,Sheet4!$D$2:$D$8409,Sheet3!AH$3,Sheet4!$E$2:$E$8409,Sheet3!AH$4,Sheet4!$A$2:$A$8409,Sheet3!$B$1,Sheet4!$B$2:$B$8409,Sheet3!$A$3)","v":0},{"$f":"+SUMIFS(Sheet4!$DM$2:$DM$8409,Sheet4!$C$2:$C$8409,Sheet3!$B23,Sheet4!$D$2:$D$8409,Sheet3!AI$3,Sheet4!$E$2:$E$8409,Sheet3!AI$4,Sheet4!$A$2:$A$8409,Sheet3!$B$1,Sheet4!$B$2:$B$8409,Sheet3!$A$3)","v":404},{"$f":"+SUMIFS(Sheet4!$DM$2:$DM$8409,Sheet4!$C$2:$C$8409,Sheet3!$B23,Sheet4!$D$2:$D$8409,Sheet3!AJ$3,Sheet4!$E$2:$E$8409,Sheet3!AJ$4,Sheet4!$A$2:$A$8409,Sheet3!$B$1,Sheet4!$B$2:$B$8409,Sheet3!$A$3)","v":0},{"$f":"+SUMIFS(Sheet4!$DM$2:$DM$8409,Sheet4!$C$2:$C$8409,Sheet3!$B23,Sheet4!$D$2:$D$8409,Sheet3!AK$3,Sheet4!$E$2:$E$8409,Sheet3!AK$4,Sheet4!$A$2:$A$8409,Sheet3!$B$1,Sheet4!$B$2:$B$8409,Sheet3!$A$3)","v":0},{"$f":"+SUMIFS(Sheet4!$DM$2:$DM$8409,Sheet4!$C$2:$C$8409,Sheet3!$B23,Sheet4!$D$2:$D$8409,Sheet3!AL$3,Sheet4!$E$2:$E$8409,Sheet3!AL$4,Sheet4!$A$2:$A$8409,Sheet3!$B$1,Sheet4!$B$2:$B$8409,Sheet3!$A$3)","v":0},{"$f":"+SUMIFS(Sheet4!$DM$2:$DM$8409,Sheet4!$C$2:$C$8409,Sheet3!$B23,Sheet4!$D$2:$D$8409,Sheet3!AM$3,Sheet4!$E$2:$E$8409,Sheet3!AM$4,Sheet4!$A$2:$A$8409,Sheet3!$B$1,Sheet4!$B$2:$B$8409,Sheet3!$A$3)","v":0},{"$f":"+SUMIFS(Sheet4!$DM$2:$DM$8409,Sheet4!$C$2:$C$8409,Sheet3!$B23,Sheet4!$D$2:$D$8409,Sheet3!AN$3,Sheet4!$E$2:$E$8409,Sheet3!AN$4,Sheet4!$A$2:$A$8409,Sheet3!$B$1,Sheet4!$B$2:$B$8409,Sheet3!$A$3)","v":0},{"$f":"+SUMIFS(Sheet4!$DM$2:$DM$8409,Sheet4!$C$2:$C$8409,Sheet3!$B23,Sheet4!$D$2:$D$8409,Sheet3!AO$3,Sheet4!$E$2:$E$8409,Sheet3!AO$4,Sheet4!$A$2:$A$8409,Sheet3!$B$1,Sheet4!$B$2:$B$8409,Sheet3!$A$3)","v":0},{"$f":"+SUMIFS(Sheet4!$DM$2:$DM$8409,Sheet4!$C$2:$C$8409,Sheet3!$B23,Sheet4!$D$2:$D$8409,Sheet3!AP$3,Sheet4!$E$2:$E$8409,Sheet3!AP$4,Sheet4!$A$2:$A$8409,Sheet3!$B$1,Sheet4!$B$2:$B$8409,Sheet3!$A$3)","v":0},{"$f":"+SUMIFS(Sheet4!$DM$2:$DM$8409,Sheet4!$C$2:$C$8409,Sheet3!$B23,Sheet4!$D$2:$D$8409,Sheet3!AQ$3,Sheet4!$E$2:$E$8409,Sheet3!AQ$4,Sheet4!$A$2:$A$8409,Sheet3!$B$1,Sheet4!$B$2:$B$8409,Sheet3!$A$3)","v":0},{"$f":"+SUMIFS(Sheet4!$DM$2:$DM$8409,Sheet4!$C$2:$C$8409,Sheet3!$B23,Sheet4!$D$2:$D$8409,Sheet3!AR$3,Sheet4!$E$2:$E$8409,Sheet3!AR$4,Sheet4!$A$2:$A$8409,Sheet3!$B$1,Sheet4!$B$2:$B$8409,Sheet3!$A$3)","v":0},{"$f":"+SUMIFS(Sheet4!$DM$2:$DM$8409,Sheet4!$C$2:$C$8409,Sheet3!$B23,Sheet4!$D$2:$D$8409,Sheet3!AS$3,Sheet4!$E$2:$E$8409,Sheet3!AS$4,Sheet4!$A$2:$A$8409,Sheet3!$B$1,Sheet4!$B$2:$B$8409,Sheet3!$A$3)","v":0},{"$f":"+SUMIFS(Sheet4!$DM$2:$DM$8409,Sheet4!$C$2:$C$8409,Sheet3!$B23,Sheet4!$D$2:$D$8409,Sheet3!AT$3,Sheet4!$E$2:$E$8409,Sheet3!AT$4,Sheet4!$A$2:$A$8409,Sheet3!$B$1,Sheet4!$B$2:$B$8409,Sheet3!$A$3)","v":0},{"$f":"+SUMIFS(Sheet4!$DM$2:$DM$8409,Sheet4!$C$2:$C$8409,Sheet3!$B23,Sheet4!$D$2:$D$8409,Sheet3!AU$3,Sheet4!$E$2:$E$8409,Sheet3!AU$4,Sheet4!$A$2:$A$8409,Sheet3!$B$1,Sheet4!$B$2:$B$8409,Sheet3!$A$3)","v":0},{"$f":"+SUMIFS(Sheet4!$DM$2:$DM$8409,Sheet4!$C$2:$C$8409,Sheet3!$B23,Sheet4!$D$2:$D$8409,Sheet3!AV$3,Sheet4!$E$2:$E$8409,Sheet3!AV$4,Sheet4!$A$2:$A$8409,Sheet3!$B$1,Sheet4!$B$2:$B$8409,Sheet3!$A$3)","v":0},{"$f":"+SUMIFS(Sheet4!$DM$2:$DM$8409,Sheet4!$C$2:$C$8409,Sheet3!$B23,Sheet4!$D$2:$D$8409,Sheet3!AW$3,Sheet4!$E$2:$E$8409,Sheet3!AW$4,Sheet4!$A$2:$A$8409,Sheet3!$B$1,Sheet4!$B$2:$B$8409,Sheet3!$A$3)","v":0},{"$f":"+SUMIFS(Sheet4!$DM$2:$DM$8409,Sheet4!$C$2:$C$8409,Sheet3!$B23,Sheet4!$D$2:$D$8409,Sheet3!AX$3,Sheet4!$E$2:$E$8409,Sheet3!AX$4,Sheet4!$A$2:$A$8409,Sheet3!$B$1,Sheet4!$B$2:$B$8409,Sheet3!$A$3)","v":368.7},{"$f":"+SUMIFS(Sheet4!$DM$2:$DM$8409,Sheet4!$C$2:$C$8409,Sheet3!$B23,Sheet4!$D$2:$D$8409,Sheet3!AY$3,Sheet4!$E$2:$E$8409,Sheet3!AY$4,Sheet4!$A$2:$A$8409,Sheet3!$B$1,Sheet4!$B$2:$B$8409,Sheet3!$A$3)","v":0},{"$f":"+SUMIFS(Sheet4!$DM$2:$DM$8409,Sheet4!$C$2:$C$8409,Sheet3!$B23,Sheet4!$D$2:$D$8409,Sheet3!AZ$3,Sheet4!$E$2:$E$8409,Sheet3!AZ$4,Sheet4!$A$2:$A$8409,Sheet3!$B$1,Sheet4!$B$2:$B$8409,Sheet3!$A$3)","v":0},{"$f":"+SUMIFS(Sheet4!$DM$2:$DM$8409,Sheet4!$C$2:$C$8409,Sheet3!$B23,Sheet4!$D$2:$D$8409,Sheet3!BA$3,Sheet4!$E$2:$E$8409,Sheet3!BA$4,Sheet4!$A$2:$A$8409,Sheet3!$B$1,Sheet4!$B$2:$B$8409,Sheet3!$A$3)","v":0},{"$f":"+SUMIFS(Sheet4!$DM$2:$DM$8409,Sheet4!$C$2:$C$8409,Sheet3!$B23,Sheet4!$D$2:$D$8409,Sheet3!BB$3,Sheet4!$E$2:$E$8409,Sheet3!BB$4,Sheet4!$A$2:$A$8409,Sheet3!$B$1,Sheet4!$B$2:$B$8409,Sheet3!$A$3)","v":0},{"$f":"+SUMIFS(Sheet4!$DM$2:$DM$8409,Sheet4!$C$2:$C$8409,Sheet3!$B23,Sheet4!$D$2:$D$8409,Sheet3!BC$3,Sheet4!$E$2:$E$8409,Sheet3!BC$4,Sheet4!$A$2:$A$8409,Sheet3!$B$1,Sheet4!$B$2:$B$8409,Sheet3!$A$3)","v":0},{"$f":"+SUMIFS(Sheet4!$DM$2:$DM$8409,Sheet4!$C$2:$C$8409,Sheet3!$B23,Sheet4!$D$2:$D$8409,Sheet3!BD$3,Sheet4!$E$2:$E$8409,Sheet3!BD$4,Sheet4!$A$2:$A$8409,Sheet3!$B$1,Sheet4!$B$2:$B$8409,Sheet3!$A$3)","v":0},{"$f":"+SUMIFS(Sheet4!$DM$2:$DM$8409,Sheet4!$C$2:$C$8409,Sheet3!$B23,Sheet4!$D$2:$D$8409,Sheet3!BE$3,Sheet4!$E$2:$E$8409,Sheet3!BE$4,Sheet4!$A$2:$A$8409,Sheet3!$B$1,Sheet4!$B$2:$B$8409,Sheet3!$A$3)","v":0},{"$f":"+SUMIFS(Sheet4!$DM$2:$DM$8409,Sheet4!$C$2:$C$8409,Sheet3!$B23,Sheet4!$D$2:$D$8409,Sheet3!BF$3,Sheet4!$E$2:$E$8409,Sheet3!BF$4,Sheet4!$A$2:$A$8409,Sheet3!$B$1,Sheet4!$B$2:$B$8409,Sheet3!$A$3)","v":0},{"$f":"+SUMIFS(Sheet4!$DM$2:$DM$8409,Sheet4!$C$2:$C$8409,Sheet3!$B23,Sheet4!$D$2:$D$8409,Sheet3!BG$3,Sheet4!$E$2:$E$8409,Sheet3!BG$4,Sheet4!$A$2:$A$8409,Sheet3!$B$1,Sheet4!$B$2:$B$8409,Sheet3!$A$3)","v":0},{"$f":"+SUMIFS(Sheet4!$DM$2:$DM$8409,Sheet4!$C$2:$C$8409,Sheet3!$B23,Sheet4!$D$2:$D$8409,Sheet3!BH$3,Sheet4!$E$2:$E$8409,Sheet3!BH$4,Sheet4!$A$2:$A$8409,Sheet3!$B$1,Sheet4!$B$2:$B$8409,Sheet3!$A$3)","v":0},{"$f":"+SUMIFS(Sheet4!$DM$2:$DM$8409,Sheet4!$C$2:$C$8409,Sheet3!$B23,Sheet4!$D$2:$D$8409,Sheet3!BI$3,Sheet4!$E$2:$E$8409,Sheet3!BI$4,Sheet4!$A$2:$A$8409,Sheet3!$B$1,Sheet4!$B$2:$B$8409,Sheet3!$A$3)","v":0},{"$f":"+SUMIFS(Sheet4!$DM$2:$DM$8409,Sheet4!$C$2:$C$8409,Sheet3!$B23,Sheet4!$D$2:$D$8409,Sheet3!BJ$3,Sheet4!$E$2:$E$8409,Sheet3!BJ$4,Sheet4!$A$2:$A$8409,Sheet3!$B$1,Sheet4!$B$2:$B$8409,Sheet3!$A$3)","v":0},{"$f":"+SUMIFS(Sheet4!$DM$2:$DM$8409,Sheet4!$C$2:$C$8409,Sheet3!$B23,Sheet4!$D$2:$D$8409,Sheet3!BK$3,Sheet4!$E$2:$E$8409,Sheet3!BK$4,Sheet4!$A$2:$A$8409,Sheet3!$B$1,Sheet4!$B$2:$B$8409,Sheet3!$A$3)","v":0},{"$f":"+SUMIFS(Sheet4!$DM$2:$DM$8409,Sheet4!$C$2:$C$8409,Sheet3!$B23,Sheet4!$D$2:$D$8409,Sheet3!BL$3,Sheet4!$E$2:$E$8409,Sheet3!BL$4,Sheet4!$A$2:$A$8409,Sheet3!$B$1,Sheet4!$B$2:$B$8409,Sheet3!$A$3)","v":0},{"$f":"+SUMIFS(Sheet4!$DM$2:$DM$8409,Sheet4!$C$2:$C$8409,Sheet3!$B23,Sheet4!$D$2:$D$8409,Sheet3!BM$3,Sheet4!$E$2:$E$8409,Sheet3!BM$4,Sheet4!$A$2:$A$8409,Sheet3!$B$1,Sheet4!$B$2:$B$8409,Sheet3!$A$3)","v":0},{"$f":"+SUMIFS(Sheet4!$DM$2:$DM$8409,Sheet4!$C$2:$C$8409,Sheet3!$B23,Sheet4!$D$2:$D$8409,Sheet3!BN$3,Sheet4!$E$2:$E$8409,Sheet3!BN$4,Sheet4!$A$2:$A$8409,Sheet3!$B$1,Sheet4!$B$2:$B$8409,Sheet3!$A$3)","v":0},{"$f":"+SUMIFS(Sheet4!$DM$2:$DM$8409,Sheet4!$C$2:$C$8409,Sheet3!$B23,Sheet4!$D$2:$D$8409,Sheet3!BO$3,Sheet4!$E$2:$E$8409,Sheet3!BO$4,Sheet4!$A$2:$A$8409,Sheet3!$B$1,Sheet4!$B$2:$B$8409,Sheet3!$A$3)","v":0},{"$f":"+SUMIFS(Sheet4!$DM$2:$DM$8409,Sheet4!$C$2:$C$8409,Sheet3!$B23,Sheet4!$D$2:$D$8409,Sheet3!BP$3,Sheet4!$E$2:$E$8409,Sheet3!BP$4,Sheet4!$A$2:$A$8409,Sheet3!$B$1,Sheet4!$B$2:$B$8409,Sheet3!$A$3)","v":0},{"$f":"+SUMIFS(Sheet4!$DM$2:$DM$8409,Sheet4!$C$2:$C$8409,Sheet3!$B23,Sheet4!$D$2:$D$8409,Sheet3!BQ$3,Sheet4!$E$2:$E$8409,Sheet3!BQ$4,Sheet4!$A$2:$A$8409,Sheet3!$B$1,Sheet4!$B$2:$B$8409,Sheet3!$A$3)","v":0},{"$f":"+SUMIFS(Sheet4!$DM$2:$DM$8409,Sheet4!$C$2:$C$8409,Sheet3!$B23,Sheet4!$D$2:$D$8409,Sheet3!BR$3,Sheet4!$E$2:$E$8409,Sheet3!BR$4,Sheet4!$A$2:$A$8409,Sheet3!$B$1,Sheet4!$B$2:$B$8409,Sheet3!$A$3)","v":179.27},{"$f":"+SUMIFS(Sheet4!$DM$2:$DM$8409,Sheet4!$C$2:$C$8409,Sheet3!$B23,Sheet4!$D$2:$D$8409,Sheet3!BS$3,Sheet4!$E$2:$E$8409,Sheet3!BS$4,Sheet4!$A$2:$A$8409,Sheet3!$B$1,Sheet4!$B$2:$B$8409,Sheet3!$A$3)","v":39362.629999999997},{"$f":"+SUMIFS(Sheet4!$DM$2:$DM$8409,Sheet4!$C$2:$C$8409,Sheet3!$B23,Sheet4!$D$2:$D$8409,Sheet3!BT$3,Sheet4!$E$2:$E$8409,Sheet3!BT$4,Sheet4!$A$2:$A$8409,Sheet3!$B$1,Sheet4!$B$2:$B$8409,Sheet3!$A$3)","v":12510.7},{"$f":"+SUMIFS(Sheet4!$DM$2:$DM$8409,Sheet4!$C$2:$C$8409,Sheet3!$B23,Sheet4!$D$2:$D$8409,Sheet3!BU$3,Sheet4!$E$2:$E$8409,Sheet3!BU$4,Sheet4!$A$2:$A$8409,Sheet3!$B$1,Sheet4!$B$2:$B$8409,Sheet3!$A$3)","v":0},{"$f":"+SUMIFS(Sheet4!$DM$2:$DM$8409,Sheet4!$C$2:$C$8409,Sheet3!$B23,Sheet4!$D$2:$D$8409,Sheet3!BV$3,Sheet4!$E$2:$E$8409,Sheet3!BV$4,Sheet4!$A$2:$A$8409,Sheet3!$B$1,Sheet4!$B$2:$B$8409,Sheet3!$A$3)","v":0},{"$f":"+SUMIFS(Sheet4!$DM$2:$DM$8409,Sheet4!$C$2:$C$8409,Sheet3!$B23,Sheet4!$D$2:$D$8409,Sheet3!BW$3,Sheet4!$E$2:$E$8409,Sheet3!BW$4,Sheet4!$A$2:$A$8409,Sheet3!$B$1,Sheet4!$B$2:$B$8409,Sheet3!$A$3)","v":494.05},{"$f":"+SUMIFS(Sheet4!$DM$2:$DM$8409,Sheet4!$C$2:$C$8409,Sheet3!$B23,Sheet4!$D$2:$D$8409,Sheet3!BX$3,Sheet4!$E$2:$E$8409,Sheet3!BX$4,Sheet4!$A$2:$A$8409,Sheet3!$B$1,Sheet4!$B$2:$B$8409,Sheet3!$A$3)","v":5290.83},{"$f":"+SUMIFS(Sheet4!$DM$2:$DM$8409,Sheet4!$C$2:$C$8409,Sheet3!$B23,Sheet4!$D$2:$D$8409,Sheet3!BY$3,Sheet4!$E$2:$E$8409,Sheet3!BY$4,Sheet4!$A$2:$A$8409,Sheet3!$B$1,Sheet4!$B$2:$B$8409,Sheet3!$A$3)","v":857.2},{"$f":"+SUMIFS(Sheet4!$DM$2:$DM$8409,Sheet4!$C$2:$C$8409,Sheet3!$B23,Sheet4!$D$2:$D$8409,Sheet3!BZ$3,Sheet4!$E$2:$E$8409,Sheet3!BZ$4,Sheet4!$A$2:$A$8409,Sheet3!$B$1,Sheet4!$B$2:$B$8409,Sheet3!$A$3)","v":0},{"$f":"+SUMIFS(Sheet4!$DM$2:$DM$8409,Sheet4!$C$2:$C$8409,Sheet3!$B23,Sheet4!$D$2:$D$8409,Sheet3!CA$3,Sheet4!$E$2:$E$8409,Sheet3!CA$4,Sheet4!$A$2:$A$8409,Sheet3!$B$1,Sheet4!$B$2:$B$8409,Sheet3!$A$3)","v":93.5},{"$f":"+SUMIFS(Sheet4!$DM$2:$DM$8409,Sheet4!$C$2:$C$8409,Sheet3!$B23,Sheet4!$D$2:$D$8409,Sheet3!CB$3,Sheet4!$E$2:$E$8409,Sheet3!CB$4,Sheet4!$A$2:$A$8409,Sheet3!$B$1,Sheet4!$B$2:$B$8409,Sheet3!$A$3)","v":477.89},{"$f":"+SUMIFS(Sheet4!$DM$2:$DM$8409,Sheet4!$C$2:$C$8409,Sheet3!$B23,Sheet4!$D$2:$D$8409,Sheet3!CC$3,Sheet4!$E$2:$E$8409,Sheet3!CC$4,Sheet4!$A$2:$A$8409,Sheet3!$B$1,Sheet4!$B$2:$B$8409,Sheet3!$A$3)","v":1327.2},{"$f":"+SUMIFS(Sheet4!$DM$2:$DM$8409,Sheet4!$C$2:$C$8409,Sheet3!$B23,Sheet4!$D$2:$D$8409,Sheet3!CD$3,Sheet4!$E$2:$E$8409,Sheet3!CD$4,Sheet4!$A$2:$A$8409,Sheet3!$B$1,Sheet4!$B$2:$B$8409,Sheet3!$A$3)","v":0},{"$f":"+SUMIFS(Sheet4!$DM$2:$DM$8409,Sheet4!$C$2:$C$8409,Sheet3!$B23,Sheet4!$D$2:$D$8409,Sheet3!CE$3,Sheet4!$E$2:$E$8409,Sheet3!CE$4,Sheet4!$A$2:$A$8409,Sheet3!$B$1,Sheet4!$B$2:$B$8409,Sheet3!$A$3)","v":0},{"$f":"+SUMIFS(Sheet4!$DM$2:$DM$8409,Sheet4!$C$2:$C$8409,Sheet3!$B23,Sheet4!$D$2:$D$8409,Sheet3!CF$3,Sheet4!$E$2:$E$8409,Sheet3!CF$4,Sheet4!$A$2:$A$8409,Sheet3!$B$1,Sheet4!$B$2:$B$8409,Sheet3!$A$3)","v":0},{"$f":"+SUMIFS(Sheet4!$DM$2:$DM$8409,Sheet4!$C$2:$C$8409,Sheet3!$B23,Sheet4!$D$2:$D$8409,Sheet3!CG$3,Sheet4!$E$2:$E$8409,Sheet3!CG$4,Sheet4!$A$2:$A$8409,Sheet3!$B$1,Sheet4!$B$2:$B$8409,Sheet3!$A$3)","v":0},{"$f":"+SUMIFS(Sheet4!$DM$2:$DM$8409,Sheet4!$C$2:$C$8409,Sheet3!$B23,Sheet4!$D$2:$D$8409,Sheet3!CH$3,Sheet4!$E$2:$E$8409,Sheet3!CH$4,Sheet4!$A$2:$A$8409,Sheet3!$B$1,Sheet4!$B$2:$B$8409,Sheet3!$A$3)","v":0},{"$f":"+SUMIFS(Sheet4!$DM$2:$DM$8409,Sheet4!$C$2:$C$8409,Sheet3!$B23,Sheet4!$D$2:$D$8409,Sheet3!CI$3,Sheet4!$E$2:$E$8409,Sheet3!CI$4,Sheet4!$A$2:$A$8409,Sheet3!$B$1,Sheet4!$B$2:$B$8409,Sheet3!$A$3)","v":0},{"$f":"+SUMIFS(Sheet4!$DM$2:$DM$8409,Sheet4!$C$2:$C$8409,Sheet3!$B23,Sheet4!$D$2:$D$8409,Sheet3!CJ$3,Sheet4!$E$2:$E$8409,Sheet3!CJ$4,Sheet4!$A$2:$A$8409,Sheet3!$B$1,Sheet4!$B$2:$B$8409,Sheet3!$A$3)","v":0},{"$f":"+SUMIFS(Sheet4!$DM$2:$DM$8409,Sheet4!$C$2:$C$8409,Sheet3!$B23,Sheet4!$D$2:$D$8409,Sheet3!CK$3,Sheet4!$E$2:$E$8409,Sheet3!CK$4,Sheet4!$A$2:$A$8409,Sheet3!$B$1,Sheet4!$B$2:$B$8409,Sheet3!$A$3)","v":0},{"$f":"+SUMIFS(Sheet4!$DM$2:$DM$8409,Sheet4!$C$2:$C$8409,Sheet3!$B23,Sheet4!$D$2:$D$8409,Sheet3!CL$3,Sheet4!$E$2:$E$8409,Sheet3!CL$4,Sheet4!$A$2:$A$8409,Sheet3!$B$1,Sheet4!$B$2:$B$8409,Sheet3!$A$3)","v":0},{"$f":"+SUMIFS(Sheet4!$DM$2:$DM$8409,Sheet4!$C$2:$C$8409,Sheet3!$B23,Sheet4!$D$2:$D$8409,Sheet3!CM$3,Sheet4!$E$2:$E$8409,Sheet3!CM$4,Sheet4!$A$2:$A$8409,Sheet3!$B$1,Sheet4!$B$2:$B$8409,Sheet3!$A$3)","v":0},{"$f":"+SUMIFS(Sheet4!$DM$2:$DM$8409,Sheet4!$C$2:$C$8409,Sheet3!$B23,Sheet4!$D$2:$D$8409,Sheet3!CN$3,Sheet4!$E$2:$E$8409,Sheet3!CN$4,Sheet4!$A$2:$A$8409,Sheet3!$B$1,Sheet4!$B$2:$B$8409,Sheet3!$A$3)","v":0},{"$f":"+SUMIFS(Sheet4!$DM$2:$DM$8409,Sheet4!$C$2:$C$8409,Sheet3!$B23,Sheet4!$D$2:$D$8409,Sheet3!CO$3,Sheet4!$E$2:$E$8409,Sheet3!CO$4,Sheet4!$A$2:$A$8409,Sheet3!$B$1,Sheet4!$B$2:$B$8409,Sheet3!$A$3)","v":0},{"$f":"+SUMIFS(Sheet4!$DM$2:$DM$8409,Sheet4!$C$2:$C$8409,Sheet3!$B23,Sheet4!$D$2:$D$8409,Sheet3!CP$3,Sheet4!$E$2:$E$8409,Sheet3!CP$4,Sheet4!$A$2:$A$8409,Sheet3!$B$1,Sheet4!$B$2:$B$8409,Sheet3!$A$3)","v":0},{"$f":"+SUMIFS(Sheet4!$DM$2:$DM$8409,Sheet4!$C$2:$C$8409,Sheet3!$B23,Sheet4!$D$2:$D$8409,Sheet3!CQ$3,Sheet4!$E$2:$E$8409,Sheet3!CQ$4,Sheet4!$A$2:$A$8409,Sheet3!$B$1,Sheet4!$B$2:$B$8409,Sheet3!$A$3)","v":0},{"$f":"+SUMIFS(Sheet4!$DM$2:$DM$8409,Sheet4!$C$2:$C$8409,Sheet3!$B23,Sheet4!$D$2:$D$8409,Sheet3!CR$3,Sheet4!$E$2:$E$8409,Sheet3!CR$4,Sheet4!$A$2:$A$8409,Sheet3!$B$1,Sheet4!$B$2:$B$8409,Sheet3!$A$3)","v":0},{"$f":"+SUMIFS(Sheet4!$DM$2:$DM$8409,Sheet4!$C$2:$C$8409,Sheet3!$B23,Sheet4!$D$2:$D$8409,Sheet3!CS$3,Sheet4!$E$2:$E$8409,Sheet3!CS$4,Sheet4!$A$2:$A$8409,Sheet3!$B$1,Sheet4!$B$2:$B$8409,Sheet3!$A$3)","v":0},{"$f":"+SUMIFS(Sheet4!$DM$2:$DM$8409,Sheet4!$C$2:$C$8409,Sheet3!$B23,Sheet4!$D$2:$D$8409,Sheet3!CT$3,Sheet4!$E$2:$E$8409,Sheet3!CT$4,Sheet4!$A$2:$A$8409,Sheet3!$B$1,Sheet4!$B$2:$B$8409,Sheet3!$A$3)","v":0},{"$f":"+IF(SUMIFS(Sheet4!$DN$2:$DN$8409,Sheet4!$C$2:$C$8409,Sheet3!$B23,Sheet4!$D$2:$D$8409,Sheet3!CU$3,Sheet4!$A$2:$A$8409,Sheet3!$B$1,Sheet4!$B$2:$B$8409,Sheet3!$A$3)<3,0,SUMIFS(Sheet4!$DN$2:$DN$8409,Sheet4!$C$2:$C$8409,Sheet3!$B23,Sheet4!$D$2:$D$8409,Sheet3!CU$3,Sheet4!$A$2:$A$8409,Sheet3!$B$1,Sheet4!$B$2:$B$8409,Sheet3!$A$3))","v":0},{"$f":"+IF(SUMIFS(Sheet4!$DN$2:$DN$8409,Sheet4!$C$2:$C$8409,Sheet3!$B23,Sheet4!$D$2:$D$8409,Sheet3!CV$3,Sheet4!$A$2:$A$8409,Sheet3!$B$1,Sheet4!$B$2:$B$8409,Sheet3!$A$3)<3,0,SUMIFS(Sheet4!$DN$2:$DN$8409,Sheet4!$C$2:$C$8409,Sheet3!$B23,Sheet4!$D$2:$D$8409,Sheet3!CV$3,Sheet4!$A$2:$A$8409,Sheet3!$B$1,Sheet4!$B$2:$B$8409,Sheet3!$A$3))","v":0},{"$f":"+IF(SUMIFS(Sheet4!$DN$2:$DN$8409,Sheet4!$C$2:$C$8409,Sheet3!$B23,Sheet4!$D$2:$D$8409,Sheet3!CW$3,Sheet4!$A$2:$A$8409,Sheet3!$B$1,Sheet4!$B$2:$B$8409,Sheet3!$A$3)<3,0,SUMIFS(Sheet4!$DN$2:$DN$8409,Sheet4!$C$2:$C$8409,Sheet3!$B23,Sheet4!$D$2:$D$8409,Sheet3!CW$3,Sheet4!$A$2:$A$8409,Sheet3!$B$1,Sheet4!$B$2:$B$8409,Sheet3!$A$3))","v":0},{"$f":"+IF(SUMIFS(Sheet4!$DN$2:$DN$8409,Sheet4!$C$2:$C$8409,Sheet3!$B23,Sheet4!$D$2:$D$8409,Sheet3!CX$3,Sheet4!$A$2:$A$8409,Sheet3!$B$1,Sheet4!$B$2:$B$8409,Sheet3!$A$3)<3,0,SUMIFS(Sheet4!$DN$2:$DN$8409,Sheet4!$C$2:$C$8409,Sheet3!$B23,Sheet4!$D$2:$D$8409,Sheet3!CX$3,Sheet4!$A$2:$A$8409,Sheet3!$B$1,Sheet4!$B$2:$B$8409,Sheet3!$A$3))","v":0},{"$f":"+IF(SUMIFS(Sheet4!$DN$2:$DN$8409,Sheet4!$C$2:$C$8409,Sheet3!$B23,Sheet4!$D$2:$D$8409,Sheet3!CY$3,Sheet4!$A$2:$A$8409,Sheet3!$B$1,Sheet4!$B$2:$B$8409,Sheet3!$A$3)<3,0,SUMIFS(Sheet4!$DN$2:$DN$8409,Sheet4!$C$2:$C$8409,Sheet3!$B23,Sheet4!$D$2:$D$8409,Sheet3!CY$3,Sheet4!$A$2:$A$8409,Sheet3!$B$1,Sheet4!$B$2:$B$8409,Sheet3!$A$3))","v":0},{"$f":"+IF(SUMIFS(Sheet4!$DN$2:$DN$8409,Sheet4!$C$2:$C$8409,Sheet3!$B23,Sheet4!$D$2:$D$8409,Sheet3!CZ$3,Sheet4!$A$2:$A$8409,Sheet3!$B$1,Sheet4!$B$2:$B$8409,Sheet3!$A$3)<3,0,SUMIFS(Sheet4!$DN$2:$DN$8409,Sheet4!$C$2:$C$8409,Sheet3!$B23,Sheet4!$D$2:$D$8409,Sheet3!CZ$3,Sheet4!$A$2:$A$8409,Sheet3!$B$1,Sheet4!$B$2:$B$8409,Sheet3!$A$3))","v":1728.11},{"$f":"+IF(SUMIFS(Sheet4!$DN$2:$DN$8409,Sheet4!$C$2:$C$8409,Sheet3!$B23,Sheet4!$D$2:$D$8409,Sheet3!DA$3,Sheet4!$A$2:$A$8409,Sheet3!$B$1,Sheet4!$B$2:$B$8409,Sheet3!$A$3)<3,0,SUMIFS(Sheet4!$DN$2:$DN$8409,Sheet4!$C$2:$C$8409,Sheet3!$B23,Sheet4!$D$2:$D$8409,Sheet3!DA$3,Sheet4!$A$2:$A$8409,Sheet3!$B$1,Sheet4!$B$2:$B$8409,Sheet3!$A$3))","v":404},{"$f":"+IF(SUMIFS(Sheet4!$DN$2:$DN$8409,Sheet4!$C$2:$C$8409,Sheet3!$B23,Sheet4!$D$2:$D$8409,Sheet3!DB$3,Sheet4!$A$2:$A$8409,Sheet3!$B$1,Sheet4!$B$2:$B$8409,Sheet3!$A$3)<3,0,SUMIFS(Sheet4!$DN$2:$DN$8409,Sheet4!$C$2:$C$8409,Sheet3!$B23,Sheet4!$D$2:$D$8409,Sheet3!DB$3,Sheet4!$A$2:$A$8409,Sheet3!$B$1,Sheet4!$B$2:$B$8409,Sheet3!$A$3))","v":0},{"$f":"+IF(SUMIFS(Sheet4!$DN$2:$DN$8409,Sheet4!$C$2:$C$8409,Sheet3!$B23,Sheet4!$D$2:$D$8409,Sheet3!DC$3,Sheet4!$A$2:$A$8409,Sheet3!$B$1,Sheet4!$B$2:$B$8409,Sheet3!$A$3)<3,0,SUMIFS(Sheet4!$DN$2:$DN$8409,Sheet4!$C$2:$C$8409,Sheet3!$B23,Sheet4!$D$2:$D$8409,Sheet3!DC$3,Sheet4!$A$2:$A$8409,Sheet3!$B$1,Sheet4!$B$2:$B$8409,Sheet3!$A$3))","v":0},{"$f":"+IF(SUMIFS(Sheet4!$DN$2:$DN$8409,Sheet4!$C$2:$C$8409,Sheet3!$B23,Sheet4!$D$2:$D$8409,Sheet3!DD$3,Sheet4!$A$2:$A$8409,Sheet3!$B$1,Sheet4!$B$2:$B$8409,Sheet3!$A$3)<3,0,SUMIFS(Sheet4!$DN$2:$DN$8409,Sheet4!$C$2:$C$8409,Sheet3!$B23,Sheet4!$D$2:$D$8409,Sheet3!DD$3,Sheet4!$A$2:$A$8409,Sheet3!$B$1,Sheet4!$B$2:$B$8409,Sheet3!$A$3))","v":368.7},{"$f":"+IF(SUMIFS(Sheet4!$DN$2:$DN$8409,Sheet4!$C$2:$C$8409,Sheet3!$B23,Sheet4!$D$2:$D$8409,Sheet3!DE$3,Sheet4!$A$2:$A$8409,Sheet3!$B$1,Sheet4!$B$2:$B$8409,Sheet3!$A$3)<3,0,SUMIFS(Sheet4!$DN$2:$DN$8409,Sheet4!$C$2:$C$8409,Sheet3!$B23,Sheet4!$D$2:$D$8409,Sheet3!DE$3,Sheet4!$A$2:$A$8409,Sheet3!$B$1,Sheet4!$B$2:$B$8409,Sheet3!$A$3))","v":0},{"$f":"+IF(SUMIFS(Sheet4!$DN$2:$DN$8409,Sheet4!$C$2:$C$8409,Sheet3!$B23,Sheet4!$D$2:$D$8409,Sheet3!DF$3,Sheet4!$A$2:$A$8409,Sheet3!$B$1,Sheet4!$B$2:$B$8409,Sheet3!$A$3)<3,0,SUMIFS(Sheet4!$DN$2:$DN$8409,Sheet4!$C$2:$C$8409,Sheet3!$B23,Sheet4!$D$2:$D$8409,Sheet3!DF$3,Sheet4!$A$2:$A$8409,Sheet3!$B$1,Sheet4!$B$2:$B$8409,Sheet3!$A$3))","v":0},{"$f":"+IF(SUMIFS(Sheet4!$DN$2:$DN$8409,Sheet4!$C$2:$C$8409,Sheet3!$B23,Sheet4!$D$2:$D$8409,Sheet3!DG$3,Sheet4!$A$2:$A$8409,Sheet3!$B$1,Sheet4!$B$2:$B$8409,Sheet3!$A$3)<3,0,SUMIFS(Sheet4!$DN$2:$DN$8409,Sheet4!$C$2:$C$8409,Sheet3!$B23,Sheet4!$D$2:$D$8409,Sheet3!DG$3,Sheet4!$A$2:$A$8409,Sheet3!$B$1,Sheet4!$B$2:$B$8409,Sheet3!$A$3))","v":0},{"$f":"+IF(SUMIFS(Sheet4!$DN$2:$DN$8409,Sheet4!$C$2:$C$8409,Sheet3!$B23,Sheet4!$D$2:$D$8409,Sheet3!DH$3,Sheet4!$A$2:$A$8409,Sheet3!$B$1,Sheet4!$B$2:$B$8409,Sheet3!$A$3)<3,0,SUMIFS(Sheet4!$DN$2:$DN$8409,Sheet4!$C$2:$C$8409,Sheet3!$B23,Sheet4!$D$2:$D$8409,Sheet3!DH$3,Sheet4!$A$2:$A$8409,Sheet3!$B$1,Sheet4!$B$2:$B$8409,Sheet3!$A$3))","v":52052.599999999991},{"$f":"+IF(SUMIFS(Sheet4!$DN$2:$DN$8409,Sheet4!$C$2:$C$8409,Sheet3!$B23,Sheet4!$D$2:$D$8409,Sheet3!DI$3,Sheet4!$A$2:$A$8409,Sheet3!$B$1,Sheet4!$B$2:$B$8409,Sheet3!$A$3)<3,0,SUMIFS(Sheet4!$DN$2:$DN$8409,Sheet4!$C$2:$C$8409,Sheet3!$B23,Sheet4!$D$2:$D$8409,Sheet3!DI$3,Sheet4!$A$2:$A$8409,Sheet3!$B$1,Sheet4!$B$2:$B$8409,Sheet3!$A$3))","v":6642.08},{"$f":"+IF(SUMIFS(Sheet4!$DN$2:$DN$8409,Sheet4!$C$2:$C$8409,Sheet3!$B23,Sheet4!$D$2:$D$8409,Sheet3!DJ$3,Sheet4!$A$2:$A$8409,Sheet3!$B$1,Sheet4!$B$2:$B$8409,Sheet3!$A$3)<3,0,SUMIFS(Sheet4!$DN$2:$DN$8409,Sheet4!$C$2:$C$8409,Sheet3!$B23,Sheet4!$D$2:$D$8409,Sheet3!DJ$3,Sheet4!$A$2:$A$8409,Sheet3!$B$1,Sheet4!$B$2:$B$8409,Sheet3!$A$3))","v":1898.5900000000001},{"$f":"+IF(SUMIFS(Sheet4!$DN$2:$DN$8409,Sheet4!$C$2:$C$8409,Sheet3!$B23,Sheet4!$D$2:$D$8409,Sheet3!DK$3,Sheet4!$A$2:$A$8409,Sheet3!$B$1,Sheet4!$B$2:$B$8409,Sheet3!$A$3)<3,0,SUMIFS(Sheet4!$DN$2:$DN$8409,Sheet4!$C$2:$C$8409,Sheet3!$B23,Sheet4!$D$2:$D$8409,Sheet3!DK$3,Sheet4!$A$2:$A$8409,Sheet3!$B$1,Sheet4!$B$2:$B$8409,Sheet3!$A$3))","v":0},{"$f":"+IF(SUMIFS(Sheet4!$DN$2:$DN$8409,Sheet4!$C$2:$C$8409,Sheet3!$B23,Sheet4!$D$2:$D$8409,Sheet3!DL$3,Sheet4!$A$2:$A$8409,Sheet3!$B$1,Sheet4!$B$2:$B$8409,Sheet3!$A$3)<3,0,SUMIFS(Sheet4!$DN$2:$DN$8409,Sheet4!$C$2:$C$8409,Sheet3!$B23,Sheet4!$D$2:$D$8409,Sheet3!DL$3,Sheet4!$A$2:$A$8409,Sheet3!$B$1,Sheet4!$B$2:$B$8409,Sheet3!$A$3))","v":0},{"$f":"+IF(SUMIFS(Sheet4!$DN$2:$DN$8409,Sheet4!$C$2:$C$8409,Sheet3!$B23,Sheet4!$D$2:$D$8409,Sheet3!DM$3,Sheet4!$A$2:$A$8409,Sheet3!$B$1,Sheet4!$B$2:$B$8409,Sheet3!$A$3)<3,0,SUMIFS(Sheet4!$DN$2:$DN$8409,Sheet4!$C$2:$C$8409,Sheet3!$B23,Sheet4!$D$2:$D$8409,Sheet3!DM$3,Sheet4!$A$2:$A$8409,Sheet3!$B$1,Sheet4!$B$2:$B$8409,Sheet3!$A$3))","v":0},{"$f":"+IF(SUMIFS(Sheet4!$DN$2:$DN$8409,Sheet4!$C$2:$C$8409,Sheet3!$B23,Sheet4!$E$2:$E$8409,Sheet3!DN$4,Sheet4!$A$2:$A$8409,Sheet3!$B$1,Sheet4!$B$2:$B$8409,Sheet3!$A$3)<3,0,SUMIFS(Sheet4!$DN$2:$DN$8409,Sheet4!$C$2:$C$8409,Sheet3!$B23,Sheet4!$E$2:$E$8409,Sheet3!DN$4,Sheet4!$A$2:$A$8409,Sheet3!$B$1,Sheet4!$B$2:$B$8409,Sheet3!$A$3))","v":93.5},{"$f":"+IF(SUMIFS(Sheet4!$DN$2:$DN$8409,Sheet4!$C$2:$C$8409,Sheet3!$B23,Sheet4!$E$2:$E$8409,Sheet3!DO$4,Sheet4!$A$2:$A$8409,Sheet3!$B$1,Sheet4!$B$2:$B$8409,Sheet3!$A$3)<3,0,SUMIFS(Sheet4!$DN$2:$DN$8409,Sheet4!$C$2:$C$8409,Sheet3!$B23,Sheet4!$E$2:$E$8409,Sheet3!DO$4,Sheet4!$A$2:$A$8409,Sheet3!$B$1,Sheet4!$B$2:$B$8409,Sheet3!$A$3))","v":2110.91},{"$f":"+IF(SUMIFS(Sheet4!$DN$2:$DN$8409,Sheet4!$C$2:$C$8409,Sheet3!$B23,Sheet4!$E$2:$E$8409,Sheet3!DP$4,Sheet4!$A$2:$A$8409,Sheet3!$B$1,Sheet4!$B$2:$B$8409,Sheet3!$A$3)<3,0,SUMIFS(Sheet4!$DN$2:$DN$8409,Sheet4!$C$2:$C$8409,Sheet3!$B23,Sheet4!$E$2:$E$8409,Sheet3!DP$4,Sheet4!$A$2:$A$8409,Sheet3!$B$1,Sheet4!$B$2:$B$8409,Sheet3!$A$3))","v":47521.77},{"$f":"+IF(SUMIFS(Sheet4!$DN$2:$DN$8409,Sheet4!$C$2:$C$8409,Sheet3!$B23,Sheet4!$E$2:$E$8409,Sheet3!DQ$4,Sheet4!$A$2:$A$8409,Sheet3!$B$1,Sheet4!$B$2:$B$8409,Sheet3!$A$3)<3,0,SUMIFS(Sheet4!$DN$2:$DN$8409,Sheet4!$C$2:$C$8409,Sheet3!$B23,Sheet4!$E$2:$E$8409,Sheet3!DQ$4,Sheet4!$A$2:$A$8409,Sheet3!$B$1,Sheet4!$B$2:$B$8409,Sheet3!$A$3))","v":13367.900000000001},{"$f":"+IF(SUMIFS(Sheet4!$DN$2:$DN$8409,Sheet4!$C$2:$C$8409,Sheet3!$B23,Sheet4!$E$2:$E$8409,Sheet3!DR$4,Sheet4!$A$2:$A$8409,Sheet3!$B$1,Sheet4!$B$2:$B$8409,Sheet3!$A$3)<3,0,SUMIFS(Sheet4!$DN$2:$DN$8409,Sheet4!$C$2:$C$8409,Sheet3!$B23,Sheet4!$E$2:$E$8409,Sheet3!DR$4,Sheet4!$A$2:$A$8409,Sheet3!$B$1,Sheet4!$B$2:$B$8409,Sheet3!$A$3))","v":0}]
[4,"170","Área Metropolitana de Lisboa",{"$f":"+SUMIFS(Sheet4!$DM$2:$DM$8409,Sheet4!$C$2:$C$8409,Sheet3!$B24,Sheet4!$D$2:$D$8409,Sheet3!D$3,Sheet4!$E$2:$E$8409,Sheet3!D$4,Sheet4!$A$2:$A$8409,Sheet3!$B$1,Sheet4!$B$2:$B$8409,Sheet3!$A$3)","v":0},{"$f":"+SUMIFS(Sheet4!$DM$2:$DM$8409,Sheet4!$C$2:$C$8409,Sheet3!$B24,Sheet4!$D$2:$D$8409,Sheet3!E$3,Sheet4!$E$2:$E$8409,Sheet3!E$4,Sheet4!$A$2:$A$8409,Sheet3!$B$1,Sheet4!$B$2:$B$8409,Sheet3!$A$3)","v":0},{"$f":"+SUMIFS(Sheet4!$DM$2:$DM$8409,Sheet4!$C$2:$C$8409,Sheet3!$B24,Sheet4!$D$2:$D$8409,Sheet3!F$3,Sheet4!$E$2:$E$8409,Sheet3!F$4,Sheet4!$A$2:$A$8409,Sheet3!$B$1,Sheet4!$B$2:$B$8409,Sheet3!$A$3)","v":0},{"$f":"+SUMIFS(Sheet4!$DM$2:$DM$8409,Sheet4!$C$2:$C$8409,Sheet3!$B24,Sheet4!$D$2:$D$8409,Sheet3!G$3,Sheet4!$E$2:$E$8409,Sheet3!G$4,Sheet4!$A$2:$A$8409,Sheet3!$B$1,Sheet4!$B$2:$B$8409,Sheet3!$A$3)","v":0},{"$f":"+SUMIFS(Sheet4!$DM$2:$DM$8409,Sheet4!$C$2:$C$8409,Sheet3!$B24,Sheet4!$D$2:$D$8409,Sheet3!H$3,Sheet4!$E$2:$E$8409,Sheet3!H$4,Sheet4!$A$2:$A$8409,Sheet3!$B$1,Sheet4!$B$2:$B$8409,Sheet3!$A$3)","v":0},{"$f":"+SUMIFS(Sheet4!$DM$2:$DM$8409,Sheet4!$C$2:$C$8409,Sheet3!$B24,Sheet4!$D$2:$D$8409,Sheet3!I$3,Sheet4!$E$2:$E$8409,Sheet3!I$4,Sheet4!$A$2:$A$8409,Sheet3!$B$1,Sheet4!$B$2:$B$8409,Sheet3!$A$3)","v":0},{"$f":"+SUMIFS(Sheet4!$DM$2:$DM$8409,Sheet4!$C$2:$C$8409,Sheet3!$B24,Sheet4!$D$2:$D$8409,Sheet3!J$3,Sheet4!$E$2:$E$8409,Sheet3!J$4,Sheet4!$A$2:$A$8409,Sheet3!$B$1,Sheet4!$B$2:$B$8409,Sheet3!$A$3)","v":0},{"$f":"+SUMIFS(Sheet4!$DM$2:$DM$8409,Sheet4!$C$2:$C$8409,Sheet3!$B24,Sheet4!$D$2:$D$8409,Sheet3!K$3,Sheet4!$E$2:$E$8409,Sheet3!K$4,Sheet4!$A$2:$A$8409,Sheet3!$B$1,Sheet4!$B$2:$B$8409,Sheet3!$A$3)","v":0},{"$f":"+SUMIFS(Sheet4!$DM$2:$DM$8409,Sheet4!$C$2:$C$8409,Sheet3!$B24,Sheet4!$D$2:$D$8409,Sheet3!L$3,Sheet4!$E$2:$E$8409,Sheet3!L$4,Sheet4!$A$2:$A$8409,Sheet3!$B$1,Sheet4!$B$2:$B$8409,Sheet3!$A$3)","v":0},{"$f":"+SUMIFS(Sheet4!$DM$2:$DM$8409,Sheet4!$C$2:$C$8409,Sheet3!$B24,Sheet4!$D$2:$D$8409,Sheet3!M$3,Sheet4!$E$2:$E$8409,Sheet3!M$4,Sheet4!$A$2:$A$8409,Sheet3!$B$1,Sheet4!$B$2:$B$8409,Sheet3!$A$3)","v":0},{"$f":"+SUMIFS(Sheet4!$DM$2:$DM$8409,Sheet4!$C$2:$C$8409,Sheet3!$B24,Sheet4!$D$2:$D$8409,Sheet3!N$3,Sheet4!$E$2:$E$8409,Sheet3!N$4,Sheet4!$A$2:$A$8409,Sheet3!$B$1,Sheet4!$B$2:$B$8409,Sheet3!$A$3)","v":0},{"$f":"+SUMIFS(Sheet4!$DM$2:$DM$8409,Sheet4!$C$2:$C$8409,Sheet3!$B24,Sheet4!$D$2:$D$8409,Sheet3!O$3,Sheet4!$E$2:$E$8409,Sheet3!O$4,Sheet4!$A$2:$A$8409,Sheet3!$B$1,Sheet4!$B$2:$B$8409,Sheet3!$A$3)","v":0},{"$f":"+SUMIFS(Sheet4!$DM$2:$DM$8409,Sheet4!$C$2:$C$8409,Sheet3!$B24,Sheet4!$D$2:$D$8409,Sheet3!P$3,Sheet4!$E$2:$E$8409,Sheet3!P$4,Sheet4!$A$2:$A$8409,Sheet3!$B$1,Sheet4!$B$2:$B$8409,Sheet3!$A$3)","v":0},{"$f":"+SUMIFS(Sheet4!$DM$2:$DM$8409,Sheet4!$C$2:$C$8409,Sheet3!$B24,Sheet4!$D$2:$D$8409,Sheet3!Q$3,Sheet4!$E$2:$E$8409,Sheet3!Q$4,Sheet4!$A$2:$A$8409,Sheet3!$B$1,Sheet4!$B$2:$B$8409,Sheet3!$A$3)","v":0},{"$f":"+SUMIFS(Sheet4!$DM$2:$DM$8409,Sheet4!$C$2:$C$8409,Sheet3!$B24,Sheet4!$D$2:$D$8409,Sheet3!R$3,Sheet4!$E$2:$E$8409,Sheet3!R$4,Sheet4!$A$2:$A$8409,Sheet3!$B$1,Sheet4!$B$2:$B$8409,Sheet3!$A$3)","v":0},{"$f":"+SUMIFS(Sheet4!$DM$2:$DM$8409,Sheet4!$C$2:$C$8409,Sheet3!$B24,Sheet4!$D$2:$D$8409,Sheet3!S$3,Sheet4!$E$2:$E$8409,Sheet3!S$4,Sheet4!$A$2:$A$8409,Sheet3!$B$1,Sheet4!$B$2:$B$8409,Sheet3!$A$3)","v":0},{"$f":"+SUMIFS(Sheet4!$DM$2:$DM$8409,Sheet4!$C$2:$C$8409,Sheet3!$B24,Sheet4!$D$2:$D$8409,Sheet3!T$3,Sheet4!$E$2:$E$8409,Sheet3!T$4,Sheet4!$A$2:$A$8409,Sheet3!$B$1,Sheet4!$B$2:$B$8409,Sheet3!$A$3)","v":0},{"$f":"+SUMIFS(Sheet4!$DM$2:$DM$8409,Sheet4!$C$2:$C$8409,Sheet3!$B24,Sheet4!$D$2:$D$8409,Sheet3!U$3,Sheet4!$E$2:$E$8409,Sheet3!U$4,Sheet4!$A$2:$A$8409,Sheet3!$B$1,Sheet4!$B$2:$B$8409,Sheet3!$A$3)","v":0},{"$f":"+SUMIFS(Sheet4!$DM$2:$DM$8409,Sheet4!$C$2:$C$8409,Sheet3!$B24,Sheet4!$D$2:$D$8409,Sheet3!V$3,Sheet4!$E$2:$E$8409,Sheet3!V$4,Sheet4!$A$2:$A$8409,Sheet3!$B$1,Sheet4!$B$2:$B$8409,Sheet3!$A$3)","v":0},{"$f":"+SUMIFS(Sheet4!$DM$2:$DM$8409,Sheet4!$C$2:$C$8409,Sheet3!$B24,Sheet4!$D$2:$D$8409,Sheet3!W$3,Sheet4!$E$2:$E$8409,Sheet3!W$4,Sheet4!$A$2:$A$8409,Sheet3!$B$1,Sheet4!$B$2:$B$8409,Sheet3!$A$3)","v":0},{"$f":"+SUMIFS(Sheet4!$DM$2:$DM$8409,Sheet4!$C$2:$C$8409,Sheet3!$B24,Sheet4!$D$2:$D$8409,Sheet3!X$3,Sheet4!$E$2:$E$8409,Sheet3!X$4,Sheet4!$A$2:$A$8409,Sheet3!$B$1,Sheet4!$B$2:$B$8409,Sheet3!$A$3)","v":0},{"$f":"+SUMIFS(Sheet4!$DM$2:$DM$8409,Sheet4!$C$2:$C$8409,Sheet3!$B24,Sheet4!$D$2:$D$8409,Sheet3!Y$3,Sheet4!$E$2:$E$8409,Sheet3!Y$4,Sheet4!$A$2:$A$8409,Sheet3!$B$1,Sheet4!$B$2:$B$8409,Sheet3!$A$3)","v":0},{"$f":"+SUMIFS(Sheet4!$DM$2:$DM$8409,Sheet4!$C$2:$C$8409,Sheet3!$B24,Sheet4!$D$2:$D$8409,Sheet3!Z$3,Sheet4!$E$2:$E$8409,Sheet3!Z$4,Sheet4!$A$2:$A$8409,Sheet3!$B$1,Sheet4!$B$2:$B$8409,Sheet3!$A$3)","v":0},{"$f":"+SUMIFS(Sheet4!$DM$2:$DM$8409,Sheet4!$C$2:$C$8409,Sheet3!$B24,Sheet4!$D$2:$D$8409,Sheet3!AA$3,Sheet4!$E$2:$E$8409,Sheet3!AA$4,Sheet4!$A$2:$A$8409,Sheet3!$B$1,Sheet4!$B$2:$B$8409,Sheet3!$A$3)","v":0},{"$f":"+SUMIFS(Sheet4!$DM$2:$DM$8409,Sheet4!$C$2:$C$8409,Sheet3!$B24,Sheet4!$D$2:$D$8409,Sheet3!AB$3,Sheet4!$E$2:$E$8409,Sheet3!AB$4,Sheet4!$A$2:$A$8409,Sheet3!$B$1,Sheet4!$B$2:$B$8409,Sheet3!$A$3)","v":0},{"$f":"+SUMIFS(Sheet4!$DM$2:$DM$8409,Sheet4!$C$2:$C$8409,Sheet3!$B24,Sheet4!$D$2:$D$8409,Sheet3!AC$3,Sheet4!$E$2:$E$8409,Sheet3!AC$4,Sheet4!$A$2:$A$8409,Sheet3!$B$1,Sheet4!$B$2:$B$8409,Sheet3!$A$3)","v":0},{"$f":"+SUMIFS(Sheet4!$DM$2:$DM$8409,Sheet4!$C$2:$C$8409,Sheet3!$B24,Sheet4!$D$2:$D$8409,Sheet3!AD$3,Sheet4!$E$2:$E$8409,Sheet3!AD$4,Sheet4!$A$2:$A$8409,Sheet3!$B$1,Sheet4!$B$2:$B$8409,Sheet3!$A$3)","v":0},{"$f":"+SUMIFS(Sheet4!$DM$2:$DM$8409,Sheet4!$C$2:$C$8409,Sheet3!$B24,Sheet4!$D$2:$D$8409,Sheet3!AE$3,Sheet4!$E$2:$E$8409,Sheet3!AE$4,Sheet4!$A$2:$A$8409,Sheet3!$B$1,Sheet4!$B$2:$B$8409,Sheet3!$A$3)","v":0},{"$f":"+SUMIFS(Sheet4!$DM$2:$DM$8409,Sheet4!$C$2:$C$8409,Sheet3!$B24,Sheet4!$D$2:$D$8409,Sheet3!AF$3,Sheet4!$E$2:$E$8409,Sheet3!AF$4,Sheet4!$A$2:$A$8409,Sheet3!$B$1,Sheet4!$B$2:$B$8409,Sheet3!$A$3)","v":3419.35},{"$f":"+SUMIFS(Sheet4!$DM$2:$DM$8409,Sheet4!$C$2:$C$8409,Sheet3!$B24,Sheet4!$D$2:$D$8409,Sheet3!AG$3,Sheet4!$E$2:$E$8409,Sheet3!AG$4,Sheet4!$A$2:$A$8409,Sheet3!$B$1,Sheet4!$B$2:$B$8409,Sheet3!$A$3)","v":0},{"$f":"+SUMIFS(Sheet4!$DM$2:$DM$8409,Sheet4!$C$2:$C$8409,Sheet3!$B24,Sheet4!$D$2:$D$8409,Sheet3!AH$3,Sheet4!$E$2:$E$8409,Sheet3!AH$4,Sheet4!$A$2:$A$8409,Sheet3!$B$1,Sheet4!$B$2:$B$8409,Sheet3!$A$3)","v":0},{"$f":"+SUMIFS(Sheet4!$DM$2:$DM$8409,Sheet4!$C$2:$C$8409,Sheet3!$B24,Sheet4!$D$2:$D$8409,Sheet3!AI$3,Sheet4!$E$2:$E$8409,Sheet3!AI$4,Sheet4!$A$2:$A$8409,Sheet3!$B$1,Sheet4!$B$2:$B$8409,Sheet3!$A$3)","v":0},{"$f":"+SUMIFS(Sheet4!$DM$2:$DM$8409,Sheet4!$C$2:$C$8409,Sheet3!$B24,Sheet4!$D$2:$D$8409,Sheet3!AJ$3,Sheet4!$E$2:$E$8409,Sheet3!AJ$4,Sheet4!$A$2:$A$8409,Sheet3!$B$1,Sheet4!$B$2:$B$8409,Sheet3!$A$3)","v":0},{"$f":"+SUMIFS(Sheet4!$DM$2:$DM$8409,Sheet4!$C$2:$C$8409,Sheet3!$B24,Sheet4!$D$2:$D$8409,Sheet3!AK$3,Sheet4!$E$2:$E$8409,Sheet3!AK$4,Sheet4!$A$2:$A$8409,Sheet3!$B$1,Sheet4!$B$2:$B$8409,Sheet3!$A$3)","v":0},{"$f":"+SUMIFS(Sheet4!$DM$2:$DM$8409,Sheet4!$C$2:$C$8409,Sheet3!$B24,Sheet4!$D$2:$D$8409,Sheet3!AL$3,Sheet4!$E$2:$E$8409,Sheet3!AL$4,Sheet4!$A$2:$A$8409,Sheet3!$B$1,Sheet4!$B$2:$B$8409,Sheet3!$A$3)","v":0},{"$f":"+SUMIFS(Sheet4!$DM$2:$DM$8409,Sheet4!$C$2:$C$8409,Sheet3!$B24,Sheet4!$D$2:$D$8409,Sheet3!AM$3,Sheet4!$E$2:$E$8409,Sheet3!AM$4,Sheet4!$A$2:$A$8409,Sheet3!$B$1,Sheet4!$B$2:$B$8409,Sheet3!$A$3)","v":0},{"$f":"+SUMIFS(Sheet4!$DM$2:$DM$8409,Sheet4!$C$2:$C$8409,Sheet3!$B24,Sheet4!$D$2:$D$8409,Sheet3!AN$3,Sheet4!$E$2:$E$8409,Sheet3!AN$4,Sheet4!$A$2:$A$8409,Sheet3!$B$1,Sheet4!$B$2:$B$8409,Sheet3!$A$3)","v":0},{"$f":"+SUMIFS(Sheet4!$DM$2:$DM$8409,Sheet4!$C$2:$C$8409,Sheet3!$B24,Sheet4!$D$2:$D$8409,Sheet3!AO$3,Sheet4!$E$2:$E$8409,Sheet3!AO$4,Sheet4!$A$2:$A$8409,Sheet3!$B$1,Sheet4!$B$2:$B$8409,Sheet3!$A$3)","v":132.16},{"$f":"+SUMIFS(Sheet4!$DM$2:$DM$8409,Sheet4!$C$2:$C$8409,Sheet3!$B24,Sheet4!$D$2:$D$8409,Sheet3!AP$3,Sheet4!$E$2:$E$8409,Sheet3!AP$4,Sheet4!$A$2:$A$8409,Sheet3!$B$1,Sheet4!$B$2:$B$8409,Sheet3!$A$3)","v":0},{"$f":"+SUMIFS(Sheet4!$DM$2:$DM$8409,Sheet4!$C$2:$C$8409,Sheet3!$B24,Sheet4!$D$2:$D$8409,Sheet3!AQ$3,Sheet4!$E$2:$E$8409,Sheet3!AQ$4,Sheet4!$A$2:$A$8409,Sheet3!$B$1,Sheet4!$B$2:$B$8409,Sheet3!$A$3)","v":0},{"$f":"+SUMIFS(Sheet4!$DM$2:$DM$8409,Sheet4!$C$2:$C$8409,Sheet3!$B24,Sheet4!$D$2:$D$8409,Sheet3!AR$3,Sheet4!$E$2:$E$8409,Sheet3!AR$4,Sheet4!$A$2:$A$8409,Sheet3!$B$1,Sheet4!$B$2:$B$8409,Sheet3!$A$3)","v":0},{"$f":"+SUMIFS(Sheet4!$DM$2:$DM$8409,Sheet4!$C$2:$C$8409,Sheet3!$B24,Sheet4!$D$2:$D$8409,Sheet3!AS$3,Sheet4!$E$2:$E$8409,Sheet3!AS$4,Sheet4!$A$2:$A$8409,Sheet3!$B$1,Sheet4!$B$2:$B$8409,Sheet3!$A$3)","v":0},{"$f":"+SUMIFS(Sheet4!$DM$2:$DM$8409,Sheet4!$C$2:$C$8409,Sheet3!$B24,Sheet4!$D$2:$D$8409,Sheet3!AT$3,Sheet4!$E$2:$E$8409,Sheet3!AT$4,Sheet4!$A$2:$A$8409,Sheet3!$B$1,Sheet4!$B$2:$B$8409,Sheet3!$A$3)","v":0},{"$f":"+SUMIFS(Sheet4!$DM$2:$DM$8409,Sheet4!$C$2:$C$8409,Sheet3!$B24,Sheet4!$D$2:$D$8409,Sheet3!AU$3,Sheet4!$E$2:$E$8409,Sheet3!AU$4,Sheet4!$A$2:$A$8409,Sheet3!$B$1,Sheet4!$B$2:$B$8409,Sheet3!$A$3)","v":0},{"$f":"+SUMIFS(Sheet4!$DM$2:$DM$8409,Sheet4!$C$2:$C$8409,Sheet3!$B24,Sheet4!$D$2:$D$8409,Sheet3!AV$3,Sheet4!$E$2:$E$8409,Sheet3!AV$4,Sheet4!$A$2:$A$8409,Sheet3!$B$1,Sheet4!$B$2:$B$8409,Sheet3!$A$3)","v":0},{"$f":"+SUMIFS(Sheet4!$DM$2:$DM$8409,Sheet4!$C$2:$C$8409,Sheet3!$B24,Sheet4!$D$2:$D$8409,Sheet3!AW$3,Sheet4!$E$2:$E$8409,Sheet3!AW$4,Sheet4!$A$2:$A$8409,Sheet3!$B$1,Sheet4!$B$2:$B$8409,Sheet3!$A$3)","v":0},{"$f":"+SUMIFS(Sheet4!$DM$2:$DM$8409,Sheet4!$C$2:$C$8409,Sheet3!$B24,Sheet4!$D$2:$D$8409,Sheet3!AX$3,Sheet4!$E$2:$E$8409,Sheet3!AX$4,Sheet4!$A$2:$A$8409,Sheet3!$B$1,Sheet4!$B$2:$B$8409,Sheet3!$A$3)","v":0},{"$f":"+SUMIFS(Sheet4!$DM$2:$DM$8409,Sheet4!$C$2:$C$8409,Sheet3!$B24,Sheet4!$D$2:$D$8409,Sheet3!AY$3,Sheet4!$E$2:$E$8409,Sheet3!AY$4,Sheet4!$A$2:$A$8409,Sheet3!$B$1,Sheet4!$B$2:$B$8409,Sheet3!$A$3)","v":0},{"$f":"+SUMIFS(Sheet4!$DM$2:$DM$8409,Sheet4!$C$2:$C$8409,Sheet3!$B24,Sheet4!$D$2:$D$8409,Sheet3!AZ$3,Sheet4!$E$2:$E$8409,Sheet3!AZ$4,Sheet4!$A$2:$A$8409,Sheet3!$B$1,Sheet4!$B$2:$B$8409,Sheet3!$A$3)","v":0},{"$f":"+SUMIFS(Sheet4!$DM$2:$DM$8409,Sheet4!$C$2:$C$8409,Sheet3!$B24,Sheet4!$D$2:$D$8409,Sheet3!BA$3,Sheet4!$E$2:$E$8409,Sheet3!BA$4,Sheet4!$A$2:$A$8409,Sheet3!$B$1,Sheet4!$B$2:$B$8409,Sheet3!$A$3)","v":0},{"$f":"+SUMIFS(Sheet4!$DM$2:$DM$8409,Sheet4!$C$2:$C$8409,Sheet3!$B24,Sheet4!$D$2:$D$8409,Sheet3!BB$3,Sheet4!$E$2:$E$8409,Sheet3!BB$4,Sheet4!$A$2:$A$8409,Sheet3!$B$1,Sheet4!$B$2:$B$8409,Sheet3!$A$3)","v":0},{"$f":"+SUMIFS(Sheet4!$DM$2:$DM$8409,Sheet4!$C$2:$C$8409,Sheet3!$B24,Sheet4!$D$2:$D$8409,Sheet3!BC$3,Sheet4!$E$2:$E$8409,Sheet3!BC$4,Sheet4!$A$2:$A$8409,Sheet3!$B$1,Sheet4!$B$2:$B$8409,Sheet3!$A$3)","v":0},{"$f":"+SUMIFS(Sheet4!$DM$2:$DM$8409,Sheet4!$C$2:$C$8409,Sheet3!$B24,Sheet4!$D$2:$D$8409,Sheet3!BD$3,Sheet4!$E$2:$E$8409,Sheet3!BD$4,Sheet4!$A$2:$A$8409,Sheet3!$B$1,Sheet4!$B$2:$B$8409,Sheet3!$A$3)","v":0},{"$f":"+SUMIFS(Sheet4!$DM$2:$DM$8409,Sheet4!$C$2:$C$8409,Sheet3!$B24,Sheet4!$D$2:$D$8409,Sheet3!BE$3,Sheet4!$E$2:$E$8409,Sheet3!BE$4,Sheet4!$A$2:$A$8409,Sheet3!$B$1,Sheet4!$B$2:$B$8409,Sheet3!$A$3)","v":0},{"$f":"+SUMIFS(Sheet4!$DM$2:$DM$8409,Sheet4!$C$2:$C$8409,Sheet3!$B24,Sheet4!$D$2:$D$8409,Sheet3!BF$3,Sheet4!$E$2:$E$8409,Sheet3!BF$4,Sheet4!$A$2:$A$8409,Sheet3!$B$1,Sheet4!$B$2:$B$8409,Sheet3!$A$3)","v":0},{"$f":"+SUMIFS(Sheet4!$DM$2:$DM$8409,Sheet4!$C$2:$C$8409,Sheet3!$B24,Sheet4!$D$2:$D$8409,Sheet3!BG$3,Sheet4!$E$2:$E$8409,Sheet3!BG$4,Sheet4!$A$2:$A$8409,Sheet3!$B$1,Sheet4!$B$2:$B$8409,Sheet3!$A$3)","v":0},{"$f":"+SUMIFS(Sheet4!$DM$2:$DM$8409,Sheet4!$C$2:$C$8409,Sheet3!$B24,Sheet4!$D$2:$D$8409,Sheet3!BH$3,Sheet4!$E$2:$E$8409,Sheet3!BH$4,Sheet4!$A$2:$A$8409,Sheet3!$B$1,Sheet4!$B$2:$B$8409,Sheet3!$A$3)","v":0},{"$f":"+SUMIFS(Sheet4!$DM$2:$DM$8409,Sheet4!$C$2:$C$8409,Sheet3!$B24,Sheet4!$D$2:$D$8409,Sheet3!BI$3,Sheet4!$E$2:$E$8409,Sheet3!BI$4,Sheet4!$A$2:$A$8409,Sheet3!$B$1,Sheet4!$B$2:$B$8409,Sheet3!$A$3)","v":0},{"$f":"+SUMIFS(Sheet4!$DM$2:$DM$8409,Sheet4!$C$2:$C$8409,Sheet3!$B24,Sheet4!$D$2:$D$8409,Sheet3!BJ$3,Sheet4!$E$2:$E$8409,Sheet3!BJ$4,Sheet4!$A$2:$A$8409,Sheet3!$B$1,Sheet4!$B$2:$B$8409,Sheet3!$A$3)","v":0},{"$f":"+SUMIFS(Sheet4!$DM$2:$DM$8409,Sheet4!$C$2:$C$8409,Sheet3!$B24,Sheet4!$D$2:$D$8409,Sheet3!BK$3,Sheet4!$E$2:$E$8409,Sheet3!BK$4,Sheet4!$A$2:$A$8409,Sheet3!$B$1,Sheet4!$B$2:$B$8409,Sheet3!$A$3)","v":0},{"$f":"+SUMIFS(Sheet4!$DM$2:$DM$8409,Sheet4!$C$2:$C$8409,Sheet3!$B24,Sheet4!$D$2:$D$8409,Sheet3!BL$3,Sheet4!$E$2:$E$8409,Sheet3!BL$4,Sheet4!$A$2:$A$8409,Sheet3!$B$1,Sheet4!$B$2:$B$8409,Sheet3!$A$3)","v":0},{"$f":"+SUMIFS(Sheet4!$DM$2:$DM$8409,Sheet4!$C$2:$C$8409,Sheet3!$B24,Sheet4!$D$2:$D$8409,Sheet3!BM$3,Sheet4!$E$2:$E$8409,Sheet3!BM$4,Sheet4!$A$2:$A$8409,Sheet3!$B$1,Sheet4!$B$2:$B$8409,Sheet3!$A$3)","v":0},{"$f":"+SUMIFS(Sheet4!$DM$2:$DM$8409,Sheet4!$C$2:$C$8409,Sheet3!$B24,Sheet4!$D$2:$D$8409,Sheet3!BN$3,Sheet4!$E$2:$E$8409,Sheet3!BN$4,Sheet4!$A$2:$A$8409,Sheet3!$B$1,Sheet4!$B$2:$B$8409,Sheet3!$A$3)","v":0},{"$f":"+SUMIFS(Sheet4!$DM$2:$DM$8409,Sheet4!$C$2:$C$8409,Sheet3!$B24,Sheet4!$D$2:$D$8409,Sheet3!BO$3,Sheet4!$E$2:$E$8409,Sheet3!BO$4,Sheet4!$A$2:$A$8409,Sheet3!$B$1,Sheet4!$B$2:$B$8409,Sheet3!$A$3)","v":0},{"$f":"+SUMIFS(Sheet4!$DM$2:$DM$8409,Sheet4!$C$2:$C$8409,Sheet3!$B24,Sheet4!$D$2:$D$8409,Sheet3!BP$3,Sheet4!$E$2:$E$8409,Sheet3!BP$4,Sheet4!$A$2:$A$8409,Sheet3!$B$1,Sheet4!$B$2:$B$8409,Sheet3!$A$3)","v":0},{"$f":"+SUMIFS(Sheet4!$DM$2:$DM$8409,Sheet4!$C$2:$C$8409,Sheet3!$B24,Sheet4!$D$2:$D$8409,Sheet3!BQ$3,Sheet4!$E$2:$E$8409,Sheet3!BQ$4,Sheet4!$A$2:$A$8409,Sheet3!$B$1,Sheet4!$B$2:$B$8409,Sheet3!$A$3)","v":0},{"$f":"+SUMIFS(Sheet4!$DM$2:$DM$8409,Sheet4!$C$2:$C$8409,Sheet3!$B24,Sheet4!$D$2:$D$8409,Sheet3!BR$3,Sheet4!$E$2:$E$8409,Sheet3!BR$4,Sheet4!$A$2:$A$8409,Sheet3!$B$1,Sheet4!$B$2:$B$8409,Sheet3!$A$3)","v":0},{"$f":"+SUMIFS(Sheet4!$DM$2:$DM$8409,Sheet4!$C$2:$C$8409,Sheet3!$B24,Sheet4!$D$2:$D$8409,Sheet3!BS$3,Sheet4!$E$2:$E$8409,Sheet3!BS$4,Sheet4!$A$2:$A$8409,Sheet3!$B$1,Sheet4!$B$2:$B$8409,Sheet3!$A$3)","v":5688.13},{"$f":"+SUMIFS(Sheet4!$DM$2:$DM$8409,Sheet4!$C$2:$C$8409,Sheet3!$B24,Sheet4!$D$2:$D$8409,Sheet3!BT$3,Sheet4!$E$2:$E$8409,Sheet3!BT$4,Sheet4!$A$2:$A$8409,Sheet3!$B$1,Sheet4!$B$2:$B$8409,Sheet3!$A$3)","v":14249.09},{"$f":"+SUMIFS(Sheet4!$DM$2:$DM$8409,Sheet4!$C$2:$C$8409,Sheet3!$B24,Sheet4!$D$2:$D$8409,Sheet3!BU$3,Sheet4!$E$2:$E$8409,Sheet3!BU$4,Sheet4!$A$2:$A$8409,Sheet3!$B$1,Sheet4!$B$2:$B$8409,Sheet3!$A$3)","v":8770},{"$f":"+SUMIFS(Sheet4!$DM$2:$DM$8409,Sheet4!$C$2:$C$8409,Sheet3!$B24,Sheet4!$D$2:$D$8409,Sheet3!BV$3,Sheet4!$E$2:$E$8409,Sheet3!BV$4,Sheet4!$A$2:$A$8409,Sheet3!$B$1,Sheet4!$B$2:$B$8409,Sheet3!$A$3)","v":0},{"$f":"+SUMIFS(Sheet4!$DM$2:$DM$8409,Sheet4!$C$2:$C$8409,Sheet3!$B24,Sheet4!$D$2:$D$8409,Sheet3!BW$3,Sheet4!$E$2:$E$8409,Sheet3!BW$4,Sheet4!$A$2:$A$8409,Sheet3!$B$1,Sheet4!$B$2:$B$8409,Sheet3!$A$3)","v":0},{"$f":"+SUMIFS(Sheet4!$DM$2:$DM$8409,Sheet4!$C$2:$C$8409,Sheet3!$B24,Sheet4!$D$2:$D$8409,Sheet3!BX$3,Sheet4!$E$2:$E$8409,Sheet3!BX$4,Sheet4!$A$2:$A$8409,Sheet3!$B$1,Sheet4!$B$2:$B$8409,Sheet3!$A$3)","v":0},{"$f":"+SUMIFS(Sheet4!$DM$2:$DM$8409,Sheet4!$C$2:$C$8409,Sheet3!$B24,Sheet4!$D$2:$D$8409,Sheet3!BY$3,Sheet4!$E$2:$E$8409,Sheet3!BY$4,Sheet4!$A$2:$A$8409,Sheet3!$B$1,Sheet4!$B$2:$B$8409,Sheet3!$A$3)","v":0},{"$f":"+SUMIFS(Sheet4!$DM$2:$DM$8409,Sheet4!$C$2:$C$8409,Sheet3!$B24,Sheet4!$D$2:$D$8409,Sheet3!BZ$3,Sheet4!$E$2:$E$8409,Sheet3!BZ$4,Sheet4!$A$2:$A$8409,Sheet3!$B$1,Sheet4!$B$2:$B$8409,Sheet3!$A$3)","v":0},{"$f":"+SUMIFS(Sheet4!$DM$2:$DM$8409,Sheet4!$C$2:$C$8409,Sheet3!$B24,Sheet4!$D$2:$D$8409,Sheet3!CA$3,Sheet4!$E$2:$E$8409,Sheet3!CA$4,Sheet4!$A$2:$A$8409,Sheet3!$B$1,Sheet4!$B$2:$B$8409,Sheet3!$A$3)","v":0},{"$f":"+SUMIFS(Sheet4!$DM$2:$DM$8409,Sheet4!$C$2:$C$8409,Sheet3!$B24,Sheet4!$D$2:$D$8409,Sheet3!CB$3,Sheet4!$E$2:$E$8409,Sheet3!CB$4,Sheet4!$A$2:$A$8409,Sheet3!$B$1,Sheet4!$B$2:$B$8409,Sheet3!$A$3)","v":0},{"$f":"+SUMIFS(Sheet4!$DM$2:$DM$8409,Sheet4!$C$2:$C$8409,Sheet3!$B24,Sheet4!$D$2:$D$8409,Sheet3!CC$3,Sheet4!$E$2:$E$8409,Sheet3!CC$4,Sheet4!$A$2:$A$8409,Sheet3!$B$1,Sheet4!$B$2:$B$8409,Sheet3!$A$3)","v":0},{"$f":"+SUMIFS(Sheet4!$DM$2:$DM$8409,Sheet4!$C$2:$C$8409,Sheet3!$B24,Sheet4!$D$2:$D$8409,Sheet3!CD$3,Sheet4!$E$2:$E$8409,Sheet3!CD$4,Sheet4!$A$2:$A$8409,Sheet3!$B$1,Sheet4!$B$2:$B$8409,Sheet3!$A$3)","v":28263.56},{"$f":"+SUMIFS(Sheet4!$DM$2:$DM$8409,Sheet4!$C$2:$C$8409,Sheet3!$B24,Sheet4!$D$2:$D$8409,Sheet3!CE$3,Sheet4!$E$2:$E$8409,Sheet3!CE$4,Sheet4!$A$2:$A$8409,Sheet3!$B$1,Sheet4!$B$2:$B$8409,Sheet3!$A$3)","v":6432.62},{"$f":"+SUMIFS(Sheet4!$DM$2:$DM$8409,Sheet4!$C$2:$C$8409,Sheet3!$B24,Sheet4!$D$2:$D$8409,Sheet3!CF$3,Sheet4!$E$2:$E$8409,Sheet3!CF$4,Sheet4!$A$2:$A$8409,Sheet3!$B$1,Sheet4!$B$2:$B$8409,Sheet3!$A$3)","v":0},{"$f":"+SUMIFS(Sheet4!$DM$2:$DM$8409,Sheet4!$C$2:$C$8409,Sheet3!$B24,Sheet4!$D$2:$D$8409,Sheet3!CG$3,Sheet4!$E$2:$E$8409,Sheet3!CG$4,Sheet4!$A$2:$A$8409,Sheet3!$B$1,Sheet4!$B$2:$B$8409,Sheet3!$A$3)","v":0},{"$f":"+SUMIFS(Sheet4!$DM$2:$DM$8409,Sheet4!$C$2:$C$8409,Sheet3!$B24,Sheet4!$D$2:$D$8409,Sheet3!CH$3,Sheet4!$E$2:$E$8409,Sheet3!CH$4,Sheet4!$A$2:$A$8409,Sheet3!$B$1,Sheet4!$B$2:$B$8409,Sheet3!$A$3)","v":0},{"$f":"+SUMIFS(Sheet4!$DM$2:$DM$8409,Sheet4!$C$2:$C$8409,Sheet3!$B24,Sheet4!$D$2:$D$8409,Sheet3!CI$3,Sheet4!$E$2:$E$8409,Sheet3!CI$4,Sheet4!$A$2:$A$8409,Sheet3!$B$1,Sheet4!$B$2:$B$8409,Sheet3!$A$3)","v":0},{"$f":"+SUMIFS(Sheet4!$DM$2:$DM$8409,Sheet4!$C$2:$C$8409,Sheet3!$B24,Sheet4!$D$2:$D$8409,Sheet3!CJ$3,Sheet4!$E$2:$E$8409,Sheet3!CJ$4,Sheet4!$A$2:$A$8409,Sheet3!$B$1,Sheet4!$B$2:$B$8409,Sheet3!$A$3)","v":0},{"$f":"+SUMIFS(Sheet4!$DM$2:$DM$8409,Sheet4!$C$2:$C$8409,Sheet3!$B24,Sheet4!$D$2:$D$8409,Sheet3!CK$3,Sheet4!$E$2:$E$8409,Sheet3!CK$4,Sheet4!$A$2:$A$8409,Sheet3!$B$1,Sheet4!$B$2:$B$8409,Sheet3!$A$3)","v":0},{"$f":"+SUMIFS(Sheet4!$DM$2:$DM$8409,Sheet4!$C$2:$C$8409,Sheet3!$B24,Sheet4!$D$2:$D$8409,Sheet3!CL$3,Sheet4!$E$2:$E$8409,Sheet3!CL$4,Sheet4!$A$2:$A$8409,Sheet3!$B$1,Sheet4!$B$2:$B$8409,Sheet3!$A$3)","v":0},{"$f":"+SUMIFS(Sheet4!$DM$2:$DM$8409,Sheet4!$C$2:$C$8409,Sheet3!$B24,Sheet4!$D$2:$D$8409,Sheet3!CM$3,Sheet4!$E$2:$E$8409,Sheet3!CM$4,Sheet4!$A$2:$A$8409,Sheet3!$B$1,Sheet4!$B$2:$B$8409,Sheet3!$A$3)","v":0},{"$f":"+SUMIFS(Sheet4!$DM$2:$DM$8409,Sheet4!$C$2:$C$8409,Sheet3!$B24,Sheet4!$D$2:$D$8409,Sheet3!CN$3,Sheet4!$E$2:$E$8409,Sheet3!CN$4,Sheet4!$A$2:$A$8409,Sheet3!$B$1,Sheet4!$B$2:$B$8409,Sheet3!$A$3)","v":0},{"$f":"+SUMIFS(Sheet4!$DM$2:$DM$8409,Sheet4!$C$2:$C$8409,Sheet3!$B24,Sheet4!$D$2:$D$8409,Sheet3!CO$3,Sheet4!$E$2:$E$8409,Sheet3!CO$4,Sheet4!$A$2:$A$8409,Sheet3!$B$1,Sheet4!$B$2:$B$8409,Sheet3!$A$3)","v":0},{"$f":"+SUMIFS(Sheet4!$DM$2:$DM$8409,Sheet4!$C$2:$C$8409,Sheet3!$B24,Sheet4!$D$2:$D$8409,Sheet3!CP$3,Sheet4!$E$2:$E$8409,Sheet3!CP$4,Sheet4!$A$2:$A$8409,Sheet3!$B$1,Sheet4!$B$2:$B$8409,Sheet3!$A$3)","v":0},{"$f":"+SUMIFS(Sheet4!$DM$2:$DM$8409,Sheet4!$C$2:$C$8409,Sheet3!$B24,Sheet4!$D$2:$D$8409,Sheet3!CQ$3,Sheet4!$E$2:$E$8409,Sheet3!CQ$4,Sheet4!$A$2:$A$8409,Sheet3!$B$1,Sheet4!$B$2:$B$8409,Sheet3!$A$3)","v":0},{"$f":"+SUMIFS(Sheet4!$DM$2:$DM$8409,Sheet4!$C$2:$C$8409,Sheet3!$B24,Sheet4!$D$2:$D$8409,Sheet3!CR$3,Sheet4!$E$2:$E$8409,Sheet3!CR$4,Sheet4!$A$2:$A$8409,Sheet3!$B$1,Sheet4!$B$2:$B$8409,Sheet3!$A$3)","v":0},{"$f":"+SUMIFS(Sheet4!$DM$2:$DM$8409,Sheet4!$C$2:$C$8409,Sheet3!$B24,Sheet4!$D$2:$D$8409,Sheet3!CS$3,Sheet4!$E$2:$E$8409,Sheet3!CS$4,Sheet4!$A$2:$A$8409,Sheet3!$B$1,Sheet4!$B$2:$B$8409,Sheet3!$A$3)","v":0},{"$f":"+SUMIFS(Sheet4!$DM$2:$DM$8409,Sheet4!$C$2:$C$8409,Sheet3!$B24,Sheet4!$D$2:$D$8409,Sheet3!CT$3,Sheet4!$E$2:$E$8409,Sheet3!CT$4,Sheet4!$A$2:$A$8409,Sheet3!$B$1,Sheet4!$B$2:$B$8409,Sheet3!$A$3)","v":0},{"$f":"+IF(SUMIFS(Sheet4!$DN$2:$DN$8409,Sheet4!$C$2:$C$8409,Sheet3!$B24,Sheet4!$D$2:$D$8409,Sheet3!CU$3,Sheet4!$A$2:$A$8409,Sheet3!$B$1,Sheet4!$B$2:$B$8409,Sheet3!$A$3)<3,0,SUMIFS(Sheet4!$DN$2:$DN$8409,Sheet4!$C$2:$C$8409,Sheet3!$B24,Sheet4!$D$2:$D$8409,Sheet3!CU$3,Sheet4!$A$2:$A$8409,Sheet3!$B$1,Sheet4!$B$2:$B$8409,Sheet3!$A$3))","v":0},{"$f":"+IF(SUMIFS(Sheet4!$DN$2:$DN$8409,Sheet4!$C$2:$C$8409,Sheet3!$B24,Sheet4!$D$2:$D$8409,Sheet3!CV$3,Sheet4!$A$2:$A$8409,Sheet3!$B$1,Sheet4!$B$2:$B$8409,Sheet3!$A$3)<3,0,SUMIFS(Sheet4!$DN$2:$DN$8409,Sheet4!$C$2:$C$8409,Sheet3!$B24,Sheet4!$D$2:$D$8409,Sheet3!CV$3,Sheet4!$A$2:$A$8409,Sheet3!$B$1,Sheet4!$B$2:$B$8409,Sheet3!$A$3))","v":0},{"$f":"+IF(SUMIFS(Sheet4!$DN$2:$DN$8409,Sheet4!$C$2:$C$8409,Sheet3!$B24,Sheet4!$D$2:$D$8409,Sheet3!CW$3,Sheet4!$A$2:$A$8409,Sheet3!$B$1,Sheet4!$B$2:$B$8409,Sheet3!$A$3)<3,0,SUMIFS(Sheet4!$DN$2:$DN$8409,Sheet4!$C$2:$C$8409,Sheet3!$B24,Sheet4!$D$2:$D$8409,Sheet3!CW$3,Sheet4!$A$2:$A$8409,Sheet3!$B$1,Sheet4!$B$2:$B$8409,Sheet3!$A$3))","v":0},{"$f":"+IF(SUMIFS(Sheet4!$DN$2:$DN$8409,Sheet4!$C$2:$C$8409,Sheet3!$B24,Sheet4!$D$2:$D$8409,Sheet3!CX$3,Sheet4!$A$2:$A$8409,Sheet3!$B$1,Sheet4!$B$2:$B$8409,Sheet3!$A$3)<3,0,SUMIFS(Sheet4!$DN$2:$DN$8409,Sheet4!$C$2:$C$8409,Sheet3!$B24,Sheet4!$D$2:$D$8409,Sheet3!CX$3,Sheet4!$A$2:$A$8409,Sheet3!$B$1,Sheet4!$B$2:$B$8409,Sheet3!$A$3))","v":0},{"$f":"+IF(SUMIFS(Sheet4!$DN$2:$DN$8409,Sheet4!$C$2:$C$8409,Sheet3!$B24,Sheet4!$D$2:$D$8409,Sheet3!CY$3,Sheet4!$A$2:$A$8409,Sheet3!$B$1,Sheet4!$B$2:$B$8409,Sheet3!$A$3)<3,0,SUMIFS(Sheet4!$DN$2:$DN$8409,Sheet4!$C$2:$C$8409,Sheet3!$B24,Sheet4!$D$2:$D$8409,Sheet3!CY$3,Sheet4!$A$2:$A$8409,Sheet3!$B$1,Sheet4!$B$2:$B$8409,Sheet3!$A$3))","v":0},{"$f":"+IF(SUMIFS(Sheet4!$DN$2:$DN$8409,Sheet4!$C$2:$C$8409,Sheet3!$B24,Sheet4!$D$2:$D$8409,Sheet3!CZ$3,Sheet4!$A$2:$A$8409,Sheet3!$B$1,Sheet4!$B$2:$B$8409,Sheet3!$A$3)<3,0,SUMIFS(Sheet4!$DN$2:$DN$8409,Sheet4!$C$2:$C$8409,Sheet3!$B24,Sheet4!$D$2:$D$8409,Sheet3!CZ$3,Sheet4!$A$2:$A$8409,Sheet3!$B$1,Sheet4!$B$2:$B$8409,Sheet3!$A$3))","v":3419.35},{"$f":"+IF(SUMIFS(Sheet4!$DN$2:$DN$8409,Sheet4!$C$2:$C$8409,Sheet3!$B24,Sheet4!$D$2:$D$8409,Sheet3!DA$3,Sheet4!$A$2:$A$8409,Sheet3!$B$1,Sheet4!$B$2:$B$8409,Sheet3!$A$3)<3,0,SUMIFS(Sheet4!$DN$2:$DN$8409,Sheet4!$C$2:$C$8409,Sheet3!$B24,Sheet4!$D$2:$D$8409,Sheet3!DA$3,Sheet4!$A$2:$A$8409,Sheet3!$B$1,Sheet4!$B$2:$B$8409,Sheet3!$A$3))","v":0},{"$f":"+IF(SUMIFS(Sheet4!$DN$2:$DN$8409,Sheet4!$C$2:$C$8409,Sheet3!$B24,Sheet4!$D$2:$D$8409,Sheet3!DB$3,Sheet4!$A$2:$A$8409,Sheet3!$B$1,Sheet4!$B$2:$B$8409,Sheet3!$A$3)<3,0,SUMIFS(Sheet4!$DN$2:$DN$8409,Sheet4!$C$2:$C$8409,Sheet3!$B24,Sheet4!$D$2:$D$8409,Sheet3!DB$3,Sheet4!$A$2:$A$8409,Sheet3!$B$1,Sheet4!$B$2:$B$8409,Sheet3!$A$3))","v":132.16},{"$f":"+IF(SUMIFS(Sheet4!$DN$2:$DN$8409,Sheet4!$C$2:$C$8409,Sheet3!$B24,Sheet4!$D$2:$D$8409,Sheet3!DC$3,Sheet4!$A$2:$A$8409,Sheet3!$B$1,Sheet4!$B$2:$B$8409,Sheet3!$A$3)<3,0,SUMIFS(Sheet4!$DN$2:$DN$8409,Sheet4!$C$2:$C$8409,Sheet3!$B24,Sheet4!$D$2:$D$8409,Sheet3!DC$3,Sheet4!$A$2:$A$8409,Sheet3!$B$1,Sheet4!$B$2:$B$8409,Sheet3!$A$3))","v":0},{"$f":"+IF(SUMIFS(Sheet4!$DN$2:$DN$8409,Sheet4!$C$2:$C$8409,Sheet3!$B24,Sheet4!$D$2:$D$8409,Sheet3!DD$3,Sheet4!$A$2:$A$8409,Sheet3!$B$1,Sheet4!$B$2:$B$8409,Sheet3!$A$3)<3,0,SUMIFS(Sheet4!$DN$2:$DN$8409,Sheet4!$C$2:$C$8409,Sheet3!$B24,Sheet4!$D$2:$D$8409,Sheet3!DD$3,Sheet4!$A$2:$A$8409,Sheet3!$B$1,Sheet4!$B$2:$B$8409,Sheet3!$A$3))","v":0},{"$f":"+IF(SUMIFS(Sheet4!$DN$2:$DN$8409,Sheet4!$C$2:$C$8409,Sheet3!$B24,Sheet4!$D$2:$D$8409,Sheet3!DE$3,Sheet4!$A$2:$A$8409,Sheet3!$B$1,Sheet4!$B$2:$B$8409,Sheet3!$A$3)<3,0,SUMIFS(Sheet4!$DN$2:$DN$8409,Sheet4!$C$2:$C$8409,Sheet3!$B24,Sheet4!$D$2:$D$8409,Sheet3!DE$3,Sheet4!$A$2:$A$8409,Sheet3!$B$1,Sheet4!$B$2:$B$8409,Sheet3!$A$3))","v":0},{"$f":"+IF(SUMIFS(Sheet4!$DN$2:$DN$8409,Sheet4!$C$2:$C$8409,Sheet3!$B24,Sheet4!$D$2:$D$8409,Sheet3!DF$3,Sheet4!$A$2:$A$8409,Sheet3!$B$1,Sheet4!$B$2:$B$8409,Sheet3!$A$3)<3,0,SUMIFS(Sheet4!$DN$2:$DN$8409,Sheet4!$C$2:$C$8409,Sheet3!$B24,Sheet4!$D$2:$D$8409,Sheet3!DF$3,Sheet4!$A$2:$A$8409,Sheet3!$B$1,Sheet4!$B$2:$B$8409,Sheet3!$A$3))","v":0},{"$f":"+IF(SUMIFS(Sheet4!$DN$2:$DN$8409,Sheet4!$C$2:$C$8409,Sheet3!$B24,Sheet4!$D$2:$D$8409,Sheet3!DG$3,Sheet4!$A$2:$A$8409,Sheet3!$B$1,Sheet4!$B$2:$B$8409,Sheet3!$A$3)<3,0,SUMIFS(Sheet4!$DN$2:$DN$8409,Sheet4!$C$2:$C$8409,Sheet3!$B24,Sheet4!$D$2:$D$8409,Sheet3!DG$3,Sheet4!$A$2:$A$8409,Sheet3!$B$1,Sheet4!$B$2:$B$8409,Sheet3!$A$3))","v":0},{"$f":"+IF(SUMIFS(Sheet4!$DN$2:$DN$8409,Sheet4!$C$2:$C$8409,Sheet3!$B24,Sheet4!$D$2:$D$8409,Sheet3!DH$3,Sheet4!$A$2:$A$8409,Sheet3!$B$1,Sheet4!$B$2:$B$8409,Sheet3!$A$3)<3,0,SUMIFS(Sheet4!$DN$2:$DN$8409,Sheet4!$C$2:$C$8409,Sheet3!$B24,Sheet4!$D$2:$D$8409,Sheet3!DH$3,Sheet4!$A$2:$A$8409,Sheet3!$B$1,Sheet4!$B$2:$B$8409,Sheet3!$A$3))","v":28707.22},{"$f":"+IF(SUMIFS(Sheet4!$DN$2:$DN$8409,Sheet4!$C$2:$C$8409,Sheet3!$B24,Sheet4!$D$2:$D$8409,Sheet3!DI$3,Sheet4!$A$2:$A$8409,Sheet3!$B$1,Sheet4!$B$2:$B$8409,Sheet3!$A$3)<3,0,SUMIFS(Sheet4!$DN$2:$DN$8409,Sheet4!$C$2:$C$8409,Sheet3!$B24,Sheet4!$D$2:$D$8409,Sheet3!DI$3,Sheet4!$A$2:$A$8409,Sheet3!$B$1,Sheet4!$B$2:$B$8409,Sheet3!$A$3))","v":0},{"$f":"+IF(SUMIFS(Sheet4!$DN$2:$DN$8409,Sheet4!$C$2:$C$8409,Sheet3!$B24,Sheet4!$D$2:$D$8409,Sheet3!DJ$3,Sheet4!$A$2:$A$8409,Sheet3!$B$1,Sheet4!$B$2:$B$8409,Sheet3!$A$3)<3,0,SUMIFS(Sheet4!$DN$2:$DN$8409,Sheet4!$C$2:$C$8409,Sheet3!$B24,Sheet4!$D$2:$D$8409,Sheet3!DJ$3,Sheet4!$A$2:$A$8409,Sheet3!$B$1,Sheet4!$B$2:$B$8409,Sheet3!$A$3))","v":34696.18},{"$f":"+IF(SUMIFS(Sheet4!$DN$2:$DN$8409,Sheet4!$C$2:$C$8409,Sheet3!$B24,Sheet4!$D$2:$D$8409,Sheet3!DK$3,Sheet4!$A$2:$A$8409,Sheet3!$B$1,Sheet4!$B$2:$B$8409,Sheet3!$A$3)<3,0,SUMIFS(Sheet4!$DN$2:$DN$8409,Sheet4!$C$2:$C$8409,Sheet3!$B24,Sheet4!$D$2:$D$8409,Sheet3!DK$3,Sheet4!$A$2:$A$8409,Sheet3!$B$1,Sheet4!$B$2:$B$8409,Sheet3!$A$3))","v":0},{"$f":"+IF(SUMIFS(Sheet4!$DN$2:$DN$8409,Sheet4!$C$2:$C$8409,Sheet3!$B24,Sheet4!$D$2:$D$8409,Sheet3!DL$3,Sheet4!$A$2:$A$8409,Sheet3!$B$1,Sheet4!$B$2:$B$8409,Sheet3!$A$3)<3,0,SUMIFS(Sheet4!$DN$2:$DN$8409,Sheet4!$C$2:$C$8409,Sheet3!$B24,Sheet4!$D$2:$D$8409,Sheet3!DL$3,Sheet4!$A$2:$A$8409,Sheet3!$B$1,Sheet4!$B$2:$B$8409,Sheet3!$A$3))","v":0},{"$f":"+IF(SUMIFS(Sheet4!$DN$2:$DN$8409,Sheet4!$C$2:$C$8409,Sheet3!$B24,Sheet4!$D$2:$D$8409,Sheet3!DM$3,Sheet4!$A$2:$A$8409,Sheet3!$B$1,Sheet4!$B$2:$B$8409,Sheet3!$A$3)<3,0,SUMIFS(Sheet4!$DN$2:$DN$8409,Sheet4!$C$2:$C$8409,Sheet3!$B24,Sheet4!$D$2:$D$8409,Sheet3!DM$3,Sheet4!$A$2:$A$8409,Sheet3!$B$1,Sheet4!$B$2:$B$8409,Sheet3!$A$3))","v":0},{"$f":"+IF(SUMIFS(Sheet4!$DN$2:$DN$8409,Sheet4!$C$2:$C$8409,Sheet3!$B24,Sheet4!$E$2:$E$8409,Sheet3!DN$4,Sheet4!$A$2:$A$8409,Sheet3!$B$1,Sheet4!$B$2:$B$8409,Sheet3!$A$3)<3,0,SUMIFS(Sheet4!$DN$2:$DN$8409,Sheet4!$C$2:$C$8409,Sheet3!$B24,Sheet4!$E$2:$E$8409,Sheet3!DN$4,Sheet4!$A$2:$A$8409,Sheet3!$B$1,Sheet4!$B$2:$B$8409,Sheet3!$A$3))","v":0},{"$f":"+IF(SUMIFS(Sheet4!$DN$2:$DN$8409,Sheet4!$C$2:$C$8409,Sheet3!$B24,Sheet4!$E$2:$E$8409,Sheet3!DO$4,Sheet4!$A$2:$A$8409,Sheet3!$B$1,Sheet4!$B$2:$B$8409,Sheet3!$A$3)<3,0,SUMIFS(Sheet4!$DN$2:$DN$8409,Sheet4!$C$2:$C$8409,Sheet3!$B24,Sheet4!$E$2:$E$8409,Sheet3!DO$4,Sheet4!$A$2:$A$8409,Sheet3!$B$1,Sheet4!$B$2:$B$8409,Sheet3!$A$3))","v":0},{"$f":"+IF(SUMIFS(Sheet4!$DN$2:$DN$8409,Sheet4!$C$2:$C$8409,Sheet3!$B24,Sheet4!$E$2:$E$8409,Sheet3!DP$4,Sheet4!$A$2:$A$8409,Sheet3!$B$1,Sheet4!$B$2:$B$8409,Sheet3!$A$3)<3,0,SUMIFS(Sheet4!$DN$2:$DN$8409,Sheet4!$C$2:$C$8409,Sheet3!$B24,Sheet4!$E$2:$E$8409,Sheet3!DP$4,Sheet4!$A$2:$A$8409,Sheet3!$B$1,Sheet4!$B$2:$B$8409,Sheet3!$A$3))","v":5820.29},{"$f":"+IF(SUMIFS(Sheet4!$DN$2:$DN$8409,Sheet4!$C$2:$C$8409,Sheet3!$B24,Sheet4!$E$2:$E$8409,Sheet3!DQ$4,Sheet4!$A$2:$A$8409,Sheet3!$B$1,Sheet4!$B$2:$B$8409,Sheet3!$A$3)<3,0,SUMIFS(Sheet4!$DN$2:$DN$8409,Sheet4!$C$2:$C$8409,Sheet3!$B24,Sheet4!$E$2:$E$8409,Sheet3!DQ$4,Sheet4!$A$2:$A$8409,Sheet3!$B$1,Sheet4!$B$2:$B$8409,Sheet3!$A$3))","v":45932},{"$f":"+IF(SUMIFS(Sheet4!$DN$2:$DN$8409,Sheet4!$C$2:$C$8409,Sheet3!$B24,Sheet4!$E$2:$E$8409,Sheet3!DR$4,Sheet4!$A$2:$A$8409,Sheet3!$B$1,Sheet4!$B$2:$B$8409,Sheet3!$A$3)<3,0,SUMIFS(Sheet4!$DN$2:$DN$8409,Sheet4!$C$2:$C$8409,Sheet3!$B24,Sheet4!$E$2:$E$8409,Sheet3!DR$4,Sheet4!$A$2:$A$8409,Sheet3!$B$1,Sheet4!$B$2:$B$8409,Sheet3!$A$3))","v":15202.619999999999}]
[4,"181","Alentejo Litoral",{"$f":"+SUMIFS(Sheet4!$DM$2:$DM$8409,Sheet4!$C$2:$C$8409,Sheet3!$B25,Sheet4!$D$2:$D$8409,Sheet3!D$3,Sheet4!$E$2:$E$8409,Sheet3!D$4,Sheet4!$A$2:$A$8409,Sheet3!$B$1,Sheet4!$B$2:$B$8409,Sheet3!$A$3)","v":0},{"$f":"+SUMIFS(Sheet4!$DM$2:$DM$8409,Sheet4!$C$2:$C$8409,Sheet3!$B25,Sheet4!$D$2:$D$8409,Sheet3!E$3,Sheet4!$E$2:$E$8409,Sheet3!E$4,Sheet4!$A$2:$A$8409,Sheet3!$B$1,Sheet4!$B$2:$B$8409,Sheet3!$A$3)","v":0},{"$f":"+SUMIFS(Sheet4!$DM$2:$DM$8409,Sheet4!$C$2:$C$8409,Sheet3!$B25,Sheet4!$D$2:$D$8409,Sheet3!F$3,Sheet4!$E$2:$E$8409,Sheet3!F$4,Sheet4!$A$2:$A$8409,Sheet3!$B$1,Sheet4!$B$2:$B$8409,Sheet3!$A$3)","v":0},{"$f":"+SUMIFS(Sheet4!$DM$2:$DM$8409,Sheet4!$C$2:$C$8409,Sheet3!$B25,Sheet4!$D$2:$D$8409,Sheet3!G$3,Sheet4!$E$2:$E$8409,Sheet3!G$4,Sheet4!$A$2:$A$8409,Sheet3!$B$1,Sheet4!$B$2:$B$8409,Sheet3!$A$3)","v":0},{"$f":"+SUMIFS(Sheet4!$DM$2:$DM$8409,Sheet4!$C$2:$C$8409,Sheet3!$B25,Sheet4!$D$2:$D$8409,Sheet3!H$3,Sheet4!$E$2:$E$8409,Sheet3!H$4,Sheet4!$A$2:$A$8409,Sheet3!$B$1,Sheet4!$B$2:$B$8409,Sheet3!$A$3)","v":0},{"$f":"+SUMIFS(Sheet4!$DM$2:$DM$8409,Sheet4!$C$2:$C$8409,Sheet3!$B25,Sheet4!$D$2:$D$8409,Sheet3!I$3,Sheet4!$E$2:$E$8409,Sheet3!I$4,Sheet4!$A$2:$A$8409,Sheet3!$B$1,Sheet4!$B$2:$B$8409,Sheet3!$A$3)","v":0},{"$f":"+SUMIFS(Sheet4!$DM$2:$DM$8409,Sheet4!$C$2:$C$8409,Sheet3!$B25,Sheet4!$D$2:$D$8409,Sheet3!J$3,Sheet4!$E$2:$E$8409,Sheet3!J$4,Sheet4!$A$2:$A$8409,Sheet3!$B$1,Sheet4!$B$2:$B$8409,Sheet3!$A$3)","v":0},{"$f":"+SUMIFS(Sheet4!$DM$2:$DM$8409,Sheet4!$C$2:$C$8409,Sheet3!$B25,Sheet4!$D$2:$D$8409,Sheet3!K$3,Sheet4!$E$2:$E$8409,Sheet3!K$4,Sheet4!$A$2:$A$8409,Sheet3!$B$1,Sheet4!$B$2:$B$8409,Sheet3!$A$3)","v":0},{"$f":"+SUMIFS(Sheet4!$DM$2:$DM$8409,Sheet4!$C$2:$C$8409,Sheet3!$B25,Sheet4!$D$2:$D$8409,Sheet3!L$3,Sheet4!$E$2:$E$8409,Sheet3!L$4,Sheet4!$A$2:$A$8409,Sheet3!$B$1,Sheet4!$B$2:$B$8409,Sheet3!$A$3)","v":0},{"$f":"+SUMIFS(Sheet4!$DM$2:$DM$8409,Sheet4!$C$2:$C$8409,Sheet3!$B25,Sheet4!$D$2:$D$8409,Sheet3!M$3,Sheet4!$E$2:$E$8409,Sheet3!M$4,Sheet4!$A$2:$A$8409,Sheet3!$B$1,Sheet4!$B$2:$B$8409,Sheet3!$A$3)","v":2996.36},{"$f":"+SUMIFS(Sheet4!$DM$2:$DM$8409,Sheet4!$C$2:$C$8409,Sheet3!$B25,Sheet4!$D$2:$D$8409,Sheet3!N$3,Sheet4!$E$2:$E$8409,Sheet3!N$4,Sheet4!$A$2:$A$8409,Sheet3!$B$1,Sheet4!$B$2:$B$8409,Sheet3!$A$3)","v":0},{"$f":"+SUMIFS(Sheet4!$DM$2:$DM$8409,Sheet4!$C$2:$C$8409,Sheet3!$B25,Sheet4!$D$2:$D$8409,Sheet3!O$3,Sheet4!$E$2:$E$8409,Sheet3!O$4,Sheet4!$A$2:$A$8409,Sheet3!$B$1,Sheet4!$B$2:$B$8409,Sheet3!$A$3)","v":0},{"$f":"+SUMIFS(Sheet4!$DM$2:$DM$8409,Sheet4!$C$2:$C$8409,Sheet3!$B25,Sheet4!$D$2:$D$8409,Sheet3!P$3,Sheet4!$E$2:$E$8409,Sheet3!P$4,Sheet4!$A$2:$A$8409,Sheet3!$B$1,Sheet4!$B$2:$B$8409,Sheet3!$A$3)","v":864.25},{"$f":"+SUMIFS(Sheet4!$DM$2:$DM$8409,Sheet4!$C$2:$C$8409,Sheet3!$B25,Sheet4!$D$2:$D$8409,Sheet3!Q$3,Sheet4!$E$2:$E$8409,Sheet3!Q$4,Sheet4!$A$2:$A$8409,Sheet3!$B$1,Sheet4!$B$2:$B$8409,Sheet3!$A$3)","v":0},{"$f":"+SUMIFS(Sheet4!$DM$2:$DM$8409,Sheet4!$C$2:$C$8409,Sheet3!$B25,Sheet4!$D$2:$D$8409,Sheet3!R$3,Sheet4!$E$2:$E$8409,Sheet3!R$4,Sheet4!$A$2:$A$8409,Sheet3!$B$1,Sheet4!$B$2:$B$8409,Sheet3!$A$3)","v":0},{"$f":"+SUMIFS(Sheet4!$DM$2:$DM$8409,Sheet4!$C$2:$C$8409,Sheet3!$B25,Sheet4!$D$2:$D$8409,Sheet3!S$3,Sheet4!$E$2:$E$8409,Sheet3!S$4,Sheet4!$A$2:$A$8409,Sheet3!$B$1,Sheet4!$B$2:$B$8409,Sheet3!$A$3)","v":0},{"$f":"+SUMIFS(Sheet4!$DM$2:$DM$8409,Sheet4!$C$2:$C$8409,Sheet3!$B25,Sheet4!$D$2:$D$8409,Sheet3!T$3,Sheet4!$E$2:$E$8409,Sheet3!T$4,Sheet4!$A$2:$A$8409,Sheet3!$B$1,Sheet4!$B$2:$B$8409,Sheet3!$A$3)","v":0},{"$f":"+SUMIFS(Sheet4!$DM$2:$DM$8409,Sheet4!$C$2:$C$8409,Sheet3!$B25,Sheet4!$D$2:$D$8409,Sheet3!U$3,Sheet4!$E$2:$E$8409,Sheet3!U$4,Sheet4!$A$2:$A$8409,Sheet3!$B$1,Sheet4!$B$2:$B$8409,Sheet3!$A$3)","v":0},{"$f":"+SUMIFS(Sheet4!$DM$2:$DM$8409,Sheet4!$C$2:$C$8409,Sheet3!$B25,Sheet4!$D$2:$D$8409,Sheet3!V$3,Sheet4!$E$2:$E$8409,Sheet3!V$4,Sheet4!$A$2:$A$8409,Sheet3!$B$1,Sheet4!$B$2:$B$8409,Sheet3!$A$3)","v":0},{"$f":"+SUMIFS(Sheet4!$DM$2:$DM$8409,Sheet4!$C$2:$C$8409,Sheet3!$B25,Sheet4!$D$2:$D$8409,Sheet3!W$3,Sheet4!$E$2:$E$8409,Sheet3!W$4,Sheet4!$A$2:$A$8409,Sheet3!$B$1,Sheet4!$B$2:$B$8409,Sheet3!$A$3)","v":0},{"$f":"+SUMIFS(Sheet4!$DM$2:$DM$8409,Sheet4!$C$2:$C$8409,Sheet3!$B25,Sheet4!$D$2:$D$8409,Sheet3!X$3,Sheet4!$E$2:$E$8409,Sheet3!X$4,Sheet4!$A$2:$A$8409,Sheet3!$B$1,Sheet4!$B$2:$B$8409,Sheet3!$A$3)","v":0},{"$f":"+SUMIFS(Sheet4!$DM$2:$DM$8409,Sheet4!$C$2:$C$8409,Sheet3!$B25,Sheet4!$D$2:$D$8409,Sheet3!Y$3,Sheet4!$E$2:$E$8409,Sheet3!Y$4,Sheet4!$A$2:$A$8409,Sheet3!$B$1,Sheet4!$B$2:$B$8409,Sheet3!$A$3)","v":0},{"$f":"+SUMIFS(Sheet4!$DM$2:$DM$8409,Sheet4!$C$2:$C$8409,Sheet3!$B25,Sheet4!$D$2:$D$8409,Sheet3!Z$3,Sheet4!$E$2:$E$8409,Sheet3!Z$4,Sheet4!$A$2:$A$8409,Sheet3!$B$1,Sheet4!$B$2:$B$8409,Sheet3!$A$3)","v":2110.4499999999998},{"$f":"+SUMIFS(Sheet4!$DM$2:$DM$8409,Sheet4!$C$2:$C$8409,Sheet3!$B25,Sheet4!$D$2:$D$8409,Sheet3!AA$3,Sheet4!$E$2:$E$8409,Sheet3!AA$4,Sheet4!$A$2:$A$8409,Sheet3!$B$1,Sheet4!$B$2:$B$8409,Sheet3!$A$3)","v":0},{"$f":"+SUMIFS(Sheet4!$DM$2:$DM$8409,Sheet4!$C$2:$C$8409,Sheet3!$B25,Sheet4!$D$2:$D$8409,Sheet3!AB$3,Sheet4!$E$2:$E$8409,Sheet3!AB$4,Sheet4!$A$2:$A$8409,Sheet3!$B$1,Sheet4!$B$2:$B$8409,Sheet3!$A$3)","v":0},{"$f":"+SUMIFS(Sheet4!$DM$2:$DM$8409,Sheet4!$C$2:$C$8409,Sheet3!$B25,Sheet4!$D$2:$D$8409,Sheet3!AC$3,Sheet4!$E$2:$E$8409,Sheet3!AC$4,Sheet4!$A$2:$A$8409,Sheet3!$B$1,Sheet4!$B$2:$B$8409,Sheet3!$A$3)","v":0},{"$f":"+SUMIFS(Sheet4!$DM$2:$DM$8409,Sheet4!$C$2:$C$8409,Sheet3!$B25,Sheet4!$D$2:$D$8409,Sheet3!AD$3,Sheet4!$E$2:$E$8409,Sheet3!AD$4,Sheet4!$A$2:$A$8409,Sheet3!$B$1,Sheet4!$B$2:$B$8409,Sheet3!$A$3)","v":0},{"$f":"+SUMIFS(Sheet4!$DM$2:$DM$8409,Sheet4!$C$2:$C$8409,Sheet3!$B25,Sheet4!$D$2:$D$8409,Sheet3!AE$3,Sheet4!$E$2:$E$8409,Sheet3!AE$4,Sheet4!$A$2:$A$8409,Sheet3!$B$1,Sheet4!$B$2:$B$8409,Sheet3!$A$3)","v":2289.4},{"$f":"+SUMIFS(Sheet4!$DM$2:$DM$8409,Sheet4!$C$2:$C$8409,Sheet3!$B25,Sheet4!$D$2:$D$8409,Sheet3!AF$3,Sheet4!$E$2:$E$8409,Sheet3!AF$4,Sheet4!$A$2:$A$8409,Sheet3!$B$1,Sheet4!$B$2:$B$8409,Sheet3!$A$3)","v":661.7},{"$f":"+SUMIFS(Sheet4!$DM$2:$DM$8409,Sheet4!$C$2:$C$8409,Sheet3!$B25,Sheet4!$D$2:$D$8409,Sheet3!AG$3,Sheet4!$E$2:$E$8409,Sheet3!AG$4,Sheet4!$A$2:$A$8409,Sheet3!$B$1,Sheet4!$B$2:$B$8409,Sheet3!$A$3)","v":0},{"$f":"+SUMIFS(Sheet4!$DM$2:$DM$8409,Sheet4!$C$2:$C$8409,Sheet3!$B25,Sheet4!$D$2:$D$8409,Sheet3!AH$3,Sheet4!$E$2:$E$8409,Sheet3!AH$4,Sheet4!$A$2:$A$8409,Sheet3!$B$1,Sheet4!$B$2:$B$8409,Sheet3!$A$3)","v":0},{"$f":"+SUMIFS(Sheet4!$DM$2:$DM$8409,Sheet4!$C$2:$C$8409,Sheet3!$B25,Sheet4!$D$2:$D$8409,Sheet3!AI$3,Sheet4!$E$2:$E$8409,Sheet3!AI$4,Sheet4!$A$2:$A$8409,Sheet3!$B$1,Sheet4!$B$2:$B$8409,Sheet3!$A$3)","v":0},{"$f":"+SUMIFS(Sheet4!$DM$2:$DM$8409,Sheet4!$C$2:$C$8409,Sheet3!$B25,Sheet4!$D$2:$D$8409,Sheet3!AJ$3,Sheet4!$E$2:$E$8409,Sheet3!AJ$4,Sheet4!$A$2:$A$8409,Sheet3!$B$1,Sheet4!$B$2:$B$8409,Sheet3!$A$3)","v":0},{"$f":"+SUMIFS(Sheet4!$DM$2:$DM$8409,Sheet4!$C$2:$C$8409,Sheet3!$B25,Sheet4!$D$2:$D$8409,Sheet3!AK$3,Sheet4!$E$2:$E$8409,Sheet3!AK$4,Sheet4!$A$2:$A$8409,Sheet3!$B$1,Sheet4!$B$2:$B$8409,Sheet3!$A$3)","v":0},{"$f":"+SUMIFS(Sheet4!$DM$2:$DM$8409,Sheet4!$C$2:$C$8409,Sheet3!$B25,Sheet4!$D$2:$D$8409,Sheet3!AL$3,Sheet4!$E$2:$E$8409,Sheet3!AL$4,Sheet4!$A$2:$A$8409,Sheet3!$B$1,Sheet4!$B$2:$B$8409,Sheet3!$A$3)","v":0},{"$f":"+SUMIFS(Sheet4!$DM$2:$DM$8409,Sheet4!$C$2:$C$8409,Sheet3!$B25,Sheet4!$D$2:$D$8409,Sheet3!AM$3,Sheet4!$E$2:$E$8409,Sheet3!AM$4,Sheet4!$A$2:$A$8409,Sheet3!$B$1,Sheet4!$B$2:$B$8409,Sheet3!$A$3)","v":0},{"$f":"+SUMIFS(Sheet4!$DM$2:$DM$8409,Sheet4!$C$2:$C$8409,Sheet3!$B25,Sheet4!$D$2:$D$8409,Sheet3!AN$3,Sheet4!$E$2:$E$8409,Sheet3!AN$4,Sheet4!$A$2:$A$8409,Sheet3!$B$1,Sheet4!$B$2:$B$8409,Sheet3!$A$3)","v":42.85},{"$f":"+SUMIFS(Sheet4!$DM$2:$DM$8409,Sheet4!$C$2:$C$8409,Sheet3!$B25,Sheet4!$D$2:$D$8409,Sheet3!AO$3,Sheet4!$E$2:$E$8409,Sheet3!AO$4,Sheet4!$A$2:$A$8409,Sheet3!$B$1,Sheet4!$B$2:$B$8409,Sheet3!$A$3)","v":4032.34},{"$f":"+SUMIFS(Sheet4!$DM$2:$DM$8409,Sheet4!$C$2:$C$8409,Sheet3!$B25,Sheet4!$D$2:$D$8409,Sheet3!AP$3,Sheet4!$E$2:$E$8409,Sheet3!AP$4,Sheet4!$A$2:$A$8409,Sheet3!$B$1,Sheet4!$B$2:$B$8409,Sheet3!$A$3)","v":12636.05},{"$f":"+SUMIFS(Sheet4!$DM$2:$DM$8409,Sheet4!$C$2:$C$8409,Sheet3!$B25,Sheet4!$D$2:$D$8409,Sheet3!AQ$3,Sheet4!$E$2:$E$8409,Sheet3!AQ$4,Sheet4!$A$2:$A$8409,Sheet3!$B$1,Sheet4!$B$2:$B$8409,Sheet3!$A$3)","v":0},{"$f":"+SUMIFS(Sheet4!$DM$2:$DM$8409,Sheet4!$C$2:$C$8409,Sheet3!$B25,Sheet4!$D$2:$D$8409,Sheet3!AR$3,Sheet4!$E$2:$E$8409,Sheet3!AR$4,Sheet4!$A$2:$A$8409,Sheet3!$B$1,Sheet4!$B$2:$B$8409,Sheet3!$A$3)","v":0},{"$f":"+SUMIFS(Sheet4!$DM$2:$DM$8409,Sheet4!$C$2:$C$8409,Sheet3!$B25,Sheet4!$D$2:$D$8409,Sheet3!AS$3,Sheet4!$E$2:$E$8409,Sheet3!AS$4,Sheet4!$A$2:$A$8409,Sheet3!$B$1,Sheet4!$B$2:$B$8409,Sheet3!$A$3)","v":0},{"$f":"+SUMIFS(Sheet4!$DM$2:$DM$8409,Sheet4!$C$2:$C$8409,Sheet3!$B25,Sheet4!$D$2:$D$8409,Sheet3!AT$3,Sheet4!$E$2:$E$8409,Sheet3!AT$4,Sheet4!$A$2:$A$8409,Sheet3!$B$1,Sheet4!$B$2:$B$8409,Sheet3!$A$3)","v":0},{"$f":"+SUMIFS(Sheet4!$DM$2:$DM$8409,Sheet4!$C$2:$C$8409,Sheet3!$B25,Sheet4!$D$2:$D$8409,Sheet3!AU$3,Sheet4!$E$2:$E$8409,Sheet3!AU$4,Sheet4!$A$2:$A$8409,Sheet3!$B$1,Sheet4!$B$2:$B$8409,Sheet3!$A$3)","v":0},{"$f":"+SUMIFS(Sheet4!$DM$2:$DM$8409,Sheet4!$C$2:$C$8409,Sheet3!$B25,Sheet4!$D$2:$D$8409,Sheet3!AV$3,Sheet4!$E$2:$E$8409,Sheet3!AV$4,Sheet4!$A$2:$A$8409,Sheet3!$B$1,Sheet4!$B$2:$B$8409,Sheet3!$A$3)","v":0},{"$f":"+SUMIFS(Sheet4!$DM$2:$DM$8409,Sheet4!$C$2:$C$8409,Sheet3!$B25,Sheet4!$D$2:$D$8409,Sheet3!AW$3,Sheet4!$E$2:$E$8409,Sheet3!AW$4,Sheet4!$A$2:$A$8409,Sheet3!$B$1,Sheet4!$B$2:$B$8409,Sheet3!$A$3)","v":0},{"$f":"+SUMIFS(Sheet4!$DM$2:$DM$8409,Sheet4!$C$2:$C$8409,Sheet3!$B25,Sheet4!$D$2:$D$8409,Sheet3!AX$3,Sheet4!$E$2:$E$8409,Sheet3!AX$4,Sheet4!$A$2:$A$8409,Sheet3!$B$1,Sheet4!$B$2:$B$8409,Sheet3!$A$3)","v":0},{"$f":"+SUMIFS(Sheet4!$DM$2:$DM$8409,Sheet4!$C$2:$C$8409,Sheet3!$B25,Sheet4!$D$2:$D$8409,Sheet3!AY$3,Sheet4!$E$2:$E$8409,Sheet3!AY$4,Sheet4!$A$2:$A$8409,Sheet3!$B$1,Sheet4!$B$2:$B$8409,Sheet3!$A$3)","v":4103.8999999999996},{"$f":"+SUMIFS(Sheet4!$DM$2:$DM$8409,Sheet4!$C$2:$C$8409,Sheet3!$B25,Sheet4!$D$2:$D$8409,Sheet3!AZ$3,Sheet4!$E$2:$E$8409,Sheet3!AZ$4,Sheet4!$A$2:$A$8409,Sheet3!$B$1,Sheet4!$B$2:$B$8409,Sheet3!$A$3)","v":5124.25},{"$f":"+SUMIFS(Sheet4!$DM$2:$DM$8409,Sheet4!$C$2:$C$8409,Sheet3!$B25,Sheet4!$D$2:$D$8409,Sheet3!BA$3,Sheet4!$E$2:$E$8409,Sheet3!BA$4,Sheet4!$A$2:$A$8409,Sheet3!$B$1,Sheet4!$B$2:$B$8409,Sheet3!$A$3)","v":6935.75},{"$f":"+SUMIFS(Sheet4!$DM$2:$DM$8409,Sheet4!$C$2:$C$8409,Sheet3!$B25,Sheet4!$D$2:$D$8409,Sheet3!BB$3,Sheet4!$E$2:$E$8409,Sheet3!BB$4,Sheet4!$A$2:$A$8409,Sheet3!$B$1,Sheet4!$B$2:$B$8409,Sheet3!$A$3)","v":0},{"$f":"+SUMIFS(Sheet4!$DM$2:$DM$8409,Sheet4!$C$2:$C$8409,Sheet3!$B25,Sheet4!$D$2:$D$8409,Sheet3!BC$3,Sheet4!$E$2:$E$8409,Sheet3!BC$4,Sheet4!$A$2:$A$8409,Sheet3!$B$1,Sheet4!$B$2:$B$8409,Sheet3!$A$3)","v":0},{"$f":"+SUMIFS(Sheet4!$DM$2:$DM$8409,Sheet4!$C$2:$C$8409,Sheet3!$B25,Sheet4!$D$2:$D$8409,Sheet3!BD$3,Sheet4!$E$2:$E$8409,Sheet3!BD$4,Sheet4!$A$2:$A$8409,Sheet3!$B$1,Sheet4!$B$2:$B$8409,Sheet3!$A$3)","v":0},{"$f":"+SUMIFS(Sheet4!$DM$2:$DM$8409,Sheet4!$C$2:$C$8409,Sheet3!$B25,Sheet4!$D$2:$D$8409,Sheet3!BE$3,Sheet4!$E$2:$E$8409,Sheet3!BE$4,Sheet4!$A$2:$A$8409,Sheet3!$B$1,Sheet4!$B$2:$B$8409,Sheet3!$A$3)","v":0},{"$f":"+SUMIFS(Sheet4!$DM$2:$DM$8409,Sheet4!$C$2:$C$8409,Sheet3!$B25,Sheet4!$D$2:$D$8409,Sheet3!BF$3,Sheet4!$E$2:$E$8409,Sheet3!BF$4,Sheet4!$A$2:$A$8409,Sheet3!$B$1,Sheet4!$B$2:$B$8409,Sheet3!$A$3)","v":0},{"$f":"+SUMIFS(Sheet4!$DM$2:$DM$8409,Sheet4!$C$2:$C$8409,Sheet3!$B25,Sheet4!$D$2:$D$8409,Sheet3!BG$3,Sheet4!$E$2:$E$8409,Sheet3!BG$4,Sheet4!$A$2:$A$8409,Sheet3!$B$1,Sheet4!$B$2:$B$8409,Sheet3!$A$3)","v":0},{"$f":"+SUMIFS(Sheet4!$DM$2:$DM$8409,Sheet4!$C$2:$C$8409,Sheet3!$B25,Sheet4!$D$2:$D$8409,Sheet3!BH$3,Sheet4!$E$2:$E$8409,Sheet3!BH$4,Sheet4!$A$2:$A$8409,Sheet3!$B$1,Sheet4!$B$2:$B$8409,Sheet3!$A$3)","v":0},{"$f":"+SUMIFS(Sheet4!$DM$2:$DM$8409,Sheet4!$C$2:$C$8409,Sheet3!$B25,Sheet4!$D$2:$D$8409,Sheet3!BI$3,Sheet4!$E$2:$E$8409,Sheet3!BI$4,Sheet4!$A$2:$A$8409,Sheet3!$B$1,Sheet4!$B$2:$B$8409,Sheet3!$A$3)","v":0},{"$f":"+SUMIFS(Sheet4!$DM$2:$DM$8409,Sheet4!$C$2:$C$8409,Sheet3!$B25,Sheet4!$D$2:$D$8409,Sheet3!BJ$3,Sheet4!$E$2:$E$8409,Sheet3!BJ$4,Sheet4!$A$2:$A$8409,Sheet3!$B$1,Sheet4!$B$2:$B$8409,Sheet3!$A$3)","v":592.77},{"$f":"+SUMIFS(Sheet4!$DM$2:$DM$8409,Sheet4!$C$2:$C$8409,Sheet3!$B25,Sheet4!$D$2:$D$8409,Sheet3!BK$3,Sheet4!$E$2:$E$8409,Sheet3!BK$4,Sheet4!$A$2:$A$8409,Sheet3!$B$1,Sheet4!$B$2:$B$8409,Sheet3!$A$3)","v":0},{"$f":"+SUMIFS(Sheet4!$DM$2:$DM$8409,Sheet4!$C$2:$C$8409,Sheet3!$B25,Sheet4!$D$2:$D$8409,Sheet3!BL$3,Sheet4!$E$2:$E$8409,Sheet3!BL$4,Sheet4!$A$2:$A$8409,Sheet3!$B$1,Sheet4!$B$2:$B$8409,Sheet3!$A$3)","v":0},{"$f":"+SUMIFS(Sheet4!$DM$2:$DM$8409,Sheet4!$C$2:$C$8409,Sheet3!$B25,Sheet4!$D$2:$D$8409,Sheet3!BM$3,Sheet4!$E$2:$E$8409,Sheet3!BM$4,Sheet4!$A$2:$A$8409,Sheet3!$B$1,Sheet4!$B$2:$B$8409,Sheet3!$A$3)","v":0},{"$f":"+SUMIFS(Sheet4!$DM$2:$DM$8409,Sheet4!$C$2:$C$8409,Sheet3!$B25,Sheet4!$D$2:$D$8409,Sheet3!BN$3,Sheet4!$E$2:$E$8409,Sheet3!BN$4,Sheet4!$A$2:$A$8409,Sheet3!$B$1,Sheet4!$B$2:$B$8409,Sheet3!$A$3)","v":0},{"$f":"+SUMIFS(Sheet4!$DM$2:$DM$8409,Sheet4!$C$2:$C$8409,Sheet3!$B25,Sheet4!$D$2:$D$8409,Sheet3!BO$3,Sheet4!$E$2:$E$8409,Sheet3!BO$4,Sheet4!$A$2:$A$8409,Sheet3!$B$1,Sheet4!$B$2:$B$8409,Sheet3!$A$3)","v":1834.56},{"$f":"+SUMIFS(Sheet4!$DM$2:$DM$8409,Sheet4!$C$2:$C$8409,Sheet3!$B25,Sheet4!$D$2:$D$8409,Sheet3!BP$3,Sheet4!$E$2:$E$8409,Sheet3!BP$4,Sheet4!$A$2:$A$8409,Sheet3!$B$1,Sheet4!$B$2:$B$8409,Sheet3!$A$3)","v":0},{"$f":"+SUMIFS(Sheet4!$DM$2:$DM$8409,Sheet4!$C$2:$C$8409,Sheet3!$B25,Sheet4!$D$2:$D$8409,Sheet3!BQ$3,Sheet4!$E$2:$E$8409,Sheet3!BQ$4,Sheet4!$A$2:$A$8409,Sheet3!$B$1,Sheet4!$B$2:$B$8409,Sheet3!$A$3)","v":0},{"$f":"+SUMIFS(Sheet4!$DM$2:$DM$8409,Sheet4!$C$2:$C$8409,Sheet3!$B25,Sheet4!$D$2:$D$8409,Sheet3!BR$3,Sheet4!$E$2:$E$8409,Sheet3!BR$4,Sheet4!$A$2:$A$8409,Sheet3!$B$1,Sheet4!$B$2:$B$8409,Sheet3!$A$3)","v":0},{"$f":"+SUMIFS(Sheet4!$DM$2:$DM$8409,Sheet4!$C$2:$C$8409,Sheet3!$B25,Sheet4!$D$2:$D$8409,Sheet3!BS$3,Sheet4!$E$2:$E$8409,Sheet3!BS$4,Sheet4!$A$2:$A$8409,Sheet3!$B$1,Sheet4!$B$2:$B$8409,Sheet3!$A$3)","v":29763.79},{"$f":"+SUMIFS(Sheet4!$DM$2:$DM$8409,Sheet4!$C$2:$C$8409,Sheet3!$B25,Sheet4!$D$2:$D$8409,Sheet3!BT$3,Sheet4!$E$2:$E$8409,Sheet3!BT$4,Sheet4!$A$2:$A$8409,Sheet3!$B$1,Sheet4!$B$2:$B$8409,Sheet3!$A$3)","v":112236.99},{"$f":"+SUMIFS(Sheet4!$DM$2:$DM$8409,Sheet4!$C$2:$C$8409,Sheet3!$B25,Sheet4!$D$2:$D$8409,Sheet3!BU$3,Sheet4!$E$2:$E$8409,Sheet3!BU$4,Sheet4!$A$2:$A$8409,Sheet3!$B$1,Sheet4!$B$2:$B$8409,Sheet3!$A$3)","v":32478.14},{"$f":"+SUMIFS(Sheet4!$DM$2:$DM$8409,Sheet4!$C$2:$C$8409,Sheet3!$B25,Sheet4!$D$2:$D$8409,Sheet3!BV$3,Sheet4!$E$2:$E$8409,Sheet3!BV$4,Sheet4!$A$2:$A$8409,Sheet3!$B$1,Sheet4!$B$2:$B$8409,Sheet3!$A$3)","v":0},{"$f":"+SUMIFS(Sheet4!$DM$2:$DM$8409,Sheet4!$C$2:$C$8409,Sheet3!$B25,Sheet4!$D$2:$D$8409,Sheet3!BW$3,Sheet4!$E$2:$E$8409,Sheet3!BW$4,Sheet4!$A$2:$A$8409,Sheet3!$B$1,Sheet4!$B$2:$B$8409,Sheet3!$A$3)","v":2152.2600000000002},{"$f":"+SUMIFS(Sheet4!$DM$2:$DM$8409,Sheet4!$C$2:$C$8409,Sheet3!$B25,Sheet4!$D$2:$D$8409,Sheet3!BX$3,Sheet4!$E$2:$E$8409,Sheet3!BX$4,Sheet4!$A$2:$A$8409,Sheet3!$B$1,Sheet4!$B$2:$B$8409,Sheet3!$A$3)","v":42625.54},{"$f":"+SUMIFS(Sheet4!$DM$2:$DM$8409,Sheet4!$C$2:$C$8409,Sheet3!$B25,Sheet4!$D$2:$D$8409,Sheet3!BY$3,Sheet4!$E$2:$E$8409,Sheet3!BY$4,Sheet4!$A$2:$A$8409,Sheet3!$B$1,Sheet4!$B$2:$B$8409,Sheet3!$A$3)","v":42265.88},{"$f":"+SUMIFS(Sheet4!$DM$2:$DM$8409,Sheet4!$C$2:$C$8409,Sheet3!$B25,Sheet4!$D$2:$D$8409,Sheet3!BZ$3,Sheet4!$E$2:$E$8409,Sheet3!BZ$4,Sheet4!$A$2:$A$8409,Sheet3!$B$1,Sheet4!$B$2:$B$8409,Sheet3!$A$3)","v":11664.92},{"$f":"+SUMIFS(Sheet4!$DM$2:$DM$8409,Sheet4!$C$2:$C$8409,Sheet3!$B25,Sheet4!$D$2:$D$8409,Sheet3!CA$3,Sheet4!$E$2:$E$8409,Sheet3!CA$4,Sheet4!$A$2:$A$8409,Sheet3!$B$1,Sheet4!$B$2:$B$8409,Sheet3!$A$3)","v":0},{"$f":"+SUMIFS(Sheet4!$DM$2:$DM$8409,Sheet4!$C$2:$C$8409,Sheet3!$B25,Sheet4!$D$2:$D$8409,Sheet3!CB$3,Sheet4!$E$2:$E$8409,Sheet3!CB$4,Sheet4!$A$2:$A$8409,Sheet3!$B$1,Sheet4!$B$2:$B$8409,Sheet3!$A$3)","v":144.5},{"$f":"+SUMIFS(Sheet4!$DM$2:$DM$8409,Sheet4!$C$2:$C$8409,Sheet3!$B25,Sheet4!$D$2:$D$8409,Sheet3!CC$3,Sheet4!$E$2:$E$8409,Sheet3!CC$4,Sheet4!$A$2:$A$8409,Sheet3!$B$1,Sheet4!$B$2:$B$8409,Sheet3!$A$3)","v":5426.53},{"$f":"+SUMIFS(Sheet4!$DM$2:$DM$8409,Sheet4!$C$2:$C$8409,Sheet3!$B25,Sheet4!$D$2:$D$8409,Sheet3!CD$3,Sheet4!$E$2:$E$8409,Sheet3!CD$4,Sheet4!$A$2:$A$8409,Sheet3!$B$1,Sheet4!$B$2:$B$8409,Sheet3!$A$3)","v":93207.49},{"$f":"+SUMIFS(Sheet4!$DM$2:$DM$8409,Sheet4!$C$2:$C$8409,Sheet3!$B25,Sheet4!$D$2:$D$8409,Sheet3!CE$3,Sheet4!$E$2:$E$8409,Sheet3!CE$4,Sheet4!$A$2:$A$8409,Sheet3!$B$1,Sheet4!$B$2:$B$8409,Sheet3!$A$3)","v":35694.550000000003},{"$f":"+SUMIFS(Sheet4!$DM$2:$DM$8409,Sheet4!$C$2:$C$8409,Sheet3!$B25,Sheet4!$D$2:$D$8409,Sheet3!CF$3,Sheet4!$E$2:$E$8409,Sheet3!CF$4,Sheet4!$A$2:$A$8409,Sheet3!$B$1,Sheet4!$B$2:$B$8409,Sheet3!$A$3)","v":0},{"$f":"+SUMIFS(Sheet4!$DM$2:$DM$8409,Sheet4!$C$2:$C$8409,Sheet3!$B25,Sheet4!$D$2:$D$8409,Sheet3!CG$3,Sheet4!$E$2:$E$8409,Sheet3!CG$4,Sheet4!$A$2:$A$8409,Sheet3!$B$1,Sheet4!$B$2:$B$8409,Sheet3!$A$3)","v":0},{"$f":"+SUMIFS(Sheet4!$DM$2:$DM$8409,Sheet4!$C$2:$C$8409,Sheet3!$B25,Sheet4!$D$2:$D$8409,Sheet3!CH$3,Sheet4!$E$2:$E$8409,Sheet3!CH$4,Sheet4!$A$2:$A$8409,Sheet3!$B$1,Sheet4!$B$2:$B$8409,Sheet3!$A$3)","v":0},{"$f":"+SUMIFS(Sheet4!$DM$2:$DM$8409,Sheet4!$C$2:$C$8409,Sheet3!$B25,Sheet4!$D$2:$D$8409,Sheet3!CI$3,Sheet4!$E$2:$E$8409,Sheet3!CI$4,Sheet4!$A$2:$A$8409,Sheet3!$B$1,Sheet4!$B$2:$B$8409,Sheet3!$A$3)","v":0},{"$f":"+SUMIFS(Sheet4!$DM$2:$DM$8409,Sheet4!$C$2:$C$8409,Sheet3!$B25,Sheet4!$D$2:$D$8409,Sheet3!CJ$3,Sheet4!$E$2:$E$8409,Sheet3!CJ$4,Sheet4!$A$2:$A$8409,Sheet3!$B$1,Sheet4!$B$2:$B$8409,Sheet3!$A$3)","v":0},{"$f":"+SUMIFS(Sheet4!$DM$2:$DM$8409,Sheet4!$C$2:$C$8409,Sheet3!$B25,Sheet4!$D$2:$D$8409,Sheet3!CK$3,Sheet4!$E$2:$E$8409,Sheet3!CK$4,Sheet4!$A$2:$A$8409,Sheet3!$B$1,Sheet4!$B$2:$B$8409,Sheet3!$A$3)","v":0},{"$f":"+SUMIFS(Sheet4!$DM$2:$DM$8409,Sheet4!$C$2:$C$8409,Sheet3!$B25,Sheet4!$D$2:$D$8409,Sheet3!CL$3,Sheet4!$E$2:$E$8409,Sheet3!CL$4,Sheet4!$A$2:$A$8409,Sheet3!$B$1,Sheet4!$B$2:$B$8409,Sheet3!$A$3)","v":0},{"$f":"+SUMIFS(Sheet4!$DM$2:$DM$8409,Sheet4!$C$2:$C$8409,Sheet3!$B25,Sheet4!$D$2:$D$8409,Sheet3!CM$3,Sheet4!$E$2:$E$8409,Sheet3!CM$4,Sheet4!$A$2:$A$8409,Sheet3!$B$1,Sheet4!$B$2:$B$8409,Sheet3!$A$3)","v":0},{"$f":"+SUMIFS(Sheet4!$DM$2:$DM$8409,Sheet4!$C$2:$C$8409,Sheet3!$B25,Sheet4!$D$2:$D$8409,Sheet3!CN$3,Sheet4!$E$2:$E$8409,Sheet3!CN$4,Sheet4!$A$2:$A$8409,Sheet3!$B$1,Sheet4!$B$2:$B$8409,Sheet3!$A$3)","v":0},{"$f":"+SUMIFS(Sheet4!$DM$2:$DM$8409,Sheet4!$C$2:$C$8409,Sheet3!$B25,Sheet4!$D$2:$D$8409,Sheet3!CO$3,Sheet4!$E$2:$E$8409,Sheet3!CO$4,Sheet4!$A$2:$A$8409,Sheet3!$B$1,Sheet4!$B$2:$B$8409,Sheet3!$A$3)","v":0},{"$f":"+SUMIFS(Sheet4!$DM$2:$DM$8409,Sheet4!$C$2:$C$8409,Sheet3!$B25,Sheet4!$D$2:$D$8409,Sheet3!CP$3,Sheet4!$E$2:$E$8409,Sheet3!CP$4,Sheet4!$A$2:$A$8409,Sheet3!$B$1,Sheet4!$B$2:$B$8409,Sheet3!$A$3)","v":0},{"$f":"+SUMIFS(Sheet4!$DM$2:$DM$8409,Sheet4!$C$2:$C$8409,Sheet3!$B25,Sheet4!$D$2:$D$8409,Sheet3!CQ$3,Sheet4!$E$2:$E$8409,Sheet3!CQ$4,Sheet4!$A$2:$A$8409,Sheet3!$B$1,Sheet4!$B$2:$B$8409,Sheet3!$A$3)","v":0},{"$f":"+SUMIFS(Sheet4!$DM$2:$DM$8409,Sheet4!$C$2:$C$8409,Sheet3!$B25,Sheet4!$D$2:$D$8409,Sheet3!CR$3,Sheet4!$E$2:$E$8409,Sheet3!CR$4,Sheet4!$A$2:$A$8409,Sheet3!$B$1,Sheet4!$B$2:$B$8409,Sheet3!$A$3)","v":0},{"$f":"+SUMIFS(Sheet4!$DM$2:$DM$8409,Sheet4!$C$2:$C$8409,Sheet3!$B25,Sheet4!$D$2:$D$8409,Sheet3!CS$3,Sheet4!$E$2:$E$8409,Sheet3!CS$4,Sheet4!$A$2:$A$8409,Sheet3!$B$1,Sheet4!$B$2:$B$8409,Sheet3!$A$3)","v":0},{"$f":"+SUMIFS(Sheet4!$DM$2:$DM$8409,Sheet4!$C$2:$C$8409,Sheet3!$B25,Sheet4!$D$2:$D$8409,Sheet3!CT$3,Sheet4!$E$2:$E$8409,Sheet3!CT$4,Sheet4!$A$2:$A$8409,Sheet3!$B$1,Sheet4!$B$2:$B$8409,Sheet3!$A$3)","v":0},{"$f":"+IF(SUMIFS(Sheet4!$DN$2:$DN$8409,Sheet4!$C$2:$C$8409,Sheet3!$B25,Sheet4!$D$2:$D$8409,Sheet3!CU$3,Sheet4!$A$2:$A$8409,Sheet3!$B$1,Sheet4!$B$2:$B$8409,Sheet3!$A$3)<3,0,SUMIFS(Sheet4!$DN$2:$DN$8409,Sheet4!$C$2:$C$8409,Sheet3!$B25,Sheet4!$D$2:$D$8409,Sheet3!CU$3,Sheet4!$A$2:$A$8409,Sheet3!$B$1,Sheet4!$B$2:$B$8409,Sheet3!$A$3))","v":0},{"$f":"+IF(SUMIFS(Sheet4!$DN$2:$DN$8409,Sheet4!$C$2:$C$8409,Sheet3!$B25,Sheet4!$D$2:$D$8409,Sheet3!CV$3,Sheet4!$A$2:$A$8409,Sheet3!$B$1,Sheet4!$B$2:$B$8409,Sheet3!$A$3)<3,0,SUMIFS(Sheet4!$DN$2:$DN$8409,Sheet4!$C$2:$C$8409,Sheet3!$B25,Sheet4!$D$2:$D$8409,Sheet3!CV$3,Sheet4!$A$2:$A$8409,Sheet3!$B$1,Sheet4!$B$2:$B$8409,Sheet3!$A$3))","v":2996.36},{"$f":"+IF(SUMIFS(Sheet4!$DN$2:$DN$8409,Sheet4!$C$2:$C$8409,Sheet3!$B25,Sheet4!$D$2:$D$8409,Sheet3!CW$3,Sheet4!$A$2:$A$8409,Sheet3!$B$1,Sheet4!$B$2:$B$8409,Sheet3!$A$3)<3,0,SUMIFS(Sheet4!$DN$2:$DN$8409,Sheet4!$C$2:$C$8409,Sheet3!$B25,Sheet4!$D$2:$D$8409,Sheet3!CW$3,Sheet4!$A$2:$A$8409,Sheet3!$B$1,Sheet4!$B$2:$B$8409,Sheet3!$A$3))","v":864.25},{"$f":"+IF(SUMIFS(Sheet4!$DN$2:$DN$8409,Sheet4!$C$2:$C$8409,Sheet3!$B25,Sheet4!$D$2:$D$8409,Sheet3!CX$3,Sheet4!$A$2:$A$8409,Sheet3!$B$1,Sheet4!$B$2:$B$8409,Sheet3!$A$3)<3,0,SUMIFS(Sheet4!$DN$2:$DN$8409,Sheet4!$C$2:$C$8409,Sheet3!$B25,Sheet4!$D$2:$D$8409,Sheet3!CX$3,Sheet4!$A$2:$A$8409,Sheet3!$B$1,Sheet4!$B$2:$B$8409,Sheet3!$A$3))","v":0},{"$f":"+IF(SUMIFS(Sheet4!$DN$2:$DN$8409,Sheet4!$C$2:$C$8409,Sheet3!$B25,Sheet4!$D$2:$D$8409,Sheet3!CY$3,Sheet4!$A$2:$A$8409,Sheet3!$B$1,Sheet4!$B$2:$B$8409,Sheet3!$A$3)<3,0,SUMIFS(Sheet4!$DN$2:$DN$8409,Sheet4!$C$2:$C$8409,Sheet3!$B25,Sheet4!$D$2:$D$8409,Sheet3!CY$3,Sheet4!$A$2:$A$8409,Sheet3!$B$1,Sheet4!$B$2:$B$8409,Sheet3!$A$3))","v":2110.4499999999998},{"$f":"+IF(SUMIFS(Sheet4!$DN$2:$DN$8409,Sheet4!$C$2:$C$8409,Sheet3!$B25,Sheet4!$D$2:$D$8409,Sheet3!CZ$3,Sheet4!$A$2:$A$8409,Sheet3!$B$1,Sheet4!$B$2:$B$8409,Sheet3!$A$3)<3,0,SUMIFS(Sheet4!$DN$2:$DN$8409,Sheet4!$C$2:$C$8409,Sheet3!$B25,Sheet4!$D$2:$D$8409,Sheet3!CZ$3,Sheet4!$A$2:$A$8409,Sheet3!$B$1,Sheet4!$B$2:$B$8409,Sheet3!$A$3))","v":2951.1000000000004},{"$f":"+IF(SUMIFS(Sheet4!$DN$2:$DN$8409,Sheet4!$C$2:$C$8409,Sheet3!$B25,Sheet4!$D$2:$D$8409,Sheet3!DA$3,Sheet4!$A$2:$A$8409,Sheet3!$B$1,Sheet4!$B$2:$B$8409,Sheet3!$A$3)<3,0,SUMIFS(Sheet4!$DN$2:$DN$8409,Sheet4!$C$2:$C$8409,Sheet3!$B25,Sheet4!$D$2:$D$8409,Sheet3!DA$3,Sheet4!$A$2:$A$8409,Sheet3!$B$1,Sheet4!$B$2:$B$8409,Sheet3!$A$3))","v":0},{"$f":"+IF(SUMIFS(Sheet4!$DN$2:$DN$8409,Sheet4!$C$2:$C$8409,Sheet3!$B25,Sheet4!$D$2:$D$8409,Sheet3!DB$3,Sheet4!$A$2:$A$8409,Sheet3!$B$1,Sheet4!$B$2:$B$8409,Sheet3!$A$3)<3,0,SUMIFS(Sheet4!$DN$2:$DN$8409,Sheet4!$C$2:$C$8409,Sheet3!$B25,Sheet4!$D$2:$D$8409,Sheet3!DB$3,Sheet4!$A$2:$A$8409,Sheet3!$B$1,Sheet4!$B$2:$B$8409,Sheet3!$A$3))","v":16711.239999999998},{"$f":"+IF(SUMIFS(Sheet4!$DN$2:$DN$8409,Sheet4!$C$2:$C$8409,Sheet3!$B25,Sheet4!$D$2:$D$8409,Sheet3!DC$3,Sheet4!$A$2:$A$8409,Sheet3!$B$1,Sheet4!$B$2:$B$8409,Sheet3!$A$3)<3,0,SUMIFS(Sheet4!$DN$2:$DN$8409,Sheet4!$C$2:$C$8409,Sheet3!$B25,Sheet4!$D$2:$D$8409,Sheet3!DC$3,Sheet4!$A$2:$A$8409,Sheet3!$B$1,Sheet4!$B$2:$B$8409,Sheet3!$A$3))","v":0},{"$f":"+IF(SUMIFS(Sheet4!$DN$2:$DN$8409,Sheet4!$C$2:$C$8409,Sheet3!$B25,Sheet4!$D$2:$D$8409,Sheet3!DD$3,Sheet4!$A$2:$A$8409,Sheet3!$B$1,Sheet4!$B$2:$B$8409,Sheet3!$A$3)<3,0,SUMIFS(Sheet4!$DN$2:$DN$8409,Sheet4!$C$2:$C$8409,Sheet3!$B25,Sheet4!$D$2:$D$8409,Sheet3!DD$3,Sheet4!$A$2:$A$8409,Sheet3!$B$1,Sheet4!$B$2:$B$8409,Sheet3!$A$3))","v":16163.9},{"$f":"+IF(SUMIFS(Sheet4!$DN$2:$DN$8409,Sheet4!$C$2:$C$8409,Sheet3!$B25,Sheet4!$D$2:$D$8409,Sheet3!DE$3,Sheet4!$A$2:$A$8409,Sheet3!$B$1,Sheet4!$B$2:$B$8409,Sheet3!$A$3)<3,0,SUMIFS(Sheet4!$DN$2:$DN$8409,Sheet4!$C$2:$C$8409,Sheet3!$B25,Sheet4!$D$2:$D$8409,Sheet3!DE$3,Sheet4!$A$2:$A$8409,Sheet3!$B$1,Sheet4!$B$2:$B$8409,Sheet3!$A$3))","v":0},{"$f":"+IF(SUMIFS(Sheet4!$DN$2:$DN$8409,Sheet4!$C$2:$C$8409,Sheet3!$B25,Sheet4!$D$2:$D$8409,Sheet3!DF$3,Sheet4!$A$2:$A$8409,Sheet3!$B$1,Sheet4!$B$2:$B$8409,Sheet3!$A$3)<3,0,SUMIFS(Sheet4!$DN$2:$DN$8409,Sheet4!$C$2:$C$8409,Sheet3!$B25,Sheet4!$D$2:$D$8409,Sheet3!DF$3,Sheet4!$A$2:$A$8409,Sheet3!$B$1,Sheet4!$B$2:$B$8409,Sheet3!$A$3))","v":592.77},{"$f":"+IF(SUMIFS(Sheet4!$DN$2:$DN$8409,Sheet4!$C$2:$C$8409,Sheet3!$B25,Sheet4!$D$2:$D$8409,Sheet3!DG$3,Sheet4!$A$2:$A$8409,Sheet3!$B$1,Sheet4!$B$2:$B$8409,Sheet3!$A$3)<3,0,SUMIFS(Sheet4!$DN$2:$DN$8409,Sheet4!$C$2:$C$8409,Sheet3!$B25,Sheet4!$D$2:$D$8409,Sheet3!DG$3,Sheet4!$A$2:$A$8409,Sheet3!$B$1,Sheet4!$B$2:$B$8409,Sheet3!$A$3))","v":1834.56},{"$f":"+IF(SUMIFS(Sheet4!$DN$2:$DN$8409,Sheet4!$C$2:$C$8409,Sheet3!$B25,Sheet4!$D$2:$D$8409,Sheet3!DH$3,Sheet4!$A$2:$A$8409,Sheet3!$B$1,Sheet4!$B$2:$B$8409,Sheet3!$A$3)<3,0,SUMIFS(Sheet4!$DN$2:$DN$8409,Sheet4!$C$2:$C$8409,Sheet3!$B25,Sheet4!$D$2:$D$8409,Sheet3!DH$3,Sheet4!$A$2:$A$8409,Sheet3!$B$1,Sheet4!$B$2:$B$8409,Sheet3!$A$3))","v":174478.91999999998},{"$f":"+IF(SUMIFS(Sheet4!$DN$2:$DN$8409,Sheet4!$C$2:$C$8409,Sheet3!$B25,Sheet4!$D$2:$D$8409,Sheet3!DI$3,Sheet4!$A$2:$A$8409,Sheet3!$B$1,Sheet4!$B$2:$B$8409,Sheet3!$A$3)<3,0,SUMIFS(Sheet4!$DN$2:$DN$8409,Sheet4!$C$2:$C$8409,Sheet3!$B25,Sheet4!$D$2:$D$8409,Sheet3!DI$3,Sheet4!$A$2:$A$8409,Sheet3!$B$1,Sheet4!$B$2:$B$8409,Sheet3!$A$3))","v":98708.599999999991},{"$f":"+IF(SUMIFS(Sheet4!$DN$2:$DN$8409,Sheet4!$C$2:$C$8409,Sheet3!$B25,Sheet4!$D$2:$D$8409,Sheet3!DJ$3,Sheet4!$A$2:$A$8409,Sheet3!$B$1,Sheet4!$B$2:$B$8409,Sheet3!$A$3)<3,0,SUMIFS(Sheet4!$DN$2:$DN$8409,Sheet4!$C$2:$C$8409,Sheet3!$B25,Sheet4!$D$2:$D$8409,Sheet3!DJ$3,Sheet4!$A$2:$A$8409,Sheet3!$B$1,Sheet4!$B$2:$B$8409,Sheet3!$A$3))","v":134473.07},{"$f":"+IF(SUMIFS(Sheet4!$DN$2:$DN$8409,Sheet4!$C$2:$C$8409,Sheet3!$B25,Sheet4!$D$2:$D$8409,Sheet3!DK$3,Sheet4!$A$2:$A$8409,Sheet3!$B$1,Sheet4!$B$2:$B$8409,Sheet3!$A$3)<3,0,SUMIFS(Sheet4!$DN$2:$DN$8409,Sheet4!$C$2:$C$8409,Sheet3!$B25,Sheet4!$D$2:$D$8409,Sheet3!DK$3,Sheet4!$A$2:$A$8409,Sheet3!$B$1,Sheet4!$B$2:$B$8409,Sheet3!$A$3))","v":0},{"$f":"+IF(SUMIFS(Sheet4!$DN$2:$DN$8409,Sheet4!$C$2:$C$8409,Sheet3!$B25,Sheet4!$D$2:$D$8409,Sheet3!DL$3,Sheet4!$A$2:$A$8409,Sheet3!$B$1,Sheet4!$B$2:$B$8409,Sheet3!$A$3)<3,0,SUMIFS(Sheet4!$DN$2:$DN$8409,Sheet4!$C$2:$C$8409,Sheet3!$B25,Sheet4!$D$2:$D$8409,Sheet3!DL$3,Sheet4!$A$2:$A$8409,Sheet3!$B$1,Sheet4!$B$2:$B$8409,Sheet3!$A$3))","v":0},{"$f":"+IF(SUMIFS(Sheet4!$DN$2:$DN$8409,Sheet4!$C$2:$C$8409,Sheet3!$B25,Sheet4!$D$2:$D$8409,Sheet3!DM$3,Sheet4!$A$2:$A$8409,Sheet3!$B$1,Sheet4!$B$2:$B$8409,Sheet3!$A$3)<3,0,SUMIFS(Sheet4!$DN$2:$DN$8409,Sheet4!$C$2:$C$8409,Sheet3!$B25,Sheet4!$D$2:$D$8409,Sheet3!DM$3,Sheet4!$A$2:$A$8409,Sheet3!$B$1,Sheet4!$B$2:$B$8409,Sheet3!$A$3))","v":0},{"$f":"+IF(SUMIFS(Sheet4!$DN$2:$DN$8409,Sheet4!$C$2:$C$8409,Sheet3!$B25,Sheet4!$E$2:$E$8409,Sheet3!DN$4,Sheet4!$A$2:$A$8409,Sheet3!$B$1,Sheet4!$B$2:$B$8409,Sheet3!$A$3)<3,0,SUMIFS(Sheet4!$DN$2:$DN$8409,Sheet4!$C$2:$C$8409,Sheet3!$B25,Sheet4!$E$2:$E$8409,Sheet3!DN$4,Sheet4!$A$2:$A$8409,Sheet3!$B$1,Sheet4!$B$2:$B$8409,Sheet3!$A$3))","v":0},{"$f":"+IF(SUMIFS(Sheet4!$DN$2:$DN$8409,Sheet4!$C$2:$C$8409,Sheet3!$B25,Sheet4!$E$2:$E$8409,Sheet3!DO$4,Sheet4!$A$2:$A$8409,Sheet3!$B$1,Sheet4!$B$2:$B$8409,Sheet3!$A$3)<3,0,SUMIFS(Sheet4!$DN$2:$DN$8409,Sheet4!$C$2:$C$8409,Sheet3!$B25,Sheet4!$E$2:$E$8409,Sheet3!DO$4,Sheet4!$A$2:$A$8409,Sheet3!$B$1,Sheet4!$B$2:$B$8409,Sheet3!$A$3))","v":2339.6099999999997},{"$f":"+IF(SUMIFS(Sheet4!$DN$2:$DN$8409,Sheet4!$C$2:$C$8409,Sheet3!$B25,Sheet4!$E$2:$E$8409,Sheet3!DP$4,Sheet4!$A$2:$A$8409,Sheet3!$B$1,Sheet4!$B$2:$B$8409,Sheet3!$A$3)<3,0,SUMIFS(Sheet4!$DN$2:$DN$8409,Sheet4!$C$2:$C$8409,Sheet3!$B25,Sheet4!$E$2:$E$8409,Sheet3!DP$4,Sheet4!$A$2:$A$8409,Sheet3!$B$1,Sheet4!$B$2:$B$8409,Sheet3!$A$3))","v":91216.2},{"$f":"+IF(SUMIFS(Sheet4!$DN$2:$DN$8409,Sheet4!$C$2:$C$8409,Sheet3!$B25,Sheet4!$E$2:$E$8409,Sheet3!DQ$4,Sheet4!$A$2:$A$8409,Sheet3!$B$1,Sheet4!$B$2:$B$8409,Sheet3!$A$3)<3,0,SUMIFS(Sheet4!$DN$2:$DN$8409,Sheet4!$C$2:$C$8409,Sheet3!$B25,Sheet4!$E$2:$E$8409,Sheet3!DQ$4,Sheet4!$A$2:$A$8409,Sheet3!$B$1,Sheet4!$B$2:$B$8409,Sheet3!$A$3))","v":268559.69},{"$f":"+IF(SUMIFS(Sheet4!$DN$2:$DN$8409,Sheet4!$C$2:$C$8409,Sheet3!$B25,Sheet4!$E$2:$E$8409,Sheet3!DR$4,Sheet4!$A$2:$A$8409,Sheet3!$B$1,Sheet4!$B$2:$B$8409,Sheet3!$A$3)<3,0,SUMIFS(Sheet4!$DN$2:$DN$8409,Sheet4!$C$2:$C$8409,Sheet3!$B25,Sheet4!$E$2:$E$8409,Sheet3!DR$4,Sheet4!$A$2:$A$8409,Sheet3!$B$1,Sheet4!$B$2:$B$8409,Sheet3!$A$3))","v":89769.72}]
[5,"184","Baixo Alentejo",{"$f":"+SUMIFS(Sheet4!$DM$2:$DM$8409,Sheet4!$C$2:$C$8409,Sheet3!$B26,Sheet4!$D$2:$D$8409,Sheet3!D$3,Sheet4!$E$2:$E$8409,Sheet3!D$4,Sheet4!$A$2:$A$8409,Sheet3!$B$1,Sheet4!$B$2:$B$8409,Sheet3!$A$3)","v":0},{"$f":"+SUMIFS(Sheet4!$DM$2:$DM$8409,Sheet4!$C$2:$C$8409,Sheet3!$B26,Sheet4!$D$2:$D$8409,Sheet3!E$3,Sheet4!$E$2:$E$8409,Sheet3!E$4,Sheet4!$A$2:$A$8409,Sheet3!$B$1,Sheet4!$B$2:$B$8409,Sheet3!$A$3)","v":0},{"$f":"+SUMIFS(Sheet4!$DM$2:$DM$8409,Sheet4!$C$2:$C$8409,Sheet3!$B26,Sheet4!$D$2:$D$8409,Sheet3!F$3,Sheet4!$E$2:$E$8409,Sheet3!F$4,Sheet4!$A$2:$A$8409,Sheet3!$B$1,Sheet4!$B$2:$B$8409,Sheet3!$A$3)","v":0},{"$f":"+SUMIFS(Sheet4!$DM$2:$DM$8409,Sheet4!$C$2:$C$8409,Sheet3!$B26,Sheet4!$D$2:$D$8409,Sheet3!G$3,Sheet4!$E$2:$E$8409,Sheet3!G$4,Sheet4!$A$2:$A$8409,Sheet3!$B$1,Sheet4!$B$2:$B$8409,Sheet3!$A$3)","v":0},{"$f":"+SUMIFS(Sheet4!$DM$2:$DM$8409,Sheet4!$C$2:$C$8409,Sheet3!$B26,Sheet4!$D$2:$D$8409,Sheet3!H$3,Sheet4!$E$2:$E$8409,Sheet3!H$4,Sheet4!$A$2:$A$8409,Sheet3!$B$1,Sheet4!$B$2:$B$8409,Sheet3!$A$3)","v":0},{"$f":"+SUMIFS(Sheet4!$DM$2:$DM$8409,Sheet4!$C$2:$C$8409,Sheet3!$B26,Sheet4!$D$2:$D$8409,Sheet3!I$3,Sheet4!$E$2:$E$8409,Sheet3!I$4,Sheet4!$A$2:$A$8409,Sheet3!$B$1,Sheet4!$B$2:$B$8409,Sheet3!$A$3)","v":0},{"$f":"+SUMIFS(Sheet4!$DM$2:$DM$8409,Sheet4!$C$2:$C$8409,Sheet3!$B26,Sheet4!$D$2:$D$8409,Sheet3!J$3,Sheet4!$E$2:$E$8409,Sheet3!J$4,Sheet4!$A$2:$A$8409,Sheet3!$B$1,Sheet4!$B$2:$B$8409,Sheet3!$A$3)","v":0},{"$f":"+SUMIFS(Sheet4!$DM$2:$DM$8409,Sheet4!$C$2:$C$8409,Sheet3!$B26,Sheet4!$D$2:$D$8409,Sheet3!K$3,Sheet4!$E$2:$E$8409,Sheet3!K$4,Sheet4!$A$2:$A$8409,Sheet3!$B$1,Sheet4!$B$2:$B$8409,Sheet3!$A$3)","v":0},{"$f":"+SUMIFS(Sheet4!$DM$2:$DM$8409,Sheet4!$C$2:$C$8409,Sheet3!$B26,Sheet4!$D$2:$D$8409,Sheet3!L$3,Sheet4!$E$2:$E$8409,Sheet3!L$4,Sheet4!$A$2:$A$8409,Sheet3!$B$1,Sheet4!$B$2:$B$8409,Sheet3!$A$3)","v":0},{"$f":"+SUMIFS(Sheet4!$DM$2:$DM$8409,Sheet4!$C$2:$C$8409,Sheet3!$B26,Sheet4!$D$2:$D$8409,Sheet3!M$3,Sheet4!$E$2:$E$8409,Sheet3!M$4,Sheet4!$A$2:$A$8409,Sheet3!$B$1,Sheet4!$B$2:$B$8409,Sheet3!$A$3)","v":0},{"$f":"+SUMIFS(Sheet4!$DM$2:$DM$8409,Sheet4!$C$2:$C$8409,Sheet3!$B26,Sheet4!$D$2:$D$8409,Sheet3!N$3,Sheet4!$E$2:$E$8409,Sheet3!N$4,Sheet4!$A$2:$A$8409,Sheet3!$B$1,Sheet4!$B$2:$B$8409,Sheet3!$A$3)","v":0},{"$f":"+SUMIFS(Sheet4!$DM$2:$DM$8409,Sheet4!$C$2:$C$8409,Sheet3!$B26,Sheet4!$D$2:$D$8409,Sheet3!O$3,Sheet4!$E$2:$E$8409,Sheet3!O$4,Sheet4!$A$2:$A$8409,Sheet3!$B$1,Sheet4!$B$2:$B$8409,Sheet3!$A$3)","v":0},{"$f":"+SUMIFS(Sheet4!$DM$2:$DM$8409,Sheet4!$C$2:$C$8409,Sheet3!$B26,Sheet4!$D$2:$D$8409,Sheet3!P$3,Sheet4!$E$2:$E$8409,Sheet3!P$4,Sheet4!$A$2:$A$8409,Sheet3!$B$1,Sheet4!$B$2:$B$8409,Sheet3!$A$3)","v":0},{"$f":"+SUMIFS(Sheet4!$DM$2:$DM$8409,Sheet4!$C$2:$C$8409,Sheet3!$B26,Sheet4!$D$2:$D$8409,Sheet3!Q$3,Sheet4!$E$2:$E$8409,Sheet3!Q$4,Sheet4!$A$2:$A$8409,Sheet3!$B$1,Sheet4!$B$2:$B$8409,Sheet3!$A$3)","v":4429.3},{"$f":"+SUMIFS(Sheet4!$DM$2:$DM$8409,Sheet4!$C$2:$C$8409,Sheet3!$B26,Sheet4!$D$2:$D$8409,Sheet3!R$3,Sheet4!$E$2:$E$8409,Sheet3!R$4,Sheet4!$A$2:$A$8409,Sheet3!$B$1,Sheet4!$B$2:$B$8409,Sheet3!$A$3)","v":8083.31},{"$f":"+SUMIFS(Sheet4!$DM$2:$DM$8409,Sheet4!$C$2:$C$8409,Sheet3!$B26,Sheet4!$D$2:$D$8409,Sheet3!S$3,Sheet4!$E$2:$E$8409,Sheet3!S$4,Sheet4!$A$2:$A$8409,Sheet3!$B$1,Sheet4!$B$2:$B$8409,Sheet3!$A$3)","v":0},{"$f":"+SUMIFS(Sheet4!$DM$2:$DM$8409,Sheet4!$C$2:$C$8409,Sheet3!$B26,Sheet4!$D$2:$D$8409,Sheet3!T$3,Sheet4!$E$2:$E$8409,Sheet3!T$4,Sheet4!$A$2:$A$8409,Sheet3!$B$1,Sheet4!$B$2:$B$8409,Sheet3!$A$3)","v":0},{"$f":"+SUMIFS(Sheet4!$DM$2:$DM$8409,Sheet4!$C$2:$C$8409,Sheet3!$B26,Sheet4!$D$2:$D$8409,Sheet3!U$3,Sheet4!$E$2:$E$8409,Sheet3!U$4,Sheet4!$A$2:$A$8409,Sheet3!$B$1,Sheet4!$B$2:$B$8409,Sheet3!$A$3)","v":0},{"$f":"+SUMIFS(Sheet4!$DM$2:$DM$8409,Sheet4!$C$2:$C$8409,Sheet3!$B26,Sheet4!$D$2:$D$8409,Sheet3!V$3,Sheet4!$E$2:$E$8409,Sheet3!V$4,Sheet4!$A$2:$A$8409,Sheet3!$B$1,Sheet4!$B$2:$B$8409,Sheet3!$A$3)","v":0},{"$f":"+SUMIFS(Sheet4!$DM$2:$DM$8409,Sheet4!$C$2:$C$8409,Sheet3!$B26,Sheet4!$D$2:$D$8409,Sheet3!W$3,Sheet4!$E$2:$E$8409,Sheet3!W$4,Sheet4!$A$2:$A$8409,Sheet3!$B$1,Sheet4!$B$2:$B$8409,Sheet3!$A$3)","v":0},{"$f":"+SUMIFS(Sheet4!$DM$2:$DM$8409,Sheet4!$C$2:$C$8409,Sheet3!$B26,Sheet4!$D$2:$D$8409,Sheet3!X$3,Sheet4!$E$2:$E$8409,Sheet3!X$4,Sheet4!$A$2:$A$8409,Sheet3!$B$1,Sheet4!$B$2:$B$8409,Sheet3!$A$3)","v":0},{"$f":"+SUMIFS(Sheet4!$DM$2:$DM$8409,Sheet4!$C$2:$C$8409,Sheet3!$B26,Sheet4!$D$2:$D$8409,Sheet3!Y$3,Sheet4!$E$2:$E$8409,Sheet3!Y$4,Sheet4!$A$2:$A$8409,Sheet3!$B$1,Sheet4!$B$2:$B$8409,Sheet3!$A$3)","v":0},{"$f":"+SUMIFS(Sheet4!$DM$2:$DM$8409,Sheet4!$C$2:$C$8409,Sheet3!$B26,Sheet4!$D$2:$D$8409,Sheet3!Z$3,Sheet4!$E$2:$E$8409,Sheet3!Z$4,Sheet4!$A$2:$A$8409,Sheet3!$B$1,Sheet4!$B$2:$B$8409,Sheet3!$A$3)","v":2702.8},{"$f":"+SUMIFS(Sheet4!$DM$2:$DM$8409,Sheet4!$C$2:$C$8409,Sheet3!$B26,Sheet4!$D$2:$D$8409,Sheet3!AA$3,Sheet4!$E$2:$E$8409,Sheet3!AA$4,Sheet4!$A$2:$A$8409,Sheet3!$B$1,Sheet4!$B$2:$B$8409,Sheet3!$A$3)","v":2274.9},{"$f":"+SUMIFS(Sheet4!$DM$2:$DM$8409,Sheet4!$C$2:$C$8409,Sheet3!$B26,Sheet4!$D$2:$D$8409,Sheet3!AB$3,Sheet4!$E$2:$E$8409,Sheet3!AB$4,Sheet4!$A$2:$A$8409,Sheet3!$B$1,Sheet4!$B$2:$B$8409,Sheet3!$A$3)","v":0},{"$f":"+SUMIFS(Sheet4!$DM$2:$DM$8409,Sheet4!$C$2:$C$8409,Sheet3!$B26,Sheet4!$D$2:$D$8409,Sheet3!AC$3,Sheet4!$E$2:$E$8409,Sheet3!AC$4,Sheet4!$A$2:$A$8409,Sheet3!$B$1,Sheet4!$B$2:$B$8409,Sheet3!$A$3)","v":0},{"$f":"+SUMIFS(Sheet4!$DM$2:$DM$8409,Sheet4!$C$2:$C$8409,Sheet3!$B26,Sheet4!$D$2:$D$8409,Sheet3!AD$3,Sheet4!$E$2:$E$8409,Sheet3!AD$4,Sheet4!$A$2:$A$8409,Sheet3!$B$1,Sheet4!$B$2:$B$8409,Sheet3!$A$3)","v":0},{"$f":"+SUMIFS(Sheet4!$DM$2:$DM$8409,Sheet4!$C$2:$C$8409,Sheet3!$B26,Sheet4!$D$2:$D$8409,Sheet3!AE$3,Sheet4!$E$2:$E$8409,Sheet3!AE$4,Sheet4!$A$2:$A$8409,Sheet3!$B$1,Sheet4!$B$2:$B$8409,Sheet3!$A$3)","v":115.66},{"$f":"+SUMIFS(Sheet4!$DM$2:$DM$8409,Sheet4!$C$2:$C$8409,Sheet3!$B26,Sheet4!$D$2:$D$8409,Sheet3!AF$3,Sheet4!$E$2:$E$8409,Sheet3!AF$4,Sheet4!$A$2:$A$8409,Sheet3!$B$1,Sheet4!$B$2:$B$8409,Sheet3!$A$3)","v":7523.32},{"$f":"+SUMIFS(Sheet4!$DM$2:$DM$8409,Sheet4!$C$2:$C$8409,Sheet3!$B26,Sheet4!$D$2:$D$8409,Sheet3!AG$3,Sheet4!$E$2:$E$8409,Sheet3!AG$4,Sheet4!$A$2:$A$8409,Sheet3!$B$1,Sheet4!$B$2:$B$8409,Sheet3!$A$3)","v":0},{"$f":"+SUMIFS(Sheet4!$DM$2:$DM$8409,Sheet4!$C$2:$C$8409,Sheet3!$B26,Sheet4!$D$2:$D$8409,Sheet3!AH$3,Sheet4!$E$2:$E$8409,Sheet3!AH$4,Sheet4!$A$2:$A$8409,Sheet3!$B$1,Sheet4!$B$2:$B$8409,Sheet3!$A$3)","v":0},{"$f":"+SUMIFS(Sheet4!$DM$2:$DM$8409,Sheet4!$C$2:$C$8409,Sheet3!$B26,Sheet4!$D$2:$D$8409,Sheet3!AI$3,Sheet4!$E$2:$E$8409,Sheet3!AI$4,Sheet4!$A$2:$A$8409,Sheet3!$B$1,Sheet4!$B$2:$B$8409,Sheet3!$A$3)","v":0},{"$f":"+SUMIFS(Sheet4!$DM$2:$DM$8409,Sheet4!$C$2:$C$8409,Sheet3!$B26,Sheet4!$D$2:$D$8409,Sheet3!AJ$3,Sheet4!$E$2:$E$8409,Sheet3!AJ$4,Sheet4!$A$2:$A$8409,Sheet3!$B$1,Sheet4!$B$2:$B$8409,Sheet3!$A$3)","v":1732.72},{"$f":"+SUMIFS(Sheet4!$DM$2:$DM$8409,Sheet4!$C$2:$C$8409,Sheet3!$B26,Sheet4!$D$2:$D$8409,Sheet3!AK$3,Sheet4!$E$2:$E$8409,Sheet3!AK$4,Sheet4!$A$2:$A$8409,Sheet3!$B$1,Sheet4!$B$2:$B$8409,Sheet3!$A$3)","v":0},{"$f":"+SUMIFS(Sheet4!$DM$2:$DM$8409,Sheet4!$C$2:$C$8409,Sheet3!$B26,Sheet4!$D$2:$D$8409,Sheet3!AL$3,Sheet4!$E$2:$E$8409,Sheet3!AL$4,Sheet4!$A$2:$A$8409,Sheet3!$B$1,Sheet4!$B$2:$B$8409,Sheet3!$A$3)","v":0},{"$f":"+SUMIFS(Sheet4!$DM$2:$DM$8409,Sheet4!$C$2:$C$8409,Sheet3!$B26,Sheet4!$D$2:$D$8409,Sheet3!AM$3,Sheet4!$E$2:$E$8409,Sheet3!AM$4,Sheet4!$A$2:$A$8409,Sheet3!$B$1,Sheet4!$B$2:$B$8409,Sheet3!$A$3)","v":0},{"$f":"+SUMIFS(Sheet4!$DM$2:$DM$8409,Sheet4!$C$2:$C$8409,Sheet3!$B26,Sheet4!$D$2:$D$8409,Sheet3!AN$3,Sheet4!$E$2:$E$8409,Sheet3!AN$4,Sheet4!$A$2:$A$8409,Sheet3!$B$1,Sheet4!$B$2:$B$8409,Sheet3!$A$3)","v":0},{"$f":"+SUMIFS(Sheet4!$DM$2:$DM$8409,Sheet4!$C$2:$C$8409,Sheet3!$B26,Sheet4!$D$2:$D$8409,Sheet3!AO$3,Sheet4!$E$2:$E$8409,Sheet3!AO$4,Sheet4!$A$2:$A$8409,Sheet3!$B$1,Sheet4!$B$2:$B$8409,Sheet3!$A$3)","v":3228.77},{"$f":"+SUMIFS(Sheet4!$DM$2:$DM$8409,Sheet4!$C$2:$C$8409,Sheet3!$B26,Sheet4!$D$2:$D$8409,Sheet3!AP$3,Sheet4!$E$2:$E$8409,Sheet3!AP$4,Sheet4!$A$2:$A$8409,Sheet3!$B$1,Sheet4!$B$2:$B$8409,Sheet3!$A$3)","v":2754.1},{"$f":"+SUMIFS(Sheet4!$DM$2:$DM$8409,Sheet4!$C$2:$C$8409,Sheet3!$B26,Sheet4!$D$2:$D$8409,Sheet3!AQ$3,Sheet4!$E$2:$E$8409,Sheet3!AQ$4,Sheet4!$A$2:$A$8409,Sheet3!$B$1,Sheet4!$B$2:$B$8409,Sheet3!$A$3)","v":0},{"$f":"+SUMIFS(Sheet4!$DM$2:$DM$8409,Sheet4!$C$2:$C$8409,Sheet3!$B26,Sheet4!$D$2:$D$8409,Sheet3!AR$3,Sheet4!$E$2:$E$8409,Sheet3!AR$4,Sheet4!$A$2:$A$8409,Sheet3!$B$1,Sheet4!$B$2:$B$8409,Sheet3!$A$3)","v":0},{"$f":"+SUMIFS(Sheet4!$DM$2:$DM$8409,Sheet4!$C$2:$C$8409,Sheet3!$B26,Sheet4!$D$2:$D$8409,Sheet3!AS$3,Sheet4!$E$2:$E$8409,Sheet3!AS$4,Sheet4!$A$2:$A$8409,Sheet3!$B$1,Sheet4!$B$2:$B$8409,Sheet3!$A$3)","v":0},{"$f":"+SUMIFS(Sheet4!$DM$2:$DM$8409,Sheet4!$C$2:$C$8409,Sheet3!$B26,Sheet4!$D$2:$D$8409,Sheet3!AT$3,Sheet4!$E$2:$E$8409,Sheet3!AT$4,Sheet4!$A$2:$A$8409,Sheet3!$B$1,Sheet4!$B$2:$B$8409,Sheet3!$A$3)","v":1253.8499999999999},{"$f":"+SUMIFS(Sheet4!$DM$2:$DM$8409,Sheet4!$C$2:$C$8409,Sheet3!$B26,Sheet4!$D$2:$D$8409,Sheet3!AU$3,Sheet4!$E$2:$E$8409,Sheet3!AU$4,Sheet4!$A$2:$A$8409,Sheet3!$B$1,Sheet4!$B$2:$B$8409,Sheet3!$A$3)","v":5291.84},{"$f":"+SUMIFS(Sheet4!$DM$2:$DM$8409,Sheet4!$C$2:$C$8409,Sheet3!$B26,Sheet4!$D$2:$D$8409,Sheet3!AV$3,Sheet4!$E$2:$E$8409,Sheet3!AV$4,Sheet4!$A$2:$A$8409,Sheet3!$B$1,Sheet4!$B$2:$B$8409,Sheet3!$A$3)","v":0},{"$f":"+SUMIFS(Sheet4!$DM$2:$DM$8409,Sheet4!$C$2:$C$8409,Sheet3!$B26,Sheet4!$D$2:$D$8409,Sheet3!AW$3,Sheet4!$E$2:$E$8409,Sheet3!AW$4,Sheet4!$A$2:$A$8409,Sheet3!$B$1,Sheet4!$B$2:$B$8409,Sheet3!$A$3)","v":0},{"$f":"+SUMIFS(Sheet4!$DM$2:$DM$8409,Sheet4!$C$2:$C$8409,Sheet3!$B26,Sheet4!$D$2:$D$8409,Sheet3!AX$3,Sheet4!$E$2:$E$8409,Sheet3!AX$4,Sheet4!$A$2:$A$8409,Sheet3!$B$1,Sheet4!$B$2:$B$8409,Sheet3!$A$3)","v":0},{"$f":"+SUMIFS(Sheet4!$DM$2:$DM$8409,Sheet4!$C$2:$C$8409,Sheet3!$B26,Sheet4!$D$2:$D$8409,Sheet3!AY$3,Sheet4!$E$2:$E$8409,Sheet3!AY$4,Sheet4!$A$2:$A$8409,Sheet3!$B$1,Sheet4!$B$2:$B$8409,Sheet3!$A$3)","v":4193.0600000000004},{"$f":"+SUMIFS(Sheet4!$DM$2:$DM$8409,Sheet4!$C$2:$C$8409,Sheet3!$B26,Sheet4!$D$2:$D$8409,Sheet3!AZ$3,Sheet4!$E$2:$E$8409,Sheet3!AZ$4,Sheet4!$A$2:$A$8409,Sheet3!$B$1,Sheet4!$B$2:$B$8409,Sheet3!$A$3)","v":12259.28},{"$f":"+SUMIFS(Sheet4!$DM$2:$DM$8409,Sheet4!$C$2:$C$8409,Sheet3!$B26,Sheet4!$D$2:$D$8409,Sheet3!BA$3,Sheet4!$E$2:$E$8409,Sheet3!BA$4,Sheet4!$A$2:$A$8409,Sheet3!$B$1,Sheet4!$B$2:$B$8409,Sheet3!$A$3)","v":4905.92},{"$f":"+SUMIFS(Sheet4!$DM$2:$DM$8409,Sheet4!$C$2:$C$8409,Sheet3!$B26,Sheet4!$D$2:$D$8409,Sheet3!BB$3,Sheet4!$E$2:$E$8409,Sheet3!BB$4,Sheet4!$A$2:$A$8409,Sheet3!$B$1,Sheet4!$B$2:$B$8409,Sheet3!$A$3)","v":0},{"$f":"+SUMIFS(Sheet4!$DM$2:$DM$8409,Sheet4!$C$2:$C$8409,Sheet3!$B26,Sheet4!$D$2:$D$8409,Sheet3!BC$3,Sheet4!$E$2:$E$8409,Sheet3!BC$4,Sheet4!$A$2:$A$8409,Sheet3!$B$1,Sheet4!$B$2:$B$8409,Sheet3!$A$3)","v":0},{"$f":"+SUMIFS(Sheet4!$DM$2:$DM$8409,Sheet4!$C$2:$C$8409,Sheet3!$B26,Sheet4!$D$2:$D$8409,Sheet3!BD$3,Sheet4!$E$2:$E$8409,Sheet3!BD$4,Sheet4!$A$2:$A$8409,Sheet3!$B$1,Sheet4!$B$2:$B$8409,Sheet3!$A$3)","v":0},{"$f":"+SUMIFS(Sheet4!$DM$2:$DM$8409,Sheet4!$C$2:$C$8409,Sheet3!$B26,Sheet4!$D$2:$D$8409,Sheet3!BE$3,Sheet4!$E$2:$E$8409,Sheet3!BE$4,Sheet4!$A$2:$A$8409,Sheet3!$B$1,Sheet4!$B$2:$B$8409,Sheet3!$A$3)","v":0},{"$f":"+SUMIFS(Sheet4!$DM$2:$DM$8409,Sheet4!$C$2:$C$8409,Sheet3!$B26,Sheet4!$D$2:$D$8409,Sheet3!BF$3,Sheet4!$E$2:$E$8409,Sheet3!BF$4,Sheet4!$A$2:$A$8409,Sheet3!$B$1,Sheet4!$B$2:$B$8409,Sheet3!$A$3)","v":0},{"$f":"+SUMIFS(Sheet4!$DM$2:$DM$8409,Sheet4!$C$2:$C$8409,Sheet3!$B26,Sheet4!$D$2:$D$8409,Sheet3!BG$3,Sheet4!$E$2:$E$8409,Sheet3!BG$4,Sheet4!$A$2:$A$8409,Sheet3!$B$1,Sheet4!$B$2:$B$8409,Sheet3!$A$3)","v":0},{"$f":"+SUMIFS(Sheet4!$DM$2:$DM$8409,Sheet4!$C$2:$C$8409,Sheet3!$B26,Sheet4!$D$2:$D$8409,Sheet3!BH$3,Sheet4!$E$2:$E$8409,Sheet3!BH$4,Sheet4!$A$2:$A$8409,Sheet3!$B$1,Sheet4!$B$2:$B$8409,Sheet3!$A$3)","v":0},{"$f":"+SUMIFS(Sheet4!$DM$2:$DM$8409,Sheet4!$C$2:$C$8409,Sheet3!$B26,Sheet4!$D$2:$D$8409,Sheet3!BI$3,Sheet4!$E$2:$E$8409,Sheet3!BI$4,Sheet4!$A$2:$A$8409,Sheet3!$B$1,Sheet4!$B$2:$B$8409,Sheet3!$A$3)","v":1595.19},{"$f":"+SUMIFS(Sheet4!$DM$2:$DM$8409,Sheet4!$C$2:$C$8409,Sheet3!$B26,Sheet4!$D$2:$D$8409,Sheet3!BJ$3,Sheet4!$E$2:$E$8409,Sheet3!BJ$4,Sheet4!$A$2:$A$8409,Sheet3!$B$1,Sheet4!$B$2:$B$8409,Sheet3!$A$3)","v":1286.8599999999999},{"$f":"+SUMIFS(Sheet4!$DM$2:$DM$8409,Sheet4!$C$2:$C$8409,Sheet3!$B26,Sheet4!$D$2:$D$8409,Sheet3!BK$3,Sheet4!$E$2:$E$8409,Sheet3!BK$4,Sheet4!$A$2:$A$8409,Sheet3!$B$1,Sheet4!$B$2:$B$8409,Sheet3!$A$3)","v":0},{"$f":"+SUMIFS(Sheet4!$DM$2:$DM$8409,Sheet4!$C$2:$C$8409,Sheet3!$B26,Sheet4!$D$2:$D$8409,Sheet3!BL$3,Sheet4!$E$2:$E$8409,Sheet3!BL$4,Sheet4!$A$2:$A$8409,Sheet3!$B$1,Sheet4!$B$2:$B$8409,Sheet3!$A$3)","v":0},{"$f":"+SUMIFS(Sheet4!$DM$2:$DM$8409,Sheet4!$C$2:$C$8409,Sheet3!$B26,Sheet4!$D$2:$D$8409,Sheet3!BM$3,Sheet4!$E$2:$E$8409,Sheet3!BM$4,Sheet4!$A$2:$A$8409,Sheet3!$B$1,Sheet4!$B$2:$B$8409,Sheet3!$A$3)","v":0},{"$f":"+SUMIFS(Sheet4!$DM$2:$DM$8409,Sheet4!$C$2:$C$8409,Sheet3!$B26,Sheet4!$D$2:$D$8409,Sheet3!BN$3,Sheet4!$E$2:$E$8409,Sheet3!BN$4,Sheet4!$A$2:$A$8409,Sheet3!$B$1,Sheet4!$B$2:$B$8409,Sheet3!$A$3)","v":0},{"$f":"+SUMIFS(Sheet4!$DM$2:$DM$8409,Sheet4!$C$2:$C$8409,Sheet3!$B26,Sheet4!$D$2:$D$8409,Sheet3!BO$3,Sheet4!$E$2:$E$8409,Sheet3!BO$4,Sheet4!$A$2:$A$8409,Sheet3!$B$1,Sheet4!$B$2:$B$8409,Sheet3!$A$3)","v":0},{"$f":"+SUMIFS(Sheet4!$DM$2:$DM$8409,Sheet4!$C$2:$C$8409,Sheet3!$B26,Sheet4!$D$2:$D$8409,Sheet3!BP$3,Sheet4!$E$2:$E$8409,Sheet3!BP$4,Sheet4!$A$2:$A$8409,Sheet3!$B$1,Sheet4!$B$2:$B$8409,Sheet3!$A$3)","v":0},{"$f":"+SUMIFS(Sheet4!$DM$2:$DM$8409,Sheet4!$C$2:$C$8409,Sheet3!$B26,Sheet4!$D$2:$D$8409,Sheet3!BQ$3,Sheet4!$E$2:$E$8409,Sheet3!BQ$4,Sheet4!$A$2:$A$8409,Sheet3!$B$1,Sheet4!$B$2:$B$8409,Sheet3!$A$3)","v":0},{"$f":"+SUMIFS(Sheet4!$DM$2:$DM$8409,Sheet4!$C$2:$C$8409,Sheet3!$B26,Sheet4!$D$2:$D$8409,Sheet3!BR$3,Sheet4!$E$2:$E$8409,Sheet3!BR$4,Sheet4!$A$2:$A$8409,Sheet3!$B$1,Sheet4!$B$2:$B$8409,Sheet3!$A$3)","v":0},{"$f":"+SUMIFS(Sheet4!$DM$2:$DM$8409,Sheet4!$C$2:$C$8409,Sheet3!$B26,Sheet4!$D$2:$D$8409,Sheet3!BS$3,Sheet4!$E$2:$E$8409,Sheet3!BS$4,Sheet4!$A$2:$A$8409,Sheet3!$B$1,Sheet4!$B$2:$B$8409,Sheet3!$A$3)","v":105042.29},{"$f":"+SUMIFS(Sheet4!$DM$2:$DM$8409,Sheet4!$C$2:$C$8409,Sheet3!$B26,Sheet4!$D$2:$D$8409,Sheet3!BT$3,Sheet4!$E$2:$E$8409,Sheet3!BT$4,Sheet4!$A$2:$A$8409,Sheet3!$B$1,Sheet4!$B$2:$B$8409,Sheet3!$A$3)","v":265423.31},{"$f":"+SUMIFS(Sheet4!$DM$2:$DM$8409,Sheet4!$C$2:$C$8409,Sheet3!$B26,Sheet4!$D$2:$D$8409,Sheet3!BU$3,Sheet4!$E$2:$E$8409,Sheet3!BU$4,Sheet4!$A$2:$A$8409,Sheet3!$B$1,Sheet4!$B$2:$B$8409,Sheet3!$A$3)","v":71623.14},{"$f":"+SUMIFS(Sheet4!$DM$2:$DM$8409,Sheet4!$C$2:$C$8409,Sheet3!$B26,Sheet4!$D$2:$D$8409,Sheet3!BV$3,Sheet4!$E$2:$E$8409,Sheet3!BV$4,Sheet4!$A$2:$A$8409,Sheet3!$B$1,Sheet4!$B$2:$B$8409,Sheet3!$A$3)","v":0},{"$f":"+SUMIFS(Sheet4!$DM$2:$DM$8409,Sheet4!$C$2:$C$8409,Sheet3!$B26,Sheet4!$D$2:$D$8409,Sheet3!BW$3,Sheet4!$E$2:$E$8409,Sheet3!BW$4,Sheet4!$A$2:$A$8409,Sheet3!$B$1,Sheet4!$B$2:$B$8409,Sheet3!$A$3)","v":499},{"$f":"+SUMIFS(Sheet4!$DM$2:$DM$8409,Sheet4!$C$2:$C$8409,Sheet3!$B26,Sheet4!$D$2:$D$8409,Sheet3!BX$3,Sheet4!$E$2:$E$8409,Sheet3!BX$4,Sheet4!$A$2:$A$8409,Sheet3!$B$1,Sheet4!$B$2:$B$8409,Sheet3!$A$3)","v":59941.659999999996},{"$f":"+SUMIFS(Sheet4!$DM$2:$DM$8409,Sheet4!$C$2:$C$8409,Sheet3!$B26,Sheet4!$D$2:$D$8409,Sheet3!BY$3,Sheet4!$E$2:$E$8409,Sheet3!BY$4,Sheet4!$A$2:$A$8409,Sheet3!$B$1,Sheet4!$B$2:$B$8409,Sheet3!$A$3)","v":88528.39},{"$f":"+SUMIFS(Sheet4!$DM$2:$DM$8409,Sheet4!$C$2:$C$8409,Sheet3!$B26,Sheet4!$D$2:$D$8409,Sheet3!BZ$3,Sheet4!$E$2:$E$8409,Sheet3!BZ$4,Sheet4!$A$2:$A$8409,Sheet3!$B$1,Sheet4!$B$2:$B$8409,Sheet3!$A$3)","v":2681.2},{"$f":"+SUMIFS(Sheet4!$DM$2:$DM$8409,Sheet4!$C$2:$C$8409,Sheet3!$B26,Sheet4!$D$2:$D$8409,Sheet3!CA$3,Sheet4!$E$2:$E$8409,Sheet3!CA$4,Sheet4!$A$2:$A$8409,Sheet3!$B$1,Sheet4!$B$2:$B$8409,Sheet3!$A$3)","v":0},{"$f":"+SUMIFS(Sheet4!$DM$2:$DM$8409,Sheet4!$C$2:$C$8409,Sheet3!$B26,Sheet4!$D$2:$D$8409,Sheet3!CB$3,Sheet4!$E$2:$E$8409,Sheet3!CB$4,Sheet4!$A$2:$A$8409,Sheet3!$B$1,Sheet4!$B$2:$B$8409,Sheet3!$A$3)","v":0},{"$f":"+SUMIFS(Sheet4!$DM$2:$DM$8409,Sheet4!$C$2:$C$8409,Sheet3!$B26,Sheet4!$D$2:$D$8409,Sheet3!CC$3,Sheet4!$E$2:$E$8409,Sheet3!CC$4,Sheet4!$A$2:$A$8409,Sheet3!$B$1,Sheet4!$B$2:$B$8409,Sheet3!$A$3)","v":22855.82},{"$f":"+SUMIFS(Sheet4!$DM$2:$DM$8409,Sheet4!$C$2:$C$8409,Sheet3!$B26,Sheet4!$D$2:$D$8409,Sheet3!CD$3,Sheet4!$E$2:$E$8409,Sheet3!CD$4,Sheet4!$A$2:$A$8409,Sheet3!$B$1,Sheet4!$B$2:$B$8409,Sheet3!$A$3)","v":106390.38},{"$f":"+SUMIFS(Sheet4!$DM$2:$DM$8409,Sheet4!$C$2:$C$8409,Sheet3!$B26,Sheet4!$D$2:$D$8409,Sheet3!CE$3,Sheet4!$E$2:$E$8409,Sheet3!CE$4,Sheet4!$A$2:$A$8409,Sheet3!$B$1,Sheet4!$B$2:$B$8409,Sheet3!$A$3)","v":45274.34},{"$f":"+SUMIFS(Sheet4!$DM$2:$DM$8409,Sheet4!$C$2:$C$8409,Sheet3!$B26,Sheet4!$D$2:$D$8409,Sheet3!CF$3,Sheet4!$E$2:$E$8409,Sheet3!CF$4,Sheet4!$A$2:$A$8409,Sheet3!$B$1,Sheet4!$B$2:$B$8409,Sheet3!$A$3)","v":0},{"$f":"+SUMIFS(Sheet4!$DM$2:$DM$8409,Sheet4!$C$2:$C$8409,Sheet3!$B26,Sheet4!$D$2:$D$8409,Sheet3!CG$3,Sheet4!$E$2:$E$8409,Sheet3!CG$4,Sheet4!$A$2:$A$8409,Sheet3!$B$1,Sheet4!$B$2:$B$8409,Sheet3!$A$3)","v":0},{"$f":"+SUMIFS(Sheet4!$DM$2:$DM$8409,Sheet4!$C$2:$C$8409,Sheet3!$B26,Sheet4!$D$2:$D$8409,Sheet3!CH$3,Sheet4!$E$2:$E$8409,Sheet3!CH$4,Sheet4!$A$2:$A$8409,Sheet3!$B$1,Sheet4!$B$2:$B$8409,Sheet3!$A$3)","v":0},{"$f":"+SUMIFS(Sheet4!$DM$2:$DM$8409,Sheet4!$C$2:$C$8409,Sheet3!$B26,Sheet4!$D$2:$D$8409,Sheet3!CI$3,Sheet4!$E$2:$E$8409,Sheet3!CI$4,Sheet4!$A$2:$A$8409,Sheet3!$B$1,Sheet4!$B$2:$B$8409,Sheet3!$A$3)","v":0},{"$f":"+SUMIFS(Sheet4!$DM$2:$DM$8409,Sheet4!$C$2:$C$8409,Sheet3!$B26,Sheet4!$D$2:$D$8409,Sheet3!CJ$3,Sheet4!$E$2:$E$8409,Sheet3!CJ$4,Sheet4!$A$2:$A$8409,Sheet3!$B$1,Sheet4!$B$2:$B$8409,Sheet3!$A$3)","v":0},{"$f":"+SUMIFS(Sheet4!$DM$2:$DM$8409,Sheet4!$C$2:$C$8409,Sheet3!$B26,Sheet4!$D$2:$D$8409,Sheet3!CK$3,Sheet4!$E$2:$E$8409,Sheet3!CK$4,Sheet4!$A$2:$A$8409,Sheet3!$B$1,Sheet4!$B$2:$B$8409,Sheet3!$A$3)","v":0},{"$f":"+SUMIFS(Sheet4!$DM$2:$DM$8409,Sheet4!$C$2:$C$8409,Sheet3!$B26,Sheet4!$D$2:$D$8409,Sheet3!CL$3,Sheet4!$E$2:$E$8409,Sheet3!CL$4,Sheet4!$A$2:$A$8409,Sheet3!$B$1,Sheet4!$B$2:$B$8409,Sheet3!$A$3)","v":0},{"$f":"+SUMIFS(Sheet4!$DM$2:$DM$8409,Sheet4!$C$2:$C$8409,Sheet3!$B26,Sheet4!$D$2:$D$8409,Sheet3!CM$3,Sheet4!$E$2:$E$8409,Sheet3!CM$4,Sheet4!$A$2:$A$8409,Sheet3!$B$1,Sheet4!$B$2:$B$8409,Sheet3!$A$3)","v":0},{"$f":"+SUMIFS(Sheet4!$DM$2:$DM$8409,Sheet4!$C$2:$C$8409,Sheet3!$B26,Sheet4!$D$2:$D$8409,Sheet3!CN$3,Sheet4!$E$2:$E$8409,Sheet3!CN$4,Sheet4!$A$2:$A$8409,Sheet3!$B$1,Sheet4!$B$2:$B$8409,Sheet3!$A$3)","v":0},{"$f":"+SUMIFS(Sheet4!$DM$2:$DM$8409,Sheet4!$C$2:$C$8409,Sheet3!$B26,Sheet4!$D$2:$D$8409,Sheet3!CO$3,Sheet4!$E$2:$E$8409,Sheet3!CO$4,Sheet4!$A$2:$A$8409,Sheet3!$B$1,Sheet4!$B$2:$B$8409,Sheet3!$A$3)","v":0},{"$f":"+SUMIFS(Sheet4!$DM$2:$DM$8409,Sheet4!$C$2:$C$8409,Sheet3!$B26,Sheet4!$D$2:$D$8409,Sheet3!CP$3,Sheet4!$E$2:$E$8409,Sheet3!CP$4,Sheet4!$A$2:$A$8409,Sheet3!$B$1,Sheet4!$B$2:$B$8409,Sheet3!$A$3)","v":0},{"$f":"+SUMIFS(Sheet4!$DM$2:$DM$8409,Sheet4!$C$2:$C$8409,Sheet3!$B26,Sheet4!$D$2:$D$8409,Sheet3!CQ$3,Sheet4!$E$2:$E$8409,Sheet3!CQ$4,Sheet4!$A$2:$A$8409,Sheet3!$B$1,Sheet4!$B$2:$B$8409,Sheet3!$A$3)","v":0},{"$f":"+SUMIFS(Sheet4!$DM$2:$DM$8409,Sheet4!$C$2:$C$8409,Sheet3!$B26,Sheet4!$D$2:$D$8409,Sheet3!CR$3,Sheet4!$E$2:$E$8409,Sheet3!CR$4,Sheet4!$A$2:$A$8409,Sheet3!$B$1,Sheet4!$B$2:$B$8409,Sheet3!$A$3)","v":0},{"$f":"+SUMIFS(Sheet4!$DM$2:$DM$8409,Sheet4!$C$2:$C$8409,Sheet3!$B26,Sheet4!$D$2:$D$8409,Sheet3!CS$3,Sheet4!$E$2:$E$8409,Sheet3!CS$4,Sheet4!$A$2:$A$8409,Sheet3!$B$1,Sheet4!$B$2:$B$8409,Sheet3!$A$3)","v":0},{"$f":"+SUMIFS(Sheet4!$DM$2:$DM$8409,Sheet4!$C$2:$C$8409,Sheet3!$B26,Sheet4!$D$2:$D$8409,Sheet3!CT$3,Sheet4!$E$2:$E$8409,Sheet3!CT$4,Sheet4!$A$2:$A$8409,Sheet3!$B$1,Sheet4!$B$2:$B$8409,Sheet3!$A$3)","v":0},{"$f":"+IF(SUMIFS(Sheet4!$DN$2:$DN$8409,Sheet4!$C$2:$C$8409,Sheet3!$B26,Sheet4!$D$2:$D$8409,Sheet3!CU$3,Sheet4!$A$2:$A$8409,Sheet3!$B$1,Sheet4!$B$2:$B$8409,Sheet3!$A$3)<3,0,SUMIFS(Sheet4!$DN$2:$DN$8409,Sheet4!$C$2:$C$8409,Sheet3!$B26,Sheet4!$D$2:$D$8409,Sheet3!CU$3,Sheet4!$A$2:$A$8409,Sheet3!$B$1,Sheet4!$B$2:$B$8409,Sheet3!$A$3))","v":0},{"$f":"+IF(SUMIFS(Sheet4!$DN$2:$DN$8409,Sheet4!$C$2:$C$8409,Sheet3!$B26,Sheet4!$D$2:$D$8409,Sheet3!CV$3,Sheet4!$A$2:$A$8409,Sheet3!$B$1,Sheet4!$B$2:$B$8409,Sheet3!$A$3)<3,0,SUMIFS(Sheet4!$DN$2:$DN$8409,Sheet4!$C$2:$C$8409,Sheet3!$B26,Sheet4!$D$2:$D$8409,Sheet3!CV$3,Sheet4!$A$2:$A$8409,Sheet3!$B$1,Sheet4!$B$2:$B$8409,Sheet3!$A$3))","v":0},{"$f":"+IF(SUMIFS(Sheet4!$DN$2:$DN$8409,Sheet4!$C$2:$C$8409,Sheet3!$B26,Sheet4!$D$2:$D$8409,Sheet3!CW$3,Sheet4!$A$2:$A$8409,Sheet3!$B$1,Sheet4!$B$2:$B$8409,Sheet3!$A$3)<3,0,SUMIFS(Sheet4!$DN$2:$DN$8409,Sheet4!$C$2:$C$8409,Sheet3!$B26,Sheet4!$D$2:$D$8409,Sheet3!CW$3,Sheet4!$A$2:$A$8409,Sheet3!$B$1,Sheet4!$B$2:$B$8409,Sheet3!$A$3))","v":12512.61},{"$f":"+IF(SUMIFS(Sheet4!$DN$2:$DN$8409,Sheet4!$C$2:$C$8409,Sheet3!$B26,Sheet4!$D$2:$D$8409,Sheet3!CX$3,Sheet4!$A$2:$A$8409,Sheet3!$B$1,Sheet4!$B$2:$B$8409,Sheet3!$A$3)<3,0,SUMIFS(Sheet4!$DN$2:$DN$8409,Sheet4!$C$2:$C$8409,Sheet3!$B26,Sheet4!$D$2:$D$8409,Sheet3!CX$3,Sheet4!$A$2:$A$8409,Sheet3!$B$1,Sheet4!$B$2:$B$8409,Sheet3!$A$3))","v":0},{"$f":"+IF(SUMIFS(Sheet4!$DN$2:$DN$8409,Sheet4!$C$2:$C$8409,Sheet3!$B26,Sheet4!$D$2:$D$8409,Sheet3!CY$3,Sheet4!$A$2:$A$8409,Sheet3!$B$1,Sheet4!$B$2:$B$8409,Sheet3!$A$3)<3,0,SUMIFS(Sheet4!$DN$2:$DN$8409,Sheet4!$C$2:$C$8409,Sheet3!$B26,Sheet4!$D$2:$D$8409,Sheet3!CY$3,Sheet4!$A$2:$A$8409,Sheet3!$B$1,Sheet4!$B$2:$B$8409,Sheet3!$A$3))","v":4977.7000000000007},{"$f":"+IF(SUMIFS(Sheet4!$DN$2:$DN$8409,Sheet4!$C$2:$C$8409,Sheet3!$B26,Sheet4!$D$2:$D$8409,Sheet3!CZ$3,Sheet4!$A$2:$A$8409,Sheet3!$B$1,Sheet4!$B$2:$B$8409,Sheet3!$A$3)<3,0,SUMIFS(Sheet4!$DN$2:$DN$8409,Sheet4!$C$2:$C$8409,Sheet3!$B26,Sheet4!$D$2:$D$8409,Sheet3!CZ$3,Sheet4!$A$2:$A$8409,Sheet3!$B$1,Sheet4!$B$2:$B$8409,Sheet3!$A$3))","v":7638.98},{"$f":"+IF(SUMIFS(Sheet4!$DN$2:$DN$8409,Sheet4!$C$2:$C$8409,Sheet3!$B26,Sheet4!$D$2:$D$8409,Sheet3!DA$3,Sheet4!$A$2:$A$8409,Sheet3!$B$1,Sheet4!$B$2:$B$8409,Sheet3!$A$3)<3,0,SUMIFS(Sheet4!$DN$2:$DN$8409,Sheet4!$C$2:$C$8409,Sheet3!$B26,Sheet4!$D$2:$D$8409,Sheet3!DA$3,Sheet4!$A$2:$A$8409,Sheet3!$B$1,Sheet4!$B$2:$B$8409,Sheet3!$A$3))","v":1732.72},{"$f":"+IF(SUMIFS(Sheet4!$DN$2:$DN$8409,Sheet4!$C$2:$C$8409,Sheet3!$B26,Sheet4!$D$2:$D$8409,Sheet3!DB$3,Sheet4!$A$2:$A$8409,Sheet3!$B$1,Sheet4!$B$2:$B$8409,Sheet3!$A$3)<3,0,SUMIFS(Sheet4!$DN$2:$DN$8409,Sheet4!$C$2:$C$8409,Sheet3!$B26,Sheet4!$D$2:$D$8409,Sheet3!DB$3,Sheet4!$A$2:$A$8409,Sheet3!$B$1,Sheet4!$B$2:$B$8409,Sheet3!$A$3))","v":5982.87},{"$f":"+IF(SUMIFS(Sheet4!$DN$2:$DN$8409,Sheet4!$C$2:$C$8409,Sheet3!$B26,Sheet4!$D$2:$D$8409,Sheet3!DC$3,Sheet4!$A$2:$A$8409,Sheet3!$B$1,Sheet4!$B$2:$B$8409,Sheet3!$A$3)<3,0,SUMIFS(Sheet4!$DN$2:$DN$8409,Sheet4!$C$2:$C$8409,Sheet3!$B26,Sheet4!$D$2:$D$8409,Sheet3!DC$3,Sheet4!$A$2:$A$8409,Sheet3!$B$1,Sheet4!$B$2:$B$8409,Sheet3!$A$3))","v":6545.6900000000005},{"$f":"+IF(SUMIFS(Sheet4!$DN$2:$DN$8409,Sheet4!$C$2:$C$8409,Sheet3!$B26,Sheet4!$D$2:$D$8409,Sheet3!DD$3,Sheet4!$A$2:$A$8409,Sheet3!$B$1,Sheet4!$B$2:$B$8409,Sheet3!$A$3)<3,0,SUMIFS(Sheet4!$DN$2:$DN$8409,Sheet4!$C$2:$C$8409,Sheet3!$B26,Sheet4!$D$2:$D$8409,Sheet3!DD$3,Sheet4!$A$2:$A$8409,Sheet3!$B$1,Sheet4!$B$2:$B$8409,Sheet3!$A$3))","v":21358.260000000002},{"$f":"+IF(SUMIFS(Sheet4!$DN$2:$DN$8409,Sheet4!$C$2:$C$8409,Sheet3!$B26,Sheet4!$D$2:$D$8409,Sheet3!DE$3,Sheet4!$A$2:$A$8409,Sheet3!$B$1,Sheet4!$B$2:$B$8409,Sheet3!$A$3)<3,0,SUMIFS(Sheet4!$DN$2:$DN$8409,Sheet4!$C$2:$C$8409,Sheet3!$B26,Sheet4!$D$2:$D$8409,Sheet3!DE$3,Sheet4!$A$2:$A$8409,Sheet3!$B$1,Sheet4!$B$2:$B$8409,Sheet3!$A$3))","v":0},{"$f":"+IF(SUMIFS(Sheet4!$DN$2:$DN$8409,Sheet4!$C$2:$C$8409,Sheet3!$B26,Sheet4!$D$2:$D$8409,Sheet3!DF$3,Sheet4!$A$2:$A$8409,Sheet3!$B$1,Sheet4!$B$2:$B$8409,Sheet3!$A$3)<3,0,SUMIFS(Sheet4!$DN$2:$DN$8409,Sheet4!$C$2:$C$8409,Sheet3!$B26,Sheet4!$D$2:$D$8409,Sheet3!DF$3,Sheet4!$A$2:$A$8409,Sheet3!$B$1,Sheet4!$B$2:$B$8409,Sheet3!$A$3))","v":2882.05},{"$f":"+IF(SUMIFS(Sheet4!$DN$2:$DN$8409,Sheet4!$C$2:$C$8409,Sheet3!$B26,Sheet4!$D$2:$D$8409,Sheet3!DG$3,Sheet4!$A$2:$A$8409,Sheet3!$B$1,Sheet4!$B$2:$B$8409,Sheet3!$A$3)<3,0,SUMIFS(Sheet4!$DN$2:$DN$8409,Sheet4!$C$2:$C$8409,Sheet3!$B26,Sheet4!$D$2:$D$8409,Sheet3!DG$3,Sheet4!$A$2:$A$8409,Sheet3!$B$1,Sheet4!$B$2:$B$8409,Sheet3!$A$3))","v":0},{"$f":"+IF(SUMIFS(Sheet4!$DN$2:$DN$8409,Sheet4!$C$2:$C$8409,Sheet3!$B26,Sheet4!$D$2:$D$8409,Sheet3!DH$3,Sheet4!$A$2:$A$8409,Sheet3!$B$1,Sheet4!$B$2:$B$8409,Sheet3!$A$3)<3,0,SUMIFS(Sheet4!$DN$2:$DN$8409,Sheet4!$C$2:$C$8409,Sheet3!$B26,Sheet4!$D$2:$D$8409,Sheet3!DH$3,Sheet4!$A$2:$A$8409,Sheet3!$B$1,Sheet4!$B$2:$B$8409,Sheet3!$A$3))","v":442088.74000000005},{"$f":"+IF(SUMIFS(Sheet4!$DN$2:$DN$8409,Sheet4!$C$2:$C$8409,Sheet3!$B26,Sheet4!$D$2:$D$8409,Sheet3!DI$3,Sheet4!$A$2:$A$8409,Sheet3!$B$1,Sheet4!$B$2:$B$8409,Sheet3!$A$3)<3,0,SUMIFS(Sheet4!$DN$2:$DN$8409,Sheet4!$C$2:$C$8409,Sheet3!$B26,Sheet4!$D$2:$D$8409,Sheet3!DI$3,Sheet4!$A$2:$A$8409,Sheet3!$B$1,Sheet4!$B$2:$B$8409,Sheet3!$A$3))","v":151650.25000000003},{"$f":"+IF(SUMIFS(Sheet4!$DN$2:$DN$8409,Sheet4!$C$2:$C$8409,Sheet3!$B26,Sheet4!$D$2:$D$8409,Sheet3!DJ$3,Sheet4!$A$2:$A$8409,Sheet3!$B$1,Sheet4!$B$2:$B$8409,Sheet3!$A$3)<3,0,SUMIFS(Sheet4!$DN$2:$DN$8409,Sheet4!$C$2:$C$8409,Sheet3!$B26,Sheet4!$D$2:$D$8409,Sheet3!DJ$3,Sheet4!$A$2:$A$8409,Sheet3!$B$1,Sheet4!$B$2:$B$8409,Sheet3!$A$3))","v":174520.54},{"$f":"+IF(SUMIFS(Sheet4!$DN$2:$DN$8409,Sheet4!$C$2:$C$8409,Sheet3!$B26,Sheet4!$D$2:$D$8409,Sheet3!DK$3,Sheet4!$A$2:$A$8409,Sheet3!$B$1,Sheet4!$B$2:$B$8409,Sheet3!$A$3)<3,0,SUMIFS(Sheet4!$DN$2:$DN$8409,Sheet4!$C$2:$C$8409,Sheet3!$B26,Sheet4!$D$2:$D$8409,Sheet3!DK$3,Sheet4!$A$2:$A$8409,Sheet3!$B$1,Sheet4!$B$2:$B$8409,Sheet3!$A$3))","v":0},{"$f":"+IF(SUMIFS(Sheet4!$DN$2:$DN$8409,Sheet4!$C$2:$C$8409,Sheet3!$B26,Sheet4!$D$2:$D$8409,Sheet3!DL$3,Sheet4!$A$2:$A$8409,Sheet3!$B$1,Sheet4!$B$2:$B$8409,Sheet3!$A$3)<3,0,SUMIFS(Sheet4!$DN$2:$DN$8409,Sheet4!$C$2:$C$8409,Sheet3!$B26,Sheet4!$D$2:$D$8409,Sheet3!DL$3,Sheet4!$A$2:$A$8409,Sheet3!$B$1,Sheet4!$B$2:$B$8409,Sheet3!$A$3))","v":0},{"$f":"+IF(SUMIFS(Sheet4!$DN$2:$DN$8409,Sheet4!$C$2:$C$8409,Sheet3!$B26,Sheet4!$D$2:$D$8409,Sheet3!DM$3,Sheet4!$A$2:$A$8409,Sheet3!$B$1,Sheet4!$B$2:$B$8409,Sheet3!$A$3)<3,0,SUMIFS(Sheet4!$DN$2:$DN$8409,Sheet4!$C$2:$C$8409,Sheet3!$B26,Sheet4!$D$2:$D$8409,Sheet3!DM$3,Sheet4!$A$2:$A$8409,Sheet3!$B$1,Sheet4!$B$2:$B$8409,Sheet3!$A$3))","v":0},{"$f":"+IF(SUMIFS(Sheet4!$DN$2:$DN$8409,Sheet4!$C$2:$C$8409,Sheet3!$B26,Sheet4!$E$2:$E$8409,Sheet3!DN$4,Sheet4!$A$2:$A$8409,Sheet3!$B$1,Sheet4!$B$2:$B$8409,Sheet3!$A$3)<3,0,SUMIFS(Sheet4!$DN$2:$DN$8409,Sheet4!$C$2:$C$8409,Sheet3!$B26,Sheet4!$E$2:$E$8409,Sheet3!DN$4,Sheet4!$A$2:$A$8409,Sheet3!$B$1,Sheet4!$B$2:$B$8409,Sheet3!$A$3))","v":0},{"$f":"+IF(SUMIFS(Sheet4!$DN$2:$DN$8409,Sheet4!$C$2:$C$8409,Sheet3!$B26,Sheet4!$E$2:$E$8409,Sheet3!DO$4,Sheet4!$A$2:$A$8409,Sheet3!$B$1,Sheet4!$B$2:$B$8409,Sheet3!$A$3)<3,0,SUMIFS(Sheet4!$DN$2:$DN$8409,Sheet4!$C$2:$C$8409,Sheet3!$B26,Sheet4!$E$2:$E$8409,Sheet3!DO$4,Sheet4!$A$2:$A$8409,Sheet3!$B$1,Sheet4!$B$2:$B$8409,Sheet3!$A$3))","v":499},{"$f":"+IF(SUMIFS(Sheet4!$DN$2:$DN$8409,Sheet4!$C$2:$C$8409,Sheet3!$B26,Sheet4!$E$2:$E$8409,Sheet3!DP$4,Sheet4!$A$2:$A$8409,Sheet3!$B$1,Sheet4!$B$2:$B$8409,Sheet3!$A$3)<3,0,SUMIFS(Sheet4!$DN$2:$DN$8409,Sheet4!$C$2:$C$8409,Sheet3!$B26,Sheet4!$E$2:$E$8409,Sheet3!DP$4,Sheet4!$A$2:$A$8409,Sheet3!$B$1,Sheet4!$B$2:$B$8409,Sheet3!$A$3))","v":202661.82},{"$f":"+IF(SUMIFS(Sheet4!$DN$2:$DN$8409,Sheet4!$C$2:$C$8409,Sheet3!$B26,Sheet4!$E$2:$E$8409,Sheet3!DQ$4,Sheet4!$A$2:$A$8409,Sheet3!$B$1,Sheet4!$B$2:$B$8409,Sheet3!$A$3)<3,0,SUMIFS(Sheet4!$DN$2:$DN$8409,Sheet4!$C$2:$C$8409,Sheet3!$B26,Sheet4!$E$2:$E$8409,Sheet3!DQ$4,Sheet4!$A$2:$A$8409,Sheet3!$B$1,Sheet4!$B$2:$B$8409,Sheet3!$A$3))","v":496161.68000000005},{"$f":"+IF(SUMIFS(Sheet4!$DN$2:$DN$8409,Sheet4!$C$2:$C$8409,Sheet3!$B26,Sheet4!$E$2:$E$8409,Sheet3!DR$4,Sheet4!$A$2:$A$8409,Sheet3!$B$1,Sheet4!$B$2:$B$8409,Sheet3!$A$3)<3,0,SUMIFS(Sheet4!$DN$2:$DN$8409,Sheet4!$C$2:$C$8409,Sheet3!$B26,Sheet4!$E$2:$E$8409,Sheet3!DR$4,Sheet4!$A$2:$A$8409,Sheet3!$B$1,Sheet4!$B$2:$B$8409,Sheet3!$A$3))","v":132567.90999999997}]
[5,"185","Lezíria do Tejo",{"$f":"+SUMIFS(Sheet4!$DM$2:$DM$8409,Sheet4!$C$2:$C$8409,Sheet3!$B27,Sheet4!$D$2:$D$8409,Sheet3!D$3,Sheet4!$E$2:$E$8409,Sheet3!D$4,Sheet4!$A$2:$A$8409,Sheet3!$B$1,Sheet4!$B$2:$B$8409,Sheet3!$A$3)","v":0},{"$f":"+SUMIFS(Sheet4!$DM$2:$DM$8409,Sheet4!$C$2:$C$8409,Sheet3!$B27,Sheet4!$D$2:$D$8409,Sheet3!E$3,Sheet4!$E$2:$E$8409,Sheet3!E$4,Sheet4!$A$2:$A$8409,Sheet3!$B$1,Sheet4!$B$2:$B$8409,Sheet3!$A$3)","v":0},{"$f":"+SUMIFS(Sheet4!$DM$2:$DM$8409,Sheet4!$C$2:$C$8409,Sheet3!$B27,Sheet4!$D$2:$D$8409,Sheet3!F$3,Sheet4!$E$2:$E$8409,Sheet3!F$4,Sheet4!$A$2:$A$8409,Sheet3!$B$1,Sheet4!$B$2:$B$8409,Sheet3!$A$3)","v":0},{"$f":"+SUMIFS(Sheet4!$DM$2:$DM$8409,Sheet4!$C$2:$C$8409,Sheet3!$B27,Sheet4!$D$2:$D$8409,Sheet3!G$3,Sheet4!$E$2:$E$8409,Sheet3!G$4,Sheet4!$A$2:$A$8409,Sheet3!$B$1,Sheet4!$B$2:$B$8409,Sheet3!$A$3)","v":0},{"$f":"+SUMIFS(Sheet4!$DM$2:$DM$8409,Sheet4!$C$2:$C$8409,Sheet3!$B27,Sheet4!$D$2:$D$8409,Sheet3!H$3,Sheet4!$E$2:$E$8409,Sheet3!H$4,Sheet4!$A$2:$A$8409,Sheet3!$B$1,Sheet4!$B$2:$B$8409,Sheet3!$A$3)","v":0},{"$f":"+SUMIFS(Sheet4!$DM$2:$DM$8409,Sheet4!$C$2:$C$8409,Sheet3!$B27,Sheet4!$D$2:$D$8409,Sheet3!I$3,Sheet4!$E$2:$E$8409,Sheet3!I$4,Sheet4!$A$2:$A$8409,Sheet3!$B$1,Sheet4!$B$2:$B$8409,Sheet3!$A$3)","v":0},{"$f":"+SUMIFS(Sheet4!$DM$2:$DM$8409,Sheet4!$C$2:$C$8409,Sheet3!$B27,Sheet4!$D$2:$D$8409,Sheet3!J$3,Sheet4!$E$2:$E$8409,Sheet3!J$4,Sheet4!$A$2:$A$8409,Sheet3!$B$1,Sheet4!$B$2:$B$8409,Sheet3!$A$3)","v":0},{"$f":"+SUMIFS(Sheet4!$DM$2:$DM$8409,Sheet4!$C$2:$C$8409,Sheet3!$B27,Sheet4!$D$2:$D$8409,Sheet3!K$3,Sheet4!$E$2:$E$8409,Sheet3!K$4,Sheet4!$A$2:$A$8409,Sheet3!$B$1,Sheet4!$B$2:$B$8409,Sheet3!$A$3)","v":0},{"$f":"+SUMIFS(Sheet4!$DM$2:$DM$8409,Sheet4!$C$2:$C$8409,Sheet3!$B27,Sheet4!$D$2:$D$8409,Sheet3!L$3,Sheet4!$E$2:$E$8409,Sheet3!L$4,Sheet4!$A$2:$A$8409,Sheet3!$B$1,Sheet4!$B$2:$B$8409,Sheet3!$A$3)","v":2528.84},{"$f":"+SUMIFS(Sheet4!$DM$2:$DM$8409,Sheet4!$C$2:$C$8409,Sheet3!$B27,Sheet4!$D$2:$D$8409,Sheet3!M$3,Sheet4!$E$2:$E$8409,Sheet3!M$4,Sheet4!$A$2:$A$8409,Sheet3!$B$1,Sheet4!$B$2:$B$8409,Sheet3!$A$3)","v":0},{"$f":"+SUMIFS(Sheet4!$DM$2:$DM$8409,Sheet4!$C$2:$C$8409,Sheet3!$B27,Sheet4!$D$2:$D$8409,Sheet3!N$3,Sheet4!$E$2:$E$8409,Sheet3!N$4,Sheet4!$A$2:$A$8409,Sheet3!$B$1,Sheet4!$B$2:$B$8409,Sheet3!$A$3)","v":0},{"$f":"+SUMIFS(Sheet4!$DM$2:$DM$8409,Sheet4!$C$2:$C$8409,Sheet3!$B27,Sheet4!$D$2:$D$8409,Sheet3!O$3,Sheet4!$E$2:$E$8409,Sheet3!O$4,Sheet4!$A$2:$A$8409,Sheet3!$B$1,Sheet4!$B$2:$B$8409,Sheet3!$A$3)","v":0},{"$f":"+SUMIFS(Sheet4!$DM$2:$DM$8409,Sheet4!$C$2:$C$8409,Sheet3!$B27,Sheet4!$D$2:$D$8409,Sheet3!P$3,Sheet4!$E$2:$E$8409,Sheet3!P$4,Sheet4!$A$2:$A$8409,Sheet3!$B$1,Sheet4!$B$2:$B$8409,Sheet3!$A$3)","v":0},{"$f":"+SUMIFS(Sheet4!$DM$2:$DM$8409,Sheet4!$C$2:$C$8409,Sheet3!$B27,Sheet4!$D$2:$D$8409,Sheet3!Q$3,Sheet4!$E$2:$E$8409,Sheet3!Q$4,Sheet4!$A$2:$A$8409,Sheet3!$B$1,Sheet4!$B$2:$B$8409,Sheet3!$A$3)","v":0},{"$f":"+SUMIFS(Sheet4!$DM$2:$DM$8409,Sheet4!$C$2:$C$8409,Sheet3!$B27,Sheet4!$D$2:$D$8409,Sheet3!R$3,Sheet4!$E$2:$E$8409,Sheet3!R$4,Sheet4!$A$2:$A$8409,Sheet3!$B$1,Sheet4!$B$2:$B$8409,Sheet3!$A$3)","v":8481.7199999999993},{"$f":"+SUMIFS(Sheet4!$DM$2:$DM$8409,Sheet4!$C$2:$C$8409,Sheet3!$B27,Sheet4!$D$2:$D$8409,Sheet3!S$3,Sheet4!$E$2:$E$8409,Sheet3!S$4,Sheet4!$A$2:$A$8409,Sheet3!$B$1,Sheet4!$B$2:$B$8409,Sheet3!$A$3)","v":0},{"$f":"+SUMIFS(Sheet4!$DM$2:$DM$8409,Sheet4!$C$2:$C$8409,Sheet3!$B27,Sheet4!$D$2:$D$8409,Sheet3!T$3,Sheet4!$E$2:$E$8409,Sheet3!T$4,Sheet4!$A$2:$A$8409,Sheet3!$B$1,Sheet4!$B$2:$B$8409,Sheet3!$A$3)","v":0},{"$f":"+SUMIFS(Sheet4!$DM$2:$DM$8409,Sheet4!$C$2:$C$8409,Sheet3!$B27,Sheet4!$D$2:$D$8409,Sheet3!U$3,Sheet4!$E$2:$E$8409,Sheet3!U$4,Sheet4!$A$2:$A$8409,Sheet3!$B$1,Sheet4!$B$2:$B$8409,Sheet3!$A$3)","v":1501.68},{"$f":"+SUMIFS(Sheet4!$DM$2:$DM$8409,Sheet4!$C$2:$C$8409,Sheet3!$B27,Sheet4!$D$2:$D$8409,Sheet3!V$3,Sheet4!$E$2:$E$8409,Sheet3!V$4,Sheet4!$A$2:$A$8409,Sheet3!$B$1,Sheet4!$B$2:$B$8409,Sheet3!$A$3)","v":3116.05},{"$f":"+SUMIFS(Sheet4!$DM$2:$DM$8409,Sheet4!$C$2:$C$8409,Sheet3!$B27,Sheet4!$D$2:$D$8409,Sheet3!W$3,Sheet4!$E$2:$E$8409,Sheet3!W$4,Sheet4!$A$2:$A$8409,Sheet3!$B$1,Sheet4!$B$2:$B$8409,Sheet3!$A$3)","v":0},{"$f":"+SUMIFS(Sheet4!$DM$2:$DM$8409,Sheet4!$C$2:$C$8409,Sheet3!$B27,Sheet4!$D$2:$D$8409,Sheet3!X$3,Sheet4!$E$2:$E$8409,Sheet3!X$4,Sheet4!$A$2:$A$8409,Sheet3!$B$1,Sheet4!$B$2:$B$8409,Sheet3!$A$3)","v":0},{"$f":"+SUMIFS(Sheet4!$DM$2:$DM$8409,Sheet4!$C$2:$C$8409,Sheet3!$B27,Sheet4!$D$2:$D$8409,Sheet3!Y$3,Sheet4!$E$2:$E$8409,Sheet3!Y$4,Sheet4!$A$2:$A$8409,Sheet3!$B$1,Sheet4!$B$2:$B$8409,Sheet3!$A$3)","v":0},{"$f":"+SUMIFS(Sheet4!$DM$2:$DM$8409,Sheet4!$C$2:$C$8409,Sheet3!$B27,Sheet4!$D$2:$D$8409,Sheet3!Z$3,Sheet4!$E$2:$E$8409,Sheet3!Z$4,Sheet4!$A$2:$A$8409,Sheet3!$B$1,Sheet4!$B$2:$B$8409,Sheet3!$A$3)","v":0},{"$f":"+SUMIFS(Sheet4!$DM$2:$DM$8409,Sheet4!$C$2:$C$8409,Sheet3!$B27,Sheet4!$D$2:$D$8409,Sheet3!AA$3,Sheet4!$E$2:$E$8409,Sheet3!AA$4,Sheet4!$A$2:$A$8409,Sheet3!$B$1,Sheet4!$B$2:$B$8409,Sheet3!$A$3)","v":0},{"$f":"+SUMIFS(Sheet4!$DM$2:$DM$8409,Sheet4!$C$2:$C$8409,Sheet3!$B27,Sheet4!$D$2:$D$8409,Sheet3!AB$3,Sheet4!$E$2:$E$8409,Sheet3!AB$4,Sheet4!$A$2:$A$8409,Sheet3!$B$1,Sheet4!$B$2:$B$8409,Sheet3!$A$3)","v":0},{"$f":"+SUMIFS(Sheet4!$DM$2:$DM$8409,Sheet4!$C$2:$C$8409,Sheet3!$B27,Sheet4!$D$2:$D$8409,Sheet3!AC$3,Sheet4!$E$2:$E$8409,Sheet3!AC$4,Sheet4!$A$2:$A$8409,Sheet3!$B$1,Sheet4!$B$2:$B$8409,Sheet3!$A$3)","v":0},{"$f":"+SUMIFS(Sheet4!$DM$2:$DM$8409,Sheet4!$C$2:$C$8409,Sheet3!$B27,Sheet4!$D$2:$D$8409,Sheet3!AD$3,Sheet4!$E$2:$E$8409,Sheet3!AD$4,Sheet4!$A$2:$A$8409,Sheet3!$B$1,Sheet4!$B$2:$B$8409,Sheet3!$A$3)","v":0},{"$f":"+SUMIFS(Sheet4!$DM$2:$DM$8409,Sheet4!$C$2:$C$8409,Sheet3!$B27,Sheet4!$D$2:$D$8409,Sheet3!AE$3,Sheet4!$E$2:$E$8409,Sheet3!AE$4,Sheet4!$A$2:$A$8409,Sheet3!$B$1,Sheet4!$B$2:$B$8409,Sheet3!$A$3)","v":0},{"$f":"+SUMIFS(Sheet4!$DM$2:$DM$8409,Sheet4!$C$2:$C$8409,Sheet3!$B27,Sheet4!$D$2:$D$8409,Sheet3!AF$3,Sheet4!$E$2:$E$8409,Sheet3!AF$4,Sheet4!$A$2:$A$8409,Sheet3!$B$1,Sheet4!$B$2:$B$8409,Sheet3!$A$3)","v":0},{"$f":"+SUMIFS(Sheet4!$DM$2:$DM$8409,Sheet4!$C$2:$C$8409,Sheet3!$B27,Sheet4!$D$2:$D$8409,Sheet3!AG$3,Sheet4!$E$2:$E$8409,Sheet3!AG$4,Sheet4!$A$2:$A$8409,Sheet3!$B$1,Sheet4!$B$2:$B$8409,Sheet3!$A$3)","v":0},{"$f":"+SUMIFS(Sheet4!$DM$2:$DM$8409,Sheet4!$C$2:$C$8409,Sheet3!$B27,Sheet4!$D$2:$D$8409,Sheet3!AH$3,Sheet4!$E$2:$E$8409,Sheet3!AH$4,Sheet4!$A$2:$A$8409,Sheet3!$B$1,Sheet4!$B$2:$B$8409,Sheet3!$A$3)","v":0},{"$f":"+SUMIFS(Sheet4!$DM$2:$DM$8409,Sheet4!$C$2:$C$8409,Sheet3!$B27,Sheet4!$D$2:$D$8409,Sheet3!AI$3,Sheet4!$E$2:$E$8409,Sheet3!AI$4,Sheet4!$A$2:$A$8409,Sheet3!$B$1,Sheet4!$B$2:$B$8409,Sheet3!$A$3)","v":0},{"$f":"+SUMIFS(Sheet4!$DM$2:$DM$8409,Sheet4!$C$2:$C$8409,Sheet3!$B27,Sheet4!$D$2:$D$8409,Sheet3!AJ$3,Sheet4!$E$2:$E$8409,Sheet3!AJ$4,Sheet4!$A$2:$A$8409,Sheet3!$B$1,Sheet4!$B$2:$B$8409,Sheet3!$A$3)","v":0},{"$f":"+SUMIFS(Sheet4!$DM$2:$DM$8409,Sheet4!$C$2:$C$8409,Sheet3!$B27,Sheet4!$D$2:$D$8409,Sheet3!AK$3,Sheet4!$E$2:$E$8409,Sheet3!AK$4,Sheet4!$A$2:$A$8409,Sheet3!$B$1,Sheet4!$B$2:$B$8409,Sheet3!$A$3)","v":0},{"$f":"+SUMIFS(Sheet4!$DM$2:$DM$8409,Sheet4!$C$2:$C$8409,Sheet3!$B27,Sheet4!$D$2:$D$8409,Sheet3!AL$3,Sheet4!$E$2:$E$8409,Sheet3!AL$4,Sheet4!$A$2:$A$8409,Sheet3!$B$1,Sheet4!$B$2:$B$8409,Sheet3!$A$3)","v":0},{"$f":"+SUMIFS(Sheet4!$DM$2:$DM$8409,Sheet4!$C$2:$C$8409,Sheet3!$B27,Sheet4!$D$2:$D$8409,Sheet3!AM$3,Sheet4!$E$2:$E$8409,Sheet3!AM$4,Sheet4!$A$2:$A$8409,Sheet3!$B$1,Sheet4!$B$2:$B$8409,Sheet3!$A$3)","v":0},{"$f":"+SUMIFS(Sheet4!$DM$2:$DM$8409,Sheet4!$C$2:$C$8409,Sheet3!$B27,Sheet4!$D$2:$D$8409,Sheet3!AN$3,Sheet4!$E$2:$E$8409,Sheet3!AN$4,Sheet4!$A$2:$A$8409,Sheet3!$B$1,Sheet4!$B$2:$B$8409,Sheet3!$A$3)","v":0},{"$f":"+SUMIFS(Sheet4!$DM$2:$DM$8409,Sheet4!$C$2:$C$8409,Sheet3!$B27,Sheet4!$D$2:$D$8409,Sheet3!AO$3,Sheet4!$E$2:$E$8409,Sheet3!AO$4,Sheet4!$A$2:$A$8409,Sheet3!$B$1,Sheet4!$B$2:$B$8409,Sheet3!$A$3)","v":0},{"$f":"+SUMIFS(Sheet4!$DM$2:$DM$8409,Sheet4!$C$2:$C$8409,Sheet3!$B27,Sheet4!$D$2:$D$8409,Sheet3!AP$3,Sheet4!$E$2:$E$8409,Sheet3!AP$4,Sheet4!$A$2:$A$8409,Sheet3!$B$1,Sheet4!$B$2:$B$8409,Sheet3!$A$3)","v":5885.11},{"$f":"+SUMIFS(Sheet4!$DM$2:$DM$8409,Sheet4!$C$2:$C$8409,Sheet3!$B27,Sheet4!$D$2:$D$8409,Sheet3!AQ$3,Sheet4!$E$2:$E$8409,Sheet3!AQ$4,Sheet4!$A$2:$A$8409,Sheet3!$B$1,Sheet4!$B$2:$B$8409,Sheet3!$A$3)","v":9623.0400000000009},{"$f":"+SUMIFS(Sheet4!$DM$2:$DM$8409,Sheet4!$C$2:$C$8409,Sheet3!$B27,Sheet4!$D$2:$D$8409,Sheet3!AR$3,Sheet4!$E$2:$E$8409,Sheet3!AR$4,Sheet4!$A$2:$A$8409,Sheet3!$B$1,Sheet4!$B$2:$B$8409,Sheet3!$A$3)","v":0},{"$f":"+SUMIFS(Sheet4!$DM$2:$DM$8409,Sheet4!$C$2:$C$8409,Sheet3!$B27,Sheet4!$D$2:$D$8409,Sheet3!AS$3,Sheet4!$E$2:$E$8409,Sheet3!AS$4,Sheet4!$A$2:$A$8409,Sheet3!$B$1,Sheet4!$B$2:$B$8409,Sheet3!$A$3)","v":0},{"$f":"+SUMIFS(Sheet4!$DM$2:$DM$8409,Sheet4!$C$2:$C$8409,Sheet3!$B27,Sheet4!$D$2:$D$8409,Sheet3!AT$3,Sheet4!$E$2:$E$8409,Sheet3!AT$4,Sheet4!$A$2:$A$8409,Sheet3!$B$1,Sheet4!$B$2:$B$8409,Sheet3!$A$3)","v":0},{"$f":"+SUMIFS(Sheet4!$DM$2:$DM$8409,Sheet4!$C$2:$C$8409,Sheet3!$B27,Sheet4!$D$2:$D$8409,Sheet3!AU$3,Sheet4!$E$2:$E$8409,Sheet3!AU$4,Sheet4!$A$2:$A$8409,Sheet3!$B$1,Sheet4!$B$2:$B$8409,Sheet3!$A$3)","v":0},{"$f":"+SUMIFS(Sheet4!$DM$2:$DM$8409,Sheet4!$C$2:$C$8409,Sheet3!$B27,Sheet4!$D$2:$D$8409,Sheet3!AV$3,Sheet4!$E$2:$E$8409,Sheet3!AV$4,Sheet4!$A$2:$A$8409,Sheet3!$B$1,Sheet4!$B$2:$B$8409,Sheet3!$A$3)","v":0},{"$f":"+SUMIFS(Sheet4!$DM$2:$DM$8409,Sheet4!$C$2:$C$8409,Sheet3!$B27,Sheet4!$D$2:$D$8409,Sheet3!AW$3,Sheet4!$E$2:$E$8409,Sheet3!AW$4,Sheet4!$A$2:$A$8409,Sheet3!$B$1,Sheet4!$B$2:$B$8409,Sheet3!$A$3)","v":0},{"$f":"+SUMIFS(Sheet4!$DM$2:$DM$8409,Sheet4!$C$2:$C$8409,Sheet3!$B27,Sheet4!$D$2:$D$8409,Sheet3!AX$3,Sheet4!$E$2:$E$8409,Sheet3!AX$4,Sheet4!$A$2:$A$8409,Sheet3!$B$1,Sheet4!$B$2:$B$8409,Sheet3!$A$3)","v":0},{"$f":"+SUMIFS(Sheet4!$DM$2:$DM$8409,Sheet4!$C$2:$C$8409,Sheet3!$B27,Sheet4!$D$2:$D$8409,Sheet3!AY$3,Sheet4!$E$2:$E$8409,Sheet3!AY$4,Sheet4!$A$2:$A$8409,Sheet3!$B$1,Sheet4!$B$2:$B$8409,Sheet3!$A$3)","v":0},{"$f":"+SUMIFS(Sheet4!$DM$2:$DM$8409,Sheet4!$C$2:$C$8409,Sheet3!$B27,Sheet4!$D$2:$D$8409,Sheet3!AZ$3,Sheet4!$E$2:$E$8409,Sheet3!AZ$4,Sheet4!$A$2:$A$8409,Sheet3!$B$1,Sheet4!$B$2:$B$8409,Sheet3!$A$3)","v":2060.5},{"$f":"+SUMIFS(Sheet4!$DM$2:$DM$8409,Sheet4!$C$2:$C$8409,Sheet3!$B27,Sheet4!$D$2:$D$8409,Sheet3!BA$3,Sheet4!$E$2:$E$8409,Sheet3!BA$4,Sheet4!$A$2:$A$8409,Sheet3!$B$1,Sheet4!$B$2:$B$8409,Sheet3!$A$3)","v":23349.43},{"$f":"+SUMIFS(Sheet4!$DM$2:$DM$8409,Sheet4!$C$2:$C$8409,Sheet3!$B27,Sheet4!$D$2:$D$8409,Sheet3!BB$3,Sheet4!$E$2:$E$8409,Sheet3!BB$4,Sheet4!$A$2:$A$8409,Sheet3!$B$1,Sheet4!$B$2:$B$8409,Sheet3!$A$3)","v":0},{"$f":"+SUMIFS(Sheet4!$DM$2:$DM$8409,Sheet4!$C$2:$C$8409,Sheet3!$B27,Sheet4!$D$2:$D$8409,Sheet3!BC$3,Sheet4!$E$2:$E$8409,Sheet3!BC$4,Sheet4!$A$2:$A$8409,Sheet3!$B$1,Sheet4!$B$2:$B$8409,Sheet3!$A$3)","v":0},{"$f":"+SUMIFS(Sheet4!$DM$2:$DM$8409,Sheet4!$C$2:$C$8409,Sheet3!$B27,Sheet4!$D$2:$D$8409,Sheet3!BD$3,Sheet4!$E$2:$E$8409,Sheet3!BD$4,Sheet4!$A$2:$A$8409,Sheet3!$B$1,Sheet4!$B$2:$B$8409,Sheet3!$A$3)","v":0},{"$f":"+SUMIFS(Sheet4!$DM$2:$DM$8409,Sheet4!$C$2:$C$8409,Sheet3!$B27,Sheet4!$D$2:$D$8409,Sheet3!BE$3,Sheet4!$E$2:$E$8409,Sheet3!BE$4,Sheet4!$A$2:$A$8409,Sheet3!$B$1,Sheet4!$B$2:$B$8409,Sheet3!$A$3)","v":0},{"$f":"+SUMIFS(Sheet4!$DM$2:$DM$8409,Sheet4!$C$2:$C$8409,Sheet3!$B27,Sheet4!$D$2:$D$8409,Sheet3!BF$3,Sheet4!$E$2:$E$8409,Sheet3!BF$4,Sheet4!$A$2:$A$8409,Sheet3!$B$1,Sheet4!$B$2:$B$8409,Sheet3!$A$3)","v":0},{"$f":"+SUMIFS(Sheet4!$DM$2:$DM$8409,Sheet4!$C$2:$C$8409,Sheet3!$B27,Sheet4!$D$2:$D$8409,Sheet3!BG$3,Sheet4!$E$2:$E$8409,Sheet3!BG$4,Sheet4!$A$2:$A$8409,Sheet3!$B$1,Sheet4!$B$2:$B$8409,Sheet3!$A$3)","v":0},{"$f":"+SUMIFS(Sheet4!$DM$2:$DM$8409,Sheet4!$C$2:$C$8409,Sheet3!$B27,Sheet4!$D$2:$D$8409,Sheet3!BH$3,Sheet4!$E$2:$E$8409,Sheet3!BH$4,Sheet4!$A$2:$A$8409,Sheet3!$B$1,Sheet4!$B$2:$B$8409,Sheet3!$A$3)","v":0},{"$f":"+SUMIFS(Sheet4!$DM$2:$DM$8409,Sheet4!$C$2:$C$8409,Sheet3!$B27,Sheet4!$D$2:$D$8409,Sheet3!BI$3,Sheet4!$E$2:$E$8409,Sheet3!BI$4,Sheet4!$A$2:$A$8409,Sheet3!$B$1,Sheet4!$B$2:$B$8409,Sheet3!$A$3)","v":823.28},{"$f":"+SUMIFS(Sheet4!$DM$2:$DM$8409,Sheet4!$C$2:$C$8409,Sheet3!$B27,Sheet4!$D$2:$D$8409,Sheet3!BJ$3,Sheet4!$E$2:$E$8409,Sheet3!BJ$4,Sheet4!$A$2:$A$8409,Sheet3!$B$1,Sheet4!$B$2:$B$8409,Sheet3!$A$3)","v":0},{"$f":"+SUMIFS(Sheet4!$DM$2:$DM$8409,Sheet4!$C$2:$C$8409,Sheet3!$B27,Sheet4!$D$2:$D$8409,Sheet3!BK$3,Sheet4!$E$2:$E$8409,Sheet3!BK$4,Sheet4!$A$2:$A$8409,Sheet3!$B$1,Sheet4!$B$2:$B$8409,Sheet3!$A$3)","v":0},{"$f":"+SUMIFS(Sheet4!$DM$2:$DM$8409,Sheet4!$C$2:$C$8409,Sheet3!$B27,Sheet4!$D$2:$D$8409,Sheet3!BL$3,Sheet4!$E$2:$E$8409,Sheet3!BL$4,Sheet4!$A$2:$A$8409,Sheet3!$B$1,Sheet4!$B$2:$B$8409,Sheet3!$A$3)","v":0},{"$f":"+SUMIFS(Sheet4!$DM$2:$DM$8409,Sheet4!$C$2:$C$8409,Sheet3!$B27,Sheet4!$D$2:$D$8409,Sheet3!BM$3,Sheet4!$E$2:$E$8409,Sheet3!BM$4,Sheet4!$A$2:$A$8409,Sheet3!$B$1,Sheet4!$B$2:$B$8409,Sheet3!$A$3)","v":0},{"$f":"+SUMIFS(Sheet4!$DM$2:$DM$8409,Sheet4!$C$2:$C$8409,Sheet3!$B27,Sheet4!$D$2:$D$8409,Sheet3!BN$3,Sheet4!$E$2:$E$8409,Sheet3!BN$4,Sheet4!$A$2:$A$8409,Sheet3!$B$1,Sheet4!$B$2:$B$8409,Sheet3!$A$3)","v":0},{"$f":"+SUMIFS(Sheet4!$DM$2:$DM$8409,Sheet4!$C$2:$C$8409,Sheet3!$B27,Sheet4!$D$2:$D$8409,Sheet3!BO$3,Sheet4!$E$2:$E$8409,Sheet3!BO$4,Sheet4!$A$2:$A$8409,Sheet3!$B$1,Sheet4!$B$2:$B$8409,Sheet3!$A$3)","v":1722.83},{"$f":"+SUMIFS(Sheet4!$DM$2:$DM$8409,Sheet4!$C$2:$C$8409,Sheet3!$B27,Sheet4!$D$2:$D$8409,Sheet3!BP$3,Sheet4!$E$2:$E$8409,Sheet3!BP$4,Sheet4!$A$2:$A$8409,Sheet3!$B$1,Sheet4!$B$2:$B$8409,Sheet3!$A$3)","v":4199.95},{"$f":"+SUMIFS(Sheet4!$DM$2:$DM$8409,Sheet4!$C$2:$C$8409,Sheet3!$B27,Sheet4!$D$2:$D$8409,Sheet3!BQ$3,Sheet4!$E$2:$E$8409,Sheet3!BQ$4,Sheet4!$A$2:$A$8409,Sheet3!$B$1,Sheet4!$B$2:$B$8409,Sheet3!$A$3)","v":0},{"$f":"+SUMIFS(Sheet4!$DM$2:$DM$8409,Sheet4!$C$2:$C$8409,Sheet3!$B27,Sheet4!$D$2:$D$8409,Sheet3!BR$3,Sheet4!$E$2:$E$8409,Sheet3!BR$4,Sheet4!$A$2:$A$8409,Sheet3!$B$1,Sheet4!$B$2:$B$8409,Sheet3!$A$3)","v":0},{"$f":"+SUMIFS(Sheet4!$DM$2:$DM$8409,Sheet4!$C$2:$C$8409,Sheet3!$B27,Sheet4!$D$2:$D$8409,Sheet3!BS$3,Sheet4!$E$2:$E$8409,Sheet3!BS$4,Sheet4!$A$2:$A$8409,Sheet3!$B$1,Sheet4!$B$2:$B$8409,Sheet3!$A$3)","v":16035.67},{"$f":"+SUMIFS(Sheet4!$DM$2:$DM$8409,Sheet4!$C$2:$C$8409,Sheet3!$B27,Sheet4!$D$2:$D$8409,Sheet3!BT$3,Sheet4!$E$2:$E$8409,Sheet3!BT$4,Sheet4!$A$2:$A$8409,Sheet3!$B$1,Sheet4!$B$2:$B$8409,Sheet3!$A$3)","v":44122.57},{"$f":"+SUMIFS(Sheet4!$DM$2:$DM$8409,Sheet4!$C$2:$C$8409,Sheet3!$B27,Sheet4!$D$2:$D$8409,Sheet3!BU$3,Sheet4!$E$2:$E$8409,Sheet3!BU$4,Sheet4!$A$2:$A$8409,Sheet3!$B$1,Sheet4!$B$2:$B$8409,Sheet3!$A$3)","v":0},{"$f":"+SUMIFS(Sheet4!$DM$2:$DM$8409,Sheet4!$C$2:$C$8409,Sheet3!$B27,Sheet4!$D$2:$D$8409,Sheet3!BV$3,Sheet4!$E$2:$E$8409,Sheet3!BV$4,Sheet4!$A$2:$A$8409,Sheet3!$B$1,Sheet4!$B$2:$B$8409,Sheet3!$A$3)","v":0},{"$f":"+SUMIFS(Sheet4!$DM$2:$DM$8409,Sheet4!$C$2:$C$8409,Sheet3!$B27,Sheet4!$D$2:$D$8409,Sheet3!BW$3,Sheet4!$E$2:$E$8409,Sheet3!BW$4,Sheet4!$A$2:$A$8409,Sheet3!$B$1,Sheet4!$B$2:$B$8409,Sheet3!$A$3)","v":0},{"$f":"+SUMIFS(Sheet4!$DM$2:$DM$8409,Sheet4!$C$2:$C$8409,Sheet3!$B27,Sheet4!$D$2:$D$8409,Sheet3!BX$3,Sheet4!$E$2:$E$8409,Sheet3!BX$4,Sheet4!$A$2:$A$8409,Sheet3!$B$1,Sheet4!$B$2:$B$8409,Sheet3!$A$3)","v":92.51},{"$f":"+SUMIFS(Sheet4!$DM$2:$DM$8409,Sheet4!$C$2:$C$8409,Sheet3!$B27,Sheet4!$D$2:$D$8409,Sheet3!BY$3,Sheet4!$E$2:$E$8409,Sheet3!BY$4,Sheet4!$A$2:$A$8409,Sheet3!$B$1,Sheet4!$B$2:$B$8409,Sheet3!$A$3)","v":3205.75},{"$f":"+SUMIFS(Sheet4!$DM$2:$DM$8409,Sheet4!$C$2:$C$8409,Sheet3!$B27,Sheet4!$D$2:$D$8409,Sheet3!BZ$3,Sheet4!$E$2:$E$8409,Sheet3!BZ$4,Sheet4!$A$2:$A$8409,Sheet3!$B$1,Sheet4!$B$2:$B$8409,Sheet3!$A$3)","v":2953.6},{"$f":"+SUMIFS(Sheet4!$DM$2:$DM$8409,Sheet4!$C$2:$C$8409,Sheet3!$B27,Sheet4!$D$2:$D$8409,Sheet3!CA$3,Sheet4!$E$2:$E$8409,Sheet3!CA$4,Sheet4!$A$2:$A$8409,Sheet3!$B$1,Sheet4!$B$2:$B$8409,Sheet3!$A$3)","v":0},{"$f":"+SUMIFS(Sheet4!$DM$2:$DM$8409,Sheet4!$C$2:$C$8409,Sheet3!$B27,Sheet4!$D$2:$D$8409,Sheet3!CB$3,Sheet4!$E$2:$E$8409,Sheet3!CB$4,Sheet4!$A$2:$A$8409,Sheet3!$B$1,Sheet4!$B$2:$B$8409,Sheet3!$A$3)","v":0},{"$f":"+SUMIFS(Sheet4!$DM$2:$DM$8409,Sheet4!$C$2:$C$8409,Sheet3!$B27,Sheet4!$D$2:$D$8409,Sheet3!CC$3,Sheet4!$E$2:$E$8409,Sheet3!CC$4,Sheet4!$A$2:$A$8409,Sheet3!$B$1,Sheet4!$B$2:$B$8409,Sheet3!$A$3)","v":7525.72},{"$f":"+SUMIFS(Sheet4!$DM$2:$DM$8409,Sheet4!$C$2:$C$8409,Sheet3!$B27,Sheet4!$D$2:$D$8409,Sheet3!CD$3,Sheet4!$E$2:$E$8409,Sheet3!CD$4,Sheet4!$A$2:$A$8409,Sheet3!$B$1,Sheet4!$B$2:$B$8409,Sheet3!$A$3)","v":14611.17},{"$f":"+SUMIFS(Sheet4!$DM$2:$DM$8409,Sheet4!$C$2:$C$8409,Sheet3!$B27,Sheet4!$D$2:$D$8409,Sheet3!CE$3,Sheet4!$E$2:$E$8409,Sheet3!CE$4,Sheet4!$A$2:$A$8409,Sheet3!$B$1,Sheet4!$B$2:$B$8409,Sheet3!$A$3)","v":60203.68},{"$f":"+SUMIFS(Sheet4!$DM$2:$DM$8409,Sheet4!$C$2:$C$8409,Sheet3!$B27,Sheet4!$D$2:$D$8409,Sheet3!CF$3,Sheet4!$E$2:$E$8409,Sheet3!CF$4,Sheet4!$A$2:$A$8409,Sheet3!$B$1,Sheet4!$B$2:$B$8409,Sheet3!$A$3)","v":0},{"$f":"+SUMIFS(Sheet4!$DM$2:$DM$8409,Sheet4!$C$2:$C$8409,Sheet3!$B27,Sheet4!$D$2:$D$8409,Sheet3!CG$3,Sheet4!$E$2:$E$8409,Sheet3!CG$4,Sheet4!$A$2:$A$8409,Sheet3!$B$1,Sheet4!$B$2:$B$8409,Sheet3!$A$3)","v":0},{"$f":"+SUMIFS(Sheet4!$DM$2:$DM$8409,Sheet4!$C$2:$C$8409,Sheet3!$B27,Sheet4!$D$2:$D$8409,Sheet3!CH$3,Sheet4!$E$2:$E$8409,Sheet3!CH$4,Sheet4!$A$2:$A$8409,Sheet3!$B$1,Sheet4!$B$2:$B$8409,Sheet3!$A$3)","v":0},{"$f":"+SUMIFS(Sheet4!$DM$2:$DM$8409,Sheet4!$C$2:$C$8409,Sheet3!$B27,Sheet4!$D$2:$D$8409,Sheet3!CI$3,Sheet4!$E$2:$E$8409,Sheet3!CI$4,Sheet4!$A$2:$A$8409,Sheet3!$B$1,Sheet4!$B$2:$B$8409,Sheet3!$A$3)","v":0},{"$f":"+SUMIFS(Sheet4!$DM$2:$DM$8409,Sheet4!$C$2:$C$8409,Sheet3!$B27,Sheet4!$D$2:$D$8409,Sheet3!CJ$3,Sheet4!$E$2:$E$8409,Sheet3!CJ$4,Sheet4!$A$2:$A$8409,Sheet3!$B$1,Sheet4!$B$2:$B$8409,Sheet3!$A$3)","v":0},{"$f":"+SUMIFS(Sheet4!$DM$2:$DM$8409,Sheet4!$C$2:$C$8409,Sheet3!$B27,Sheet4!$D$2:$D$8409,Sheet3!CK$3,Sheet4!$E$2:$E$8409,Sheet3!CK$4,Sheet4!$A$2:$A$8409,Sheet3!$B$1,Sheet4!$B$2:$B$8409,Sheet3!$A$3)","v":0},{"$f":"+SUMIFS(Sheet4!$DM$2:$DM$8409,Sheet4!$C$2:$C$8409,Sheet3!$B27,Sheet4!$D$2:$D$8409,Sheet3!CL$3,Sheet4!$E$2:$E$8409,Sheet3!CL$4,Sheet4!$A$2:$A$8409,Sheet3!$B$1,Sheet4!$B$2:$B$8409,Sheet3!$A$3)","v":0},{"$f":"+SUMIFS(Sheet4!$DM$2:$DM$8409,Sheet4!$C$2:$C$8409,Sheet3!$B27,Sheet4!$D$2:$D$8409,Sheet3!CM$3,Sheet4!$E$2:$E$8409,Sheet3!CM$4,Sheet4!$A$2:$A$8409,Sheet3!$B$1,Sheet4!$B$2:$B$8409,Sheet3!$A$3)","v":0},{"$f":"+SUMIFS(Sheet4!$DM$2:$DM$8409,Sheet4!$C$2:$C$8409,Sheet3!$B27,Sheet4!$D$2:$D$8409,Sheet3!CN$3,Sheet4!$E$2:$E$8409,Sheet3!CN$4,Sheet4!$A$2:$A$8409,Sheet3!$B$1,Sheet4!$B$2:$B$8409,Sheet3!$A$3)","v":0},{"$f":"+SUMIFS(Sheet4!$DM$2:$DM$8409,Sheet4!$C$2:$C$8409,Sheet3!$B27,Sheet4!$D$2:$D$8409,Sheet3!CO$3,Sheet4!$E$2:$E$8409,Sheet3!CO$4,Sheet4!$A$2:$A$8409,Sheet3!$B$1,Sheet4!$B$2:$B$8409,Sheet3!$A$3)","v":0},{"$f":"+SUMIFS(Sheet4!$DM$2:$DM$8409,Sheet4!$C$2:$C$8409,Sheet3!$B27,Sheet4!$D$2:$D$8409,Sheet3!CP$3,Sheet4!$E$2:$E$8409,Sheet3!CP$4,Sheet4!$A$2:$A$8409,Sheet3!$B$1,Sheet4!$B$2:$B$8409,Sheet3!$A$3)","v":0},{"$f":"+SUMIFS(Sheet4!$DM$2:$DM$8409,Sheet4!$C$2:$C$8409,Sheet3!$B27,Sheet4!$D$2:$D$8409,Sheet3!CQ$3,Sheet4!$E$2:$E$8409,Sheet3!CQ$4,Sheet4!$A$2:$A$8409,Sheet3!$B$1,Sheet4!$B$2:$B$8409,Sheet3!$A$3)","v":0},{"$f":"+SUMIFS(Sheet4!$DM$2:$DM$8409,Sheet4!$C$2:$C$8409,Sheet3!$B27,Sheet4!$D$2:$D$8409,Sheet3!CR$3,Sheet4!$E$2:$E$8409,Sheet3!CR$4,Sheet4!$A$2:$A$8409,Sheet3!$B$1,Sheet4!$B$2:$B$8409,Sheet3!$A$3)","v":0},{"$f":"+SUMIFS(Sheet4!$DM$2:$DM$8409,Sheet4!$C$2:$C$8409,Sheet3!$B27,Sheet4!$D$2:$D$8409,Sheet3!CS$3,Sheet4!$E$2:$E$8409,Sheet3!CS$4,Sheet4!$A$2:$A$8409,Sheet3!$B$1,Sheet4!$B$2:$B$8409,Sheet3!$A$3)","v":0},{"$f":"+SUMIFS(Sheet4!$DM$2:$DM$8409,Sheet4!$C$2:$C$8409,Sheet3!$B27,Sheet4!$D$2:$D$8409,Sheet3!CT$3,Sheet4!$E$2:$E$8409,Sheet3!CT$4,Sheet4!$A$2:$A$8409,Sheet3!$B$1,Sheet4!$B$2:$B$8409,Sheet3!$A$3)","v":0},{"$f":"+IF(SUMIFS(Sheet4!$DN$2:$DN$8409,Sheet4!$C$2:$C$8409,Sheet3!$B27,Sheet4!$D$2:$D$8409,Sheet3!CU$3,Sheet4!$A$2:$A$8409,Sheet3!$B$1,Sheet4!$B$2:$B$8409,Sheet3!$A$3)<3,0,SUMIFS(Sheet4!$DN$2:$DN$8409,Sheet4!$C$2:$C$8409,Sheet3!$B27,Sheet4!$D$2:$D$8409,Sheet3!CU$3,Sheet4!$A$2:$A$8409,Sheet3!$B$1,Sheet4!$B$2:$B$8409,Sheet3!$A$3))","v":0},{"$f":"+IF(SUMIFS(Sheet4!$DN$2:$DN$8409,Sheet4!$C$2:$C$8409,Sheet3!$B27,Sheet4!$D$2:$D$8409,Sheet3!CV$3,Sheet4!$A$2:$A$8409,Sheet3!$B$1,Sheet4!$B$2:$B$8409,Sheet3!$A$3)<3,0,SUMIFS(Sheet4!$DN$2:$DN$8409,Sheet4!$C$2:$C$8409,Sheet3!$B27,Sheet4!$D$2:$D$8409,Sheet3!CV$3,Sheet4!$A$2:$A$8409,Sheet3!$B$1,Sheet4!$B$2:$B$8409,Sheet3!$A$3))","v":2528.84},{"$f":"+IF(SUMIFS(Sheet4!$DN$2:$DN$8409,Sheet4!$C$2:$C$8409,Sheet3!$B27,Sheet4!$D$2:$D$8409,Sheet3!CW$3,Sheet4!$A$2:$A$8409,Sheet3!$B$1,Sheet4!$B$2:$B$8409,Sheet3!$A$3)<3,0,SUMIFS(Sheet4!$DN$2:$DN$8409,Sheet4!$C$2:$C$8409,Sheet3!$B27,Sheet4!$D$2:$D$8409,Sheet3!CW$3,Sheet4!$A$2:$A$8409,Sheet3!$B$1,Sheet4!$B$2:$B$8409,Sheet3!$A$3))","v":8481.7199999999993},{"$f":"+IF(SUMIFS(Sheet4!$DN$2:$DN$8409,Sheet4!$C$2:$C$8409,Sheet3!$B27,Sheet4!$D$2:$D$8409,Sheet3!CX$3,Sheet4!$A$2:$A$8409,Sheet3!$B$1,Sheet4!$B$2:$B$8409,Sheet3!$A$3)<3,0,SUMIFS(Sheet4!$DN$2:$DN$8409,Sheet4!$C$2:$C$8409,Sheet3!$B27,Sheet4!$D$2:$D$8409,Sheet3!CX$3,Sheet4!$A$2:$A$8409,Sheet3!$B$1,Sheet4!$B$2:$B$8409,Sheet3!$A$3))","v":4617.7300000000005},{"$f":"+IF(SUMIFS(Sheet4!$DN$2:$DN$8409,Sheet4!$C$2:$C$8409,Sheet3!$B27,Sheet4!$D$2:$D$8409,Sheet3!CY$3,Sheet4!$A$2:$A$8409,Sheet3!$B$1,Sheet4!$B$2:$B$8409,Sheet3!$A$3)<3,0,SUMIFS(Sheet4!$DN$2:$DN$8409,Sheet4!$C$2:$C$8409,Sheet3!$B27,Sheet4!$D$2:$D$8409,Sheet3!CY$3,Sheet4!$A$2:$A$8409,Sheet3!$B$1,Sheet4!$B$2:$B$8409,Sheet3!$A$3))","v":0},{"$f":"+IF(SUMIFS(Sheet4!$DN$2:$DN$8409,Sheet4!$C$2:$C$8409,Sheet3!$B27,Sheet4!$D$2:$D$8409,Sheet3!CZ$3,Sheet4!$A$2:$A$8409,Sheet3!$B$1,Sheet4!$B$2:$B$8409,Sheet3!$A$3)<3,0,SUMIFS(Sheet4!$DN$2:$DN$8409,Sheet4!$C$2:$C$8409,Sheet3!$B27,Sheet4!$D$2:$D$8409,Sheet3!CZ$3,Sheet4!$A$2:$A$8409,Sheet3!$B$1,Sheet4!$B$2:$B$8409,Sheet3!$A$3))","v":0},{"$f":"+IF(SUMIFS(Sheet4!$DN$2:$DN$8409,Sheet4!$C$2:$C$8409,Sheet3!$B27,Sheet4!$D$2:$D$8409,Sheet3!DA$3,Sheet4!$A$2:$A$8409,Sheet3!$B$1,Sheet4!$B$2:$B$8409,Sheet3!$A$3)<3,0,SUMIFS(Sheet4!$DN$2:$DN$8409,Sheet4!$C$2:$C$8409,Sheet3!$B27,Sheet4!$D$2:$D$8409,Sheet3!DA$3,Sheet4!$A$2:$A$8409,Sheet3!$B$1,Sheet4!$B$2:$B$8409,Sheet3!$A$3))","v":0},{"$f":"+IF(SUMIFS(Sheet4!$DN$2:$DN$8409,Sheet4!$C$2:$C$8409,Sheet3!$B27,Sheet4!$D$2:$D$8409,Sheet3!DB$3,Sheet4!$A$2:$A$8409,Sheet3!$B$1,Sheet4!$B$2:$B$8409,Sheet3!$A$3)<3,0,SUMIFS(Sheet4!$DN$2:$DN$8409,Sheet4!$C$2:$C$8409,Sheet3!$B27,Sheet4!$D$2:$D$8409,Sheet3!DB$3,Sheet4!$A$2:$A$8409,Sheet3!$B$1,Sheet4!$B$2:$B$8409,Sheet3!$A$3))","v":15508.150000000001},{"$f":"+IF(SUMIFS(Sheet4!$DN$2:$DN$8409,Sheet4!$C$2:$C$8409,Sheet3!$B27,Sheet4!$D$2:$D$8409,Sheet3!DC$3,Sheet4!$A$2:$A$8409,Sheet3!$B$1,Sheet4!$B$2:$B$8409,Sheet3!$A$3)<3,0,SUMIFS(Sheet4!$DN$2:$DN$8409,Sheet4!$C$2:$C$8409,Sheet3!$B27,Sheet4!$D$2:$D$8409,Sheet3!DC$3,Sheet4!$A$2:$A$8409,Sheet3!$B$1,Sheet4!$B$2:$B$8409,Sheet3!$A$3))","v":0},{"$f":"+IF(SUMIFS(Sheet4!$DN$2:$DN$8409,Sheet4!$C$2:$C$8409,Sheet3!$B27,Sheet4!$D$2:$D$8409,Sheet3!DD$3,Sheet4!$A$2:$A$8409,Sheet3!$B$1,Sheet4!$B$2:$B$8409,Sheet3!$A$3)<3,0,SUMIFS(Sheet4!$DN$2:$DN$8409,Sheet4!$C$2:$C$8409,Sheet3!$B27,Sheet4!$D$2:$D$8409,Sheet3!DD$3,Sheet4!$A$2:$A$8409,Sheet3!$B$1,Sheet4!$B$2:$B$8409,Sheet3!$A$3))","v":25409.93},{"$f":"+IF(SUMIFS(Sheet4!$DN$2:$DN$8409,Sheet4!$C$2:$C$8409,Sheet3!$B27,Sheet4!$D$2:$D$8409,Sheet3!DE$3,Sheet4!$A$2:$A$8409,Sheet3!$B$1,Sheet4!$B$2:$B$8409,Sheet3!$A$3)<3,0,SUMIFS(Sheet4!$DN$2:$DN$8409,Sheet4!$C$2:$C$8409,Sheet3!$B27,Sheet4!$D$2:$D$8409,Sheet3!DE$3,Sheet4!$A$2:$A$8409,Sheet3!$B$1,Sheet4!$B$2:$B$8409,Sheet3!$A$3))","v":0},{"$f":"+IF(SUMIFS(Sheet4!$DN$2:$DN$8409,Sheet4!$C$2:$C$8409,Sheet3!$B27,Sheet4!$D$2:$D$8409,Sheet3!DF$3,Sheet4!$A$2:$A$8409,Sheet3!$B$1,Sheet4!$B$2:$B$8409,Sheet3!$A$3)<3,0,SUMIFS(Sheet4!$DN$2:$DN$8409,Sheet4!$C$2:$C$8409,Sheet3!$B27,Sheet4!$D$2:$D$8409,Sheet3!DF$3,Sheet4!$A$2:$A$8409,Sheet3!$B$1,Sheet4!$B$2:$B$8409,Sheet3!$A$3))","v":823.28},{"$f":"+IF(SUMIFS(Sheet4!$DN$2:$DN$8409,Sheet4!$C$2:$C$8409,Sheet3!$B27,Sheet4!$D$2:$D$8409,Sheet3!DG$3,Sheet4!$A$2:$A$8409,Sheet3!$B$1,Sheet4!$B$2:$B$8409,Sheet3!$A$3)<3,0,SUMIFS(Sheet4!$DN$2:$DN$8409,Sheet4!$C$2:$C$8409,Sheet3!$B27,Sheet4!$D$2:$D$8409,Sheet3!DG$3,Sheet4!$A$2:$A$8409,Sheet3!$B$1,Sheet4!$B$2:$B$8409,Sheet3!$A$3))","v":5922.78},{"$f":"+IF(SUMIFS(Sheet4!$DN$2:$DN$8409,Sheet4!$C$2:$C$8409,Sheet3!$B27,Sheet4!$D$2:$D$8409,Sheet3!DH$3,Sheet4!$A$2:$A$8409,Sheet3!$B$1,Sheet4!$B$2:$B$8409,Sheet3!$A$3)<3,0,SUMIFS(Sheet4!$DN$2:$DN$8409,Sheet4!$C$2:$C$8409,Sheet3!$B27,Sheet4!$D$2:$D$8409,Sheet3!DH$3,Sheet4!$A$2:$A$8409,Sheet3!$B$1,Sheet4!$B$2:$B$8409,Sheet3!$A$3))","v":60158.239999999998},{"$f":"+IF(SUMIFS(Sheet4!$DN$2:$DN$8409,Sheet4!$C$2:$C$8409,Sheet3!$B27,Sheet4!$D$2:$D$8409,Sheet3!DI$3,Sheet4!$A$2:$A$8409,Sheet3!$B$1,Sheet4!$B$2:$B$8409,Sheet3!$A$3)<3,0,SUMIFS(Sheet4!$DN$2:$DN$8409,Sheet4!$C$2:$C$8409,Sheet3!$B27,Sheet4!$D$2:$D$8409,Sheet3!DI$3,Sheet4!$A$2:$A$8409,Sheet3!$B$1,Sheet4!$B$2:$B$8409,Sheet3!$A$3))","v":6251.8600000000006},{"$f":"+IF(SUMIFS(Sheet4!$DN$2:$DN$8409,Sheet4!$C$2:$C$8409,Sheet3!$B27,Sheet4!$D$2:$D$8409,Sheet3!DJ$3,Sheet4!$A$2:$A$8409,Sheet3!$B$1,Sheet4!$B$2:$B$8409,Sheet3!$A$3)<3,0,SUMIFS(Sheet4!$DN$2:$DN$8409,Sheet4!$C$2:$C$8409,Sheet3!$B27,Sheet4!$D$2:$D$8409,Sheet3!DJ$3,Sheet4!$A$2:$A$8409,Sheet3!$B$1,Sheet4!$B$2:$B$8409,Sheet3!$A$3))","v":82340.570000000007},{"$f":"+IF(SUMIFS(Sheet4!$DN$2:$DN$8409,Sheet4!$C$2:$C$8409,Sheet3!$B27,Sheet4!$D$2:$D$8409,Sheet3!DK$3,Sheet4!$A$2:$A$8409,Sheet3!$B$1,Sheet4!$B$2:$B$8409,Sheet3!$A$3)<3,0,SUMIFS(Sheet4!$DN$2:$DN$8409,Sheet4!$C$2:$C$8409,Sheet3!$B27,Sheet4!$D$2:$D$8409,Sheet3!DK$3,Sheet4!$A$2:$A$8409,Sheet3!$B$1,Sheet4!$B$2:$B$8409,Sheet3!$A$3))","v":0},{"$f":"+IF(SUMIFS(Sheet4!$DN$2:$DN$8409,Sheet4!$C$2:$C$8409,Sheet3!$B27,Sheet4!$D$2:$D$8409,Sheet3!DL$3,Sheet4!$A$2:$A$8409,Sheet3!$B$1,Sheet4!$B$2:$B$8409,Sheet3!$A$3)<3,0,SUMIFS(Sheet4!$DN$2:$DN$8409,Sheet4!$C$2:$C$8409,Sheet3!$B27,Sheet4!$D$2:$D$8409,Sheet3!DL$3,Sheet4!$A$2:$A$8409,Sheet3!$B$1,Sheet4!$B$2:$B$8409,Sheet3!$A$3))","v":0},{"$f":"+IF(SUMIFS(Sheet4!$DN$2:$DN$8409,Sheet4!$C$2:$C$8409,Sheet3!$B27,Sheet4!$D$2:$D$8409,Sheet3!DM$3,Sheet4!$A$2:$A$8409,Sheet3!$B$1,Sheet4!$B$2:$B$8409,Sheet3!$A$3)<3,0,SUMIFS(Sheet4!$DN$2:$DN$8409,Sheet4!$C$2:$C$8409,Sheet3!$B27,Sheet4!$D$2:$D$8409,Sheet3!DM$3,Sheet4!$A$2:$A$8409,Sheet3!$B$1,Sheet4!$B$2:$B$8409,Sheet3!$A$3))","v":0},{"$f":"+IF(SUMIFS(Sheet4!$DN$2:$DN$8409,Sheet4!$C$2:$C$8409,Sheet3!$B27,Sheet4!$E$2:$E$8409,Sheet3!DN$4,Sheet4!$A$2:$A$8409,Sheet3!$B$1,Sheet4!$B$2:$B$8409,Sheet3!$A$3)<3,0,SUMIFS(Sheet4!$DN$2:$DN$8409,Sheet4!$C$2:$C$8409,Sheet3!$B27,Sheet4!$E$2:$E$8409,Sheet3!DN$4,Sheet4!$A$2:$A$8409,Sheet3!$B$1,Sheet4!$B$2:$B$8409,Sheet3!$A$3))","v":0},{"$f":"+IF(SUMIFS(Sheet4!$DN$2:$DN$8409,Sheet4!$C$2:$C$8409,Sheet3!$B27,Sheet4!$E$2:$E$8409,Sheet3!DO$4,Sheet4!$A$2:$A$8409,Sheet3!$B$1,Sheet4!$B$2:$B$8409,Sheet3!$A$3)<3,0,SUMIFS(Sheet4!$DN$2:$DN$8409,Sheet4!$C$2:$C$8409,Sheet3!$B27,Sheet4!$E$2:$E$8409,Sheet3!DO$4,Sheet4!$A$2:$A$8409,Sheet3!$B$1,Sheet4!$B$2:$B$8409,Sheet3!$A$3))","v":0},{"$f":"+IF(SUMIFS(Sheet4!$DN$2:$DN$8409,Sheet4!$C$2:$C$8409,Sheet3!$B27,Sheet4!$E$2:$E$8409,Sheet3!DP$4,Sheet4!$A$2:$A$8409,Sheet3!$B$1,Sheet4!$B$2:$B$8409,Sheet3!$A$3)<3,0,SUMIFS(Sheet4!$DN$2:$DN$8409,Sheet4!$C$2:$C$8409,Sheet3!$B27,Sheet4!$E$2:$E$8409,Sheet3!DP$4,Sheet4!$A$2:$A$8409,Sheet3!$B$1,Sheet4!$B$2:$B$8409,Sheet3!$A$3))","v":25978.86},{"$f":"+IF(SUMIFS(Sheet4!$DN$2:$DN$8409,Sheet4!$C$2:$C$8409,Sheet3!$B27,Sheet4!$E$2:$E$8409,Sheet3!DQ$4,Sheet4!$A$2:$A$8409,Sheet3!$B$1,Sheet4!$B$2:$B$8409,Sheet3!$A$3)<3,0,SUMIFS(Sheet4!$DN$2:$DN$8409,Sheet4!$C$2:$C$8409,Sheet3!$B27,Sheet4!$E$2:$E$8409,Sheet3!DQ$4,Sheet4!$A$2:$A$8409,Sheet3!$B$1,Sheet4!$B$2:$B$8409,Sheet3!$A$3))","v":77252.820000000007},{"$f":"+IF(SUMIFS(Sheet4!$DN$2:$DN$8409,Sheet4!$C$2:$C$8409,Sheet3!$B27,Sheet4!$E$2:$E$8409,Sheet3!DR$4,Sheet4!$A$2:$A$8409,Sheet3!$B$1,Sheet4!$B$2:$B$8409,Sheet3!$A$3)<3,0,SUMIFS(Sheet4!$DN$2:$DN$8409,Sheet4!$C$2:$C$8409,Sheet3!$B27,Sheet4!$E$2:$E$8409,Sheet3!DR$4,Sheet4!$A$2:$A$8409,Sheet3!$B$1,Sheet4!$B$2:$B$8409,Sheet3!$A$3))","v":108811.42}]
[5,"186","Alto Alentejo",{"$f":"+SUMIFS(Sheet4!$DM$2:$DM$8409,Sheet4!$C$2:$C$8409,Sheet3!$B28,Sheet4!$D$2:$D$8409,Sheet3!D$3,Sheet4!$E$2:$E$8409,Sheet3!D$4,Sheet4!$A$2:$A$8409,Sheet3!$B$1,Sheet4!$B$2:$B$8409,Sheet3!$A$3)","v":0},{"$f":"+SUMIFS(Sheet4!$DM$2:$DM$8409,Sheet4!$C$2:$C$8409,Sheet3!$B28,Sheet4!$D$2:$D$8409,Sheet3!E$3,Sheet4!$E$2:$E$8409,Sheet3!E$4,Sheet4!$A$2:$A$8409,Sheet3!$B$1,Sheet4!$B$2:$B$8409,Sheet3!$A$3)","v":0},{"$f":"+SUMIFS(Sheet4!$DM$2:$DM$8409,Sheet4!$C$2:$C$8409,Sheet3!$B28,Sheet4!$D$2:$D$8409,Sheet3!F$3,Sheet4!$E$2:$E$8409,Sheet3!F$4,Sheet4!$A$2:$A$8409,Sheet3!$B$1,Sheet4!$B$2:$B$8409,Sheet3!$A$3)","v":0},{"$f":"+SUMIFS(Sheet4!$DM$2:$DM$8409,Sheet4!$C$2:$C$8409,Sheet3!$B28,Sheet4!$D$2:$D$8409,Sheet3!G$3,Sheet4!$E$2:$E$8409,Sheet3!G$4,Sheet4!$A$2:$A$8409,Sheet3!$B$1,Sheet4!$B$2:$B$8409,Sheet3!$A$3)","v":0},{"$f":"+SUMIFS(Sheet4!$DM$2:$DM$8409,Sheet4!$C$2:$C$8409,Sheet3!$B28,Sheet4!$D$2:$D$8409,Sheet3!H$3,Sheet4!$E$2:$E$8409,Sheet3!H$4,Sheet4!$A$2:$A$8409,Sheet3!$B$1,Sheet4!$B$2:$B$8409,Sheet3!$A$3)","v":0},{"$f":"+SUMIFS(Sheet4!$DM$2:$DM$8409,Sheet4!$C$2:$C$8409,Sheet3!$B28,Sheet4!$D$2:$D$8409,Sheet3!I$3,Sheet4!$E$2:$E$8409,Sheet3!I$4,Sheet4!$A$2:$A$8409,Sheet3!$B$1,Sheet4!$B$2:$B$8409,Sheet3!$A$3)","v":0},{"$f":"+SUMIFS(Sheet4!$DM$2:$DM$8409,Sheet4!$C$2:$C$8409,Sheet3!$B28,Sheet4!$D$2:$D$8409,Sheet3!J$3,Sheet4!$E$2:$E$8409,Sheet3!J$4,Sheet4!$A$2:$A$8409,Sheet3!$B$1,Sheet4!$B$2:$B$8409,Sheet3!$A$3)","v":131.66999999999999},{"$f":"+SUMIFS(Sheet4!$DM$2:$DM$8409,Sheet4!$C$2:$C$8409,Sheet3!$B28,Sheet4!$D$2:$D$8409,Sheet3!K$3,Sheet4!$E$2:$E$8409,Sheet3!K$4,Sheet4!$A$2:$A$8409,Sheet3!$B$1,Sheet4!$B$2:$B$8409,Sheet3!$A$3)","v":0},{"$f":"+SUMIFS(Sheet4!$DM$2:$DM$8409,Sheet4!$C$2:$C$8409,Sheet3!$B28,Sheet4!$D$2:$D$8409,Sheet3!L$3,Sheet4!$E$2:$E$8409,Sheet3!L$4,Sheet4!$A$2:$A$8409,Sheet3!$B$1,Sheet4!$B$2:$B$8409,Sheet3!$A$3)","v":0},{"$f":"+SUMIFS(Sheet4!$DM$2:$DM$8409,Sheet4!$C$2:$C$8409,Sheet3!$B28,Sheet4!$D$2:$D$8409,Sheet3!M$3,Sheet4!$E$2:$E$8409,Sheet3!M$4,Sheet4!$A$2:$A$8409,Sheet3!$B$1,Sheet4!$B$2:$B$8409,Sheet3!$A$3)","v":0},{"$f":"+SUMIFS(Sheet4!$DM$2:$DM$8409,Sheet4!$C$2:$C$8409,Sheet3!$B28,Sheet4!$D$2:$D$8409,Sheet3!N$3,Sheet4!$E$2:$E$8409,Sheet3!N$4,Sheet4!$A$2:$A$8409,Sheet3!$B$1,Sheet4!$B$2:$B$8409,Sheet3!$A$3)","v":0},{"$f":"+SUMIFS(Sheet4!$DM$2:$DM$8409,Sheet4!$C$2:$C$8409,Sheet3!$B28,Sheet4!$D$2:$D$8409,Sheet3!O$3,Sheet4!$E$2:$E$8409,Sheet3!O$4,Sheet4!$A$2:$A$8409,Sheet3!$B$1,Sheet4!$B$2:$B$8409,Sheet3!$A$3)","v":0},{"$f":"+SUMIFS(Sheet4!$DM$2:$DM$8409,Sheet4!$C$2:$C$8409,Sheet3!$B28,Sheet4!$D$2:$D$8409,Sheet3!P$3,Sheet4!$E$2:$E$8409,Sheet3!P$4,Sheet4!$A$2:$A$8409,Sheet3!$B$1,Sheet4!$B$2:$B$8409,Sheet3!$A$3)","v":4935.0200000000004},{"$f":"+SUMIFS(Sheet4!$DM$2:$DM$8409,Sheet4!$C$2:$C$8409,Sheet3!$B28,Sheet4!$D$2:$D$8409,Sheet3!Q$3,Sheet4!$E$2:$E$8409,Sheet3!Q$4,Sheet4!$A$2:$A$8409,Sheet3!$B$1,Sheet4!$B$2:$B$8409,Sheet3!$A$3)","v":4257.33},{"$f":"+SUMIFS(Sheet4!$DM$2:$DM$8409,Sheet4!$C$2:$C$8409,Sheet3!$B28,Sheet4!$D$2:$D$8409,Sheet3!R$3,Sheet4!$E$2:$E$8409,Sheet3!R$4,Sheet4!$A$2:$A$8409,Sheet3!$B$1,Sheet4!$B$2:$B$8409,Sheet3!$A$3)","v":0},{"$f":"+SUMIFS(Sheet4!$DM$2:$DM$8409,Sheet4!$C$2:$C$8409,Sheet3!$B28,Sheet4!$D$2:$D$8409,Sheet3!S$3,Sheet4!$E$2:$E$8409,Sheet3!S$4,Sheet4!$A$2:$A$8409,Sheet3!$B$1,Sheet4!$B$2:$B$8409,Sheet3!$A$3)","v":0},{"$f":"+SUMIFS(Sheet4!$DM$2:$DM$8409,Sheet4!$C$2:$C$8409,Sheet3!$B28,Sheet4!$D$2:$D$8409,Sheet3!T$3,Sheet4!$E$2:$E$8409,Sheet3!T$4,Sheet4!$A$2:$A$8409,Sheet3!$B$1,Sheet4!$B$2:$B$8409,Sheet3!$A$3)","v":0},{"$f":"+SUMIFS(Sheet4!$DM$2:$DM$8409,Sheet4!$C$2:$C$8409,Sheet3!$B28,Sheet4!$D$2:$D$8409,Sheet3!U$3,Sheet4!$E$2:$E$8409,Sheet3!U$4,Sheet4!$A$2:$A$8409,Sheet3!$B$1,Sheet4!$B$2:$B$8409,Sheet3!$A$3)","v":0},{"$f":"+SUMIFS(Sheet4!$DM$2:$DM$8409,Sheet4!$C$2:$C$8409,Sheet3!$B28,Sheet4!$D$2:$D$8409,Sheet3!V$3,Sheet4!$E$2:$E$8409,Sheet3!V$4,Sheet4!$A$2:$A$8409,Sheet3!$B$1,Sheet4!$B$2:$B$8409,Sheet3!$A$3)","v":0},{"$f":"+SUMIFS(Sheet4!$DM$2:$DM$8409,Sheet4!$C$2:$C$8409,Sheet3!$B28,Sheet4!$D$2:$D$8409,Sheet3!W$3,Sheet4!$E$2:$E$8409,Sheet3!W$4,Sheet4!$A$2:$A$8409,Sheet3!$B$1,Sheet4!$B$2:$B$8409,Sheet3!$A$3)","v":0},{"$f":"+SUMIFS(Sheet4!$DM$2:$DM$8409,Sheet4!$C$2:$C$8409,Sheet3!$B28,Sheet4!$D$2:$D$8409,Sheet3!X$3,Sheet4!$E$2:$E$8409,Sheet3!X$4,Sheet4!$A$2:$A$8409,Sheet3!$B$1,Sheet4!$B$2:$B$8409,Sheet3!$A$3)","v":0},{"$f":"+SUMIFS(Sheet4!$DM$2:$DM$8409,Sheet4!$C$2:$C$8409,Sheet3!$B28,Sheet4!$D$2:$D$8409,Sheet3!Y$3,Sheet4!$E$2:$E$8409,Sheet3!Y$4,Sheet4!$A$2:$A$8409,Sheet3!$B$1,Sheet4!$B$2:$B$8409,Sheet3!$A$3)","v":0},{"$f":"+SUMIFS(Sheet4!$DM$2:$DM$8409,Sheet4!$C$2:$C$8409,Sheet3!$B28,Sheet4!$D$2:$D$8409,Sheet3!Z$3,Sheet4!$E$2:$E$8409,Sheet3!Z$4,Sheet4!$A$2:$A$8409,Sheet3!$B$1,Sheet4!$B$2:$B$8409,Sheet3!$A$3)","v":0},{"$f":"+SUMIFS(Sheet4!$DM$2:$DM$8409,Sheet4!$C$2:$C$8409,Sheet3!$B28,Sheet4!$D$2:$D$8409,Sheet3!AA$3,Sheet4!$E$2:$E$8409,Sheet3!AA$4,Sheet4!$A$2:$A$8409,Sheet3!$B$1,Sheet4!$B$2:$B$8409,Sheet3!$A$3)","v":7189.83},{"$f":"+SUMIFS(Sheet4!$DM$2:$DM$8409,Sheet4!$C$2:$C$8409,Sheet3!$B28,Sheet4!$D$2:$D$8409,Sheet3!AB$3,Sheet4!$E$2:$E$8409,Sheet3!AB$4,Sheet4!$A$2:$A$8409,Sheet3!$B$1,Sheet4!$B$2:$B$8409,Sheet3!$A$3)","v":0},{"$f":"+SUMIFS(Sheet4!$DM$2:$DM$8409,Sheet4!$C$2:$C$8409,Sheet3!$B28,Sheet4!$D$2:$D$8409,Sheet3!AC$3,Sheet4!$E$2:$E$8409,Sheet3!AC$4,Sheet4!$A$2:$A$8409,Sheet3!$B$1,Sheet4!$B$2:$B$8409,Sheet3!$A$3)","v":0},{"$f":"+SUMIFS(Sheet4!$DM$2:$DM$8409,Sheet4!$C$2:$C$8409,Sheet3!$B28,Sheet4!$D$2:$D$8409,Sheet3!AD$3,Sheet4!$E$2:$E$8409,Sheet3!AD$4,Sheet4!$A$2:$A$8409,Sheet3!$B$1,Sheet4!$B$2:$B$8409,Sheet3!$A$3)","v":0},{"$f":"+SUMIFS(Sheet4!$DM$2:$DM$8409,Sheet4!$C$2:$C$8409,Sheet3!$B28,Sheet4!$D$2:$D$8409,Sheet3!AE$3,Sheet4!$E$2:$E$8409,Sheet3!AE$4,Sheet4!$A$2:$A$8409,Sheet3!$B$1,Sheet4!$B$2:$B$8409,Sheet3!$A$3)","v":15557.47},{"$f":"+SUMIFS(Sheet4!$DM$2:$DM$8409,Sheet4!$C$2:$C$8409,Sheet3!$B28,Sheet4!$D$2:$D$8409,Sheet3!AF$3,Sheet4!$E$2:$E$8409,Sheet3!AF$4,Sheet4!$A$2:$A$8409,Sheet3!$B$1,Sheet4!$B$2:$B$8409,Sheet3!$A$3)","v":41344.43},{"$f":"+SUMIFS(Sheet4!$DM$2:$DM$8409,Sheet4!$C$2:$C$8409,Sheet3!$B28,Sheet4!$D$2:$D$8409,Sheet3!AG$3,Sheet4!$E$2:$E$8409,Sheet3!AG$4,Sheet4!$A$2:$A$8409,Sheet3!$B$1,Sheet4!$B$2:$B$8409,Sheet3!$A$3)","v":0},{"$f":"+SUMIFS(Sheet4!$DM$2:$DM$8409,Sheet4!$C$2:$C$8409,Sheet3!$B28,Sheet4!$D$2:$D$8409,Sheet3!AH$3,Sheet4!$E$2:$E$8409,Sheet3!AH$4,Sheet4!$A$2:$A$8409,Sheet3!$B$1,Sheet4!$B$2:$B$8409,Sheet3!$A$3)","v":0},{"$f":"+SUMIFS(Sheet4!$DM$2:$DM$8409,Sheet4!$C$2:$C$8409,Sheet3!$B28,Sheet4!$D$2:$D$8409,Sheet3!AI$3,Sheet4!$E$2:$E$8409,Sheet3!AI$4,Sheet4!$A$2:$A$8409,Sheet3!$B$1,Sheet4!$B$2:$B$8409,Sheet3!$A$3)","v":0},{"$f":"+SUMIFS(Sheet4!$DM$2:$DM$8409,Sheet4!$C$2:$C$8409,Sheet3!$B28,Sheet4!$D$2:$D$8409,Sheet3!AJ$3,Sheet4!$E$2:$E$8409,Sheet3!AJ$4,Sheet4!$A$2:$A$8409,Sheet3!$B$1,Sheet4!$B$2:$B$8409,Sheet3!$A$3)","v":1824.68},{"$f":"+SUMIFS(Sheet4!$DM$2:$DM$8409,Sheet4!$C$2:$C$8409,Sheet3!$B28,Sheet4!$D$2:$D$8409,Sheet3!AK$3,Sheet4!$E$2:$E$8409,Sheet3!AK$4,Sheet4!$A$2:$A$8409,Sheet3!$B$1,Sheet4!$B$2:$B$8409,Sheet3!$A$3)","v":0},{"$f":"+SUMIFS(Sheet4!$DM$2:$DM$8409,Sheet4!$C$2:$C$8409,Sheet3!$B28,Sheet4!$D$2:$D$8409,Sheet3!AL$3,Sheet4!$E$2:$E$8409,Sheet3!AL$4,Sheet4!$A$2:$A$8409,Sheet3!$B$1,Sheet4!$B$2:$B$8409,Sheet3!$A$3)","v":0},{"$f":"+SUMIFS(Sheet4!$DM$2:$DM$8409,Sheet4!$C$2:$C$8409,Sheet3!$B28,Sheet4!$D$2:$D$8409,Sheet3!AM$3,Sheet4!$E$2:$E$8409,Sheet3!AM$4,Sheet4!$A$2:$A$8409,Sheet3!$B$1,Sheet4!$B$2:$B$8409,Sheet3!$A$3)","v":0},{"$f":"+SUMIFS(Sheet4!$DM$2:$DM$8409,Sheet4!$C$2:$C$8409,Sheet3!$B28,Sheet4!$D$2:$D$8409,Sheet3!AN$3,Sheet4!$E$2:$E$8409,Sheet3!AN$4,Sheet4!$A$2:$A$8409,Sheet3!$B$1,Sheet4!$B$2:$B$8409,Sheet3!$A$3)","v":0},{"$f":"+SUMIFS(Sheet4!$DM$2:$DM$8409,Sheet4!$C$2:$C$8409,Sheet3!$B28,Sheet4!$D$2:$D$8409,Sheet3!AO$3,Sheet4!$E$2:$E$8409,Sheet3!AO$4,Sheet4!$A$2:$A$8409,Sheet3!$B$1,Sheet4!$B$2:$B$8409,Sheet3!$A$3)","v":6077.15},{"$f":"+SUMIFS(Sheet4!$DM$2:$DM$8409,Sheet4!$C$2:$C$8409,Sheet3!$B28,Sheet4!$D$2:$D$8409,Sheet3!AP$3,Sheet4!$E$2:$E$8409,Sheet3!AP$4,Sheet4!$A$2:$A$8409,Sheet3!$B$1,Sheet4!$B$2:$B$8409,Sheet3!$A$3)","v":0},{"$f":"+SUMIFS(Sheet4!$DM$2:$DM$8409,Sheet4!$C$2:$C$8409,Sheet3!$B28,Sheet4!$D$2:$D$8409,Sheet3!AQ$3,Sheet4!$E$2:$E$8409,Sheet3!AQ$4,Sheet4!$A$2:$A$8409,Sheet3!$B$1,Sheet4!$B$2:$B$8409,Sheet3!$A$3)","v":0},{"$f":"+SUMIFS(Sheet4!$DM$2:$DM$8409,Sheet4!$C$2:$C$8409,Sheet3!$B28,Sheet4!$D$2:$D$8409,Sheet3!AR$3,Sheet4!$E$2:$E$8409,Sheet3!AR$4,Sheet4!$A$2:$A$8409,Sheet3!$B$1,Sheet4!$B$2:$B$8409,Sheet3!$A$3)","v":0},{"$f":"+SUMIFS(Sheet4!$DM$2:$DM$8409,Sheet4!$C$2:$C$8409,Sheet3!$B28,Sheet4!$D$2:$D$8409,Sheet3!AS$3,Sheet4!$E$2:$E$8409,Sheet3!AS$4,Sheet4!$A$2:$A$8409,Sheet3!$B$1,Sheet4!$B$2:$B$8409,Sheet3!$A$3)","v":0},{"$f":"+SUMIFS(Sheet4!$DM$2:$DM$8409,Sheet4!$C$2:$C$8409,Sheet3!$B28,Sheet4!$D$2:$D$8409,Sheet3!AT$3,Sheet4!$E$2:$E$8409,Sheet3!AT$4,Sheet4!$A$2:$A$8409,Sheet3!$B$1,Sheet4!$B$2:$B$8409,Sheet3!$A$3)","v":4025.36},{"$f":"+SUMIFS(Sheet4!$DM$2:$DM$8409,Sheet4!$C$2:$C$8409,Sheet3!$B28,Sheet4!$D$2:$D$8409,Sheet3!AU$3,Sheet4!$E$2:$E$8409,Sheet3!AU$4,Sheet4!$A$2:$A$8409,Sheet3!$B$1,Sheet4!$B$2:$B$8409,Sheet3!$A$3)","v":0},{"$f":"+SUMIFS(Sheet4!$DM$2:$DM$8409,Sheet4!$C$2:$C$8409,Sheet3!$B28,Sheet4!$D$2:$D$8409,Sheet3!AV$3,Sheet4!$E$2:$E$8409,Sheet3!AV$4,Sheet4!$A$2:$A$8409,Sheet3!$B$1,Sheet4!$B$2:$B$8409,Sheet3!$A$3)","v":0},{"$f":"+SUMIFS(Sheet4!$DM$2:$DM$8409,Sheet4!$C$2:$C$8409,Sheet3!$B28,Sheet4!$D$2:$D$8409,Sheet3!AW$3,Sheet4!$E$2:$E$8409,Sheet3!AW$4,Sheet4!$A$2:$A$8409,Sheet3!$B$1,Sheet4!$B$2:$B$8409,Sheet3!$A$3)","v":0},{"$f":"+SUMIFS(Sheet4!$DM$2:$DM$8409,Sheet4!$C$2:$C$8409,Sheet3!$B28,Sheet4!$D$2:$D$8409,Sheet3!AX$3,Sheet4!$E$2:$E$8409,Sheet3!AX$4,Sheet4!$A$2:$A$8409,Sheet3!$B$1,Sheet4!$B$2:$B$8409,Sheet3!$A$3)","v":0},{"$f":"+SUMIFS(Sheet4!$DM$2:$DM$8409,Sheet4!$C$2:$C$8409,Sheet3!$B28,Sheet4!$D$2:$D$8409,Sheet3!AY$3,Sheet4!$E$2:$E$8409,Sheet3!AY$4,Sheet4!$A$2:$A$8409,Sheet3!$B$1,Sheet4!$B$2:$B$8409,Sheet3!$A$3)","v":3112.63},{"$f":"+SUMIFS(Sheet4!$DM$2:$DM$8409,Sheet4!$C$2:$C$8409,Sheet3!$B28,Sheet4!$D$2:$D$8409,Sheet3!AZ$3,Sheet4!$E$2:$E$8409,Sheet3!AZ$4,Sheet4!$A$2:$A$8409,Sheet3!$B$1,Sheet4!$B$2:$B$8409,Sheet3!$A$3)","v":28891.23},{"$f":"+SUMIFS(Sheet4!$DM$2:$DM$8409,Sheet4!$C$2:$C$8409,Sheet3!$B28,Sheet4!$D$2:$D$8409,Sheet3!BA$3,Sheet4!$E$2:$E$8409,Sheet3!BA$4,Sheet4!$A$2:$A$8409,Sheet3!$B$1,Sheet4!$B$2:$B$8409,Sheet3!$A$3)","v":0},{"$f":"+SUMIFS(Sheet4!$DM$2:$DM$8409,Sheet4!$C$2:$C$8409,Sheet3!$B28,Sheet4!$D$2:$D$8409,Sheet3!BB$3,Sheet4!$E$2:$E$8409,Sheet3!BB$4,Sheet4!$A$2:$A$8409,Sheet3!$B$1,Sheet4!$B$2:$B$8409,Sheet3!$A$3)","v":0},{"$f":"+SUMIFS(Sheet4!$DM$2:$DM$8409,Sheet4!$C$2:$C$8409,Sheet3!$B28,Sheet4!$D$2:$D$8409,Sheet3!BC$3,Sheet4!$E$2:$E$8409,Sheet3!BC$4,Sheet4!$A$2:$A$8409,Sheet3!$B$1,Sheet4!$B$2:$B$8409,Sheet3!$A$3)","v":0},{"$f":"+SUMIFS(Sheet4!$DM$2:$DM$8409,Sheet4!$C$2:$C$8409,Sheet3!$B28,Sheet4!$D$2:$D$8409,Sheet3!BD$3,Sheet4!$E$2:$E$8409,Sheet3!BD$4,Sheet4!$A$2:$A$8409,Sheet3!$B$1,Sheet4!$B$2:$B$8409,Sheet3!$A$3)","v":0},{"$f":"+SUMIFS(Sheet4!$DM$2:$DM$8409,Sheet4!$C$2:$C$8409,Sheet3!$B28,Sheet4!$D$2:$D$8409,Sheet3!BE$3,Sheet4!$E$2:$E$8409,Sheet3!BE$4,Sheet4!$A$2:$A$8409,Sheet3!$B$1,Sheet4!$B$2:$B$8409,Sheet3!$A$3)","v":1059.49},{"$f":"+SUMIFS(Sheet4!$DM$2:$DM$8409,Sheet4!$C$2:$C$8409,Sheet3!$B28,Sheet4!$D$2:$D$8409,Sheet3!BF$3,Sheet4!$E$2:$E$8409,Sheet3!BF$4,Sheet4!$A$2:$A$8409,Sheet3!$B$1,Sheet4!$B$2:$B$8409,Sheet3!$A$3)","v":0},{"$f":"+SUMIFS(Sheet4!$DM$2:$DM$8409,Sheet4!$C$2:$C$8409,Sheet3!$B28,Sheet4!$D$2:$D$8409,Sheet3!BG$3,Sheet4!$E$2:$E$8409,Sheet3!BG$4,Sheet4!$A$2:$A$8409,Sheet3!$B$1,Sheet4!$B$2:$B$8409,Sheet3!$A$3)","v":0},{"$f":"+SUMIFS(Sheet4!$DM$2:$DM$8409,Sheet4!$C$2:$C$8409,Sheet3!$B28,Sheet4!$D$2:$D$8409,Sheet3!BH$3,Sheet4!$E$2:$E$8409,Sheet3!BH$4,Sheet4!$A$2:$A$8409,Sheet3!$B$1,Sheet4!$B$2:$B$8409,Sheet3!$A$3)","v":378.85},{"$f":"+SUMIFS(Sheet4!$DM$2:$DM$8409,Sheet4!$C$2:$C$8409,Sheet3!$B28,Sheet4!$D$2:$D$8409,Sheet3!BI$3,Sheet4!$E$2:$E$8409,Sheet3!BI$4,Sheet4!$A$2:$A$8409,Sheet3!$B$1,Sheet4!$B$2:$B$8409,Sheet3!$A$3)","v":7233.96},{"$f":"+SUMIFS(Sheet4!$DM$2:$DM$8409,Sheet4!$C$2:$C$8409,Sheet3!$B28,Sheet4!$D$2:$D$8409,Sheet3!BJ$3,Sheet4!$E$2:$E$8409,Sheet3!BJ$4,Sheet4!$A$2:$A$8409,Sheet3!$B$1,Sheet4!$B$2:$B$8409,Sheet3!$A$3)","v":1523.42},{"$f":"+SUMIFS(Sheet4!$DM$2:$DM$8409,Sheet4!$C$2:$C$8409,Sheet3!$B28,Sheet4!$D$2:$D$8409,Sheet3!BK$3,Sheet4!$E$2:$E$8409,Sheet3!BK$4,Sheet4!$A$2:$A$8409,Sheet3!$B$1,Sheet4!$B$2:$B$8409,Sheet3!$A$3)","v":0},{"$f":"+SUMIFS(Sheet4!$DM$2:$DM$8409,Sheet4!$C$2:$C$8409,Sheet3!$B28,Sheet4!$D$2:$D$8409,Sheet3!BL$3,Sheet4!$E$2:$E$8409,Sheet3!BL$4,Sheet4!$A$2:$A$8409,Sheet3!$B$1,Sheet4!$B$2:$B$8409,Sheet3!$A$3)","v":0},{"$f":"+SUMIFS(Sheet4!$DM$2:$DM$8409,Sheet4!$C$2:$C$8409,Sheet3!$B28,Sheet4!$D$2:$D$8409,Sheet3!BM$3,Sheet4!$E$2:$E$8409,Sheet3!BM$4,Sheet4!$A$2:$A$8409,Sheet3!$B$1,Sheet4!$B$2:$B$8409,Sheet3!$A$3)","v":0},{"$f":"+SUMIFS(Sheet4!$DM$2:$DM$8409,Sheet4!$C$2:$C$8409,Sheet3!$B28,Sheet4!$D$2:$D$8409,Sheet3!BN$3,Sheet4!$E$2:$E$8409,Sheet3!BN$4,Sheet4!$A$2:$A$8409,Sheet3!$B$1,Sheet4!$B$2:$B$8409,Sheet3!$A$3)","v":0},{"$f":"+SUMIFS(Sheet4!$DM$2:$DM$8409,Sheet4!$C$2:$C$8409,Sheet3!$B28,Sheet4!$D$2:$D$8409,Sheet3!BO$3,Sheet4!$E$2:$E$8409,Sheet3!BO$4,Sheet4!$A$2:$A$8409,Sheet3!$B$1,Sheet4!$B$2:$B$8409,Sheet3!$A$3)","v":0},{"$f":"+SUMIFS(Sheet4!$DM$2:$DM$8409,Sheet4!$C$2:$C$8409,Sheet3!$B28,Sheet4!$D$2:$D$8409,Sheet3!BP$3,Sheet4!$E$2:$E$8409,Sheet3!BP$4,Sheet4!$A$2:$A$8409,Sheet3!$B$1,Sheet4!$B$2:$B$8409,Sheet3!$A$3)","v":0},{"$f":"+SUMIFS(Sheet4!$DM$2:$DM$8409,Sheet4!$C$2:$C$8409,Sheet3!$B28,Sheet4!$D$2:$D$8409,Sheet3!BQ$3,Sheet4!$E$2:$E$8409,Sheet3!BQ$4,Sheet4!$A$2:$A$8409,Sheet3!$B$1,Sheet4!$B$2:$B$8409,Sheet3!$A$3)","v":0},{"$f":"+SUMIFS(Sheet4!$DM$2:$DM$8409,Sheet4!$C$2:$C$8409,Sheet3!$B28,Sheet4!$D$2:$D$8409,Sheet3!BR$3,Sheet4!$E$2:$E$8409,Sheet3!BR$4,Sheet4!$A$2:$A$8409,Sheet3!$B$1,Sheet4!$B$2:$B$8409,Sheet3!$A$3)","v":150.37},{"$f":"+SUMIFS(Sheet4!$DM$2:$DM$8409,Sheet4!$C$2:$C$8409,Sheet3!$B28,Sheet4!$D$2:$D$8409,Sheet3!BS$3,Sheet4!$E$2:$E$8409,Sheet3!BS$4,Sheet4!$A$2:$A$8409,Sheet3!$B$1,Sheet4!$B$2:$B$8409,Sheet3!$A$3)","v":171254.2},{"$f":"+SUMIFS(Sheet4!$DM$2:$DM$8409,Sheet4!$C$2:$C$8409,Sheet3!$B28,Sheet4!$D$2:$D$8409,Sheet3!BT$3,Sheet4!$E$2:$E$8409,Sheet3!BT$4,Sheet4!$A$2:$A$8409,Sheet3!$B$1,Sheet4!$B$2:$B$8409,Sheet3!$A$3)","v":604308.07999999996},{"$f":"+SUMIFS(Sheet4!$DM$2:$DM$8409,Sheet4!$C$2:$C$8409,Sheet3!$B28,Sheet4!$D$2:$D$8409,Sheet3!BU$3,Sheet4!$E$2:$E$8409,Sheet3!BU$4,Sheet4!$A$2:$A$8409,Sheet3!$B$1,Sheet4!$B$2:$B$8409,Sheet3!$A$3)","v":94334.720000000001},{"$f":"+SUMIFS(Sheet4!$DM$2:$DM$8409,Sheet4!$C$2:$C$8409,Sheet3!$B28,Sheet4!$D$2:$D$8409,Sheet3!BV$3,Sheet4!$E$2:$E$8409,Sheet3!BV$4,Sheet4!$A$2:$A$8409,Sheet3!$B$1,Sheet4!$B$2:$B$8409,Sheet3!$A$3)","v":137.5},{"$f":"+SUMIFS(Sheet4!$DM$2:$DM$8409,Sheet4!$C$2:$C$8409,Sheet3!$B28,Sheet4!$D$2:$D$8409,Sheet3!BW$3,Sheet4!$E$2:$E$8409,Sheet3!BW$4,Sheet4!$A$2:$A$8409,Sheet3!$B$1,Sheet4!$B$2:$B$8409,Sheet3!$A$3)","v":3762.44},{"$f":"+SUMIFS(Sheet4!$DM$2:$DM$8409,Sheet4!$C$2:$C$8409,Sheet3!$B28,Sheet4!$D$2:$D$8409,Sheet3!BX$3,Sheet4!$E$2:$E$8409,Sheet3!BX$4,Sheet4!$A$2:$A$8409,Sheet3!$B$1,Sheet4!$B$2:$B$8409,Sheet3!$A$3)","v":106886.03},{"$f":"+SUMIFS(Sheet4!$DM$2:$DM$8409,Sheet4!$C$2:$C$8409,Sheet3!$B28,Sheet4!$D$2:$D$8409,Sheet3!BY$3,Sheet4!$E$2:$E$8409,Sheet3!BY$4,Sheet4!$A$2:$A$8409,Sheet3!$B$1,Sheet4!$B$2:$B$8409,Sheet3!$A$3)","v":94989.09},{"$f":"+SUMIFS(Sheet4!$DM$2:$DM$8409,Sheet4!$C$2:$C$8409,Sheet3!$B28,Sheet4!$D$2:$D$8409,Sheet3!BZ$3,Sheet4!$E$2:$E$8409,Sheet3!BZ$4,Sheet4!$A$2:$A$8409,Sheet3!$B$1,Sheet4!$B$2:$B$8409,Sheet3!$A$3)","v":6337.85},{"$f":"+SUMIFS(Sheet4!$DM$2:$DM$8409,Sheet4!$C$2:$C$8409,Sheet3!$B28,Sheet4!$D$2:$D$8409,Sheet3!CA$3,Sheet4!$E$2:$E$8409,Sheet3!CA$4,Sheet4!$A$2:$A$8409,Sheet3!$B$1,Sheet4!$B$2:$B$8409,Sheet3!$A$3)","v":0},{"$f":"+SUMIFS(Sheet4!$DM$2:$DM$8409,Sheet4!$C$2:$C$8409,Sheet3!$B28,Sheet4!$D$2:$D$8409,Sheet3!CB$3,Sheet4!$E$2:$E$8409,Sheet3!CB$4,Sheet4!$A$2:$A$8409,Sheet3!$B$1,Sheet4!$B$2:$B$8409,Sheet3!$A$3)","v":896.92},{"$f":"+SUMIFS(Sheet4!$DM$2:$DM$8409,Sheet4!$C$2:$C$8409,Sheet3!$B28,Sheet4!$D$2:$D$8409,Sheet3!CC$3,Sheet4!$E$2:$E$8409,Sheet3!CC$4,Sheet4!$A$2:$A$8409,Sheet3!$B$1,Sheet4!$B$2:$B$8409,Sheet3!$A$3)","v":35439.75},{"$f":"+SUMIFS(Sheet4!$DM$2:$DM$8409,Sheet4!$C$2:$C$8409,Sheet3!$B28,Sheet4!$D$2:$D$8409,Sheet3!CD$3,Sheet4!$E$2:$E$8409,Sheet3!CD$4,Sheet4!$A$2:$A$8409,Sheet3!$B$1,Sheet4!$B$2:$B$8409,Sheet3!$A$3)","v":156050.85},{"$f":"+SUMIFS(Sheet4!$DM$2:$DM$8409,Sheet4!$C$2:$C$8409,Sheet3!$B28,Sheet4!$D$2:$D$8409,Sheet3!CE$3,Sheet4!$E$2:$E$8409,Sheet3!CE$4,Sheet4!$A$2:$A$8409,Sheet3!$B$1,Sheet4!$B$2:$B$8409,Sheet3!$A$3)","v":89167.67},{"$f":"+SUMIFS(Sheet4!$DM$2:$DM$8409,Sheet4!$C$2:$C$8409,Sheet3!$B28,Sheet4!$D$2:$D$8409,Sheet3!CF$3,Sheet4!$E$2:$E$8409,Sheet3!CF$4,Sheet4!$A$2:$A$8409,Sheet3!$B$1,Sheet4!$B$2:$B$8409,Sheet3!$A$3)","v":0},{"$f":"+SUMIFS(Sheet4!$DM$2:$DM$8409,Sheet4!$C$2:$C$8409,Sheet3!$B28,Sheet4!$D$2:$D$8409,Sheet3!CG$3,Sheet4!$E$2:$E$8409,Sheet3!CG$4,Sheet4!$A$2:$A$8409,Sheet3!$B$1,Sheet4!$B$2:$B$8409,Sheet3!$A$3)","v":0},{"$f":"+SUMIFS(Sheet4!$DM$2:$DM$8409,Sheet4!$C$2:$C$8409,Sheet3!$B28,Sheet4!$D$2:$D$8409,Sheet3!CH$3,Sheet4!$E$2:$E$8409,Sheet3!CH$4,Sheet4!$A$2:$A$8409,Sheet3!$B$1,Sheet4!$B$2:$B$8409,Sheet3!$A$3)","v":60.56},{"$f":"+SUMIFS(Sheet4!$DM$2:$DM$8409,Sheet4!$C$2:$C$8409,Sheet3!$B28,Sheet4!$D$2:$D$8409,Sheet3!CI$3,Sheet4!$E$2:$E$8409,Sheet3!CI$4,Sheet4!$A$2:$A$8409,Sheet3!$B$1,Sheet4!$B$2:$B$8409,Sheet3!$A$3)","v":0},{"$f":"+SUMIFS(Sheet4!$DM$2:$DM$8409,Sheet4!$C$2:$C$8409,Sheet3!$B28,Sheet4!$D$2:$D$8409,Sheet3!CJ$3,Sheet4!$E$2:$E$8409,Sheet3!CJ$4,Sheet4!$A$2:$A$8409,Sheet3!$B$1,Sheet4!$B$2:$B$8409,Sheet3!$A$3)","v":0},{"$f":"+SUMIFS(Sheet4!$DM$2:$DM$8409,Sheet4!$C$2:$C$8409,Sheet3!$B28,Sheet4!$D$2:$D$8409,Sheet3!CK$3,Sheet4!$E$2:$E$8409,Sheet3!CK$4,Sheet4!$A$2:$A$8409,Sheet3!$B$1,Sheet4!$B$2:$B$8409,Sheet3!$A$3)","v":0},{"$f":"+SUMIFS(Sheet4!$DM$2:$DM$8409,Sheet4!$C$2:$C$8409,Sheet3!$B28,Sheet4!$D$2:$D$8409,Sheet3!CL$3,Sheet4!$E$2:$E$8409,Sheet3!CL$4,Sheet4!$A$2:$A$8409,Sheet3!$B$1,Sheet4!$B$2:$B$8409,Sheet3!$A$3)","v":0},{"$f":"+SUMIFS(Sheet4!$DM$2:$DM$8409,Sheet4!$C$2:$C$8409,Sheet3!$B28,Sheet4!$D$2:$D$8409,Sheet3!CM$3,Sheet4!$E$2:$E$8409,Sheet3!CM$4,Sheet4!$A$2:$A$8409,Sheet3!$B$1,Sheet4!$B$2:$B$8409,Sheet3!$A$3)","v":0},{"$f":"+SUMIFS(Sheet4!$DM$2:$DM$8409,Sheet4!$C$2:$C$8409,Sheet3!$B28,Sheet4!$D$2:$D$8409,Sheet3!CN$3,Sheet4!$E$2:$E$8409,Sheet3!CN$4,Sheet4!$A$2:$A$8409,Sheet3!$B$1,Sheet4!$B$2:$B$8409,Sheet3!$A$3)","v":0},{"$f":"+SUMIFS(Sheet4!$DM$2:$DM$8409,Sheet4!$C$2:$C$8409,Sheet3!$B28,Sheet4!$D$2:$D$8409,Sheet3!CO$3,Sheet4!$E$2:$E$8409,Sheet3!CO$4,Sheet4!$A$2:$A$8409,Sheet3!$B$1,Sheet4!$B$2:$B$8409,Sheet3!$A$3)","v":0},{"$f":"+SUMIFS(Sheet4!$DM$2:$DM$8409,Sheet4!$C$2:$C$8409,Sheet3!$B28,Sheet4!$D$2:$D$8409,Sheet3!CP$3,Sheet4!$E$2:$E$8409,Sheet3!CP$4,Sheet4!$A$2:$A$8409,Sheet3!$B$1,Sheet4!$B$2:$B$8409,Sheet3!$A$3)","v":0},{"$f":"+SUMIFS(Sheet4!$DM$2:$DM$8409,Sheet4!$C$2:$C$8409,Sheet3!$B28,Sheet4!$D$2:$D$8409,Sheet3!CQ$3,Sheet4!$E$2:$E$8409,Sheet3!CQ$4,Sheet4!$A$2:$A$8409,Sheet3!$B$1,Sheet4!$B$2:$B$8409,Sheet3!$A$3)","v":0},{"$f":"+SUMIFS(Sheet4!$DM$2:$DM$8409,Sheet4!$C$2:$C$8409,Sheet3!$B28,Sheet4!$D$2:$D$8409,Sheet3!CR$3,Sheet4!$E$2:$E$8409,Sheet3!CR$4,Sheet4!$A$2:$A$8409,Sheet3!$B$1,Sheet4!$B$2:$B$8409,Sheet3!$A$3)","v":0},{"$f":"+SUMIFS(Sheet4!$DM$2:$DM$8409,Sheet4!$C$2:$C$8409,Sheet3!$B28,Sheet4!$D$2:$D$8409,Sheet3!CS$3,Sheet4!$E$2:$E$8409,Sheet3!CS$4,Sheet4!$A$2:$A$8409,Sheet3!$B$1,Sheet4!$B$2:$B$8409,Sheet3!$A$3)","v":0},{"$f":"+SUMIFS(Sheet4!$DM$2:$DM$8409,Sheet4!$C$2:$C$8409,Sheet3!$B28,Sheet4!$D$2:$D$8409,Sheet3!CT$3,Sheet4!$E$2:$E$8409,Sheet3!CT$4,Sheet4!$A$2:$A$8409,Sheet3!$B$1,Sheet4!$B$2:$B$8409,Sheet3!$A$3)","v":0},{"$f":"+IF(SUMIFS(Sheet4!$DN$2:$DN$8409,Sheet4!$C$2:$C$8409,Sheet3!$B28,Sheet4!$D$2:$D$8409,Sheet3!CU$3,Sheet4!$A$2:$A$8409,Sheet3!$B$1,Sheet4!$B$2:$B$8409,Sheet3!$A$3)<3,0,SUMIFS(Sheet4!$DN$2:$DN$8409,Sheet4!$C$2:$C$8409,Sheet3!$B28,Sheet4!$D$2:$D$8409,Sheet3!CU$3,Sheet4!$A$2:$A$8409,Sheet3!$B$1,Sheet4!$B$2:$B$8409,Sheet3!$A$3))","v":0},{"$f":"+IF(SUMIFS(Sheet4!$DN$2:$DN$8409,Sheet4!$C$2:$C$8409,Sheet3!$B28,Sheet4!$D$2:$D$8409,Sheet3!CV$3,Sheet4!$A$2:$A$8409,Sheet3!$B$1,Sheet4!$B$2:$B$8409,Sheet3!$A$3)<3,0,SUMIFS(Sheet4!$DN$2:$DN$8409,Sheet4!$C$2:$C$8409,Sheet3!$B28,Sheet4!$D$2:$D$8409,Sheet3!CV$3,Sheet4!$A$2:$A$8409,Sheet3!$B$1,Sheet4!$B$2:$B$8409,Sheet3!$A$3))","v":131.66999999999999},{"$f":"+IF(SUMIFS(Sheet4!$DN$2:$DN$8409,Sheet4!$C$2:$C$8409,Sheet3!$B28,Sheet4!$D$2:$D$8409,Sheet3!CW$3,Sheet4!$A$2:$A$8409,Sheet3!$B$1,Sheet4!$B$2:$B$8409,Sheet3!$A$3)<3,0,SUMIFS(Sheet4!$DN$2:$DN$8409,Sheet4!$C$2:$C$8409,Sheet3!$B28,Sheet4!$D$2:$D$8409,Sheet3!CW$3,Sheet4!$A$2:$A$8409,Sheet3!$B$1,Sheet4!$B$2:$B$8409,Sheet3!$A$3))","v":9192.35},{"$f":"+IF(SUMIFS(Sheet4!$DN$2:$DN$8409,Sheet4!$C$2:$C$8409,Sheet3!$B28,Sheet4!$D$2:$D$8409,Sheet3!CX$3,Sheet4!$A$2:$A$8409,Sheet3!$B$1,Sheet4!$B$2:$B$8409,Sheet3!$A$3)<3,0,SUMIFS(Sheet4!$DN$2:$DN$8409,Sheet4!$C$2:$C$8409,Sheet3!$B28,Sheet4!$D$2:$D$8409,Sheet3!CX$3,Sheet4!$A$2:$A$8409,Sheet3!$B$1,Sheet4!$B$2:$B$8409,Sheet3!$A$3))","v":0},{"$f":"+IF(SUMIFS(Sheet4!$DN$2:$DN$8409,Sheet4!$C$2:$C$8409,Sheet3!$B28,Sheet4!$D$2:$D$8409,Sheet3!CY$3,Sheet4!$A$2:$A$8409,Sheet3!$B$1,Sheet4!$B$2:$B$8409,Sheet3!$A$3)<3,0,SUMIFS(Sheet4!$DN$2:$DN$8409,Sheet4!$C$2:$C$8409,Sheet3!$B28,Sheet4!$D$2:$D$8409,Sheet3!CY$3,Sheet4!$A$2:$A$8409,Sheet3!$B$1,Sheet4!$B$2:$B$8409,Sheet3!$A$3))","v":7189.83},{"$f":"+IF(SUMIFS(Sheet4!$DN$2:$DN$8409,Sheet4!$C$2:$C$8409,Sheet3!$B28,Sheet4!$D$2:$D$8409,Sheet3!CZ$3,Sheet4!$A$2:$A$8409,Sheet3!$B$1,Sheet4!$B$2:$B$8409,Sheet3!$A$3)<3,0,SUMIFS(Sheet4!$DN$2:$DN$8409,Sheet4!$C$2:$C$8409,Sheet3!$B28,Sheet4!$D$2:$D$8409,Sheet3!CZ$3,Sheet4!$A$2:$A$8409,Sheet3!$B$1,Sheet4!$B$2:$B$8409,Sheet3!$A$3))","v":56901.9},{"$f":"+IF(SUMIFS(Sheet4!$DN$2:$DN$8409,Sheet4!$C$2:$C$8409,Sheet3!$B28,Sheet4!$D$2:$D$8409,Sheet3!DA$3,Sheet4!$A$2:$A$8409,Sheet3!$B$1,Sheet4!$B$2:$B$8409,Sheet3!$A$3)<3,0,SUMIFS(Sheet4!$DN$2:$DN$8409,Sheet4!$C$2:$C$8409,Sheet3!$B28,Sheet4!$D$2:$D$8409,Sheet3!DA$3,Sheet4!$A$2:$A$8409,Sheet3!$B$1,Sheet4!$B$2:$B$8409,Sheet3!$A$3))","v":1824.68},{"$f":"+IF(SUMIFS(Sheet4!$DN$2:$DN$8409,Sheet4!$C$2:$C$8409,Sheet3!$B28,Sheet4!$D$2:$D$8409,Sheet3!DB$3,Sheet4!$A$2:$A$8409,Sheet3!$B$1,Sheet4!$B$2:$B$8409,Sheet3!$A$3)<3,0,SUMIFS(Sheet4!$DN$2:$DN$8409,Sheet4!$C$2:$C$8409,Sheet3!$B28,Sheet4!$D$2:$D$8409,Sheet3!DB$3,Sheet4!$A$2:$A$8409,Sheet3!$B$1,Sheet4!$B$2:$B$8409,Sheet3!$A$3))","v":6077.15},{"$f":"+IF(SUMIFS(Sheet4!$DN$2:$DN$8409,Sheet4!$C$2:$C$8409,Sheet3!$B28,Sheet4!$D$2:$D$8409,Sheet3!DC$3,Sheet4!$A$2:$A$8409,Sheet3!$B$1,Sheet4!$B$2:$B$8409,Sheet3!$A$3)<3,0,SUMIFS(Sheet4!$DN$2:$DN$8409,Sheet4!$C$2:$C$8409,Sheet3!$B28,Sheet4!$D$2:$D$8409,Sheet3!DC$3,Sheet4!$A$2:$A$8409,Sheet3!$B$1,Sheet4!$B$2:$B$8409,Sheet3!$A$3))","v":4025.36},{"$f":"+IF(SUMIFS(Sheet4!$DN$2:$DN$8409,Sheet4!$C$2:$C$8409,Sheet3!$B28,Sheet4!$D$2:$D$8409,Sheet3!DD$3,Sheet4!$A$2:$A$8409,Sheet3!$B$1,Sheet4!$B$2:$B$8409,Sheet3!$A$3)<3,0,SUMIFS(Sheet4!$DN$2:$DN$8409,Sheet4!$C$2:$C$8409,Sheet3!$B28,Sheet4!$D$2:$D$8409,Sheet3!DD$3,Sheet4!$A$2:$A$8409,Sheet3!$B$1,Sheet4!$B$2:$B$8409,Sheet3!$A$3))","v":32003.86},{"$f":"+IF(SUMIFS(Sheet4!$DN$2:$DN$8409,Sheet4!$C$2:$C$8409,Sheet3!$B28,Sheet4!$D$2:$D$8409,Sheet3!DE$3,Sheet4!$A$2:$A$8409,Sheet3!$B$1,Sheet4!$B$2:$B$8409,Sheet3!$A$3)<3,0,SUMIFS(Sheet4!$DN$2:$DN$8409,Sheet4!$C$2:$C$8409,Sheet3!$B28,Sheet4!$D$2:$D$8409,Sheet3!DE$3,Sheet4!$A$2:$A$8409,Sheet3!$B$1,Sheet4!$B$2:$B$8409,Sheet3!$A$3))","v":1059.49},{"$f":"+IF(SUMIFS(Sheet4!$DN$2:$DN$8409,Sheet4!$C$2:$C$8409,Sheet3!$B28,Sheet4!$D$2:$D$8409,Sheet3!DF$3,Sheet4!$A$2:$A$8409,Sheet3!$B$1,Sheet4!$B$2:$B$8409,Sheet3!$A$3)<3,0,SUMIFS(Sheet4!$DN$2:$DN$8409,Sheet4!$C$2:$C$8409,Sheet3!$B28,Sheet4!$D$2:$D$8409,Sheet3!DF$3,Sheet4!$A$2:$A$8409,Sheet3!$B$1,Sheet4!$B$2:$B$8409,Sheet3!$A$3))","v":9136.23},{"$f":"+IF(SUMIFS(Sheet4!$DN$2:$DN$8409,Sheet4!$C$2:$C$8409,Sheet3!$B28,Sheet4!$D$2:$D$8409,Sheet3!DG$3,Sheet4!$A$2:$A$8409,Sheet3!$B$1,Sheet4!$B$2:$B$8409,Sheet3!$A$3)<3,0,SUMIFS(Sheet4!$DN$2:$DN$8409,Sheet4!$C$2:$C$8409,Sheet3!$B28,Sheet4!$D$2:$D$8409,Sheet3!DG$3,Sheet4!$A$2:$A$8409,Sheet3!$B$1,Sheet4!$B$2:$B$8409,Sheet3!$A$3))","v":0},{"$f":"+IF(SUMIFS(Sheet4!$DN$2:$DN$8409,Sheet4!$C$2:$C$8409,Sheet3!$B28,Sheet4!$D$2:$D$8409,Sheet3!DH$3,Sheet4!$A$2:$A$8409,Sheet3!$B$1,Sheet4!$B$2:$B$8409,Sheet3!$A$3)<3,0,SUMIFS(Sheet4!$DN$2:$DN$8409,Sheet4!$C$2:$C$8409,Sheet3!$B28,Sheet4!$D$2:$D$8409,Sheet3!DH$3,Sheet4!$A$2:$A$8409,Sheet3!$B$1,Sheet4!$B$2:$B$8409,Sheet3!$A$3))","v":870047.36999999988},{"$f":"+IF(SUMIFS(Sheet4!$DN$2:$DN$8409,Sheet4!$C$2:$C$8409,Sheet3!$B28,Sheet4!$D$2:$D$8409,Sheet3!DI$3,Sheet4!$A$2:$A$8409,Sheet3!$B$1,Sheet4!$B$2:$B$8409,Sheet3!$A$3)<3,0,SUMIFS(Sheet4!$DN$2:$DN$8409,Sheet4!$C$2:$C$8409,Sheet3!$B28,Sheet4!$D$2:$D$8409,Sheet3!DI$3,Sheet4!$A$2:$A$8409,Sheet3!$B$1,Sheet4!$B$2:$B$8409,Sheet3!$A$3))","v":212112.90999999997},{"$f":"+IF(SUMIFS(Sheet4!$DN$2:$DN$8409,Sheet4!$C$2:$C$8409,Sheet3!$B28,Sheet4!$D$2:$D$8409,Sheet3!DJ$3,Sheet4!$A$2:$A$8409,Sheet3!$B$1,Sheet4!$B$2:$B$8409,Sheet3!$A$3)<3,0,SUMIFS(Sheet4!$DN$2:$DN$8409,Sheet4!$C$2:$C$8409,Sheet3!$B28,Sheet4!$D$2:$D$8409,Sheet3!DJ$3,Sheet4!$A$2:$A$8409,Sheet3!$B$1,Sheet4!$B$2:$B$8409,Sheet3!$A$3))","v":281555.19},{"$f":"+IF(SUMIFS(Sheet4!$DN$2:$DN$8409,Sheet4!$C$2:$C$8409,Sheet3!$B28,Sheet4!$D$2:$D$8409,Sheet3!DK$3,Sheet4!$A$2:$A$8409,Sheet3!$B$1,Sheet4!$B$2:$B$8409,Sheet3!$A$3)<3,0,SUMIFS(Sheet4!$DN$2:$DN$8409,Sheet4!$C$2:$C$8409,Sheet3!$B28,Sheet4!$D$2:$D$8409,Sheet3!DK$3,Sheet4!$A$2:$A$8409,Sheet3!$B$1,Sheet4!$B$2:$B$8409,Sheet3!$A$3))","v":60.56},{"$f":"+IF(SUMIFS(Sheet4!$DN$2:$DN$8409,Sheet4!$C$2:$C$8409,Sheet3!$B28,Sheet4!$D$2:$D$8409,Sheet3!DL$3,Sheet4!$A$2:$A$8409,Sheet3!$B$1,Sheet4!$B$2:$B$8409,Sheet3!$A$3)<3,0,SUMIFS(Sheet4!$DN$2:$DN$8409,Sheet4!$C$2:$C$8409,Sheet3!$B28,Sheet4!$D$2:$D$8409,Sheet3!DL$3,Sheet4!$A$2:$A$8409,Sheet3!$B$1,Sheet4!$B$2:$B$8409,Sheet3!$A$3))","v":0},{"$f":"+IF(SUMIFS(Sheet4!$DN$2:$DN$8409,Sheet4!$C$2:$C$8409,Sheet3!$B28,Sheet4!$D$2:$D$8409,Sheet3!DM$3,Sheet4!$A$2:$A$8409,Sheet3!$B$1,Sheet4!$B$2:$B$8409,Sheet3!$A$3)<3,0,SUMIFS(Sheet4!$DN$2:$DN$8409,Sheet4!$C$2:$C$8409,Sheet3!$B28,Sheet4!$D$2:$D$8409,Sheet3!DM$3,Sheet4!$A$2:$A$8409,Sheet3!$B$1,Sheet4!$B$2:$B$8409,Sheet3!$A$3))","v":0},{"$f":"+IF(SUMIFS(Sheet4!$DN$2:$DN$8409,Sheet4!$C$2:$C$8409,Sheet3!$B28,Sheet4!$E$2:$E$8409,Sheet3!DN$4,Sheet4!$A$2:$A$8409,Sheet3!$B$1,Sheet4!$B$2:$B$8409,Sheet3!$A$3)<3,0,SUMIFS(Sheet4!$DN$2:$DN$8409,Sheet4!$C$2:$C$8409,Sheet3!$B28,Sheet4!$E$2:$E$8409,Sheet3!DN$4,Sheet4!$A$2:$A$8409,Sheet3!$B$1,Sheet4!$B$2:$B$8409,Sheet3!$A$3))","v":137.5},{"$f":"+IF(SUMIFS(Sheet4!$DN$2:$DN$8409,Sheet4!$C$2:$C$8409,Sheet3!$B28,Sheet4!$E$2:$E$8409,Sheet3!DO$4,Sheet4!$A$2:$A$8409,Sheet3!$B$1,Sheet4!$B$2:$B$8409,Sheet3!$A$3)<3,0,SUMIFS(Sheet4!$DN$2:$DN$8409,Sheet4!$C$2:$C$8409,Sheet3!$B28,Sheet4!$E$2:$E$8409,Sheet3!DO$4,Sheet4!$A$2:$A$8409,Sheet3!$B$1,Sheet4!$B$2:$B$8409,Sheet3!$A$3))","v":5320.25},{"$f":"+IF(SUMIFS(Sheet4!$DN$2:$DN$8409,Sheet4!$C$2:$C$8409,Sheet3!$B28,Sheet4!$E$2:$E$8409,Sheet3!DP$4,Sheet4!$A$2:$A$8409,Sheet3!$B$1,Sheet4!$B$2:$B$8409,Sheet3!$A$3)<3,0,SUMIFS(Sheet4!$DN$2:$DN$8409,Sheet4!$C$2:$C$8409,Sheet3!$B28,Sheet4!$E$2:$E$8409,Sheet3!DP$4,Sheet4!$A$2:$A$8409,Sheet3!$B$1,Sheet4!$B$2:$B$8409,Sheet3!$A$3))","v":356406.81},{"$f":"+IF(SUMIFS(Sheet4!$DN$2:$DN$8409,Sheet4!$C$2:$C$8409,Sheet3!$B28,Sheet4!$E$2:$E$8409,Sheet3!DQ$4,Sheet4!$A$2:$A$8409,Sheet3!$B$1,Sheet4!$B$2:$B$8409,Sheet3!$A$3)<3,0,SUMIFS(Sheet4!$DN$2:$DN$8409,Sheet4!$C$2:$C$8409,Sheet3!$B28,Sheet4!$E$2:$E$8409,Sheet3!DQ$4,Sheet4!$A$2:$A$8409,Sheet3!$B$1,Sheet4!$B$2:$B$8409,Sheet3!$A$3))","v":939613.74999999988},{"$f":"+IF(SUMIFS(Sheet4!$DN$2:$DN$8409,Sheet4!$C$2:$C$8409,Sheet3!$B28,Sheet4!$E$2:$E$8409,Sheet3!DR$4,Sheet4!$A$2:$A$8409,Sheet3!$B$1,Sheet4!$B$2:$B$8409,Sheet3!$A$3)<3,0,SUMIFS(Sheet4!$DN$2:$DN$8409,Sheet4!$C$2:$C$8409,Sheet3!$B28,Sheet4!$E$2:$E$8409,Sheet3!DR$4,Sheet4!$A$2:$A$8409,Sheet3!$B$1,Sheet4!$B$2:$B$8409,Sheet3!$A$3))","v":189840.24}]
[5,"187","Alentejo Central",{"$f":"+SUMIFS(Sheet4!$DM$2:$DM$8409,Sheet4!$C$2:$C$8409,Sheet3!$B29,Sheet4!$D$2:$D$8409,Sheet3!D$3,Sheet4!$E$2:$E$8409,Sheet3!D$4,Sheet4!$A$2:$A$8409,Sheet3!$B$1,Sheet4!$B$2:$B$8409,Sheet3!$A$3)","v":0},{"$f":"+SUMIFS(Sheet4!$DM$2:$DM$8409,Sheet4!$C$2:$C$8409,Sheet3!$B29,Sheet4!$D$2:$D$8409,Sheet3!E$3,Sheet4!$E$2:$E$8409,Sheet3!E$4,Sheet4!$A$2:$A$8409,Sheet3!$B$1,Sheet4!$B$2:$B$8409,Sheet3!$A$3)","v":0},{"$f":"+SUMIFS(Sheet4!$DM$2:$DM$8409,Sheet4!$C$2:$C$8409,Sheet3!$B29,Sheet4!$D$2:$D$8409,Sheet3!F$3,Sheet4!$E$2:$E$8409,Sheet3!F$4,Sheet4!$A$2:$A$8409,Sheet3!$B$1,Sheet4!$B$2:$B$8409,Sheet3!$A$3)","v":0},{"$f":"+SUMIFS(Sheet4!$DM$2:$DM$8409,Sheet4!$C$2:$C$8409,Sheet3!$B29,Sheet4!$D$2:$D$8409,Sheet3!G$3,Sheet4!$E$2:$E$8409,Sheet3!G$4,Sheet4!$A$2:$A$8409,Sheet3!$B$1,Sheet4!$B$2:$B$8409,Sheet3!$A$3)","v":0},{"$f":"+SUMIFS(Sheet4!$DM$2:$DM$8409,Sheet4!$C$2:$C$8409,Sheet3!$B29,Sheet4!$D$2:$D$8409,Sheet3!H$3,Sheet4!$E$2:$E$8409,Sheet3!H$4,Sheet4!$A$2:$A$8409,Sheet3!$B$1,Sheet4!$B$2:$B$8409,Sheet3!$A$3)","v":0},{"$f":"+SUMIFS(Sheet4!$DM$2:$DM$8409,Sheet4!$C$2:$C$8409,Sheet3!$B29,Sheet4!$D$2:$D$8409,Sheet3!I$3,Sheet4!$E$2:$E$8409,Sheet3!I$4,Sheet4!$A$2:$A$8409,Sheet3!$B$1,Sheet4!$B$2:$B$8409,Sheet3!$A$3)","v":0},{"$f":"+SUMIFS(Sheet4!$DM$2:$DM$8409,Sheet4!$C$2:$C$8409,Sheet3!$B29,Sheet4!$D$2:$D$8409,Sheet3!J$3,Sheet4!$E$2:$E$8409,Sheet3!J$4,Sheet4!$A$2:$A$8409,Sheet3!$B$1,Sheet4!$B$2:$B$8409,Sheet3!$A$3)","v":0},{"$f":"+SUMIFS(Sheet4!$DM$2:$DM$8409,Sheet4!$C$2:$C$8409,Sheet3!$B29,Sheet4!$D$2:$D$8409,Sheet3!K$3,Sheet4!$E$2:$E$8409,Sheet3!K$4,Sheet4!$A$2:$A$8409,Sheet3!$B$1,Sheet4!$B$2:$B$8409,Sheet3!$A$3)","v":0},{"$f":"+SUMIFS(Sheet4!$DM$2:$DM$8409,Sheet4!$C$2:$C$8409,Sheet3!$B29,Sheet4!$D$2:$D$8409,Sheet3!L$3,Sheet4!$E$2:$E$8409,Sheet3!L$4,Sheet4!$A$2:$A$8409,Sheet3!$B$1,Sheet4!$B$2:$B$8409,Sheet3!$A$3)","v":0},{"$f":"+SUMIFS(Sheet4!$DM$2:$DM$8409,Sheet4!$C$2:$C$8409,Sheet3!$B29,Sheet4!$D$2:$D$8409,Sheet3!M$3,Sheet4!$E$2:$E$8409,Sheet3!M$4,Sheet4!$A$2:$A$8409,Sheet3!$B$1,Sheet4!$B$2:$B$8409,Sheet3!$A$3)","v":0},{"$f":"+SUMIFS(Sheet4!$DM$2:$DM$8409,Sheet4!$C$2:$C$8409,Sheet3!$B29,Sheet4!$D$2:$D$8409,Sheet3!N$3,Sheet4!$E$2:$E$8409,Sheet3!N$4,Sheet4!$A$2:$A$8409,Sheet3!$B$1,Sheet4!$B$2:$B$8409,Sheet3!$A$3)","v":0},{"$f":"+SUMIFS(Sheet4!$DM$2:$DM$8409,Sheet4!$C$2:$C$8409,Sheet3!$B29,Sheet4!$D$2:$D$8409,Sheet3!O$3,Sheet4!$E$2:$E$8409,Sheet3!O$4,Sheet4!$A$2:$A$8409,Sheet3!$B$1,Sheet4!$B$2:$B$8409,Sheet3!$A$3)","v":0},{"$f":"+SUMIFS(Sheet4!$DM$2:$DM$8409,Sheet4!$C$2:$C$8409,Sheet3!$B29,Sheet4!$D$2:$D$8409,Sheet3!P$3,Sheet4!$E$2:$E$8409,Sheet3!P$4,Sheet4!$A$2:$A$8409,Sheet3!$B$1,Sheet4!$B$2:$B$8409,Sheet3!$A$3)","v":0},{"$f":"+SUMIFS(Sheet4!$DM$2:$DM$8409,Sheet4!$C$2:$C$8409,Sheet3!$B29,Sheet4!$D$2:$D$8409,Sheet3!Q$3,Sheet4!$E$2:$E$8409,Sheet3!Q$4,Sheet4!$A$2:$A$8409,Sheet3!$B$1,Sheet4!$B$2:$B$8409,Sheet3!$A$3)","v":0},{"$f":"+SUMIFS(Sheet4!$DM$2:$DM$8409,Sheet4!$C$2:$C$8409,Sheet3!$B29,Sheet4!$D$2:$D$8409,Sheet3!R$3,Sheet4!$E$2:$E$8409,Sheet3!R$4,Sheet4!$A$2:$A$8409,Sheet3!$B$1,Sheet4!$B$2:$B$8409,Sheet3!$A$3)","v":0},{"$f":"+SUMIFS(Sheet4!$DM$2:$DM$8409,Sheet4!$C$2:$C$8409,Sheet3!$B29,Sheet4!$D$2:$D$8409,Sheet3!S$3,Sheet4!$E$2:$E$8409,Sheet3!S$4,Sheet4!$A$2:$A$8409,Sheet3!$B$1,Sheet4!$B$2:$B$8409,Sheet3!$A$3)","v":0},{"$f":"+SUMIFS(Sheet4!$DM$2:$DM$8409,Sheet4!$C$2:$C$8409,Sheet3!$B29,Sheet4!$D$2:$D$8409,Sheet3!T$3,Sheet4!$E$2:$E$8409,Sheet3!T$4,Sheet4!$A$2:$A$8409,Sheet3!$B$1,Sheet4!$B$2:$B$8409,Sheet3!$A$3)","v":0},{"$f":"+SUMIFS(Sheet4!$DM$2:$DM$8409,Sheet4!$C$2:$C$8409,Sheet3!$B29,Sheet4!$D$2:$D$8409,Sheet3!U$3,Sheet4!$E$2:$E$8409,Sheet3!U$4,Sheet4!$A$2:$A$8409,Sheet3!$B$1,Sheet4!$B$2:$B$8409,Sheet3!$A$3)","v":0},{"$f":"+SUMIFS(Sheet4!$DM$2:$DM$8409,Sheet4!$C$2:$C$8409,Sheet3!$B29,Sheet4!$D$2:$D$8409,Sheet3!V$3,Sheet4!$E$2:$E$8409,Sheet3!V$4,Sheet4!$A$2:$A$8409,Sheet3!$B$1,Sheet4!$B$2:$B$8409,Sheet3!$A$3)","v":0},{"$f":"+SUMIFS(Sheet4!$DM$2:$DM$8409,Sheet4!$C$2:$C$8409,Sheet3!$B29,Sheet4!$D$2:$D$8409,Sheet3!W$3,Sheet4!$E$2:$E$8409,Sheet3!W$4,Sheet4!$A$2:$A$8409,Sheet3!$B$1,Sheet4!$B$2:$B$8409,Sheet3!$A$3)","v":0},{"$f":"+SUMIFS(Sheet4!$DM$2:$DM$8409,Sheet4!$C$2:$C$8409,Sheet3!$B29,Sheet4!$D$2:$D$8409,Sheet3!X$3,Sheet4!$E$2:$E$8409,Sheet3!X$4,Sheet4!$A$2:$A$8409,Sheet3!$B$1,Sheet4!$B$2:$B$8409,Sheet3!$A$3)","v":0},{"$f":"+SUMIFS(Sheet4!$DM$2:$DM$8409,Sheet4!$C$2:$C$8409,Sheet3!$B29,Sheet4!$D$2:$D$8409,Sheet3!Y$3,Sheet4!$E$2:$E$8409,Sheet3!Y$4,Sheet4!$A$2:$A$8409,Sheet3!$B$1,Sheet4!$B$2:$B$8409,Sheet3!$A$3)","v":0},{"$f":"+SUMIFS(Sheet4!$DM$2:$DM$8409,Sheet4!$C$2:$C$8409,Sheet3!$B29,Sheet4!$D$2:$D$8409,Sheet3!Z$3,Sheet4!$E$2:$E$8409,Sheet3!Z$4,Sheet4!$A$2:$A$8409,Sheet3!$B$1,Sheet4!$B$2:$B$8409,Sheet3!$A$3)","v":5818.08},{"$f":"+SUMIFS(Sheet4!$DM$2:$DM$8409,Sheet4!$C$2:$C$8409,Sheet3!$B29,Sheet4!$D$2:$D$8409,Sheet3!AA$3,Sheet4!$E$2:$E$8409,Sheet3!AA$4,Sheet4!$A$2:$A$8409,Sheet3!$B$1,Sheet4!$B$2:$B$8409,Sheet3!$A$3)","v":3672.9},{"$f":"+SUMIFS(Sheet4!$DM$2:$DM$8409,Sheet4!$C$2:$C$8409,Sheet3!$B29,Sheet4!$D$2:$D$8409,Sheet3!AB$3,Sheet4!$E$2:$E$8409,Sheet3!AB$4,Sheet4!$A$2:$A$8409,Sheet3!$B$1,Sheet4!$B$2:$B$8409,Sheet3!$A$3)","v":0},{"$f":"+SUMIFS(Sheet4!$DM$2:$DM$8409,Sheet4!$C$2:$C$8409,Sheet3!$B29,Sheet4!$D$2:$D$8409,Sheet3!AC$3,Sheet4!$E$2:$E$8409,Sheet3!AC$4,Sheet4!$A$2:$A$8409,Sheet3!$B$1,Sheet4!$B$2:$B$8409,Sheet3!$A$3)","v":0},{"$f":"+SUMIFS(Sheet4!$DM$2:$DM$8409,Sheet4!$C$2:$C$8409,Sheet3!$B29,Sheet4!$D$2:$D$8409,Sheet3!AD$3,Sheet4!$E$2:$E$8409,Sheet3!AD$4,Sheet4!$A$2:$A$8409,Sheet3!$B$1,Sheet4!$B$2:$B$8409,Sheet3!$A$3)","v":441.7},{"$f":"+SUMIFS(Sheet4!$DM$2:$DM$8409,Sheet4!$C$2:$C$8409,Sheet3!$B29,Sheet4!$D$2:$D$8409,Sheet3!AE$3,Sheet4!$E$2:$E$8409,Sheet3!AE$4,Sheet4!$A$2:$A$8409,Sheet3!$B$1,Sheet4!$B$2:$B$8409,Sheet3!$A$3)","v":40434.519999999997},{"$f":"+SUMIFS(Sheet4!$DM$2:$DM$8409,Sheet4!$C$2:$C$8409,Sheet3!$B29,Sheet4!$D$2:$D$8409,Sheet3!AF$3,Sheet4!$E$2:$E$8409,Sheet3!AF$4,Sheet4!$A$2:$A$8409,Sheet3!$B$1,Sheet4!$B$2:$B$8409,Sheet3!$A$3)","v":75378.350000000006},{"$f":"+SUMIFS(Sheet4!$DM$2:$DM$8409,Sheet4!$C$2:$C$8409,Sheet3!$B29,Sheet4!$D$2:$D$8409,Sheet3!AG$3,Sheet4!$E$2:$E$8409,Sheet3!AG$4,Sheet4!$A$2:$A$8409,Sheet3!$B$1,Sheet4!$B$2:$B$8409,Sheet3!$A$3)","v":0},{"$f":"+SUMIFS(Sheet4!$DM$2:$DM$8409,Sheet4!$C$2:$C$8409,Sheet3!$B29,Sheet4!$D$2:$D$8409,Sheet3!AH$3,Sheet4!$E$2:$E$8409,Sheet3!AH$4,Sheet4!$A$2:$A$8409,Sheet3!$B$1,Sheet4!$B$2:$B$8409,Sheet3!$A$3)","v":0},{"$f":"+SUMIFS(Sheet4!$DM$2:$DM$8409,Sheet4!$C$2:$C$8409,Sheet3!$B29,Sheet4!$D$2:$D$8409,Sheet3!AI$3,Sheet4!$E$2:$E$8409,Sheet3!AI$4,Sheet4!$A$2:$A$8409,Sheet3!$B$1,Sheet4!$B$2:$B$8409,Sheet3!$A$3)","v":0},{"$f":"+SUMIFS(Sheet4!$DM$2:$DM$8409,Sheet4!$C$2:$C$8409,Sheet3!$B29,Sheet4!$D$2:$D$8409,Sheet3!AJ$3,Sheet4!$E$2:$E$8409,Sheet3!AJ$4,Sheet4!$A$2:$A$8409,Sheet3!$B$1,Sheet4!$B$2:$B$8409,Sheet3!$A$3)","v":2735.05},{"$f":"+SUMIFS(Sheet4!$DM$2:$DM$8409,Sheet4!$C$2:$C$8409,Sheet3!$B29,Sheet4!$D$2:$D$8409,Sheet3!AK$3,Sheet4!$E$2:$E$8409,Sheet3!AK$4,Sheet4!$A$2:$A$8409,Sheet3!$B$1,Sheet4!$B$2:$B$8409,Sheet3!$A$3)","v":889.04},{"$f":"+SUMIFS(Sheet4!$DM$2:$DM$8409,Sheet4!$C$2:$C$8409,Sheet3!$B29,Sheet4!$D$2:$D$8409,Sheet3!AL$3,Sheet4!$E$2:$E$8409,Sheet3!AL$4,Sheet4!$A$2:$A$8409,Sheet3!$B$1,Sheet4!$B$2:$B$8409,Sheet3!$A$3)","v":0},{"$f":"+SUMIFS(Sheet4!$DM$2:$DM$8409,Sheet4!$C$2:$C$8409,Sheet3!$B29,Sheet4!$D$2:$D$8409,Sheet3!AM$3,Sheet4!$E$2:$E$8409,Sheet3!AM$4,Sheet4!$A$2:$A$8409,Sheet3!$B$1,Sheet4!$B$2:$B$8409,Sheet3!$A$3)","v":0},{"$f":"+SUMIFS(Sheet4!$DM$2:$DM$8409,Sheet4!$C$2:$C$8409,Sheet3!$B29,Sheet4!$D$2:$D$8409,Sheet3!AN$3,Sheet4!$E$2:$E$8409,Sheet3!AN$4,Sheet4!$A$2:$A$8409,Sheet3!$B$1,Sheet4!$B$2:$B$8409,Sheet3!$A$3)","v":0},{"$f":"+SUMIFS(Sheet4!$DM$2:$DM$8409,Sheet4!$C$2:$C$8409,Sheet3!$B29,Sheet4!$D$2:$D$8409,Sheet3!AO$3,Sheet4!$E$2:$E$8409,Sheet3!AO$4,Sheet4!$A$2:$A$8409,Sheet3!$B$1,Sheet4!$B$2:$B$8409,Sheet3!$A$3)","v":2616.56},{"$f":"+SUMIFS(Sheet4!$DM$2:$DM$8409,Sheet4!$C$2:$C$8409,Sheet3!$B29,Sheet4!$D$2:$D$8409,Sheet3!AP$3,Sheet4!$E$2:$E$8409,Sheet3!AP$4,Sheet4!$A$2:$A$8409,Sheet3!$B$1,Sheet4!$B$2:$B$8409,Sheet3!$A$3)","v":21094.98},{"$f":"+SUMIFS(Sheet4!$DM$2:$DM$8409,Sheet4!$C$2:$C$8409,Sheet3!$B29,Sheet4!$D$2:$D$8409,Sheet3!AQ$3,Sheet4!$E$2:$E$8409,Sheet3!AQ$4,Sheet4!$A$2:$A$8409,Sheet3!$B$1,Sheet4!$B$2:$B$8409,Sheet3!$A$3)","v":0},{"$f":"+SUMIFS(Sheet4!$DM$2:$DM$8409,Sheet4!$C$2:$C$8409,Sheet3!$B29,Sheet4!$D$2:$D$8409,Sheet3!AR$3,Sheet4!$E$2:$E$8409,Sheet3!AR$4,Sheet4!$A$2:$A$8409,Sheet3!$B$1,Sheet4!$B$2:$B$8409,Sheet3!$A$3)","v":0},{"$f":"+SUMIFS(Sheet4!$DM$2:$DM$8409,Sheet4!$C$2:$C$8409,Sheet3!$B29,Sheet4!$D$2:$D$8409,Sheet3!AS$3,Sheet4!$E$2:$E$8409,Sheet3!AS$4,Sheet4!$A$2:$A$8409,Sheet3!$B$1,Sheet4!$B$2:$B$8409,Sheet3!$A$3)","v":0},{"$f":"+SUMIFS(Sheet4!$DM$2:$DM$8409,Sheet4!$C$2:$C$8409,Sheet3!$B29,Sheet4!$D$2:$D$8409,Sheet3!AT$3,Sheet4!$E$2:$E$8409,Sheet3!AT$4,Sheet4!$A$2:$A$8409,Sheet3!$B$1,Sheet4!$B$2:$B$8409,Sheet3!$A$3)","v":0},{"$f":"+SUMIFS(Sheet4!$DM$2:$DM$8409,Sheet4!$C$2:$C$8409,Sheet3!$B29,Sheet4!$D$2:$D$8409,Sheet3!AU$3,Sheet4!$E$2:$E$8409,Sheet3!AU$4,Sheet4!$A$2:$A$8409,Sheet3!$B$1,Sheet4!$B$2:$B$8409,Sheet3!$A$3)","v":0},{"$f":"+SUMIFS(Sheet4!$DM$2:$DM$8409,Sheet4!$C$2:$C$8409,Sheet3!$B29,Sheet4!$D$2:$D$8409,Sheet3!AV$3,Sheet4!$E$2:$E$8409,Sheet3!AV$4,Sheet4!$A$2:$A$8409,Sheet3!$B$1,Sheet4!$B$2:$B$8409,Sheet3!$A$3)","v":0},{"$f":"+SUMIFS(Sheet4!$DM$2:$DM$8409,Sheet4!$C$2:$C$8409,Sheet3!$B29,Sheet4!$D$2:$D$8409,Sheet3!AW$3,Sheet4!$E$2:$E$8409,Sheet3!AW$4,Sheet4!$A$2:$A$8409,Sheet3!$B$1,Sheet4!$B$2:$B$8409,Sheet3!$A$3)","v":0},{"$f":"+SUMIFS(Sheet4!$DM$2:$DM$8409,Sheet4!$C$2:$C$8409,Sheet3!$B29,Sheet4!$D$2:$D$8409,Sheet3!AX$3,Sheet4!$E$2:$E$8409,Sheet3!AX$4,Sheet4!$A$2:$A$8409,Sheet3!$B$1,Sheet4!$B$2:$B$8409,Sheet3!$A$3)","v":0},{"$f":"+SUMIFS(Sheet4!$DM$2:$DM$8409,Sheet4!$C$2:$C$8409,Sheet3!$B29,Sheet4!$D$2:$D$8409,Sheet3!AY$3,Sheet4!$E$2:$E$8409,Sheet3!AY$4,Sheet4!$A$2:$A$8409,Sheet3!$B$1,Sheet4!$B$2:$B$8409,Sheet3!$A$3)","v":12476.16},{"$f":"+SUMIFS(Sheet4!$DM$2:$DM$8409,Sheet4!$C$2:$C$8409,Sheet3!$B29,Sheet4!$D$2:$D$8409,Sheet3!AZ$3,Sheet4!$E$2:$E$8409,Sheet3!AZ$4,Sheet4!$A$2:$A$8409,Sheet3!$B$1,Sheet4!$B$2:$B$8409,Sheet3!$A$3)","v":22513.13},{"$f":"+SUMIFS(Sheet4!$DM$2:$DM$8409,Sheet4!$C$2:$C$8409,Sheet3!$B29,Sheet4!$D$2:$D$8409,Sheet3!BA$3,Sheet4!$E$2:$E$8409,Sheet3!BA$4,Sheet4!$A$2:$A$8409,Sheet3!$B$1,Sheet4!$B$2:$B$8409,Sheet3!$A$3)","v":21467.35},{"$f":"+SUMIFS(Sheet4!$DM$2:$DM$8409,Sheet4!$C$2:$C$8409,Sheet3!$B29,Sheet4!$D$2:$D$8409,Sheet3!BB$3,Sheet4!$E$2:$E$8409,Sheet3!BB$4,Sheet4!$A$2:$A$8409,Sheet3!$B$1,Sheet4!$B$2:$B$8409,Sheet3!$A$3)","v":0},{"$f":"+SUMIFS(Sheet4!$DM$2:$DM$8409,Sheet4!$C$2:$C$8409,Sheet3!$B29,Sheet4!$D$2:$D$8409,Sheet3!BC$3,Sheet4!$E$2:$E$8409,Sheet3!BC$4,Sheet4!$A$2:$A$8409,Sheet3!$B$1,Sheet4!$B$2:$B$8409,Sheet3!$A$3)","v":0},{"$f":"+SUMIFS(Sheet4!$DM$2:$DM$8409,Sheet4!$C$2:$C$8409,Sheet3!$B29,Sheet4!$D$2:$D$8409,Sheet3!BD$3,Sheet4!$E$2:$E$8409,Sheet3!BD$4,Sheet4!$A$2:$A$8409,Sheet3!$B$1,Sheet4!$B$2:$B$8409,Sheet3!$A$3)","v":0},{"$f":"+SUMIFS(Sheet4!$DM$2:$DM$8409,Sheet4!$C$2:$C$8409,Sheet3!$B29,Sheet4!$D$2:$D$8409,Sheet3!BE$3,Sheet4!$E$2:$E$8409,Sheet3!BE$4,Sheet4!$A$2:$A$8409,Sheet3!$B$1,Sheet4!$B$2:$B$8409,Sheet3!$A$3)","v":2462.12},{"$f":"+SUMIFS(Sheet4!$DM$2:$DM$8409,Sheet4!$C$2:$C$8409,Sheet3!$B29,Sheet4!$D$2:$D$8409,Sheet3!BF$3,Sheet4!$E$2:$E$8409,Sheet3!BF$4,Sheet4!$A$2:$A$8409,Sheet3!$B$1,Sheet4!$B$2:$B$8409,Sheet3!$A$3)","v":0},{"$f":"+SUMIFS(Sheet4!$DM$2:$DM$8409,Sheet4!$C$2:$C$8409,Sheet3!$B29,Sheet4!$D$2:$D$8409,Sheet3!BG$3,Sheet4!$E$2:$E$8409,Sheet3!BG$4,Sheet4!$A$2:$A$8409,Sheet3!$B$1,Sheet4!$B$2:$B$8409,Sheet3!$A$3)","v":0},{"$f":"+SUMIFS(Sheet4!$DM$2:$DM$8409,Sheet4!$C$2:$C$8409,Sheet3!$B29,Sheet4!$D$2:$D$8409,Sheet3!BH$3,Sheet4!$E$2:$E$8409,Sheet3!BH$4,Sheet4!$A$2:$A$8409,Sheet3!$B$1,Sheet4!$B$2:$B$8409,Sheet3!$A$3)","v":81.209999999999994},{"$f":"+SUMIFS(Sheet4!$DM$2:$DM$8409,Sheet4!$C$2:$C$8409,Sheet3!$B29,Sheet4!$D$2:$D$8409,Sheet3!BI$3,Sheet4!$E$2:$E$8409,Sheet3!BI$4,Sheet4!$A$2:$A$8409,Sheet3!$B$1,Sheet4!$B$2:$B$8409,Sheet3!$A$3)","v":5948.32},{"$f":"+SUMIFS(Sheet4!$DM$2:$DM$8409,Sheet4!$C$2:$C$8409,Sheet3!$B29,Sheet4!$D$2:$D$8409,Sheet3!BJ$3,Sheet4!$E$2:$E$8409,Sheet3!BJ$4,Sheet4!$A$2:$A$8409,Sheet3!$B$1,Sheet4!$B$2:$B$8409,Sheet3!$A$3)","v":9786.82},{"$f":"+SUMIFS(Sheet4!$DM$2:$DM$8409,Sheet4!$C$2:$C$8409,Sheet3!$B29,Sheet4!$D$2:$D$8409,Sheet3!BK$3,Sheet4!$E$2:$E$8409,Sheet3!BK$4,Sheet4!$A$2:$A$8409,Sheet3!$B$1,Sheet4!$B$2:$B$8409,Sheet3!$A$3)","v":0},{"$f":"+SUMIFS(Sheet4!$DM$2:$DM$8409,Sheet4!$C$2:$C$8409,Sheet3!$B29,Sheet4!$D$2:$D$8409,Sheet3!BL$3,Sheet4!$E$2:$E$8409,Sheet3!BL$4,Sheet4!$A$2:$A$8409,Sheet3!$B$1,Sheet4!$B$2:$B$8409,Sheet3!$A$3)","v":0},{"$f":"+SUMIFS(Sheet4!$DM$2:$DM$8409,Sheet4!$C$2:$C$8409,Sheet3!$B29,Sheet4!$D$2:$D$8409,Sheet3!BM$3,Sheet4!$E$2:$E$8409,Sheet3!BM$4,Sheet4!$A$2:$A$8409,Sheet3!$B$1,Sheet4!$B$2:$B$8409,Sheet3!$A$3)","v":9.18},{"$f":"+SUMIFS(Sheet4!$DM$2:$DM$8409,Sheet4!$C$2:$C$8409,Sheet3!$B29,Sheet4!$D$2:$D$8409,Sheet3!BN$3,Sheet4!$E$2:$E$8409,Sheet3!BN$4,Sheet4!$A$2:$A$8409,Sheet3!$B$1,Sheet4!$B$2:$B$8409,Sheet3!$A$3)","v":0},{"$f":"+SUMIFS(Sheet4!$DM$2:$DM$8409,Sheet4!$C$2:$C$8409,Sheet3!$B29,Sheet4!$D$2:$D$8409,Sheet3!BO$3,Sheet4!$E$2:$E$8409,Sheet3!BO$4,Sheet4!$A$2:$A$8409,Sheet3!$B$1,Sheet4!$B$2:$B$8409,Sheet3!$A$3)","v":7779.79},{"$f":"+SUMIFS(Sheet4!$DM$2:$DM$8409,Sheet4!$C$2:$C$8409,Sheet3!$B29,Sheet4!$D$2:$D$8409,Sheet3!BP$3,Sheet4!$E$2:$E$8409,Sheet3!BP$4,Sheet4!$A$2:$A$8409,Sheet3!$B$1,Sheet4!$B$2:$B$8409,Sheet3!$A$3)","v":927.7},{"$f":"+SUMIFS(Sheet4!$DM$2:$DM$8409,Sheet4!$C$2:$C$8409,Sheet3!$B29,Sheet4!$D$2:$D$8409,Sheet3!BQ$3,Sheet4!$E$2:$E$8409,Sheet3!BQ$4,Sheet4!$A$2:$A$8409,Sheet3!$B$1,Sheet4!$B$2:$B$8409,Sheet3!$A$3)","v":0},{"$f":"+SUMIFS(Sheet4!$DM$2:$DM$8409,Sheet4!$C$2:$C$8409,Sheet3!$B29,Sheet4!$D$2:$D$8409,Sheet3!BR$3,Sheet4!$E$2:$E$8409,Sheet3!BR$4,Sheet4!$A$2:$A$8409,Sheet3!$B$1,Sheet4!$B$2:$B$8409,Sheet3!$A$3)","v":0},{"$f":"+SUMIFS(Sheet4!$DM$2:$DM$8409,Sheet4!$C$2:$C$8409,Sheet3!$B29,Sheet4!$D$2:$D$8409,Sheet3!BS$3,Sheet4!$E$2:$E$8409,Sheet3!BS$4,Sheet4!$A$2:$A$8409,Sheet3!$B$1,Sheet4!$B$2:$B$8409,Sheet3!$A$3)","v":198817.02999999997},{"$f":"+SUMIFS(Sheet4!$DM$2:$DM$8409,Sheet4!$C$2:$C$8409,Sheet3!$B29,Sheet4!$D$2:$D$8409,Sheet3!BT$3,Sheet4!$E$2:$E$8409,Sheet3!BT$4,Sheet4!$A$2:$A$8409,Sheet3!$B$1,Sheet4!$B$2:$B$8409,Sheet3!$A$3)","v":795902.97},{"$f":"+SUMIFS(Sheet4!$DM$2:$DM$8409,Sheet4!$C$2:$C$8409,Sheet3!$B29,Sheet4!$D$2:$D$8409,Sheet3!BU$3,Sheet4!$E$2:$E$8409,Sheet3!BU$4,Sheet4!$A$2:$A$8409,Sheet3!$B$1,Sheet4!$B$2:$B$8409,Sheet3!$A$3)","v":205054.35},{"$f":"+SUMIFS(Sheet4!$DM$2:$DM$8409,Sheet4!$C$2:$C$8409,Sheet3!$B29,Sheet4!$D$2:$D$8409,Sheet3!BV$3,Sheet4!$E$2:$E$8409,Sheet3!BV$4,Sheet4!$A$2:$A$8409,Sheet3!$B$1,Sheet4!$B$2:$B$8409,Sheet3!$A$3)","v":95},{"$f":"+SUMIFS(Sheet4!$DM$2:$DM$8409,Sheet4!$C$2:$C$8409,Sheet3!$B29,Sheet4!$D$2:$D$8409,Sheet3!BW$3,Sheet4!$E$2:$E$8409,Sheet3!BW$4,Sheet4!$A$2:$A$8409,Sheet3!$B$1,Sheet4!$B$2:$B$8409,Sheet3!$A$3)","v":4180.75},{"$f":"+SUMIFS(Sheet4!$DM$2:$DM$8409,Sheet4!$C$2:$C$8409,Sheet3!$B29,Sheet4!$D$2:$D$8409,Sheet3!BX$3,Sheet4!$E$2:$E$8409,Sheet3!BX$4,Sheet4!$A$2:$A$8409,Sheet3!$B$1,Sheet4!$B$2:$B$8409,Sheet3!$A$3)","v":93334.86},{"$f":"+SUMIFS(Sheet4!$DM$2:$DM$8409,Sheet4!$C$2:$C$8409,Sheet3!$B29,Sheet4!$D$2:$D$8409,Sheet3!BY$3,Sheet4!$E$2:$E$8409,Sheet3!BY$4,Sheet4!$A$2:$A$8409,Sheet3!$B$1,Sheet4!$B$2:$B$8409,Sheet3!$A$3)","v":167523.82999999999},{"$f":"+SUMIFS(Sheet4!$DM$2:$DM$8409,Sheet4!$C$2:$C$8409,Sheet3!$B29,Sheet4!$D$2:$D$8409,Sheet3!BZ$3,Sheet4!$E$2:$E$8409,Sheet3!BZ$4,Sheet4!$A$2:$A$8409,Sheet3!$B$1,Sheet4!$B$2:$B$8409,Sheet3!$A$3)","v":64106.400000000001},{"$f":"+SUMIFS(Sheet4!$DM$2:$DM$8409,Sheet4!$C$2:$C$8409,Sheet3!$B29,Sheet4!$D$2:$D$8409,Sheet3!CA$3,Sheet4!$E$2:$E$8409,Sheet3!CA$4,Sheet4!$A$2:$A$8409,Sheet3!$B$1,Sheet4!$B$2:$B$8409,Sheet3!$A$3)","v":0},{"$f":"+SUMIFS(Sheet4!$DM$2:$DM$8409,Sheet4!$C$2:$C$8409,Sheet3!$B29,Sheet4!$D$2:$D$8409,Sheet3!CB$3,Sheet4!$E$2:$E$8409,Sheet3!CB$4,Sheet4!$A$2:$A$8409,Sheet3!$B$1,Sheet4!$B$2:$B$8409,Sheet3!$A$3)","v":168},{"$f":"+SUMIFS(Sheet4!$DM$2:$DM$8409,Sheet4!$C$2:$C$8409,Sheet3!$B29,Sheet4!$D$2:$D$8409,Sheet3!CC$3,Sheet4!$E$2:$E$8409,Sheet3!CC$4,Sheet4!$A$2:$A$8409,Sheet3!$B$1,Sheet4!$B$2:$B$8409,Sheet3!$A$3)","v":47092.66},{"$f":"+SUMIFS(Sheet4!$DM$2:$DM$8409,Sheet4!$C$2:$C$8409,Sheet3!$B29,Sheet4!$D$2:$D$8409,Sheet3!CD$3,Sheet4!$E$2:$E$8409,Sheet3!CD$4,Sheet4!$A$2:$A$8409,Sheet3!$B$1,Sheet4!$B$2:$B$8409,Sheet3!$A$3)","v":342301.43},{"$f":"+SUMIFS(Sheet4!$DM$2:$DM$8409,Sheet4!$C$2:$C$8409,Sheet3!$B29,Sheet4!$D$2:$D$8409,Sheet3!CE$3,Sheet4!$E$2:$E$8409,Sheet3!CE$4,Sheet4!$A$2:$A$8409,Sheet3!$B$1,Sheet4!$B$2:$B$8409,Sheet3!$A$3)","v":80944.649999999994},{"$f":"+SUMIFS(Sheet4!$DM$2:$DM$8409,Sheet4!$C$2:$C$8409,Sheet3!$B29,Sheet4!$D$2:$D$8409,Sheet3!CF$3,Sheet4!$E$2:$E$8409,Sheet3!CF$4,Sheet4!$A$2:$A$8409,Sheet3!$B$1,Sheet4!$B$2:$B$8409,Sheet3!$A$3)","v":0},{"$f":"+SUMIFS(Sheet4!$DM$2:$DM$8409,Sheet4!$C$2:$C$8409,Sheet3!$B29,Sheet4!$D$2:$D$8409,Sheet3!CG$3,Sheet4!$E$2:$E$8409,Sheet3!CG$4,Sheet4!$A$2:$A$8409,Sheet3!$B$1,Sheet4!$B$2:$B$8409,Sheet3!$A$3)","v":0},{"$f":"+SUMIFS(Sheet4!$DM$2:$DM$8409,Sheet4!$C$2:$C$8409,Sheet3!$B29,Sheet4!$D$2:$D$8409,Sheet3!CH$3,Sheet4!$E$2:$E$8409,Sheet3!CH$4,Sheet4!$A$2:$A$8409,Sheet3!$B$1,Sheet4!$B$2:$B$8409,Sheet3!$A$3)","v":4.01},{"$f":"+SUMIFS(Sheet4!$DM$2:$DM$8409,Sheet4!$C$2:$C$8409,Sheet3!$B29,Sheet4!$D$2:$D$8409,Sheet3!CI$3,Sheet4!$E$2:$E$8409,Sheet3!CI$4,Sheet4!$A$2:$A$8409,Sheet3!$B$1,Sheet4!$B$2:$B$8409,Sheet3!$A$3)","v":0},{"$f":"+SUMIFS(Sheet4!$DM$2:$DM$8409,Sheet4!$C$2:$C$8409,Sheet3!$B29,Sheet4!$D$2:$D$8409,Sheet3!CJ$3,Sheet4!$E$2:$E$8409,Sheet3!CJ$4,Sheet4!$A$2:$A$8409,Sheet3!$B$1,Sheet4!$B$2:$B$8409,Sheet3!$A$3)","v":0},{"$f":"+SUMIFS(Sheet4!$DM$2:$DM$8409,Sheet4!$C$2:$C$8409,Sheet3!$B29,Sheet4!$D$2:$D$8409,Sheet3!CK$3,Sheet4!$E$2:$E$8409,Sheet3!CK$4,Sheet4!$A$2:$A$8409,Sheet3!$B$1,Sheet4!$B$2:$B$8409,Sheet3!$A$3)","v":0},{"$f":"+SUMIFS(Sheet4!$DM$2:$DM$8409,Sheet4!$C$2:$C$8409,Sheet3!$B29,Sheet4!$D$2:$D$8409,Sheet3!CL$3,Sheet4!$E$2:$E$8409,Sheet3!CL$4,Sheet4!$A$2:$A$8409,Sheet3!$B$1,Sheet4!$B$2:$B$8409,Sheet3!$A$3)","v":0},{"$f":"+SUMIFS(Sheet4!$DM$2:$DM$8409,Sheet4!$C$2:$C$8409,Sheet3!$B29,Sheet4!$D$2:$D$8409,Sheet3!CM$3,Sheet4!$E$2:$E$8409,Sheet3!CM$4,Sheet4!$A$2:$A$8409,Sheet3!$B$1,Sheet4!$B$2:$B$8409,Sheet3!$A$3)","v":0},{"$f":"+SUMIFS(Sheet4!$DM$2:$DM$8409,Sheet4!$C$2:$C$8409,Sheet3!$B29,Sheet4!$D$2:$D$8409,Sheet3!CN$3,Sheet4!$E$2:$E$8409,Sheet3!CN$4,Sheet4!$A$2:$A$8409,Sheet3!$B$1,Sheet4!$B$2:$B$8409,Sheet3!$A$3)","v":5297.6},{"$f":"+SUMIFS(Sheet4!$DM$2:$DM$8409,Sheet4!$C$2:$C$8409,Sheet3!$B29,Sheet4!$D$2:$D$8409,Sheet3!CO$3,Sheet4!$E$2:$E$8409,Sheet3!CO$4,Sheet4!$A$2:$A$8409,Sheet3!$B$1,Sheet4!$B$2:$B$8409,Sheet3!$A$3)","v":0},{"$f":"+SUMIFS(Sheet4!$DM$2:$DM$8409,Sheet4!$C$2:$C$8409,Sheet3!$B29,Sheet4!$D$2:$D$8409,Sheet3!CP$3,Sheet4!$E$2:$E$8409,Sheet3!CP$4,Sheet4!$A$2:$A$8409,Sheet3!$B$1,Sheet4!$B$2:$B$8409,Sheet3!$A$3)","v":0},{"$f":"+SUMIFS(Sheet4!$DM$2:$DM$8409,Sheet4!$C$2:$C$8409,Sheet3!$B29,Sheet4!$D$2:$D$8409,Sheet3!CQ$3,Sheet4!$E$2:$E$8409,Sheet3!CQ$4,Sheet4!$A$2:$A$8409,Sheet3!$B$1,Sheet4!$B$2:$B$8409,Sheet3!$A$3)","v":0},{"$f":"+SUMIFS(Sheet4!$DM$2:$DM$8409,Sheet4!$C$2:$C$8409,Sheet3!$B29,Sheet4!$D$2:$D$8409,Sheet3!CR$3,Sheet4!$E$2:$E$8409,Sheet3!CR$4,Sheet4!$A$2:$A$8409,Sheet3!$B$1,Sheet4!$B$2:$B$8409,Sheet3!$A$3)","v":0},{"$f":"+SUMIFS(Sheet4!$DM$2:$DM$8409,Sheet4!$C$2:$C$8409,Sheet3!$B29,Sheet4!$D$2:$D$8409,Sheet3!CS$3,Sheet4!$E$2:$E$8409,Sheet3!CS$4,Sheet4!$A$2:$A$8409,Sheet3!$B$1,Sheet4!$B$2:$B$8409,Sheet3!$A$3)","v":0},{"$f":"+SUMIFS(Sheet4!$DM$2:$DM$8409,Sheet4!$C$2:$C$8409,Sheet3!$B29,Sheet4!$D$2:$D$8409,Sheet3!CT$3,Sheet4!$E$2:$E$8409,Sheet3!CT$4,Sheet4!$A$2:$A$8409,Sheet3!$B$1,Sheet4!$B$2:$B$8409,Sheet3!$A$3)","v":0},{"$f":"+IF(SUMIFS(Sheet4!$DN$2:$DN$8409,Sheet4!$C$2:$C$8409,Sheet3!$B29,Sheet4!$D$2:$D$8409,Sheet3!CU$3,Sheet4!$A$2:$A$8409,Sheet3!$B$1,Sheet4!$B$2:$B$8409,Sheet3!$A$3)<3,0,SUMIFS(Sheet4!$DN$2:$DN$8409,Sheet4!$C$2:$C$8409,Sheet3!$B29,Sheet4!$D$2:$D$8409,Sheet3!CU$3,Sheet4!$A$2:$A$8409,Sheet3!$B$1,Sheet4!$B$2:$B$8409,Sheet3!$A$3))","v":0},{"$f":"+IF(SUMIFS(Sheet4!$DN$2:$DN$8409,Sheet4!$C$2:$C$8409,Sheet3!$B29,Sheet4!$D$2:$D$8409,Sheet3!CV$3,Sheet4!$A$2:$A$8409,Sheet3!$B$1,Sheet4!$B$2:$B$8409,Sheet3!$A$3)<3,0,SUMIFS(Sheet4!$DN$2:$DN$8409,Sheet4!$C$2:$C$8409,Sheet3!$B29,Sheet4!$D$2:$D$8409,Sheet3!CV$3,Sheet4!$A$2:$A$8409,Sheet3!$B$1,Sheet4!$B$2:$B$8409,Sheet3!$A$3))","v":0},{"$f":"+IF(SUMIFS(Sheet4!$DN$2:$DN$8409,Sheet4!$C$2:$C$8409,Sheet3!$B29,Sheet4!$D$2:$D$8409,Sheet3!CW$3,Sheet4!$A$2:$A$8409,Sheet3!$B$1,Sheet4!$B$2:$B$8409,Sheet3!$A$3)<3,0,SUMIFS(Sheet4!$DN$2:$DN$8409,Sheet4!$C$2:$C$8409,Sheet3!$B29,Sheet4!$D$2:$D$8409,Sheet3!CW$3,Sheet4!$A$2:$A$8409,Sheet3!$B$1,Sheet4!$B$2:$B$8409,Sheet3!$A$3))","v":0},{"$f":"+IF(SUMIFS(Sheet4!$DN$2:$DN$8409,Sheet4!$C$2:$C$8409,Sheet3!$B29,Sheet4!$D$2:$D$8409,Sheet3!CX$3,Sheet4!$A$2:$A$8409,Sheet3!$B$1,Sheet4!$B$2:$B$8409,Sheet3!$A$3)<3,0,SUMIFS(Sheet4!$DN$2:$DN$8409,Sheet4!$C$2:$C$8409,Sheet3!$B29,Sheet4!$D$2:$D$8409,Sheet3!CX$3,Sheet4!$A$2:$A$8409,Sheet3!$B$1,Sheet4!$B$2:$B$8409,Sheet3!$A$3))","v":0},{"$f":"+IF(SUMIFS(Sheet4!$DN$2:$DN$8409,Sheet4!$C$2:$C$8409,Sheet3!$B29,Sheet4!$D$2:$D$8409,Sheet3!CY$3,Sheet4!$A$2:$A$8409,Sheet3!$B$1,Sheet4!$B$2:$B$8409,Sheet3!$A$3)<3,0,SUMIFS(Sheet4!$DN$2:$DN$8409,Sheet4!$C$2:$C$8409,Sheet3!$B29,Sheet4!$D$2:$D$8409,Sheet3!CY$3,Sheet4!$A$2:$A$8409,Sheet3!$B$1,Sheet4!$B$2:$B$8409,Sheet3!$A$3))","v":9490.98},{"$f":"+IF(SUMIFS(Sheet4!$DN$2:$DN$8409,Sheet4!$C$2:$C$8409,Sheet3!$B29,Sheet4!$D$2:$D$8409,Sheet3!CZ$3,Sheet4!$A$2:$A$8409,Sheet3!$B$1,Sheet4!$B$2:$B$8409,Sheet3!$A$3)<3,0,SUMIFS(Sheet4!$DN$2:$DN$8409,Sheet4!$C$2:$C$8409,Sheet3!$B29,Sheet4!$D$2:$D$8409,Sheet3!CZ$3,Sheet4!$A$2:$A$8409,Sheet3!$B$1,Sheet4!$B$2:$B$8409,Sheet3!$A$3))","v":116254.56999999999},{"$f":"+IF(SUMIFS(Sheet4!$DN$2:$DN$8409,Sheet4!$C$2:$C$8409,Sheet3!$B29,Sheet4!$D$2:$D$8409,Sheet3!DA$3,Sheet4!$A$2:$A$8409,Sheet3!$B$1,Sheet4!$B$2:$B$8409,Sheet3!$A$3)<3,0,SUMIFS(Sheet4!$DN$2:$DN$8409,Sheet4!$C$2:$C$8409,Sheet3!$B29,Sheet4!$D$2:$D$8409,Sheet3!DA$3,Sheet4!$A$2:$A$8409,Sheet3!$B$1,Sheet4!$B$2:$B$8409,Sheet3!$A$3))","v":3624.09},{"$f":"+IF(SUMIFS(Sheet4!$DN$2:$DN$8409,Sheet4!$C$2:$C$8409,Sheet3!$B29,Sheet4!$D$2:$D$8409,Sheet3!DB$3,Sheet4!$A$2:$A$8409,Sheet3!$B$1,Sheet4!$B$2:$B$8409,Sheet3!$A$3)<3,0,SUMIFS(Sheet4!$DN$2:$DN$8409,Sheet4!$C$2:$C$8409,Sheet3!$B29,Sheet4!$D$2:$D$8409,Sheet3!DB$3,Sheet4!$A$2:$A$8409,Sheet3!$B$1,Sheet4!$B$2:$B$8409,Sheet3!$A$3))","v":23711.54},{"$f":"+IF(SUMIFS(Sheet4!$DN$2:$DN$8409,Sheet4!$C$2:$C$8409,Sheet3!$B29,Sheet4!$D$2:$D$8409,Sheet3!DC$3,Sheet4!$A$2:$A$8409,Sheet3!$B$1,Sheet4!$B$2:$B$8409,Sheet3!$A$3)<3,0,SUMIFS(Sheet4!$DN$2:$DN$8409,Sheet4!$C$2:$C$8409,Sheet3!$B29,Sheet4!$D$2:$D$8409,Sheet3!DC$3,Sheet4!$A$2:$A$8409,Sheet3!$B$1,Sheet4!$B$2:$B$8409,Sheet3!$A$3))","v":0},{"$f":"+IF(SUMIFS(Sheet4!$DN$2:$DN$8409,Sheet4!$C$2:$C$8409,Sheet3!$B29,Sheet4!$D$2:$D$8409,Sheet3!DD$3,Sheet4!$A$2:$A$8409,Sheet3!$B$1,Sheet4!$B$2:$B$8409,Sheet3!$A$3)<3,0,SUMIFS(Sheet4!$DN$2:$DN$8409,Sheet4!$C$2:$C$8409,Sheet3!$B29,Sheet4!$D$2:$D$8409,Sheet3!DD$3,Sheet4!$A$2:$A$8409,Sheet3!$B$1,Sheet4!$B$2:$B$8409,Sheet3!$A$3))","v":56456.639999999999},{"$f":"+IF(SUMIFS(Sheet4!$DN$2:$DN$8409,Sheet4!$C$2:$C$8409,Sheet3!$B29,Sheet4!$D$2:$D$8409,Sheet3!DE$3,Sheet4!$A$2:$A$8409,Sheet3!$B$1,Sheet4!$B$2:$B$8409,Sheet3!$A$3)<3,0,SUMIFS(Sheet4!$DN$2:$DN$8409,Sheet4!$C$2:$C$8409,Sheet3!$B29,Sheet4!$D$2:$D$8409,Sheet3!DE$3,Sheet4!$A$2:$A$8409,Sheet3!$B$1,Sheet4!$B$2:$B$8409,Sheet3!$A$3))","v":2462.12},{"$f":"+IF(SUMIFS(Sheet4!$DN$2:$DN$8409,Sheet4!$C$2:$C$8409,Sheet3!$B29,Sheet4!$D$2:$D$8409,Sheet3!DF$3,Sheet4!$A$2:$A$8409,Sheet3!$B$1,Sheet4!$B$2:$B$8409,Sheet3!$A$3)<3,0,SUMIFS(Sheet4!$DN$2:$DN$8409,Sheet4!$C$2:$C$8409,Sheet3!$B29,Sheet4!$D$2:$D$8409,Sheet3!DF$3,Sheet4!$A$2:$A$8409,Sheet3!$B$1,Sheet4!$B$2:$B$8409,Sheet3!$A$3))","v":15816.349999999999},{"$f":"+IF(SUMIFS(Sheet4!$DN$2:$DN$8409,Sheet4!$C$2:$C$8409,Sheet3!$B29,Sheet4!$D$2:$D$8409,Sheet3!DG$3,Sheet4!$A$2:$A$8409,Sheet3!$B$1,Sheet4!$B$2:$B$8409,Sheet3!$A$3)<3,0,SUMIFS(Sheet4!$DN$2:$DN$8409,Sheet4!$C$2:$C$8409,Sheet3!$B29,Sheet4!$D$2:$D$8409,Sheet3!DG$3,Sheet4!$A$2:$A$8409,Sheet3!$B$1,Sheet4!$B$2:$B$8409,Sheet3!$A$3))","v":8716.67},{"$f":"+IF(SUMIFS(Sheet4!$DN$2:$DN$8409,Sheet4!$C$2:$C$8409,Sheet3!$B29,Sheet4!$D$2:$D$8409,Sheet3!DH$3,Sheet4!$A$2:$A$8409,Sheet3!$B$1,Sheet4!$B$2:$B$8409,Sheet3!$A$3)<3,0,SUMIFS(Sheet4!$DN$2:$DN$8409,Sheet4!$C$2:$C$8409,Sheet3!$B29,Sheet4!$D$2:$D$8409,Sheet3!DH$3,Sheet4!$A$2:$A$8409,Sheet3!$B$1,Sheet4!$B$2:$B$8409,Sheet3!$A$3))","v":1199774.3500000001},{"$f":"+IF(SUMIFS(Sheet4!$DN$2:$DN$8409,Sheet4!$C$2:$C$8409,Sheet3!$B29,Sheet4!$D$2:$D$8409,Sheet3!DI$3,Sheet4!$A$2:$A$8409,Sheet3!$B$1,Sheet4!$B$2:$B$8409,Sheet3!$A$3)<3,0,SUMIFS(Sheet4!$DN$2:$DN$8409,Sheet4!$C$2:$C$8409,Sheet3!$B29,Sheet4!$D$2:$D$8409,Sheet3!DI$3,Sheet4!$A$2:$A$8409,Sheet3!$B$1,Sheet4!$B$2:$B$8409,Sheet3!$A$3))","v":329240.83999999997},{"$f":"+IF(SUMIFS(Sheet4!$DN$2:$DN$8409,Sheet4!$C$2:$C$8409,Sheet3!$B29,Sheet4!$D$2:$D$8409,Sheet3!DJ$3,Sheet4!$A$2:$A$8409,Sheet3!$B$1,Sheet4!$B$2:$B$8409,Sheet3!$A$3)<3,0,SUMIFS(Sheet4!$DN$2:$DN$8409,Sheet4!$C$2:$C$8409,Sheet3!$B29,Sheet4!$D$2:$D$8409,Sheet3!DJ$3,Sheet4!$A$2:$A$8409,Sheet3!$B$1,Sheet4!$B$2:$B$8409,Sheet3!$A$3))","v":470506.74},{"$f":"+IF(SUMIFS(Sheet4!$DN$2:$DN$8409,Sheet4!$C$2:$C$8409,Sheet3!$B29,Sheet4!$D$2:$D$8409,Sheet3!DK$3,Sheet4!$A$2:$A$8409,Sheet3!$B$1,Sheet4!$B$2:$B$8409,Sheet3!$A$3)<3,0,SUMIFS(Sheet4!$DN$2:$DN$8409,Sheet4!$C$2:$C$8409,Sheet3!$B29,Sheet4!$D$2:$D$8409,Sheet3!DK$3,Sheet4!$A$2:$A$8409,Sheet3!$B$1,Sheet4!$B$2:$B$8409,Sheet3!$A$3))","v":4.01},{"$f":"+IF(SUMIFS(Sheet4!$DN$2:$DN$8409,Sheet4!$C$2:$C$8409,Sheet3!$B29,Sheet4!$D$2:$D$8409,Sheet3!DL$3,Sheet4!$A$2:$A$8409,Sheet3!$B$1,Sheet4!$B$2:$B$8409,Sheet3!$A$3)<3,0,SUMIFS(Sheet4!$DN$2:$DN$8409,Sheet4!$C$2:$C$8409,Sheet3!$B29,Sheet4!$D$2:$D$8409,Sheet3!DL$3,Sheet4!$A$2:$A$8409,Sheet3!$B$1,Sheet4!$B$2:$B$8409,Sheet3!$A$3))","v":5297.6},{"$f":"+IF(SUMIFS(Sheet4!$DN$2:$DN$8409,Sheet4!$C$2:$C$8409,Sheet3!$B29,Sheet4!$D$2:$D$8409,Sheet3!DM$3,Sheet4!$A$2:$A$8409,Sheet3!$B$1,Sheet4!$B$2:$B$8409,Sheet3!$A$3)<3,0,SUMIFS(Sheet4!$DN$2:$DN$8409,Sheet4!$C$2:$C$8409,Sheet3!$B29,Sheet4!$D$2:$D$8409,Sheet3!DM$3,Sheet4!$A$2:$A$8409,Sheet3!$B$1,Sheet4!$B$2:$B$8409,Sheet3!$A$3))","v":0},{"$f":"+IF(SUMIFS(Sheet4!$DN$2:$DN$8409,Sheet4!$C$2:$C$8409,Sheet3!$B29,Sheet4!$E$2:$E$8409,Sheet3!DN$4,Sheet4!$A$2:$A$8409,Sheet3!$B$1,Sheet4!$B$2:$B$8409,Sheet3!$A$3)<3,0,SUMIFS(Sheet4!$DN$2:$DN$8409,Sheet4!$C$2:$C$8409,Sheet3!$B29,Sheet4!$E$2:$E$8409,Sheet3!DN$4,Sheet4!$A$2:$A$8409,Sheet3!$B$1,Sheet4!$B$2:$B$8409,Sheet3!$A$3))","v":95},{"$f":"+IF(SUMIFS(Sheet4!$DN$2:$DN$8409,Sheet4!$C$2:$C$8409,Sheet3!$B29,Sheet4!$E$2:$E$8409,Sheet3!DO$4,Sheet4!$A$2:$A$8409,Sheet3!$B$1,Sheet4!$B$2:$B$8409,Sheet3!$A$3)<3,0,SUMIFS(Sheet4!$DN$2:$DN$8409,Sheet4!$C$2:$C$8409,Sheet3!$B29,Sheet4!$E$2:$E$8409,Sheet3!DO$4,Sheet4!$A$2:$A$8409,Sheet3!$B$1,Sheet4!$B$2:$B$8409,Sheet3!$A$3))","v":4880.84},{"$f":"+IF(SUMIFS(Sheet4!$DN$2:$DN$8409,Sheet4!$C$2:$C$8409,Sheet3!$B29,Sheet4!$E$2:$E$8409,Sheet3!DP$4,Sheet4!$A$2:$A$8409,Sheet3!$B$1,Sheet4!$B$2:$B$8409,Sheet3!$A$3)<3,0,SUMIFS(Sheet4!$DN$2:$DN$8409,Sheet4!$C$2:$C$8409,Sheet3!$B29,Sheet4!$E$2:$E$8409,Sheet3!DP$4,Sheet4!$A$2:$A$8409,Sheet3!$B$1,Sheet4!$B$2:$B$8409,Sheet3!$A$3))","v":409277.25},{"$f":"+IF(SUMIFS(Sheet4!$DN$2:$DN$8409,Sheet4!$C$2:$C$8409,Sheet3!$B29,Sheet4!$E$2:$E$8409,Sheet3!DQ$4,Sheet4!$A$2:$A$8409,Sheet3!$B$1,Sheet4!$B$2:$B$8409,Sheet3!$A$3)<3,0,SUMIFS(Sheet4!$DN$2:$DN$8409,Sheet4!$C$2:$C$8409,Sheet3!$B29,Sheet4!$E$2:$E$8409,Sheet3!DQ$4,Sheet4!$A$2:$A$8409,Sheet3!$B$1,Sheet4!$B$2:$B$8409,Sheet3!$A$3))","v":1454602.9600000002},{"$f":"+IF(SUMIFS(Sheet4!$DN$2:$DN$8409,Sheet4!$C$2:$C$8409,Sheet3!$B29,Sheet4!$E$2:$E$8409,Sheet3!DR$4,Sheet4!$A$2:$A$8409,Sheet3!$B$1,Sheet4!$B$2:$B$8409,Sheet3!$A$3)<3,0,SUMIFS(Sheet4!$DN$2:$DN$8409,Sheet4!$C$2:$C$8409,Sheet3!$B29,Sheet4!$E$2:$E$8409,Sheet3!DR$4,Sheet4!$A$2:$A$8409,Sheet3!$B$1,Sheet4!$B$2:$B$8409,Sheet3!$A$3))","v":372500.44999999995}]
[5,"150","Algarve",{"$f":"+SUMIFS(Sheet4!$DM$2:$DM$8409,Sheet4!$C$2:$C$8409,Sheet3!$B30,Sheet4!$D$2:$D$8409,Sheet3!D$3,Sheet4!$E$2:$E$8409,Sheet3!D$4,Sheet4!$A$2:$A$8409,Sheet3!$B$1,Sheet4!$B$2:$B$8409,Sheet3!$A$3)","v":0},{"$f":"+SUMIFS(Sheet4!$DM$2:$DM$8409,Sheet4!$C$2:$C$8409,Sheet3!$B30,Sheet4!$D$2:$D$8409,Sheet3!E$3,Sheet4!$E$2:$E$8409,Sheet3!E$4,Sheet4!$A$2:$A$8409,Sheet3!$B$1,Sheet4!$B$2:$B$8409,Sheet3!$A$3)","v":0},{"$f":"+SUMIFS(Sheet4!$DM$2:$DM$8409,Sheet4!$C$2:$C$8409,Sheet3!$B30,Sheet4!$D$2:$D$8409,Sheet3!F$3,Sheet4!$E$2:$E$8409,Sheet3!F$4,Sheet4!$A$2:$A$8409,Sheet3!$B$1,Sheet4!$B$2:$B$8409,Sheet3!$A$3)","v":0},{"$f":"+SUMIFS(Sheet4!$DM$2:$DM$8409,Sheet4!$C$2:$C$8409,Sheet3!$B30,Sheet4!$D$2:$D$8409,Sheet3!G$3,Sheet4!$E$2:$E$8409,Sheet3!G$4,Sheet4!$A$2:$A$8409,Sheet3!$B$1,Sheet4!$B$2:$B$8409,Sheet3!$A$3)","v":0},{"$f":"+SUMIFS(Sheet4!$DM$2:$DM$8409,Sheet4!$C$2:$C$8409,Sheet3!$B30,Sheet4!$D$2:$D$8409,Sheet3!H$3,Sheet4!$E$2:$E$8409,Sheet3!H$4,Sheet4!$A$2:$A$8409,Sheet3!$B$1,Sheet4!$B$2:$B$8409,Sheet3!$A$3)","v":0},{"$f":"+SUMIFS(Sheet4!$DM$2:$DM$8409,Sheet4!$C$2:$C$8409,Sheet3!$B30,Sheet4!$D$2:$D$8409,Sheet3!I$3,Sheet4!$E$2:$E$8409,Sheet3!I$4,Sheet4!$A$2:$A$8409,Sheet3!$B$1,Sheet4!$B$2:$B$8409,Sheet3!$A$3)","v":0},{"$f":"+SUMIFS(Sheet4!$DM$2:$DM$8409,Sheet4!$C$2:$C$8409,Sheet3!$B30,Sheet4!$D$2:$D$8409,Sheet3!J$3,Sheet4!$E$2:$E$8409,Sheet3!J$4,Sheet4!$A$2:$A$8409,Sheet3!$B$1,Sheet4!$B$2:$B$8409,Sheet3!$A$3)","v":0},{"$f":"+SUMIFS(Sheet4!$DM$2:$DM$8409,Sheet4!$C$2:$C$8409,Sheet3!$B30,Sheet4!$D$2:$D$8409,Sheet3!K$3,Sheet4!$E$2:$E$8409,Sheet3!K$4,Sheet4!$A$2:$A$8409,Sheet3!$B$1,Sheet4!$B$2:$B$8409,Sheet3!$A$3)","v":0},{"$f":"+SUMIFS(Sheet4!$DM$2:$DM$8409,Sheet4!$C$2:$C$8409,Sheet3!$B30,Sheet4!$D$2:$D$8409,Sheet3!L$3,Sheet4!$E$2:$E$8409,Sheet3!L$4,Sheet4!$A$2:$A$8409,Sheet3!$B$1,Sheet4!$B$2:$B$8409,Sheet3!$A$3)","v":0},{"$f":"+SUMIFS(Sheet4!$DM$2:$DM$8409,Sheet4!$C$2:$C$8409,Sheet3!$B30,Sheet4!$D$2:$D$8409,Sheet3!M$3,Sheet4!$E$2:$E$8409,Sheet3!M$4,Sheet4!$A$2:$A$8409,Sheet3!$B$1,Sheet4!$B$2:$B$8409,Sheet3!$A$3)","v":0},{"$f":"+SUMIFS(Sheet4!$DM$2:$DM$8409,Sheet4!$C$2:$C$8409,Sheet3!$B30,Sheet4!$D$2:$D$8409,Sheet3!N$3,Sheet4!$E$2:$E$8409,Sheet3!N$4,Sheet4!$A$2:$A$8409,Sheet3!$B$1,Sheet4!$B$2:$B$8409,Sheet3!$A$3)","v":0},{"$f":"+SUMIFS(Sheet4!$DM$2:$DM$8409,Sheet4!$C$2:$C$8409,Sheet3!$B30,Sheet4!$D$2:$D$8409,Sheet3!O$3,Sheet4!$E$2:$E$8409,Sheet3!O$4,Sheet4!$A$2:$A$8409,Sheet3!$B$1,Sheet4!$B$2:$B$8409,Sheet3!$A$3)","v":0},{"$f":"+SUMIFS(Sheet4!$DM$2:$DM$8409,Sheet4!$C$2:$C$8409,Sheet3!$B30,Sheet4!$D$2:$D$8409,Sheet3!P$3,Sheet4!$E$2:$E$8409,Sheet3!P$4,Sheet4!$A$2:$A$8409,Sheet3!$B$1,Sheet4!$B$2:$B$8409,Sheet3!$A$3)","v":0},{"$f":"+SUMIFS(Sheet4!$DM$2:$DM$8409,Sheet4!$C$2:$C$8409,Sheet3!$B30,Sheet4!$D$2:$D$8409,Sheet3!Q$3,Sheet4!$E$2:$E$8409,Sheet3!Q$4,Sheet4!$A$2:$A$8409,Sheet3!$B$1,Sheet4!$B$2:$B$8409,Sheet3!$A$3)","v":0},{"$f":"+SUMIFS(Sheet4!$DM$2:$DM$8409,Sheet4!$C$2:$C$8409,Sheet3!$B30,Sheet4!$D$2:$D$8409,Sheet3!R$3,Sheet4!$E$2:$E$8409,Sheet3!R$4,Sheet4!$A$2:$A$8409,Sheet3!$B$1,Sheet4!$B$2:$B$8409,Sheet3!$A$3)","v":0},{"$f":"+SUMIFS(Sheet4!$DM$2:$DM$8409,Sheet4!$C$2:$C$8409,Sheet3!$B30,Sheet4!$D$2:$D$8409,Sheet3!S$3,Sheet4!$E$2:$E$8409,Sheet3!S$4,Sheet4!$A$2:$A$8409,Sheet3!$B$1,Sheet4!$B$2:$B$8409,Sheet3!$A$3)","v":0},{"$f":"+SUMIFS(Sheet4!$DM$2:$DM$8409,Sheet4!$C$2:$C$8409,Sheet3!$B30,Sheet4!$D$2:$D$8409,Sheet3!T$3,Sheet4!$E$2:$E$8409,Sheet3!T$4,Sheet4!$A$2:$A$8409,Sheet3!$B$1,Sheet4!$B$2:$B$8409,Sheet3!$A$3)","v":0},{"$f":"+SUMIFS(Sheet4!$DM$2:$DM$8409,Sheet4!$C$2:$C$8409,Sheet3!$B30,Sheet4!$D$2:$D$8409,Sheet3!U$3,Sheet4!$E$2:$E$8409,Sheet3!U$4,Sheet4!$A$2:$A$8409,Sheet3!$B$1,Sheet4!$B$2:$B$8409,Sheet3!$A$3)","v":0},{"$f":"+SUMIFS(Sheet4!$DM$2:$DM$8409,Sheet4!$C$2:$C$8409,Sheet3!$B30,Sheet4!$D$2:$D$8409,Sheet3!V$3,Sheet4!$E$2:$E$8409,Sheet3!V$4,Sheet4!$A$2:$A$8409,Sheet3!$B$1,Sheet4!$B$2:$B$8409,Sheet3!$A$3)","v":0},{"$f":"+SUMIFS(Sheet4!$DM$2:$DM$8409,Sheet4!$C$2:$C$8409,Sheet3!$B30,Sheet4!$D$2:$D$8409,Sheet3!W$3,Sheet4!$E$2:$E$8409,Sheet3!W$4,Sheet4!$A$2:$A$8409,Sheet3!$B$1,Sheet4!$B$2:$B$8409,Sheet3!$A$3)","v":0},{"$f":"+SUMIFS(Sheet4!$DM$2:$DM$8409,Sheet4!$C$2:$C$8409,Sheet3!$B30,Sheet4!$D$2:$D$8409,Sheet3!X$3,Sheet4!$E$2:$E$8409,Sheet3!X$4,Sheet4!$A$2:$A$8409,Sheet3!$B$1,Sheet4!$B$2:$B$8409,Sheet3!$A$3)","v":0},{"$f":"+SUMIFS(Sheet4!$DM$2:$DM$8409,Sheet4!$C$2:$C$8409,Sheet3!$B30,Sheet4!$D$2:$D$8409,Sheet3!Y$3,Sheet4!$E$2:$E$8409,Sheet3!Y$4,Sheet4!$A$2:$A$8409,Sheet3!$B$1,Sheet4!$B$2:$B$8409,Sheet3!$A$3)","v":0},{"$f":"+SUMIFS(Sheet4!$DM$2:$DM$8409,Sheet4!$C$2:$C$8409,Sheet3!$B30,Sheet4!$D$2:$D$8409,Sheet3!Z$3,Sheet4!$E$2:$E$8409,Sheet3!Z$4,Sheet4!$A$2:$A$8409,Sheet3!$B$1,Sheet4!$B$2:$B$8409,Sheet3!$A$3)","v":0},{"$f":"+SUMIFS(Sheet4!$DM$2:$DM$8409,Sheet4!$C$2:$C$8409,Sheet3!$B30,Sheet4!$D$2:$D$8409,Sheet3!AA$3,Sheet4!$E$2:$E$8409,Sheet3!AA$4,Sheet4!$A$2:$A$8409,Sheet3!$B$1,Sheet4!$B$2:$B$8409,Sheet3!$A$3)","v":0},{"$f":"+SUMIFS(Sheet4!$DM$2:$DM$8409,Sheet4!$C$2:$C$8409,Sheet3!$B30,Sheet4!$D$2:$D$8409,Sheet3!AB$3,Sheet4!$E$2:$E$8409,Sheet3!AB$4,Sheet4!$A$2:$A$8409,Sheet3!$B$1,Sheet4!$B$2:$B$8409,Sheet3!$A$3)","v":0},{"$f":"+SUMIFS(Sheet4!$DM$2:$DM$8409,Sheet4!$C$2:$C$8409,Sheet3!$B30,Sheet4!$D$2:$D$8409,Sheet3!AC$3,Sheet4!$E$2:$E$8409,Sheet3!AC$4,Sheet4!$A$2:$A$8409,Sheet3!$B$1,Sheet4!$B$2:$B$8409,Sheet3!$A$3)","v":0},{"$f":"+SUMIFS(Sheet4!$DM$2:$DM$8409,Sheet4!$C$2:$C$8409,Sheet3!$B30,Sheet4!$D$2:$D$8409,Sheet3!AD$3,Sheet4!$E$2:$E$8409,Sheet3!AD$4,Sheet4!$A$2:$A$8409,Sheet3!$B$1,Sheet4!$B$2:$B$8409,Sheet3!$A$3)","v":0},{"$f":"+SUMIFS(Sheet4!$DM$2:$DM$8409,Sheet4!$C$2:$C$8409,Sheet3!$B30,Sheet4!$D$2:$D$8409,Sheet3!AE$3,Sheet4!$E$2:$E$8409,Sheet3!AE$4,Sheet4!$A$2:$A$8409,Sheet3!$B$1,Sheet4!$B$2:$B$8409,Sheet3!$A$3)","v":0},{"$f":"+SUMIFS(Sheet4!$DM$2:$DM$8409,Sheet4!$C$2:$C$8409,Sheet3!$B30,Sheet4!$D$2:$D$8409,Sheet3!AF$3,Sheet4!$E$2:$E$8409,Sheet3!AF$4,Sheet4!$A$2:$A$8409,Sheet3!$B$1,Sheet4!$B$2:$B$8409,Sheet3!$A$3)","v":0},{"$f":"+SUMIFS(Sheet4!$DM$2:$DM$8409,Sheet4!$C$2:$C$8409,Sheet3!$B30,Sheet4!$D$2:$D$8409,Sheet3!AG$3,Sheet4!$E$2:$E$8409,Sheet3!AG$4,Sheet4!$A$2:$A$8409,Sheet3!$B$1,Sheet4!$B$2:$B$8409,Sheet3!$A$3)","v":0},{"$f":"+SUMIFS(Sheet4!$DM$2:$DM$8409,Sheet4!$C$2:$C$8409,Sheet3!$B30,Sheet4!$D$2:$D$8409,Sheet3!AH$3,Sheet4!$E$2:$E$8409,Sheet3!AH$4,Sheet4!$A$2:$A$8409,Sheet3!$B$1,Sheet4!$B$2:$B$8409,Sheet3!$A$3)","v":0},{"$f":"+SUMIFS(Sheet4!$DM$2:$DM$8409,Sheet4!$C$2:$C$8409,Sheet3!$B30,Sheet4!$D$2:$D$8409,Sheet3!AI$3,Sheet4!$E$2:$E$8409,Sheet3!AI$4,Sheet4!$A$2:$A$8409,Sheet3!$B$1,Sheet4!$B$2:$B$8409,Sheet3!$A$3)","v":0},{"$f":"+SUMIFS(Sheet4!$DM$2:$DM$8409,Sheet4!$C$2:$C$8409,Sheet3!$B30,Sheet4!$D$2:$D$8409,Sheet3!AJ$3,Sheet4!$E$2:$E$8409,Sheet3!AJ$4,Sheet4!$A$2:$A$8409,Sheet3!$B$1,Sheet4!$B$2:$B$8409,Sheet3!$A$3)","v":0},{"$f":"+SUMIFS(Sheet4!$DM$2:$DM$8409,Sheet4!$C$2:$C$8409,Sheet3!$B30,Sheet4!$D$2:$D$8409,Sheet3!AK$3,Sheet4!$E$2:$E$8409,Sheet3!AK$4,Sheet4!$A$2:$A$8409,Sheet3!$B$1,Sheet4!$B$2:$B$8409,Sheet3!$A$3)","v":0},{"$f":"+SUMIFS(Sheet4!$DM$2:$DM$8409,Sheet4!$C$2:$C$8409,Sheet3!$B30,Sheet4!$D$2:$D$8409,Sheet3!AL$3,Sheet4!$E$2:$E$8409,Sheet3!AL$4,Sheet4!$A$2:$A$8409,Sheet3!$B$1,Sheet4!$B$2:$B$8409,Sheet3!$A$3)","v":0},{"$f":"+SUMIFS(Sheet4!$DM$2:$DM$8409,Sheet4!$C$2:$C$8409,Sheet3!$B30,Sheet4!$D$2:$D$8409,Sheet3!AM$3,Sheet4!$E$2:$E$8409,Sheet3!AM$4,Sheet4!$A$2:$A$8409,Sheet3!$B$1,Sheet4!$B$2:$B$8409,Sheet3!$A$3)","v":0},{"$f":"+SUMIFS(Sheet4!$DM$2:$DM$8409,Sheet4!$C$2:$C$8409,Sheet3!$B30,Sheet4!$D$2:$D$8409,Sheet3!AN$3,Sheet4!$E$2:$E$8409,Sheet3!AN$4,Sheet4!$A$2:$A$8409,Sheet3!$B$1,Sheet4!$B$2:$B$8409,Sheet3!$A$3)","v":0},{"$f":"+SUMIFS(Sheet4!$DM$2:$DM$8409,Sheet4!$C$2:$C$8409,Sheet3!$B30,Sheet4!$D$2:$D$8409,Sheet3!AO$3,Sheet4!$E$2:$E$8409,Sheet3!AO$4,Sheet4!$A$2:$A$8409,Sheet3!$B$1,Sheet4!$B$2:$B$8409,Sheet3!$A$3)","v":0},{"$f":"+SUMIFS(Sheet4!$DM$2:$DM$8409,Sheet4!$C$2:$C$8409,Sheet3!$B30,Sheet4!$D$2:$D$8409,Sheet3!AP$3,Sheet4!$E$2:$E$8409,Sheet3!AP$4,Sheet4!$A$2:$A$8409,Sheet3!$B$1,Sheet4!$B$2:$B$8409,Sheet3!$A$3)","v":0},{"$f":"+SUMIFS(Sheet4!$DM$2:$DM$8409,Sheet4!$C$2:$C$8409,Sheet3!$B30,Sheet4!$D$2:$D$8409,Sheet3!AQ$3,Sheet4!$E$2:$E$8409,Sheet3!AQ$4,Sheet4!$A$2:$A$8409,Sheet3!$B$1,Sheet4!$B$2:$B$8409,Sheet3!$A$3)","v":0},{"$f":"+SUMIFS(Sheet4!$DM$2:$DM$8409,Sheet4!$C$2:$C$8409,Sheet3!$B30,Sheet4!$D$2:$D$8409,Sheet3!AR$3,Sheet4!$E$2:$E$8409,Sheet3!AR$4,Sheet4!$A$2:$A$8409,Sheet3!$B$1,Sheet4!$B$2:$B$8409,Sheet3!$A$3)","v":0},{"$f":"+SUMIFS(Sheet4!$DM$2:$DM$8409,Sheet4!$C$2:$C$8409,Sheet3!$B30,Sheet4!$D$2:$D$8409,Sheet3!AS$3,Sheet4!$E$2:$E$8409,Sheet3!AS$4,Sheet4!$A$2:$A$8409,Sheet3!$B$1,Sheet4!$B$2:$B$8409,Sheet3!$A$3)","v":0},{"$f":"+SUMIFS(Sheet4!$DM$2:$DM$8409,Sheet4!$C$2:$C$8409,Sheet3!$B30,Sheet4!$D$2:$D$8409,Sheet3!AT$3,Sheet4!$E$2:$E$8409,Sheet3!AT$4,Sheet4!$A$2:$A$8409,Sheet3!$B$1,Sheet4!$B$2:$B$8409,Sheet3!$A$3)","v":0},{"$f":"+SUMIFS(Sheet4!$DM$2:$DM$8409,Sheet4!$C$2:$C$8409,Sheet3!$B30,Sheet4!$D$2:$D$8409,Sheet3!AU$3,Sheet4!$E$2:$E$8409,Sheet3!AU$4,Sheet4!$A$2:$A$8409,Sheet3!$B$1,Sheet4!$B$2:$B$8409,Sheet3!$A$3)","v":0},{"$f":"+SUMIFS(Sheet4!$DM$2:$DM$8409,Sheet4!$C$2:$C$8409,Sheet3!$B30,Sheet4!$D$2:$D$8409,Sheet3!AV$3,Sheet4!$E$2:$E$8409,Sheet3!AV$4,Sheet4!$A$2:$A$8409,Sheet3!$B$1,Sheet4!$B$2:$B$8409,Sheet3!$A$3)","v":0},{"$f":"+SUMIFS(Sheet4!$DM$2:$DM$8409,Sheet4!$C$2:$C$8409,Sheet3!$B30,Sheet4!$D$2:$D$8409,Sheet3!AW$3,Sheet4!$E$2:$E$8409,Sheet3!AW$4,Sheet4!$A$2:$A$8409,Sheet3!$B$1,Sheet4!$B$2:$B$8409,Sheet3!$A$3)","v":0},{"$f":"+SUMIFS(Sheet4!$DM$2:$DM$8409,Sheet4!$C$2:$C$8409,Sheet3!$B30,Sheet4!$D$2:$D$8409,Sheet3!AX$3,Sheet4!$E$2:$E$8409,Sheet3!AX$4,Sheet4!$A$2:$A$8409,Sheet3!$B$1,Sheet4!$B$2:$B$8409,Sheet3!$A$3)","v":0},{"$f":"+SUMIFS(Sheet4!$DM$2:$DM$8409,Sheet4!$C$2:$C$8409,Sheet3!$B30,Sheet4!$D$2:$D$8409,Sheet3!AY$3,Sheet4!$E$2:$E$8409,Sheet3!AY$4,Sheet4!$A$2:$A$8409,Sheet3!$B$1,Sheet4!$B$2:$B$8409,Sheet3!$A$3)","v":0},{"$f":"+SUMIFS(Sheet4!$DM$2:$DM$8409,Sheet4!$C$2:$C$8409,Sheet3!$B30,Sheet4!$D$2:$D$8409,Sheet3!AZ$3,Sheet4!$E$2:$E$8409,Sheet3!AZ$4,Sheet4!$A$2:$A$8409,Sheet3!$B$1,Sheet4!$B$2:$B$8409,Sheet3!$A$3)","v":0},{"$f":"+SUMIFS(Sheet4!$DM$2:$DM$8409,Sheet4!$C$2:$C$8409,Sheet3!$B30,Sheet4!$D$2:$D$8409,Sheet3!BA$3,Sheet4!$E$2:$E$8409,Sheet3!BA$4,Sheet4!$A$2:$A$8409,Sheet3!$B$1,Sheet4!$B$2:$B$8409,Sheet3!$A$3)","v":0},{"$f":"+SUMIFS(Sheet4!$DM$2:$DM$8409,Sheet4!$C$2:$C$8409,Sheet3!$B30,Sheet4!$D$2:$D$8409,Sheet3!BB$3,Sheet4!$E$2:$E$8409,Sheet3!BB$4,Sheet4!$A$2:$A$8409,Sheet3!$B$1,Sheet4!$B$2:$B$8409,Sheet3!$A$3)","v":0},{"$f":"+SUMIFS(Sheet4!$DM$2:$DM$8409,Sheet4!$C$2:$C$8409,Sheet3!$B30,Sheet4!$D$2:$D$8409,Sheet3!BC$3,Sheet4!$E$2:$E$8409,Sheet3!BC$4,Sheet4!$A$2:$A$8409,Sheet3!$B$1,Sheet4!$B$2:$B$8409,Sheet3!$A$3)","v":0},{"$f":"+SUMIFS(Sheet4!$DM$2:$DM$8409,Sheet4!$C$2:$C$8409,Sheet3!$B30,Sheet4!$D$2:$D$8409,Sheet3!BD$3,Sheet4!$E$2:$E$8409,Sheet3!BD$4,Sheet4!$A$2:$A$8409,Sheet3!$B$1,Sheet4!$B$2:$B$8409,Sheet3!$A$3)","v":0},{"$f":"+SUMIFS(Sheet4!$DM$2:$DM$8409,Sheet4!$C$2:$C$8409,Sheet3!$B30,Sheet4!$D$2:$D$8409,Sheet3!BE$3,Sheet4!$E$2:$E$8409,Sheet3!BE$4,Sheet4!$A$2:$A$8409,Sheet3!$B$1,Sheet4!$B$2:$B$8409,Sheet3!$A$3)","v":0},{"$f":"+SUMIFS(Sheet4!$DM$2:$DM$8409,Sheet4!$C$2:$C$8409,Sheet3!$B30,Sheet4!$D$2:$D$8409,Sheet3!BF$3,Sheet4!$E$2:$E$8409,Sheet3!BF$4,Sheet4!$A$2:$A$8409,Sheet3!$B$1,Sheet4!$B$2:$B$8409,Sheet3!$A$3)","v":0},{"$f":"+SUMIFS(Sheet4!$DM$2:$DM$8409,Sheet4!$C$2:$C$8409,Sheet3!$B30,Sheet4!$D$2:$D$8409,Sheet3!BG$3,Sheet4!$E$2:$E$8409,Sheet3!BG$4,Sheet4!$A$2:$A$8409,Sheet3!$B$1,Sheet4!$B$2:$B$8409,Sheet3!$A$3)","v":0},{"$f":"+SUMIFS(Sheet4!$DM$2:$DM$8409,Sheet4!$C$2:$C$8409,Sheet3!$B30,Sheet4!$D$2:$D$8409,Sheet3!BH$3,Sheet4!$E$2:$E$8409,Sheet3!BH$4,Sheet4!$A$2:$A$8409,Sheet3!$B$1,Sheet4!$B$2:$B$8409,Sheet3!$A$3)","v":0},{"$f":"+SUMIFS(Sheet4!$DM$2:$DM$8409,Sheet4!$C$2:$C$8409,Sheet3!$B30,Sheet4!$D$2:$D$8409,Sheet3!BI$3,Sheet4!$E$2:$E$8409,Sheet3!BI$4,Sheet4!$A$2:$A$8409,Sheet3!$B$1,Sheet4!$B$2:$B$8409,Sheet3!$A$3)","v":0},{"$f":"+SUMIFS(Sheet4!$DM$2:$DM$8409,Sheet4!$C$2:$C$8409,Sheet3!$B30,Sheet4!$D$2:$D$8409,Sheet3!BJ$3,Sheet4!$E$2:$E$8409,Sheet3!BJ$4,Sheet4!$A$2:$A$8409,Sheet3!$B$1,Sheet4!$B$2:$B$8409,Sheet3!$A$3)","v":0},{"$f":"+SUMIFS(Sheet4!$DM$2:$DM$8409,Sheet4!$C$2:$C$8409,Sheet3!$B30,Sheet4!$D$2:$D$8409,Sheet3!BK$3,Sheet4!$E$2:$E$8409,Sheet3!BK$4,Sheet4!$A$2:$A$8409,Sheet3!$B$1,Sheet4!$B$2:$B$8409,Sheet3!$A$3)","v":0},{"$f":"+SUMIFS(Sheet4!$DM$2:$DM$8409,Sheet4!$C$2:$C$8409,Sheet3!$B30,Sheet4!$D$2:$D$8409,Sheet3!BL$3,Sheet4!$E$2:$E$8409,Sheet3!BL$4,Sheet4!$A$2:$A$8409,Sheet3!$B$1,Sheet4!$B$2:$B$8409,Sheet3!$A$3)","v":0},{"$f":"+SUMIFS(Sheet4!$DM$2:$DM$8409,Sheet4!$C$2:$C$8409,Sheet3!$B30,Sheet4!$D$2:$D$8409,Sheet3!BM$3,Sheet4!$E$2:$E$8409,Sheet3!BM$4,Sheet4!$A$2:$A$8409,Sheet3!$B$1,Sheet4!$B$2:$B$8409,Sheet3!$A$3)","v":0},{"$f":"+SUMIFS(Sheet4!$DM$2:$DM$8409,Sheet4!$C$2:$C$8409,Sheet3!$B30,Sheet4!$D$2:$D$8409,Sheet3!BN$3,Sheet4!$E$2:$E$8409,Sheet3!BN$4,Sheet4!$A$2:$A$8409,Sheet3!$B$1,Sheet4!$B$2:$B$8409,Sheet3!$A$3)","v":0},{"$f":"+SUMIFS(Sheet4!$DM$2:$DM$8409,Sheet4!$C$2:$C$8409,Sheet3!$B30,Sheet4!$D$2:$D$8409,Sheet3!BO$3,Sheet4!$E$2:$E$8409,Sheet3!BO$4,Sheet4!$A$2:$A$8409,Sheet3!$B$1,Sheet4!$B$2:$B$8409,Sheet3!$A$3)","v":0},{"$f":"+SUMIFS(Sheet4!$DM$2:$DM$8409,Sheet4!$C$2:$C$8409,Sheet3!$B30,Sheet4!$D$2:$D$8409,Sheet3!BP$3,Sheet4!$E$2:$E$8409,Sheet3!BP$4,Sheet4!$A$2:$A$8409,Sheet3!$B$1,Sheet4!$B$2:$B$8409,Sheet3!$A$3)","v":0},{"$f":"+SUMIFS(Sheet4!$DM$2:$DM$8409,Sheet4!$C$2:$C$8409,Sheet3!$B30,Sheet4!$D$2:$D$8409,Sheet3!BQ$3,Sheet4!$E$2:$E$8409,Sheet3!BQ$4,Sheet4!$A$2:$A$8409,Sheet3!$B$1,Sheet4!$B$2:$B$8409,Sheet3!$A$3)","v":0},{"$f":"+SUMIFS(Sheet4!$DM$2:$DM$8409,Sheet4!$C$2:$C$8409,Sheet3!$B30,Sheet4!$D$2:$D$8409,Sheet3!BR$3,Sheet4!$E$2:$E$8409,Sheet3!BR$4,Sheet4!$A$2:$A$8409,Sheet3!$B$1,Sheet4!$B$2:$B$8409,Sheet3!$A$3)","v":0},{"$f":"+SUMIFS(Sheet4!$DM$2:$DM$8409,Sheet4!$C$2:$C$8409,Sheet3!$B30,Sheet4!$D$2:$D$8409,Sheet3!BS$3,Sheet4!$E$2:$E$8409,Sheet3!BS$4,Sheet4!$A$2:$A$8409,Sheet3!$B$1,Sheet4!$B$2:$B$8409,Sheet3!$A$3)","v":77},{"$f":"+SUMIFS(Sheet4!$DM$2:$DM$8409,Sheet4!$C$2:$C$8409,Sheet3!$B30,Sheet4!$D$2:$D$8409,Sheet3!BT$3,Sheet4!$E$2:$E$8409,Sheet3!BT$4,Sheet4!$A$2:$A$8409,Sheet3!$B$1,Sheet4!$B$2:$B$8409,Sheet3!$A$3)","v":0},{"$f":"+SUMIFS(Sheet4!$DM$2:$DM$8409,Sheet4!$C$2:$C$8409,Sheet3!$B30,Sheet4!$D$2:$D$8409,Sheet3!BU$3,Sheet4!$E$2:$E$8409,Sheet3!BU$4,Sheet4!$A$2:$A$8409,Sheet3!$B$1,Sheet4!$B$2:$B$8409,Sheet3!$A$3)","v":0},{"$f":"+SUMIFS(Sheet4!$DM$2:$DM$8409,Sheet4!$C$2:$C$8409,Sheet3!$B30,Sheet4!$D$2:$D$8409,Sheet3!BV$3,Sheet4!$E$2:$E$8409,Sheet3!BV$4,Sheet4!$A$2:$A$8409,Sheet3!$B$1,Sheet4!$B$2:$B$8409,Sheet3!$A$3)","v":0},{"$f":"+SUMIFS(Sheet4!$DM$2:$DM$8409,Sheet4!$C$2:$C$8409,Sheet3!$B30,Sheet4!$D$2:$D$8409,Sheet3!BW$3,Sheet4!$E$2:$E$8409,Sheet3!BW$4,Sheet4!$A$2:$A$8409,Sheet3!$B$1,Sheet4!$B$2:$B$8409,Sheet3!$A$3)","v":0},{"$f":"+SUMIFS(Sheet4!$DM$2:$DM$8409,Sheet4!$C$2:$C$8409,Sheet3!$B30,Sheet4!$D$2:$D$8409,Sheet3!BX$3,Sheet4!$E$2:$E$8409,Sheet3!BX$4,Sheet4!$A$2:$A$8409,Sheet3!$B$1,Sheet4!$B$2:$B$8409,Sheet3!$A$3)","v":0},{"$f":"+SUMIFS(Sheet4!$DM$2:$DM$8409,Sheet4!$C$2:$C$8409,Sheet3!$B30,Sheet4!$D$2:$D$8409,Sheet3!BY$3,Sheet4!$E$2:$E$8409,Sheet3!BY$4,Sheet4!$A$2:$A$8409,Sheet3!$B$1,Sheet4!$B$2:$B$8409,Sheet3!$A$3)","v":873.2},{"$f":"+SUMIFS(Sheet4!$DM$2:$DM$8409,Sheet4!$C$2:$C$8409,Sheet3!$B30,Sheet4!$D$2:$D$8409,Sheet3!BZ$3,Sheet4!$E$2:$E$8409,Sheet3!BZ$4,Sheet4!$A$2:$A$8409,Sheet3!$B$1,Sheet4!$B$2:$B$8409,Sheet3!$A$3)","v":0},{"$f":"+SUMIFS(Sheet4!$DM$2:$DM$8409,Sheet4!$C$2:$C$8409,Sheet3!$B30,Sheet4!$D$2:$D$8409,Sheet3!CA$3,Sheet4!$E$2:$E$8409,Sheet3!CA$4,Sheet4!$A$2:$A$8409,Sheet3!$B$1,Sheet4!$B$2:$B$8409,Sheet3!$A$3)","v":0},{"$f":"+SUMIFS(Sheet4!$DM$2:$DM$8409,Sheet4!$C$2:$C$8409,Sheet3!$B30,Sheet4!$D$2:$D$8409,Sheet3!CB$3,Sheet4!$E$2:$E$8409,Sheet3!CB$4,Sheet4!$A$2:$A$8409,Sheet3!$B$1,Sheet4!$B$2:$B$8409,Sheet3!$A$3)","v":0},{"$f":"+SUMIFS(Sheet4!$DM$2:$DM$8409,Sheet4!$C$2:$C$8409,Sheet3!$B30,Sheet4!$D$2:$D$8409,Sheet3!CC$3,Sheet4!$E$2:$E$8409,Sheet3!CC$4,Sheet4!$A$2:$A$8409,Sheet3!$B$1,Sheet4!$B$2:$B$8409,Sheet3!$A$3)","v":0},{"$f":"+SUMIFS(Sheet4!$DM$2:$DM$8409,Sheet4!$C$2:$C$8409,Sheet3!$B30,Sheet4!$D$2:$D$8409,Sheet3!CD$3,Sheet4!$E$2:$E$8409,Sheet3!CD$4,Sheet4!$A$2:$A$8409,Sheet3!$B$1,Sheet4!$B$2:$B$8409,Sheet3!$A$3)","v":0},{"$f":"+SUMIFS(Sheet4!$DM$2:$DM$8409,Sheet4!$C$2:$C$8409,Sheet3!$B30,Sheet4!$D$2:$D$8409,Sheet3!CE$3,Sheet4!$E$2:$E$8409,Sheet3!CE$4,Sheet4!$A$2:$A$8409,Sheet3!$B$1,Sheet4!$B$2:$B$8409,Sheet3!$A$3)","v":0},{"$f":"+SUMIFS(Sheet4!$DM$2:$DM$8409,Sheet4!$C$2:$C$8409,Sheet3!$B30,Sheet4!$D$2:$D$8409,Sheet3!CF$3,Sheet4!$E$2:$E$8409,Sheet3!CF$4,Sheet4!$A$2:$A$8409,Sheet3!$B$1,Sheet4!$B$2:$B$8409,Sheet3!$A$3)","v":0},{"$f":"+SUMIFS(Sheet4!$DM$2:$DM$8409,Sheet4!$C$2:$C$8409,Sheet3!$B30,Sheet4!$D$2:$D$8409,Sheet3!CG$3,Sheet4!$E$2:$E$8409,Sheet3!CG$4,Sheet4!$A$2:$A$8409,Sheet3!$B$1,Sheet4!$B$2:$B$8409,Sheet3!$A$3)","v":0},{"$f":"+SUMIFS(Sheet4!$DM$2:$DM$8409,Sheet4!$C$2:$C$8409,Sheet3!$B30,Sheet4!$D$2:$D$8409,Sheet3!CH$3,Sheet4!$E$2:$E$8409,Sheet3!CH$4,Sheet4!$A$2:$A$8409,Sheet3!$B$1,Sheet4!$B$2:$B$8409,Sheet3!$A$3)","v":0},{"$f":"+SUMIFS(Sheet4!$DM$2:$DM$8409,Sheet4!$C$2:$C$8409,Sheet3!$B30,Sheet4!$D$2:$D$8409,Sheet3!CI$3,Sheet4!$E$2:$E$8409,Sheet3!CI$4,Sheet4!$A$2:$A$8409,Sheet3!$B$1,Sheet4!$B$2:$B$8409,Sheet3!$A$3)","v":0},{"$f":"+SUMIFS(Sheet4!$DM$2:$DM$8409,Sheet4!$C$2:$C$8409,Sheet3!$B30,Sheet4!$D$2:$D$8409,Sheet3!CJ$3,Sheet4!$E$2:$E$8409,Sheet3!CJ$4,Sheet4!$A$2:$A$8409,Sheet3!$B$1,Sheet4!$B$2:$B$8409,Sheet3!$A$3)","v":0},{"$f":"+SUMIFS(Sheet4!$DM$2:$DM$8409,Sheet4!$C$2:$C$8409,Sheet3!$B30,Sheet4!$D$2:$D$8409,Sheet3!CK$3,Sheet4!$E$2:$E$8409,Sheet3!CK$4,Sheet4!$A$2:$A$8409,Sheet3!$B$1,Sheet4!$B$2:$B$8409,Sheet3!$A$3)","v":0},{"$f":"+SUMIFS(Sheet4!$DM$2:$DM$8409,Sheet4!$C$2:$C$8409,Sheet3!$B30,Sheet4!$D$2:$D$8409,Sheet3!CL$3,Sheet4!$E$2:$E$8409,Sheet3!CL$4,Sheet4!$A$2:$A$8409,Sheet3!$B$1,Sheet4!$B$2:$B$8409,Sheet3!$A$3)","v":0},{"$f":"+SUMIFS(Sheet4!$DM$2:$DM$8409,Sheet4!$C$2:$C$8409,Sheet3!$B30,Sheet4!$D$2:$D$8409,Sheet3!CM$3,Sheet4!$E$2:$E$8409,Sheet3!CM$4,Sheet4!$A$2:$A$8409,Sheet3!$B$1,Sheet4!$B$2:$B$8409,Sheet3!$A$3)","v":0},{"$f":"+SUMIFS(Sheet4!$DM$2:$DM$8409,Sheet4!$C$2:$C$8409,Sheet3!$B30,Sheet4!$D$2:$D$8409,Sheet3!CN$3,Sheet4!$E$2:$E$8409,Sheet3!CN$4,Sheet4!$A$2:$A$8409,Sheet3!$B$1,Sheet4!$B$2:$B$8409,Sheet3!$A$3)","v":0},{"$f":"+SUMIFS(Sheet4!$DM$2:$DM$8409,Sheet4!$C$2:$C$8409,Sheet3!$B30,Sheet4!$D$2:$D$8409,Sheet3!CO$3,Sheet4!$E$2:$E$8409,Sheet3!CO$4,Sheet4!$A$2:$A$8409,Sheet3!$B$1,Sheet4!$B$2:$B$8409,Sheet3!$A$3)","v":0},{"$f":"+SUMIFS(Sheet4!$DM$2:$DM$8409,Sheet4!$C$2:$C$8409,Sheet3!$B30,Sheet4!$D$2:$D$8409,Sheet3!CP$3,Sheet4!$E$2:$E$8409,Sheet3!CP$4,Sheet4!$A$2:$A$8409,Sheet3!$B$1,Sheet4!$B$2:$B$8409,Sheet3!$A$3)","v":0},{"$f":"+SUMIFS(Sheet4!$DM$2:$DM$8409,Sheet4!$C$2:$C$8409,Sheet3!$B30,Sheet4!$D$2:$D$8409,Sheet3!CQ$3,Sheet4!$E$2:$E$8409,Sheet3!CQ$4,Sheet4!$A$2:$A$8409,Sheet3!$B$1,Sheet4!$B$2:$B$8409,Sheet3!$A$3)","v":0},{"$f":"+SUMIFS(Sheet4!$DM$2:$DM$8409,Sheet4!$C$2:$C$8409,Sheet3!$B30,Sheet4!$D$2:$D$8409,Sheet3!CR$3,Sheet4!$E$2:$E$8409,Sheet3!CR$4,Sheet4!$A$2:$A$8409,Sheet3!$B$1,Sheet4!$B$2:$B$8409,Sheet3!$A$3)","v":0},{"$f":"+SUMIFS(Sheet4!$DM$2:$DM$8409,Sheet4!$C$2:$C$8409,Sheet3!$B30,Sheet4!$D$2:$D$8409,Sheet3!CS$3,Sheet4!$E$2:$E$8409,Sheet3!CS$4,Sheet4!$A$2:$A$8409,Sheet3!$B$1,Sheet4!$B$2:$B$8409,Sheet3!$A$3)","v":0},{"$f":"+SUMIFS(Sheet4!$DM$2:$DM$8409,Sheet4!$C$2:$C$8409,Sheet3!$B30,Sheet4!$D$2:$D$8409,Sheet3!CT$3,Sheet4!$E$2:$E$8409,Sheet3!CT$4,Sheet4!$A$2:$A$8409,Sheet3!$B$1,Sheet4!$B$2:$B$8409,Sheet3!$A$3)","v":0},{"$f":"+IF(SUMIFS(Sheet4!$DN$2:$DN$8409,Sheet4!$C$2:$C$8409,Sheet3!$B30,Sheet4!$D$2:$D$8409,Sheet3!CU$3,Sheet4!$A$2:$A$8409,Sheet3!$B$1,Sheet4!$B$2:$B$8409,Sheet3!$A$3)<3,0,SUMIFS(Sheet4!$DN$2:$DN$8409,Sheet4!$C$2:$C$8409,Sheet3!$B30,Sheet4!$D$2:$D$8409,Sheet3!CU$3,Sheet4!$A$2:$A$8409,Sheet3!$B$1,Sheet4!$B$2:$B$8409,Sheet3!$A$3))","v":0},{"$f":"+IF(SUMIFS(Sheet4!$DN$2:$DN$8409,Sheet4!$C$2:$C$8409,Sheet3!$B30,Sheet4!$D$2:$D$8409,Sheet3!CV$3,Sheet4!$A$2:$A$8409,Sheet3!$B$1,Sheet4!$B$2:$B$8409,Sheet3!$A$3)<3,0,SUMIFS(Sheet4!$DN$2:$DN$8409,Sheet4!$C$2:$C$8409,Sheet3!$B30,Sheet4!$D$2:$D$8409,Sheet3!CV$3,Sheet4!$A$2:$A$8409,Sheet3!$B$1,Sheet4!$B$2:$B$8409,Sheet3!$A$3))","v":0},{"$f":"+IF(SUMIFS(Sheet4!$DN$2:$DN$8409,Sheet4!$C$2:$C$8409,Sheet3!$B30,Sheet4!$D$2:$D$8409,Sheet3!CW$3,Sheet4!$A$2:$A$8409,Sheet3!$B$1,Sheet4!$B$2:$B$8409,Sheet3!$A$3)<3,0,SUMIFS(Sheet4!$DN$2:$DN$8409,Sheet4!$C$2:$C$8409,Sheet3!$B30,Sheet4!$D$2:$D$8409,Sheet3!CW$3,Sheet4!$A$2:$A$8409,Sheet3!$B$1,Sheet4!$B$2:$B$8409,Sheet3!$A$3))","v":0},{"$f":"+IF(SUMIFS(Sheet4!$DN$2:$DN$8409,Sheet4!$C$2:$C$8409,Sheet3!$B30,Sheet4!$D$2:$D$8409,Sheet3!CX$3,Sheet4!$A$2:$A$8409,Sheet3!$B$1,Sheet4!$B$2:$B$8409,Sheet3!$A$3)<3,0,SUMIFS(Sheet4!$DN$2:$DN$8409,Sheet4!$C$2:$C$8409,Sheet3!$B30,Sheet4!$D$2:$D$8409,Sheet3!CX$3,Sheet4!$A$2:$A$8409,Sheet3!$B$1,Sheet4!$B$2:$B$8409,Sheet3!$A$3))","v":0},{"$f":"+IF(SUMIFS(Sheet4!$DN$2:$DN$8409,Sheet4!$C$2:$C$8409,Sheet3!$B30,Sheet4!$D$2:$D$8409,Sheet3!CY$3,Sheet4!$A$2:$A$8409,Sheet3!$B$1,Sheet4!$B$2:$B$8409,Sheet3!$A$3)<3,0,SUMIFS(Sheet4!$DN$2:$DN$8409,Sheet4!$C$2:$C$8409,Sheet3!$B30,Sheet4!$D$2:$D$8409,Sheet3!CY$3,Sheet4!$A$2:$A$8409,Sheet3!$B$1,Sheet4!$B$2:$B$8409,Sheet3!$A$3))","v":0},{"$f":"+IF(SUMIFS(Sheet4!$DN$2:$DN$8409,Sheet4!$C$2:$C$8409,Sheet3!$B30,Sheet4!$D$2:$D$8409,Sheet3!CZ$3,Sheet4!$A$2:$A$8409,Sheet3!$B$1,Sheet4!$B$2:$B$8409,Sheet3!$A$3)<3,0,SUMIFS(Sheet4!$DN$2:$DN$8409,Sheet4!$C$2:$C$8409,Sheet3!$B30,Sheet4!$D$2:$D$8409,Sheet3!CZ$3,Sheet4!$A$2:$A$8409,Sheet3!$B$1,Sheet4!$B$2:$B$8409,Sheet3!$A$3))","v":0},{"$f":"+IF(SUMIFS(Sheet4!$DN$2:$DN$8409,Sheet4!$C$2:$C$8409,Sheet3!$B30,Sheet4!$D$2:$D$8409,Sheet3!DA$3,Sheet4!$A$2:$A$8409,Sheet3!$B$1,Sheet4!$B$2:$B$8409,Sheet3!$A$3)<3,0,SUMIFS(Sheet4!$DN$2:$DN$8409,Sheet4!$C$2:$C$8409,Sheet3!$B30,Sheet4!$D$2:$D$8409,Sheet3!DA$3,Sheet4!$A$2:$A$8409,Sheet3!$B$1,Sheet4!$B$2:$B$8409,Sheet3!$A$3))","v":0},{"$f":"+IF(SUMIFS(Sheet4!$DN$2:$DN$8409,Sheet4!$C$2:$C$8409,Sheet3!$B30,Sheet4!$D$2:$D$8409,Sheet3!DB$3,Sheet4!$A$2:$A$8409,Sheet3!$B$1,Sheet4!$B$2:$B$8409,Sheet3!$A$3)<3,0,SUMIFS(Sheet4!$DN$2:$DN$8409,Sheet4!$C$2:$C$8409,Sheet3!$B30,Sheet4!$D$2:$D$8409,Sheet3!DB$3,Sheet4!$A$2:$A$8409,Sheet3!$B$1,Sheet4!$B$2:$B$8409,Sheet3!$A$3))","v":0},{"$f":"+IF(SUMIFS(Sheet4!$DN$2:$DN$8409,Sheet4!$C$2:$C$8409,Sheet3!$B30,Sheet4!$D$2:$D$8409,Sheet3!DC$3,Sheet4!$A$2:$A$8409,Sheet3!$B$1,Sheet4!$B$2:$B$8409,Sheet3!$A$3)<3,0,SUMIFS(Sheet4!$DN$2:$DN$8409,Sheet4!$C$2:$C$8409,Sheet3!$B30,Sheet4!$D$2:$D$8409,Sheet3!DC$3,Sheet4!$A$2:$A$8409,Sheet3!$B$1,Sheet4!$B$2:$B$8409,Sheet3!$A$3))","v":0},{"$f":"+IF(SUMIFS(Sheet4!$DN$2:$DN$8409,Sheet4!$C$2:$C$8409,Sheet3!$B30,Sheet4!$D$2:$D$8409,Sheet3!DD$3,Sheet4!$A$2:$A$8409,Sheet3!$B$1,Sheet4!$B$2:$B$8409,Sheet3!$A$3)<3,0,SUMIFS(Sheet4!$DN$2:$DN$8409,Sheet4!$C$2:$C$8409,Sheet3!$B30,Sheet4!$D$2:$D$8409,Sheet3!DD$3,Sheet4!$A$2:$A$8409,Sheet3!$B$1,Sheet4!$B$2:$B$8409,Sheet3!$A$3))","v":0},{"$f":"+IF(SUMIFS(Sheet4!$DN$2:$DN$8409,Sheet4!$C$2:$C$8409,Sheet3!$B30,Sheet4!$D$2:$D$8409,Sheet3!DE$3,Sheet4!$A$2:$A$8409,Sheet3!$B$1,Sheet4!$B$2:$B$8409,Sheet3!$A$3)<3,0,SUMIFS(Sheet4!$DN$2:$DN$8409,Sheet4!$C$2:$C$8409,Sheet3!$B30,Sheet4!$D$2:$D$8409,Sheet3!DE$3,Sheet4!$A$2:$A$8409,Sheet3!$B$1,Sheet4!$B$2:$B$8409,Sheet3!$A$3))","v":0},{"$f":"+IF(SUMIFS(Sheet4!$DN$2:$DN$8409,Sheet4!$C$2:$C$8409,Sheet3!$B30,Sheet4!$D$2:$D$8409,Sheet3!DF$3,Sheet4!$A$2:$A$8409,Sheet3!$B$1,Sheet4!$B$2:$B$8409,Sheet3!$A$3)<3,0,SUMIFS(Sheet4!$DN$2:$DN$8409,Sheet4!$C$2:$C$8409,Sheet3!$B30,Sheet4!$D$2:$D$8409,Sheet3!DF$3,Sheet4!$A$2:$A$8409,Sheet3!$B$1,Sheet4!$B$2:$B$8409,Sheet3!$A$3))","v":0},{"$f":"+IF(SUMIFS(Sheet4!$DN$2:$DN$8409,Sheet4!$C$2:$C$8409,Sheet3!$B30,Sheet4!$D$2:$D$8409,Sheet3!DG$3,Sheet4!$A$2:$A$8409,Sheet3!$B$1,Sheet4!$B$2:$B$8409,Sheet3!$A$3)<3,0,SUMIFS(Sheet4!$DN$2:$DN$8409,Sheet4!$C$2:$C$8409,Sheet3!$B30,Sheet4!$D$2:$D$8409,Sheet3!DG$3,Sheet4!$A$2:$A$8409,Sheet3!$B$1,Sheet4!$B$2:$B$8409,Sheet3!$A$3))","v":0},{"$f":"+IF(SUMIFS(Sheet4!$DN$2:$DN$8409,Sheet4!$C$2:$C$8409,Sheet3!$B30,Sheet4!$D$2:$D$8409,Sheet3!DH$3,Sheet4!$A$2:$A$8409,Sheet3!$B$1,Sheet4!$B$2:$B$8409,Sheet3!$A$3)<3,0,SUMIFS(Sheet4!$DN$2:$DN$8409,Sheet4!$C$2:$C$8409,Sheet3!$B30,Sheet4!$D$2:$D$8409,Sheet3!DH$3,Sheet4!$A$2:$A$8409,Sheet3!$B$1,Sheet4!$B$2:$B$8409,Sheet3!$A$3))","v":77},{"$f":"+IF(SUMIFS(Sheet4!$DN$2:$DN$8409,Sheet4!$C$2:$C$8409,Sheet3!$B30,Sheet4!$D$2:$D$8409,Sheet3!DI$3,Sheet4!$A$2:$A$8409,Sheet3!$B$1,Sheet4!$B$2:$B$8409,Sheet3!$A$3)<3,0,SUMIFS(Sheet4!$DN$2:$DN$8409,Sheet4!$C$2:$C$8409,Sheet3!$B30,Sheet4!$D$2:$D$8409,Sheet3!DI$3,Sheet4!$A$2:$A$8409,Sheet3!$B$1,Sheet4!$B$2:$B$8409,Sheet3!$A$3))","v":873.2},{"$f":"+IF(SUMIFS(Sheet4!$DN$2:$DN$8409,Sheet4!$C$2:$C$8409,Sheet3!$B30,Sheet4!$D$2:$D$8409,Sheet3!DJ$3,Sheet4!$A$2:$A$8409,Sheet3!$B$1,Sheet4!$B$2:$B$8409,Sheet3!$A$3)<3,0,SUMIFS(Sheet4!$DN$2:$DN$8409,Sheet4!$C$2:$C$8409,Sheet3!$B30,Sheet4!$D$2:$D$8409,Sheet3!DJ$3,Sheet4!$A$2:$A$8409,Sheet3!$B$1,Sheet4!$B$2:$B$8409,Sheet3!$A$3))","v":0},{"$f":"+IF(SUMIFS(Sheet4!$DN$2:$DN$8409,Sheet4!$C$2:$C$8409,Sheet3!$B30,Sheet4!$D$2:$D$8409,Sheet3!DK$3,Sheet4!$A$2:$A$8409,Sheet3!$B$1,Sheet4!$B$2:$B$8409,Sheet3!$A$3)<3,0,SUMIFS(Sheet4!$DN$2:$DN$8409,Sheet4!$C$2:$C$8409,Sheet3!$B30,Sheet4!$D$2:$D$8409,Sheet3!DK$3,Sheet4!$A$2:$A$8409,Sheet3!$B$1,Sheet4!$B$2:$B$8409,Sheet3!$A$3))","v":0},{"$f":"+IF(SUMIFS(Sheet4!$DN$2:$DN$8409,Sheet4!$C$2:$C$8409,Sheet3!$B30,Sheet4!$D$2:$D$8409,Sheet3!DL$3,Sheet4!$A$2:$A$8409,Sheet3!$B$1,Sheet4!$B$2:$B$8409,Sheet3!$A$3)<3,0,SUMIFS(Sheet4!$DN$2:$DN$8409,Sheet4!$C$2:$C$8409,Sheet3!$B30,Sheet4!$D$2:$D$8409,Sheet3!DL$3,Sheet4!$A$2:$A$8409,Sheet3!$B$1,Sheet4!$B$2:$B$8409,Sheet3!$A$3))","v":0},{"$f":"+IF(SUMIFS(Sheet4!$DN$2:$DN$8409,Sheet4!$C$2:$C$8409,Sheet3!$B30,Sheet4!$D$2:$D$8409,Sheet3!DM$3,Sheet4!$A$2:$A$8409,Sheet3!$B$1,Sheet4!$B$2:$B$8409,Sheet3!$A$3)<3,0,SUMIFS(Sheet4!$DN$2:$DN$8409,Sheet4!$C$2:$C$8409,Sheet3!$B30,Sheet4!$D$2:$D$8409,Sheet3!DM$3,Sheet4!$A$2:$A$8409,Sheet3!$B$1,Sheet4!$B$2:$B$8409,Sheet3!$A$3))","v":0},{"$f":"+IF(SUMIFS(Sheet4!$DN$2:$DN$8409,Sheet4!$C$2:$C$8409,Sheet3!$B30,Sheet4!$E$2:$E$8409,Sheet3!DN$4,Sheet4!$A$2:$A$8409,Sheet3!$B$1,Sheet4!$B$2:$B$8409,Sheet3!$A$3)<3,0,SUMIFS(Sheet4!$DN$2:$DN$8409,Sheet4!$C$2:$C$8409,Sheet3!$B30,Sheet4!$E$2:$E$8409,Sheet3!DN$4,Sheet4!$A$2:$A$8409,Sheet3!$B$1,Sheet4!$B$2:$B$8409,Sheet3!$A$3))","v":0},{"$f":"+IF(SUMIFS(Sheet4!$DN$2:$DN$8409,Sheet4!$C$2:$C$8409,Sheet3!$B30,Sheet4!$E$2:$E$8409,Sheet3!DO$4,Sheet4!$A$2:$A$8409,Sheet3!$B$1,Sheet4!$B$2:$B$8409,Sheet3!$A$3)<3,0,SUMIFS(Sheet4!$DN$2:$DN$8409,Sheet4!$C$2:$C$8409,Sheet3!$B30,Sheet4!$E$2:$E$8409,Sheet3!DO$4,Sheet4!$A$2:$A$8409,Sheet3!$B$1,Sheet4!$B$2:$B$8409,Sheet3!$A$3))","v":0},{"$f":"+IF(SUMIFS(Sheet4!$DN$2:$DN$8409,Sheet4!$C$2:$C$8409,Sheet3!$B30,Sheet4!$E$2:$E$8409,Sheet3!DP$4,Sheet4!$A$2:$A$8409,Sheet3!$B$1,Sheet4!$B$2:$B$8409,Sheet3!$A$3)<3,0,SUMIFS(Sheet4!$DN$2:$DN$8409,Sheet4!$C$2:$C$8409,Sheet3!$B30,Sheet4!$E$2:$E$8409,Sheet3!DP$4,Sheet4!$A$2:$A$8409,Sheet3!$B$1,Sheet4!$B$2:$B$8409,Sheet3!$A$3))","v":77},{"$f":"+IF(SUMIFS(Sheet4!$DN$2:$DN$8409,Sheet4!$C$2:$C$8409,Sheet3!$B30,Sheet4!$E$2:$E$8409,Sheet3!DQ$4,Sheet4!$A$2:$A$8409,Sheet3!$B$1,Sheet4!$B$2:$B$8409,Sheet3!$A$3)<3,0,SUMIFS(Sheet4!$DN$2:$DN$8409,Sheet4!$C$2:$C$8409,Sheet3!$B30,Sheet4!$E$2:$E$8409,Sheet3!DQ$4,Sheet4!$A$2:$A$8409,Sheet3!$B$1,Sheet4!$B$2:$B$8409,Sheet3!$A$3))","v":873.2},{"$f":"+IF(SUMIFS(Sheet4!$DN$2:$DN$8409,Sheet4!$C$2:$C$8409,Sheet3!$B30,Sheet4!$E$2:$E$8409,Sheet3!DR$4,Sheet4!$A$2:$A$8409,Sheet3!$B$1,Sheet4!$B$2:$B$8409,Sheet3!$A$3)<3,0,SUMIFS(Sheet4!$DN$2:$DN$8409,Sheet4!$C$2:$C$8409,Sheet3!$B30,Sheet4!$E$2:$E$8409,Sheet3!DR$4,Sheet4!$A$2:$A$8409,Sheet3!$B$1,Sheet4!$B$2:$B$8409,Sheet3!$A$3))","v":0}]
["Continente",">999",null,{"$f":"+SUMIFS(Sheet4!$DN$2:$DN$8409,Sheet4!$D$2:$D$8409,Sheet3!D$3,Sheet4!$E$2:$E$8409,Sheet3!D$4,Sheet4!$A$2:$A$8409,Sheet3!$B$1,Sheet4!$B$2:$B$8409,Sheet3!$A$3)","v":0},{"$f":"+SUMIFS(Sheet4!$DN$2:$DN$8409,Sheet4!$D$2:$D$8409,Sheet3!E$3,Sheet4!$E$2:$E$8409,Sheet3!E$4,Sheet4!$A$2:$A$8409,Sheet3!$B$1,Sheet4!$B$2:$B$8409,Sheet3!$A$3)","v":0},{"$f":"+SUMIFS(Sheet4!$DN$2:$DN$8409,Sheet4!$D$2:$D$8409,Sheet3!F$3,Sheet4!$E$2:$E$8409,Sheet3!F$4,Sheet4!$A$2:$A$8409,Sheet3!$B$1,Sheet4!$B$2:$B$8409,Sheet3!$A$3)","v":0},{"$f":"+SUMIFS(Sheet4!$DN$2:$DN$8409,Sheet4!$D$2:$D$8409,Sheet3!G$3,Sheet4!$E$2:$E$8409,Sheet3!G$4,Sheet4!$A$2:$A$8409,Sheet3!$B$1,Sheet4!$B$2:$B$8409,Sheet3!$A$3)","v":0},{"$f":"+SUMIFS(Sheet4!$DN$2:$DN$8409,Sheet4!$D$2:$D$8409,Sheet3!H$3,Sheet4!$E$2:$E$8409,Sheet3!H$4,Sheet4!$A$2:$A$8409,Sheet3!$B$1,Sheet4!$B$2:$B$8409,Sheet3!$A$3)","v":0},{"$f":"+SUMIFS(Sheet4!$DN$2:$DN$8409,Sheet4!$D$2:$D$8409,Sheet3!I$3,Sheet4!$E$2:$E$8409,Sheet3!I$4,Sheet4!$A$2:$A$8409,Sheet3!$B$1,Sheet4!$B$2:$B$8409,Sheet3!$A$3)","v":0},{"$f":"+SUMIFS(Sheet4!$DN$2:$DN$8409,Sheet4!$D$2:$D$8409,Sheet3!J$3,Sheet4!$E$2:$E$8409,Sheet3!J$4,Sheet4!$A$2:$A$8409,Sheet3!$B$1,Sheet4!$B$2:$B$8409,Sheet3!$A$3)","v":131.66999999999999},{"$f":"+SUMIFS(Sheet4!$DN$2:$DN$8409,Sheet4!$D$2:$D$8409,Sheet3!K$3,Sheet4!$E$2:$E$8409,Sheet3!K$4,Sheet4!$A$2:$A$8409,Sheet3!$B$1,Sheet4!$B$2:$B$8409,Sheet3!$A$3)","v":0},{"$f":"+SUMIFS(Sheet4!$DN$2:$DN$8409,Sheet4!$D$2:$D$8409,Sheet3!L$3,Sheet4!$E$2:$E$8409,Sheet3!L$4,Sheet4!$A$2:$A$8409,Sheet3!$B$1,Sheet4!$B$2:$B$8409,Sheet3!$A$3)","v":2528.84},{"$f":"+SUMIFS(Sheet4!$DN$2:$DN$8409,Sheet4!$D$2:$D$8409,Sheet3!M$3,Sheet4!$E$2:$E$8409,Sheet3!M$4,Sheet4!$A$2:$A$8409,Sheet3!$B$1,Sheet4!$B$2:$B$8409,Sheet3!$A$3)","v":2996.36},{"$f":"+SUMIFS(Sheet4!$DN$2:$DN$8409,Sheet4!$D$2:$D$8409,Sheet3!N$3,Sheet4!$E$2:$E$8409,Sheet3!N$4,Sheet4!$A$2:$A$8409,Sheet3!$B$1,Sheet4!$B$2:$B$8409,Sheet3!$A$3)","v":0},{"$f":"+SUMIFS(Sheet4!$DN$2:$DN$8409,Sheet4!$D$2:$D$8409,Sheet3!O$3,Sheet4!$E$2:$E$8409,Sheet3!O$4,Sheet4!$A$2:$A$8409,Sheet3!$B$1,Sheet4!$B$2:$B$8409,Sheet3!$A$3)","v":0},{"$f":"+SUMIFS(Sheet4!$DN$2:$DN$8409,Sheet4!$D$2:$D$8409,Sheet3!P$3,Sheet4!$E$2:$E$8409,Sheet3!P$4,Sheet4!$A$2:$A$8409,Sheet3!$B$1,Sheet4!$B$2:$B$8409,Sheet3!$A$3)","v":5799.27},{"$f":"+SUMIFS(Sheet4!$DN$2:$DN$8409,Sheet4!$D$2:$D$8409,Sheet3!Q$3,Sheet4!$E$2:$E$8409,Sheet3!Q$4,Sheet4!$A$2:$A$8409,Sheet3!$B$1,Sheet4!$B$2:$B$8409,Sheet3!$A$3)","v":16040.460000000001},{"$f":"+SUMIFS(Sheet4!$DN$2:$DN$8409,Sheet4!$D$2:$D$8409,Sheet3!R$3,Sheet4!$E$2:$E$8409,Sheet3!R$4,Sheet4!$A$2:$A$8409,Sheet3!$B$1,Sheet4!$B$2:$B$8409,Sheet3!$A$3)","v":16565.03},{"$f":"+SUMIFS(Sheet4!$DN$2:$DN$8409,Sheet4!$D$2:$D$8409,Sheet3!S$3,Sheet4!$E$2:$E$8409,Sheet3!S$4,Sheet4!$A$2:$A$8409,Sheet3!$B$1,Sheet4!$B$2:$B$8409,Sheet3!$A$3)","v":0},{"$f":"+SUMIFS(Sheet4!$DN$2:$DN$8409,Sheet4!$D$2:$D$8409,Sheet3!T$3,Sheet4!$E$2:$E$8409,Sheet3!T$4,Sheet4!$A$2:$A$8409,Sheet3!$B$1,Sheet4!$B$2:$B$8409,Sheet3!$A$3)","v":0},{"$f":"+SUMIFS(Sheet4!$DN$2:$DN$8409,Sheet4!$D$2:$D$8409,Sheet3!U$3,Sheet4!$E$2:$E$8409,Sheet3!U$4,Sheet4!$A$2:$A$8409,Sheet3!$B$1,Sheet4!$B$2:$B$8409,Sheet3!$A$3)","v":1501.68},{"$f":"+SUMIFS(Sheet4!$DN$2:$DN$8409,Sheet4!$D$2:$D$8409,Sheet3!V$3,Sheet4!$E$2:$E$8409,Sheet3!V$4,Sheet4!$A$2:$A$8409,Sheet3!$B$1,Sheet4!$B$2:$B$8409,Sheet3!$A$3)","v":3116.05},{"$f":"+SUMIFS(Sheet4!$DN$2:$DN$8409,Sheet4!$D$2:$D$8409,Sheet3!W$3,Sheet4!$E$2:$E$8409,Sheet3!W$4,Sheet4!$A$2:$A$8409,Sheet3!$B$1,Sheet4!$B$2:$B$8409,Sheet3!$A$3)","v":0},{"$f":"+SUMIFS(Sheet4!$DN$2:$DN$8409,Sheet4!$D$2:$D$8409,Sheet3!X$3,Sheet4!$E$2:$E$8409,Sheet3!X$4,Sheet4!$A$2:$A$8409,Sheet3!$B$1,Sheet4!$B$2:$B$8409,Sheet3!$A$3)","v":0},{"$f":"+SUMIFS(Sheet4!$DN$2:$DN$8409,Sheet4!$D$2:$D$8409,Sheet3!Y$3,Sheet4!$E$2:$E$8409,Sheet3!Y$4,Sheet4!$A$2:$A$8409,Sheet3!$B$1,Sheet4!$B$2:$B$8409,Sheet3!$A$3)","v":0},{"$f":"+SUMIFS(Sheet4!$DN$2:$DN$8409,Sheet4!$D$2:$D$8409,Sheet3!Z$3,Sheet4!$E$2:$E$8409,Sheet3!Z$4,Sheet4!$A$2:$A$8409,Sheet3!$B$1,Sheet4!$B$2:$B$8409,Sheet3!$A$3)","v":13103.119999999999},{"$f":"+SUMIFS(Sheet4!$DN$2:$DN$8409,Sheet4!$D$2:$D$8409,Sheet3!AA$3,Sheet4!$E$2:$E$8409,Sheet3!AA$4,Sheet4!$A$2:$A$8409,Sheet3!$B$1,Sheet4!$B$2:$B$8409,Sheet3!$A$3)","v":13137.63},{"$f":"+SUMIFS(Sheet4!$DN$2:$DN$8409,Sheet4!$D$2:$D$8409,Sheet3!AB$3,Sheet4!$E$2:$E$8409,Sheet3!AB$4,Sheet4!$A$2:$A$8409,Sheet3!$B$1,Sheet4!$B$2:$B$8409,Sheet3!$A$3)","v":0},{"$f":"+SUMIFS(Sheet4!$DN$2:$DN$8409,Sheet4!$D$2:$D$8409,Sheet3!AC$3,Sheet4!$E$2:$E$8409,Sheet3!AC$4,Sheet4!$A$2:$A$8409,Sheet3!$B$1,Sheet4!$B$2:$B$8409,Sheet3!$A$3)","v":0},{"$f":"+SUMIFS(Sheet4!$DN$2:$DN$8409,Sheet4!$D$2:$D$8409,Sheet3!AD$3,Sheet4!$E$2:$E$8409,Sheet3!AD$4,Sheet4!$A$2:$A$8409,Sheet3!$B$1,Sheet4!$B$2:$B$8409,Sheet3!$A$3)","v":628.70000000000005},{"$f":"+SUMIFS(Sheet4!$DN$2:$DN$8409,Sheet4!$D$2:$D$8409,Sheet3!AE$3,Sheet4!$E$2:$E$8409,Sheet3!AE$4,Sheet4!$A$2:$A$8409,Sheet3!$B$1,Sheet4!$B$2:$B$8409,Sheet3!$A$3)","v":60205.659999999996},{"$f":"+SUMIFS(Sheet4!$DN$2:$DN$8409,Sheet4!$D$2:$D$8409,Sheet3!AF$3,Sheet4!$E$2:$E$8409,Sheet3!AF$4,Sheet4!$A$2:$A$8409,Sheet3!$B$1,Sheet4!$B$2:$B$8409,Sheet3!$A$3)","v":128327.15000000001},{"$f":"+SUMIFS(Sheet4!$DN$2:$DN$8409,Sheet4!$D$2:$D$8409,Sheet3!AG$3,Sheet4!$E$2:$E$8409,Sheet3!AG$4,Sheet4!$A$2:$A$8409,Sheet3!$B$1,Sheet4!$B$2:$B$8409,Sheet3!$A$3)","v":0},{"$f":"+SUMIFS(Sheet4!$DN$2:$DN$8409,Sheet4!$D$2:$D$8409,Sheet3!AH$3,Sheet4!$E$2:$E$8409,Sheet3!AH$4,Sheet4!$A$2:$A$8409,Sheet3!$B$1,Sheet4!$B$2:$B$8409,Sheet3!$A$3)","v":0},{"$f":"+SUMIFS(Sheet4!$DN$2:$DN$8409,Sheet4!$D$2:$D$8409,Sheet3!AI$3,Sheet4!$E$2:$E$8409,Sheet3!AI$4,Sheet4!$A$2:$A$8409,Sheet3!$B$1,Sheet4!$B$2:$B$8409,Sheet3!$A$3)","v":404},{"$f":"+SUMIFS(Sheet4!$DN$2:$DN$8409,Sheet4!$D$2:$D$8409,Sheet3!AJ$3,Sheet4!$E$2:$E$8409,Sheet3!AJ$4,Sheet4!$A$2:$A$8409,Sheet3!$B$1,Sheet4!$B$2:$B$8409,Sheet3!$A$3)","v":6292.4500000000007},{"$f":"+SUMIFS(Sheet4!$DN$2:$DN$8409,Sheet4!$D$2:$D$8409,Sheet3!AK$3,Sheet4!$E$2:$E$8409,Sheet3!AK$4,Sheet4!$A$2:$A$8409,Sheet3!$B$1,Sheet4!$B$2:$B$8409,Sheet3!$A$3)","v":889.04},{"$f":"+SUMIFS(Sheet4!$DN$2:$DN$8409,Sheet4!$D$2:$D$8409,Sheet3!AL$3,Sheet4!$E$2:$E$8409,Sheet3!AL$4,Sheet4!$A$2:$A$8409,Sheet3!$B$1,Sheet4!$B$2:$B$8409,Sheet3!$A$3)","v":0},{"$f":"+SUMIFS(Sheet4!$DN$2:$DN$8409,Sheet4!$D$2:$D$8409,Sheet3!AM$3,Sheet4!$E$2:$E$8409,Sheet3!AM$4,Sheet4!$A$2:$A$8409,Sheet3!$B$1,Sheet4!$B$2:$B$8409,Sheet3!$A$3)","v":0},{"$f":"+SUMIFS(Sheet4!$DN$2:$DN$8409,Sheet4!$D$2:$D$8409,Sheet3!AN$3,Sheet4!$E$2:$E$8409,Sheet3!AN$4,Sheet4!$A$2:$A$8409,Sheet3!$B$1,Sheet4!$B$2:$B$8409,Sheet3!$A$3)","v":42.85},{"$f":"+SUMIFS(Sheet4!$DN$2:$DN$8409,Sheet4!$D$2:$D$8409,Sheet3!AO$3,Sheet4!$E$2:$E$8409,Sheet3!AO$4,Sheet4!$A$2:$A$8409,Sheet3!$B$1,Sheet4!$B$2:$B$8409,Sheet3!$A$3)","v":16994.72},{"$f":"+SUMIFS(Sheet4!$DN$2:$DN$8409,Sheet4!$D$2:$D$8409,Sheet3!AP$3,Sheet4!$E$2:$E$8409,Sheet3!AP$4,Sheet4!$A$2:$A$8409,Sheet3!$B$1,Sheet4!$B$2:$B$8409,Sheet3!$A$3)","v":44417.539999999994},{"$f":"+SUMIFS(Sheet4!$DN$2:$DN$8409,Sheet4!$D$2:$D$8409,Sheet3!AQ$3,Sheet4!$E$2:$E$8409,Sheet3!AQ$4,Sheet4!$A$2:$A$8409,Sheet3!$B$1,Sheet4!$B$2:$B$8409,Sheet3!$A$3)","v":9623.0400000000009},{"$f":"+SUMIFS(Sheet4!$DN$2:$DN$8409,Sheet4!$D$2:$D$8409,Sheet3!AR$3,Sheet4!$E$2:$E$8409,Sheet3!AR$4,Sheet4!$A$2:$A$8409,Sheet3!$B$1,Sheet4!$B$2:$B$8409,Sheet3!$A$3)","v":0},{"$f":"+SUMIFS(Sheet4!$DN$2:$DN$8409,Sheet4!$D$2:$D$8409,Sheet3!AS$3,Sheet4!$E$2:$E$8409,Sheet3!AS$4,Sheet4!$A$2:$A$8409,Sheet3!$B$1,Sheet4!$B$2:$B$8409,Sheet3!$A$3)","v":0},{"$f":"+SUMIFS(Sheet4!$DN$2:$DN$8409,Sheet4!$D$2:$D$8409,Sheet3!AT$3,Sheet4!$E$2:$E$8409,Sheet3!AT$4,Sheet4!$A$2:$A$8409,Sheet3!$B$1,Sheet4!$B$2:$B$8409,Sheet3!$A$3)","v":5279.21},{"$f":"+SUMIFS(Sheet4!$DN$2:$DN$8409,Sheet4!$D$2:$D$8409,Sheet3!AU$3,Sheet4!$E$2:$E$8409,Sheet3!AU$4,Sheet4!$A$2:$A$8409,Sheet3!$B$1,Sheet4!$B$2:$B$8409,Sheet3!$A$3)","v":5291.84},{"$f":"+SUMIFS(Sheet4!$DN$2:$DN$8409,Sheet4!$D$2:$D$8409,Sheet3!AV$3,Sheet4!$E$2:$E$8409,Sheet3!AV$4,Sheet4!$A$2:$A$8409,Sheet3!$B$1,Sheet4!$B$2:$B$8409,Sheet3!$A$3)","v":0},{"$f":"+SUMIFS(Sheet4!$DN$2:$DN$8409,Sheet4!$D$2:$D$8409,Sheet3!AW$3,Sheet4!$E$2:$E$8409,Sheet3!AW$4,Sheet4!$A$2:$A$8409,Sheet3!$B$1,Sheet4!$B$2:$B$8409,Sheet3!$A$3)","v":0},{"$f":"+SUMIFS(Sheet4!$DN$2:$DN$8409,Sheet4!$D$2:$D$8409,Sheet3!AX$3,Sheet4!$E$2:$E$8409,Sheet3!AX$4,Sheet4!$A$2:$A$8409,Sheet3!$B$1,Sheet4!$B$2:$B$8409,Sheet3!$A$3)","v":368.7},{"$f":"+SUMIFS(Sheet4!$DN$2:$DN$8409,Sheet4!$D$2:$D$8409,Sheet3!AY$3,Sheet4!$E$2:$E$8409,Sheet3!AY$4,Sheet4!$A$2:$A$8409,Sheet3!$B$1,Sheet4!$B$2:$B$8409,Sheet3!$A$3)","v":24125.75},{"$f":"+SUMIFS(Sheet4!$DN$2:$DN$8409,Sheet4!$D$2:$D$8409,Sheet3!AZ$3,Sheet4!$E$2:$E$8409,Sheet3!AZ$4,Sheet4!$A$2:$A$8409,Sheet3!$B$1,Sheet4!$B$2:$B$8409,Sheet3!$A$3)","v":70848.39},{"$f":"+SUMIFS(Sheet4!$DN$2:$DN$8409,Sheet4!$D$2:$D$8409,Sheet3!BA$3,Sheet4!$E$2:$E$8409,Sheet3!BA$4,Sheet4!$A$2:$A$8409,Sheet3!$B$1,Sheet4!$B$2:$B$8409,Sheet3!$A$3)","v":56658.45},{"$f":"+SUMIFS(Sheet4!$DN$2:$DN$8409,Sheet4!$D$2:$D$8409,Sheet3!BB$3,Sheet4!$E$2:$E$8409,Sheet3!BB$4,Sheet4!$A$2:$A$8409,Sheet3!$B$1,Sheet4!$B$2:$B$8409,Sheet3!$A$3)","v":0},{"$f":"+SUMIFS(Sheet4!$DN$2:$DN$8409,Sheet4!$D$2:$D$8409,Sheet3!BC$3,Sheet4!$E$2:$E$8409,Sheet3!BC$4,Sheet4!$A$2:$A$8409,Sheet3!$B$1,Sheet4!$B$2:$B$8409,Sheet3!$A$3)","v":0},{"$f":"+SUMIFS(Sheet4!$DN$2:$DN$8409,Sheet4!$D$2:$D$8409,Sheet3!BD$3,Sheet4!$E$2:$E$8409,Sheet3!BD$4,Sheet4!$A$2:$A$8409,Sheet3!$B$1,Sheet4!$B$2:$B$8409,Sheet3!$A$3)","v":0},{"$f":"+SUMIFS(Sheet4!$DN$2:$DN$8409,Sheet4!$D$2:$D$8409,Sheet3!BE$3,Sheet4!$E$2:$E$8409,Sheet3!BE$4,Sheet4!$A$2:$A$8409,Sheet3!$B$1,Sheet4!$B$2:$B$8409,Sheet3!$A$3)","v":3521.6099999999997},{"$f":"+SUMIFS(Sheet4!$DN$2:$DN$8409,Sheet4!$D$2:$D$8409,Sheet3!BF$3,Sheet4!$E$2:$E$8409,Sheet3!BF$4,Sheet4!$A$2:$A$8409,Sheet3!$B$1,Sheet4!$B$2:$B$8409,Sheet3!$A$3)","v":0},{"$f":"+SUMIFS(Sheet4!$DN$2:$DN$8409,Sheet4!$D$2:$D$8409,Sheet3!BG$3,Sheet4!$E$2:$E$8409,Sheet3!BG$4,Sheet4!$A$2:$A$8409,Sheet3!$B$1,Sheet4!$B$2:$B$8409,Sheet3!$A$3)","v":0},{"$f":"+SUMIFS(Sheet4!$DN$2:$DN$8409,Sheet4!$D$2:$D$8409,Sheet3!BH$3,Sheet4!$E$2:$E$8409,Sheet3!BH$4,Sheet4!$A$2:$A$8409,Sheet3!$B$1,Sheet4!$B$2:$B$8409,Sheet3!$A$3)","v":460.06},{"$f":"+SUMIFS(Sheet4!$DN$2:$DN$8409,Sheet4!$D$2:$D$8409,Sheet3!BI$3,Sheet4!$E$2:$E$8409,Sheet3!BI$4,Sheet4!$A$2:$A$8409,Sheet3!$B$1,Sheet4!$B$2:$B$8409,Sheet3!$A$3)","v":15600.75},{"$f":"+SUMIFS(Sheet4!$DN$2:$DN$8409,Sheet4!$D$2:$D$8409,Sheet3!BJ$3,Sheet4!$E$2:$E$8409,Sheet3!BJ$4,Sheet4!$A$2:$A$8409,Sheet3!$B$1,Sheet4!$B$2:$B$8409,Sheet3!$A$3)","v":13189.869999999999},{"$f":"+SUMIFS(Sheet4!$DN$2:$DN$8409,Sheet4!$D$2:$D$8409,Sheet3!BK$3,Sheet4!$E$2:$E$8409,Sheet3!BK$4,Sheet4!$A$2:$A$8409,Sheet3!$B$1,Sheet4!$B$2:$B$8409,Sheet3!$A$3)","v":0},{"$f":"+SUMIFS(Sheet4!$DN$2:$DN$8409,Sheet4!$D$2:$D$8409,Sheet3!BL$3,Sheet4!$E$2:$E$8409,Sheet3!BL$4,Sheet4!$A$2:$A$8409,Sheet3!$B$1,Sheet4!$B$2:$B$8409,Sheet3!$A$3)","v":0},{"$f":"+SUMIFS(Sheet4!$DN$2:$DN$8409,Sheet4!$D$2:$D$8409,Sheet3!BM$3,Sheet4!$E$2:$E$8409,Sheet3!BM$4,Sheet4!$A$2:$A$8409,Sheet3!$B$1,Sheet4!$B$2:$B$8409,Sheet3!$A$3)","v":9.18},{"$f":"+SUMIFS(Sheet4!$DN$2:$DN$8409,Sheet4!$D$2:$D$8409,Sheet3!BN$3,Sheet4!$E$2:$E$8409,Sheet3!BN$4,Sheet4!$A$2:$A$8409,Sheet3!$B$1,Sheet4!$B$2:$B$8409,Sheet3!$A$3)","v":0},{"$f":"+SUMIFS(Sheet4!$DN$2:$DN$8409,Sheet4!$D$2:$D$8409,Sheet3!BO$3,Sheet4!$E$2:$E$8409,Sheet3!BO$4,Sheet4!$A$2:$A$8409,Sheet3!$B$1,Sheet4!$B$2:$B$8409,Sheet3!$A$3)","v":15223.220000000001},{"$f":"+SUMIFS(Sheet4!$DN$2:$DN$8409,Sheet4!$D$2:$D$8409,Sheet3!BP$3,Sheet4!$E$2:$E$8409,Sheet3!BP$4,Sheet4!$A$2:$A$8409,Sheet3!$B$1,Sheet4!$B$2:$B$8409,Sheet3!$A$3)","v":5127.6499999999996},{"$f":"+SUMIFS(Sheet4!$DN$2:$DN$8409,Sheet4!$D$2:$D$8409,Sheet3!BQ$3,Sheet4!$E$2:$E$8409,Sheet3!BQ$4,Sheet4!$A$2:$A$8409,Sheet3!$B$1,Sheet4!$B$2:$B$8409,Sheet3!$A$3)","v":0},{"$f":"+SUMIFS(Sheet4!$DN$2:$DN$8409,Sheet4!$D$2:$D$8409,Sheet3!BR$3,Sheet4!$E$2:$E$8409,Sheet3!BR$4,Sheet4!$A$2:$A$8409,Sheet3!$B$1,Sheet4!$B$2:$B$8409,Sheet3!$A$3)","v":329.64},{"$f":"+SUMIFS(Sheet4!$DN$2:$DN$8409,Sheet4!$D$2:$D$8409,Sheet3!BS$3,Sheet4!$E$2:$E$8409,Sheet3!BS$4,Sheet4!$A$2:$A$8409,Sheet3!$B$1,Sheet4!$B$2:$B$8409,Sheet3!$A$3)","v":604318.19000000006},{"$f":"+SUMIFS(Sheet4!$DN$2:$DN$8409,Sheet4!$D$2:$D$8409,Sheet3!BT$3,Sheet4!$E$2:$E$8409,Sheet3!BT$4,Sheet4!$A$2:$A$8409,Sheet3!$B$1,Sheet4!$B$2:$B$8409,Sheet3!$A$3)","v":1942459.58},{"$f":"+SUMIFS(Sheet4!$DN$2:$DN$8409,Sheet4!$D$2:$D$8409,Sheet3!BU$3,Sheet4!$E$2:$E$8409,Sheet3!BU$4,Sheet4!$A$2:$A$8409,Sheet3!$B$1,Sheet4!$B$2:$B$8409,Sheet3!$A$3)","v":421531.41000000003},{"$f":"+SUMIFS(Sheet4!$DN$2:$DN$8409,Sheet4!$D$2:$D$8409,Sheet3!BV$3,Sheet4!$E$2:$E$8409,Sheet3!BV$4,Sheet4!$A$2:$A$8409,Sheet3!$B$1,Sheet4!$B$2:$B$8409,Sheet3!$A$3)","v":232.5},{"$f":"+SUMIFS(Sheet4!$DN$2:$DN$8409,Sheet4!$D$2:$D$8409,Sheet3!BW$3,Sheet4!$E$2:$E$8409,Sheet3!BW$4,Sheet4!$A$2:$A$8409,Sheet3!$B$1,Sheet4!$B$2:$B$8409,Sheet3!$A$3)","v":11197},{"$f":"+SUMIFS(Sheet4!$DN$2:$DN$8409,Sheet4!$D$2:$D$8409,Sheet3!BX$3,Sheet4!$E$2:$E$8409,Sheet3!BX$4,Sheet4!$A$2:$A$8409,Sheet3!$B$1,Sheet4!$B$2:$B$8409,Sheet3!$A$3)","v":338745.16999999993},{"$f":"+SUMIFS(Sheet4!$DN$2:$DN$8409,Sheet4!$D$2:$D$8409,Sheet3!BY$3,Sheet4!$E$2:$E$8409,Sheet3!BY$4,Sheet4!$A$2:$A$8409,Sheet3!$B$1,Sheet4!$B$2:$B$8409,Sheet3!$A$3)","v":442837.94999999995},{"$f":"+SUMIFS(Sheet4!$DN$2:$DN$8409,Sheet4!$D$2:$D$8409,Sheet3!BZ$3,Sheet4!$E$2:$E$8409,Sheet3!BZ$4,Sheet4!$A$2:$A$8409,Sheet3!$B$1,Sheet4!$B$2:$B$8409,Sheet3!$A$3)","v":100776.12},{"$f":"+SUMIFS(Sheet4!$DN$2:$DN$8409,Sheet4!$D$2:$D$8409,Sheet3!CA$3,Sheet4!$E$2:$E$8409,Sheet3!CA$4,Sheet4!$A$2:$A$8409,Sheet3!$B$1,Sheet4!$B$2:$B$8409,Sheet3!$A$3)","v":93.5},{"$f":"+SUMIFS(Sheet4!$DN$2:$DN$8409,Sheet4!$D$2:$D$8409,Sheet3!CB$3,Sheet4!$E$2:$E$8409,Sheet3!CB$4,Sheet4!$A$2:$A$8409,Sheet3!$B$1,Sheet4!$B$2:$B$8409,Sheet3!$A$3)","v":1687.31},{"$f":"+SUMIFS(Sheet4!$DN$2:$DN$8409,Sheet4!$D$2:$D$8409,Sheet3!CC$3,Sheet4!$E$2:$E$8409,Sheet3!CC$4,Sheet4!$A$2:$A$8409,Sheet3!$B$1,Sheet4!$B$2:$B$8409,Sheet3!$A$3)","v":121768.74},{"$f":"+SUMIFS(Sheet4!$DN$2:$DN$8409,Sheet4!$D$2:$D$8409,Sheet3!CD$3,Sheet4!$E$2:$E$8409,Sheet3!CD$4,Sheet4!$A$2:$A$8409,Sheet3!$B$1,Sheet4!$B$2:$B$8409,Sheet3!$A$3)","v":751813.77},{"$f":"+SUMIFS(Sheet4!$DN$2:$DN$8409,Sheet4!$D$2:$D$8409,Sheet3!CE$3,Sheet4!$E$2:$E$8409,Sheet3!CE$4,Sheet4!$A$2:$A$8409,Sheet3!$B$1,Sheet4!$B$2:$B$8409,Sheet3!$A$3)","v":321478.41000000003},{"$f":"+SUMIFS(Sheet4!$DN$2:$DN$8409,Sheet4!$D$2:$D$8409,Sheet3!CF$3,Sheet4!$E$2:$E$8409,Sheet3!CF$4,Sheet4!$A$2:$A$8409,Sheet3!$B$1,Sheet4!$B$2:$B$8409,Sheet3!$A$3)","v":0},{"$f":"+SUMIFS(Sheet4!$DN$2:$DN$8409,Sheet4!$D$2:$D$8409,Sheet3!CG$3,Sheet4!$E$2:$E$8409,Sheet3!CG$4,Sheet4!$A$2:$A$8409,Sheet3!$B$1,Sheet4!$B$2:$B$8409,Sheet3!$A$3)","v":0},{"$f":"+SUMIFS(Sheet4!$DN$2:$DN$8409,Sheet4!$D$2:$D$8409,Sheet3!CH$3,Sheet4!$E$2:$E$8409,Sheet3!CH$4,Sheet4!$A$2:$A$8409,Sheet3!$B$1,Sheet4!$B$2:$B$8409,Sheet3!$A$3)","v":64.570000000000007},{"$f":"+SUMIFS(Sheet4!$DN$2:$DN$8409,Sheet4!$D$2:$D$8409,Sheet3!CI$3,Sheet4!$E$2:$E$8409,Sheet3!CI$4,Sheet4!$A$2:$A$8409,Sheet3!$B$1,Sheet4!$B$2:$B$8409,Sheet3!$A$3)","v":0},{"$f":"+SUMIFS(Sheet4!$DN$2:$DN$8409,Sheet4!$D$2:$D$8409,Sheet3!CJ$3,Sheet4!$E$2:$E$8409,Sheet3!CJ$4,Sheet4!$A$2:$A$8409,Sheet3!$B$1,Sheet4!$B$2:$B$8409,Sheet3!$A$3)","v":0},{"$f":"+SUMIFS(Sheet4!$DN$2:$DN$8409,Sheet4!$D$2:$D$8409,Sheet3!CK$3,Sheet4!$E$2:$E$8409,Sheet3!CK$4,Sheet4!$A$2:$A$8409,Sheet3!$B$1,Sheet4!$B$2:$B$8409,Sheet3!$A$3)","v":0},{"$f":"+SUMIFS(Sheet4!$DN$2:$DN$8409,Sheet4!$D$2:$D$8409,Sheet3!CL$3,Sheet4!$E$2:$E$8409,Sheet3!CL$4,Sheet4!$A$2:$A$8409,Sheet3!$B$1,Sheet4!$B$2:$B$8409,Sheet3!$A$3)","v":0},{"$f":"+SUMIFS(Sheet4!$DN$2:$DN$8409,Sheet4!$D$2:$D$8409,Sheet3!CM$3,Sheet4!$E$2:$E$8409,Sheet3!CM$4,Sheet4!$A$2:$A$8409,Sheet3!$B$1,Sheet4!$B$2:$B$8409,Sheet3!$A$3)","v":0},{"$f":"+SUMIFS(Sheet4!$DN$2:$DN$8409,Sheet4!$D$2:$D$8409,Sheet3!CN$3,Sheet4!$E$2:$E$8409,Sheet3!CN$4,Sheet4!$A$2:$A$8409,Sheet3!$B$1,Sheet4!$B$2:$B$8409,Sheet3!$A$3)","v":5297.6},{"$f":"+SUMIFS(Sheet4!$DN$2:$DN$8409,Sheet4!$D$2:$D$8409,Sheet3!CO$3,Sheet4!$E$2:$E$8409,Sheet3!CO$4,Sheet4!$A$2:$A$8409,Sheet3!$B$1,Sheet4!$B$2:$B$8409,Sheet3!$A$3)","v":0},{"$f":"+SUMIFS(Sheet4!$DN$2:$DN$8409,Sheet4!$D$2:$D$8409,Sheet3!CP$3,Sheet4!$E$2:$E$8409,Sheet3!CP$4,Sheet4!$A$2:$A$8409,Sheet3!$B$1,Sheet4!$B$2:$B$8409,Sheet3!$A$3)","v":0},{"$f":"+SUMIFS(Sheet4!$DN$2:$DN$8409,Sheet4!$D$2:$D$8409,Sheet3!CQ$3,Sheet4!$E$2:$E$8409,Sheet3!CQ$4,Sheet4!$A$2:$A$8409,Sheet3!$B$1,Sheet4!$B$2:$B$8409,Sheet3!$A$3)","v":0},{"$f":"+SUMIFS(Sheet4!$DN$2:$DN$8409,Sheet4!$D$2:$D$8409,Sheet3!CR$3,Sheet4!$E$2:$E$8409,Sheet3!CR$4,Sheet4!$A$2:$A$8409,Sheet3!$B$1,Sheet4!$B$2:$B$8409,Sheet3!$A$3)","v":0},{"$f":"+SUMIFS(Sheet4!$DN$2:$DN$8409,Sheet4!$D$2:$D$8409,Sheet3!CS$3,Sheet4!$E$2:$E$8409,Sheet3!CS$4,Sheet4!$A$2:$A$8409,Sheet3!$B$1,Sheet4!$B$2:$B$8409,Sheet3!$A$3)","v":0},{"$f":"+SUMIFS(Sheet4!$DN$2:$DN$8409,Sheet4!$D$2:$D$8409,Sheet3!CT$3,Sheet4!$E$2:$E$8409,Sheet3!CT$4,Sheet4!$A$2:$A$8409,Sheet3!$B$1,Sheet4!$B$2:$B$8409,Sheet3!$A$3)","v":0},{"$f":"+SUMIFS(Sheet4!$DN$2:$DN$8409,Sheet4!$D$2:$D$8409,Sheet3!CU$3,Sheet4!$A$2:$A$8409,Sheet3!$B$1,Sheet4!$B$2:$B$8409,Sheet3!$A$3)","v":0},{"$f":"+SUMIFS(Sheet4!$DN$2:$DN$8409,Sheet4!$D$2:$D$8409,Sheet3!CV$3,Sheet4!$A$2:$A$8409,Sheet3!$B$1,Sheet4!$B$2:$B$8409,Sheet3!$A$3)","v":5656.8700000000008},{"$f":"+SUMIFS(Sheet4!$DN$2:$DN$8409,Sheet4!$D$2:$D$8409,Sheet3!CW$3,Sheet4!$A$2:$A$8409,Sheet3!$B$1,Sheet4!$B$2:$B$8409,Sheet3!$A$3)","v":38404.760000000009},{"$f":"+SUMIFS(Sheet4!$DN$2:$DN$8409,Sheet4!$D$2:$D$8409,Sheet3!CX$3,Sheet4!$A$2:$A$8409,Sheet3!$B$1,Sheet4!$B$2:$B$8409,Sheet3!$A$3)","v":4617.7300000000005},{"$f":"+SUMIFS(Sheet4!$DN$2:$DN$8409,Sheet4!$D$2:$D$8409,Sheet3!CY$3,Sheet4!$A$2:$A$8409,Sheet3!$B$1,Sheet4!$B$2:$B$8409,Sheet3!$A$3)","v":26240.75},{"$f":"+SUMIFS(Sheet4!$DN$2:$DN$8409,Sheet4!$D$2:$D$8409,Sheet3!CZ$3,Sheet4!$A$2:$A$8409,Sheet3!$B$1,Sheet4!$B$2:$B$8409,Sheet3!$A$3)","v":189161.51},{"$f":"+SUMIFS(Sheet4!$DN$2:$DN$8409,Sheet4!$D$2:$D$8409,Sheet3!DA$3,Sheet4!$A$2:$A$8409,Sheet3!$B$1,Sheet4!$B$2:$B$8409,Sheet3!$A$3)","v":7585.4900000000007},{"$f":"+SUMIFS(Sheet4!$DN$2:$DN$8409,Sheet4!$D$2:$D$8409,Sheet3!DB$3,Sheet4!$A$2:$A$8409,Sheet3!$B$1,Sheet4!$B$2:$B$8409,Sheet3!$A$3)","v":71078.149999999994},{"$f":"+SUMIFS(Sheet4!$DN$2:$DN$8409,Sheet4!$D$2:$D$8409,Sheet3!DC$3,Sheet4!$A$2:$A$8409,Sheet3!$B$1,Sheet4!$B$2:$B$8409,Sheet3!$A$3)","v":10571.050000000001},{"$f":"+SUMIFS(Sheet4!$DN$2:$DN$8409,Sheet4!$D$2:$D$8409,Sheet3!DD$3,Sheet4!$A$2:$A$8409,Sheet3!$B$1,Sheet4!$B$2:$B$8409,Sheet3!$A$3)","v":152001.29},{"$f":"+SUMIFS(Sheet4!$DN$2:$DN$8409,Sheet4!$D$2:$D$8409,Sheet3!DE$3,Sheet4!$A$2:$A$8409,Sheet3!$B$1,Sheet4!$B$2:$B$8409,Sheet3!$A$3)","v":3521.6099999999997},{"$f":"+SUMIFS(Sheet4!$DN$2:$DN$8409,Sheet4!$D$2:$D$8409,Sheet3!DF$3,Sheet4!$A$2:$A$8409,Sheet3!$B$1,Sheet4!$B$2:$B$8409,Sheet3!$A$3)","v":29250.68},{"$f":"+SUMIFS(Sheet4!$DN$2:$DN$8409,Sheet4!$D$2:$D$8409,Sheet3!DG$3,Sheet4!$A$2:$A$8409,Sheet3!$B$1,Sheet4!$B$2:$B$8409,Sheet3!$A$3)","v":20360.050000000003},{"$f":"+SUMIFS(Sheet4!$DN$2:$DN$8409,Sheet4!$D$2:$D$8409,Sheet3!DH$3,Sheet4!$A$2:$A$8409,Sheet3!$B$1,Sheet4!$B$2:$B$8409,Sheet3!$A$3)","v":2968638.82},{"$f":"+SUMIFS(Sheet4!$DN$2:$DN$8409,Sheet4!$D$2:$D$8409,Sheet3!DI$3,Sheet4!$A$2:$A$8409,Sheet3!$B$1,Sheet4!$B$2:$B$8409,Sheet3!$A$3)","v":893788.73999999987},{"$f":"+SUMIFS(Sheet4!$DN$2:$DN$8409,Sheet4!$D$2:$D$8409,Sheet3!DJ$3,Sheet4!$A$2:$A$8409,Sheet3!$B$1,Sheet4!$B$2:$B$8409,Sheet3!$A$3)","v":1196841.73},{"$f":"+SUMIFS(Sheet4!$DN$2:$DN$8409,Sheet4!$D$2:$D$8409,Sheet3!DK$3,Sheet4!$A$2:$A$8409,Sheet3!$B$1,Sheet4!$B$2:$B$8409,Sheet3!$A$3)","v":64.570000000000007},{"$f":"+SUMIFS(Sheet4!$DN$2:$DN$8409,Sheet4!$D$2:$D$8409,Sheet3!DL$3,Sheet4!$A$2:$A$8409,Sheet3!$B$1,Sheet4!$B$2:$B$8409,Sheet3!$A$3)","v":5297.6},{"$f":"+SUMIFS(Sheet4!$DN$2:$DN$8409,Sheet4!$D$2:$D$8409,Sheet3!DM$3,Sheet4!$A$2:$A$8409,Sheet3!$B$1,Sheet4!$B$2:$B$8409,Sheet3!$A$3)","v":0},{"$f":"+SUMIFS(Sheet4!$DN$2:$DN$8409,Sheet4!$E$2:$E$8409,Sheet3!DN$4,Sheet4!$A$2:$A$8409,Sheet3!$B$1,Sheet4!$B$2:$B$8409,Sheet3!$A$3)","v":326},{"$f":"+SUMIFS(Sheet4!$DN$2:$DN$8409,Sheet4!$E$2:$E$8409,Sheet3!DO$4,Sheet4!$A$2:$A$8409,Sheet3!$B$1,Sheet4!$B$2:$B$8409,Sheet3!$A$3)","v":15259.109999999999},{"$f":"+SUMIFS(Sheet4!$DN$2:$DN$8409,Sheet4!$E$2:$E$8409,Sheet3!DP$4,Sheet4!$A$2:$A$8409,Sheet3!$B$1,Sheet4!$B$2:$B$8409,Sheet3!$A$3)","v":1213799.28},{"$f":"+SUMIFS(Sheet4!$DN$2:$DN$8409,Sheet4!$E$2:$E$8409,Sheet3!DQ$4,Sheet4!$A$2:$A$8409,Sheet3!$B$1,Sheet4!$B$2:$B$8409,Sheet3!$A$3)","v":3458940.54},{"$f":"+SUMIFS(Sheet4!$DN$2:$DN$8409,Sheet4!$E$2:$E$8409,Sheet3!DR$4,Sheet4!$A$2:$A$8409,Sheet3!$B$1,Sheet4!$B$2:$B$8409,Sheet3!$A$3)","v":934756.46999999986}]

{"sheet":"Sheet4","index":8,"n_rows":8410,"n_cols":119,"rows_kept":562,"cut":true,"hidden":true,"merged":[],"bounds":{"rows_first":250,"rows_last":62,"rows_between":250,"halvings":3}}
["tipo","REG_sinal","NUT3_2013","OTE_sub","cl_MG_excel","CountOfGPP_ID","SumOfVpp","SumOfSAU","SumD_RPB","SumMG_Direitos","SUmofSAU_est","SumOfSAU_IRRIG","SumOfCult_Temp","SumOf_ARV_Ind_SEQ","SumOf_ARV_Ind_Reg","SumOfSF","SumOfPousio","SumOfCP","SumOfPP","Sumpp_02cn","SumOfCNH","SumOfCNT","SumOfS_RPB","SumOfS_MAA","SumOfS_MZD","SumOfAD_Totais2015","ajudas_desligadas","SumOfRPA","RPB_total","SumOfRPBAJU","SumOfRPBJOV","SumOfGREEN","redistributivo","SumOfPag_lig","SumOfVACAS_ALEIT","SumOfPAG_OV_CAP","SumOfVACAS_leite","SumOfPAG_COMPL_Leite","SumOfPAG_TOMATE","SumOfPAG_ARROZ","2_pilar","SumOfMZD","SumOfMZD_ZCE","SumOfMZD_ZCN","SumOfMZD_ZM","MAA","SumOfMAAABC","SumOfMAAABM","SumOfMAAAPI","SumOfMAACPD","SumOfMAACPT","SumOfMAACSE","SumOfMAACSS","SumOfMAAMAF","SumOfMAAMNS","SumOfMAAPDI","SumOfMAAPGP","SumOfMAAPGS","SumOfMAAPLR","SumOfMAAPLS","SumOfMAAPMT","SumOfMAAPPL","SumOfMAARAE","SumOfMAARCV","SumOfMAARGN","SumOfMAAROA","SumOfMAAUEA","PAg_Natura","PAg_produtores","SumOfCereais_seq","SumOfMilho_grao","SumOfArroz","SumOfOleag_proteag","SumOfHorticolas","SumOfForrag_prados_temp","SumOfPousios","SumOfPomares","SumOfVinha","SumOfOlival","SumOfPast_prados_perm","SumOfVacas_leite1","SumOfVacas_aleit1","SumOfOutros_bov","SumOfOvelhas","SumOfOutros_ovinos","SumOfCabras","SumOfOutros_cap","PI_N","PI_SAU","PABC_N","PABC_SAU","PABM_N","PABM_SAU","PUEA_N","PUEA_SAU","PCPT_N","PCPT_SAU","PCSS_N","PCSS_SAU","PCSE_N","PCSE_SAU","PPLS_N","PPLS_SAU","PPLR_N","PPLR_SAU","PPMT_N","PPMT_SAU","PPPL_N","PPPL_SAU",null,null,null,null,null,"cod","Cod1"]
[2,1,"111","1_2",1,76,90504.030106099322,84.589999999999989,79.400000000000006,9311.3499999999985,85.639999999999986,11.17,38.700000000000003,0,0,24.97,6.28,6.9600000000000009,7.68,0,1.65,1.65,84.449999999999989,0,0,64093.42000000002,64093.42000000002,64093.42000000002,0,0,0,0,0,0,0,0,0,0,0,0,9039.1600000000017,9039.1600000000017,0,0,9039.1600000000017,0,0,0,0,0,0,0,0,0,0,0,0,0,0,0,0,0,0,0,0,0,0,0,73132.58,4.8899999999999997,29.98,0,0.17,2.25,24.97,6.28,0.83,4.4000000000000004,1.0900000000000001,8.73,0,0,1,6,1,0,0,0,0,0,0,0,0,0,0,0,0,0,0,0,0,0,0,0,0,0,0,0,0,null,null,null,null,null,null,null,{"$f":"+DN2*DO2","v":0},{"$f":"+INDEX($F2:$DJ2,1,Sheet3!$C$1)","v":0},{"$f":"+IF(Sheet3!$C$1=1,IF(DN2<3,0,1),1)","v":1}]
[2,1,"111","1_2",2,1,5869.7453850363881,6.79,6.65,434.84,7.06,0,6.2,0,0,0.22,0,0.04,0.33,0,0,0,6.7899999999999991,0,0,845.33,845.33,845.33,0,0,0,0,0,0,0,0,0,0,0,0,1395.6,1395.6,0,0,1395.6,0,0,0,0,0,0,0,0,0,0,0,0,0,0,0,0,0,0,0,0,0,0,0,2240.9299999999998,2.67,3.53,0,0,0,0.22,0,0,0.04,0,0.6,0,0,0,0,0,0,0,0,0,0,0,0,0,0,0,0,0,0,0,0,0,0,0,0,0,0,0,0,0,null,null,null,null,null,null,null,{"$f":"+DN3*DO3","v":0},{"$f":"+INDEX($F3:$DJ3,1,Sheet3!$C$1)","v":0},{"$f":"+IF(Sheet3!$C$1=1,IF(DN3<3,0,1),1)","v":1}]
[1,1,"112",4,3,8,391355.38911285525,12.38,10.029999999999999,1130.96,12.47,10.27,9.9700000000000006,0,0,1.1200000000000001,0.2,1.0899999999999999,0,0,0,0,12.38,0,0,6762.59,6762.59,6762.59,0,0,0,0,0,0,0,0,0,0,0,0,1474.1999999999998,1474.1999999999998,0,0,1474.1999999999998,0,0,0,0,0,0,0,0,0,0,0,0,0,0,0,0,0,0,0,0,0,0,0,8236.7900000000009,0.25,2.37,0,0,7.35,1.1200000000000001,0.2,0.09,0.63,0,0.09,0,0,0,0,0,0,0,0,0,0,0,0,0,0,0,0,0,0,0,0,0,0,0,0,0,0,0,0,0,null,null,null,null,null,null,null,0,{"$f":"+INDEX($F4:$DJ4,1,Sheet3!$C$1)","v":0},{"$f":"+IF(Sheet3!$C$1=1,IF(DN4<3,0,1),1)","v":1}]
[1,1,"112",4,4,1,128244.93263645936,2.11,1.34,87.62,2.11,2.11,0.96,0,0,1.1100000000000001,0,0.04,0,0,6,6,2.1100000000000003,0,0,845.34,845.34,845.34,0,0,0,0,0,0,0,0,0,0,0,0,548.6,548.6,0,0,548.6,0,0,0,0,0,0,0,0,0,0,0,0,0,0,0,0,0,0,0,0,0,0,0,1393.94,0,0,0,0,0.96,1.1100000000000001,0,0,0.04,0,0,0,5,2,0,0,0,0,0,0,0,0,0,0,0,0,0,0,0,0,0,0,0,0,0,0,0,0,0,0,null,null,null,null,null,null,null,0,{"$f":"+INDEX($F5:$DJ5,1,Sheet3!$C$1)","v":0},{"$f":"+IF(Sheet3!$C$1=1,IF(DN5<3,0,1),1)","v":1}]
[1,1,"112",5,1,18,36989.074397420991,25.099999999999998,23.180000000000007,2172.9500000000003,25.429999999999996,19.489999999999998,6.05,0,0,0.12,4.01,14.37,0.55000000000000004,0,0,0,25.099999999999998,1.84,0,15178.05,15178.05,15178.05,0,0,0,0,0,0,0,0,0,0,0,0,4714.75,4040.3999999999996,0,0,4040.3999999999996,674.35,0,0,0,0,0,0,0,0,0,508.75,0,165.6,0,0,0,0,0,0,0,0,0,0,19892.799999999996,3.69,1.2,0,0.86,0.3,0.12,2.64,0.45,12.74,0.34,0.88,0,0,0,0,0,0,0,1,1.1499999999999999,0,0,0,0,0,0,0,0,0,0,0,0,0,0,0,0,0,0,0,0,null,null,null,null,null,null,null,0,{"$f":"+INDEX($F6:$DJ6,1,Sheet3!$C$1)","v":0},{"$f":"+IF(Sheet3!$C$1=1,IF(DN6<3,0,1),1)","v":1}]
[1,1,"112",5,2,14,117228.30226777963,55.539999999999992,47.24,3358.53,57.429999999999993,27.77,3.01,0,0,1.31,0.71,49.41,1.1000000000000001,0,0,0,55.539999999999992,27.169999999999998,0,11796.789999999999,11796.789999999999,11796.789999999999,0,0,0,0,0,0,0,0,0,0,0,0,14993.19,6844.3000000000011,0,0,6844.3000000000011,8148.89,0,0,0,356.25,0,1106.7,0,0,0,6685.94,0,0,0,0,0,0,0,0,0,0,0,0,26789.980000000003,0.28000000000000003,1.47,0,0,0.98,1.31,0.71,1.7,45.21,0.09,2.99,0,0,0,0,0,0,0,6,25.36,0,0,0,0,0,0,0,0,0,0,2,10.54,0,0,0,0,0,0,0,0,null,null,null,null,null,null,null,0,{"$f":"+INDEX($F7:$DJ7,1,Sheet3!$C$1)","v":0},{"$f":"+IF(Sheet3!$C$1=1,IF(DN7<3,0,1),1)","v":1}]
[1,1,"112",5,3,2,63752.1022428703,29.799999999999997,24.05,1572.62,29.9,19.13,1.1299999999999999,0,0,1.1599999999999999,0,27.45,0.06,0,0.6,0.6,29.799999999999994,15.62,0,1690.63,1690.63,1690.63,0,0,0,0,0,0,0,0,0,0,0,0,5367.57,2309.8000000000002,0,0,2309.8000000000002,3057.77,0,0,0,0,0,0,0,0,0,3057.77,0,0,0,0,0,0,0,0,0,0,0,0,7058.2000000000007,0,0.93,0,0,0.2,1.1599999999999999,0,0.61,25.39,0,0.16,0,0,0,3,1,0,0,1,15.62,0,0,0,0,0,0,0,0,0,0,0,0,0,0,0,0,0,0,0,0,null,null,null,null,null,null,null,0,{"$f":"+INDEX($F8:$DJ8,1,Sheet3!$C$1)","v":0},{"$f":"+IF(Sheet3!$C$1=1,IF(DN8<3,0,1),1)","v":1}]
[1,1,"112",6,1,10,24587.866846324272,12.219999999999999,11.609999999999998,870.11000000000013,12.25,8.59,1.96,0,0,0,1.74,8.48,0.04,0,0,0,12.219999999999999,0,0,8453.27,8453.27,8453.27,0,0,0,0,0,0,0,0,0,0,0,0,1261,1261,0,0,1261,0,0,0,0,0,0,0,0,0,0,0,0,0,0,0,0,0,0,0,0,0,0,0,9714.27,0.42,1.5,0,0,0.04,0,1.74,7.92,0.06,0,7.0000000000000007E-2,0,0,0,0,0,0,0,0,0,0,0,0,0,0,0,0,0,0,0,0,0,0,0,0,0,0,0,0,0,null,null,null,null,null,null,null,0,{"$f":"+INDEX($F9:$DJ9,1,Sheet3!$C$1)","v":0},{"$f":"+IF(Sheet3!$C$1=1,IF(DN9<3,0,1),1)","v":1}]
[1,1,"112",6,2,47,509312.75117048412,91.149999999999991,77.350000000000009,6655.2799999999988,91.949999999999989,80.38,14.45,0,0,3.98,1.83,67.740000000000009,3.15,0.52,2.1,2.1,91.149999999999991,31.94,0,39692.570000000007,39692.570000000007,39692.570000000007,0,0,0,0,0,0,0,0,0,0,0,0,35639.149999999994,14821.99,0,0,14821.99,20817.160000000003,5751.52,9619.8700000000008,0,0,432.54,0,0,0,0,4914.83,0,98.4,0,0,0,0,0,0,0,0,0,0,75331.719999999987,3.67,7.35,0,0.83,2.6,3.98,1.83,57,5.93,1.43,3.95,0,0,0,14,0,0,0,3,8.7200000000000006,2,7.43,4,12.71,0,0,1,2.67,0,0,0,0,0,0,0,0,0,0,0,0,null,null,null,null,null,null,null,0,{"$f":"+INDEX($F10:$DJ10,1,Sheet3!$C$1)","v":0},{"$f":"+IF(Sheet3!$C$1=1,IF(DN10<3,0,1),1)","v":1}]
[1,1,"112",6,3,47,2018018.7268276608,85.085000000000022,70.38000000000001,7337.1800000000012,91.700000000000017,75.959999999999994,8.67,0,0,2.75,0.76,67.179999999999993,6.55,3.87,1.65,1.65,83.15000000000002,35.300000000000004,4.9800000000000004,39684.99000000002,39684.99000000002,39684.99000000002,0,0,0,0,0,0,0,0,0,0,0,0,36325.039999999994,18866.670000000002,0,0,18866.670000000002,17458.370000000003,4850.16,954,0,0,0,0,0,0,0,10190.209999999999,0,1464,0,0,0,0,0,0,0,0,0,0,76010.029999999984,7.46,0.19,0,0,1.02,2.75,0.76,62.54,2.87,0.19,11.23,0,0,0,10,1,0,0,14,19.66,3,8.48,1,1.06,0,0,0,0,0,0,0,0,0,0,0,0,0,0,0,0,null,null,null,null,null,null,null,0,{"$f":"+INDEX($F11:$DJ11,1,Sheet3!$C$1)","v":0},{"$f":"+IF(Sheet3!$C$1=1,IF(DN11<3,0,1),1)","v":1}]
[1,1,"112",6,4,1,102660.40318578058,3.75,1.59,169.2,3.75,3.15,0.1,0,0,0.03,0,3.62,0,0,0,0,3.7499999999999991,1.5400000000000003,0,845.31,845.31,845.31,0,0,0,0,0,0,0,0,0,0,0,0,1726.84,916.8,0,0,916.8,810.04,0,0,0,0,0,0,0,0,0,810.04,0,0,0,0,0,0,0,0,0,0,0,0,2572.1499999999996,0,0,0,0,0.1,0.03,0,3.18,0,0,0,0,0,0,0,0,0,0,1,1.54,0,0,0,0,0,0,0,0,0,0,0,0,0,0,0,0,0,0,0,0,null,null,null,null,null,null,null,0,{"$f":"+INDEX($F12:$DJ12,1,Sheet3!$C$1)","v":0},{"$f":"+IF(Sheet3!$C$1=1,IF(DN12<3,0,1),1)","v":1}]
[1,1,"112",8,1,1007,1910172.7904516007,1120.5499999999988,1030.6600000000008,120871.94999999991,1145.7999999999995,886.38,647.54,0,0,177.14,47.49,200.44000000000003,47.94,5.5999999999999988,88.649999999999949,90.649999999999949,1120.2699999999986,4.09,0,848966.36999999103,848966.36999999103,848966.36999999103,0,0,0,0,0,0,0,0,0,0,0,0,131984.35,130071.05000000002,0,0,130071.05000000002,1913.2999999999997,0,690.9,0,0,0,0,0,0,0,0,0,722.4,0,0,0,0,0,0,500,0,0,0,980950.71999999357,158.53,384.6,0,13.89,88.64,178.99,44.35,39.25,94.61,13.83,73.19,0,38,34,149,26,29,3,0,0,0,0,1,1.08,0,0,0,0,0,0,0,0,0,0,0,0,0,0,0,0,null,null,null,null,null,null,null,0,{"$f":"+INDEX($F13:$DJ13,1,Sheet3!$C$1)","v":0},{"$f":"+IF(Sheet3!$C$1=1,IF(DN13<3,0,1),1)","v":1}]
[1,1,"112",8,2,120,735921.3803421472,260.35500000000019,230.46000000000012,20757.700000000004,271.75,213.44,111.62,0,0,39.11,9.18,90.139999999999958,10.54,3.1999999999999997,43.300000000000011,45.860000000000014,259.19000000000017,17.68,3.7600000000000007,101405.85000000009,101405.85000000009,101405.85000000009,0,0,0,0,0,0,0,0,0,0,0,0,50670.310000000012,45090.710000000014,0,0,45090.710000000014,5579.6,0,0,0,0,0,172.2,0,0,0,2593,0,2419.1999999999998,0,0,0,0,0,0,395.2,0,0,0,152076.16000000006,4.68,78.849999999999994,0,1.67,26.42,39.11,9.18,27.15,39.53,3.25,20.95,0,10,21,111,26,5,0,4,7.08,0,0,0,0,0,0,0,0,0,0,1,1.64,0,0,0,0,0,0,0,0,null,null,null,null,null,null,null,0,{"$f":"+INDEX($F14:$DJ14,1,Sheet3!$C$1)","v":0},{"$f":"+IF(Sheet3!$C$1=1,IF(DN14<3,0,1),1)","v":1}]
[1,1,"112",9,1,1,3445.8190544318177,0.57999999999999996,0.57999999999999996,143.37,0.57999999999999996,0.43,7.0000000000000007E-2,0,0,0.36,0,0.15,0,0,2.5499999999999998,2.5499999999999998,0.58000000000000007,0,0,845.33,845.33,845.33,0,0,0,0,0,0,0,0,0,0,0,0,0,0,0,0,0,0,null,null,null,null,null,null,null,null,null,null,null,null,null,null,null,null,null,null,null,null,null,null,845.33,0,0,0,0,7.0000000000000007E-2,0.36,0,0,0.15,0,0,1,0,3,0,0,0,1,0,0,0,0,0,0,0,0,0,0,0,0,0,0,0,0,0,0,0,0,0,0,null,null,null,null,null,null,null,0,{"$f":"+INDEX($F15:$DJ15,1,Sheet3!$C$1)","v":0},{"$f":"+IF(Sheet3!$C$1=1,IF(DN15<3,0,1),1)","v":1}]
[1,1,"112",9,2,5,31785.499267616498,6.1400000000000006,5.42,809.65,6.1400000000000006,2.97,2.27,0,0,3.51,0,0.36000000000000004,0,0,10.6,10.6,6.11,0,0,4226.59,4226.59,4226.59,0,0,0,0,0,0,0,0,0,0,0,0,0,0,0,0,0,0,null,null,null,null,null,null,null,null,null,null,null,null,null,null,null,null,null,null,null,null,null,null,4226.59,0,2,0,0.03,0.24,3.51,0,0,0.35,0,0,8,0,5,0,0,0,0,0,0,0,0,0,0,0,0,0,0,0,0,0,0,0,0,0,0,0,0,0,0,null,null,null,null,null,null,null,0,{"$f":"+INDEX($F16:$DJ16,1,Sheet3!$C$1)","v":0},{"$f":"+IF(Sheet3!$C$1=1,IF(DN16<3,0,1),1)","v":1}]
[1,1,"112","10_1",1,29,60958.184432676411,31.89,28.009999999999998,3549.9599999999996,38.569999999999993,23.87,2.95,0,0,23.23,0.31,1.22,5.18,5.18,48.349999999999994,48.349999999999994,32.82,0,2,24514.460000000003,24514.460000000003,24514.460000000003,0,0,0,0,0,0,0,0,0,0,0,0,4917.9000000000005,4317.9000000000005,0,0,4317.9000000000005,600,0,0,0,0,0,0,0,0,0,0,0,0,0,0,0,0,0,0,600,0,0,0,29432.36,0.15,2.35,0,0.13,0.32,23.23,0.31,0.04,0.97,0.05,10.86,0,27,37,5,2,2,0,0,0,0,0,0,0,0,0,0,0,0,0,0,0,0,0,0,0,0,0,0,0,null,null,null,null,null,null,null,0,{"$f":"+INDEX($F17:$DJ17,1,Sheet3!$C$1)","v":0},{"$f":"+IF(Sheet3!$C$1=1,IF(DN17<3,0,1),1)","v":1}]
[1,1,"112","10_1",2,7,36098.375971595109,15.725,12,1100.5400000000002,19.18,8.64,2.68,0,0,7.65,0,0.98,7.61,7.61,28.400000000000002,28.400000000000002,17.259999999999998,1.54,8.92,5917.26,5917.26,5917.26,0,0,0,0,0,0,0,0,0,0,0,0,2928.5,2458.9,0,0,2458.9,469.6,0,0,0,0,0,0,0,0,0,0,0,369.6,0,0,0,0,0,0,100,0,0,0,8845.76,0.5,1.86,0,0,0.32,7.65,0,0.04,0.86,0,7.61,0,16,24,0,0,0,0,0,0,0,0,0,0,0,0,0,0,0,0,0,0,0,0,0,0,0,0,0,0,null,null,null,null,null,null,null,0,{"$f":"+INDEX($F18:$DJ18,1,Sheet3!$C$1)","v":0},{"$f":"+IF(Sheet3!$C$1=1,IF(DN18<3,0,1),1)","v":1}]
[1,1,"112","10_15",1,21,55083.98979437961,14.44,12.63,1612.5199999999998,14.49,13.39,5.77,0,0,6.56,0,1.26,0.85,0.85,68.350000000000009,68.350000000000009,14.44,0,0,17751.899999999998,17751.899999999998,17751.899999999998,0,0,0,0,0,0,0,0,0,0,0,0,1299.4000000000001,699.4,0,0,699.4,600,0,0,0,0,0,0,0,0,0,0,0,0,0,0,0,0,0,0,600,0,0,0,19051.3,0.5,5.08,0,0,0.19,6.56,0,0.15,1.1000000000000001,0,0.9,0,33,53,30,4,3,0,0,0,0,0,0,0,0,0,0,0,0,0,0,0,0,0,0,0,0,0,0,0,null,null,null,null,null,null,null,0,{"$f":"+INDEX($F19:$DJ19,1,Sheet3!$C$1)","v":0},{"$f":"+IF(Sheet3!$C$1=1,IF(DN19<3,0,1),1)","v":1}]
[1,1,"112","10_15",2,18,101400.60792315561,18.430000000000003,15.429999999999998,1962.6399999999999,18.430000000000003,14.94,3.7,0,0,11.75,0,2.98,0,0,95.749999999999986,97.449999999999974,18.43,0,0,15217.32,15217.32,15217.32,0,0,0,0,0,0,0,0,0,0,0,0,2068.06,1432.6,0,0,1432.6,635.46,0,0,0,0,0,0,0,0,0,0,0,0,0,0,0,0,0,0,635.46,0,0,0,17285.38,0,2.93,0,0.2,0.56999999999999995,11.75,0,0.22,2.4,0.08,0,2,27,115,5,0,0,0,0,0,0,0,0,0,0,0,0,0,0,0,0,0,0,0,0,0,0,0,0,0,null,null,null,null,null,null,null,0,{"$f":"+INDEX($F20:$DJ20,1,Sheet3!$C$1)","v":0},{"$f":"+IF(Sheet3!$C$1=1,IF(DN20<3,0,1),1)","v":1}]
[1,1,"112","10_15",3,1,37014.221719496061,6.1,1.62,189.02,6.1,2.5299999999999998,0,0,0,5.94,0,0.16,0,0,42,42,6.1000000000000005,0,0,845.33,845.33,845.33,0,0,0,0,0,0,0,0,0,0,0,0,262.60000000000002,262.60000000000002,0,0,262.60000000000002,0,0,0,0,0,0,0,0,0,0,0,0,0,0,0,0,0,0,0,0,0,0,0,1107.93,0,0,0,0,0,5.94,0,0.03,0.13,0,0,0,5,61,0,0,0,0,0,0,0,0,0,0,0,0,0,0,0,0,0,0,0,0,0,0,0,0,0,0,null,null,null,null,null,null,null,0,{"$f":"+INDEX($F21:$DJ21,1,Sheet3!$C$1)","v":0},{"$f":"+IF(Sheet3!$C$1=1,IF(DN21<3,0,1),1)","v":1}]
[1,1,"112","10_2",1,5,14370.492178835519,8.1349999999999998,5.6899999999999995,925.28,10.51,3.73,0.75,0,0,4.51,0,0.19,4.8899999999999997,4.8900000000000006,5.2,5.2,9.75,0,2.8200000000000003,4226.6100000000006,4226.6100000000006,4226.6100000000006,0,0,0,0,0,0,0,0,0,0,0,0,642.20000000000005,642.20000000000005,0,0,642.20000000000005,0,0,0,0,0,0,0,0,0,0,0,0,0,0,0,0,0,0,0,0,0,0,0,4868.8100000000004,0.09,0.5,0,0,0.16,4.51,0,0.01,0.18,0,4.95,0,2,6,0,0,0,0,0,0,0,0,0,0,0,0,0,0,0,0,0,0,0,0,0,0,0,0,0,0,null,null,null,null,null,null,null,0,{"$f":"+INDEX($F22:$DJ22,1,Sheet3!$C$1)","v":0},{"$f":"+IF(Sheet3!$C$1=1,IF(DN22<3,0,1),1)","v":1}]
[1,1,"112","10_2",2,11,71937.932850019861,60.145000000000003,29.630000000000003,2228.8999999999996,128.37,25.57,2.36,0,0,15.67,0,0.57000000000000006,70.66,70.660000000000011,42.5,42.5,69.070000000000007,7.72,79.679999999999993,9298.630000000001,9298.630000000001,9298.630000000001,0,0,0,0,0,0,0,0,0,0,0,0,16228.999999999998,12633.2,0,0,12633.2,3595.8,0,0,0,0,0,0,0,0,0,0,0,1360.8,665,0,0,0,0,0,1570,0,0,0,25527.629999999997,0,1.78,0,0.05,0.53,15.67,0,0.13,0.72,0,109.27,0,31,21,2,0,0,0,0,0,0,0,0,0,0,0,0,0,0,0,0,0,0,0,1,3.5,0,0,0,0,null,null,null,null,null,null,null,0,{"$f":"+INDEX($F23:$DJ23,1,Sheet3!$C$1)","v":0},{"$f":"+IF(Sheet3!$C$1=1,IF(DN23<3,0,1),1)","v":1}]
[1,1,"112",11,1,55,108892.70025953364,92.545000000000016,65.88000000000001,6054.2799999999988,121.47000000000001,63.44,5.12,0,0,40.119999999999997,0,2.6099999999999994,67.760000000000005,28.849999999999994,49.65,86.649999999999991,112.10999999999997,0.67999999999999994,55.65,46446.69,46446.69,46446.69,0,0,0,0,0,0,0,0,0,0,0,0,24395.85,21832.649999999998,0,0,21832.649999999998,2563.2000000000003,0,0,0,0,0,0,0,0,0,0,0,163.19999999999999,0,0,0,0,0,0,2400,0,0,0,70842.540000000008,1.24,2.73,0,0.28000000000000003,0.87,40.119999999999997,0,0.44,1.36,0.27,73.33,0,0,0,220,24,74,13,0,0,0,0,0,0,0,0,0,0,0,0,0,0,0,0,0,0,0,0,0,0,null,null,null,null,null,null,null,0,{"$f":"+INDEX($F24:$DJ24,1,Sheet3!$C$1)","v":0},{"$f":"+IF(Sheet3!$C$1=1,IF(DN24<3,0,1),1)","v":1}]
[1,1,"112",11,2,21,159453.67213545283,131.995,28.39,2116.1,243.36999999999998,21.34,1.47,0,0,10.29,0,0.24,229.84,40.090000000000003,25.1,137.09999999999997,204.36999999999998,8.66,232.32999999999998,17735.829999999998,17735.829999999998,17735.829999999998,0,0,0,0,0,0,0,0,0,0,0,0,44388.659999999996,28402.450000000004,0,0,28402.450000000004,15986.21,0,0,0,0,0,0,0,0,0,0,0,2066.21,0,0,0,0,0,0,13920,0,0,0,62124.490000000005,0,0.88,0,0,0.59,10.29,0,0.12,0.09,0,230.7,0,7,6,62,6,28,2,0,0,0,0,0,0,0,0,0,0,0,0,0,0,0,0,0,0,0,0,0,0,null,null,null,null,null,null,null,0,{"$f":"+INDEX($F25:$DJ25,1,Sheet3!$C$1)","v":0},{"$f":"+IF(Sheet3!$C$1=1,IF(DN25<3,0,1),1)","v":1}]
[1,1,"112",12,1,180,420501.86723793868,241.40000000000006,216.57999999999998,23700.449999999993,252.43,210.3,79.67,0,0,95.59,0.21,30.740000000000002,37.68,32.94,231.20000000000002,239.79999999999998,240.8000000000001,1.67,12.080000000000002,152146.04000000021,152146.04000000021,152146.04000000021,0,0,0,0,0,0,0,0,0,0,0,0,44955.859999999993,42861.060000000005,0,0,42861.060000000005,2094.8000000000002,0,0,0,0,0,0,0,0,0,0,0,400.8,0,0,0,0,0,0,1694,0,0,0,197101.89999999997,3.82,62.84,0,1.74,10.96,95.9,0.21,6.73,14.93,2.99,45.33,0,78,113,491,68,36,9,0,0,0,0,0,0,0,0,0,0,0,0,0,0,0,0,0,0,0,0,0,0,null,null,null,null,null,null,null,0,{"$f":"+INDEX($F26:$DJ26,1,Sheet3!$C$1)","v":0},{"$f":"+IF(Sheet3!$C$1=1,IF(DN26<3,0,1),1)","v":1}]
[1,1,"112",12,2,39,230802.36375926374,96.340000000000018,73.77000000000001,7273.57,120.88999999999999,68.819999999999993,23.83,0,0,37.01,0,7.7549999999999999,44.26,37.280000000000008,110.05000000000001,116.65,108.34,11.030000000000001,59.959999999999994,32971.920000000013,32971.920000000013,32971.920000000013,0,0,0,0,0,0,0,0,0,0,0,0,22468.2,18417,0,0,18417,4051.2,0,0,0,0,0,0,0,0,0,0,0,2647.2,0,0,0,0,0,0,1404,0,0,0,55440.119999999988,1.35,14.53,0,0.48,7.47,37.01,0,3.03,5.26,0.21,49.05,1,38,84,119,13,21,2,0,0,0,0,0,0,0,0,0,0,0,0,0,0,0,0,0,0,0,0,0,0,null,null,null,null,null,null,null,0,{"$f":"+INDEX($F27:$DJ27,1,Sheet3!$C$1)","v":0},{"$f":"+IF(Sheet3!$C$1=1,IF(DN27<3,0,1),1)","v":1}]
[1,1,"112",13,1,288,395383.67594824627,293.48999999999984,272.19999999999976,33866.170000000006,301.2299999999999,204.92,12.38,0,0,219.56,15.27,14.389999999999995,32.880000000000003,0,0,0,294.47999999999985,10.629999999999999,3.01,242617.07999999973,242617.07999999973,242617.07999999973,0,0,0,0,0,0,0,0,0,0,0,0,5191.1600000000008,2639.96,0,0,2639.96,2551.1999999999998,0,0,0,0,0,0,0,0,0,0,0,2551.1999999999998,0,0,0,0,0,0,0,0,0,0,247808.2399999997,0.26,9.61,0,0.34,2.17,219.56,9.17,2.38,8.7799999999999994,0.35,39.630000000000003,0,0,0,0,0,0,0,0,0,0,0,0,0,0,0,0,0,0,0,0,0,0,0,0,0,0,0,0,0,null,null,null,null,null,null,null,0,{"$f":"+INDEX($F28:$DJ28,1,Sheet3!$C$1)","v":0},{"$f":"+IF(Sheet3!$C$1=1,IF(DN28<3,0,1),1)","v":1}]
[1,1,"112",13,2,3,18098.098973196364,9.48,6.8100000000000005,659.17,9.48,9.1300000000000008,1.44,0,0,7.72,0,0.32,0,0,0,0,9.4799999999999986,0,0,2536,2536,2536,0,0,0,0,0,0,0,0,0,0,0,0,0,0,0,0,0,0,null,null,null,null,null,null,null,null,null,null,null,null,null,null,null,null,null,null,null,null,null,null,2536,0.04,1.23,0,0,0.17,7.72,0,0,0.27,0,0,0,0,0,0,0,0,0,0,0,0,0,0,0,0,0,0,0,0,0,0,0,0,0,0,0,0,0,0,0,null,null,null,null,null,null,null,0,{"$f":"+INDEX($F29:$DJ29,1,Sheet3!$C$1)","v":0},{"$f":"+IF(Sheet3!$C$1=1,IF(DN29<3,0,1),1)","v":1}]
[1,1,"119",0,4,1,181071.3314322943,1.69,1.68,129.02000000000001,1.69,1.69,0,0,0,1.69,0,0,0,0,34.4,314.60000000000002,1.69,0,0,845.33,845.33,845.33,0,0,0,0,0,0,0,0,0,0,0,0,439.4,439.4,0,0,439.4,0,0,0,0,0,0,0,0,0,0,0,0,0,0,0,0,0,0,0,0,0,0,0,1284.73,0,0,0,0,0,1.69,0,0,0,0,0,0,0,46,0,0,0,0,0,0,0,0,0,0,0,0,0,0,0,0,0,0,0,0,0,0,0,0,0,0,null,null,null,null,null,null,null,0,{"$f":"+INDEX($F30:$DJ30,1,Sheet3!$C$1)","v":0},{"$f":"+IF(Sheet3!$C$1=1,IF(DN30<3,0,1),1)","v":1}]
[1,1,"119","1_1",1,248,321358.41602672706,291.1600000000002,276.33000000000004,30006.899999999998,316.01000000000016,272.97000000000003,197.15,0,0,56.49,3.43,13.56999999999999,20.52,0,5.9,5.9,291.1500000000002,0,0,209566.30999999974,209566.30999999974,209566.30999999974,0,0,0,0,0,0,0,0,0,0,0,0,23410.029999999984,23410.029999999984,0,0,23410.029999999984,0,0,0,0,0,0,0,0,0,0,0,0,0,0,0,0,0,0,0,0,0,0,0,232976.33999999976,27.34,159.69,0,1.4,7.84,56.49,3.43,2.36,7.43,2.2599999999999998,45.37,0,3,4,4,2,0,0,0,0,0,0,0,0,0,0,0,0,0,0,0,0,0,0,0,0,0,0,0,0,null,null,null,null,null,null,null,0,{"$f":"+INDEX($F31:$DJ31,1,Sheet3!$C$1)","v":0},{"$f":"+IF(Sheet3!$C$1=1,IF(DN31<3,0,1),1)","v":1}]
[1,1,"119","1_1",2,4,27156.309648703991,15.190000000000001,10.629999999999999,711.37,17.11,12.91,8.81,0,0,4.25,0,1.4300000000000002,0.7,0,0,0,15.190000000000001,0,0,3254.53,3254.53,3254.53,0,0,0,0,0,0,0,0,0,0,0,0,1535.7,1535.7,0,0,1535.7,0,0,0,0,0,0,0,0,0,0,0,0,0,0,0,0,0,0,0,0,0,0,0,4790.2299999999996,0.51,5.73,0,0,0,4.25,0,0.24,0.59,0,2.62,0,0,0,0,0,0,0,0,0,0,0,0,0,0,0,0,0,0,0,0,0,0,0,0,0,0,0,0,0,null,null,null,null,null,null,null,0,{"$f":"+INDEX($F32:$DJ32,1,Sheet3!$C$1)","v":0},{"$f":"+IF(Sheet3!$C$1=1,IF(DN32<3,0,1),1)","v":1}]
[1,1,"119","1_1",3,2,120464.89579962775,2.2400000000000002,2.1500000000000004,226.85,2.2400000000000002,2.2400000000000002,2.0099999999999998,0,0,0.19,0,0.04,0,0,0,0,2.2400000000000002,1.9500000000000002,0,1682.21,1682.21,1682.21,0,0,0,0,0,0,0,0,0,0,0,0,1478.42,314.60000000000002,0,0,314.60000000000002,1163.8200000000002,0,1163.82,0,0,0,0,0,0,0,0,0,0,0,0,0,0,0,0,0,0,0,0,3160.63,0,0.06,0,0,1.95,0.19,0,0,0.04,0,0,0,0,0,0,0,0,0,0,0,0,0,2,1.95,0,0,0,0,0,0,0,0,0,0,0,0,0,0,0,0,null,null,null,null,null,null,null,0,{"$f":"+INDEX($F33:$DJ33,1,Sheet3!$C$1)","v":0},{"$f":"+IF(Sheet3!$C$1=1,IF(DN33<3,0,1),1)","v":1}]
[1,1,"119","1_2",1,58,81682.851889480837,63.52,58.319999999999993,7261.2200000000012,64.319999999999993,3.27,45.22,0,0,9.16,1.89,6.2399999999999975,1.01,0,0,0,63.52000000000001,0,0,48990.979999999996,48990.979999999996,48990.979999999996,0,0,0,0,0,0,0,0,0,0,0,0,1281.8000000000002,1281.8000000000002,0,0,1281.8000000000002,0,0,0,0,0,0,0,0,0,0,0,0,0,0,0,0,0,0,0,0,0,0,0,50272.780000000006,4.07,39.229999999999997,0,0,0.6,9.16,1.89,0.98,4.8600000000000003,0,1.81,0,0,0,0,0,0,0,0,0,0,0,0,0,0,0,0,0,0,0,0,0,0,0,0,0,0,0,0,0,null,null,null,null,null,null,null,0,{"$f":"+INDEX($F34:$DJ34,1,Sheet3!$C$1)","v":0},{"$f":"+IF(Sheet3!$C$1=1,IF(DN34<3,0,1),1)","v":1}]
[1,1,"119","1_2",2,4,42953.081578448218,10.009999999999998,8.11,801.5,10.199999999999999,1.63,8.52,0,0,0,0,1.49,0,0,0,0,10.010000000000002,0,0,3343.48,3343.48,3343.48,0,0,0,0,0,0,0,0,0,0,0,0,361.4,361.4,0,0,361.4,0,0,0,0,0,0,0,0,0,0,0,0,0,0,0,0,0,0,0,0,0,0,0,3704.88,0,0.36,0,0,0.52,0,0,0.44,0.81,0,0.19,0,0,0,0,0,0,0,0,0,0,0,0,0,0,0,0,0,0,0,0,0,0,0,0,0,0,0,0,0,null,null,null,null,null,null,null,0,{"$f":"+INDEX($F35:$DJ35,1,Sheet3!$C$1)","v":0},{"$f":"+IF(Sheet3!$C$1=1,IF(DN35<3,0,1),1)","v":1}]
[1,1,"119",4,1,31,80723.532945841944,27.499999999999996,25.059999999999995,2671.75,28.43,22.94,14.37,0,0,5.35,1.78,1.27,4.7300000000000004,1.01,2.25,2.25,27.500000000000007,0.48,0,25916.930000000004,25916.930000000004,25916.930000000004,0,0,0,0,0,0,0,0,0,0,0,0,1131.2,1040,0,0,1040,91.2,0,0,0,0,0,0,0,0,0,0,0,0,91.2,0,0,0,0,0,0,0,0,0,27048.130000000005,1.1200000000000001,6.37,0,0.46,6.42,5.35,0.51,0.57999999999999996,0.5,0.1,5.66,0,0,0,11,2,1,1,0,0,0,0,0,0,0,0,0,0,0,0,0,0,0,0,1,0.48,0,0,0,0,null,null,null,null,null,null,null,0,{"$f":"+INDEX($F36:$DJ36,1,Sheet3!$C$1)","v":0},{"$f":"+IF(Sheet3!$C$1=1,IF(DN36<3,0,1),1)","v":1}]
[1,1,"119",4,2,26,223565.7903050881,40.529999999999994,38.17,3682.45,42.819999999999993,35.72,29,0,0,4.05,0.26,5.6799999999999988,1.54,0.04,10.15,10.15,40.529999999999994,0.51,0,21978.500000000007,21978.500000000007,21978.500000000007,0,0,0,0,0,0,0,0,0,0,0,0,4230.2,4230.2,0,0,4230.2,0,0,0,0,0,0,0,0,0,0,0,0,0,0,0,0,0,0,0,0,0,0,0,26208.700000000008,1.33,12.33,0,0.05,14.88,4.05,0.26,1.08,2.4900000000000002,1.79,3.83,0,4,10,0,0,4,1,0,0,0,0,0,0,0,0,0,0,0,0,0,0,0,0,0,0,0,0,0,0,null,null,null,null,null,null,null,0,{"$f":"+INDEX($F37:$DJ37,1,Sheet3!$C$1)","v":0},{"$f":"+IF(Sheet3!$C$1=1,IF(DN37<3,0,1),1)","v":1}]
[1,1,"119",4,3,5,289719.12871670193,10.16,9.75,905.27,10.16,9.81,6.53,0,0,2.72,0,0.67999999999999994,0.23,0.23,2.4500000000000002,2.4500000000000002,10.16,1.8800000000000001,0,4226.6400000000003,4226.6400000000003,4226.6400000000003,0,0,0,0,0,0,0,0,0,0,0,0,2059.6,787.6,0,0,787.6,1272,0,1167,0,0,0,0,0,0,0,0,0,0,0,0,0,0,0,0,105,0,0,0,6286.24,0,0.76,0,0,5.77,2.72,0,0.2,0.48,0,0.23,0,1,1,7,0,0,0,0,0,0,0,1,1.88,0,0,0,0,0,0,0,0,0,0,0,0,0,0,0,0,null,null,null,null,null,null,null,0,{"$f":"+INDEX($F38:$DJ38,1,Sheet3!$C$1)","v":0},{"$f":"+IF(Sheet3!$C$1=1,IF(DN38<3,0,1),1)","v":1}]
[1,1,"119",5,1,31,73943.508377840961,41.31,37.409999999999989,3305.7599999999998,44.999999999999993,29.73,2.82,0,0,6.08,0,29.990000000000002,2.42,0,1.05,1.05,41.21,0,0,26167.250000000007,26167.250000000007,26167.250000000007,0,0,0,0,0,0,0,0,0,0,0,0,7035.6,7035.6,0,0,7035.6,0,0,0,0,0,0,0,0,0,0,0,0,0,0,0,0,0,0,0,0,0,0,0,33202.850000000006,1.89,0.56999999999999995,0,0,0.3,6.08,0,0.77,26.76,0.33,6.11,0,0,0,6,1,0,0,0,0,0,0,0,0,0,0,0,0,0,0,0,0,0,0,0,0,0,0,0,0,null,null,null,null,null,null,null,0,{"$f":"+INDEX($F39:$DJ39,1,Sheet3!$C$1)","v":0},{"$f":"+IF(Sheet3!$C$1=1,IF(DN39<3,0,1),1)","v":1}]
[1,1,"119",5,2,29,253825.29590365014,121.65000000000003,96.120000000000019,6544.0499999999993,125.08,52.78,4.0199999999999996,0,0,6.62,0,108.94,2.0699999999999998,0,2.85,2.85,121.65,43.989999999999995,0,24515.260000000006,24515.260000000006,24515.260000000006,0,0,0,0,0,0,0,0,0,0,0,0,31047.020000000004,18636.170000000002,0,0,18636.170000000002,12410.849999999999,0,0,0,0,0,1497.3,0,0,0,10913.55,0,0,0,0,0,0,0,0,0,0,0,0,55562.280000000006,1.77,1.59,0,0,0.56000000000000005,6.62,0,1,102.54,1.42,5.5,0,0,0,14,0,3,2,10,42.71,0,0,0,0,0,0,0,0,0,0,2,14.26,0,0,0,0,0,0,0,0,null,null,null,null,null,null,null,0,{"$f":"+INDEX($F40:$DJ40,1,Sheet3!$C$1)","v":0},{"$f":"+IF(Sheet3!$C$1=1,IF(DN40<3,0,1),1)","v":1}]
[1,1,"119",5,3,3,91594.493946933741,39.879999999999995,25.9,1710.17,39.879999999999995,1.35,0.47,0,0,0.55000000000000004,0.15,38.71,0,0,0,0,39.879999999999981,25.879999999999988,0,2535.9700000000003,2535.9700000000003,2535.9700000000003,0,0,0,0,0,0,0,0,0,0,0,0,7933.6900000000005,2232.4,0,0,2232.4,5701.29,0,0,0,0,0,1770.87,0,0,0,3930.42,0,0,0,0,0,0,0,0,0,0,0,0,10469.66,0,0,0,0,0.47,0.55000000000000004,0.15,0.16,37.03,0.19,0,0,0,0,0,0,0,0,2,21.1,0,0,0,0,0,0,0,0,0,0,2,17.03,0,0,0,0,0,0,0,0,null,null,null,null,null,null,null,0,{"$f":"+INDEX($F41:$DJ41,1,Sheet3!$C$1)","v":0},{"$f":"+IF(Sheet3!$C$1=1,IF(DN41<3,0,1),1)","v":1}]
[1,1,"119",6,1,2,2142.8143457805218,1.7999999999999998,1.7999999999999998,192.55,1.7999999999999998,1.8,0,0,0,0,0,1.18,0.62,0,0,0,1.8,0,0,1690.66,1690.66,1690.66,0,0,0,0,0,0,0,0,0,0,0,0,0,0,0,0,0,0,null,null,null,null,null,null,null,null,null,null,null,null,null,null,null,null,null,null,null,null,null,null,1690.66,0,0,0,0,0,0,0,1.18,0,0,0.62,0,0,0,0,0,0,0,0,0,0,0,0,0,0,0,0,0,0,0,0,0,0,0,0,0,0,0,0,0,null,null,null,null,null,null,null,0,{"$f":"+INDEX($F42:$DJ42,1,Sheet3!$C$1)","v":0},{"$f":"+IF(Sheet3!$C$1=1,IF(DN42<3,0,1),1)","v":1}]
[1,1,"119",6,2,16,157790.82557595673,22.770000000000003,20.329999999999998,2122.1799999999998,24.64,13.01,5.22,0,0,3,0,13.570000000000002,0.98,0,1.6,1.6,22.770000000000003,1.55,0,13525.189999999999,13525.189999999999,13525.189999999999,0,0,0,0,0,0,0,0,0,0,0,0,2372.9499999999998,1885,0,0,1885,487.95,0,405,0,0,0,82.95,0,0,0,0,0,0,0,0,0,0,0,0,0,0,0,0,15898.139999999998,2.11,3.09,0,0,0.02,3,0,9.26,3.57,0.2,2.85,0,1,1,0,0,0,0,0,0,0,0,1,0.76,0,0,0,0,0,0,1,0.79,0,0,0,0,0,0,0,0,null,null,null,null,null,null,null,0,{"$f":"+INDEX($F43:$DJ43,1,Sheet3!$C$1)","v":0},{"$f":"+IF(Sheet3!$C$1=1,IF(DN43<3,0,1),1)","v":1}]
[1,1,"119",6,3,23,1053972.3113474622,47.870000000000005,37.209999999999994,3531.87,49.390000000000008,42.16,5.6,0,0,5.49,0,36.540000000000006,0.24,0,0,0,47.870000000000005,14.91,0,19433.980000000003,19433.980000000003,19433.980000000003,0,0,0,0,0,0,0,0,0,0,0,0,13652.71,6529.7000000000007,0,0,6529.7000000000007,7123.01,1147.05,3374.1,0,0,0,138.6,0,0,0,2463.2600000000002,0,0,0,0,0,0,0,0,0,0,0,0,33086.69,5,0,0,0,0.6,5.49,0,31.27,2.13,2.02,1.76,0,0,0,0,0,0,0,4,5.53,2,1.36,2,4.04,0,0,0,0,0,0,1,1.32,0,0,0,0,0,0,0,0,null,null,null,null,null,null,null,0,{"$f":"+INDEX($F44:$DJ44,1,Sheet3!$C$1)","v":0},{"$f":"+IF(Sheet3!$C$1=1,IF(DN44<3,0,1),1)","v":1}]
[1,1,"119",7,1,3,2061.5135647999996,2.84,2.77,293.47999999999996,3.63,2.84,0,0,0,0,0,1.73,1.1100000000000001,0,0,0,2.84,0,0,2498.1400000000003,2498.1400000000003,2498.1400000000003,0,0,0,0,0,0,0,0,0,0,0,0,382.2,382.2,0,0,382.2,0,0,0,0,0,0,0,0,0,0,0,0,0,0,0,0,0,0,0,0,0,0,0,2880.34,0,0,0,0,0,0,0,0,0,1.73,1.9,0,0,0,0,0,0,0,0,0,0,0,0,0,0,0,0,0,0,0,0,0,0,0,0,0,0,0,0,0,null,null,null,null,null,null,null,0,{"$f":"+INDEX($F45:$DJ45,1,Sheet3!$C$1)","v":0},{"$f":"+IF(Sheet3!$C$1=1,IF(DN45<3,0,1),1)","v":1}]
[1,1,"119",8,1,334,639588.2302763866,404.16500000000002,373.54,40664.60000000002,434.46,328.66,172.45,0,0,106.37,3.79,85.030000000000058,36.56,1.01,40.499999999999986,42.79999999999999,405.14000000000004,0,4.79,282342.33999999985,282342.33999999985,282342.33999999985,0,0,0,0,0,0,0,0,0,0,0,0,36399.499999999993,36199.5,0,0,36199.5,200,0,0,0,0,0,0,0,0,0,0,0,0,0,0,0,0,0,0,200,0,0,0,318741.84000000032,16,132.97999999999999,0,0.77,22.53,106.37,3.79,14.06,53.53,9.9600000000000009,65.88,0,18,16,72,8,14,4,0,0,0,0,0,0,0,0,0,0,0,0,0,0,0,0,0,0,0,0,0,0,null,null,null,null,null,null,null,0,{"$f":"+INDEX($F46:$DJ46,1,Sheet3!$C$1)","v":0},{"$f":"+IF(Sheet3!$C$1=1,IF(DN46<3,0,1),1)","v":1}]
[1,1,"119",8,2,46,318772.67221017968,132.00000000000003,103.13000000000002,8316.0700000000015,141.75,87.05,37.96,0,0,29.31,4.8099999999999996,55.130000000000024,4.79,1.5499999999999998,28.550000000000004,29.150000000000002,132,12.580000000000002,0,38885.030000000013,38885.030000000013,38885.030000000013,0,0,0,0,0,0,0,0,0,0,0,0,21399.820000000003,16062.5,0,0,16062.5,5337.32,0,2674.12,0,0,0,244.65,0,0,0,2218.5500000000002,0,0,0,0,0,0,0,0,200,0,0,0,60284.85000000002,0.77,25.64,0,0.24,7.81,29.31,0.71,13.55,32.130000000000003,5.07,14.54,0,12,18,36,5,0,0,2,7.72,0,0,1,4.84,0,0,0,0,0,0,1,2.33,0,0,0,0,0,0,0,0,null,null,null,null,null,null,null,0,{"$f":"+INDEX($F47:$DJ47,1,Sheet3!$C$1)","v":0},{"$f":"+IF(Sheet3!$C$1=1,IF(DN47<3,0,1),1)","v":1}]
[1,1,"119",9,1,2,7495.4026323303569,1.38,1.35,154.24,1.43,0.67,1.01,0,0,0,0,0.37,0,0,3.8,3.8,1.38,0,0,1690.65,1690.65,1690.65,0,0,0,0,0,0,0,0,0,0,0,0,0,0,0,0,0,0,null,null,null,null,null,null,null,null,null,null,null,null,null,null,null,null,null,null,null,null,null,null,1690.65,0,1.01,0,0,0,0,0,0.05,0.32,0,0.05,2,1,2,0,0,0,0,0,0,0,0,0,0,0,0,0,0,0,0,0,0,0,0,0,0,0,0,0,0,null,null,null,null,null,null,null,0,{"$f":"+INDEX($F48:$DJ48,1,Sheet3!$C$1)","v":0},{"$f":"+IF(Sheet3!$C$1=1,IF(DN48<3,0,1),1)","v":1}]
[1,1,"119",9,2,4,19685.249065803033,4.08,3.45,493.87,4.08,2.4300000000000002,1.39,0,0,2.2200000000000002,0,0.16,0.31,0.31,7.3,7.3,4.08,0,0,3381.28,3381.28,3381.28,0,0,0,0,0,0,0,0,0,0,0,0,291.2,291.2,0,0,291.2,0,0,0,0,0,0,0,0,0,0,0,0,0,0,0,0,0,0,0,0,0,0,0,3672.48,0,1.24,0,0,0.15,2.2200000000000002,0,0.06,0.1,0,0.31,5,0,3,0,0,5,1,0,0,0,0,0,0,0,0,0,0,0,0,0,0,0,0,0,0,0,0,0,0,null,null,null,null,null,null,null,0,{"$f":"+INDEX($F49:$DJ49,1,Sheet3!$C$1)","v":0},{"$f":"+IF(Sheet3!$C$1=1,IF(DN49<3,0,1),1)","v":1}]
[1,1,"119","10_1",1,15,30915.678174091183,18.569999999999997,14.559999999999999,1743.86,21.690000000000005,16.079999999999998,1.99,0,0,12,0,0.67,4.7,4.7,31.049999999999997,31.049999999999997,19.57,1.73,2.74,12679.92,12679.92,12679.92,0,0,0,0,0,0,0,0,0,0,0,0,4381.7,3653,0,0,3653,728.7,0,0,0,0,0,0,0,0,0,0,0,0,328.7,0,0,0,0,0,400,0,0,0,17061.620000000003,0,1.75,0,0,0.24,12,0,0.25,0.48,0,6.82,0,22,17,3,0,0,0,0,0,0,0,0,0,0,0,0,0,0,0,0,0,0,0,2,1.73,0,0,0,0,null,null,null,null,null,null,null,0,{"$f":"+INDEX($F50:$DJ50,1,Sheet3!$C$1)","v":0},{"$f":"+IF(Sheet3!$C$1=1,IF(DN50<3,0,1),1)","v":1}]
[1,1,"119","10_1",2,3,15420.786012698449,7.09,4.58,449.74,12.47,3.38,1.38,0,0,3.13,0,0.04,4.51,4.5100000000000007,9.6000000000000014,9.6000000000000014,9.0599999999999987,0.38,5.0299999999999994,2536,2536,2536,0,0,0,0,0,0,0,0,0,0,0,0,1464.7,1392.5,0,0,1392.5,72.2,0,0,0,0,0,0,0,0,0,0,0,0,72.2,0,0,0,0,0,0,0,0,0,4000.7000000000003,0,1.21,0,0.03,0.14000000000000001,3.13,0,0,0.04,0,7.92,1,3,10,0,0,0,0,0,0,0,0,0,0,0,0,0,0,0,0,0,0,0,0,1,0.38,0,0,0,0,null,null,null,null,null,null,null,0,{"$f":"+INDEX($F51:$DJ51,1,Sheet3!$C$1)","v":0},{"$f":"+IF(Sheet3!$C$1=1,IF(DN51<3,0,1),1)","v":1}]
[1,1,"119","10_15",1,9,24545.781765933072,8.2799999999999994,7.73,1233.98,8.35,8.0299999999999994,2.48,0,0,5.51,0,0.05,0.24,0.24,35.549999999999997,35.549999999999997,8.2800000000000011,0,0,7609.33,7609.33,7609.33,0,0,0,0,0,0,0,0,0,0,0,0,1252.8,852.8,0,0,852.8,400,0,0,0,0,0,0,0,0,0,0,0,0,0,0,0,0,0,0,400,0,0,0,8862.1299999999992,0.1,2.2799999999999998,0,0,0.1,5.51,0,0,0.05,0,0.31,0,21,23,5,0,0,0,0,0,0,0,0,0,0,0,0,0,0,0,0,0,0,0,0,0,0,0,0,0,null,null,null,null,null,null,null,0,{"$f":"+INDEX($F52:$DJ52,1,Sheet3!$C$1)","v":0},{"$f":"+IF(Sheet3!$C$1=1,IF(DN52<3,0,1),1)","v":1}]
[1,1,"119","10_15",2,2,13799.666716121737,4.04,2.38,241.16,4.04,4.04,2.16,0,0,1.68,0,0.2,0,0,13.6,13.6,4.04,0,0,1691.3600000000001,1691.3600000000001,1691.3600000000001,0,0,0,0,0,0,0,0,0,0,0,0,1870.4,1050.4000000000001,0,0,1050.4000000000001,820,0,0,0,0,0,0,0,0,0,0,0,0,0,0,0,0,0,0,820,0,0,0,3561.76,0,2.16,0,0,0,1.68,0,0,0.2,0,0,0,3,16,0,0,0,0,0,0,0,0,0,0,0,0,0,0,0,0,0,0,0,0,0,0,0,0,0,0,null,null,null,null,null,null,null,0,{"$f":"+INDEX($F53:$DJ53,1,Sheet3!$C$1)","v":0},{"$f":"+IF(Sheet3!$C$1=1,IF(DN53<3,0,1),1)","v":1}]
[1,1,"119","10_2",1,19,45007.376886636957,39.649999999999991,27.82,2695.86,51.45,25.82,3.24,0,0,16.47,0,1.32,25.38,25.379999999999995,23.399999999999995,23.399999999999995,42.519999999999996,4.7800000000000011,17.82,16063.72,16063.72,16063.72,0,0,0,0,0,0,0,0,0,0,0,0,9473.4000000000033,7685.2000000000007,0,0,7685.2000000000007,1788.2,0,0,0,0,0,0,0,0,0,0,0,0,908.2,0,0,0,0,0,880,0,0,0,25537.120000000003,0.11,2.9,0,0,0.23,16.47,0,0.11,0.76,0.52,30.34,0,17,12,0,0,0,0,0,0,0,0,0,0,0,0,0,0,0,0,0,0,0,0,4,4.78,0,0,0,0,null,null,null,null,null,null,null,0,{"$f":"+INDEX($F54:$DJ54,1,Sheet3!$C$1)","v":0},{"$f":"+IF(Sheet3!$C$1=1,IF(DN54<3,0,1),1)","v":1}]
[1,1,"119","10_2",2,28,210199.14319673093,173.32500000000005,37.700000000000003,2884.6999999999994,317.82,37.380000000000003,4.2300000000000004,0,0,18.59,0,0.95,277.62,193.92000000000004,85.7,87.7,162.80000000000001,9.09,299.24,23669.21000000001,23669.21000000001,23669.21000000001,0,0,0,0,0,0,0,0,0,0,0,0,40423.019999999997,38337.1,0,0,38337.1,2085.92,0,0,0,0,0,0,0,0,0,0,0,0,779,0,0,350,0,0,956.92,0,0,0,64092.23,0.79,2.98,0,0,0.46,18.59,0,0.44,1.68,0.32,291.33,2,44,66,4,5,1,0,0,0,0,0,0,0,0,0,0,0,0,0,0,0,0,0,3,4.0999999999999996,0,0,1,4.99,null,null,null,null,null,null,null,0,{"$f":"+INDEX($F55:$DJ55,1,Sheet3!$C$1)","v":0},{"$f":"+IF(Sheet3!$C$1=1,IF(DN55<3,0,1),1)","v":1}]
[1,1,"119","10_2",3,1,41789.742953693189,30.355,5.53,361.6,56.04,4.63,0.71,0,0,0,0,0,51.33,0,7.2,7.2,56.019999999999996,0,56.019999999999996,845.32,845.32,845.32,0,0,0,0,0,0,0,0,0,0,0,0,3323.8,3323.8,0,0,3323.8,0,0,0,0,0,0,0,0,0,0,0,0,0,0,0,0,0,0,0,0,0,0,0,4169.12,0.1,0.61,0,0,0,0,0,0,3.82,0.1,51.35,0,0,12,0,0,0,0,0,0,0,0,0,0,0,0,0,0,0,0,0,0,0,0,0,0,0,0,0,0,null,null,null,null,null,null,null,0,{"$f":"+INDEX($F56:$DJ56,1,Sheet3!$C$1)","v":0},{"$f":"+IF(Sheet3!$C$1=1,IF(DN56<3,0,1),1)","v":1}]
[1,1,"119",11,1,83,174081.56407661663,164.04999999999998,115.30000000000003,9124.9500000000025,226.80000000000007,124.1,8.32,0,0,64.16,0,3.339999999999999,124.61,44.670000000000009,84.84999999999998,130.90599999999998,174.64,23.490000000000006,94.68,70162.229999999981,70162.229999999981,70162.229999999981,0,0,0,0,0,0,0,0,0,0,0,0,46010.2,39701.1,0,0,39701.1,6309.0999999999995,0,0,0,0,0,0,0,0,0,0,0,0,3714.5,0,0,0,0,0,2594.6,0,0,0,116172.43000000002,1.26,5.68,0,0.12,1.26,64.16,0,1.62,1.07,0.64,149.96,0,3,7,395,43,74,11,0,0,0,0,0,0,0,0,0,0,0,0,0,0,0,0,16,19.55,0,0,0,0,null,null,null,null,null,null,null,0,{"$f":"+INDEX($F57:$DJ57,1,Sheet3!$C$1)","v":0},{"$f":"+IF(Sheet3!$C$1=1,IF(DN57<3,0,1),1)","v":1}]
[1,1,"119",11,2,61,440603.32699871337,415.38500000000005,59.629999999999995,4767.470000000003,790.98000000000025,54.86,4.5599999999999996,0,0,16.73,0,0,738.09,135.30000000000001,67.399999999999991,210.40000000000003,564.67000000000007,8.1300000000000008,766.13000000000034,51565.169999999969,51565.169999999969,51565.169999999969,0,0,0,0,0,0,0,0,0,0,0,0,100063.37,86087.1,0,0,86087.1,13976.269999999999,0,48,0,0,0,0,0,0,0,0,0,0,858.27,0,0,0,0,0,13070,0,0,0,151628.53999999998,0.6,2.84,0,0,1.1200000000000001,16.73,0,3.1,1.8,0.94,762.94,0,20,10,225,14,30,7,0,0,0,0,1,2.64,0,0,0,0,0,0,0,0,0,0,5,5.09,0,0,0,0,null,null,null,null,null,null,null,0,{"$f":"+INDEX($F58:$DJ58,1,Sheet3!$C$1)","v":0},{"$f":"+IF(Sheet3!$C$1=1,IF(DN58<3,0,1),1)","v":1}]
[1,1,"119",11,3,2,73723.026698604517,64.680000000000007,1.64,123.82000000000001,117.97,14.44,0,0,0,2.31,0,0,111.29,0,10.4,55.4,114.63,50.160000000000004,114.63,1690.67,1690.67,1690.67,0,0,0,0,0,0,0,0,0,0,0,0,12351.29,6714.6,0,0,6714.6,5636.6900000000005,0,0,0,0,0,0,0,0,0,0,0,0,972.44,0,0,264.25,0,0,4400,0,0,0,14041.96,0,0,0,0,0,2.31,0,0,0.72,0.31,114.63,0,4,11,0,0,0,0,0,0,0,0,0,0,0,0,0,0,0,0,0,0,0,0,1,10.199999999999999,0,0,1,39.96,null,null,null,null,null,null,null,0,{"$f":"+INDEX($F59:$DJ59,1,Sheet3!$C$1)","v":0},{"$f":"+IF(Sheet3!$C$1=1,IF(DN59<3,0,1),1)","v":1}]
[1,1,"119",12,1,105,222456.90540213085,130.04000000000002,115.99000000000004,12632.650000000005,146.02000000000001,113.65,49.84,0,0,51.62,0,14.729999999999997,14.74,13.679999999999996,127.74999999999996,143.04999999999998,130.97000000000003,0.75,3.5300000000000002,88762.080000000045,88762.080000000045,88762.080000000045,0,0,0,0,0,0,0,0,0,0,0,0,22516.699999999997,22274.199999999997,0,0,22274.199999999997,242.5,0,0,0,0,0,0,0,0,0,0,0,0,142.5,0,0,0,0,0,100,0,0,0,111278.78000000013,2.83,41.68,0,0.2,5.13,51.62,0,2.12,9.51,0.86,29.73,0,43,62,245,33,44,3,0,0,0,0,0,0,0,0,0,0,0,0,0,0,0,0,1,0.75,0,0,0,0,null,null,null,null,null,null,null,0,{"$f":"+INDEX($F60:$DJ60,1,Sheet3!$C$1)","v":0},{"$f":"+IF(Sheet3!$C$1=1,IF(DN60<3,0,1),1)","v":1}]
[1,1,"119",12,2,20,149166.05162731194,90.094999999999999,33.409999999999997,2622.3,149.65,33.53,10.97,0,0,9.4,0,3.7,110.05,26.219999999999995,39.4,54.4,111.33,2.99,112.34,16906.499999999996,16906.499999999996,16906.499999999996,0,0,0,0,0,0,0,0,0,0,0,0,16297.85,16097.85,0,0,16097.85,200,0,0,0,0,0,0,0,0,0,0,0,0,0,0,0,0,0,0,200,0,0,0,33204.350000000006,0,7.59,0,0,3.38,9.4,0,3.49,3.68,0.57999999999999996,120.73,1,14,24,63,9,0,0,0,0,0,0,0,0,0,0,0,0,0,0,0,0,0,0,0,0,0,0,0,0,null,null,null,null,null,null,null,0,{"$f":"+INDEX($F61:$DJ61,1,Sheet3!$C$1)","v":0},{"$f":"+IF(Sheet3!$C$1=1,IF(DN61<3,0,1),1)","v":1}]
[1,1,"119",13,1,232,259212.10816322386,285.32,265.48000000000008,27352.150000000012,326.09000000000015,223.69,6.74,0,0,201.88,8.0299999999999994,10.449999999999996,59.91,0,0,0,286.82,0,0,195783.4,195783.4,195783.4,0,0,0,0,0,0,0,0,0,0,0,0,1921.5,1921.5,0,0,1921.5,0,0,0,0,0,0,0,0,0,0,0,0,0,0,0,0,0,0,0,0,0,0,0,197704.90000000005,0.55000000000000004,4.1500000000000004,0,0.34,1.7,201.88,0.04,1.1499999999999999,7.24,0.5,98.99,0,0,0,0,0,0,0,0,0,0,0,0,0,0,0,0,0,0,0,0,0,0,0,0,0,0,0,0,0,null,null,null,null,null,null,null,0,{"$f":"+INDEX($F62:$DJ62,1,Sheet3!$C$1)","v":0},{"$f":"+IF(Sheet3!$C$1=1,IF(DN62<3,0,1),1)","v":1}]
[1,1,"119",13,2,8,45215.723585994507,28.47,17.13,1590.9099999999999,38.769999999999996,6.44,1.02,0,0,15.82,0,1.04,20.72,0,0,0,38.599999999999994,0,21.96,6765.41,6765.41,6765.41,0,0,0,0,0,0,0,0,0,0,0,0,23.4,23.4,0,0,23.4,0,0,0,0,0,0,0,0,0,0,0,0,0,0,0,0,0,0,0,0,0,0,0,6788.81,0,0.67,0,0,0.35,15.82,0,0.49,0.42,0.13,20.89,0,0,0,0,0,0,0,0,0,0,0,0,0,0,0,0,0,0,0,0,0,0,0,0,0,0,0,0,0,null,null,null,null,null,null,null,0,{"$f":"+INDEX($F63:$DJ63,1,Sheet3!$C$1)","v":0},{"$f":"+IF(Sheet3!$C$1=1,IF(DN63<3,0,1),1)","v":1}]
[1,1,"11A","1_1",1,395,443703.94164338912,375.01999999999964,346.44,47456.85,380.80999999999989,338.89,287.81,0,0,49.12,1.22,19.129999999999995,17.739999999999998,0.36,7.3,8.1,375.02999999999963,0,0,333415.38000000064,333415.38000000064,333415.38000000064,0,0,0,0,0,0,0,0,0,0,0,0,21151.239999999994,21151.239999999994,0,0,21151.239999999994,0,0,0,0,0,0,0,0,0,0,0,0,0,0,0,0,0,0,0,0,0,0,0,354566.62000000081,24.11,251.06,0,1.96,10.68,49.12,1.22,4.4000000000000004,10.48,1.69,23.53,0,2,3,10,1,4,3,0,0,0,0,0,0,0,0,0,0,0,0,0,0,0,0,0,0,0,0,0,0,null,null,null,null,null,null,null,0,{"$f":"+INDEX($F64:$DJ64,1,Sheet3!$C$1)","v":0},{"$f":"+IF(Sheet3!$C$1=1,IF(DN64<3,0,1),1)","v":1}]
[1,1,"11A","1_1",2,4,20146.694727593436,11.15,9.98,807.87999999999988,11.22,11.09,8.69,0,0,1.53,0,0.89,0.04,0,2,2,11.15,0,0,3381.3,3381.3,3381.3,0,0,0,0,0,0,0,0,0,0,0,0,969.8,969.8,0,0,969.8,0,0,0,0,0,0,0,0,0,0,0,0,0,0,0,0,0,0,0,0,0,0,0,4351.1000000000004,0,7.64,0,0,0.11,1.53,0,0.14000000000000001,0.24,0,0.11,0,1,1,0,0,0,0,0,0,0,0,0,0,0,0,0,0,0,0,0,0,0,0,0,0,0,0,0,0,null,null,null,null,null,null,null,0,{"$f":"+INDEX($F65:$DJ65,1,Sheet3!$C$1)","v":0},{"$f":"+IF(Sheet3!$C$1=1,IF(DN65<3,0,1),1)","v":1}]
[1,1,"11A","1_1",3,3,187889.02470613073,4.08,4.01,407.97,4.71,3.27,3.39,0,0,0.62,0,7.0000000000000007E-2,0,0,22,22,4.08,2.14,0,2535.9900000000002,2535.9900000000002,2535.9900000000002,0,0,0,0,0,0,0,0,0,0,0,0,1583,299,0,0,299,1284,0,1284,0,0,0,0,0,0,0,0,0,0,0,0,0,0,0,0,0,0,0,0,4118.99,0,0.51,0,0,2.88,0.62,0,7.0000000000000007E-2,0,0,0.63,1,11,18,0,0,0,0,0,0,0,0,2,2.14,0,0,0,0,0,0,0,0,0,0,0,0,0,0,0,0,null,null,null,null,null,null,null,0,{"$f":"+INDEX($F66:$DJ66,1,Sheet3!$C$1)","v":0},{"$f":"+IF(Sheet3!$C$1=1,IF(DN66<3,0,1),1)","v":1}]
[1,1,"11A","1_1",4,2,209426.40000000002,3.4,3.18,338.75,3.4,3.36,3.4,0,0,0,0,0,0,0,0,0,3.4,3.4,0,1690.63,1690.63,1690.63,0,0,0,0,0,0,0,0,0,0,0,0,2474.1999999999998,434.2,0,0,434.2,2040,0,2040,0,0,0,0,0,0,0,0,0,0,0,0,0,0,0,0,0,0,0,0,4164.83,0,0,0,0,3.4,0,0,0,0,0,0,0,0,0,0,0,0,0,0,0,0,0,2,3.4,0,0,0,0,0,0,0,0,0,0,0,0,0,0,0,0,null,null,null,null,null,null,null,{"$f":"+DN67*DO67","v":0},{"$f":"+INDEX($F67:$DJ67,1,Sheet3!$C$1)","v":0},{"$f":"+IF(Sheet3!$C$1=1,IF(DN67<3,0,1),1)","v":1}]
[1,1,"11A","1_2",1,66,44966.345085946348,59.74,55.850000000000016,7625.6600000000026,60.24,10.199999999999999,48.9,0,0,6.62,0,1.9800000000000009,2.2400000000000002,0,0,0,59.7,0,0,55576.56,55576.56,55576.56,0,0,0,0,0,0,0,0,0,0,0,0,3286.3999999999996,3286.3999999999996,0,0,3286.3999999999996,0,0,0,0,0,0,0,0,0,0,0,0,0,0,0,0,0,0,0,0,0,0,0,58862.959999999992,33.53,14.17,0,0.27,0.93,6.62,0,0.4,1.1100000000000001,0,2.74,0,0,0,0,0,0,0,0,0,0,0,0,0,0,0,0,0,0,0,0,0,0,0,0,0,0,0,0,0,null,null,null,null,null,null,null,0,{"$f":"+INDEX($F68:$DJ68,1,Sheet3!$C$1)","v":0},{"$f":"+IF(Sheet3!$C$1=1,IF(DN68<3,0,1),1)","v":1}]
[1,1,"11A",3,1,1,3862.8834129426168,0.66,0.66,135.02000000000001,0.66,0.53,0.53,0,0,0.05,0,0.08,0,0,0,0,0.66000000000000014,0,0,845.33,845.33,845.33,0,0,0,0,0,0,0,0,0,0,0,0,0,0,0,0,0,0,null,null,null,null,null,null,null,null,null,null,null,null,null,null,null,null,null,null,null,null,null,null,845.33,0,0.14000000000000001,0,0,0.39,0.05,0,0,0.08,0,0,0,0,0,0,0,0,0,0,0,0,0,0,0,0,0,0,0,0,0,0,0,0,0,0,0,0,0,0,0,null,null,null,null,null,null,null,0,{"$f":"+INDEX($F69:$DJ69,1,Sheet3!$C$1)","v":0},{"$f":"+IF(Sheet3!$C$1=1,IF(DN69<3,0,1),1)","v":1}]
[1,1,"11A",4,1,46,105439.76702466272,33.619999999999997,30.330000000000002,4127,33.869999999999997,24.89,19.61,0,0,8.0299999999999994,0.6,1.5700000000000007,3.81,0.55000000000000004,0.6,0.6,33.550000000000004,0,0,38634.639999999992,38634.639999999992,38634.639999999992,0,0,0,0,0,0,0,0,0,0,0,0,842.40000000000009,842.40000000000009,0,0,842.40000000000009,0,0,0,0,0,0,0,0,0,0,0,0,0,0,0,0,0,0,0,0,0,0,0,39477.039999999994,2.57,8.0500000000000007,0,0.62,8.3699999999999992,8.0299999999999994,0.6,0.47,1.01,0,4.0599999999999996,0,0,0,1,0,3,0,0,0,0,0,0,0,0,0,0,0,0,0,0,0,0,0,0,0,0,0,0,0,null,null,null,null,null,null,null,0,{"$f":"+INDEX($F70:$DJ70,1,Sheet3!$C$1)","v":0},{"$f":"+IF(Sheet3!$C$1=1,IF(DN70<3,0,1),1)","v":1}]
[1,1,"11A",4,2,37,325637.54393387533,46.409999999999989,42.199999999999996,4499.6500000000005,48.57,34.51,32.26,0,0,6.05,0.39,5.28,2.4300000000000002,0.27,5.3500000000000005,5.3500000000000005,45.959999999999994,0,0,31277.070000000022,31277.070000000022,31277.070000000022,0,0,0,0,0,0,0,0,0,0,0,0,3663.4,3663.4,0,0,3663.4,0,0,0,0,0,0,0,0,0,0,0,0,0,0,0,0,0,0,0,0,0,0,0,34940.470000000008,2.69,7.45,0,0.06,21.62,6.49,0.39,2.56,2.5,0.02,4.59,0,1,3,1,1,10,5,0,0,0,0,0,0,0,0,0,0,0,0,0,0,0,0,0,0,0,0,0,0,null,null,null,null,null,null,null,0,{"$f":"+INDEX($F71:$DJ71,1,Sheet3!$C$1)","v":0},{"$f":"+IF(Sheet3!$C$1=1,IF(DN71<3,0,1),1)","v":1}]
[1,1,"11A",4,3,16,725276.53816923231,31.08,25.779999999999998,2424.75,31.38,27.05,26.85,0,0,2.34,0,1.5899999999999999,0.3,0,0,0,31.029999999999998,0,0,13525.24,13525.24,13525.24,0,0,0,0,0,0,0,0,0,0,0,0,936,936,0,0,936,0,0,0,0,0,0,0,0,0,0,0,0,0,0,0,0,0,0,0,0,0,0,0,14461.24,0.2,1.02,0,0,25.63,2.34,0,0.33,1.2,0,0.6,0,0,0,0,0,0,0,0,0,0,0,0,0,0,0,0,0,0,0,0,0,0,0,0,0,0,0,0,0,null,null,null,null,null,null,null,0,{"$f":"+INDEX($F72:$DJ72,1,Sheet3!$C$1)","v":0},{"$f":"+IF(Sheet3!$C$1=1,IF(DN72<3,0,1),1)","v":1}]
[1,1,"11A",5,1,16,39100.581193786835,23.380000000000003,21.97,2302.6999999999994,23.590000000000003,15.17,1.47,0,0,1.76,0,15.809999999999999,4.34,0,0.6,1.6,23.380000000000003,2.37,0,13525.199999999999,13525.199999999999,13525.199999999999,0,0,0,0,0,0,0,0,0,0,0,0,5435.2500000000018,4279.6000000000004,0,0,4279.6000000000004,1155.6500000000001,0,0,0,0,0,129.15,0,0,0,1026.5,0,0,0,0,0,0,0,0,0,0,0,0,18960.45,0.62,0.56000000000000005,0,0.05,0.24,1.76,0,0.39,14.91,0,4.55,0,0,0,4,0,0,0,2,2.34,0,0,0,0,0,0,0,0,0,0,1,1.23,0,0,0,0,0,0,0,0,null,null,null,null,null,null,null,0,{"$f":"+INDEX($F73:$DJ73,1,Sheet3!$C$1)","v":0},{"$f":"+IF(Sheet3!$C$1=1,IF(DN73<3,0,1),1)","v":1}]
[1,1,"11A",5,2,13,132589.94090720959,65.009999999999991,54.489999999999995,3738.64,65.299999999999983,31.76,2.14,0,0,3.16,1.31,57.44,0.96,0,0,0,65.009999999999977,24.009999999999994,0,10989.35,10989.35,10989.35,0,0,0,0,0,0,0,0,0,0,0,0,15922.560000000001,9159.1,0,0,9159.1,6763.46,0,0,0,0,0,1046.8499999999999,0,0,0,5716.61,0,0,0,0,0,0,0,0,0,0,0,0,26911.910000000003,0,1.33,0,0,0.76,3.16,1.31,1.92,50.3,1.55,1.25,0,0,0,0,0,0,0,4,21.32,0,0,0,0,0,0,0,0,0,0,3,9.9700000000000006,0,0,0,0,0,0,0,0,null,null,null,null,null,null,null,0,{"$f":"+INDEX($F74:$DJ74,1,Sheet3!$C$1)","v":0},{"$f":"+IF(Sheet3!$C$1=1,IF(DN74<3,0,1),1)","v":1}]
[1,1,"11A",5,3,2,57628.447637854639,28.9,24.009999999999998,1570,29.32,5.26,0,0,0,0.41,0,28.490000000000002,0,0,0,0,28.9,19.27,0,1690.66,1690.66,1690.66,0,0,0,0,0,0,0,0,0,0,0,0,10787.4,3406,0,0,3406,7381.4,0,3572.45,0,0,217.08,1050,0,0,0,2541.87,0,0,0,0,0,0,0,0,0,0,0,0,12478.06,0,0,0,0,0,0.41,0,0.09,24.61,1.34,0.42,0,0,0,0,0,0,0,1,11.64,0,0,1,6.29,0,0,1,1.34,0,0,1,10,0,0,0,0,0,0,0,0,null,null,null,null,null,null,null,0,{"$f":"+INDEX($F75:$DJ75,1,Sheet3!$C$1)","v":0},{"$f":"+IF(Sheet3!$C$1=1,IF(DN75<3,0,1),1)","v":1}]
[1,1,"11A",6,1,22,49610.558152295744,16.86,15.39,1655.62,16.919999999999998,12.46,10.08,0,0,0.99,0,4.54,1.25,0,0,0,16.86,0,0,18597.14,18597.14,18597.14,0,0,0,0,0,0,0,0,0,0,0,0,1461.2,1461.2,0,0,1461.2,0,0,0,0,0,0,0,0,0,0,0,0,0,0,0,0,0,0,0,0,0,0,0,20058.339999999997,6.35,3.54,0,7.0000000000000007E-2,0.12,0.99,0,4.32,0.2,0.02,1.31,0,0,0,0,0,0,0,0,0,0,0,0,0,0,0,0,0,0,0,0,0,0,0,0,0,0,0,0,0,null,null,null,null,null,null,null,0,{"$f":"+INDEX($F76:$DJ76,1,Sheet3!$C$1)","v":0},{"$f":"+IF(Sheet3!$C$1=1,IF(DN76<3,0,1),1)","v":1}]
[1,1,"11A",6,2,35,361275.38858246856,63.230000000000011,48.730000000000004,4272.13,66.820000000000022,49,9.56,0,0,6.5,0.46,44.42,2.29,0,3.9,3.9,63.230000000000011,15.680000000000001,0,29586.490000000009,29586.490000000009,29586.490000000009,0,0,0,0,0,0,0,0,0,0,0,0,17370.670000000002,8918.3000000000011,0,0,8918.3000000000011,8452.3700000000008,0,0,0,0,0,215.25,0,0,0,8237.1200000000008,0,0,0,0,0,0,0,0,0,0,0,0,46957.159999999996,2.99,5.09,0,0.31,1.17,6.5,0.46,40.840000000000003,1.89,0.8,5.88,0,0,0,19,5,2,0,8,13.63,0,0,0,0,0,0,0,0,0,0,1,2.0499999999999998,0,0,0,0,0,0,0,0,null,null,null,null,null,null,null,0,{"$f":"+INDEX($F77:$DJ77,1,Sheet3!$C$1)","v":0},{"$f":"+IF(Sheet3!$C$1=1,IF(DN77<3,0,1),1)","v":1}]
[1,1,"11A",6,3,23,850656.34929336561,59.180000000000007,44.70000000000001,3795.4999999999995,60.36,51.91,1.06,0,0,0.98,0.05,57.09,0,0,0,0,59.180000000000007,38.200000000000003,0,19442.560000000001,19442.560000000001,19442.560000000001,0,0,0,0,0,0,0,0,0,0,0,0,27283.16,6748.9000000000005,0,0,6748.9000000000005,20534.260000000002,1086.3,3357.4,0,0,0,194.25,0,0,0,15896.31,0,0,0,0,0,0,0,0,0,0,0,0,46725.720000000008,0.37,0.09,0,0,0.6,0.98,0.05,55.94,0.21,0,1.18,0,0,0,0,0,0,0,6,30.99,1,1.42,3,3.94,0,0,0,0,0,0,1,1.85,0,0,0,0,0,0,0,0,null,null,null,null,null,null,null,0,{"$f":"+INDEX($F78:$DJ78,1,Sheet3!$C$1)","v":0},{"$f":"+IF(Sheet3!$C$1=1,IF(DN78<3,0,1),1)","v":1}]
[1,1,"11A",6,4,2,429878.21289773087,23.41,18.82,1365.5500000000002,23.81,21.99,0.57999999999999996,0,0,0.28000000000000003,0,22.549999999999997,0,0,0,0,23.409999999999993,12.249999999999998,0,1690.66,1690.66,1690.66,0,0,0,0,0,0,0,0,0,0,0,0,8036.64,1662.6,0,0,1662.6,6374.04,0,0,0,0,0,0,0,0,0,6374.04,0,0,0,0,0,0,0,0,0,0,0,0,9727.2999999999993,0.57999999999999996,0,0,0,0,0.28000000000000003,0,21.99,0,0,0.4,0,0,0,0,0,0,0,2,12.25,0,0,0,0,0,0,0,0,0,0,0,0,0,0,0,0,0,0,0,0,null,null,null,null,null,null,null,0,{"$f":"+INDEX($F79:$DJ79,1,Sheet3!$C$1)","v":0},{"$f":"+IF(Sheet3!$C$1=1,IF(DN79<3,0,1),1)","v":1}]
[1,1,"11A",8,1,377,660036.96808623883,363.44999999999987,335.9699999999998,46124.059999999976,375.34999999999991,291.02,177.7,0,0,71.459999999999994,2.2200000000000002,76.45999999999998,35.61,3.41,35.65,35.65,363.45999999999987,0,0,318041.51000000036,318041.51000000036,318041.51000000036,0,0,0,0,0,0,0,0,0,0,0,0,28185.170000000002,27985.170000000002,0,0,27985.170000000002,200,0,0,0,0,0,0,0,0,0,0,0,0,0,0,0,0,0,0,200,0,0,0,346226.68000000069,17.850000000000001,125.27,0,2.74,31.74,71.459999999999994,2.2200000000000002,19.559999999999999,44.62,7.35,47.51,0,10,21,67,14,8,6,0,0,0,0,0,0,0,0,0,0,0,0,0,0,0,0,0,0,0,0,0,0,null,null,null,null,null,null,null,0,{"$f":"+INDEX($F80:$DJ80,1,Sheet3!$C$1)","v":0},{"$f":"+IF(Sheet3!$C$1=1,IF(DN80<3,0,1),1)","v":1}]
[1,1,"11A",8,2,35,218411.4767947107,67.500000000000014,59.559999999999988,5793.5200000000013,72.38,53.08,33.58,0,0,10.65,1.31,20.21,1.75,0.11,7.8,7.8,67.350000000000009,4.1800000000000006,0,29442.760000000009,29442.760000000009,29442.760000000009,0,0,0,0,0,0,0,0,0,0,0,0,10719.08,8563.7899999999991,0,0,8563.7899999999991,2155.29,0,0,0,0,0,128.1,0,0,0,2027.19,0,0,0,0,0,0,0,0,0,0,0,0,40161.839999999997,2.58,21.46,0,0.14000000000000001,9.4,10.65,1.31,5.23,11.72,1.82,6.63,0,0,11,12,0,0,0,3,4.12,0,0,0,0,0,0,0,0,0,0,1,1.22,0,0,0,0,0,0,0,0,null,null,null,null,null,null,null,0,{"$f":"+INDEX($F81:$DJ81,1,Sheet3!$C$1)","v":0},{"$f":"+IF(Sheet3!$C$1=1,IF(DN81<3,0,1),1)","v":1}]
[1,1,"11A",8,3,1,26018.029835531161,13.03,8.08,528.35,13.41,3.43,0,0,0,4.54,0,8.49,0,0,1.8,1.8,13.029999999999998,7.72,0,845.32,845.32,845.32,0,0,0,0,0,0,0,0,0,0,0,0,3530.7999999999997,2279.1999999999998,0,0,2279.1999999999998,1251.5999999999999,0,0,0,0,0,810.6,0,0,0,441,0,0,0,0,0,0,0,0,0,0,0,0,4376.12,0,0,0,0,0,4.54,0,0.37,7.41,0,0.38,0,0,0,5,6,1,0,1,1.96,0,0,0,0,0,0,0,0,0,0,1,7.72,0,0,0,0,0,0,0,0,null,null,null,null,null,null,null,0,{"$f":"+INDEX($F82:$DJ82,1,Sheet3!$C$1)","v":0},{"$f":"+IF(Sheet3!$C$1=1,IF(DN82<3,0,1),1)","v":1}]
[1,1,"11A",9,1,9,29409.66372117315,8.9700000000000006,8.1300000000000008,1106.58,9.6100000000000012,8.5399999999999991,3.25,0,0,1.55,0,0.15,4.0199999999999996,4.0200000000000005,16.2,16.2,8.9700000000000006,0,0,7608.49,7608.49,7608.49,0,0,0,0,0,0,0,0,0,0,0,0,1123.2,1123.2,0,0,1123.2,0,0,0,0,0,0,0,0,0,0,0,0,0,0,0,0,0,0,0,0,0,0,0,8731.69,0,3.04,0,0,0.21,1.55,0,0,0.09,0,4.66,10,1,11,0,0,0,0,0,0,0,0,0,0,0,0,0,0,0,0,0,0,0,0,0,0,0,0,0,0,null,null,null,null,null,null,null,0,{"$f":"+INDEX($F83:$DJ83,1,Sheet3!$C$1)","v":0},{"$f":"+IF(Sheet3!$C$1=1,IF(DN83<3,0,1),1)","v":1}]
[1,1,"11A",9,2,6,35288.009742324328,8.34,7,849.02,10.64,8.34,3.24,0,0,3.02,0,0.31,1.77,1.77,13,13,8.3400000000000016,0,0,5071.95,5071.95,5071.95,0,0,0,0,0,0,0,0,0,0,0,0,972.4,972.4,0,0,972.4,0,0,0,0,0,0,0,0,0,0,0,0,0,0,0,0,0,0,0,0,0,0,0,6044.35,0,2.72,0,0,0.52,3.02,0,0,0.28000000000000003,0,4.07,9,1,6,0,0,0,0,0,0,0,0,0,0,0,0,0,0,0,0,0,0,0,0,0,0,0,0,0,0,null,null,null,null,null,null,null,0,{"$f":"+INDEX($F84:$DJ84,1,Sheet3!$C$1)","v":0},{"$f":"+IF(Sheet3!$C$1=1,IF(DN84<3,0,1),1)","v":1}]
[1,1,"11A","10_1",1,15,34935.512575209374,14.820000000000002,13.720000000000002,2064.04,15.070000000000002,13.84,2.33,0,0,10.7,0,0.64000000000000012,1.1499999999999999,1.1500000000000001,22.7,22.7,14.820000000000002,0,0,12642.059999999998,12642.059999999998,12642.059999999998,0,0,0,0,0,0,0,0,0,0,0,0,1953.6100000000001,1393.6000000000001,0,0,1393.6000000000001,560.01,0,0,0,0,0,0,0,0,0,0,0,0,0,0,0,0,0,0,560.01,0,0,0,14595.67,0.63,1.49,0,0.06,0.15,10.7,0,0.22,0.28999999999999998,0.01,1.4,0,5,29,11,1,1,1,0,0,0,0,0,0,0,0,0,0,0,0,0,0,0,0,0,0,0,0,0,0,null,null,null,null,null,null,null,0,{"$f":"+INDEX($F85:$DJ85,1,Sheet3!$C$1)","v":0},{"$f":"+IF(Sheet3!$C$1=1,IF(DN85<3,0,1),1)","v":1}]
[1,1,"11A","10_1",2,4,49239.811068791154,16.509999999999998,8.0499999999999989,680.14,16.72,10.79,1.59,0,0,14.24,0,0.39999999999999997,0.28000000000000003,0.28000000000000003,24.800000000000004,24.800000000000004,16.509999999999998,0,0,3381.27,3381.27,3381.27,0,0,0,0,0,0,0,0,0,0,0,0,3354.5,3354.5,0,0,3354.5,0,0,0,0,0,0,0,0,0,0,0,0,0,0,0,0,0,0,0,0,0,0,0,6735.77,0,0.78,0,0,0.81,14.24,0,0.05,0.35,0,0.49,0,4,35,0,0,0,0,0,0,0,0,0,0,0,0,0,0,0,0,0,0,0,0,0,0,0,0,0,0,null,null,null,null,null,null,null,0,{"$f":"+INDEX($F86:$DJ86,1,Sheet3!$C$1)","v":0},{"$f":"+IF(Sheet3!$C$1=1,IF(DN86<3,0,1),1)","v":1}]
[1,1,"11A","10_15",1,14,37175.798702161163,10.77,9.8299999999999983,1917.38,10.81,8.09,4.97,0,0,4.3099999999999996,0,0.6100000000000001,0.88,0.88,32.149999999999991,32.149999999999991,10.77,0,0,11835.35,11835.35,11835.35,0,0,0,0,0,0,0,0,0,0,0,0,927.40000000000009,647.40000000000009,0,0,647.40000000000009,280,0,0,0,0,0,0,0,0,0,0,0,0,0,0,0,0,0,0,280,0,0,0,12762.75,1.38,3.03,0,0.17,0.39,4.3099999999999996,0,0.02,0.49,0.1,0.92,0,6,43,0,0,4,5,0,0,0,0,0,0,0,0,0,0,0,0,0,0,0,0,0,0,0,0,0,0,null,null,null,null,null,null,null,0,{"$f":"+INDEX($F87:$DJ87,1,Sheet3!$C$1)","v":0},{"$f":"+IF(Sheet3!$C$1=1,IF(DN87<3,0,1),1)","v":1}]
[1,1,"11A","10_15",2,18,113138.82014273116,23.569999999999997,21.78,2248.81,23.59,16.940000000000001,9.15,0,0,11.45,0,2.46,0.51,0.51,104.80000000000001,104.80000000000001,23.569999999999997,0,0,15218.61,15218.61,15218.61,0,0,0,0,0,0,0,0,0,0,0,0,2540.1999999999998,2540.1999999999998,0,0,2540.1999999999998,0,0,0,0,0,0,0,0,0,0,0,0,0,0,0,0,0,0,0,0,0,0,0,17758.810000000001,3.11,4.8899999999999997,0,0.24,0.91,11.45,0,0.13,1.94,0,0.53,3,13,140,17,3,18,2,0,0,0,0,0,0,0,0,0,0,0,0,0,0,0,0,0,0,0,0,0,0,null,null,null,null,null,null,null,0,{"$f":"+INDEX($F88:$DJ88,1,Sheet3!$C$1)","v":0},{"$f":"+IF(Sheet3!$C$1=1,IF(DN88<3,0,1),1)","v":1}]
[1,1,"11A","10_2",1,17,36412.021136990363,27.184999999999999,23.229999999999997,2706.9100000000008,38.54,21,1.82,0,0,11.69,0,0.58000000000000007,18.46,11.88,13.4,13.4,32.479999999999997,0,12.36,14370.529999999999,14370.529999999999,14370.529999999999,0,0,0,0,0,0,0,0,0,0,0,0,2132.7600000000002,1992.7600000000002,0,0,1992.7600000000002,140,0,0,0,0,0,0,0,0,0,0,0,0,0,0,0,0,0,0,140,0,0,0,16503.29,0,1.58,0,0.04,0.2,11.69,0,0.05,0.26,0.28999999999999998,24.43,0,5,16,0,0,0,0,0,0,0,0,0,0,0,0,0,0,0,0,0,0,0,0,0,0,0,0,0,0,null,null,null,null,null,null,null,0,{"$f":"+INDEX($F89:$DJ89,1,Sheet3!$C$1)","v":0},{"$f":"+IF(Sheet3!$C$1=1,IF(DN89<3,0,1),1)","v":1}]
[1,1,"11A","10_2",2,5,30778.124307368493,22.035,11.32,919.34,27.830000000000002,11.18,1.53,0,0,12.8,0,0.5,12.2,12.2,12.95,13.95,27.029999999999998,0,9.99,4227.37,4227.37,4227.37,0,0,0,0,0,0,0,0,0,0,0,0,2716.7999999999997,2716.7999999999997,0,0,2716.7999999999997,0,0,0,0,0,0,0,0,0,0,0,0,0,0,0,0,0,0,0,0,0,0,0,6944.17,0.69,0.47,0,0,0.37,12.8,0,0.13,0.26,0,13,0,8,8,5,0,0,0,0,0,0,0,0,0,0,0,0,0,0,0,0,0,0,0,0,0,0,0,0,0,null,null,null,null,null,null,null,0,{"$f":"+INDEX($F90:$DJ90,1,Sheet3!$C$1)","v":0},{"$f":"+IF(Sheet3!$C$1=1,IF(DN90<3,0,1),1)","v":1}]
[1,1,"11A",11,1,16,26085.588649570025,18.589999999999996,15.750000000000002,1480.22,20.95,11.31,1.03,0,0,11.75,0,0.69,7.12,7.12,24.399999999999995,24.399999999999995,20.55,0,4,13525.21,13525.21,13525.21,0,0,0,0,0,0,0,0,0,0,0,0,3208.3999999999996,3208.3999999999996,0,0,3208.3999999999996,0,0,0,0,0,0,0,0,0,0,0,0,0,0,0,0,0,0,0,0,0,0,0,16733.61,0.25,0.67,0,0.04,7.0000000000000007E-2,11.75,0,0.26,0.24,0.1,7.48,0,1,0,120,13,16,7,0,0,0,0,0,0,0,0,0,0,0,0,0,0,0,0,0,0,0,0,0,0,null,null,null,null,null,null,null,0,{"$f":"+INDEX($F91:$DJ91,1,Sheet3!$C$1)","v":0},{"$f":"+IF(Sheet3!$C$1=1,IF(DN91<3,0,1),1)","v":1}]
[1,1,"11A",11,2,2,9340.4681458727646,5.6750000000000007,2.66,469.40999999999997,9.9799999999999986,1.62,0.75,0,0,0.04,0,0.03,8.82,0,7.3,7.3,9.67,0,9.06,1690.64,1690.64,1690.64,0,0,0,0,0,0,0,0,0,0,0,0,1173.3,1173.3,0,0,1173.3,0,0,0,0,0,0,0,0,0,0,0,0,0,0,0,0,0,0,0,0,0,0,0,2863.94,0,0.75,0,0,0,0.04,0,0.03,0,0,9.1300000000000008,0,1,3,11,5,13,1,0,0,0,0,0,0,0,0,0,0,0,0,0,0,0,0,0,0,0,0,0,0,null,null,null,null,null,null,null,0,{"$f":"+INDEX($F92:$DJ92,1,Sheet3!$C$1)","v":0},{"$f":"+IF(Sheet3!$C$1=1,IF(DN92<3,0,1),1)","v":1}]
[1,1,"11A",12,1,138,287944.08902794437,136.3900000000001,122.78000000000006,18329.010000000013,139.5200000000001,117.84,69.48,0,0,33.22,0,15.699999999999998,17.989999999999998,17.990000000000002,165.29999999999998,166.29999999999995,136.32000000000011,0,0,116617.4200000001,116617.4200000001,116617.4200000001,0,0,0,0,0,0,0,0,0,0,0,0,15205.450000000003,14165.450000000003,0,0,14165.450000000003,1040,0,0,0,0,0,0,0,0,0,0,0,0,0,0,0,0,0,0,1040,0,0,0,131822.87000000002,3.26,56.93,0,0.94,8.35,33.22,0,3.64,9.5299999999999994,1.56,21.12,0,37,151,160,21,81,16,0,0,0,0,0,0,0,0,0,0,0,0,0,0,0,0,0,0,0,0,0,0,null,null,null,null,null,null,null,0,{"$f":"+INDEX($F93:$DJ93,1,Sheet3!$C$1)","v":0},{"$f":"+IF(Sheet3!$C$1=1,IF(DN93<3,0,1),1)","v":1}]
[1,1,"11A",12,2,10,64380.1544901202,26.35,23.240000000000002,2106.04,26.35,22.07,9.36,0,0,5.7,0,5.6099999999999994,5.68,5.68,28.849999999999994,28.849999999999994,26.35,0,0,8455.56,8455.56,8455.56,0,0,0,0,0,0,0,0,0,0,0,0,4868.8,4868.8,0,0,4868.8,0,0,0,0,0,0,0,0,0,0,0,0,0,0,0,0,0,0,0,0,0,0,0,13324.359999999999,0.22,7.78,0,0.27,1.0900000000000001,5.7,0,0.95,4.46,0,5.68,1,3,32,29,6,0,0,0,0,0,0,0,0,0,0,0,0,0,0,0,0,0,0,0,0,0,0,0,0,null,null,null,null,null,null,null,0,{"$f":"+INDEX($F94:$DJ94,1,Sheet3!$C$1)","v":0},{"$f":"+IF(Sheet3!$C$1=1,IF(DN94<3,0,1),1)","v":1}]
[1,1,"11A",12,3,1,25624.289895288282,3.25,0.5,43.97,3.25,3.22,0.17,0,0,3.02,0,0.06,0,0,14,17.3,3.25,0,0,845.34,845.34,845.34,0,0,0,0,0,0,0,0,0,0,0,0,0,0,0,0,0,0,null,null,null,null,null,null,null,null,null,null,null,null,null,null,null,null,null,null,null,null,null,null,845.34,0,0,0,0,0.17,3.02,0,0.06,0,0,0,0,2,20,0,0,0,0,0,0,0,0,0,0,0,0,0,0,0,0,0,0,0,0,0,0,0,0,0,0,null,null,null,null,null,null,null,0,{"$f":"+INDEX($F95:$DJ95,1,Sheet3!$C$1)","v":0},{"$f":"+IF(Sheet3!$C$1=1,IF(DN95<3,0,1),1)","v":1}]
[1,1,"11A",13,1,188,239929.05329857409,192.67999999999989,181.44000000000003,25773.940000000006,202.99999999999994,161.88999999999999,9.7100000000000009,0,0,142.46,0,5.3699999999999974,35.14,0,0,0,192.59999999999991,0,0,158382.8300000001,158382.8300000001,158382.8300000001,0,0,0,0,0,0,0,0,0,0,0,0,3005.9700000000003,3005.9700000000003,0,0,3005.9700000000003,0,0,0,0,0,0,0,0,0,0,0,0,0,0,0,0,0,0,0,0,0,0,0,161388.80000000008,0.84,6.86,0,0.26,1.7,142.51,0,1.21,3.41,0.36,45.46,0,0,0,0,0,0,0,0,0,0,0,0,0,0,0,0,0,0,0,0,0,0,0,0,0,0,0,0,0,null,null,null,null,null,null,null,0,{"$f":"+INDEX($F96:$DJ96,1,Sheet3!$C$1)","v":0},{"$f":"+IF(Sheet3!$C$1=1,IF(DN96<3,0,1),1)","v":1}]
[1,1,"11A",13,2,9,58466.818398175994,30.959999999999997,24.04,2112.65,31.99,30.73,0.42,0,0,29.4,0,0.91000000000000014,0.23,0,0,0,30.959999999999997,0,0,7607.93,7607.93,7607.93,0,0,0,0,0,0,0,0,0,0,0,0,1149.1999999999998,1149.1999999999998,0,0,1149.1999999999998,0,0,0,0,0,0,0,0,0,0,0,0,0,0,0,0,0,0,0,0,0,0,0,8757.1299999999992,0,0.31,0,0,0.11,29.4,0,0.36,0.27,0,1.26,0,0,0,0,0,0,0,0,0,0,0,0,0,0,0,0,0,0,0,0,0,0,0,0,0,0,0,0,0,null,null,null,null,null,null,null,0,{"$f":"+INDEX($F97:$DJ97,1,Sheet3!$C$1)","v":0},{"$f":"+IF(Sheet3!$C$1=1,IF(DN97<3,0,1),1)","v":1}]
[1,1,"11A",15,1,3,5179.5082568778744,2.4500000000000002,2.2599999999999998,262.31,2.4500000000000002,1.96,2.39,0,0,0,0,0.05,0.01,0,0,0,2.4500000000000002,0,0,2535.98,2535.98,2535.98,0,0,0,0,0,0,0,0,0,0,0,0,325,325,0,0,325,0,0,0,0,0,0,0,0,0,0,0,0,0,0,0,0,0,0,0,0,0,0,0,2860.98,0.45,0.37,0,0,1.57,0,0,0,0.05,0,0.01,0,0,0,0,0,0,0,0,0,0,0,0,0,0,0,0,0,0,0,0,0,0,0,0,0,0,0,0,0,null,null,null,null,null,null,null,0,{"$f":"+INDEX($F98:$DJ98,1,Sheet3!$C$1)","v":0},{"$f":"+IF(Sheet3!$C$1=1,IF(DN98<3,0,1),1)","v":1}]
[1,1,"11B",0,2,1,12251.898517314286,2.9,2.81,183.74,2.9,0,0.55000000000000004,0,0,0.21,0,1.1299999999999999,1.01,0,0,8.3000000000000007,2.8999999999999995,0,0,845.33,845.33,845.33,0,0,0,0,0,0,0,0,0,0,0,0,754,754,0,0,754,0,0,0,0,0,0,0,0,0,0,0,0,0,0,0,0,0,0,0,0,0,0,0,1599.33,0.55000000000000004,0,0,0,0,0.21,0,0,0.61,0.49,1.01,0,0,0,0,0,0,0,0,0,0,0,0,0,0,0,0,0,0,0,0,0,0,0,0,0,0,0,0,0,null,null,null,null,null,null,null,0,{"$f":"+INDEX($F99:$DJ99,1,Sheet3!$C$1)","v":0},{"$f":"+IF(Sheet3!$C$1=1,IF(DN99<3,0,1),1)","v":1}]
[1,1,"11B",0,3,1,26044.013125663561,12.42,0.72,47.08,25.89,0,0,0,0,0.41,0,0,24.02,0,0,19.3,24.43,0,24.43,845.33,845.33,845.33,0,0,0,0,0,0,0,0,0,0,0,0,2404.6,2404.6,0,0,2404.6,0,0,0,0,0,0,0,0,0,0,0,0,0,0,0,0,0,0,0,0,0,0,0,3249.93,0,0,0,0,0,0.41,0,0,0,0,25.48,0,0,0,0,0,0,0,0,0,0,0,0,0,0,0,0,0,0,0,0,0,0,0,0,0,0,0,0,0,null,null,null,null,null,null,null,0,{"$f":"+INDEX($F100:$DJ100,1,Sheet3!$C$1)","v":0},{"$f":"+IF(Sheet3!$C$1=1,IF(DN100<3,0,1),1)","v":1}]
[1,1,"11B","1_1",1,68,72559.694717473525,138.35999999999999,113.78999999999998,9023.83,164.49,104.21,84.28,0,0,7.98,3.37,6.47,36.26,0.22,0.3,3.3,138.29999999999998,10.91,0,57445.32,57445.32,57445.32,0,0,0,0,0,0,0,0,0,0,0,0,22702.559999999994,22150.599999999995,0,0,22150.599999999995,551.95999999999992,0,0,0,0,74.36,0,0,477.6,0,0,0,0,0,0,0,0,0,0,0,0,0,0,80147.88,16.600000000000001,59.67,0,0.01,8,7.98,3.37,3.17,2.6,0.46,62.39,0,0,0,2,0,0,0,0,0,0,0,0,0,0,0,1,0.54,0,0,0,0,0,0,0,0,0,0,0,0,null,null,null,null,null,null,null,0,{"$f":"+INDEX($F101:$DJ101,1,Sheet3!$C$1)","v":0},{"$f":"+IF(Sheet3!$C$1=1,IF(DN101<3,0,1),1)","v":1}]
[1,1,"11B","1_1",3,2,57478.278579640144,2.02,1.33,136.93,2.0300000000000002,1.53,2.02,0,0,0,0,0,0,0,0,0,2.02,0,0,1690.66,1690.66,1690.66,0,0,0,0,0,0,0,0,0,0,0,0,525.20000000000005,525.20000000000005,0,0,525.20000000000005,0,0,0,0,0,0,0,0,0,0,0,0,0,0,0,0,0,0,0,0,0,0,0,2215.86,0,0.28000000000000003,0,0,1.74,0,0,0,0,0,0.01,0,0,0,0,0,0,0,0,0,0,0,0,0,0,0,0,0,0,0,0,0,0,0,0,0,0,0,0,0,null,null,null,null,null,null,null,0,{"$f":"+INDEX($F102:$DJ102,1,Sheet3!$C$1)","v":0},{"$f":"+IF(Sheet3!$C$1=1,IF(DN102<3,0,1),1)","v":1}]
[1,1,"11B","1_2",1,146,119058.65485308922,332.59000000000009,299.58000000000021,23685.660000000022,422.43000000000018,34.46,164.66,0,0,28.81,38.26,28.86999999999999,71.989999999999995,0,0,1,332.65000000000009,3.81,0,123041.16000000012,123041.16000000012,123041.16000000012,0,0,0,0,0,0,0,0,0,0,0,0,58167.679999999993,57665.979999999996,0,0,57665.979999999996,501.70000000000005,0,0,0,0,267.3,0,0,0,0,0,0,213.6,0,0,0,0,0,0,0,0,0,20.8,181208.84000000011,107.98,40.340000000000003,0,1.02,14.9,28.81,34.24,14.13,10.19,4,161.83000000000001,0,0,0,0,0,0,0,0,0,0,0,0,0,0,0,3,1.65,0,0,0,0,0,0,0,0,0,0,0,0,null,null,null,null,null,null,null,0,{"$f":"+INDEX($F103:$DJ103,1,Sheet3!$C$1)","v":0},{"$f":"+IF(Sheet3!$C$1=1,IF(DN103<3,0,1),1)","v":1}]
[1,1,"11B","1_2",3,1,47263.48263169024,1.61,1.59,130.9,2.63,0.42,0.96,0,0,0,0.46,0,0.19,0,0,0,1.6099999999999999,0,0,845.33,845.33,845.33,0,0,0,0,0,0,0,0,0,0,0,0,369.2,369.2,0,0,369.2,0,0,0,0,0,0,0,0,0,0,0,0,0,0,0,0,0,0,0,0,0,0,0,1214.53,0,0,0,0,0.96,0,0.46,0,0,0,1.21,0,0,0,0,0,0,0,0,0,0,0,0,0,0,0,0,0,0,0,0,0,0,0,0,0,0,0,0,0,null,null,null,null,null,null,null,0,{"$f":"+INDEX($F104:$DJ104,1,Sheet3!$C$1)","v":0},{"$f":"+IF(Sheet3!$C$1=1,IF(DN104<3,0,1),1)","v":1}]
[1,1,"11B",3,1,1,922.55719149365405,1.27,1.27,133.44999999999999,1.42,0.1,0.1,0,0,1.17,0,0,0,0,0,0,1.27,0,0,845.32,845.32,845.32,0,0,0,0,0,0,0,0,0,0,0,0,330.2,330.2,0,0,330.2,0,0,0,0,0,0,0,0,0,0,0,0,0,0,0,0,0,0,0,0,0,0,0,1175.52,0,0,0,0,0.1,1.17,0,0,0,0,0.15,0,0,0,0,0,0,0,0,0,0,0,0,0,0,0,0,0,0,0,0,0,0,0,0,0,0,0,0,0,null,null,null,null,null,null,null,0,{"$f":"+INDEX($F105:$DJ105,1,Sheet3!$C$1)","v":0},{"$f":"+IF(Sheet3!$C$1=1,IF(DN105<3,0,1),1)","v":1}]
[1,1,"11B",4,1,238,572417.67586288333,392.85999999999973,352.02999999999992,29338.780000000006,476.69999999999993,79.09,105.72,0,0,15.01,41.29,174.12000000000012,57.69,0.98,1.95,14.950000000000001,393.18999999999983,33.700000000000003,4.16,201116.96999999986,201116.96999999986,201116.96999999986,0,0,0,0,0,0,0,0,0,0,0,0,86166.670000000027,79882.810000000012,0,0,79882.810000000012,6283.8600000000006,769.75,0,0,0,4441.46,173.25,0,33,0,0,0,866.4,0,0,0,0,0,0,0,0,0,0,287283.64000000019,32.909999999999997,19.82,0,2.12,50.87,15.01,41.29,43.98,42.58,82.15,140.56,0,0,0,8,1,3,1,0,0,1,1.65,0,0,0,0,36,27.49,0,0,1,1.65,0,0,0,0,0,0,0,0,null,null,null,null,null,null,null,0,{"$f":"+INDEX($F106:$DJ106,1,Sheet3!$C$1)","v":0},{"$f":"+IF(Sheet3!$C$1=1,IF(DN106<3,0,1),1)","v":1}]
[1,1,"11B",4,2,179,1324265.0388837361,481.00499999999965,394.31999999999988,28383.409999999996,574.86000000000024,112.78,168.84,0,0,17.57,36.119999999999997,212.38000000000002,49.79,2.86,6.6999999999999993,28.7,483.48999999999967,50.36,8.49,151255.24,151255.24,151255.24,0,0,0,0,0,0,0,0,0,0,0,0,122834.40999999999,111569.82999999994,0,0,111569.82999999994,11264.580000000002,2997.2,0,0,0,5815.79,405.3,0,0,0,2046.29,0,0,0,0,0,0,0,0,0,0,0,0,274089.64999999997,47.44,14.01,0,2.3199999999999998,105.07,17.57,36.119999999999997,102.82,44.59,51.75,139.94999999999999,0,0,3,30,4,0,0,3,8.6999999999999993,2,8.09,0,0,0,0,30,37.21,0,0,1,3.86,0,0,0,0,0,0,0,0,null,null,null,null,null,null,null,0,{"$f":"+INDEX($F107:$DJ107,1,Sheet3!$C$1)","v":0},{"$f":"+IF(Sheet3!$C$1=1,IF(DN107<3,0,1),1)","v":1}]
[1,1,"11B",4,4,1,105987.91377293378,4.28,3.34,218.4,4.53,1.77,1.87,0,0,0,1.67,0.49,0.25,0,0,0,4.28,0,0,845.33,845.33,845.33,0,0,0,0,0,0,0,0,0,0,0,0,975.7,975.7,0,0,975.7,0,0,0,0,0,0,0,0,0,0,0,0,0,0,0,0,0,0,0,0,0,0,0,1821.0300000000002,0.25,0.37,0,0,1.25,0,1.67,0.49,0,0,0.5,0,0,0,0,0,0,0,0,0,0,0,0,0,0,0,0,0,0,0,0,0,0,0,0,0,0,0,0,0,null,null,null,null,null,null,null,0,{"$f":"+INDEX($F108:$DJ108,1,Sheet3!$C$1)","v":0},{"$f":"+IF(Sheet3!$C$1=1,IF(DN108<3,0,1),1)","v":1}]
[1,1,"11B",5,1,26,33360.751512276169,52.170000000000016,49.13,3365.5199999999991,56.14,0.04,1.05,0,0,0.86,1.41,46.000000000000007,2.85,0,0,0,52.140000000000008,5.4099999999999993,0,21978.639999999999,21978.639999999999,21978.639999999999,0,0,0,0,0,0,0,0,0,0,0,0,14391.360000000004,11813.700000000004,0,0,11813.700000000004,2577.66,1374.76,0,0,0,114.29,0,0,0,0,1088.6099999999999,0,0,0,0,0,0,0,0,0,0,0,0,36369.999999999993,0.89,0.12,0,0,0.04,0.86,1.41,2.34,32.340000000000003,9.57,6.82,0,0,0,0,0,0,0,2,2.9,1,1.82,0,0,0,0,2,0.69,0,0,0,0,0,0,0,0,0,0,0,0,null,null,null,null,null,null,null,0,{"$f":"+INDEX($F109:$DJ109,1,Sheet3!$C$1)","v":0},{"$f":"+IF(Sheet3!$C$1=1,IF(DN109<3,0,1),1)","v":1}]
[1,1,"11B",5,2,7,44296.666436517349,37.680000000000007,22.590000000000003,1477.1399999999999,40.879999999999995,3.22,2.04,0,0,0,3.14,31.229999999999997,1.27,0,0,0,37.679999999999993,18.419999999999998,0,5917.3700000000008,5917.3700000000008,5917.3700000000008,0,0,0,0,0,0,0,0,0,0,0,0,17205.63,7858.37,0,0,7858.37,9347.2599999999984,6287.99,0,0,0,0,883.05,0,0,0,2176.2199999999998,0,0,0,0,0,0,0,0,0,0,0,0,23123,1.67,0,0,0.22,0.15,0,3.14,1.38,28.54,0.52,4.47,0,0,0,0,0,0,0,2,7.58,2,9.59,0,0,0,0,0,0,0,0,2,8.41,0,0,0,0,0,0,0,0,null,null,null,null,null,null,null,0,{"$f":"+INDEX($F110:$DJ110,1,Sheet3!$C$1)","v":0},{"$f":"+IF(Sheet3!$C$1=1,IF(DN110<3,0,1),1)","v":1}]
[1,1,"11B",6,1,300,455911.79617426958,895.05,731.93999999999949,51174.840000000018,974.21000000000015,19.850000000000001,25.54,0,0,17,24.78,783.92000000000041,43.81,0,1.65,3.65,878.83999999999992,429.38999999999987,0,253450.35999999987,253450.35999999987,253450.35999999987,0,0,0,0,0,0,0,0,0,0,0,0,316664.2100000002,203259.07000000004,0,0,203259.07000000004,113405.14000000006,42560.26,1225,0,0,56306.09,1965.6,0,0,0,11321.59,0,0,0,0,0,0,0,0,0,0,0,26.6,570114.56999999995,15.41,5.08,0,0.73,3.76,17.559999999999999,24.1,731.15,12.27,38.32,122.97,0,0,0,10,1,0,0,15,46.22,32,109.5,1,3.9,0,0,151,352.51,0,0,6,18.72,0,0,0,0,0,0,0,0,null,null,null,null,null,null,null,0,{"$f":"+INDEX($F111:$DJ111,1,Sheet3!$C$1)","v":0},{"$f":"+IF(Sheet3!$C$1=1,IF(DN111<3,0,1),1)","v":1}]
[1,1,"11B",6,2,31,232544.940928481,194.73499999999996,104.99000000000001,7262.37,224.45,9.84,11.59,0,0,3.54,1.37,165.28,16.55,0,0,2,181.46,92.990000000000023,8.5299999999999994,26205.240000000009,26205.240000000009,26205.240000000009,0,0,0,0,0,0,0,0,0,0,0,0,69714.25,37956.400000000001,0,0,37956.400000000001,31757.850000000002,20767.86,654.84,0,0,7086.86,294,0,0,0,2954.29,0,0,0,0,0,0,0,0,0,0,0,0,95919.489999999991,6.27,3.16,0,0.06,2.1,3.54,1.37,145.72,3.56,14.74,42.49,0,0,0,0,0,0,0,3,13.35,5,55.54,1,1.06,0,0,14,44.21,0,0,1,2.8,0,0,0,0,0,0,0,0,null,null,null,null,null,null,null,0,{"$f":"+INDEX($F112:$DJ112,1,Sheet3!$C$1)","v":0},{"$f":"+IF(Sheet3!$C$1=1,IF(DN112<3,0,1),1)","v":1}]
[1,1,"11B",6,3,7,281424.48074649455,22.27,15.69,1374.33,25.869999999999997,7.89,0.54,0,0,0,4.5,16.79,0.44,0,0,0,22.27,7.4700000000000006,0,5917.3,5917.3,5917.3,0,0,0,0,0,0,0,0,0,0,0,0,8384.76,4229.1000000000004,0,0,4229.1000000000004,4155.66,1726,2178,0,20,231.66,0,0,0,0,0,0,0,0,0,0,0,0,0,0,0,0,0,14302.060000000001,0,0,0,0,0.54,0,4.5,12.78,1.49,1.73,4.04,0,0,0,0,0,0,0,0,0,1,4.92,2,2.42,0,0,1,1.43,0,0,0,0,0,0,0,0,0,0,0,0,null,null,null,null,null,null,null,0,{"$f":"+INDEX($F113:$DJ113,1,Sheet3!$C$1)","v":0},{"$f":"+IF(Sheet3!$C$1=1,IF(DN113<3,0,1),1)","v":1}]
[1,1,"11B",7,1,80,40510.989154734954,141.79,128.52999999999997,10853.640000000001,159.75000000000009,1.56,2.62,0,0,0.37,4.91,130.65999999999997,3.23,0,0,0,141.79000000000002,42.139999999999993,0,67628.459999999992,67628.459999999992,67628.459999999992,0,0,0,0,0,0,0,0,0,0,0,0,43694.98,32370,0,0,32370,11324.980000000001,6168.95,0,0,0,4472.09,0,0,0,0,683.94,0,0,0,0,0,0,0,0,0,0,0,0,111323.44000000002,1.35,7.0000000000000007E-2,0,1.07,0.13,0.37,4.91,2.2999999999999998,2.66,125.46,21.19,0,0,0,0,0,0,0,1,2.52,5,15.94,0,0,0,0,28,27.12,0,0,0,0,0,0,0,0,0,0,0,0,null,null,null,null,null,null,null,0,{"$f":"+INDEX($F114:$DJ114,1,Sheet3!$C$1)","v":0},{"$f":"+IF(Sheet3!$C$1=1,IF(DN114<3,0,1),1)","v":1}]
[1,1,"11B",8,1,1163,2034364.8795831427,2749.0400000000041,2328.6599999999971,176747.72000000006,3216.8100000000059,293.25,493.31,0,0,126.74,164.96,1659.1499999999987,304.88,4.6400000000000006,13.05,122.05,2732.6600000000035,339.46999999999986,0,982264.15999998653,982264.15999998653,982264.15999998653,0,0,0,0,0,0,0,0,0,0,0,0,668368.2200000002,595399.29000000039,0,163.80000000000001,595235.49000000034,72968.929999999978,18131.82,0,0,1503.75,39628.080000000002,983.85,0,676.8,0,8785.0300000000007,0,3108,0,0,0,0,0,0,0,0,0,151.6,1650632.379999999,224.91,118.62,0,18.73,130.51,126.74,158.02000000000001,733.81,232.29,557.33000000000004,772.65,0,2,7,28,4,10,5,11,35.01,15,44.14,0,0,0,0,224,248.27,0,0,4,9.3699999999999992,0,0,0,0,0,0,0,0,null,null,null,null,null,null,null,0,{"$f":"+INDEX($F115:$DJ115,1,Sheet3!$C$1)","v":0},{"$f":"+IF(Sheet3!$C$1=1,IF(DN115<3,0,1),1)","v":1}]
[1,1,"11B",8,2,132,760752.60891333513,644.32499999999982,466.67999999999989,31886.539999999994,750.63999999999942,78.25,106.25,0,0,12.24,22.05,436.99999999999989,74.27,8.89,17.05,42.55,647.55999999999972,138.20999999999998,31.85,111541.45000000003,111541.45000000003,111541.45000000003,0,0,0,0,0,0,0,0,0,0,0,0,183090.47000000006,139974.9200000001,0,0,139974.9200000001,43115.55,26841.32,3347.41,0,0,8671.3799999999992,602.70000000000005,0,33.6,0,2991.94,0,492,0,135.19999999999999,0,0,0,0,0,0,0,0,294631.92000000027,40.799999999999997,16.8,0,1.91,46.29,12.24,22.05,224.56,70.37,93.83,171.05,0,3,6,58,5,11,1,3,11.11,15,69.760000000000005,1,6.47,0,0,32,61.16,0,0,1,5.74,2,1.69,0,0,0,0,0,0,null,null,null,null,null,null,null,0,{"$f":"+INDEX($F116:$DJ116,1,Sheet3!$C$1)","v":0},{"$f":"+IF(Sheet3!$C$1=1,IF(DN116<3,0,1),1)","v":1}]
[1,1,"11B","10_1",1,3,4620.1295121683179,3.8200000000000003,3.66,387.44,4.26,1.9,0.65,0,0,1.46,0.71,0,1.4,1.4,5,5,4.2600000000000007,1.8600000000000003,2.7800000000000002,2535.9700000000003,2535.9700000000003,2535.9700000000003,0,0,0,0,0,0,0,0,0,0,0,0,969.6,858,0,0,858,111.6,0,0,0,0,0,0,0,111.6,0,0,0,0,0,0,0,0,0,0,0,0,0,0,3505.5700000000006,0,0.59,0,0,0.06,1.46,0.71,0.03,0.01,0,1.4,0,4,2,0,0,0,0,0,0,0,0,0,0,0,0,0,0,0,0,0,0,0,0,0,0,0,0,0,0,null,null,null,null,null,null,null,0,{"$f":"+INDEX($F117:$DJ117,1,Sheet3!$C$1)","v":0},{"$f":"+IF(Sheet3!$C$1=1,IF(DN117<3,0,1),1)","v":1}]
[1,1,"11B","10_1",2,2,15894.22485053936,11.54,5.83,458.26,18.309999999999999,4.24,0,0,0,0.49,0,0,16.84,16.84,22.8,22.8,11.620000000000001,4.22,17.61,1690.67,1690.67,1690.67,0,0,0,0,0,0,0,0,0,0,0,0,3591.1000000000004,2789.3,0,0,2789.3,801.8,0,0,0,0,0,0,0,0,0,0,0,0,801.8,0,0,0,0,0,0,0,0,0,5281.77,0,0,0,0,0,0.49,0,0.28000000000000003,0,0,17.54,1,9,18,0,0,0,0,0,0,0,0,0,0,0,0,0,0,0,0,0,0,0,0,2,4.22,0,0,0,0,null,null,null,null,null,null,null,0,{"$f":"+INDEX($F118:$DJ118,1,Sheet3!$C$1)","v":0},{"$f":"+IF(Sheet3!$C$1=1,IF(DN118<3,0,1),1)","v":1}]
[1,1,"11B","10_15",1,2,3838.9161334474084,1.39,1.29,100.93,1.39,0.35,0.35,0,0,0.56999999999999995,0,0.47,0,0,7.4,7.4,1.39,0,0,1690.66,1690.66,1690.66,0,0,0,0,0,0,0,0,0,0,0,0,0,0,0,0,0,0,null,null,null,null,null,null,null,null,null,null,null,null,null,null,null,null,null,null,null,null,null,null,1690.66,0.35,0,0,0,0,0.56999999999999995,0,0.47,0,0,0,0,5,5,0,0,0,0,0,0,0,0,0,0,0,0,0,0,0,0,0,0,0,0,0,0,0,0,0,0,null,null,null,null,null,null,null,0,{"$f":"+INDEX($F119:$DJ119,1,Sheet3!$C$1)","v":0},{"$f":"+IF(Sheet3!$C$1=1,IF(DN119<3,0,1),1)","v":1}]
[1,1,"11B","10_2",1,24,61025.2959329355,83.755000000000024,35.359999999999992,2763.4800000000005,152.52999999999997,13.03,4.1500000000000004,0,0,6.4,0.3,0,120.39,63.99,33.599999999999994,35.6,100.75999999999999,13.590000000000002,128.10999999999999,20287.950000000004,20287.950000000004,20287.950000000004,0,0,0,0,0,0,0,0,0,0,0,0,22656.069999999996,21061.3,0,0,21061.3,1594.77,0,0,0,0,64.8,0,0,250.2,0,0,0,0,782.81,296.95999999999998,0,0,0,0,200,0,0,0,42944.01999999999,1.9,1.51,0,0,0.74,6.4,0.3,0.67,0.24,0.31,140.4,0,16,27,6,2,0,0,0,0,0,0,0,0,0,0,1,0.4,0,0,0,0,4,4.68,3,4.34,0,0,0,0,null,null,null,null,null,null,null,0,{"$f":"+INDEX($F120:$DJ120,1,Sheet3!$C$1)","v":0},{"$f":"+IF(Sheet3!$C$1=1,IF(DN120<3,0,1),1)","v":1}]
[1,1,"11B","10_2",2,34,275058.38642311702,358.03000000000003,54.190000000000005,3897.3100000000009,654.79,40.89,19.440000000000001,0,0,19.489999999999998,1.41,0,598.09,200.66000000000003,140.40000000000003,162.39999999999998,454.87999999999994,112.65999999999998,641.39999999999986,28625.750000000007,28625.750000000007,28625.750000000007,0,0,0,0,0,0,0,0,0,0,0,0,71251.920000000013,63489.25,0,0,63489.25,7762.670000000001,0,0,0,0,66.42,0,0,388.2,0,0,0,1440,2684.12,106.04,0,1396.5,0,0,1667.99,0,0,13.4,99877.669999999984,4.6399999999999997,11.78,0,0,3.02,19.489999999999998,1.41,1.2,1.34,0.01,611.48,1,85,93,0,0,0,0,0,0,0,0,0,0,0,0,1,0.41,0,0,0,0,2,1.4,11,15.09,0,0,4,82.78,null,null,null,null,null,null,null,0,{"$f":"+INDEX($F121:$DJ121,1,Sheet3!$C$1)","v":0},{"$f":"+IF(Sheet3!$C$1=1,IF(DN121<3,0,1),1)","v":1}]
[1,1,"11B",11,1,154,352404.09791295085,601.94999999999982,230.25000000000014,17991.22,1019.5800000000002,68.73,38.409999999999997,0,0,47.57,8.6,3.21,844.68,60.730000000000018,40.299999999999997,221.3,823.25999999999988,13.919999999999998,911.09999999999991,130126.69000000005,130126.69000000005,130126.69000000005,0,0,0,0,0,0,0,0,0,0,0,0,147300.45000000001,144964.66,0,0,144964.66,2335.79,0,0,0,0,230.04,0,0,0,0,0,0,187.2,1064,252,0,0,0,0,600,0,0,2.5499999999999998,277427.14000000007,14.82,17.440000000000001,0,0.02,6.13,47.57,8.1199999999999992,11.96,7.47,1.4,903.35,0,0,2,182,26,43,7,0,0,0,0,0,0,0,0,2,1.42,0,0,0,0,3,3.15,4,5.6,0,0,0,0,null,null,null,null,null,null,null,0,{"$f":"+INDEX($F122:$DJ122,1,Sheet3!$C$1)","v":0},{"$f":"+IF(Sheet3!$C$1=1,IF(DN122<3,0,1),1)","v":1}]
[1,1,"11B",11,2,86,607055.93556831928,827.36000000000024,135,10544.679999999997,1540.5800000000002,74.599999999999994,30.27,0,0,30.24,8.82,0.86,1387.14,58.730000000000004,77.149999999999991,292.64999999999998,1185.8500000000006,46.5,1479.4600000000003,72444.659999999974,72444.659999999974,72444.659999999974,0,0,0,0,0,0,0,0,0,0,0,0,168741.17999999993,160857.21,0,0,160857.21,7883.9699999999993,1621,0,0,0,939.6,0,0,725.4,0,0,0,511.2,966.77,0,0,700,0,0,2420,0,0,0,241185.84000000003,9.19,15.48,0,0,5.6,30.24,8.82,18.11,4.34,1.18,1447.06,0,2,5,328,36,102,11,0,0,1,4.57,0,0,0,0,2,5.8,0,0,0,0,0,0,3,5.53,0,0,2,18.23,null,null,null,null,null,null,null,0,{"$f":"+INDEX($F123:$DJ123,1,Sheet3!$C$1)","v":0},{"$f":"+IF(Sheet3!$C$1=1,IF(DN123<3,0,1),1)","v":1}]
[1,1,"11B",12,1,86,164923.74510335925,247.065,163.92999999999998,12586.909999999998,339.29999999999995,39.56,41.16,0,0,41.34,7.98,27.324999999999992,160.62,29.530000000000008,46.1,115.10000000000002,252.59000000000003,19.260000000000002,178.22999999999993,72698.239999999976,72698.239999999976,72698.239999999976,0,0,0,0,0,0,0,0,0,0,0,0,64598.48000000001,60829.000000000015,0,0,60829.000000000015,3769.4799999999991,1123,0,0,0,2144.88,0,0,0,0,0,0,0,182.4,319.2,0,0,0,0,0,0,0,0,137296.72000000003,17.96,14.2,0,0.39,8.61,41.34,4.3899999999999997,36.119999999999997,6.09,1.63,202.56,0,12,8,127,23,43,9,0,0,1,2.91,0,0,0,0,10,13.24,0,0,0,0,6,3.99,2,0.96,0,0,0,0,null,null,null,null,null,null,null,0,{"$f":"+INDEX($F124:$DJ124,1,Sheet3!$C$1)","v":0},{"$f":"+IF(Sheet3!$C$1=1,IF(DN124<3,0,1),1)","v":1}]
[1,1,"11B",12,2,35,255421.88162717305,233.76499999999993,91.6,6397.6299999999992,385.36,27.63,21.66,0,0,11.26,8.17,16.09,280.24,31.96,34,91.7,316.04000000000008,21.740000000000002,327.69000000000005,29586.44000000001,29586.44000000001,29586.44000000001,0,0,0,0,0,0,0,0,0,0,0,0,57118.430000000008,51222.400000000001,0,0,51222.400000000001,5896.03,4028.05,0,0,0,1407.78,0,0,165,0,0,0,84,0,211.2,0,0,0,0,0,0,0,0,86704.870000000024,7.1,6.62,0,0.24,7.7,11.26,8.17,27.72,3.81,1.83,308.08999999999997,1,13,7,88,5,11,0,0,0,2,11.59,0,0,0,0,4,8.69,0,0,0,0,2,2.64,0,0,0,0,0,0,null,null,null,null,null,null,null,0,{"$f":"+INDEX($F125:$DJ125,1,Sheet3!$C$1)","v":0},{"$f":"+IF(Sheet3!$C$1=1,IF(DN125<3,0,1),1)","v":1}]
[1,1,"11B",12,3,1,30382.571177401325,13.705,1.43,93.5,27.46,0,0,0,0,0,0,0,26.69,0,4.4000000000000004,21.6,26.689999999999998,0,26.689999999999998,845.34,845.34,845.34,0,0,0,0,0,0,0,0,0,0,0,0,2333.1999999999998,2333.1999999999998,0,0,2333.1999999999998,0,0,0,0,0,0,0,0,0,0,0,0,0,0,0,0,0,0,0,0,0,0,0,3178.54,0,0,0,0,0,0,0,0,0,0,27.46,0,0,9,0,0,0,0,0,0,0,0,0,0,0,0,0,0,0,0,0,0,0,0,0,0,0,0,0,0,null,null,null,null,null,null,null,0,{"$f":"+INDEX($F126:$DJ126,1,Sheet3!$C$1)","v":0},{"$f":"+IF(Sheet3!$C$1=1,IF(DN126<3,0,1),1)","v":1}]
[1,1,"11B",13,1,109,61285.949470590691,228.81999999999996,208.80000000000004,16167.900000000001,322.50000000000006,62.31,13.42,0,0,72.86,8.81,5.28,131.03,0,0,0,231.14,10.940000000000001,5.4,91989.560000000085,91989.560000000085,91989.560000000085,0,0,0,0,0,0,0,0,0,0,0,0,16604.819999999992,14447.219999999994,0,0,14447.219999999994,2157.6,0,0,0,0,0,0,0,156,0,0,0,2001.6,0,0,0,0,0,0,0,0,0,0,108594.38000000005,7.73,5.04,0,0,0.65,72.86,5.64,1.81,1.83,1.49,222.13,0,0,0,0,0,0,0,0,0,0,0,0,0,0,0,0,0,0,0,0,0,0,0,0,0,0,0,0,0,null,null,null,null,null,null,null,0,{"$f":"+INDEX($F127:$DJ127,1,Sheet3!$C$1)","v":0},{"$f":"+IF(Sheet3!$C$1=1,IF(DN127<3,0,1),1)","v":1}]
[1,1,"11B",15,1,16,21017.071938714002,31.869999999999997,26.439999999999998,2072.35,42.379999999999995,5.52,15.82,0,0,1.02,5.33,2.9099999999999997,6.79,0,0,0,31.869999999999997,0,0,13525.269999999999,13525.269999999999,13525.269999999999,0,0,0,0,0,0,0,0,0,0,0,0,5368.5,5368.5,0,0,5368.5,0,0,0,0,0,0,0,0,0,0,0,0,0,0,0,0,0,0,0,0,0,0,0,18893.77,6.68,2.81,0,0,6.33,1.02,5.33,0.92,1.9,0,17.3,0,0,0,0,0,0,0,0,0,0,0,0,0,0,0,0,0,0,0,0,0,0,0,0,0,0,0,0,0,null,null,null,null,null,null,null,0,{"$f":"+INDEX($F128:$DJ128,1,Sheet3!$C$1)","v":0},{"$f":"+IF(Sheet3!$C$1=1,IF(DN128<3,0,1),1)","v":1}]
[1,1,"11B",15,2,1,6509.0299779466068,3.35,3.28,214.47,5.93,2.4,2.4,0,0,0,0,0.79,0.16,0,0,0,3.3499999999999996,0.74,0,845.34,845.34,845.34,0,0,0,0,0,0,0,0,0,0,0,0,935.98,816.1,0,0,816.1,119.88,0,0,0,0,119.88,0,0,0,0,0,0,0,0,0,0,0,0,0,0,0,0,0,1781.3200000000002,0,0,0,0,2.4,0,0,0.79,0,0,2.74,0,0,0,0,0,0,0,0,0,0,0,0,0,0,0,1,0.74,0,0,0,0,0,0,0,0,0,0,0,0,null,null,null,null,null,null,null,0,{"$f":"+INDEX($F129:$DJ129,1,Sheet3!$C$1)","v":0},{"$f":"+IF(Sheet3!$C$1=1,IF(DN129<3,0,1),1)","v":1}]
[1,1,"11C","1_1",1,235,341155.123148477,278.11999999999978,251.50000000000006,29226.909999999982,296.63999999999993,256.57,188.73,0,0,50.08,3.79,20.229999999999997,15.29,0,1.7999999999999998,1.7999999999999998,278.13999999999976,0,0,198468.9999999998,198468.9999999998,198468.9999999998,0,0,0,0,0,0,0,0,0,0,0,0,29498.079999999994,29498.079999999994,0,0,29498.079999999994,0,0,0,0,0,0,0,0,0,0,0,0,0,0,0,0,0,0,0,0,0,0,0,227967.0799999999,17.52,157.72999999999999,0,2.93,10.199999999999999,50.08,3.79,1.29,15.58,1.81,33.81,0,0,0,12,0,0,0,0,0,0,0,0,0,0,0,0,0,0,0,0,0,0,0,0,0,0,0,0,0,null,null,null,null,null,null,null,0,{"$f":"+INDEX($F130:$DJ130,1,Sheet3!$C$1)","v":0},{"$f":"+IF(Sheet3!$C$1=1,IF(DN130<3,0,1),1)","v":1}]
[1,1,"11C","1_1",2,5,23627.437921847129,16.73,15.83,1078.5900000000001,17.490000000000002,13.97,9.9,0,0,4.46,0,2.37,0,0,0,0,16.73,0,0,4226.63,4226.63,4226.63,0,0,0,0,0,0,0,0,0,0,0,0,1644.8,1644.8,0,0,1644.8,0,0,0,0,0,0,0,0,0,0,0,0,0,0,0,0,0,0,0,0,0,0,0,5871.43,0,9.5500000000000007,0,0,0.35,4.46,0,0.01,1.1000000000000001,0.56000000000000005,0.76,0,0,0,0,0,0,0,0,0,0,0,0,0,0,0,0,0,0,0,0,0,0,0,0,0,0,0,0,0,null,null,null,null,null,null,null,{"$f":"+DN131*DO131","v":0},{"$f":"+INDEX($F131:$DJ131,1,Sheet3!$C$1)","v":0},{"$f":"+IF(Sheet3!$C$1=1,IF(DN131<3,0,1),1)","v":1}]
[1,1,"11C","1_1",4,2,413434.77476479067,6.9399999999999995,3.29,281.89,7.64,6.74,6.71,0,0,0.03,0,0.18000000000000002,0.02,0,0,0,6.94,6.7700000000000005,0,1690.66,1690.66,1690.66,0,0,0,0,0,0,0,0,0,0,0,0,5726.6500000000005,1695.5,0,0,1695.5,4031.15,0,4031.15,0,0,0,0,0,0,0,0,0,0,0,0,0,0,0,0,0,0,0,0,7417.31,0,0,0,0,6.71,0.03,0,0,0.01,0,0.72,0,0,0,0,0,0,0,0,0,0,0,2,6.77,0,0,0,0,0,0,0,0,0,0,0,0,0,0,0,0,null,null,null,null,null,null,null,0,{"$f":"+INDEX($F132:$DJ132,1,Sheet3!$C$1)","v":0},{"$f":"+IF(Sheet3!$C$1=1,IF(DN132<3,0,1),1)","v":1}]
[1,1,"11C","1_2",1,14,13953.725284508801,14.600000000000001,12.67,1513.1200000000003,16.350000000000001,2.52,6.12,0,0,3.24,0.99,1.4900000000000002,2.76,0,0,0,14.600000000000001,0,0,11834.539999999999,11834.539999999999,11834.539999999999,0,0,0,0,0,0,0,0,0,0,0,0,650,650,0,0,650,0,0,0,0,0,0,0,0,0,0,0,0,0,0,0,0,0,0,0,0,0,0,0,12484.539999999999,2.61,2.7,0,0,0.45,3.24,0.99,7.0000000000000007E-2,1.23,0.17,4.51,0,0,0,0,0,0,0,0,0,0,0,0,0,0,0,0,0,0,0,0,0,0,0,0,0,0,0,0,0,null,null,null,null,null,null,null,0,{"$f":"+INDEX($F133:$DJ133,1,Sheet3!$C$1)","v":0},{"$f":"+IF(Sheet3!$C$1=1,IF(DN133<3,0,1),1)","v":1}]
[1,1,"11C",4,1,112,297906.08556484996,93.430000000000035,86.04,11003.409999999998,96.620000000000019,74.84,47.4,0,0,12.92,6.16,13.670000000000002,13.28,3.4300000000000006,5.8500000000000005,5.8500000000000005,93.430000000000035,0.44,0,94562.93000000008,94562.93000000008,94562.93000000008,0,0,0,0,0,0,0,0,0,0,0,0,6675.2800000000007,6604,0,0,6604,71.28,0,0,0,0,71.28,0,0,0,0,0,0,0,0,0,0,0,0,0,0,0,0,0,101238.21000000008,5.68,15.48,0,0.98,25.26,12.92,6.16,1.56,9.0399999999999991,1.33,16.47,0,0,0,28,7,2,2,0,0,0,0,0,0,0,0,1,0.44,0,0,0,0,0,0,0,0,0,0,0,0,null,null,null,null,null,null,null,0,{"$f":"+INDEX($F134:$DJ134,1,Sheet3!$C$1)","v":0},{"$f":"+IF(Sheet3!$C$1=1,IF(DN134<3,0,1),1)","v":1}]
[1,1,"11C",4,2,81,598698.81412526546,108.52,97.100000000000009,8615.19,115.51999999999998,74.81,55.97,0,0,7.22,10.52,29.409999999999989,5.4,0.37,4.95,4.95,108.39,3.1400000000000006,0,68165.400000000009,68165.400000000009,68165.400000000009,0,0,0,0,0,0,0,0,0,0,0,0,18805.030000000002,17403.71,0,0,17403.71,1401.3200000000002,0,0,0,790.79,100.44,0,0,0,0,510.09,0,0,0,0,0,0,0,0,0,0,0,0,86970.430000000008,3.22,10.72,0,0.49,41.54,7.22,10.52,5.79,16,2.5499999999999998,12.4,0,0,1,18,3,6,2,1,1.35,0,0,0,0,0,0,1,0.62,0,0,0,0,0,0,0,0,0,0,0,0,null,null,null,null,null,null,null,0,{"$f":"+INDEX($F135:$DJ135,1,Sheet3!$C$1)","v":0},{"$f":"+IF(Sheet3!$C$1=1,IF(DN135<3,0,1),1)","v":1}]
[1,1,"11C",4,3,2,84780.609672810577,13.52,9.77,719.12,13.62,5.98,5.85,0,0,0.05,0.89,6.73,0,0,0,0,13.52,6.75,0,1546.94,1546.94,1546.94,0,0,0,0,0,0,0,0,0,0,0,0,1728.3799999999999,631.79999999999995,0,0,631.79999999999995,1096.58,0,0,0,0,0,0,0,0,0,1096.58,0,0,0,0,0,0,0,0,0,0,0,0,3275.32,0,0.1,0,0,5.75,0.05,0.89,0.13,6.1,0,0.1,0,0,0,0,0,0,0,1,6.75,0,0,0,0,0,0,0,0,0,0,0,0,0,0,0,0,0,0,0,0,null,null,null,null,null,null,null,0,{"$f":"+INDEX($F136:$DJ136,1,Sheet3!$C$1)","v":0},{"$f":"+IF(Sheet3!$C$1=1,IF(DN136<3,0,1),1)","v":1}]
[1,1,"11C",4,5,1,1059339.8121891818,23.22,14.5,948.15,23.22,23.22,18.68,0,0,3.5,0,0,1.04,0,0,0,23.220000000000002,0,0,845.34,845.34,845.34,0,0,0,0,0,0,0,0,0,0,0,0,2630.8,2630.8,0,0,2630.8,0,0,0,0,0,0,0,0,0,0,0,0,0,0,0,0,0,0,0,0,0,0,0,3476.1400000000003,0,0,0,0,18.68,3.5,0,0,0,0,1.04,0,0,0,0,0,0,0,0,0,0,0,0,0,0,0,0,0,0,0,0,0,0,0,0,0,0,0,0,0,null,null,null,null,null,null,null,0,{"$f":"+INDEX($F137:$DJ137,1,Sheet3!$C$1)","v":0},{"$f":"+IF(Sheet3!$C$1=1,IF(DN137<3,0,1),1)","v":1}]
[1,1,"11C",5,1,113,257205.71475824568,134.97,124.98000000000002,13250.219999999998,137.13,57.9,11.29,0,0,6.36,6.42,104.67000000000006,6.23,1.3199999999999998,3.6,3.6,134.97,4.03,0,95446.240000000107,95446.240000000107,95446.240000000107,0,0,0,0,0,0,0,0,0,0,0,0,25619.909999999989,22872.199999999993,0,0,22872.199999999993,2747.71,0,0,0,2747.71,0,0,0,0,0,0,0,0,0,0,0,0,0,0,0,0,0,0,121066.15000000002,1.59,6.97,0,0.4,2.33,6.36,6.42,2.62,94.62,2.4900000000000002,8.39,0,0,0,22,2,0,0,0,0,0,0,0,0,0,0,0,0,0,0,0,0,0,0,0,0,0,0,0,0,null,null,null,null,null,null,null,0,{"$f":"+INDEX($F138:$DJ138,1,Sheet3!$C$1)","v":0},{"$f":"+IF(Sheet3!$C$1=1,IF(DN138<3,0,1),1)","v":1}]
[1,1,"11C",5,2,128,1069425.2019442806,517.75,429.35999999999979,30514.439999999995,533.12000000000012,162.61000000000001,21.51,0,0,19.670000000000002,12.9,450.41000000000008,13.26,0.46,6.1,6.1,515.66000000000008,163.21999999999991,0,107961.14000000001,107961.14000000001,107961.14000000001,0,0,0,0,0,0,0,0,0,0,0,0,148675.03999999995,92871.960000000021,0,0,92871.960000000021,55803.080000000009,0,1632.55,0,12721.33,0,9745.6299999999992,0,0,0,31703.57,0,0,0,0,0,0,0,0,0,0,0,0,256636.17999999988,3.94,10.050000000000001,0,0.04,6.2,19.670000000000002,12.9,12.56,404.76,4.83,28.63,0,1,0,28,6,0,0,32,119.49,0,0,1,3.17,0,0,0,0,0,0,26,95.2,0,0,0,0,0,0,0,0,null,null,null,null,null,null,null,0,{"$f":"+INDEX($F139:$DJ139,1,Sheet3!$C$1)","v":0},{"$f":"+IF(Sheet3!$C$1=1,IF(DN139<3,0,1),1)","v":1}]
[1,1,"11C",5,3,5,139559.63292192545,63.17,41.019999999999996,2682.2799999999997,65.38,9.7100000000000009,1.02,0,0,1.55,0,60.54,0.06,0,0,0,63.169999999999987,32.799999999999997,0,4218.18,4218.18,4218.18,0,0,0,0,0,0,0,0,0,0,0,0,15506.680000000002,8258.1999999999989,0,0,8258.1999999999989,7248.4800000000005,0,0,0,0,0,1213.96,0,0,0,6034.52,0,0,0,0,0,0,0,0,0,0,0,0,19724.86,0,0.91,0,0,0.11,1.55,0,0,58.62,0,2.27,0,0,0,0,0,0,0,4,32.049999999999997,0,0,0,0,0,0,0,0,0,0,1,11.98,0,0,0,0,0,0,0,0,null,null,null,null,null,null,null,0,{"$f":"+INDEX($F140:$DJ140,1,Sheet3!$C$1)","v":0},{"$f":"+IF(Sheet3!$C$1=1,IF(DN140<3,0,1),1)","v":1}]
[1,1,"11C",6,1,38,99726.85702737562,48.290000000000006,43.379999999999995,3320.9800000000005,55.670000000000009,44.69,2.0499999999999998,0,0,2.13,2.34,40.419999999999995,1.35,0.62,1.05,1.05,48.290000000000013,5.7200000000000006,0,32122.330000000005,32122.330000000005,32122.330000000005,0,0,0,0,0,0,0,0,0,0,0,0,14262.390000000003,9952.8000000000029,0,0,9952.8000000000029,4309.59,0,0,0,0,0,0,0,0,0,4309.59,0,0,0,0,0,0,0,0,0,0,0,0,46384.72,0,1.04,0,0,1.01,2.13,2.34,38.08,1.05,0.52,8.73,0,0,0,5,2,0,0,6,5.72,0,0,0,0,0,0,0,0,0,0,0,0,0,0,0,0,0,0,0,0,null,null,null,null,null,null,null,0,{"$f":"+INDEX($F141:$DJ141,1,Sheet3!$C$1)","v":0},{"$f":"+IF(Sheet3!$C$1=1,IF(DN141<3,0,1),1)","v":1}]
[1,1,"11C",6,2,60,573129.47819359123,197.90999999999988,162.86000000000004,11654.77,214.01999999999992,175.46,7.78,0,0,8.56,6.57,171.41999999999996,3.58,0,2.4000000000000004,2.4000000000000004,197.90999999999991,104.79999999999997,0,50719.819999999985,50719.819999999985,50719.819999999985,0,0,0,0,0,0,0,0,0,0,0,0,103930.92000000001,42653.600000000013,0,0,42653.600000000013,61277.32,3420,3386.01,0,1028.75,314.27999999999997,275.10000000000002,0,0,0,52853.18,0,0,0,0,0,0,0,0,0,0,0,0,154650.73999999996,1.99,2.92,0,0,2.5099999999999998,8.56,6.57,159.22999999999999,5.55,1.4,19.690000000000001,0,0,0,14,0,2,0,28,89.24,1,3.8,3,5.05,0,0,1,1.94,0,0,2,2.62,0,0,0,0,0,0,0,0,null,null,null,null,null,null,null,0,{"$f":"+INDEX($F142:$DJ142,1,Sheet3!$C$1)","v":0},{"$f":"+IF(Sheet3!$C$1=1,IF(DN142<3,0,1),1)","v":1}]
[1,1,"11C",6,3,46,2322613.69387963,130.67000000000004,103.14999999999999,8917.8000000000011,143.89999999999998,110.46,5.92,0,0,8.91,1.36,113.60999999999999,0.87,0,2.4,2.4,130.66000000000003,87.58,0,38847.180000000008,38847.180000000008,38847.180000000008,0,0,0,0,0,0,0,0,0,0,0,0,78026.61000000003,25572.400000000001,0,0,25572.400000000001,52454.21,10093,12477.55,0,0,108.54,233.1,0,0,0,29332.02,0,0,0,0,0,0,0,0,210,0,0,0,116873.78999999996,0.82,1.62,0,1.01,2.27,8.91,1.36,101.38,8.51,0.98,14.1,0,0,0,9,7,0,0,20,54.37,6,11.33,9,16.25,0,0,1,0.67,0,0,2,2.2200000000000002,0,0,0,0,0,0,0,0,null,null,null,null,null,null,null,0,{"$f":"+INDEX($F143:$DJ143,1,Sheet3!$C$1)","v":0},{"$f":"+IF(Sheet3!$C$1=1,IF(DN143<3,0,1),1)","v":1}]
[1,1,"11C",7,1,5,4882.2658406399996,5.3599999999999994,4.8499999999999996,442.4,5.3599999999999994,3.81,0,0,0,0,0,4.9400000000000004,0.42,0,0,0,5.36,0.67,0,4226.66,4226.66,4226.66,0,0,0,0,0,0,0,0,0,0,0,0,813.14,704.6,0,0,704.6,108.54,0,0,0,0,108.54,0,0,0,0,0,0,0,0,0,0,0,0,0,0,0,0,0,5039.8,0,0,0,0,0,0,0,0,0,4.8,0.42,0,0,0,0,0,0,0,0,0,0,0,0,0,0,0,1,0.67,0,0,0,0,0,0,0,0,0,0,0,0,null,null,null,null,null,null,null,0,{"$f":"+INDEX($F144:$DJ144,1,Sheet3!$C$1)","v":0},{"$f":"+IF(Sheet3!$C$1=1,IF(DN144<3,0,1),1)","v":1}]
[1,1,"11C",8,1,1171,2448584.8609374696,1335.2399999999996,1224.3900000000006,134923.29000000007,1426.6399999999981,1014.56,514.09,0,0,221.06,50.69,453.63999999999982,95.76,12.969999999999995,113.45,116.75,1334.2499999999995,24.38,0,988624.34999998705,988624.34999998705,988624.34999998705,0,0,0,0,0,0,0,0,0,0,0,0,195948.83000000016,184868.63000000012,0,0,184868.63000000012,11080.2,0,0,0,9238.9500000000007,818.1,59.85,0,230.4,0,0,0,0,172.9,0,0,0,0,0,560,0,0,0,1184573.1800000002,53.88,334.72,0,10.62,113.89,221.06,43.75,67.77,234.52,48.65,187.16,0,16,29,420,63,43,5,0,0,0,0,0,0,0,0,6,5.05,0,0,1,0.56999999999999995,0,0,2,0.91,0,0,0,0,null,null,null,null,null,null,null,0,{"$f":"+INDEX($F145:$DJ145,1,Sheet3!$C$1)","v":0},{"$f":"+IF(Sheet3!$C$1=1,IF(DN145<3,0,1),1)","v":1}]
[1,1,"11C",8,2,256,1615687.1785640833,657.69,550.0200000000001,42409.570000000022,700.32000000000016,461.76,152.76,0,0,59.21,17.29,404.83,23.6,11.17,77.65000000000002,77.65000000000002,657.61,88.389999999999972,0,216027.84999999986,216027.84999999986,216027.84999999986,0,0,0,0,0,0,0,0,0,0,0,0,187463.87999999998,142394.61000000007,0,0,142394.61000000007,45069.26999999999,0,6792.23,0,13988.45,358.02,1661.1,0,95.4,0,21839.87,0,0,110.2,0,0,0,0,0,224,0,0,0,403491.72999999992,15.74,75.680000000000007,0,2.95,56.91,59.21,17.29,113.54,192.31,18.38,66.23,0,16,30,243,27,22,3,18,48.38,0,0,3,10.11,0,0,3,2.21,0,0,4,15.82,0,0,1,0.57999999999999996,0,0,0,0,null,null,null,null,null,null,null,0,{"$f":"+INDEX($F146:$DJ146,1,Sheet3!$C$1)","v":0},{"$f":"+IF(Sheet3!$C$1=1,IF(DN146<3,0,1),1)","v":1}]
[1,1,"11C",8,3,1,31336.150099083225,13.74,11.01,719.94,13.74,1.56,1.1100000000000001,0,0,1.68,0.57999999999999996,9.86,0.51,0.51,1.2,1.2,13.740000000000002,8.7399999999999984,0,845.33,845.33,845.33,0,0,0,0,0,0,0,0,0,0,0,0,2962.86,0,0,0,0,2962.86,0,0,0,0,0,917.7,0,0,0,2045.16,0,0,0,0,0,0,0,0,0,0,0,0,3808.19,0,0.4,0,0,0.71,1.68,0.57999999999999996,0.46,8.67,0,0.51,0,0,2,0,0,0,0,1,8.6300000000000008,0,0,0,0,0,0,0,0,0,0,1,8.74,0,0,0,0,0,0,0,0,null,null,null,null,null,null,null,0,{"$f":"+INDEX($F147:$DJ147,1,Sheet3!$C$1)","v":0},{"$f":"+IF(Sheet3!$C$1=1,IF(DN147<3,0,1),1)","v":1}]
[1,1,"11C","10_1",1,18,38176.752162621655,23.84,19.75,1904.5800000000002,27.939999999999998,20.329999999999998,2.34,0,0,12.03,0,0.61,8.86,8.86,36.749999999999993,36.749999999999993,23.839999999999996,4.2300000000000004,0,15178.1,15178.1,15178.1,0,0,0,0,0,0,0,0,0,0,0,0,6814.3000000000011,4890.6000000000013,0,0,4890.6000000000013,1923.6999999999998,0,0,0,0,0,0,0,0,0,0,0,0,803.7,0,0,0,0,0,1120,0,0,0,21992.400000000001,0.09,1.65,0,0.11,0.49,12.03,0,0.01,0.48,0,12.96,0,20,28,6,0,3,0,0,0,0,0,0,0,0,0,0,0,0,0,0,0,0,0,4,4.2300000000000004,0,0,0,0,null,null,null,null,null,null,null,0,{"$f":"+INDEX($F148:$DJ148,1,Sheet3!$C$1)","v":0},{"$f":"+IF(Sheet3!$C$1=1,IF(DN148<3,0,1),1)","v":1}]
[1,1,"11C","10_15",1,7,19545.355784774445,7.09,5.83,776.96,7.09,6.79,0.78,0,0,2.54,0,0.84000000000000008,2.93,2.9299999999999997,23.1,23.1,7.0900000000000016,1.4,0,5917.31,5917.31,5917.31,0,0,0,0,0,0,0,0,0,0,0,0,1771,1105,0,0,1105,666,0,0,0,0,0,0,0,0,0,0,0,0,266,0,0,0,0,0,400,0,0,0,7688.31,0,0.61,0,0,0.17,2.54,0,0.08,0.3,0,2.93,0,9,20,4,0,2,0,0,0,0,0,0,0,0,0,0,0,0,0,0,0,0,0,1,1.4,0,0,0,0,null,null,null,null,null,null,null,0,{"$f":"+INDEX($F149:$DJ149,1,Sheet3!$C$1)","v":0},{"$f":"+IF(Sheet3!$C$1=1,IF(DN149<3,0,1),1)","v":1}]
[1,1,"11C","10_15",2,7,62010.560998225155,10.28,7.49,826.33999999999992,13.33,9.8800000000000008,5.18,0,0,3.46,0,0.22,1.42,1.4200000000000002,60.15,63.449999999999996,10.28,0.94,0,5917.25,5917.25,5917.25,0,0,0,0,0,0,0,0,0,0,0,0,1429.63,1242.0999999999999,0,0,1242.0999999999999,187.53,0,0,0,0,0,0,0,0,0,0,0,0,187.53,0,0,0,0,0,0,0,0,0,7346.8799999999992,7.0000000000000007E-2,4.72,0,0,0.39,3.46,0,0.05,0.17,0,4.47,1,9,82,11,2,0,0,0,0,0,0,0,0,0,0,0,0,0,0,0,0,0,0,1,0.94,0,0,0,0,null,null,null,null,null,null,null,0,{"$f":"+INDEX($F150:$DJ150,1,Sheet3!$C$1)","v":0},{"$f":"+IF(Sheet3!$C$1=1,IF(DN150<3,0,1),1)","v":1}]
[1,1,"11C","10_2",1,7,11902.66661583588,10.88,9.6999999999999993,901.54,12.540000000000001,9.3699999999999992,0.88,0,0,3.58,0,0.16999999999999998,6.25,6.25,6.4,6.4,10.88,1.73,0,5917.29,5917.29,5917.29,0,0,0,0,0,0,0,0,0,0,0,0,2958.7,2210,0,0,2210,748.7,0,0,0,0,0,0,0,0,0,0,0,0,328.7,0,0,0,0,0,420,0,0,0,8875.99,0,0.62,0,0,0.26,3.58,0,0.03,0.14000000000000001,0,7.91,0,4,4,0,0,0,0,0,0,0,0,0,0,0,0,0,0,0,0,0,0,0,0,2,1.73,0,0,0,0,null,null,null,null,null,null,null,0,{"$f":"+INDEX($F151:$DJ151,1,Sheet3!$C$1)","v":0},{"$f":"+IF(Sheet3!$C$1=1,IF(DN151<3,0,1),1)","v":1}]
[1,1,"11C","10_2",2,2,27256.938718279329,23.164999999999999,1,110.52000000000001,41.57,4.5199999999999996,0.21,0,0,0.37,0,0,40.799999999999997,40.799999999999997,18.600000000000001,20.6,23.939999999999998,21.68,41.379999999999995,1690.66,1690.66,1690.66,0,0,0,0,0,0,0,0,0,0,0,0,6276.75,4401.1499999999996,0,0,4401.1499999999996,1875.6,0,0,0,0,0,0,0,0,0,0,0,0,805.6,0,0,350,0,0,720,0,0,0,7967.41,0,0.12,0,0.03,0.06,0.37,0,0,0,0,40.99,0,15,8,0,0,0,0,0,0,0,0,0,0,0,0,0,0,0,0,0,0,0,0,1,4.24,0,0,1,17.440000000000001,null,null,null,null,null,null,null,0,{"$f":"+INDEX($F152:$DJ152,1,Sheet3!$C$1)","v":0},{"$f":"+IF(Sheet3!$C$1=1,IF(DN152<3,0,1),1)","v":1}]
[1,1,"11C",11,1,66,114636.79069117033,106.16499999999996,81.199999999999989,7467.8399999999992,131.24,90.03,5.1100000000000003,0,0,44.76,0,4.3899999999999988,56.82,40.470000000000006,85.450000000000031,94.050000000000026,108.96999999999998,16.739999999999998,11.23,55794.170000000035,55794.170000000035,55794.170000000035,0,0,0,0,0,0,0,0,0,0,0,0,25200.76,22333.219999999994,0,0,22333.219999999994,2867.54,0,0,0,0,0,0,0,0,0,0,0,0,2327.54,0,0,0,0,0,540,0,0,0,80994.930000000037,0,3.73,0,0.04,1.34,44.76,0,0.75,1.77,0.79,76.959999999999994,0,1,1,419,60,70,10,0,0,0,0,0,0,0,0,0,0,0,0,0,0,0,0,14,12.45,0,0,0,0,null,null,null,null,null,null,null,0,{"$f":"+INDEX($F153:$DJ153,1,Sheet3!$C$1)","v":0},{"$f":"+IF(Sheet3!$C$1=1,IF(DN153<3,0,1),1)","v":1}]
[1,1,"11C",11,2,8,61193.424330932648,47.65,11.51,958.36,86.47,11.41,0.94,0,0,4.53,0,0.36,73.040000000000006,10.69,21.3,29.3,64.62,3.07,70.509999999999991,6762.67,6762.67,6762.67,0,0,0,0,0,0,0,0,0,0,0,0,11345.900000000001,10628.6,0,0,10628.6,717.3,0,0,0,0,0,0,0,0,0,0,0,0,317.3,0,0,0,0,0,400,0,0,0,18108.57,0,0.49,0,0.09,0.36,4.53,0,0,2.0099999999999998,0,78.89,0,5,5,34,2,51,3,0,0,0,0,0,0,0,0,0,0,0,0,0,0,0,0,1,1.67,0,0,0,0,null,null,null,null,null,null,null,0,{"$f":"+INDEX($F154:$DJ154,1,Sheet3!$C$1)","v":0},{"$f":"+IF(Sheet3!$C$1=1,IF(DN154<3,0,1),1)","v":1}]
[1,1,"11C",11,3,1,26241.253633748103,23.21,1.54,100.7,43.2,1.1299999999999999,0.63,0,0,2.0299999999999998,0,0,39.979999999999997,0,5,5,43.199999999999996,0,43.199999999999996,845.33,845.33,845.33,0,0,0,0,0,0,0,0,0,0,0,0,2903.2,2903.2,0,0,2903.2,0,0,0,0,0,0,0,0,0,0,0,0,0,0,0,0,0,0,0,0,0,0,0,3748.5299999999997,0,0.44,0,0,0.19,2.0299999999999998,0,0,0.39,0.16,39.979999999999997,0,1,1,0,0,23,1,0,0,0,0,0,0,0,0,0,0,0,0,0,0,0,0,0,0,0,0,0,0,null,null,null,null,null,null,null,0,{"$f":"+INDEX($F155:$DJ155,1,Sheet3!$C$1)","v":0},{"$f":"+IF(Sheet3!$C$1=1,IF(DN155<3,0,1),1)","v":1}]
[1,1,"11C",12,1,198,440073.08942087815,270.92000000000013,235.32000000000008,24725.059999999979,305.59999999999997,236.97,76.87,0,0,88.49,0.87,36.24,69.45,67.55999999999996,239.94999999999985,244.94999999999987,271.92000000000013,23.23,2.8,167246.75,167246.75,167246.75,0,0,0,0,0,0,0,0,0,0,0,0,61698.080000000002,55572.509999999995,0,0,55572.509999999995,6125.5699999999979,0,0,0,0,0,0,0,0,0,0,0,0,4205.57,0,0,0,0,0,1920,0,0,0,228944.83000000005,8.2899999999999991,53.29,0,1.36,13.93,88.49,0.87,4.78,21.67,3.21,103.13,0,45,89,786,108,54,9,0,0,0,0,0,0,0,0,0,0,0,0,0,0,0,0,25,22,0,0,0,0,null,null,null,null,null,null,null,0,{"$f":"+INDEX($F156:$DJ156,1,Sheet3!$C$1)","v":0},{"$f":"+IF(Sheet3!$C$1=1,IF(DN156<3,0,1),1)","v":1}]
[1,1,"11C",12,2,20,108007.52931442716,67.64500000000001,41.470000000000006,3475.2899999999995,85.54,40.98,11.45,0,0,18.75,0.11,9.4499999999999993,33.78,23.91,46.999999999999993,46.999999999999993,71.450000000000017,4.2,18.93,16906.559999999998,16906.559999999998,16906.559999999998,0,0,0,0,0,0,0,0,0,0,0,0,15225.440000000002,14260.200000000003,0,0,14260.200000000003,965.24,0,0,0,0,0,0,0,21,0,0,0,0,491.44,0,0,0,0,0,420,0,0,32.799999999999997,32132,2.78,5.83,0,0.36,2.48,18.75,0.11,3.49,5.19,1.91,43.87,0,8,21,147,18,14,5,0,0,0,0,0,0,0,0,0,0,0,0,0,0,0,0,3,2.56,0,0,0,0,null,null,null,null,null,null,null,0,{"$f":"+INDEX($F157:$DJ157,1,Sheet3!$C$1)","v":0},{"$f":"+IF(Sheet3!$C$1=1,IF(DN157<3,0,1),1)","v":1}]
[1,1,"11C",13,1,125,152107.33840932156,151.04000000000002,136.43,16306.540000000006,168.25000000000006,122.5,3.5,0,0,119.49,3.77,6.6199999999999974,17.66,0,0,0,150.99000000000004,2.5700000000000003,0,105371.45000000016,105371.45000000016,105371.45000000016,0,0,0,0,0,0,0,0,0,0,0,0,4438.22,4430.420000000001,0,0,4430.420000000001,7.8,0,0,0,0,0,0,0,0,0,0,0,0,0,0,0,0,0,0,0,0,0,7.8,109809.67000000011,0,1.36,0,1.1200000000000001,0.91,119.6,0.05,0.89,4.41,0.89,34.869999999999997,0,0,0,0,0,0,0,0,0,0,0,0,0,0,0,0,0,0,0,0,0,0,0,0,0,0,0,0,0,null,null,null,null,null,null,null,0,{"$f":"+INDEX($F158:$DJ158,1,Sheet3!$C$1)","v":0},{"$f":"+IF(Sheet3!$C$1=1,IF(DN158<3,0,1),1)","v":1}]
[1,1,"11C",13,2,4,24180.093296930037,17.61,15.629999999999999,1168.0999999999999,22.089999999999996,14.04,0.62,0,0,16.170000000000002,0,0.67999999999999994,0.14000000000000001,0,0,0,17.47,0,0,3381.32,3381.32,3381.32,0,0,0,0,0,0,0,0,0,0,0,0,1834.5,1834.5,0,0,1834.5,0,0,0,0,0,0,0,0,0,0,0,0,0,0,0,0,0,0,0,0,0,0,0,5215.8200000000006,0,0.62,0,0,0,16.170000000000002,0,0.22,0.38,0.08,4.62,0,0,0,0,0,0,0,0,0,0,0,0,0,0,0,0,0,0,0,0,0,0,0,0,0,0,0,0,0,null,null,null,null,null,null,null,0,{"$f":"+INDEX($F159:$DJ159,1,Sheet3!$C$1)","v":0},{"$f":"+IF(Sheet3!$C$1=1,IF(DN159<3,0,1),1)","v":1}]
[1,1,"11C",15,1,2,2730.0033439411818,2.3600000000000003,2.1100000000000003,183.31,4.01,0.92,1.32,0,0,0,0.94,0.1,0,0,0,0,2.3600000000000003,0,0,1690.63,1690.63,1690.63,0,0,0,0,0,0,0,0,0,0,0,0,404.43,404.43,0,0,404.43,0,0,0,0,0,0,0,0,0,0,0,0,0,0,0,0,0,0,0,0,0,0,0,2095.06,0.59,0.03,0,0,0.7,0,0.94,0,0.05,0,1.65,0,0,0,0,0,0,0,0,0,0,0,0,0,0,0,0,0,0,0,0,0,0,0,0,0,0,0,0,0,null,null,null,null,null,null,null,0,{"$f":"+INDEX($F160:$DJ160,1,Sheet3!$C$1)","v":0},{"$f":"+IF(Sheet3!$C$1=1,IF(DN160<3,0,1),1)","v":1}]
[1,1,"11D","1_1",1,15,9954.127366152361,22.28,20.72,1945.4199999999998,31.73,14.72,14.26,0,0,1.57,0.11,2.84,3.5,0,0,0,22.28,0,0,12604.23,12604.23,12604.23,0,0,0,0,0,0,0,0,0,0,0,0,4105.3999999999996,4105.3999999999996,0,0,4105.3999999999996,0,0,0,0,0,0,0,0,0,0,0,0,0,0,0,0,0,0,0,0,0,0,0,16709.63,5.21,7.65,0,0.1,1.3,1.57,0.11,1.69,0.28999999999999998,0.75,12.95,0,0,0,0,0,0,0,0,0,0,0,0,0,0,0,0,0,0,0,0,0,0,0,0,0,0,0,0,0,null,null,null,null,null,null,null,0,{"$f":"+INDEX($F161:$DJ161,1,Sheet3!$C$1)","v":0},{"$f":"+IF(Sheet3!$C$1=1,IF(DN161<3,0,1),1)","v":1}]
[1,1,"11D","1_1",4,1,133794.96696377086,2.23,2.17,213.87,2.5299999999999998,2.17,2.17,0,0,0,0,0.06,0,0,0,0,2.23,2.13,0,845.33,845.33,845.33,0,0,0,0,0,0,0,0,0,0,0,0,1857.8,579.79999999999995,0,0,579.79999999999995,1278,0,1278,0,0,0,0,0,0,0,0,0,0,0,0,0,0,0,0,0,0,0,0,2703.13,0,0,0,0,2.17,0,0,0,0,0,0.3,0,0,0,0,0,0,0,0,0,0,0,1,2.13,0,0,0,0,0,0,0,0,0,0,0,0,0,0,0,0,null,null,null,null,null,null,null,0,{"$f":"+INDEX($F162:$DJ162,1,Sheet3!$C$1)","v":0},{"$f":"+IF(Sheet3!$C$1=1,IF(DN162<3,0,1),1)","v":1}]
[1,1,"11D","1_2",1,49,85299.245111005788,108.17999999999999,87.02,6344.6500000000015,155.83999999999995,5.45,51.71,0,0,11.07,2.9,31.089999999999993,11.41,0,0,1,107.75999999999998,6.5,0,41421.140000000007,41421.140000000007,41421.140000000007,0,0,0,0,0,0,0,0,0,0,0,0,23350.44,21819.499999999996,0,0,21819.499999999996,1530.94,580,0,0,0,950.94,0,0,0,0,0,0,0,0,0,0,0,0,0,0,0,0,0,64771.579999999994,24.34,12.83,0,0.54,6.59,11.07,2.9,14.23,6.32,9,59.07,0,0,0,0,0,0,0,0,0,1,1.1000000000000001,0,0,0,0,7,5.87,0,0,0,0,0,0,0,0,0,0,0,0,null,null,null,null,null,null,null,0,{"$f":"+INDEX($F163:$DJ163,1,Sheet3!$C$1)","v":0},{"$f":"+IF(Sheet3!$C$1=1,IF(DN163<3,0,1),1)","v":1}]
[1,1,"11D","1_2",2,10,70991.700936130044,37.04,29.729999999999997,1983.4200000000003,58.760000000000012,2.87,20.32,0,0,0,0.38,12.959999999999999,3.38,0,0,0,37.04,5.4300000000000006,0,8398.57,8398.57,8398.57,0,0,0,0,0,0,0,0,0,0,0,0,9393.1899999999987,8156.3300000000008,0,0,8156.3300000000008,1236.8600000000001,0,0,0,462.5,774.36,0,0,0,0,0,0,0,0,0,0,0,0,0,0,0,0,0,17791.759999999998,7.16,0,0,0,2.88,0,0.38,8.23,2.06,2,25.1,0,0,0,0,0,0,0,0,0,0,0,0,0,0,0,3,4.78,0,0,0,0,0,0,0,0,0,0,0,0,null,null,null,null,null,null,null,0,{"$f":"+INDEX($F164:$DJ164,1,Sheet3!$C$1)","v":0},{"$f":"+IF(Sheet3!$C$1=1,IF(DN164<3,0,1),1)","v":1}]
[1,1,"11D","1_2",3,1,42757.372041071758,3.95,1.23,80.42,3.99,0.94,1,0,0,0,0,2.95,0,0,0,0,3.9500000000000006,1.58,0,845.32,845.32,845.32,0,0,0,0,0,0,0,0,0,0,0,0,1493.3,960.5,0,0,960.5,532.79999999999995,0,387,0,0,145.80000000000001,0,0,0,0,0,0,0,0,0,0,0,0,0,0,0,0,0,2338.62,0.06,0,0,0,0.94,0,0,0.87,1.02,1.04,0.04,0,0,0,0,0,0,0,0,0,0,0,1,0.68,0,0,1,0.9,0,0,0,0,0,0,0,0,0,0,0,0,null,null,null,null,null,null,null,0,{"$f":"+INDEX($F165:$DJ165,1,Sheet3!$C$1)","v":0},{"$f":"+IF(Sheet3!$C$1=1,IF(DN165<3,0,1),1)","v":1}]
[1,1,"11D",4,1,359,887105.8728222684,458.55499999999989,398.77000000000015,33476.339999999975,581.8300000000005,74.7,99.99,0,0,23.56,11.85,284.4449999999996,40.21,2.5,7.2,14.2,455.91999999999996,51.409999999999982,8.06,302811.59000000032,302811.59000000032,302811.59000000032,0,0,0,0,0,0,0,0,0,0,0,0,113050.17000000003,84269.420000000056,0,0,84269.420000000056,28780.749999999993,724,0,0,25187.95,2828.6,0,0,0,0,0,0,0,0,0,0,0,0,0,0,0,0,40.200000000000003,415861.76000000007,13.25,8.76,0,3.97,74.010000000000005,23.56,7.16,53.2,59.35,158.29,160.82,0,0,3,20,4,9,3,0,0,1,1.58,0,0,0,0,26,18.32,0,0,0,0,0,0,0,0,0,0,0,0,null,null,null,null,null,null,null,0,{"$f":"+INDEX($F166:$DJ166,1,Sheet3!$C$1)","v":0},{"$f":"+IF(Sheet3!$C$1=1,IF(DN166<3,0,1),1)","v":1}]
[1,1,"11D",4,2,365,2746642.817671468,819.2849999999994,684.40999999999974,50978.289999999986,1063.2399999999996,172.6,269.33,0,0,27.56,12.26,445.13499999999982,73.64,9.8599999999999977,29.05,58.149999999999991,821.38999999999942,81.81,33.24,307739.93000000034,307739.93000000034,307739.93000000034,0,0,0,0,0,0,0,0,0,0,0,0,223065.52000000016,187733.57000000021,0,0,187733.57000000021,35331.94999999999,5106.75,0,0,22841.18,4064.1,690.9,0,0,0,2377.8200000000002,0,0,0,0,0,0,0,0,200,0,0,51.2,530805.44999999984,29.04,10.14,0,5.84,224.23,27.56,11.93,137.04,117.74,149.62,306.32,0,1,9,109,26,14,2,3,10.039999999999999,3,15.05,0,0,0,0,22,25.64,0,0,1,6.58,0,0,0,0,0,0,0,0,null,null,null,null,null,null,null,0,{"$f":"+INDEX($F167:$DJ167,1,Sheet3!$C$1)","v":0},{"$f":"+IF(Sheet3!$C$1=1,IF(DN167<3,0,1),1)","v":1}]
[1,1,"11D",4,3,7,428301.73477714532,23.199999999999996,20.400000000000002,1415.03,24.370000000000005,6.5,8.07,0,0,0.09,0,14.61,0.43,0,0,0,23.200000000000006,9.73,0,5917.3,5917.3,5917.3,0,0,0,0,0,0,0,0,0,0,0,0,9149.7800000000007,5462.8,0,0,5462.8,3686.98,0,0,0,468.13,0,0,0,0,0,3218.85,0,0,0,0,0,0,0,0,0,0,0,0,15067.08,0,0,0,0.21,7.86,0.09,0,5.32,2.88,0,1.6,0,0,0,0,0,0,0,1,7.49,0,0,0,0,0,0,0,0,0,0,0,0,0,0,0,0,0,0,0,0,null,null,null,null,null,null,null,0,{"$f":"+INDEX($F168:$DJ168,1,Sheet3!$C$1)","v":0},{"$f":"+IF(Sheet3!$C$1=1,IF(DN168<3,0,1),1)","v":1}]
[1,1,"11D",5,1,1438,2773614.5615436928,2468.5849999999969,2178.5500000000025,161754.27999999982,2629.4900000000002,15.37,31.09,0,0,11.02,10.9,2391.184999999999,24.39,0,0.6,2.6,2463.7399999999971,1233.0099999999986,3.7699999999999996,1213688.4299999978,1213688.4299999978,1213688.4299999978,0,0,0,0,0,0,0,0,0,0,0,0,1308945.3599999978,569958.86000000022,0,0,569958.86000000022,738986.49999999965,1784.45,1084.3,0,688381.64,5129.8599999999997,2445.0300000000002,0,0,0,40161.22,0,0,0,0,0,0,0,0,0,0,0,0,2522633.79,8.26,2.15,0,1.64,18.86,11.02,10.9,42.63,1862.83,412.25,184.32,0,0,1,0,0,0,0,68,144.57,2,2.5099999999999998,1,1.62,0,0,42,31.82,0,0,13,23.43,0,0,0,0,0,0,0,0,null,null,null,null,null,null,null,0,{"$f":"+INDEX($F169:$DJ169,1,Sheet3!$C$1)","v":0},{"$f":"+IF(Sheet3!$C$1=1,IF(DN169<3,0,1),1)","v":1}]
[1,1,"11D",5,2,621,4647147.0590200424,3852.3500000000004,3041.2300000000027,202530.94000000032,4100.3800000000019,28.16,54.57,0,0,26.02,21.87,3721.3900000000044,28.5,3.01,4.2,13.200000000000001,3838.34,2524.1200000000013,11.31,524308.68000000378,524308.68000000378,524308.68000000378,0,0,0,0,0,0,0,0,0,0,0,0,1877908.4900000002,821802.14999999979,0,0,821802.14999999979,1056106.3399999996,25499.18,13528.11,0,629581.86,6776.46,31695.83,0,0,0,348952.3,0,0,0,0,0,0,0,0,0,0,0,72.599999999999994,2402217.1699999967,14.67,3.46,0,0.8,35.200000000000003,26.02,21.87,73.599999999999994,3131.62,387.34,274.54000000000002,0,0,0,23,5,0,0,258,1440.11,13,50.13,4,27.89,0,0,34,43.06,0,0,46,304.31,0,0,0,0,0,0,0,0,null,null,null,null,null,null,null,0,{"$f":"+INDEX($F170:$DJ170,1,Sheet3!$C$1)","v":0},{"$f":"+IF(Sheet3!$C$1=1,IF(DN170<3,0,1),1)","v":1}]
[1,1,"11D",5,3,1,32793.750130460699,30.98,7.79,509.38,33.520000000000003,2.85,0,0,0,0,0.13,30.85,0,0,0,0,17.009999999999998,30.32,0,845.33,845.33,845.33,0,0,0,0,0,0,0,0,0,0,0,0,18740.13,3318.8,0,0,3318.8,15421.33,12729.81,0,0,0,0,2691.52,0,0,0,0,0,0,0,0,0,0,0,0,0,0,0,0,19585.460000000003,0,0,0,0,0,0,0.13,0,28.59,1.69,2.54,0,0,0,0,0,0,0,0,0,1,30.32,0,0,0,0,0,0,0,0,1,28.88,0,0,0,0,0,0,0,0,null,null,null,null,null,null,null,0,{"$f":"+INDEX($F171:$DJ171,1,Sheet3!$C$1)","v":0},{"$f":"+IF(Sheet3!$C$1=1,IF(DN171<3,0,1),1)","v":1}]
[1,1,"11D",6,1,183,298779.43990772922,448.09999999999997,365.72,25191.41,520.34000000000015,49.8,11.14,0,0,14.6,2.69,406.5900000000002,13.08,0,1.2,4.2,445.4500000000001,104.07,0,154545.55000000016,154545.55000000016,154545.55000000016,0,0,0,0,0,0,0,0,0,0,0,0,137117.78999999998,102359.32999999997,0,0,102359.32999999997,34758.460000000014,6778.65,1835.85,0,7268.5,10455.969999999999,702.45,0,0,0,7629.04,0,0,0,0,0,0,0,0,0,0,0,88,291663.34000000003,6.03,0.64,0,2.15,2.02,14.6,2.69,355.86,8.3000000000000007,39.53,85.32,0,0,2,0,0,0,0,8,14.8,5,17.89,1,5.93,0,0,39,67.42,0,0,2,6.69,0,0,0,0,0,0,0,0,null,null,null,null,null,null,null,0,{"$f":"+INDEX($F172:$DJ172,1,Sheet3!$C$1)","v":0},{"$f":"+IF(Sheet3!$C$1=1,IF(DN172<3,0,1),1)","v":1}]
[1,1,"11D",6,2,97,803027.33576566633,520.93000000000006,347.64000000000004,23429.539999999994,582.50000000000011,257.99,10.4,0,0,4.4800000000000004,6.36,495.80000000000013,3.89,0,0,0,514.54000000000019,299.55999999999989,0,81816.200000000012,81816.200000000012,81816.200000000012,0,0,0,0,0,0,0,0,0,0,0,0,261297.12000000002,112131.96000000002,0,0,112131.96000000002,149165.16,26540.79,4383.75,0,5295.54,6102.84,4386.51,0,0,0,102455.73,0,0,0,0,0,0,0,0,0,0,0,0,343113.31999999983,3.52,1.26,0,0.05,5.3,4.4800000000000004,6.36,435.53,24.26,26.21,65.459999999999994,0,0,0,0,0,0,0,49,195.35,6,56.64,1,16.7,0,0,9,39.840000000000003,0,0,9,42.75,0,0,0,0,0,0,0,0,null,null,null,null,null,null,null,0,{"$f":"+INDEX($F173:$DJ173,1,Sheet3!$C$1)","v":0},{"$f":"+IF(Sheet3!$C$1=1,IF(DN173<3,0,1),1)","v":1}]
[1,1,"11D",6,3,16,633963.36434669665,86.000000000000014,74.079999999999984,5516.17,92.740000000000009,63.37,1.23,0,0,1.78,0.27,82.550000000000011,0.17,0,0,0,84.16,68.86999999999999,0,13487.409999999998,13487.409999999998,13487.409999999998,0,0,0,0,0,0,0,0,0,0,0,0,50829.19,15385.600000000002,0,0,15385.600000000002,35443.589999999997,4078.72,0,0,2489.15,260.82,0,0,0,0,28614.9,0,0,0,0,0,0,0,0,0,0,0,0,64316.600000000006,0,0.19,0,0,1.04,1.78,0.27,72.33,3.36,4.51,6.91,0,0,0,0,0,0,0,11,60.54,2,6.73,0,0,0,0,1,1.61,0,0,0,0,0,0,0,0,0,0,0,0,null,null,null,null,null,null,null,0,{"$f":"+INDEX($F174:$DJ174,1,Sheet3!$C$1)","v":0},{"$f":"+IF(Sheet3!$C$1=1,IF(DN174<3,0,1),1)","v":1}]
[1,1,"11D",7,1,195,83493.633623127811,283.82999999999981,241.87000000000012,22168.079999999984,332.4199999999999,4.2,0.97,0,0,3.16,2.5,265.0499999999999,12.15,0,0,0,283.74999999999983,73.360000000000014,0,164301.09000000017,164301.09000000017,164301.09000000017,0,0,0,0,0,0,0,0,0,0,0,0,80264.890000000043,55521.530000000035,0,0,55521.530000000035,24743.359999999997,3030,0,0,13603.7,8042.66,0,0,0,0,0,0,0,0,0,0,0,0,0,0,0,0,67,244565.97999999998,0.84,0,0,0,0.13,3.16,2.5,4.17,2.2000000000000002,257.64999999999998,60.74,0,0,0,0,0,0,0,0,0,3,7.6,0,0,0,0,41,52.96,0,0,0,0,0,0,0,0,0,0,0,0,null,null,null,null,null,null,null,0,{"$f":"+INDEX($F175:$DJ175,1,Sheet3!$C$1)","v":0},{"$f":"+IF(Sheet3!$C$1=1,IF(DN175<3,0,1),1)","v":1}]
[1,1,"11D",8,1,2475,4880426.5119301341,4604.4400000000105,3867.89,303579.27000000037,5692.0799999999972,294.67,388.64,0,0,140.06,52.95,3790.4150000000036,236.32,7.3700000000000019,25.1,81.09999999999998,4595.6000000000113,1101.299999999999,28.86,2089324.640000069,2089324.640000069,2089324.640000069,0,0,0,0,0,0,0,0,0,0,0,0,1673874.099999998,1041213.4099999993,145.6,0,1041067.8099999992,632660.68999999971,26287.86,8152.96,0,545801.78,39145.79,765.91,0,0,0,11587.89,0,0,0,0,0,0,0,0,0,0,0,918.5,3763198.7400000053,104.93,56.53,0,15.76,206.38,140.13999999999999,51.4,810.1,1096.3399999999999,1412.18,1315.23,0,0,5,108,26,10,2,19,42.25,23,65.98,7,27.17,0,0,252,247.13,0,0,6,7.34,0,0,0,0,0,0,0,0,null,null,null,null,null,null,null,0,{"$f":"+INDEX($F176:$DJ176,1,Sheet3!$C$1)","v":0},{"$f":"+IF(Sheet3!$C$1=1,IF(DN176<3,0,1),1)","v":1}]
[1,1,"11D",8,2,710,4578597.050839006,3157.7299999999987,2472.2800000000002,170885.57000000004,3791.6899999999973,279.27,246.19,0,0,70.12,37.26,2683.784999999998,122.67,6.88,28.700000000000003,62.20000000000001,3125.6299999999978,1010.2099999999994,56.239999999999981,599598.2700000006,599598.2700000006,599598.2700000006,0,0,0,0,0,0,0,0,0,0,0,0,1191008.5799999998,701482.67999999959,732,321.10000000000002,700429.57999999949,489525.90000000014,49204.81,0,0,330968.99,21585.08,4350.1499999999996,0,0,0,82360.67,0,0,0,0,0,0,0,0,0,0,0,1056.2,1790606.8500000003,41.85,12.19,0,3.99,184.96,70.12,30.78,642.80999999999995,1096.04,599.08000000000004,747.24,0,0,10,90,17,33,6,79,282.08,19,123.27,0,0,0,0,75,138.24,0,0,12,41.43,0,0,0,0,0,0,0,0,null,null,null,null,null,null,null,0,{"$f":"+INDEX($F177:$DJ177,1,Sheet3!$C$1)","v":0},{"$f":"+IF(Sheet3!$C$1=1,IF(DN177<3,0,1),1)","v":1}]
[1,1,"11D",8,3,7,224619.97914108026,117.13000000000002,65.680000000000007,4294.79,140.44999999999999,8.06,7.79,0,0,0.37,1.48,95.17,20.21,20,10.199999999999999,10.199999999999999,107.06999999999998,80.889999999999986,22.96,5917.32,5917.32,5917.32,0,0,0,0,0,0,0,0,0,0,0,0,31749.38,17378.5,0,0,17378.5,14370.880000000001,0,0,0,3253.93,278.64,0,0,0,0,9990.51,0,0,0,0,0,575.4,0,0,0,0,0,272.39999999999998,37666.700000000004,0,1.38,0,0,6.41,0.37,1.48,15.97,51.59,13.49,33.53,0,0,12,19,1,0,0,4,43.4,0,0,0,0,0,0,2,1.72,0,0,0,0,0,0,0,0,0,0,1,20,null,null,null,null,null,null,null,0,{"$f":"+INDEX($F178:$DJ178,1,Sheet3!$C$1)","v":0},{"$f":"+IF(Sheet3!$C$1=1,IF(DN178<3,0,1),1)","v":1}]
[1,1,"11D",9,1,2,7044.1948422395471,7.24,6.33,413.90999999999997,7.9399999999999995,3.2,1.51,0,0,2.36,0,0.04,3.33,3.33,5,5,7.25,1,0,1690.66,1690.66,1690.66,0,0,0,0,0,0,0,0,0,0,0,0,1951.8000000000002,1761.8000000000002,0,0,1761.8000000000002,190,0,0,0,0,0,0,0,0,0,0,0,0,190,0,0,0,0,0,0,0,0,0,3642.46,1.0900000000000001,0.42,0,0,0,2.36,0,0.03,0,0,4.03,2,1,4,0,0,0,0,0,0,0,0,0,0,0,0,0,0,0,0,0,0,0,0,1,1,0,0,0,0,null,null,null,null,null,null,null,0,{"$f":"+INDEX($F179:$DJ179,1,Sheet3!$C$1)","v":0},{"$f":"+IF(Sheet3!$C$1=1,IF(DN179<3,0,1),1)","v":1}]
[1,1,"11D",9,2,1,5882.331146806584,1.81,1.1599999999999999,75.849999999999994,2.0499999999999998,1.22,0,0,0,0.49,0,0.47,0.85,0.85,3.2,3.2,1.81,1.3099999999999998,0,846.41,846.41,846.41,0,0,0,0,0,0,0,0,0,0,0,0,706.34,470.6,0,0,470.6,235.74,0,0,0,0,76.14,0,0,0,0,0,0,0,159.6,0,0,0,0,0,0,0,0,0,1552.75,0,0,0,0,0,0.49,0,0.47,0,0,1.0900000000000001,2,0,2,0,0,0,0,0,0,0,0,0,0,0,0,1,0.47,0,0,0,0,0,0,1,0.84,0,0,0,0,null,null,null,null,null,null,null,0,{"$f":"+INDEX($F180:$DJ180,1,Sheet3!$C$1)","v":0},{"$f":"+IF(Sheet3!$C$1=1,IF(DN180<3,0,1),1)","v":1}]
[1,1,"11D",9,3,1,36847.60954234963,13.45,2.0099999999999998,131.43,21.85,4.25,0.39,0,0,0.85,0,0,19.809999999999999,19.809999999999999,13,13,21.85,0,21.85,845.32,845.32,845.32,0,0,0,0,0,0,0,0,0,0,0,0,2412.4,2412.4,0,0,2412.4,0,0,0,0,0,0,0,0,0,0,0,0,0,0,0,0,0,0,0,0,0,0,0,3257.7200000000003,0,0,0,0,0.39,0.85,0,0.8,0,0,19.809999999999999,11,0,4,0,0,0,0,0,0,0,0,0,0,0,0,0,0,0,0,0,0,0,0,0,0,0,0,0,0,null,null,null,null,null,null,null,0,{"$f":"+INDEX($F181:$DJ181,1,Sheet3!$C$1)","v":0},{"$f":"+IF(Sheet3!$C$1=1,IF(DN181<3,0,1),1)","v":1}]
[1,1,"11D","10_1",2,1,4329.2105887751732,3.2949999999999999,1.77,212.27,4.79,1.42,0.73,0,0,0.5,0,0,3.39,3.39,5,5,2.84,0.62,4.68,845.32,845.32,845.32,0,0,0,0,0,0,0,0,0,0,0,0,1302.8,848.4,0,0,848.4,454.4,0,0,0,0,0,0,0,0,0,0,0,0,0,34.4,0,0,0,0,420,0,0,0,2148.12,0,0.5,0,0,0.23,0.5,0,0,0.06,0,3.5,0,5,0,0,0,0,0,0,0,0,0,0,0,0,0,0,0,0,0,0,0,1,0.43,0,0,0,0,0,0,null,null,null,null,null,null,null,0,{"$f":"+INDEX($F182:$DJ182,1,Sheet3!$C$1)","v":0},{"$f":"+IF(Sheet3!$C$1=1,IF(DN182<3,0,1),1)","v":1}]
[1,1,"11D","10_15",1,4,9774.9232051190756,5.8,3.78,290.86,5.82,2.29,2.94,0,0,1.1299999999999999,0,0,1.73,1.73,15.4,15.4,5.8000000000000007,0.9,0,3381.32,3381.32,3381.32,0,0,0,0,0,0,0,0,0,0,0,0,1524.1,1353.1,0,0,1353.1,171,0,0,0,0,0,0,0,0,0,0,0,0,171,0,0,0,0,0,0,0,0,0,4905.42,2.0299999999999998,0.62,0,0,0.28999999999999998,1.1299999999999999,0,0,0,0,1.75,0,7,15,0,0,0,0,0,0,0,0,0,0,0,0,0,0,0,0,0,0,0,0,1,0.9,0,0,0,0,null,null,null,null,null,null,null,0,{"$f":"+INDEX($F183:$DJ183,1,Sheet3!$C$1)","v":0},{"$f":"+IF(Sheet3!$C$1=1,IF(DN183<3,0,1),1)","v":1}]
[1,1,"11D","10_2",1,31,76526.99822008991,106.35000000000002,40.110000000000014,3754.46,202.41999999999996,16.72,6.55,0,0,14.69,0.23,0.80999999999999994,154.06,62.999999999999993,39.800000000000011,41.800000000000011,113.71,5.8500000000000005,164.08,26168.110000000004,26168.110000000004,26168.110000000004,0,0,0,0,0,0,0,0,0,0,0,0,26768.420000000002,25757.5,0,0,25757.5,1010.9200000000001,0,0,0,0,178.2,0,0,0,0,0,0,0,261.37,11.35,0,0,0,0,560,0,0,0,52936.530000000013,3.36,1.82,0,0.08,1.29,14.69,0.23,1.31,0.52,0.61,178.11,0,16,41,0,0,0,0,0,0,0,0,0,0,0,0,2,1.1000000000000001,0,0,0,0,1,0.66,2,3.66,0,0,0,0,null,null,null,null,null,null,null,0,{"$f":"+INDEX($F184:$DJ184,1,Sheet3!$C$1)","v":0},{"$f":"+IF(Sheet3!$C$1=1,IF(DN184<3,0,1),1)","v":1}]
[1,1,"11D","10_2",2,19,185062.27082025824,207.63500000000002,22.32,2196.48,392.97999999999996,10.37,4.7699999999999996,0,0,6.75,0,0,371.84,106.54,75,86,158.17999999999998,16.329999999999998,389.72999999999996,16066.17,16066.17,16066.17,0,0,0,0,0,0,0,0,0,0,0,0,43582.14,38705.9,0,0,38705.9,4876.24,0,653.95000000000005,0,1856.25,0,0,0,0,0,0,0,0,152.06,0,0,350,0,0,1863.98,0,0,0,59648.31,2.9,0.88,0,0,0.89,6.85,0,1.4,3.92,0.28999999999999998,375.09,1,34,74,0,0,0,0,0,0,0,0,1,2.86,0,0,0,0,0,0,0,0,0,0,1,1.06,0,0,1,9.9,null,null,null,null,null,null,null,0,{"$f":"+INDEX($F185:$DJ185,1,Sheet3!$C$1)","v":0},{"$f":"+IF(Sheet3!$C$1=1,IF(DN185<3,0,1),1)","v":1}]
[1,1,"11D","10_2",3,2,55134.239674928707,58.230000000000004,3.81,265.72000000000003,112.69,3.83,0,0,0,0.63,0,0,111.8,58.42,35.4,37.400000000000006,4.03,17.689999999999998,112.42999999999999,1690.67,1690.67,1690.67,0,0,0,0,0,0,0,0,0,0,0,0,6715.1,6515.6,0,0,6515.6,199.5,0,0,0,0,0,0,0,0,0,0,0,0,0,0,0,199.5,0,0,0,0,0,0,8405.77,0,0,0,0,0,0.63,0,0,0,0,112.06,0,14,37,0,0,0,0,0,0,0,0,0,0,0,0,0,0,0,0,0,0,0,0,0,0,0,0,1,17.690000000000001,null,null,null,null,null,null,null,0,{"$f":"+INDEX($F186:$DJ186,1,Sheet3!$C$1)","v":0},{"$f":"+IF(Sheet3!$C$1=1,IF(DN186<3,0,1),1)","v":1}]
[1,1,"11D",11,1,76,167666.27418972238,275.38500000000005,96.690000000000026,7765.8699999999972,469.51000000000005,37.729999999999997,9.14,0,0,40.79,5.5,1.06,375.76,61.989999999999995,40.65,115.65000000000002,289.90000000000009,6.6099999999999994,390.56000000000012,64245.749999999964,64245.749999999964,64245.749999999964,0,0,0,0,0,0,0,0,0,0,0,0,62977.62999999999,61283.539999999994,0,0,61283.539999999994,1694.09,0,0,0,779.5,0,0,0,0,0,0,0,0,663.39,51.2,0,0,0,0,200,0,0,0,127223.38,5.04,1.93,0,0.15,2.02,40.79,3.87,3.18,3.02,2.77,403.86,0,0,1,196,26,33,12,0,0,0,0,0,0,0,0,0,0,0,0,0,0,2,0.64,6,4.46,0,0,0,0,null,null,null,null,null,null,null,0,{"$f":"+INDEX($F187:$DJ187,1,Sheet3!$C$1)","v":0},{"$f":"+IF(Sheet3!$C$1=1,IF(DN187<3,0,1),1)","v":1}]
[1,1,"11D",11,2,60,489732.18201453116,611.49999999999989,74.580000000000013,6049.2299999999987,1175.96,30.98,11.07,0,0,42.41,1.34,2.94,1044.96,161.60999999999999,179.1,279.09999999999997,601.17999999999984,91.719999999999985,1101.3499999999999,50719.6,50719.6,50719.6,0,0,0,0,0,0,0,0,0,0,0,0,118025.62000000004,112278.82000000004,0,0,112278.82000000004,5746.8,0,0,0,2952,466.56,0,0,48,0,0,0,0,383.56,19.18,0,682.5,0,0,1195,0,0,0,168745.21999999997,3.91,2.61,0,0.03,4.5199999999999996,42.41,1.34,9.76,6.08,5.03,1099.21,0,2,15,688,52,319,43,0,0,0,0,0,0,0,0,2,2.88,0,0,0,0,1,0.35,7,3.83,0,0,2,80.5,null,null,null,null,null,null,null,0,{"$f":"+INDEX($F188:$DJ188,1,Sheet3!$C$1)","v":0},{"$f":"+IF(Sheet3!$C$1=1,IF(DN188<3,0,1),1)","v":1}]
[1,1,"11D",12,1,78,166641.93739853165,190.46500000000012,120.16999999999994,9483.5600000000013,283.84999999999997,38.450000000000003,20.84,0,0,34.15,0.19,28.215,149.05000000000001,36.370000000000005,58.800000000000004,105.79999999999997,219.19000000000011,12.53,174.90999999999997,65935.429999999993,65935.429999999993,65935.429999999993,0,0,0,0,0,0,0,0,0,0,0,0,49176.830000000016,45740.410000000018,0,0,45740.410000000018,3436.4199999999996,594,0,0,1903.5,657.72,0,0,0,0,0,0,0,281.2,0,0,0,0,0,0,0,0,0,115112.26000000002,5.25,6.31,0,0.93,8.35,34.15,0.19,12.15,12.5,17.05,182.26,0,3,18,193,32,53,30,0,0,1,1.98,0,0,0,0,4,4.0599999999999996,0,0,0,0,0,0,1,1.48,0,0,0,0,null,null,null,null,null,null,null,0,{"$f":"+INDEX($F189:$DJ189,1,Sheet3!$C$1)","v":0},{"$f":"+IF(Sheet3!$C$1=1,IF(DN189<3,0,1),1)","v":1}]
[1,1,"11D",12,2,28,224203.5713165428,186.54999999999998,62.97999999999999,4544.8,325.30999999999995,20.6,14.65,0,0,7.25,0.1,11.16,248.06,40.78,59.1,95.600000000000009,214.35999999999996,10.5,286.05000000000007,23669.100000000002,23669.100000000002,23669.100000000002,0,0,0,0,0,0,0,0,0,0,0,0,47268.189999999995,38818.000000000007,0,0,38818.000000000007,8450.19,0,0,0,7639.63,118.26,0,0,0,0,0,0,0,146.30000000000001,0,0,0,0,0,546,0,0,0,70937.289999999994,5.66,1.51,0,0,7.48,7.25,0.1,6.94,16.43,8.8800000000000008,268.47000000000003,1,7,19,108,21,101,28,0,0,0,0,0,0,0,0,1,0.73,0,0,0,0,0,0,1,0.77,0,0,0,0,null,null,null,null,null,null,null,0,{"$f":"+INDEX($F190:$DJ190,1,Sheet3!$C$1)","v":0},{"$f":"+IF(Sheet3!$C$1=1,IF(DN190<3,0,1),1)","v":1}]
[1,1,"11D",13,1,33,9880.3615579197794,50.465000000000003,38.619999999999997,3412.4300000000003,90.799999999999983,12.85,0,0,0,18.170000000000002,6.36,3.1900000000000004,24,0,0,0,50.860000000000007,0,1.7600000000000002,27895.670000000009,27895.670000000009,27895.670000000009,0,0,0,0,0,0,0,0,0,0,0,0,3460.6000000000004,3460.6000000000004,0,0,3460.6000000000004,0,0,0,0,0,0,0,0,0,0,0,0,0,0,0,0,0,0,0,0,0,0,0,31356.270000000004,0,0,0,0,0,18.170000000000002,0,1.24,0.26,1.91,62.84,0,0,0,0,0,0,0,0,0,0,0,0,0,0,0,0,0,0,0,0,0,0,0,0,0,0,0,0,0,null,null,null,null,null,null,null,0,{"$f":"+INDEX($F191:$DJ191,1,Sheet3!$C$1)","v":0},{"$f":"+IF(Sheet3!$C$1=1,IF(DN191<3,0,1),1)","v":1}]
[1,1,"11D",15,1,9,13511.234626621273,11.6,10.15,717.28000000000009,13.680000000000001,1.08,4.3,0,0,0,0,6.4399999999999995,0.86,0,0,0,11.600000000000001,0.61,0,7607.9299999999994,7607.9299999999994,7607.9299999999994,0,0,0,0,0,0,0,0,0,0,0,0,2452.98,2191.8000000000002,0,0,2191.8000000000002,261.18,0,0,0,198,63.18,0,0,0,0,0,0,0,0,0,0,0,0,0,0,0,0,0,10060.91,0,0,0,0,4.3,0,0,2.4300000000000002,1.17,2.84,2.94,0,0,0,0,0,0,0,0,0,0,0,0,0,0,0,1,0.39,0,0,0,0,0,0,0,0,0,0,0,0,null,null,null,null,null,null,null,0,{"$f":"+INDEX($F192:$DJ192,1,Sheet3!$C$1)","v":0},{"$f":"+IF(Sheet3!$C$1=1,IF(DN192<3,0,1),1)","v":1}]
[1,1,"11D",15,2,3,14393.051848433097,10.63,9.56,625.12,12.940000000000001,0.02,4.53,0,0,0.57999999999999996,0,4.13,1.39,0,0,0,10.629999999999999,1.2300000000000002,0,2535.96,2535.96,2535.96,0,0,0,0,0,0,0,0,0,0,0,0,2942.35,2223.6,0,0,2223.6,718.75,0,0,0,718.75,0,0,0,0,0,0,0,0,0,0,0,0,0,0,0,0,0,0,5478.3099999999995,0,0,0,0,4.53,0.57999999999999996,0,0.78,2.11,0.76,3.7,0,0,0,0,0,0,0,0,0,0,0,0,0,0,0,0,0,0,0,0,0,0,0,0,0,0,0,0,0,null,null,null,null,null,null,null,0,{"$f":"+INDEX($F193:$DJ193,1,Sheet3!$C$1)","v":0},{"$f":"+IF(Sheet3!$C$1=1,IF(DN193<3,0,1),1)","v":1}]
[1,1,"11E",0,2,4,67425.121539773085,29.26,8.83,631.78,39.53,0.36,3.41,0,0,6,0.52,17.48,1.85,0,0,37,29.26,8.85,0,3381.34,3381.34,3381.34,0,0,0,0,0,0,0,0,0,0,0,0,11940.76,6380.4,0,0,6380.4,5560.3600000000006,0,0,0,0,1260.3599999999999,0,0,0,0,0,0,0,0,0,0,0,0,0,4300,0,0,0,15322.099999999999,0,0,0,2,1.41,6,0.52,6.84,3.83,6.5,12.12,0,0,0,0,0,0,0,0,0,0,0,0,0,0,0,3,7.78,0,0,0,0,0,0,0,0,0,0,0,0,null,null,null,null,null,null,null,0,{"$f":"+INDEX($F194:$DJ194,1,Sheet3!$C$1)","v":0},{"$f":"+IF(Sheet3!$C$1=1,IF(DN194<3,0,1),1)","v":1}]
[1,1,"11E","1_1",1,1,438.66329737935598,1.36,0.88,57.54,1.36,1.27,1.27,0,0,0,0,0.09,0,0,0,0,1.36,0,0,845.32,845.32,845.32,0,0,0,0,0,0,0,0,0,0,0,0,353.6,353.6,0,0,353.6,0,0,0,0,0,0,0,0,0,0,0,0,0,0,0,0,0,0,0,0,0,0,0,1198.92,1.27,0,0,0,0,0,0,0.09,0,0,0,0,0,0,0,0,0,0,0,0,0,0,0,0,0,0,0,0,0,0,0,0,0,0,0,0,0,0,0,0,null,null,null,null,null,null,null,{"$f":"+DN195*DO195","v":0},{"$f":"+INDEX($F195:$DJ195,1,Sheet3!$C$1)","v":0},{"$f":"+IF(Sheet3!$C$1=1,IF(DN195<3,0,1),1)","v":1}]
[1,1,"11E","1_2",1,81,84039.360562906761,307.70999999999998,222.09999999999994,15454.05,376.90000000000003,0.53,140.86000000000001,0,0,7.79,77.540000000000006,37.010000000000005,44.51,0,0,0,301.39,15.5,0,68433.759999999995,68433.759999999995,68433.759999999995,0,0,0,0,0,0,0,0,0,0,0,0,64595.789999999994,60398.8,0,0,60398.8,4196.9900000000007,1389.55,0,0,549,2258.44,0,0,0,0,0,0,0,0,0,0,0,0,0,0,0,0,0,133029.54999999999,103.8,24.88,0,6.22,0.66,7.79,72.06,2.44,2.99,30.28,113.7,0,0,0,0,0,0,0,0,0,2,3.68,0,0,0,0,20,13.84,0,0,0,0,0,0,0,0,0,0,0,0,null,null,null,null,null,null,null,0,{"$f":"+INDEX($F196:$DJ196,1,Sheet3!$C$1)","v":0},{"$f":"+IF(Sheet3!$C$1=1,IF(DN196<3,0,1),1)","v":1}]
[1,1,"11E","1_2",2,9,69199.762963088651,38.940000000000005,31.869999999999997,2192.48,63.960000000000008,0,19.440000000000001,0,0,0,2.1800000000000002,15.01,2.31,0,0,0,38.89,18.61,0,7607.86,7607.86,7607.86,0,0,0,0,0,0,0,0,0,0,0,0,10098.970000000001,8397.2999999999993,0,0,8397.2999999999993,1701.67,0,0,108.3,446.25,1147.1199999999999,0,0,0,0,0,0,0,0,0,0,0,0,0,0,0,0,0,17706.830000000002,7.3,0,0,0,0.72,0,2.1800000000000002,6.78,0.99,6.76,27.33,0,0,0,0,0,0,0,0,0,0,0,0,0,0,0,7,7.13,0,0,0,0,0,0,0,0,0,0,0,0,null,null,null,null,null,null,null,0,{"$f":"+INDEX($F197:$DJ197,1,Sheet3!$C$1)","v":0},{"$f":"+IF(Sheet3!$C$1=1,IF(DN197<3,0,1),1)","v":1}]
[1,1,"11E",3,1,2,3526.0507814403009,6.13,4.75,369.17,6.16,0,1.88,0,0,0,2.65,1.02,0.57999999999999996,0,0,0,5.7400000000000011,0.71000000000000019,0,1690.67,1690.67,1690.67,0,0,0,0,0,0,0,0,0,0,0,0,1496.12,1381.1,0,0,1381.1,115.02,0,0,0,0,115.02,0,0,0,0,0,0,0,0,0,0,0,0,0,0,0,0,0,3186.79,0,0,0,1.46,0.42,0,2.65,0,0,1.02,0.61,0,0,0,0,0,0,0,0,0,0,0,0,0,0,0,1,0.71,0,0,0,0,0,0,0,0,0,0,0,0,null,null,null,null,null,null,null,0,{"$f":"+INDEX($F198:$DJ198,1,Sheet3!$C$1)","v":0},{"$f":"+IF(Sheet3!$C$1=1,IF(DN198<3,0,1),1)","v":1}]
[1,1,"11E",3,2,1,4474.1977989775251,2.71,2.16,141.24,2.71,0.56999999999999995,1.03,0,0,0,0.46,1.1399999999999999,0.08,0,0,0,2.71,0,0,845.33,845.33,845.33,0,0,0,0,0,0,0,0,0,0,0,0,683.8,683.8,0,0,683.8,0,0,0,0,0,0,0,0,0,0,0,0,0,0,0,0,0,0,0,0,0,0,0,1529.13,0,0,0,0.46,0.56999999999999995,0,0.46,0.19,0.15,0.8,0.08,0,0,0,0,0,0,0,0,0,0,0,0,0,0,0,0,0,0,0,0,0,0,0,0,0,0,0,0,0,null,null,null,null,null,null,null,0,{"$f":"+INDEX($F199:$DJ199,1,Sheet3!$C$1)","v":0},{"$f":"+IF(Sheet3!$C$1=1,IF(DN199<3,0,1),1)","v":1}]
[1,1,"11E",4,1,625,1498023.2410621515,1216.6600000000012,1035.0600000000002,82354.650000000111,1455.750000000002,63.31,198.6,0,0,22.23,135.44,743.7099999999997,116.68,1.07,2.5499999999999998,12.55,1212.5000000000014,306.63999999999993,0,528215.96000000311,528215.96000000311,528215.96000000311,0,0,0,0,0,0,0,0,0,0,0,0,316463.00999999995,267106.88,0,0,267106.88,49356.13,1883,0,0,1219.7,45844.47,0,0,0,0,0,0,0,0,0,0,0,0,0,0,0,0,408.96,844678.96999999962,47.65,9.6,0,19.11,122.21,22.23,125.58,91.77,57.02,577.46,355.77,0,0,0,9,2,0,6,0,0,2,4.6100000000000003,0,0,0,0,325,286.77999999999997,0,0,0,0,0,0,0,0,0,0,0,0,null,null,null,null,null,null,null,0,{"$f":"+INDEX($F200:$DJ200,1,Sheet3!$C$1)","v":0},{"$f":"+IF(Sheet3!$C$1=1,IF(DN200<3,0,1),1)","v":1}]
[1,1,"11E",4,2,548,4316701.3437316567,2273.8799999999987,1711.0900000000004,118829.14,2731.6299999999978,102.35,589.79999999999995,0,0,30.28,329.46,1060.1599999999996,264.18,1.39,2.75,21.75,2266.0599999999995,408.26000000000016,0,463012.1400000024,463012.1400000024,463012.1400000024,0,0,0,0,0,0,0,0,0,0,0,0,553386.39,480097.45999999996,0,0,480097.45999999996,73288.930000000008,17811.78,2743.99,0,0,48521.63,0,0,0,0,2869.73,0,0,0,0,0,0,0,0,200,0,0,1141.8,1016398.5299999997,152.4,36.93,0,38.61,359.88,30.28,300.12,366.4,112.44,541.1,721.93,0,1,2,2,0,3,0,4,10.06,12,49.89,2,11.77,0,0,248,307,0,0,0,0,0,0,0,0,0,0,0,0,null,null,null,null,null,null,null,0,{"$f":"+INDEX($F201:$DJ201,1,Sheet3!$C$1)","v":0},{"$f":"+IF(Sheet3!$C$1=1,IF(DN201<3,0,1),1)","v":1}]
[1,1,"11E",4,3,10,405830.86872611486,90.48,60.98,4080.6000000000004,108.24000000000001,2.97,37.520000000000003,0,0,0.56000000000000005,10.27,26.590000000000003,15.54,0,0,0,91.18,25.709999999999997,0,8437.08,8437.08,8437.08,0,0,0,0,0,0,0,0,0,0,0,0,17474.849999999999,15554.35,0,0,15554.35,1920.5,0,0,0,0,1655.38,0,0,0,0,0,0,0,0,0,0,0,0,0,0,0,0,265.12,25911.93,3.22,0.83,0,0,33.31,0.56000000000000005,10.27,17.059999999999999,1.1100000000000001,7.87,33.299999999999997,0,0,0,0,0,0,0,0,0,0,0,0,0,0,0,5,13.72,0,0,0,0,0,0,0,0,0,0,0,0,null,null,null,null,null,null,null,0,{"$f":"+INDEX($F202:$DJ202,1,Sheet3!$C$1)","v":0},{"$f":"+IF(Sheet3!$C$1=1,IF(DN202<3,0,1),1)","v":1}]
[1,1,"11E",5,1,34,54456.360620337859,78.210000000000008,66.14,4825.2299999999996,95.620000000000019,0.21,2.6,0,0,1.1499999999999999,1.79,69.42,3.25,0,0,0,78.210000000000008,16.2,0,28741.14000000001,28741.14000000001,28741.14000000001,0,0,0,0,0,0,0,0,0,0,0,0,22776.300000000003,18498.400000000001,0,0,18498.400000000001,4277.9000000000005,0,0,0,850.5,936.36,0,0,0,0,2432.44,0,0,0,0,0,0,0,0,0,0,0,58.6,51517.440000000002,1.67,0,0,0.8,0.11,1.1499999999999999,1.79,2.2599999999999998,44.12,21.4,20.66,0,0,0,0,0,0,0,2,9.02,0,0,0,0,0,0,8,5.78,0,0,0,0,0,0,0,0,0,0,0,0,null,null,null,null,null,null,null,0,{"$f":"+INDEX($F203:$DJ203,1,Sheet3!$C$1)","v":0},{"$f":"+IF(Sheet3!$C$1=1,IF(DN203<3,0,1),1)","v":1}]
[1,1,"11E",5,2,5,40771.974628182361,48.129999999999995,42.190000000000005,2758.79,57.9,0.72,0.72,0,0,0.37,0.36,41.71,4.97,0,0,0,48.129999999999988,20.219999999999995,0,4226.6400000000003,4226.6400000000003,4226.6400000000003,0,0,0,0,0,0,0,0,0,0,0,0,16164.38,9194.1,0,0,9194.1,6970.28,0,0,0,3962.5,226.8,0,0,0,0,2780.98,0,0,0,0,0,0,0,0,0,0,0,0,20391.02,0,0.72,0,0,0,0.37,0.36,0.55000000000000004,34.06,5.57,14.74,0,0,0,0,0,0,0,1,13.48,0,0,0,0,0,0,1,1.4,0,0,0,0,0,0,0,0,0,0,0,0,null,null,null,null,null,null,null,0,{"$f":"+INDEX($F204:$DJ204,1,Sheet3!$C$1)","v":0},{"$f":"+IF(Sheet3!$C$1=1,IF(DN204<3,0,1),1)","v":1}]
[1,1,"11E",6,1,285,505913.07645100437,1088.8399999999999,828.39,56235.33,1188.2200000000003,12.06,26.96,0,0,9.0500000000000007,94.68,903.18000000000029,54.97,0.06,2.2000000000000002,7.1999999999999993,1084.3300000000002,535.29000000000008,0,240725.25999999978,240725.25999999978,240725.25999999978,0,0,0,0,0,0,0,0,0,0,0,0,339651.63999999984,230861.97,0,0,230861.97,108789.66999999998,33229.480000000003,4290.3999999999996,0,355,65096.87,680.4,0,0,2391,578.91999999999996,0,0,0,0,0,0,0,0,0,0,0,2167.6,580376.89999999944,15.31,6.02,0,3.49,2.14,9.0500000000000007,65.84,779.67,9.08,109.65,154.35,0,1,1,2,2,0,0,1,3.53,19,87.86,4,14.25,0,0,176,410.9,0,0,2,6.48,0,0,0,0,0,0,0,0,null,null,null,null,null,null,null,0,{"$f":"+INDEX($F205:$DJ205,1,Sheet3!$C$1)","v":0},{"$f":"+IF(Sheet3!$C$1=1,IF(DN205<3,0,1),1)","v":1}]
[1,1,"11E",6,2,54,382272.5002225124,544.41000000000008,299.13999999999987,19850.839999999997,604.6500000000002,29.92,11.68,0,0,4.71,25.66,465.46000000000015,36.9,0,1.2,1.2,543.47,351.99,0,45397.369999999966,45397.369999999966,45397.369999999966,0,0,0,0,0,0,0,0,0,0,0,0,212507.08999999994,93926.740000000034,0,0,93926.740000000034,118580.35,69326.33,4612.01,0,0,32631.79,868.35,0,0,2262,7458.47,0,0,0,0,0,0,0,0,0,0,0,1421.4,257904.45999999996,6.76,0.34,0,0.3,3.93,4.71,20.22,419.27,4.53,39.03,97.14,0,0,0,6,2,0,0,3,18.940000000000001,20,203.92,4,16.63,0,0,39,215.89,0,0,2,8.27,0,0,0,0,0,0,0,0,null,null,null,null,null,null,null,0,{"$f":"+INDEX($F206:$DJ206,1,Sheet3!$C$1)","v":0},{"$f":"+IF(Sheet3!$C$1=1,IF(DN206<3,0,1),1)","v":1}]
[1,1,"11E",6,3,4,169856.83546786185,69.78,13.94,958.29,75.459999999999994,1.04,3.72,0,0,0,4.4000000000000004,58.890000000000008,2.77,0,0,0,69.719999999999985,53.319999999999993,0,3381.31,3381.31,3381.31,0,0,0,0,0,0,0,0,0,0,0,0,25365.48,7243,0,0,7243,18122.48,3621,9361.25,0,0,4967.43,0,0,0,0,0,0,0,0,0,0,0,0,0,0,0,0,172.8,28746.79,3.08,0,0,0,0.64,0,4.4000000000000004,53.66,0,5.0599999999999996,8.4499999999999993,0,0,0,0,0,0,0,0,0,2,9.18,1,42.89,0,0,3,47.18,0,0,0,0,0,0,0,0,0,0,0,0,null,null,null,null,null,null,null,0,{"$f":"+INDEX($F207:$DJ207,1,Sheet3!$C$1)","v":0},{"$f":"+IF(Sheet3!$C$1=1,IF(DN207<3,0,1),1)","v":1}]
[1,1,"11E",6,4,1,343664.32549275219,24.5,1.07,69.959999999999994,24.52,0,16.329999999999998,0,0,0,0,8.17,0,0,0,0,24.5,0,0,845.32,845.32,845.32,0,0,0,0,0,0,0,0,0,0,0,0,2980,2980,0,0,2980,0,0,0,0,0,0,0,0,0,0,0,0,0,0,0,0,0,0,0,0,0,0,0,3825.32,0,0,0,0,0,0,0,8.17,0,0,0.02,0,0,0,0,0,0,0,0,0,0,0,0,0,0,0,0,0,0,0,0,0,0,0,0,0,0,0,0,0,null,null,null,null,null,null,null,0,{"$f":"+INDEX($F208:$DJ208,1,Sheet3!$C$1)","v":0},{"$f":"+IF(Sheet3!$C$1=1,IF(DN208<3,0,1),1)","v":1}]
[1,1,"11E",7,1,656,330257.4187096525,1251.0299999999995,1045.2499999999995,88368.94999999991,1417.359999999999,12.6,27.6,0,0,11.28,66.790000000000006,1066.6099999999999,78.75,0,0.6,1.6,1248.1899999999994,543.42000000000019,0,553811.24000000232,553811.24000000232,553811.24000000232,0,0,0,0,0,0,0,0,0,0,0,0,369817.42000000051,267462.2900000001,0,0,267462.2900000001,102355.12999999984,15218.72,0,0,3078.05,81576.75,383.25,0,0,0,2068.56,0,0,0,0,0,0,0,0,0,0,0,29.8,923628.66000000027,10.57,3.55,0,13.3,0.16,11.28,66.790000000000006,17.36,12.92,1034.8,245.08,0,0,0,4,0,0,0,3,8.0399999999999991,10,38.29,0,0,0,0,443,509.76,0,0,2,3.65,0,0,0,0,0,0,0,0,null,null,null,null,null,null,null,0,{"$f":"+INDEX($F209:$DJ209,1,Sheet3!$C$1)","v":0},{"$f":"+IF(Sheet3!$C$1=1,IF(DN209<3,0,1),1)","v":1}]
[1,1,"11E",7,2,2,12574.909942126513,28.689999999999998,8.57,560.38,38.36,7.35,0,0,0,0.09,0,26.099999999999998,2.5,0,0,0,28.69,26.07,0,1690.68,1690.68,1690.68,0,0,0,0,0,0,0,0,0,0,0,0,16460.14,4220.3999999999996,0,0,4220.3999999999996,12239.74,11513.86,525,0,0,200.88,0,0,0,0,0,0,0,0,0,0,0,0,0,0,0,0,0,18150.82,0,0,0,0,0,0.09,0,3.43,0,22.64,12.17,0,0,0,0,0,0,0,0,0,2,24.97,1,1.1000000000000001,0,0,1,1.33,0,0,0,0,0,0,0,0,0,0,0,0,null,null,null,null,null,null,null,0,{"$f":"+INDEX($F210:$DJ210,1,Sheet3!$C$1)","v":0},{"$f":"+IF(Sheet3!$C$1=1,IF(DN210<3,0,1),1)","v":1}]
[1,1,"11E",8,1,1886,3279041.5271173753,5571.5999999999931,4444.3700000000008,330083.47999999969,6870.9000000000069,100.56,515.83000000000004,0,0,138.03,544.29,3797.4899999999934,575.96,3.34,13.049999999999999,63.55,5550.5499999999929,1416.0199999999998,0,1593268.9200000309,1593268.9200000309,1593268.9200000309,0,0,0,0,0,0,0,0,0,0,0,0,1447227.6199999994,1172170.8699999982,0,0,1172170.8699999982,275056.75000000006,55276.639999999999,9985.7199999999993,0,10170.52,187032.12,2157.75,0,0,1902,5444.2,0,0,0,30.4,0,0,0,0,0,265.2,0,2792.2,3040496.5399999903,254.97,76.72,0,49.89,124.93,138.53,417.93,1098.52,303.64999999999998,2181.11,1875.26,0,0,0,59,13,12,3,6,21.85,39,151.16,8,30.39,0,0,969,1173.3499999999999,0,0,6,20.55,1,0.38,0,0,0,0,0,0,null,null,null,null,null,null,null,0,{"$f":"+INDEX($F211:$DJ211,1,Sheet3!$C$1)","v":0},{"$f":"+IF(Sheet3!$C$1=1,IF(DN211<3,0,1),1)","v":1}]
[1,1,"11E",8,2,340,2078273.578434201,2263.5400000000009,1504.5999999999979,101805.28000000006,2630.1800000000021,74.64,242.43,0,0,38.53,185.18,1626.0099999999986,171.39,13.480000000000002,35.35,67.349999999999994,2245.7200000000012,765.32999999999993,0,287330.52999999991,287330.52999999991,287330.52999999991,0,0,0,0,0,0,0,0,0,0,0,0,667506.94999999995,449614.64999999973,0,0,449614.64999999973,217892.29999999987,105519.37,6344.95,0,10229.790000000001,76009.33,2596.62,0,0,3373.5,10905.14,0,0,0,288,0,0,0,0,200,151.19999999999999,0,2274.4,954837.47999999928,90.74,30.11,0,12.16,97.3,38.53,149.38,827.45,140.19,547.22,538.03,0,6,4,124,9,40,4,12,39.78,43,275.87,4,19.059999999999999,0,0,206,481.45,0,0,4,25.04,3,3.6,0,0,0,0,0,0,null,null,null,null,null,null,null,0,{"$f":"+INDEX($F212:$DJ212,1,Sheet3!$C$1)","v":0},{"$f":"+IF(Sheet3!$C$1=1,IF(DN212<3,0,1),1)","v":1}]
[1,1,"11E",8,3,2,70074.151452265971,20.170000000000002,11.74,767.66,21.450000000000003,1.48,9.98,0,0,0,0,10.190000000000001,0,0,0,0,20.170000000000002,0.75,0,1690.66,1690.66,1690.66,0,0,0,0,0,0,0,0,0,0,0,0,3933.1000000000004,3811.6000000000004,0,0,3811.6000000000004,121.5,0,0,0,0,121.5,0,0,0,0,0,0,0,0,0,0,0,0,0,0,0,0,0,5623.76,0,0,0,0,1.67,0,0,6.35,0.73,0.96,1.28,0,0,0,0,0,0,0,0,0,0,0,0,0,0,0,1,0.75,0,0,0,0,0,0,0,0,0,0,0,0,null,null,null,null,null,null,null,0,{"$f":"+INDEX($F213:$DJ213,1,Sheet3!$C$1)","v":0},{"$f":"+IF(Sheet3!$C$1=1,IF(DN213<3,0,1),1)","v":1}]
[1,1,"11E","10_1",1,2,2425.7239056250746,3.36,3.0700000000000003,226.11,3.42,0.57999999999999996,0.42,0,0,0.75,0,1.05,1.1399999999999999,1.1400000000000001,3.4,4.4000000000000004,3.36,1.0299999999999998,0,1690.63,1690.63,1690.63,0,0,0,0,0,0,0,0,0,0,0,0,994.54000000000008,873.6,0,0,873.6,120.94,0,0,0,0,76.14,0,0,0,0,0,0,0,0,44.8,0,0,0,0,0,0,0,0,2685.17,0.42,0,0,0,0,0.75,0,0,0,0.95,1.2,0,1,4,0,0,0,0,0,0,0,0,0,0,0,0,1,0.47,0,0,0,0,1,0.56000000000000005,0,0,0,0,0,0,null,null,null,null,null,null,null,0,{"$f":"+INDEX($F214:$DJ214,1,Sheet3!$C$1)","v":0},{"$f":"+IF(Sheet3!$C$1=1,IF(DN214<3,0,1),1)","v":1}]
[1,1,"11E","10_2",2,1,6913.9975875132059,10.27,1.31,85.66,19.190000000000001,0,0,0,0,0.21,0,0,17.84,0,2.2000000000000002,2.2000000000000002,1.3500000000000003,0,19.190000000000001,845.32,845.32,845.32,0,0,0,0,0,0,0,0,0,0,0,0,2271,2131,0,0,2131,140,0,0,0,0,0,0,0,0,0,0,0,0,0,0,0,0,0,0,140,0,0,0,3116.32,0,0,0,0,0,0.21,0,0.12,0,1.02,17.84,0,1,2,0,0,0,0,0,0,0,0,0,0,0,0,0,0,0,0,0,0,0,0,0,0,0,0,0,0,null,null,null,null,null,null,null,0,{"$f":"+INDEX($F215:$DJ215,1,Sheet3!$C$1)","v":0},{"$f":"+IF(Sheet3!$C$1=1,IF(DN215<3,0,1),1)","v":1}]
[1,1,"11E",11,1,13,23194.856344168995,36.74,18.359999999999996,1313.81,59.16,3.28,3.36,0,0,4.25,0.42,4.92,34.65,6.6099999999999994,24.6,33.6,38.680000000000007,5.58,24.96,10989.289999999999,10989.289999999999,10989.289999999999,0,0,0,0,0,0,0,0,0,0,0,0,9537.09,8456.1,0,0,8456.1,1080.99,0,0,0,106.25,351.54,0,0,0,0,0,0,0,623.20000000000005,0,0,0,0,0,0,0,0,0,20526.379999999997,2.63,0.73,0,0,0,4.25,0.42,1.61,0.13,4.21,45.13,0,0,0,146,18,0,0,0,0,0,0,0,0,0,0,5,2.17,0,0,0,0,0,0,1,3.28,0,0,0,0,null,null,null,null,null,null,null,0,{"$f":"+INDEX($F216:$DJ216,1,Sheet3!$C$1)","v":0},{"$f":"+IF(Sheet3!$C$1=1,IF(DN216<3,0,1),1)","v":1}]
[1,1,"11E",11,2,5,32380.436384522403,25.515000000000001,6.17,606.91,43.680000000000007,0.45,0.13,0,0,0.32,0.41,1.6400000000000001,39.659999999999997,13.659999999999998,19.5,53.5,38.230000000000004,0,39.370000000000005,4226.6499999999996,4226.6499999999996,4226.6499999999996,0,0,0,0,0,0,0,0,0,0,0,0,4563.5,4563.5,0,0,4563.5,0,0,0,0,0,0,0,0,0,0,0,0,0,0,0,0,0,0,0,0,0,0,0,8790.15,0,0,0,0,0.13,0.32,0.41,0.93,0,1.82,39.67,0,0,4,20,1,92,5,0,0,0,0,0,0,0,0,0,0,0,0,0,0,0,0,0,0,0,0,0,0,null,null,null,null,null,null,null,0,{"$f":"+INDEX($F217:$DJ217,1,Sheet3!$C$1)","v":0},{"$f":"+IF(Sheet3!$C$1=1,IF(DN217<3,0,1),1)","v":1}]
[1,1,"11E",12,1,22,36028.492648276784,93.31,76.8,5338.5100000000011,115.53999999999999,0.37,16.579999999999998,0,0,12.71,14.26,21.970000000000006,27.79,11.889999999999999,22.650000000000002,39.65,93.219999999999985,22.219999999999995,0,18597.23,18597.23,18597.23,0,0,0,0,0,0,0,0,0,0,0,0,25319.3,19803.5,0,0,19803.5,5515.7999999999993,2841.56,0,0,0,1615.14,275.10000000000002,0,0,0,0,0,0,0,584,0,0,0,0,200,0,0,0,43916.53,14.86,0.25,0,0.75,0.72,12.71,14.26,4.97,1.33,15.2,50.02,0,0,0,116,15,16,4,0,0,2,10.59,0,0,0,0,7,9.9700000000000006,0,0,1,2.62,1,7.3,0,0,0,0,0,0,null,null,null,null,null,null,null,0,{"$f":"+INDEX($F218:$DJ218,1,Sheet3!$C$1)","v":0},{"$f":"+IF(Sheet3!$C$1=1,IF(DN218<3,0,1),1)","v":1}]
[1,1,"11E",12,2,7,71540.333200114459,31.884999999999998,17.55,1251.96,43.819999999999993,1.32,4.42,0,0,3.32,2.41,13.59,10.65,9.9,17.100000000000001,45.3,36.83,4.91,13.8,5917.33,5917.33,5917.33,0,0,0,0,0,0,0,0,0,0,0,0,8034.02,7238.6,0,0,7238.6,795.42,0,0,0,0,795.42,0,0,0,0,0,0,0,0,0,0,0,0,0,0,0,0,0,13951.349999999997,0.74,0,0,0.59,3.09,3.32,2.41,3.65,1.02,11.06,17.64,0,0,6,83,5,8,2,0,0,0,0,0,0,0,0,4,4.91,0,0,0,0,0,0,0,0,0,0,0,0,null,null,null,null,null,null,null,0,{"$f":"+INDEX($F219:$DJ219,1,Sheet3!$C$1)","v":0},{"$f":"+IF(Sheet3!$C$1=1,IF(DN219<3,0,1),1)","v":1}]
[1,1,"11E",12,3,1,56920.225830978787,21.89,6.53,426.99,24.08,0,11.51,0,0,0,0.46,3.41,6.51,0,0,29,21.889999999999993,4.34,0,845.34,845.34,845.34,0,0,0,0,0,0,0,0,0,0,0,0,6955.6,2815.6,0,0,2815.6,4140,0,0,0,0,0,0,0,0,0,0,0,0,0,0,0,0,0,0,4140,0,0,0,7800.9400000000005,9.56,0,0,0.49,1.46,0,0.46,0.02,1.73,1.37,8.6999999999999993,0,0,0,0,0,0,0,0,0,0,0,0,0,0,0,0,0,0,0,0,0,0,0,0,0,0,0,0,0,null,null,null,null,null,null,null,0,{"$f":"+INDEX($F220:$DJ220,1,Sheet3!$C$1)","v":0},{"$f":"+IF(Sheet3!$C$1=1,IF(DN220<3,0,1),1)","v":1}]
[1,1,"11E",13,1,54,17894.093340189564,268.71999999999997,229.07,15248.650000000001,300.40000000000003,0,4.22,0,0,11.59,216.22,5.1599999999999993,31.53,0,0,0,268.45999999999998,0.38,0,45572.029999999992,45572.029999999992,45572.029999999992,0,0,0,0,0,0,0,0,0,0,0,0,5082.2599999999993,5020.6999999999989,0,0,5020.6999999999989,61.56,0,0,0,0,61.56,0,0,0,0,0,0,0,0,0,0,0,0,0,0,0,0,0,50654.289999999986,2.21,0.39,0,1.62,0,11.59,12.62,0.24,0.88,3.85,63.21,0,0,0,0,0,0,0,0,0,0,0,0,0,0,0,1,0.38,0,0,0,0,0,0,0,0,0,0,0,0,null,null,null,null,null,null,null,0,{"$f":"+INDEX($F221:$DJ221,1,Sheet3!$C$1)","v":0},{"$f":"+IF(Sheet3!$C$1=1,IF(DN221<3,0,1),1)","v":1}]
[1,1,"11E",15,1,1,3686.8641784836896,2.08,2.0699999999999998,135.35,2.11,0,1.01,0,0,0,0,1.07,0,0,0,0,2.08,0.54,0,845.32,845.32,845.32,0,0,0,0,0,0,0,0,0,0,0,0,619.53,540.79999999999995,0,0,540.79999999999995,78.73,0,0,0,0,78.73,0,0,0,0,0,0,0,0,0,0,0,0,0,0,0,0,0,1464.85,0,0,0,0,1.01,0,0,0.2,0.02,0.54,0.03,0,0,0,0,0,0,0,0,0,0,0,0,0,0,0,1,0.54,0,0,0,0,0,0,0,0,0,0,0,0,null,null,null,null,null,null,null,0,{"$f":"+INDEX($F222:$DJ222,1,Sheet3!$C$1)","v":0},{"$f":"+IF(Sheet3!$C$1=1,IF(DN222<3,0,1),1)","v":1}]
[1,1,"11E",15,2,1,5606.0376392264516,6.85,1.94,126.85,10.31,0,1.51,0,0,1.62,0,3.25,0.47,0,0,0,6.58,0,0,845.3,845.3,845.3,0,0,0,0,0,0,0,0,0,0,0,0,1078.3,1078.3,0,0,1078.3,0,0,0,0,0,0,0,0,0,0,0,0,0,0,0,0,0,0,0,0,0,0,0,1923.6,0,0,0,0,1.51,1.62,0,1.29,0,1.96,3.93,0,0,0,0,0,0,0,0,0,0,0,0,0,0,0,0,0,0,0,0,0,0,0,0,0,0,0,0,0,null,null,null,null,null,null,null,0,{"$f":"+INDEX($F223:$DJ223,1,Sheet3!$C$1)","v":0},{"$f":"+IF(Sheet3!$C$1=1,IF(DN223<3,0,1),1)","v":1}]
[1,1,"150","1_2",1,3,2142.83,9.2700000000000014,9.2500000000000018,774.18999999999994,9.2700000000000014,0,5.51,0,0,0,0,0.1,3.66,0,0,0,9.2700000000000014,0,0,2498.16,2498.16,2498.16,0,0,0,0,0,0,0,0,0,0,0,0,1229.8000000000002,1229.8000000000002,0,0,1229.8000000000002,0,0,0,0,0,0,0,0,0,0,0,0,0,0,0,0,0,0,0,0,0,0,0,3727.96,3.77,0.88,0,0.86,0,0,0,0.1,0,0,3.66,0,0,0,0,0,0,0,0,0,0,0,0,0,0,0,0,0,0,0,0,0,0,0,0,0,0,0,0,0,null,null,null,null,null,null,null,0,{"$f":"+INDEX($F224:$DJ224,1,Sheet3!$C$1)","v":0},{"$f":"+IF(Sheet3!$C$1=1,IF(DN224<3,0,1),1)","v":1}]
[1,1,"150","1_2",3,1,29969.98,1.8,1.8,190.09,1.8,0.48,0.48,0,0,1.1499999999999999,0,0.17,0,0,0,0,1.8,0,0,845.34,845.34,845.34,0,0,0,0,0,0,0,0,0,0,0,0,0,0,0,0,0,0,null,null,null,null,null,null,null,null,null,null,null,null,null,null,null,null,null,null,null,null,null,null,845.34,0,0,0,0,0.48,1.1499999999999999,0,0.17,0,0,0,0,0,0,0,0,0,0,0,0,0,0,0,0,0,0,0,0,0,0,0,0,0,0,0,0,0,0,0,0,null,null,null,null,null,null,null,0,{"$f":"+INDEX($F225:$DJ225,1,Sheet3!$C$1)","v":0},{"$f":"+IF(Sheet3!$C$1=1,IF(DN225<3,0,1),1)","v":1}]
[1,1,"150",4,1,6,17200.120000000003,12.779999999999998,6.72,550.1,13.08,0.77,3.92,0,0,0.86,0.12,0.87000000000000011,7.01,0,0,1,12.779999999999998,6.3199999999999994,0,5071.9799999999996,5071.9799999999996,5071.9799999999996,0,0,0,0,0,0,0,0,0,0,0,0,2660.5,2658.7999999999997,0,0,2658.7999999999997,1.7,0,0,0,0,0,0,0,0,0,0,0,0,0,0,0,0,0,0,0,0,0,1.7,7732.48,2.73,0,0,0,1.19,0.86,0.12,0.2,0,0.63,7.31,0,0,0,0,0,0,0,0,0,0,0,0,0,0,0,0,0,0,0,0,0,0,0,0,0,0,0,0,0,null,null,null,null,null,null,null,0,{"$f":"+INDEX($F226:$DJ226,1,Sheet3!$C$1)","v":0},{"$f":"+IF(Sheet3!$C$1=1,IF(DN226<3,0,1),1)","v":1}]
[1,1,"150",4,2,38,379073.79199999996,149.91000000000003,88.97999999999999,6115.95,254.21999999999997,28.17,32.840000000000003,0,0,7.67,2.9,25.990000000000002,80.510000000000005,0,1.35,2.35,147.36999999999998,21.310000000000002,0,32076.290000000008,32076.290000000008,32076.290000000008,0,0,0,0,0,0,0,0,0,0,0,0,24389.320000000003,23837.3,0,226.2,23611.1,552.02,0,0,0,0,439.02,0,0,0,0,0,0,0,0,0,0,0,0,0,0,0,0,113,56465.61,5.99,0.7,0,0.82,25.33,7.67,2.9,7.74,0.6,7.91,184.82,0,0,0,8,1,0,0,0,0,0,0,0,0,0,0,1,2.71,0,0,0,0,0,0,0,0,0,0,0,0,null,null,null,null,null,null,null,0,{"$f":"+INDEX($F227:$DJ227,1,Sheet3!$C$1)","v":0},{"$f":"+IF(Sheet3!$C$1=1,IF(DN227<3,0,1),1)","v":1}]
[1,1,"150",4,3,9,333576.88680114294,44.040000000000006,25.119999999999997,1838.8600000000001,51.180000000000007,14.24,23.28,0,0,0.74,0.14000000000000001,9.74,10.14,0,0,0,44.039999999999992,11.579999999999998,0,7607.92,7607.92,7607.92,0,0,0,0,0,0,0,0,0,0,0,0,9892.2800000000007,9330.6,0,0,9330.6,561.67999999999995,0,0,0,212.5,289.98,0,0,0,0,0,0,0,0,0,0,0,0,0,0,0,0,59.2,17500.2,1.1100000000000001,0.32,0,0,21.85,0.74,0.14000000000000001,3.97,2.96,0.24,17.28,0,0,0,0,0,0,0,0,0,0,0,0,0,0,0,2,2.4500000000000002,0,0,0,0,0,0,0,0,0,0,0,0,null,null,null,null,null,null,null,0,{"$f":"+INDEX($F228:$DJ228,1,Sheet3!$C$1)","v":0},{"$f":"+IF(Sheet3!$C$1=1,IF(DN228<3,0,1),1)","v":1}]
[1,1,"150",5,2,1,4810.84,1.81,1.7,177.27,1.81,0,0,0,0,0,0,1.81,0,0,0,0,1.8099999999999998,1.68,0,845.31,845.31,845.31,0,0,0,0,0,0,0,0,0,0,0,0,378,0,0,0,0,378,0,0,0,0,0,0,0,0,0,378,0,0,0,0,0,0,0,0,0,0,0,0,1223.31,0,0,0,0,0,0,0,0,1.72,0,0,0,0,0,0,0,0,0,1,1.68,0,0,0,0,0,0,0,0,0,0,0,0,0,0,0,0,0,0,0,0,null,null,null,null,null,null,null,0,{"$f":"+INDEX($F229:$DJ229,1,Sheet3!$C$1)","v":0},{"$f":"+IF(Sheet3!$C$1=1,IF(DN229<3,0,1),1)","v":1}]
[1,1,"150",6,1,36,70452.832754936258,117.34999999999998,82.350000000000009,6041.079999999999,125.61,13.45,0,0,0,4.3499999999999996,3.84,83.529999999999987,25.63,0,0,0,115.13999999999997,26.89,0,30424.060000000012,30424.060000000012,30424.060000000012,0,0,0,0,0,0,0,0,0,0,0,0,22921.510000000002,18612.870000000003,0,0,18612.870000000003,4308.6399999999994,0,0,0,0,3531.6,0,0,0,0,718.84,0,0,0,0,0,0,0,0,0,0,0,58.2,53345.570000000007,0,0,0,0,0,4.3499999999999996,0.09,77.81,0.2,4.42,33.89,0,0,0,0,0,0,0,1,2.76,0,0,0,0,0,0,9,21.8,0,0,0,0,0,0,0,0,0,0,0,0,null,null,null,null,null,null,null,0,{"$f":"+INDEX($F230:$DJ230,1,Sheet3!$C$1)","v":0},{"$f":"+IF(Sheet3!$C$1=1,IF(DN230<3,0,1),1)","v":1}]
[1,1,"150",6,2,34,383860.25801096106,331.46,114.28,7692.3699999999981,407.59,43.66,0.68,0,0,9.84,2.15,292.85999999999996,25.93,5.53,5.6999999999999993,5.6999999999999993,314.76999999999992,25.37,0,28690.600000000006,28690.600000000006,28690.600000000006,0,0,0,0,0,0,0,0,0,0,0,0,46514.340000000004,42543.46,0,0,42543.46,3970.88,0,0,0,0,3703.68,0,0,0,0,0,0,0,0,0,0,0,0,0,0,0,0,267.2,75204.939999999988,0,0,0,0.19,0.49,9.84,2.15,274.35000000000002,0.95,6.99,102.06,0,0,0,28,1,7,2,0,0,0,0,0,0,0,0,5,24.8,0,0,0,0,0,0,0,0,0,0,0,0,null,null,null,null,null,null,null,0,{"$f":"+INDEX($F231:$DJ231,1,Sheet3!$C$1)","v":0},{"$f":"+IF(Sheet3!$C$1=1,IF(DN231<3,0,1),1)","v":1}]
[1,1,"150",6,3,24,1263809.9000000001,128.55000000000004,71.310000000000016,4990.54,168.65999999999997,35.68,2.38,0,0,4.42,0.85,87.249999999999986,33.65,1.74,1.8,1.8,127.74,38.519999999999996,0,20287.950000000004,20287.950000000004,20287.950000000004,0,0,0,0,0,0,0,0,0,0,0,0,32411.920000000002,24285.200000000004,0,135.19999999999999,24150.000000000004,8126.72,0,0,0,0,1335.61,1762.53,0,0,0,4970.78,0,0,0,0,0,0,0,0,0,0,0,57.8,52699.869999999995,0.77,0.63,0,0,0.98,4.42,0.85,55.47,1.66,4.3,73.760000000000005,0,0,0,7,2,0,3,1,9.02,0,0,0,0,0,0,3,7.94,0,0,2,16.850000000000001,0,0,0,0,0,0,0,0,null,null,null,null,null,null,null,0,{"$f":"+INDEX($F232:$DJ232,1,Sheet3!$C$1)","v":0},{"$f":"+IF(Sheet3!$C$1=1,IF(DN232<3,0,1),1)","v":1}]
[1,1,"150",6,4,10,3158103.22,98.31,23.69,1598.4499999999998,120.89999999999999,7.56,5.24,0,0,1.32,0.33,52.389999999999993,39.03,0,0,0,71.239999999999995,23.129999999999995,0,8453.34,8453.34,8453.34,0,0,0,0,0,0,0,0,0,0,0,0,16361.980000000001,15568.1,0,0,15568.1,793.88,0,0,0,0,362.88,0,0,0,0,0,0,0,0,0,0,0,0,0,0,0,0,431,24815.320000000007,0.06,0,0,0,5.18,1.32,0.33,36.369999999999997,0.25,3.79,61.62,0,0,0,0,0,0,0,0,0,0,0,0,0,0,0,2,2.2400000000000002,0,0,0,0,0,0,0,0,0,0,0,0,null,null,null,null,null,null,null,0,{"$f":"+INDEX($F233:$DJ233,1,Sheet3!$C$1)","v":0},{"$f":"+IF(Sheet3!$C$1=1,IF(DN233<3,0,1),1)","v":1}]
[1,1,"150",6,5,7,6012958.9899201468,84.969999999999985,18.419999999999998,1263.02,92.679999999999993,1.75,1.92,0,0,2.4500000000000002,0.12,78.099999999999994,2.38,1.99,1.05,1.05,84.969999999999985,41.13,0,5917.35,5917.35,5917.35,0,0,0,0,0,0,0,0,0,0,0,0,15055.6,14258.000000000002,0,201.5,14056.500000000002,797.6,0,0,0,0,0,0,0,0,0,0,0,0,0,0,0,0,0,0,0,0,0,797.6,20972.95,0,0,0,0,1.92,2.4500000000000002,0.12,66.27,0.83,3.03,10.09,0,0,0,6,1,0,0,0,0,0,0,0,0,0,0,0,0,0,0,0,0,0,0,0,0,0,0,0,0,null,null,null,null,null,null,null,0,{"$f":"+INDEX($F234:$DJ234,1,Sheet3!$C$1)","v":0},{"$f":"+IF(Sheet3!$C$1=1,IF(DN234<3,0,1),1)","v":1}]
[1,1,"150",7,1,5,1658.2199999999998,5.97,5.7600000000000007,525.57999999999993,5.97,0,0,0,0,0.16,0,5.34,0.47,0,0,0,5.9700000000000006,0,0,4226.67,4226.67,4226.67,0,0,0,0,0,0,0,0,0,0,0,0,1362.4,1362.4,0,0,1362.4,0,0,0,0,0,0,0,0,0,0,0,0,0,0,0,0,0,0,0,0,0,0,0,5589.07,0,0,0,0,0,0.16,0,0,0,5.26,0.47,0,0,0,0,0,0,0,0,0,0,0,0,0,0,0,0,0,0,0,0,0,0,0,0,0,0,0,0,0,null,null,null,null,null,null,null,0,{"$f":"+INDEX($F235:$DJ235,1,Sheet3!$C$1)","v":0},{"$f":"+IF(Sheet3!$C$1=1,IF(DN235<3,0,1),1)","v":1}]
[1,1,"150",8,1,149,344811.58947528712,413.89999999999992,312.55000000000018,21638.860000000008,492.40000000000003,5.73,5.21,0,0,52.48,18.78,219.96999999999991,117.46,0.85,1.95,1.95,404.34999999999997,49.96,0,125641.53000000009,125641.53000000009,125641.53000000009,0,0,0,0,0,0,0,0,0,0,0,0,74696.510000000009,67471.01999999999,0,169,67302.01999999999,7225.4900000000007,0,0,0,0,7131.89,0,0,0,0,0,0,0,0,0,0,0,0,0,0,0,0,93.6,200338.03999999992,1.32,0,0,2.04,1.85,52.48,5.1100000000000003,57.55,1.99,42.37,195.96,0,0,0,8,2,3,0,0,0,0,0,0,0,0,0,34,45.32,0,0,0,0,0,0,0,0,0,0,0,0,null,null,null,null,null,null,null,0,{"$f":"+INDEX($F236:$DJ236,1,Sheet3!$C$1)","v":0},{"$f":"+IF(Sheet3!$C$1=1,IF(DN236<3,0,1),1)","v":1}]
[1,1,"150",8,2,181,1498260.9772600003,1056.6199999999999,748.6099999999999,50120.00999999998,1288.4300000000003,54.12,21.14,0,0,63.65,8.1300000000000008,782.60000000000036,181.1,0,0,0,1034.1199999999997,263.39,0,152854.40999999995,152854.40999999995,152854.40999999995,0,0,0,0,0,0,0,0,0,0,0,0,225470.92,186631.90999999983,0,641.15,185990.75999999983,38839.010000000009,0,0,0,0,36889.81,0,0,0,0,0,0,0,0,0,0,0,0,0,0,0,0,1949.2,378325.32999999996,8.19,0,0,0.82,12.11,63.65,5.62,243.04,9.19,39.29,412.91,0,0,0,0,0,0,0,0,0,0,0,0,0,0,0,80,231.24,0,0,0,0,0,0,0,0,0,0,0,0,null,null,null,null,null,null,null,0,{"$f":"+INDEX($F237:$DJ237,1,Sheet3!$C$1)","v":0},{"$f":"+IF(Sheet3!$C$1=1,IF(DN237<3,0,1),1)","v":1}]
[1,1,"150",8,3,10,460907.30599999998,295.71000000000004,68.47,4504.75,334.57999999999993,8.0299999999999994,10.85,0,0,2.21,2.06,192.49,88.1,0,0,0,183.17999999999998,36.739999999999995,0,8347.83,8347.83,8347.83,0,0,0,0,0,0,0,0,0,0,0,0,27729.440000000006,25963.47,0,433.7,25529.77,1765.97,0,0,0,0,842.72,349.65,0,0,0,0,0,0,0,0,0,0,0,0,0,0,0,573.6,36077.270000000004,8.4700000000000006,0,0,0,2.38,2.21,2.06,18.53,2.37,2.56,126.97,0,0,0,0,0,0,0,0,0,0,0,0,0,0,0,4,5.36,0,0,1,3.33,0,0,0,0,0,0,0,0,null,null,null,null,null,null,null,0,{"$f":"+INDEX($F238:$DJ238,1,Sheet3!$C$1)","v":0},{"$f":"+IF(Sheet3!$C$1=1,IF(DN238<3,0,1),1)","v":1}]
[1,1,"150",11,1,3,6369.57,11.64,4.34,283.78000000000003,14.52,0,0.64,0,0,7.94,0,0.80999999999999994,2.25,0.37,3.45,7.45,11.48,0,0,2535.9699999999998,2535.9699999999998,2535.9699999999998,0,0,0,0,0,0,0,0,0,0,0,0,2769.3,2769.3,0,0,2769.3,0,0,0,0,0,0,0,0,0,0,0,0,0,0,0,0,0,0,0,0,0,0,0,5305.27,0.64,0,0,0,0,7.94,0,0.74,0.04,0,5.13,0,0,0,21,2,0,0,0,0,0,0,0,0,0,0,0,0,0,0,0,0,0,0,0,0,0,0,0,0,null,null,null,null,null,null,null,0,{"$f":"+INDEX($F239:$DJ239,1,Sheet3!$C$1)","v":0},{"$f":"+IF(Sheet3!$C$1=1,IF(DN239<3,0,1),1)","v":1}]
[1,1,"150",12,1,5,10011.219999999999,17.689999999999998,16.91,1151.0999999999999,24.019999999999996,0.31,0.27,0,0,4.5,0,3.5999999999999996,9.32,3.57,10.050000000000001,10.050000000000001,17.690000000000001,0.59,0,4226.6100000000006,4226.6100000000006,4226.6100000000006,0,0,0,0,0,0,0,0,0,0,0,0,1624.38,1528.8000000000002,0,0,1528.8000000000002,95.58,0,0,0,0,95.58,0,0,0,0,0,0,0,0,0,0,0,0,0,0,0,0,0,5850.9900000000007,0.13,0,0,0,0.14000000000000001,4.5,0,1.98,0.04,0.74,15.65,0,3,1,20,21,2,0,0,0,0,0,0,0,0,0,1,0.59,0,0,0,0,0,0,0,0,0,0,0,0,null,null,null,null,null,null,null,0,{"$f":"+INDEX($F240:$DJ240,1,Sheet3!$C$1)","v":0},{"$f":"+IF(Sheet3!$C$1=1,IF(DN240<3,0,1),1)","v":1}]
[1,1,"150",12,2,1,7258.5,10.83,10.51,687.24,13.69,0.26,0.23,0,0,5.01,0,1.24,4.3499999999999996,0,0,5,10.83,0,0,845.32,845.32,845.32,0,0,0,0,0,0,0,0,0,0,0,0,2155.6,2155.6,0,0,2155.6,0,0,0,0,0,0,0,0,0,0,0,0,0,0,0,0,0,0,0,0,0,0,0,3000.92,0,0,0,0,0,5.01,0,0,0,1.1299999999999999,7.21,0,0,0,0,0,0,0,0,0,0,0,0,0,0,0,0,0,0,0,0,0,0,0,0,0,0,0,0,0,null,null,null,null,null,null,null,0,{"$f":"+INDEX($F241:$DJ241,1,Sheet3!$C$1)","v":0},{"$f":"+IF(Sheet3!$C$1=1,IF(DN241<3,0,1),1)","v":1}]
[1,1,"150",12,3,1,26141.3,7.22,4.75,310.60000000000002,16.84,0.95,0.85,0,0,1.85,0,1.0900000000000001,3.43,0,0,13.3,7.22,0,0,845.34,845.34,845.34,0,0,0,0,0,0,0,0,0,0,0,0,1581.8,1581.8,0,0,1581.8,0,0,0,0,0,0,0,0,0,0,0,0,0,0,0,0,0,0,0,0,0,0,0,2427.14,0,0,0,0,0.85,1.85,0,0.31,0,0.33,13.05,0,0,0,0,0,0,0,0,0,0,0,0,0,0,0,0,0,0,0,0,0,0,0,0,0,0,0,0,0,null,null,null,null,null,null,null,0,{"$f":"+INDEX($F242:$DJ242,1,Sheet3!$C$1)","v":0},{"$f":"+IF(Sheet3!$C$1=1,IF(DN242<3,0,1),1)","v":1}]
[1,1,"150",13,1,20,14241.068026937888,143.95999999999998,77.509999999999991,5304.0499999999993,176.73,0,7.13,0,0,29.64,48.91,1.8300000000000003,56.45,0,0,0,143.93,0,0,16868.649999999998,16868.649999999998,16868.649999999998,0,0,0,0,0,0,0,0,0,0,0,0,4335.3999999999996,4335.3999999999996,0,0,4335.3999999999996,0,0,0,0,0,0,0,0,0,0,0,0,0,0,0,0,0,0,0,0,0,0,0,21204.050000000003,0,0,0,7.13,0,29.64,0,0.9,0,0.42,89.22,0,0,0,0,0,0,0,0,0,0,0,0,0,0,0,0,0,0,0,0,0,0,0,0,0,0,0,0,0,null,null,null,null,null,null,null,0,{"$f":"+INDEX($F243:$DJ243,1,Sheet3!$C$1)","v":0},{"$f":"+IF(Sheet3!$C$1=1,IF(DN243<3,0,1),1)","v":1}]
[1,1,"16B",0,1,1,2277.0417866955768,0.84,0.77,184.89,0.89,0,0,0,0,0.28000000000000003,0,0.53,0.03,0,0,1.3,0.84000000000000008,0,0,845.33,845.33,845.33,0,0,0,0,0,0,0,0,0,0,0,0,0,0,0,0,0,0,null,null,null,null,null,null,null,null,null,null,null,null,null,null,null,null,null,null,null,null,null,null,845.33,0,0,0,0,0,0.28000000000000003,0,0,0,0.48,0.08,0,0,0,0,0,0,0,0,0,0,0,0,0,0,0,0,0,0,0,0,0,0,0,0,0,0,0,0,0,null,null,null,null,null,null,null,0,{"$f":"+INDEX($F244:$DJ244,1,Sheet3!$C$1)","v":0},{"$f":"+IF(Sheet3!$C$1=1,IF(DN244<3,0,1),1)","v":1}]
[1,1,"16B",0,2,1,5106.5061405293745,0.86,0.5,32.69,0.86,0,0,0,0,0.86,0,0,0,0,0.6,3.4,0.8600000000000001,0,0,845.33,845.33,845.33,0,0,0,0,0,0,0,0,0,0,0,0,0,0,0,0,0,0,null,null,null,null,null,null,null,null,null,null,null,null,null,null,null,null,null,null,null,null,null,null,845.33,0,0,0,0,0,0.86,0,0,0,0,0,0,0,0,3,0,1,0,0,0,0,0,0,0,0,0,0,0,0,0,0,0,0,0,0,0,0,0,0,0,null,null,null,null,null,null,null,0,{"$f":"+INDEX($F245:$DJ245,1,Sheet3!$C$1)","v":0},{"$f":"+IF(Sheet3!$C$1=1,IF(DN245<3,0,1),1)","v":1}]
[1,1,"16B",0,4,2,513277.81389885955,4.47,3.8099999999999996,331.61,5.6999999999999993,0,0,0,0,3.99,0,0.37,0.11,0.11,2.1,605.20000000000005,4.4700000000000006,0,0,1690.66,1690.66,1690.66,0,0,0,0,0,0,0,0,0,0,0,0,0,0,0,0,0,0,null,null,null,null,null,null,null,null,null,null,null,null,null,null,null,null,null,null,null,null,null,null,1690.66,0,0,0,0,0,3.99,0,0,0,0.26,1.34,0,0,0,13,1,0,0,0,0,0,0,0,0,0,0,0,0,0,0,0,0,0,0,0,0,0,0,0,0,null,null,null,null,null,null,null,0,{"$f":"+INDEX($F246:$DJ246,1,Sheet3!$C$1)","v":0},{"$f":"+IF(Sheet3!$C$1=1,IF(DN246<3,0,1),1)","v":1}]
[1,1,"16B","1_1",1,1,3712.065392357772,3.35,3.03,198.13,3.35,2.1,0.4,0,0,2.95,0,0,0,0,0,0,3.35,0,0,845.35,845.35,845.35,0,0,0,0,0,0,0,0,0,0,0,0,0,0,0,0,0,0,null,null,null,null,null,null,null,null,null,null,null,null,null,null,null,null,null,null,null,null,null,null,845.35,0,0,0,0,0.4,2.95,0,0,0,0,0,0,0,0,0,0,0,0,0,0,0,0,0,0,0,0,0,0,0,0,0,0,0,0,0,0,0,0,0,0,null,null,null,null,null,null,null,0,{"$f":"+INDEX($F247:$DJ247,1,Sheet3!$C$1)","v":0},{"$f":"+IF(Sheet3!$C$1=1,IF(DN247<3,0,1),1)","v":1}]
[1,1,"16B","1_1",2,1,4914.0884588646832,1.4,1.19,255.1,1.4,0.65,0.65,0,0,0.75,0,0,0,0,0,0,1.4,0,0,845.33,845.33,845.33,0,0,0,0,0,0,0,0,0,0,0,0,0,0,0,0,0,0,null,null,null,null,null,null,null,null,null,null,null,null,null,null,null,null,null,null,null,null,null,null,845.33,0,0,0,0,0.65,0.75,0,0,0,0,0,0,0,0,0,0,0,0,0,0,0,0,0,0,0,0,0,0,0,0,0,0,0,0,0,0,0,0,0,0,null,null,null,null,null,null,null,0,{"$f":"+INDEX($F248:$DJ248,1,Sheet3!$C$1)","v":0},{"$f":"+IF(Sheet3!$C$1=1,IF(DN248<3,0,1),1)","v":1}]
[1,1,"16B","1_1",3,1,54939.277062997317,2.85,2.52,164.78,4.8600000000000003,1.23,1.23,0,0,0,0.38,0,1.24,0,0,0,2.85,0,0,845.32,845.32,845.32,0,0,0,0,0,0,0,0,0,0,0,0,0,0,0,0,0,0,null,null,null,null,null,null,null,null,null,null,null,null,null,null,null,null,null,null,null,null,null,null,845.32,0,0,0,0,1.23,0,0.38,0,0,0,3.25,0,0,0,0,0,0,0,0,0,0,0,0,0,0,0,0,0,0,0,0,0,0,0,0,0,0,0,0,0,null,null,null,null,null,null,null,0,{"$f":"+INDEX($F249:$DJ249,1,Sheet3!$C$1)","v":0},{"$f":"+IF(Sheet3!$C$1=1,IF(DN249<3,0,1),1)","v":1}]
[1,1,"16B","1_1",4,1,147952.02362358844,2.78,2.0699999999999998,204.01,2.84,2.4,2.4,0,0,0.22,0,0,0.16,0,0,0,2.75,0,0,845.32,845.32,845.32,0,0,0,0,0,0,0,0,0,0,0,0,0,0,0,0,0,0,null,null,null,null,null,null,null,null,null,null,null,null,null,null,null,null,null,null,null,null,null,null,845.32,0,0,0,0,2.4,0.22,0,0,0,0,0.22,0,0,0,0,0,0,0,0,0,0,0,0,0,0,0,0,0,0,0,0,0,0,0,0,0,0,0,0,0,null,null,null,null,null,null,null,0,{"$f":"+INDEX($F250:$DJ250,1,Sheet3!$C$1)","v":0},{"$f":"+IF(Sheet3!$C$1=1,IF(DN250<3,0,1),1)","v":1}]
[1,1,"16B",12,1,7,15359.973854757271,15.79,14.58,1088.51,16.88,0.66,3.39,0,0,5.58,1.53,2.9499999999999997,2.34,2.34,13.350000000000001,13.350000000000001,15.73,0,0,5879.47,5879.47,5879.47,0,0,0,0,0,0,0,0,0,0,0,0,633.1,633.1,331.5,301.60000000000002,0,0,0,0,0,0,0,0,0,0,0,0,0,0,0,0,0,0,0,0,0,0,0,0,6512.57,2.83,0.53,0,0,0.03,5.58,0,0.28000000000000003,1.23,1.33,3.43,0,0,1,69,14,1,1,0,0,0,0,0,0,0,0,0,0,0,0,0,0,0,0,0,0,0,0,0,0,null,null,null,null,null,null,null,0,{"$f":"+INDEX($F276:$DJ276,1,Sheet3!$C$1)","v":0},{"$f":"+IF(Sheet3!$C$1=1,IF(DN276<3,0,1),1)","v":1}]
[1,1,"16D",5,2,16,156798.86564225837,99.899999999999977,85.8,5786.5100000000011,99.979999999999976,3.4,2.19,0,0,11.61,1.46,83.830000000000013,0.81,0,0.6,0.6,99.769999999999953,51.469999999999985,0,13436.73,13436.73,13436.73,0,0,0,0,0,0,0,0,0,0,0,0,12609.6,325,0,0,325,12284.6,0,0,0,0,0,0,0,0,0,12284.6,0,0,0,0,0,0,0,0,0,0,0,0,26046.330000000005,0,1.64,0,0,0.55000000000000004,11.61,1.46,1.47,75.959999999999994,1.1100000000000001,0.89,0,0,1,0,0,0,0,8,51.47,0,0,0,0,0,0,0,0,0,0,0,0,0,0,0,0,0,0,0,0,null,null,null,null,null,null,null,0,{"$f":"+INDEX($F293:$DJ293,1,Sheet3!$C$1)","v":0},{"$f":"+IF(Sheet3!$C$1=1,IF(DN293<3,0,1),1)","v":1}]
[1,1,"16E",8,1,949,1574417.0059853909,1362.6599999999969,1219.8999999999992,118888.13000000009,1400.4299999999971,246.66,307.85000000000002,0,0,276.13,60.33,643.21999999999923,75.13,3.8800000000000003,31.849999999999998,36.349999999999994,1357.589999999997,49.640000000000015,0,800635.5699999932,800635.5699999932,800635.5699999932,0,0,0,0,0,0,0,0,0,0,0,0,83950.759999999966,76507.51999999999,19716.27,14579.890000000003,42211.360000000001,7443.24,0,0,0,0,7396.24,0,0,0,0,0,0,0,0,0,0,0,0,0,0,0,0,47,884586.32999999367,84.03,139.61000000000001,1.94,17.95,60.18,276.45999999999998,60.33,40.92,149.65,403.47,112.9,0,0,7,74,17,83,13,0,0,0,0,0,0,0,0,58,46.39,0,0,0,0,0,0,0,0,0,0,0,0,null,null,null,null,null,null,null,0,{"$f":"+INDEX($F334:$DJ334,1,Sheet3!$C$1)","v":0},{"$f":"+IF(Sheet3!$C$1=1,IF(DN334<3,0,1),1)","v":1}]
[1,1,"16F",4,2,96,720513.88643361139,149.91999999999999,139.85000000000002,15086.16,151.47999999999999,70.3,89.23,0,0,21.61,0.69,31.649999999999991,6.74,0.59000000000000008,16.5,16.8,148.66,4.42,0,80806.680000000051,80806.680000000051,80806.680000000051,0,0,0,0,0,0,0,0,0,0,0,0,5777.630000000001,5087.1900000000005,1570.95,0,3516.24,690.44,0,0,0,0,690.44,0,0,0,0,0,0,0,0,0,0,0,0,0,0,0,0,0,86584.310000000085,8.2200000000000006,23.02,0,3.98,53.61,22.01,0.69,2.99,7.6,18.54,8.3000000000000007,0,2,9,25,5,29,3,0,0,0,0,0,0,0,0,7,4.42,0,0,0,0,0,0,0,0,0,0,0,0,null,null,null,null,null,null,null,0,{"$f":"+INDEX($F360:$DJ360,1,Sheet3!$C$1)","v":0},{"$f":"+IF(Sheet3!$C$1=1,IF(DN360<3,0,1),1)","v":1}]
[1,1,"16G",9,2,5,26664.40205334072,9.59,6.35,570.18999999999994,13.399999999999999,5.78,2.0499999999999998,0,0,3.92,0,0,5.62,5.620000000000001,9.8000000000000007,9.8000000000000007,11.590000000000002,0,4.62,4230.1899999999996,4230.1899999999996,4230.1899999999996,0,0,0,0,0,0,0,0,0,0,0,0,2360.8000000000002,2360.8000000000002,0,0,2360.8000000000002,0,0,0,0,0,0,0,0,0,0,0,0,0,0,0,0,0,0,0,0,0,0,0,6590.99,0,1.64,0,0.03,0.38,3.92,0,0,0,0,7.43,7,0,5,0,0,0,0,0,0,0,0,0,0,0,0,0,0,0,0,0,0,0,0,0,0,0,0,0,0,null,null,null,null,null,null,null,0,{"$f":"+INDEX($F409:$DJ409,1,Sheet3!$C$1)","v":0},{"$f":"+IF(Sheet3!$C$1=1,IF(DN409<3,0,1),1)","v":1}]
[1,1,"16G",13,1,86,30805.429663958592,105.11999999999998,95.48,9598.74,127.64999999999999,14.39,2.84,0,0,51.35,17.84,1.8600000000000003,31.23,0,0,0,105.11999999999998,0,0,72572.240000000005,72572.240000000005,72572.240000000005,0,0,0,0,0,0,0,0,0,0,0,0,1510.57,1510.57,0,464.72,1045.8499999999999,0,0,0,0,0,0,0,0,0,0,0,0,0,0,0,0,0,0,0,0,0,0,0,74082.81,2.31,0.13,0,0.34,0.06,51.35,1.81,0.04,0.14000000000000001,1.44,53.76,0,0,0,0,0,0,0,0,0,0,0,0,0,0,0,0,0,0,0,0,0,0,0,0,0,0,0,0,0,null,null,null,null,null,null,null,0,{"$f":"+INDEX($F420:$DJ420,1,Sheet3!$C$1)","v":0},{"$f":"+IF(Sheet3!$C$1=1,IF(DN420<3,0,1),1)","v":1}]
[1,1,"16J","1_2",1,175,174198.42674869712,524.52,427.98,31122.489999999998,659.82999999999993,10.88,310.19,0,0,21.36,78.62,61.45,52.9,1.23,1.05,1.05,523.62000000000012,40.369999999999997,0,147665.45000000004,147665.45000000004,147665.45000000004,0,0,0,0,0,0,0,0,0,0,0,0,109575.05000000003,106017.09000000003,0,408.05,105609.04000000002,3557.96,0,0,0,0,2835.36,0,0,0,0,0,0,0,0,0,0,0,0,0,0,0,0,722.6,257240.50000000003,175.61,127.34,0,4.37,2.38,21.36,67.19,1.38,7.24,50.82,188.21,0,0,0,0,0,4,3,0,0,0,0,0,0,0,0,28,17.829999999999998,0,0,0,0,0,0,0,0,0,0,0,0,null,null,null,null,null,null,null,0,{"$f":"+INDEX($F476:$DJ476,1,Sheet3!$C$1)","v":0},{"$f":"+IF(Sheet3!$C$1=1,IF(DN476<3,0,1),1)","v":1}]
[1,1,"16J",12,2,45,287781.54980340699,193.42999999999998,123.85,8466.8799999999992,336.95,23.86,48.47,0,0,53.1,2.71,38.560000000000009,50.59,45.580000000000005,116.80000000000003,136.40000000000003,193.42999999999995,30.429999999999996,0,38031.380000000012,38031.380000000012,38031.380000000012,0,0,0,0,0,0,0,0,0,0,0,0,48882.880000000005,43978.559999999998,0,1002.8,42975.76,4904.32,847,2364.3200000000002,0,0,502.2,0,0,302.2,0,0,0,0,573.79999999999995,0,0,0,0,0,0,0,0,314.8,86914.260000000009,16.43,19.670000000000002,0,0.87,10.89,53.71,2.71,6.27,12.63,15.72,194.11,2,12,15,438,48,131,7,0,0,1,1.99,1,7.61,0,0,5,3.1,0,0,0,0,0,0,4,3.02,0,0,0,0,null,null,null,null,null,null,null,0,{"$f":"+INDEX($F501:$DJ501,1,Sheet3!$C$1)","v":0},{"$f":"+IF(Sheet3!$C$1=1,IF(DN501<3,0,1),1)","v":1}]
[1,1,"170",4,5,1,627822.61215418682,85.85,12.7,830.45,88.88,60.05,71.97,0,0,0,10.67,0,3.21,0,0,0,85.85,11.370000000000001,0,845.32,845.32,845.32,0,0,0,0,0,0,0,0,0,0,0,0,5927.22,0,0,0,0,5927.22,0,0,0,0,0,0,0,0,0,5927.22,0,0,0,0,0,0,0,0,0,0,0,0,6772.54,11.92,0,0,0,60.05,0,10.67,0,0,0,6.24,0,0,0,0,0,0,0,1,11.37,0,0,0,0,0,0,0,0,0,0,0,0,0,0,0,0,0,0,0,0,null,null,null,null,null,null,null,0,{"$f":"+INDEX($F511:$DJ511,1,Sheet3!$C$1)","v":0},{"$f":"+IF(Sheet3!$C$1=1,IF(DN511<3,0,1),1)","v":1}]
[1,1,"184",8,1,124,176984.19880293848,403.05,342.77,24717.589999999997,420.7,7.14,31.38,0,0,57.89,24.36,215.74000000000007,73.680000000000007,0,1.35,1.35,403.03000000000003,167.14000000000007,0,104643.2,104643.2,104643.2,0,0,0,0,0,0,0,0,0,0,0,0,59870.400000000001,33626.130000000005,0,33626.130000000005,0,26244.27,0,0,0,0,24161.42,391.65,0,0,0,0,0,0,0,0,0,0,0,0,0,0,0,1691.2,164513.59999999995,28.59,7.0000000000000007E-2,0,2.08,0.64,57.89,6.88,6.25,12.55,181.75,91.33,0,0,0,9,0,0,0,0,0,0,0,0,0,0,0,86,148.58000000000001,0,0,2,3.73,0,0,0,0,0,0,0,0,null,null,null,null,null,null,null,0,{"$f":"+INDEX($F560:$DJ560,1,Sheet3!$C$1)","v":0},{"$f":"+IF(Sheet3!$C$1=1,IF(DN560<3,0,1),1)","v":1}]
[1,1,"185","10_1",1,1,1975.4993774699822,0.91,0.89,113.97,0.91,0,0,0,0,0.77,0,0.06,0.08,0.08,1.2,1.2,0.91,0,0,845.33,845.33,845.33,0,0,0,0,0,0,0,0,0,0,0,0,0,0,0,0,0,0,null,null,null,null,null,null,null,null,null,null,null,null,null,null,null,null,null,null,null,null,null,null,845.33,0,0,0,0,0,0.77,0,0.02,0,0,0.08,0,0,2,0,0,0,0,0,0,0,0,0,0,0,0,0,0,0,0,0,0,0,0,0,0,0,0,0,0,null,null,null,null,null,null,null,0,{"$f":"+INDEX($F587:$DJ587,1,Sheet3!$C$1)","v":0},{"$f":"+IF(Sheet3!$C$1=1,IF(DN587<3,0,1),1)","v":1}]
[3,1,"112",5,1,34,217969.47890807089,110.43999999999998,94.46999999999997,7104.0999999999995,112.75999999999999,66.39,10.19,0,0,2.59,4.72,91.22999999999999,1.71,0,0.6,0.6,110.43999999999997,44.629999999999995,0,28665.470000000012,28665.470000000012,28665.470000000012,0,0,0,0,0,0,0,0,0,0,0,0,25075.51,13194.500000000004,0,0,13194.500000000004,11881.01,0,0,0,356.25,0,1106.7,0,0,0,10252.459999999999,0,165.6,0,0,0,0,0,0,0,0,0,0,53740.979999999996,3.97,3.6,0,0.86,1.48,2.59,3.35,2.76,83.34,0.43,4.03,0,0,0,3,1,0,0,8,42.13,0,0,0,0,0,0,0,0,0,0,2,10.54,0,0,0,0,0,0,0,0,null,null,null,null,null,null,null,0,{"$f":"+INDEX($F627:$DJ627,1,Sheet3!$C$1)","v":0},{"$f":"+IF(Sheet3!$C$1=1,IF(DN627<3,0,1),1)","v":1}]
[1,1,"187",13,2,1,5414.6019999999999,17.53,17.34,1133.8599999999999,17.53,0,0,0,0,12.11,0,3.12,2.2999999999999998,0,0,0,17.529999999999998,0.87,0,845.33,845.33,845.33,0,0,0,0,0,0,0,0,0,0,0,0,542.33999999999992,401.4,0,401.4,0,140.94,0,0,0,0,140.94,0,0,0,0,0,0,0,0,0,0,0,0,0,0,0,0,0,1387.67,0,0,0,0,0,12.11,0,0,0,3.12,2.2999999999999998,0,0,0,0,0,0,0,0,0,0,0,0,0,0,0,1,0.87,0,0,0,0,0,0,0,0,0,0,0,0,null,null,null,null,null,null,null,0,{"$f":"+INDEX($F668:$DJ668,1,Sheet3!$C$1)","v":0},{"$f":"+IF(Sheet3!$C$1=1,IF(DN668<3,0,1),1)","v":1}]
[1,2,"111",9,3,20,1333721.8363981431,180.95,169.41000000000003,44384.2,201.47999999999996,74.37,2.58,0,0,140.63999999999999,0,9.120000000000001,46.35,46.35,601.20000000000005,601.20000000000005,199.93999999999994,13.66,42.75,118141.99999999999,73241.590000000011,0,42077.31,42077.31,0,31164.28,11636.479999999998,33263.93,375.25,0,32888.68,0,0,0,37032.22,34431.17,0,0,34431.17,2601.0500000000002,0,0,0,0,0,0,0,0,0,2601.0500000000002,0,0,0,0,0,0,0,0,0,0,0,0,155174.21999999994,0,1.1100000000000001,0,0.12,1.22,140.77000000000001,0,0.37,7.56,0.51,47.89,363,65,317,15,5,0,0,2,13.66,0,0,0,0,0,0,0,0,0,0,0,0,0,0,0,0,0,0,0,0,null,null,null,null,null,null,null,0,{"$f":"+INDEX($F694:$DJ694,1,Sheet3!$C$1)","v":0},{"$f":"+IF(Sheet3!$C$1=1,IF(DN694<3,0,1),1)","v":1}]
[1,2,"111",11,4,2,251012.97537588517,200.34,167.75,14422.09,400.53,11.1,0.69,0,0,0.4,0,0,384.11,197.65,71.7,71.7,389.46,391.14,389.46,38101.14,26049.489999999998,0,15841.529999999999,13717.189999999999,2124.34,10207.959999999999,1212.6199999999999,10839.029999999999,0,10839.029999999999,0,0,0,0,38385.93,9464.2000000000007,0,0,9464.2000000000007,28921.730000000003,4611.99,15711,0,0,0,0,0,0,0,1174.75,0,628.79999999999995,608.19000000000005,0,0,1162,0,0,5025,0,0,0,76487.070000000007,0,0.1,0,0,0.59,0.4,0,0.03,4.1100000000000003,0,395.18,0,0,0,0,0,459,19,1,4.1100000000000003,2,202.09,1,1.1200000000000001,0,0,0,0,0,0,0,0,0,0,1,4.8499999999999996,0,0,2,386.05,null,null,null,null,null,null,null,0,{"$f":"+INDEX($F711:$DJ711,1,Sheet3!$C$1)","v":0},{"$f":"+IF(Sheet3!$C$1=1,IF(DN711<3,0,1),1)","v":1}]
[1,2,"112","10_15",3,74,3095659.4814205212,445.80999999999989,417.7,215612.53000000003,447.75999999999988,328.78,28.01,0,0,378.87,1.5,30.19,7.24,7.24,3059.85,3059.85,445.80999999999983,29.16,0,453435.7300000001,358711.22,0,206220.29,206220.29,0,152490.93,35672.990000000005,59051.519999999997,57582.079999999994,0,1469.44,0,0,0,32228.390000000003,11780.96,0,0,11780.96,20447.43,0,0,0,0,0,0,0,0,0,5692.44,0,0,0,0,0,0,0,0,14754.99,0,0,0,485664.12000000011,0.26,13.73,0,0.3,10.96,381.63,1.5,2.17,19.79,5,9.19,80,635,4004,4,3,0,0,3,29.16,0,0,0,0,0,0,0,0,0,0,0,0,0,0,0,0,0,0,0,0,null,null,null,null,null,null,null,0,{"$f":"+INDEX($F754:$DJ754,1,Sheet3!$C$1)","v":0},{"$f":"+IF(Sheet3!$C$1=1,IF(DN754<3,0,1),1)","v":1}]
[1,2,"119",3,2,1,9643.5514255384351,2.0099999999999998,1.95,758.88,2.0099999999999998,0.65,0.78,0,0,0.56999999999999995,0,0.66,0,0,0,0,2.0099999999999998,0,0,1522.5800000000002,1282.1100000000001,0,735.08,735.08,0,547.03,240.47,0,0,0,0,0,0,0,0,0,0,0,0,0,null,null,null,null,null,null,null,null,null,null,null,null,null,null,null,null,null,null,null,null,null,null,1522.5800000000002,0,0,0,0,0.78,0.56999999999999995,0,7.0000000000000007E-2,0.52,0,0,0,0,0,0,0,0,0,0,0,0,0,0,0,0,0,0,0,0,0,0,0,0,0,0,0,0,0,0,0,null,null,null,null,null,null,null,0,{"$f":"+INDEX($F778:$DJ778,1,Sheet3!$C$1)","v":0},{"$f":"+IF(Sheet3!$C$1=1,IF(DN778<3,0,1),1)","v":1}]
[1,2,"119","10_1",2,116,1326515.1456248965,762.05499999999995,663.61,156827.42999999991,1054.68,513.25,62.25,0,0,321.45,0,19.52,494.39,494.3900000000001,1379.4,1384.7,876.63999999999987,302.46999999999997,446.80000000000007,419055.89000000013,256341.04999999987,0,147224.33999999997,147123.96,100.38,109116.70999999996,54154.780000000021,108560.05999999998,106581.48999999998,1781.8100000000002,196.76,0,0,0,225037.07999999993,122911.58000000003,0,0,122911.58000000003,102125.49999999999,3702.95,0,0,0,0,0,0,0,0,0,0,0,20693.57,0,0,15285.9,0,0,62443.08,0,0,0,644092.97000000009,11.08,45.49,0,0.12,5.53,321.45,0,1.47,15.96,3.54,648.51,16,898,817,131,17,20,4,0,0,1,15.98,0,0,0,0,0,0,0,0,0,0,0,0,31,121.96,0,0,27,209.83,null,null,null,null,null,null,null,0,{"$f":"+INDEX($F802:$DJ802,1,Sheet3!$C$1)","v":0},{"$f":"+IF(Sheet3!$C$1=1,IF(DN802<3,0,1),1)","v":1}]
[1,2,"11A",9,2,36,388745.30503688531,90.04000000000002,86.739999999999981,34392.200000000004,94.860000000000014,80.2,16.329999999999998,0,0,63.88,0,3.1100000000000003,6.72,6.7199999999999989,206.5,206.5,90.04000000000002,0,0,71217.03,57455.439999999988,0,33011.699999999997,33011.699999999997,0,24443.74,10104.219999999998,3657.37,1001.48,0,2655.8900000000003,0,0,0,7577.2999999999993,7157.3,0,0,7157.3,420,0,0,0,0,0,0,0,0,0,0,0,0,0,0,0,0,0,0,420,0,0,0,78794.330000000016,0.18,13.58,0,0,2.57,63.88,0,0.69,2.27,0.02,11.54,95,19,177,9,1,0,0,0,0,0,0,0,0,0,0,0,0,0,0,0,0,0,0,0,0,0,0,0,0,null,null,null,null,null,null,null,0,{"$f":"+INDEX($F845:$DJ845,1,Sheet3!$C$1)","v":0},{"$f":"+IF(Sheet3!$C$1=1,IF(DN845<3,0,1),1)","v":1}]
[1,2,"11B",8,3,9,376696.51990244212,460.88499999999999,412.8,42392.299999999996,551.64999999999986,85.03,20.22,0,0,5.95,8.15,372.7,54.11,22.12,34.4,41.4,454.58000000000004,389.75000000000006,20.619999999999997,78681.06,70651.62999999999,0,40576.11,40576.11,0,30075.519999999997,5288.98,2740.4500000000003,2740.4500000000003,0,0,0,0,0,169844.01,30220.200000000004,0,0,30220.200000000004,139623.81,99144.86,16163.57,0,0,7984.35,14585.51,0,0,0,598.75,0,0,0,810.77,0,336,0,0,0,0,0,0,248525.07,5.16,1.34,0,0.3,13.42,5.95,8.15,174.09,9.7200000000000006,193.65,138.57,2,22,21,0,0,0,0,1,1.55,7,322.8,2,54.01,0,0,5,57.86,0,0,3,249.02,1,10.81,0,0,0,0,1,10.81,null,null,null,null,null,null,null,0,{"$f":"+INDEX($F894:$DJ894,1,Sheet3!$C$1)","v":0},{"$f":"+IF(Sheet3!$C$1=1,IF(DN894<3,0,1),1)","v":1}]
[1,2,"11B",15,1,24,35913.670066342136,62.95,67.649999999999991,7728.9400000000014,74.259999999999991,9.6199999999999992,26.18,0,0,0.59,7.86,4.01,24.31,0,0,1,62.95,0,0,19007.78,11917.000000000002,0,6832.4599999999991,6832.4599999999991,0,5084.5400000000009,7090.78,0,0,0,0,0,0,0,10015.099999999999,10015.099999999999,0,0,10015.099999999999,0,0,0,0,0,0,0,0,0,0,0,0,0,0,0,0,0,0,0,0,0,0,0,29022.880000000008,10.49,5.08,0,0,10.61,0.59,7.86,2.0299999999999998,1.65,0.15,35.619999999999997,0,0,0,0,0,0,0,0,0,0,0,0,0,0,0,0,0,0,0,0,0,0,0,0,0,0,0,0,0,null,null,null,null,null,null,null,0,{"$f":"+INDEX($F921:$DJ921,1,Sheet3!$C$1)","v":0},{"$f":"+IF(Sheet3!$C$1=1,IF(DN921<3,0,1),1)","v":1}]
[1,2,"11C","10_15",2,94,1074076.2941318054,263.68000000000006,248.00000000000003,66242.280000000013,326.1099999999999,232.36,50.85,0,0,143.72,0,26.36,42.75,42.749999999999993,1256.6500000000003,1265.2500000000002,263.60000000000008,35.910000000000004,0,192511.59000000005,107416.28999999998,0,61700.749999999978,61700.749999999978,0,45715.54,27990.370000000003,57104.929999999986,55681.979999999981,1422.9499999999998,0,0,0,0,63543.81,32303.499999999996,0,0,32303.499999999996,31240.31,0,0,0,0,0,0,0,0,0,0,0,0,3390.8,0,0,1050,0,0,26799.51,0,0,0,256055.40000000005,5.17,41.38,0,0.37,3.91,143.72,0,1.45,23.1,1.04,105.18,22,563,1104,71,10,16,2,0,0,0,0,0,0,0,0,0,0,0,0,0,0,0,0,10,19.71,0,0,2,13.1,null,null,null,null,null,null,null,0,{"$f":"+INDEX($F961:$DJ961,1,Sheet3!$C$1)","v":0},{"$f":"+IF(Sheet3!$C$1=1,IF(DN961<3,0,1),1)","v":1}]
[1,2,"11C",11,2,79,714295.36458450451,511.04000000000019,333.99000000000012,46708.980000000018,826.63000000000011,226.65,32.42,0,0,134.66999999999999,0.37,8.0899999999999981,561.42999999999995,248.12999999999997,494.39999999999981,566.39999999999975,663.17000000000019,122.77,514.49000000000012,163593.16999999998,75048.589999999982,0,43084.110000000008,43084.110000000008,0,31964.480000000007,31712.000000000015,56832.580000000031,10655.77,46176.810000000019,0,0,0,0,104276.73000000003,83092.87999999999,0,0,83092.87999999999,21183.85,0,0,0,0,72.900000000000006,0,0,443.1,0,0,0,0,9795.65,0,0,1050,0,0,9822.2000000000007,0,0,0,267869.90000000008,5.45,22.07,0,0.28999999999999998,4.29,134.66999999999999,0.37,1.22,6.67,4,645.62,0,102,62,1284,114,933,65,0,0,0,0,0,0,0,0,1,0.45,0,0,0,0,0,0,20,50.49,0,0,3,47.35,null,null,null,null,null,null,null,0,{"$f":"+INDEX($F969:$DJ969,1,Sheet3!$C$1)","v":0},{"$f":"+IF(Sheet3!$C$1=1,IF(DN969<3,0,1),1)","v":1}]
[1,2,"11D",6,1,279,516524.8274720175,968.53999999999985,920.92,90759.790000000008,1222.1700000000003,62.12,21.13,0,0,16.57,15.33,876.83999999999924,38.67,0.43,2.1,4.0999999999999996,954.63,356.78999999999979,0,245036.36000000002,145496.35000000006,0,83547.570000000065,83197.180000000066,350.39,61948.78000000005,99540.009999999907,0,0,0,0,0,0,0,335374.22000000003,215811.96999999991,0,0,215811.96999999991,119562.25000000003,62079.64,16370.85,0,1586.35,22188.66,2253.3000000000002,0,0,0,14444.45,0,0,0,0,0,0,0,0,0,0,0,639,580410.57999999938,11.76,2.56,0,5.0599999999999996,1.67,16.57,15.33,757.51,16.12,97.2,292.3,0,0,0,9,2,1,2,17,34.229999999999997,38,151.72999999999999,9,38.72,0,0,59,145.35,0,0,6,21.46,0,0,0,0,0,0,0,0,null,null,null,null,null,null,null,0,{"$f":"+INDEX($F996:$DJ996,1,Sheet3!$C$1)","v":0},{"$f":"+IF(Sheet3!$C$1=1,IF(DN996<3,0,1),1)","v":1}]
[1,2,"11E",4,4,10,1556337.0219303642,450.83000000000004,276.98,27125.4,476.83,7.91,161.12,0,0,10.63,39.72,83.899999999999991,155.46,150.06,124.19999999999999,126.19999999999999,450.83000000000021,164.59,0,62998.75,45792.47,0,26571.67,25914.23,657.44,19220.800000000003,6112.9699999999993,11093.310000000001,8930.2999999999993,2163.0100000000002,0,0,0,0,80207.570000000007,32307.199999999997,0,0,32307.199999999997,47900.37,27437.21,0,0,0,957.42,688.8,0,0,0,0,0,0,0,6353.44,0,1039.5,0,0,11424,0,0,0,143206.32,60.89,1.94,0,2.37,95.92,10.63,39.72,48.6,13.09,13.83,181.46,0,86,44,97,3,0,0,0,0,3,63.89,0,0,0,0,2,5.91,0,0,1,6.56,4,100.34,0,0,0,0,2,55.22,null,null,null,null,null,null,null,0,{"$f":"+INDEX($F1045:$DJ1045,1,Sheet3!$C$1)","v":0},{"$f":"+IF(Sheet3!$C$1=1,IF(DN1045<3,0,1),1)","v":1}]
[1,2,"150","1_1",3,1,51479.913120991419,8.69,8.49,7504.31,8.69,3.53,8.16,0,0,0.53,0,0,0,0,0,0,8.6900000000000013,0,0,13106.41,12500.1,0,7180.92,7180.92,0,5319.18,606.30999999999995,0,0,0,0,0,0,0,0,0,0,0,0,0,null,null,null,null,null,null,null,null,null,null,null,null,null,null,null,null,null,null,null,null,null,null,13106.41,0,3,0,0,0,0.53,0,0,0,0,0,0,0,0,0,0,0,0,0,0,0,0,0,0,0,0,0,0,0,0,0,0,0,0,0,0,0,0,0,0,null,null,null,null,null,null,null,0,{"$f":"+INDEX($F1088:$DJ1088,1,Sheet3!$C$1)","v":0},{"$f":"+IF(Sheet3!$C$1=1,IF(DN1088<3,0,1),1)","v":1}]
[1,2,"150",8,1,219,547098.29369954974,1103.1999999999989,1000.4300000000001,81449.829999999973,1627.6600000000012,21.68,86.75,0,0,155.53,97.07,339.57000000000005,424.28,15.62,10.25,12.249999999999998,1092.059999999999,51.679999999999993,0,222885.00999999992,134194.04,0,76984.01999999999,76984.01999999999,0,57210.019999999982,88690.969999999928,0,0,0,0,0,0,0,126521.65999999996,119287.51999999993,0,2056.7000000000003,117230.81999999995,7234.1399999999994,0,0,0,0,7175.76,0,0,0,0,0,0,0,0,0,0,0,0,0,0,0,0,58.38,349406.66999999975,71.760000000000005,1.35,0,8.36,2.27,158.44,11.74,121.75,9.69,61.87,948.74,0,2,0,44,5,6,0,0,0,0,0,0,0,0,0,30,45.99,0,0,0,0,0,0,0,0,0,0,0,0,null,null,null,null,null,null,null,0,{"$f":"+INDEX($F1112:$DJ1112,1,Sheet3!$C$1)","v":0},{"$f":"+IF(Sheet3!$C$1=1,IF(DN1112<3,0,1),1)","v":1}]
[1,2,"150",11,3,18,816521.49707126233,899.11999999999989,716.66,63925.020000000004,1155.2900000000002,62.97,16.190000000000001,0,0,308.83,2.78,59.440000000000012,571.92999999999995,438.18,1240.4000000000001,1370.3000000000002,959.8599999999999,197.44999999999996,131.06,256538.74,105240.72999999998,0,60935.329999999994,59025.46,1909.87,44305.4,10155.379999999997,141142.62999999998,19139.819999999996,122002.80999999998,0,0,0,0,82532.999999999985,54961.759999999995,0,3281.7599999999998,51679.999999999993,27571.24,0,0,0,0,0,0,0,0,0,0,0,0,0,0,0,0,0,0,19812.599999999999,0,0,7758.64,339071.74,13.45,0,0,2.3199999999999998,0.42,308.83,2.78,20.49,0.91,10.01,767.91,1,236,198,3349,151,2392,144,0,0,0,0,0,0,0,0,0,0,0,0,0,0,0,0,0,0,0,0,0,0,null,null,null,null,null,null,null,0,{"$f":"+INDEX($F1129:$DJ1129,1,Sheet3!$C$1)","v":0},{"$f":"+IF(Sheet3!$C$1=1,IF(DN1129<3,0,1),1)","v":1}]
[1,2,"16B",9,4,1,192903.78274570842,6.05,5.81,6852.02,6.05,0,0.17,0,0,5.88,0,0,0,0,150.4,150.4,6.05,0,0,16379.359999999999,11383.279999999999,0,6526.46,6526.46,0,4856.82,606.30999999999995,4389.7700000000004,0,0,4389.7700000000004,0,0,0,0,0,0,0,0,0,null,null,null,null,null,null,null,null,null,null,null,null,null,null,null,null,null,null,null,null,null,null,16379.359999999999,0.13,0,0,0,0,5.88,0,0,0,0,0,63,69,33,0,0,0,0,0,0,0,0,0,0,0,0,0,0,0,0,0,0,0,0,0,0,0,0,0,0,null,null,null,null,null,null,null,0,{"$f":"+INDEX($F1174:$DJ1174,1,Sheet3!$C$1)","v":0},{"$f":"+IF(Sheet3!$C$1=1,IF(DN1174<3,0,1),1)","v":1}]
[1,2,"16B",12,4,3,370397.45815865067,16.62,15.06,4735.21,17.5,11.21,6.16,0,0,2.74,0.25,7.3,0.17,0.17,51.6,258.2,16.62,4.55,0,9863.08,7926.76,0,4558.96,4558.96,0,3367.8,1649.9,286.42,0,286.42,0,0,0,0,2871.96,0,0,0,0,2871.96,0,0,0,0,0,0,0,0,0,2871.96,0,0,0,0,0,0,0,0,0,0,0,0,12735.04,0,1.39,0,0,4.7699999999999996,2.74,0.25,7.2,0,0,1.05,0,0,81,26,2,0,0,1,4.55,0,0,0,0,0,0,0,0,0,0,0,0,0,0,0,0,0,0,0,0,null,null,null,null,null,null,null,0,{"$f":"+INDEX($F1196:$DJ1196,1,Sheet3!$C$1)","v":0},{"$f":"+IF(Sheet3!$C$1=1,IF(DN1196<3,0,1),1)","v":1}]
[1,2,"16D",5,2,14,135860.17996596542,88.220000000000013,80.29000000000002,9934.82,89.910000000000011,2.59,4.9400000000000004,0,0,8.5299999999999994,1.32,73.410000000000011,0.02,0,0,0,88.219999999999985,32.929999999999993,0,24004.719999999998,16629.300000000003,0,9534.09,9534.09,0,7095.21,7375.420000000001,0,0,0,0,0,0,0,7873.49,0,0,0,0,7873.49,0,0,0,0,0,0,0,0,0,7873.49,0,0,0,0,0,0,0,0,0,0,0,0,31878.210000000003,2.81,1.44,0,0.23,0.46,8.5299999999999994,1.32,0.24,69.12,0.73,1.71,0,0,0,0,0,0,0,5,32.93,0,0,0,0,0,0,0,0,0,0,0,0,0,0,0,0,0,0,0,0,null,null,null,null,null,null,null,0,{"$f":"+INDEX($F1222:$DJ1222,1,Sheet3!$C$1)","v":0},{"$f":"+IF(Sheet3!$C$1=1,IF(DN1222<3,0,1),1)","v":1}]
[1,2,"16E",0,2,7,63379.588254204922,15.719999999999999,15.54,4986.08,15.760000000000002,6.46,9.7200000000000006,0,0,3.24,0,0.96,1.8,1.8,0.85000000000000009,38.449999999999996,15.720000000000002,0,0,10128.61,8245.7000000000007,0,4726.58,4726.58,0,3519.12,1882.9099999999999,0,0,0,0,0,0,0,0,0,0,0,0,0,null,null,null,null,null,null,null,null,null,null,null,null,null,null,null,null,null,null,null,null,null,null,10128.61,4.21,5.12,0,0.19,0.2,3.24,0,0,0.41,0.48,1.84,0,0,1,2,1,0,0,0,0,0,0,0,0,0,0,0,0,0,0,0,0,0,0,0,0,0,0,0,0,null,null,null,null,null,null,null,0,{"$f":"+INDEX($F1263:$DJ1263,1,Sheet3!$C$1)","v":0},{"$f":"+IF(Sheet3!$C$1=1,IF(DN1263<3,0,1),1)","v":1}]
[1,2,"16E","10_2",1,15,34328.206674712994,45.400000000000006,46.84,12398.19,47.4,3.62,1.53,0,0,36.159999999999997,0.11,2.87,4.7300000000000004,4.7300000000000004,18.599999999999998,18.599999999999998,45.400000000000006,0,0,26693.599999999999,20384.27,0,11698,11698,0,8686.2699999999986,5558.3600000000006,750.97,750.97,0,0,0,0,0,0,0,0,0,0,0,null,null,null,null,null,null,null,null,null,null,null,null,null,null,null,null,null,null,null,null,null,null,26693.599999999999,0.33,1.1100000000000001,0,0.09,0,36.159999999999997,0.11,0.21,0.38,2.2400000000000002,6.73,0,7,20,0,0,0,0,0,0,0,0,0,0,0,0,0,0,0,0,0,0,0,0,0,0,0,0,0,0,null,null,null,null,null,null,null,0,{"$f":"+INDEX($F1312:$DJ1312,1,Sheet3!$C$1)","v":0},{"$f":"+IF(Sheet3!$C$1=1,IF(DN1312<3,0,1),1)","v":1}]
[1,2,"16F",2,4,1,132014.0269,87.5,68.23,17464.849999999999,87.77,84.7,84.7,0,0,0,0,2.8,0,0,0,0,87.499999999999972,55.540000000000006,0,50311.45,29014.39,0,16635.02,16635.02,0,12379.37,606.30999999999995,20690.75,0,0,0,0,0,20690.75,22545.07,0,0,0,0,22545.07,0,0,0,0,0,0,0,0,0,22545.07,0,0,0,0,0,0,0,0,0,0,0,0,72856.51999999999,0,0,84.7,0,0,0,0,0,0,0,0.27,0,0,0,0,0,0,0,1,55.54,0,0,0,0,0,0,0,0,0,0,0,0,0,0,0,0,0,0,0,0,null,null,null,null,null,null,null,0,{"$f":"+INDEX($F1341:$DJ1341,1,Sheet3!$C$1)","v":0},{"$f":"+IF(Sheet3!$C$1=1,IF(DN1341<3,0,1),1)","v":1}]
[1,2,"16F",12,2,82,736167.75433036918,618.08999999999992,568.37000000000023,69522.320000000022,694.14999999999975,50.03,78.010000000000005,0,0,96.58,3.46,294.29000000000008,146.28,140.79000000000002,453.99999999999994,510.5,619.37,119.16,6.8699999999999992,185140.81000000008,114091.21000000005,0,65540.020000000019,65540.020000000019,0,48551.189999999981,34481.060000000027,36568.539999999994,16173.43,19914.010000000002,0,0,0,481.09999999999997,53157.680000000008,40068.129999999983,31395.189999999991,988.71,7684.23,13089.549999999997,0,0,0,0,12767.89,0,0,0,0,0,0,0,0,0,0,0,0,0,0,0,0,321.66000000000003,238298.49000000005,22.73,42.2,2.0099999999999998,3.52,6.91,96.65,3.46,4.7699999999999996,15.08,271.38,220.36,8,150,235,659,66,317,38,0,0,0,0,0,0,0,0,22,87.68,0,0,0,0,0,0,0,0,0,0,0,0,null,null,null,null,null,null,null,0,{"$f":"+INDEX($F1379:$DJ1379,1,Sheet3!$C$1)","v":0},{"$f":"+IF(Sheet3!$C$1=1,IF(DN1379<3,0,1),1)","v":1}]
[1,2,"16G","1_2",1,78,149745.79407163395,202.35999999999993,229.49999999999994,28181.8,241.21,27.28,106.89,0,0,15.98,15.08,14.38,50.03,1.84,2.1,2.1,202.22999999999993,8.8300000000000018,0,63984.83,41952.030000000021,0,24054.439999999995,24054.439999999995,0,17897.59,22032.799999999999,0,0,0,0,0,0,0,33499.279999999984,33421.279999999984,0,83.2,33338.079999999987,78,0,0,0,0,0,0,0,78,0,0,0,0,0,0,0,0,0,0,0,0,0,0,97484.11000000003,55.08,42.76,0,2.57,6.48,15.98,11.02,1.48,2.82,9.01,88.88,0,0,0,8,0,5,1,0,0,0,0,0,0,0,0,0,0,0,0,0,0,0,0,0,0,0,0,0,0,null,null,null,null,null,null,null,0,{"$f":"+INDEX($F1389:$DJ1389,1,Sheet3!$C$1)","v":0},{"$f":"+IF(Sheet3!$C$1=1,IF(DN1389<3,0,1),1)","v":1}]
[1,2,"16H",2,2,1,6081.3741680000003,8.07,7.49,2557.9,8.1,3.82,3.82,0,0,0,0.74,0.12,3.39,0,0,0,8.07,0,0,5821.369999999999,4272.3099999999995,0,2459.21,2459.21,0,1813.1,606.30999999999995,942.75,0,0,0,0,0,942.75,0,0,0,0,0,0,null,null,null,null,null,null,null,null,null,null,null,null,null,null,null,null,null,null,null,null,null,null,5821.369999999999,0,0,3.82,0,0,0,0.74,0,0,0,3.42,0,0,0,0,0,0,0,0,0,0,0,0,0,0,0,0,0,0,0,0,0,0,0,0,0,0,0,0,0,null,null,null,null,null,null,null,0,{"$f":"+INDEX($F1446:$DJ1446,1,Sheet3!$C$1)","v":0},{"$f":"+IF(Sheet3!$C$1=1,IF(DN1446<3,0,1),1)","v":1}]
[1,2,"16H",7,4,2,221068.41137599997,232.51,162.25,10609.52,234.39,230.23,0,0,0,0,0,232.51,0,0,0,0,232.39999999999998,176.84,0,18904.57,17691.949999999997,0,10171.77,10171.77,0,7520.18,1212.6199999999999,0,0,0,0,0,0,0,28201.32,6293.2000000000007,0,6293.2000000000007,0,21908.12,0,0,0,0,0,0,0,0,0,21908.12,0,0,0,0,0,0,0,0,0,0,0,0,47105.89,0,0,0,0,0,0,0,0,0,230.23,1.88,0,0,0,0,0,0,0,2,176.84,0,0,0,0,0,0,0,0,0,0,0,0,0,0,0,0,0,0,0,0,null,null,null,null,null,null,null,0,{"$f":"+INDEX($F1463:$DJ1463,1,Sheet3!$C$1)","v":0},{"$f":"+IF(Sheet3!$C$1=1,IF(DN1463<3,0,1),1)","v":1}]
[1,2,"16I",4,2,17,124578.27379637763,57.17,58.820000000000007,4745.3499999999995,64.05,10.029999999999999,8.99,0,0,9.08,0.69,35.94,2.4700000000000002,0.69,2.7,2.7,56.91,20.5,0,14095.15,7707.2900000000009,0,4418.8599999999997,4418.8599999999997,0,3288.4300000000003,6387.8600000000006,0,0,0,0,0,0,0,10928.159999999998,8166.2499999999991,2372.0499999999997,382.2,5412,2761.91,0,0,0,0,2710.91,0,0,0,0,0,0,0,0,0,0,0,0,0,0,0,0,51,25023.31,1.27,0,0,0,7.72,9.08,0.69,0.68,2.1800000000000002,30.54,9.35,0,0,0,3,0,15,0,0,0,0,0,0,0,0,0,11,17.95,0,0,0,0,0,0,0,0,0,0,0,0,null,null,null,null,null,null,null,0,{"$f":"+INDEX($F1508:$DJ1508,1,Sheet3!$C$1)","v":0},{"$f":"+IF(Sheet3!$C$1=1,IF(DN1508<3,0,1),1)","v":1}]
[1,2,"16I",9,4,3,531697.26106477308,61.51,46.39,10944.529999999999,73.180000000000007,0,0,0,0,11.87,0,42.33,7.31,7.31,308.39999999999998,308.39999999999998,61.510000000000005,0,0,35848.509999999995,17683.37,0,10138.52,10138.52,0,7544.85,1818.9299999999998,16346.21,369.32,0,15976.89,0,0,0,1090.3699999999999,1090.3699999999999,1090.3699999999999,0,0,0,0,0,0,0,0,0,0,0,0,0,0,0,0,0,0,0,0,0,0,0,0,0,36938.880000000005,0,0,0,0,0,11.87,0,0,0,42.3,18.98,168,48,168,0,0,0,0,0,0,0,0,0,0,0,0,0,0,0,0,0,0,0,0,0,0,0,0,0,0,null,null,null,null,null,null,null,0,{"$f":"+INDEX($F1530:$DJ1530,1,Sheet3!$C$1)","v":0},{"$f":"+IF(Sheet3!$C$1=1,IF(DN1530<3,0,1),1)","v":1}]
[1,2,"16I",13,3,1,40362.244589716131,250.98,252.22,16492.66,261.69,0.08,0,0,0,10.98,0,3.63,236.37,0,0,0,250.98000000000008,0,0,27904.05,27297.739999999998,0,15664.97,15664.97,0,11632.77,606.30999999999995,0,0,0,0,0,0,0,3755,3755,0,3755,0,0,0,0,0,0,0,0,0,0,0,0,0,0,0,0,0,0,0,0,0,0,0,0,31659.05,0,0,0,0,0,10.98,0,3.55,0,0,247.08,0,0,0,0,0,0,0,0,0,0,0,0,0,0,0,0,0,0,0,0,0,0,0,0,0,0,0,0,0,null,null,null,null,null,null,null,0,{"$f":"+INDEX($F1556:$DJ1556,1,Sheet3!$C$1)","v":0},{"$f":"+IF(Sheet3!$C$1=1,IF(DN1556<3,0,1),1)","v":1}]
[1,2,"16J",9,4,9,1831400.8887269141,1031.2,962.86000000000013,101661.94,1129.6199999999999,147.57,204.31,0,0,404.21,4.84,18.27,399.57,399.57,1220.55,1221.55,1031.18,520.9,0,266286.11,164292.66,0,94195.07,94195.07,0,70097.590000000011,5456.7899999999991,96536.66,14530.69,6323.1,75682.87,0,0,0,107758.45000000001,41854.99,0,0,41854.99,65903.459999999992,16191.02,0,0,0,383.94,0,0,0,0,45305.15,0,0,1573.35,0,0,2450,0,0,0,0,0,0,374044.56,125.84,0,0,75.790000000000006,2.68,404.21,4.84,9.9600000000000009,1,6.83,497.99,672,164,635,266,3,0,0,4,470.31,1,29.85,0,0,0,0,3,2.37,0,0,0,0,0,0,1,14.59,0,0,4,22.46,null,null,null,null,null,null,null,0,{"$f":"+INDEX($F1597:$DJ1597,1,Sheet3!$C$1)","v":0},{"$f":"+IF(Sheet3!$C$1=1,IF(DN1597<3,0,1),1)","v":1}]
[1,2,"16J",11,4,39,6216152.5578617416,5655.1699999999992,4956.9700000000021,374699.88999999996,7320.1900000000014,523.95000000000005,468.47,0,0,2620.46,33.79,335.78,2832.39,1809.0899999999995,4050.2500000000005,4374.75,6012.9500000000007,1916.4499999999996,348.99,1134532.9599999997,576421.19999999984,0,333436.65000000002,331093.34000000003,2343.31,242984.55,22975.51,535136.25,31696.219999999998,497728.05999999994,5711.9699999999993,0,0,0,447799.25999999995,187115.99999999997,0,18629.739999999998,168486.25999999998,260683.26,63080.52,55164.57,0,0,24277.439999999999,1981.16,0,5711.39,0,41166.43,0,0,6319.94,0,1009.2,6517.35,0,0,51838.93,0,0,3616.33,1582332.2200000004,333.92,74.47,0,24.96,11.38,2644.2,33.79,21.26,57.79,245.38,3859.03,52,309,233,20154,1022,2306,277,5,587.22,4,462.43,4,393.77,0,0,22,182.02,0,0,3,20.46,0,0,6,42.66,2,22.44,10,133.72999999999999,null,null,null,null,null,null,null,1009.2,{"$f":"+INDEX($F1614:$DJ1614,1,Sheet3!$C$1)","v":1009.2},{"$f":"+IF(Sheet3!$C$1=1,IF(DN1614<3,0,1),1)","v":1}]
[1,2,"170","10_15",5,3,16058207.807872705,339.55,337.21,182282.97,339.90999999999997,69.930000000000007,0,0,0,110.71,0,0,228.84,228.84,5346.2,19081,339.54999999999995,0,0,364545.54000000004,302571.40999999997,0,173366.40000000002,173366.40000000002,0,129205.01,1818.9299999999998,60155.199999999997,59158.259999999995,996.94,0,0,0,0,3755,3755,0,3755,0,0,0,0,0,0,0,0,0,0,0,0,0,0,0,0,0,0,0,0,0,0,0,0,368300.54000000004,0,0,0,0,0,110.71,0,0,0,0,229.2,4,1619,6363,42,2,0,0,0,0,0,0,0,0,0,0,0,0,0,0,0,0,0,0,0,0,0,0,0,0,null,null,null,null,null,null,null,0,{"$f":"+INDEX($F1675:$DJ1675,1,Sheet3!$C$1)","v":0},{"$f":"+IF(Sheet3!$C$1=1,IF(DN1675<3,0,1),1)","v":1}]
[1,2,"170",11,2,78,769826.99375009921,783.66000000000008,728.62000000000012,74599.51999999999,875.52000000000032,66.239999999999995,34.799999999999997,0,0,390.12,2.77,10.3,355.07,275.84999999999997,1006.35,1008.35,784.64,0,18.8,299219.70999999996,121229.25000000001,0,69661.960000000021,69661.960000000021,0,51567.29,36413.480000000025,141576.97999999998,5708.34,135868.63999999998,0,0,0,0,6590.72,6590.72,0,6590.72,0,0,0,0,0,0,0,0,0,0,0,0,0,0,0,0,0,0,0,0,0,0,0,0,305810.42999999993,21.11,0,0,10.93,1.2,391.68,2.77,2.5099999999999998,1.34,5.55,437.53,1,12,33,5304,299,794,92,0,0,0,0,0,0,0,0,0,0,0,0,0,0,0,0,0,0,0,0,0,0,null,null,null,null,null,null,null,0,{"$f":"+INDEX($F1681:$DJ1681,1,Sheet3!$C$1)","v":0},{"$f":"+IF(Sheet3!$C$1=1,IF(DN1681<3,0,1),1)","v":1}]
[1,2,"181",4,5,6,10148236.877917556,1217.8700000000001,795.12,61220.69,1343.5900000000001,638.47,723.93,0,0,38.31,59.48,9.34,386.81,367.20000000000005,342.20000000000005,342.20000000000005,1200.1600000000001,518.09,0,124894.04,93205.180000000008,0,55914.49,54046.37,1868.12,37290.69,3657.3999999999996,28031.46,19342.809999999998,8688.65,0,0,0,0,119362.03000000001,20991.22,0,18332.22,2659,98370.81,50140.92,21451.759999999998,0,0,0,0,0,0,0,11109.07,0,0,0,0,661.7,0,0,0,0,0,0,15007.36,244256.06999999998,0,11.36,0,2.69,672.04,74.569999999999993,59.48,0.36,0,0,512.53,1,173,140,345,37,226,4,1,60.24,3,380.52,2,70.37,0,0,0,0,0,0,0,0,0,0,0,0,1,30.01,0,0,null,null,null,null,null,null,null,661.7,{"$f":"+INDEX($F1723:$DJ1723,1,Sheet3!$C$1)","v":661.7},{"$f":"+IF(Sheet3!$C$1=1,IF(DN1723<3,0,1),1)","v":1}]
[1,2,"181","10_1",3,58,2806850.4261454437,3708.03,3603.6799999999994,374105.19,3893.8,216.44,250.86,0,0,1783.09,19.62,78.829999999999984,1575.63,1575.6300000000003,4804.7500000000009,4818.55,3710.46,1405.2599999999998,0,1013228.78,610208.74,0,349920.13,349920.13,0,260288.60999999993,35185.520000000019,367834.51999999996,361995.23999999987,5839.28,0,0,0,0,241796.25000000003,136352.72,0,118810.12000000001,17542.599999999999,105443.52999999998,43039.18,0,0,0,0,0,0,0,0,8800.44,0,0,0,0,0,0,0,0,0,0,0,53603.91,1255025.03,172.1,11.59,0,40.14,27.03,1783.09,7.3,15.39,1.54,56.22,1761.4,14,3478,2442,265,16,22,2,2,121.2,3,313.38,0,0,0,0,0,0,0,0,0,0,0,0,0,0,0,0,0,0,null,null,null,null,null,null,null,0,{"$f":"+INDEX($F1748:$DJ1748,1,Sheet3!$C$1)","v":0},{"$f":"+IF(Sheet3!$C$1=1,IF(DN1748<3,0,1),1)","v":1}]
[1,2,"184",4,4,22,5457621.9300634237,2368.2399999999998,2262.54,220402.36000000002,2383.0299999999997,364.01,941.36,0,0,502.1,52.63,128.97,743.18,700.03999999999985,594.4,594.4,2368.2399999999998,1544.1299999999999,0,435852.68999999994,366335.58,0,211276.95,208749.08000000002,2527.87,155058.63,13396.629999999994,56120.479999999996,46206.49,9913.99,0,0,0,0,252202.12999999998,52468.03,0,50097.630000000005,2370.4,199734.10000000003,131162.03,0,0,0,4266.54,1552.43,5278.8,0,0,41970.77,0,0,0,0,7638.98,0,0,0,0,0,4762.95,3101.6,688054.82000000007,351.8,21.26,0,271.68,296.62,502.1,52.63,16.54,19.55,91.62,757.97,0,374,271,551,37,0,0,4,209.74,7,1016.61,0,0,1,36.1,5,34.92,1,157.61000000000001,2,15.39,0,0,0,0,3,297.27,0,0,null,null,null,null,null,null,null,7638.98,{"$f":"+INDEX($F1797:$DJ1797,1,Sheet3!$C$1)","v":7638.98},{"$f":"+IF(Sheet3!$C$1=1,IF(DN1797<3,0,1),1)","v":1}]
[1,2,"184",7,1,568,950708.34531497583,3101.0600000000018,3091.250000000005,280960.37999999989,3144.7100000000023,127.92,94.24,0,0,134.19,121.41,2466.4700000000007,284.75,0,2.85,2.85,3101.8300000000027,2177.9,0,713100.06,455905.66999999981,0,261806.84000000011,261714.97000000012,91.87,194098.82999999996,256029.0499999992,1165.3400000000001,0,1165.3400000000001,0,0,0,0,749599.63000000047,288613.91999999981,0,288613.91999999981,0,460985.70999999985,38327.64,8024.82,0,0,317437.74,46496.29,0,0,0,32488.74,0,0,0,0,0,0,0,0,0,0,0,18210.48,1462699.6900000006,10.35,0,0,79.8,0.03,138.25,92.22,1.4,1.86,2460.42,328.4,0,0,0,14,5,0,0,23,129.97,16,106.42,2,17.47,0,0,482,1951.19,0,0,92,444.11,0,0,0,0,0,0,0,0,null,null,null,null,null,null,null,0,{"$f":"+INDEX($F1809:$DJ1809,1,Sheet3!$C$1)","v":0},{"$f":"+IF(Sheet3!$C$1=1,IF(DN1809<3,0,1),1)","v":1}]
[1,2,"185","1_2",4,10,2013544.6132778726,1472.23,1403.3599999999997,255077.66000000003,1487.08,448.93,662.64,0,0,167.76,55.12,38.43,548.28,159.63,111.95,111.95,1472.23,332.19,0,457909.95999999996,423937.95,0,243130.91999999998,243130.91999999998,0,180807.03,5871.1399999999994,28100.870000000003,6335.1,712.11,0,0,7673.18,13380.48,99867.26999999999,11809.460000000001,0,11809.460000000001,0,88057.81,15328.48,2088,0,0,93.56,0,0,0,0,51250.7,0,0,0,0,0,0,0,0,0,0,19297.07,0,557777.23,238.62,283.99,55.31,0.16,75.760000000000005,176.56,55.12,17.61,0,5.62,563.13,0,65,77,21,2,14,4,4,198,1,109.03,1,3.48,3,158.83000000000001,1,0.55000000000000004,0,0,0,0,0,0,0,0,0,0,0,0,null,null,null,null,null,null,null,0,{"$f":"+INDEX($F1864:$DJ1864,1,Sheet3!$C$1)","v":0},{"$f":"+IF(Sheet3!$C$1=1,IF(DN1864<3,0,1),1)","v":1}]
[1,2,"185",6,1,14,35377.571433943551,23.68,22.67,5322.0599999999995,23.76,2.08,0.04,0,0,4.45,5.27,10.59,3.33,0,0,0,23.680000000000003,1.8599999999999999,0,11496.029999999999,8829.9600000000009,0,5065.2599999999993,5065.2599999999993,0,3764.7000000000003,2666.07,0,0,0,0,0,0,0,788.81999999999994,487.5,0,487.5,0,301.32,0,0,0,0,301.32,0,0,0,0,0,0,0,0,0,0,0,0,0,0,0,0,0,12284.850000000002,0,0,0,0,0.04,4.45,5.27,4.34,0.55000000000000004,5.19,3.41,0,0,0,0,0,0,0,0,0,0,0,0,0,0,0,1,1.86,0,0,0,0,0,0,0,0,0,0,0,0,null,null,null,null,null,null,null,0,{"$f":"+INDEX($F1881:$DJ1881,1,Sheet3!$C$1)","v":0},{"$f":"+IF(Sheet3!$C$1=1,IF(DN1881<3,0,1),1)","v":1}]
[1,2,"185",14,5,45,59215235.739653878,9199.2700000000023,5893.0999999999976,2477617.8299999996,9233.0499999999993,7740.13,7633.45,0,0,841.34,535.03,138.47,50.98,0,7.25,7.25,9203.7000000000007,381.12,0,5723928.7299999995,4066400.3600000003,0,2354746.5,2354746.5,0,1711653.86,27283.950000000012,1630244.4200000004,0,0,0,0,1498735.4600000002,131508.96000000002,112434.52000000002,12963.289999999999,0,12963.289999999999,0,99471.23,0,0,0,0,171.8,0,0,0,0,99299.43,0,0,0,0,0,0,0,0,0,0,0,0,5836363.25,85.43,660.48,536.95000000000005,87.9,6262.12,841.91,535.03,0.4,110.04,7.12,84.76,0,4,3,6,1,0,0,5,355.13,0,0,0,0,0,0,1,1.01,0,0,0,0,0,0,0,0,0,0,0,0,null,null,null,null,null,null,null,0,{"$f":"+INDEX($F1928:$DJ1928,1,Sheet3!$C$1)","v":0},{"$f":"+IF(Sheet3!$C$1=1,IF(DN1928<3,0,1),1)","v":1}]
[1,2,"186",4,3,36,2043600.4673797325,743.78,709.53,72168.88,791.68000000000018,85.27,135.54,0,0,137.66,7.99,152.16000000000003,310.43,233,203.35,210.35,744.01,570.69000000000017,0,165649.19,120523.65000000001,0,69615.639999999985,68686.149999999994,929.49,50908.01,20726.880000000005,24398.66,6222.19,18176.47,0,0,0,0,233486.43999999997,40207.85,0,40207.85,0,193278.59000000003,122952.81,27720.41,0,0,16910.04,9220.2999999999993,0,0,0,3523.26,0,0,0,0,1849.37,0,0,0,1540,0,0,9562.4,399135.63,1.76,0,0,11.65,122.13,137.66,7.99,4.63,8.52,136.30000000000001,358.33,0,54,34,804,52,24,1,1,29.29,19,400.79,5,102.37,0,0,22,112.69,0,0,13,91.93,0,0,0,0,3,29.34,0,0,null,null,null,null,null,null,null,1849.37,{"$f":"+INDEX($F1948:$DJ1948,1,Sheet3!$C$1)","v":1849.37},{"$f":"+IF(Sheet3!$C$1=1,IF(DN1948<3,0,1),1)","v":1}]
[1,2,"186","10_1",4,32,5392997.8653669925,8305.58,8414.909999999998,739970.6100000001,8547.659999999998,264.47000000000003,313.37,0,0,1292.6600000000001,7.85,401.9500000000001,6289.75,6289.75,10214.449999999999,10279.249999999998,8305.8199999999979,6613.0900000000011,0,2101653.67,1204053.8000000003,0,691328.41000000015,688985.10000000009,2343.31,512725.3899999999,19371.579999999998,878228.28999999992,833308.99999999988,44919.29,0,0,0,0,808266.17999999982,117601.43,0,117601.43,0,690664.75,217864.94,186090.73,0,0,33174.26,14142.39,6697.3,0,0,131472.35999999999,0,0,0,0,2300.25,0,0,0,26675,0,23487.52,48760,2909919.85,212.02,0,0,101.35,0,1292.6600000000001,7.85,2.33,0,391,6531.83,19,6856,5586,1940,265,16,2,10,2388.15,10,1725.87,7,2020.69,2,215.49,20,313.24,3,143.62,5,188.98,0,0,0,0,5,228.92,0,0,null,null,null,null,null,null,null,2300.25,{"$f":"+INDEX($F1976:$DJ1976,1,Sheet3!$C$1)","v":2300.25},{"$f":"+IF(Sheet3!$C$1=1,IF(DN1976<3,0,1),1)","v":1}]
[1,2,"187","1_2",5,1,745363.426389092,239.8,216.16,20135.900000000001,282.08999999999997,37.479999999999997,20.78,0,0,42.52,0,36.299999999999997,140.19999999999999,0,0,0,239.79999999999998,132.72000000000003,0,34091.279999999999,33484.97,0,19212.330000000002,19212.330000000002,0,14272.64,606.30999999999995,0,0,0,0,0,0,0,23471.46,2086.04,0,2086.04,0,21385.42,0,21385.42,0,0,0,0,0,0,0,0,0,0,0,0,0,0,0,0,0,0,0,0,57562.74,0,0,0,10.25,10.53,42.52,0,0.73,25.69,8.75,182.49,0,0,0,0,0,0,0,0,0,0,0,1,132.72,0,0,0,0,0,0,0,0,0,0,0,0,0,0,0,0,null,null,null,null,null,null,null,0,{"$f":"+INDEX($F2015:$DJ2015,1,Sheet3!$C$1)","v":0},{"$f":"+IF(Sheet3!$C$1=1,IF(DN2015<3,0,1),1)","v":1}]
[1,2,"187",6,1,19,42969.079558668323,45.44,47.230000000000004,4137.8700000000008,46.44,7.63,7.19,0,0,4.5199999999999996,1.43,26.119999999999997,6.18,0,0,0,45.44,11.94,0,11305.89,6458.24,0,3681.23,3681.23,0,2777.0099999999993,4847.6500000000005,0,0,0,0,0,0,0,10032.629999999999,3974.8,0,3974.8,0,6057.83,5536.46,0,0,0,341.82,179.55,0,0,0,0,0,0,0,0,0,0,0,0,0,0,0,0,21338.52,0,0,0,7.12,0.04,4.5199999999999996,1.43,18.829999999999998,7.0000000000000007E-2,7.2,7.18,0,0,0,0,0,0,0,0,0,1,8.8699999999999992,0,0,0,0,3,2.11,0,0,1,1.71,0,0,0,0,0,0,0,0,null,null,null,null,null,null,null,0,{"$f":"+INDEX($F2032:$DJ2032,1,Sheet3!$C$1)","v":0},{"$f":"+IF(Sheet3!$C$1=1,IF(DN2032<3,0,1),1)","v":1}]
[1,3,"111",11,1,49,89314.461133304358,53.634999999999998,0.73,47.73,81.69,24.78,2.02,0,0,13.37,0,0.56000000000000005,62.08,62.079999999999991,99.550000000000011,99.550000000000011,1.04,2.5499999999999998,64.12,18113.049999999996,0,0,0,0,0,0,0,18113.049999999996,1120.69,16992.359999999997,0,0,0,0,14128.300000000001,13643.800000000001,0,0,13643.800000000001,484.5,0,0,0,0,0,0,0,0,0,0,0,0,484.5,0,0,0,0,0,0,0,0,0,32241.349999999995,0,1.69,0,0,0.33,13.37,0,0.39,1.17,7.0000000000000007E-2,64.349999999999994,0,9,7,364,59,143,15,0,0,0,0,0,0,0,0,0,0,0,0,0,0,0,0,3,2.5499999999999998,0,0,0,0,null,null,null,null,null,null,null,0,{"$f":"+INDEX($F2095:$DJ2095,1,Sheet3!$C$1)","v":0},{"$f":"+IF(Sheet3!$C$1=1,IF(DN2095<3,0,1),1)","v":1}]
[1,3,"111",12,2,4,40882.506658460217,23.435000000000002,1.2,158,28.409999999999997,8.58,2.1,0,0,9.7899999999999991,0,4.84,11.18,11.180000000000001,10.45,17.786000000000001,17.579999999999998,0,14.29,1234.8400000000001,0,0,0,0,0,0,0,1234.8400000000001,375.6,859.24,0,0,0,0,5323.5999999999995,5190,0,0,5190,133.6,0,0,0,0,0,0,0,0,0,0,0,0,0,0,0,0,0,0,133.6,0,0,0,6558.4400000000005,0,1.78,0,0,0.32,9.7899999999999991,0,7.0000000000000007E-2,4.75,0,11.21,0,2,4,33,3,5,2,0,0,0,0,0,0,0,0,0,0,0,0,0,0,0,0,0,0,0,0,0,0,null,null,null,null,null,null,null,0,{"$f":"+INDEX($F2099:$DJ2099,1,Sheet3!$C$1)","v":0},{"$f":"+IF(Sheet3!$C$1=1,IF(DN2099<3,0,1),1)","v":1}]
[1,3,"11A","10_15",3,2,86615.742620502948,27.4,0,0,27.4,0,0,0,0,22.02,0.1,0.28999999999999998,4.99,4.99,157,157,0,0,0,9176.51,0,0,0,0,0,0,0,9176.51,9176.51,0,0,0,0,0,0,0,0,0,0,0,null,null,null,null,null,null,null,null,null,null,null,null,null,null,null,null,null,null,null,null,null,null,9176.51,0,0,0,0,0,22.02,0.1,0.28999999999999998,0,0,4.99,0,108,81,0,0,0,0,0,0,0,0,0,0,0,0,0,0,0,0,0,0,0,0,0,0,0,0,0,0,null,null,null,null,null,null,null,0,{"$f":"+INDEX($F2143:$DJ2143,1,Sheet3!$C$1)","v":0},{"$f":"+IF(Sheet3!$C$1=1,IF(DN2143<3,0,1),1)","v":1}]
[1,3,"11B",12,3,1,27341.61344851433,7.4450000000000003,0,0,14.42,0.47,0.47,0,0,0,0,0,13.95,13.95,13,13,0,13.95,14.42,500.79,0,0,0,0,0,0,0,500.79,500.79,0,0,0,0,0,1979.3,1629.3,0,0,1629.3,350,0,0,0,0,0,0,0,0,0,0,0,0,0,0,0,350,0,0,0,0,0,0,2480.09,0,0.12,0,0,0.35,0,0,0,0,0,13.95,0,3,17,0,0,0,0,0,0,0,0,0,0,0,0,0,0,0,0,0,0,0,0,0,0,0,0,1,13.95,null,null,null,null,null,null,null,0,{"$f":"+INDEX($F2166:$DJ2166,1,Sheet3!$C$1)","v":0},{"$f":"+IF(Sheet3!$C$1=1,IF(DN2166<3,0,1),1)","v":1}]
[1,3,"11E","10_1",1,7,13183.55496055428,22.68,0,0,30.299999999999997,0,4.8099999999999996,0,0,6.03,1.59,2.91,7.34,7.34,21.599999999999998,21.599999999999998,0,11.16,0,1878,0,0,0,0,0,0,0,1878,1878,0,0,0,0,0,6964.88,5429.2,0,0,5429.2,1535.68,0,0,0,0,0,0,0,0,0,0,0,0,0,502.68,0,350,0,0,504,0,0,179,8842.8799999999992,4.8099999999999996,0,0,0,0,6.03,1.59,0.08,0,2.83,14.96,0,12,18,0,0,0,0,0,0,0,0,0,0,0,0,0,0,0,0,0,0,2,6.2,0,0,0,0,1,3.99,null,null,null,null,null,null,null,0,{"$f":"+INDEX($F2215:$DJ2215,1,Sheet3!$C$1)","v":0},{"$f":"+IF(Sheet3!$C$1=1,IF(DN2215<3,0,1),1)","v":1}]
[1,3,"150",6,3,4,206576.09999999998,20.5,0,0,22.82,2.34,2.12,0,0,13.06,0,4.82,0.5,0.5,25,38.340000000000003,0,0,0,2206.71,0,0,0,0,0,0,0,2206.71,1251.99,954.72,0,0,0,0,3879.7,3879.7,0,0,3879.7,0,0,0,0,0,0,0,0,0,0,0,0,0,0,0,0,0,0,0,0,0,0,0,6086.41,0,0,0,2.1,0.02,13.06,0,3.24,0,0.99,2.82,0,15,7,29,1,12,2,0,0,0,0,0,0,0,0,0,0,0,0,0,0,0,0,0,0,0,0,0,0,null,null,null,null,null,null,null,0,{"$f":"+INDEX($F2229:$DJ2229,1,Sheet3!$C$1)","v":0},{"$f":"+IF(Sheet3!$C$1=1,IF(DN2229<3,0,1),1)","v":1}]
[1,3,"16E","10_15",1,15,14422.813918581165,1.85,0,0,1.85,0,0,0,0,1.85,0,0,0,0,28.849999999999994,28.849999999999994,0,0,0,3493.0400000000004,0,0,0,0,0,0,0,3493.0400000000004,3493.0400000000004,0,0,0,0,0,0,0,0,0,0,0,null,null,null,null,null,null,null,null,null,null,null,null,null,null,null,null,null,null,null,null,null,null,3493.0400000000004,0,0,0,0,0,1.85,0,0,0,0,0,0,22,13,2,1,0,0,0,0,0,0,0,0,0,0,0,0,0,0,0,0,0,0,0,0,0,0,0,0,null,null,null,null,null,null,null,0,{"$f":"+INDEX($F2282:$DJ2282,1,Sheet3!$C$1)","v":0},{"$f":"+IF(Sheet3!$C$1=1,IF(DN2282<3,0,1),1)","v":1}]
[1,3,"16F",11,3,4,112173.43096909176,59.365000000000002,0,0,118.69000000000001,0,7.0000000000000007E-2,0,0,0,0,0,118.33,118.33000000000001,35.6,70.400000000000006,0,0,118.36000000000001,3938.21,0,0,0,0,0,0,0,3938.21,0,3938.21,0,0,0,0,5762.36,5408.36,2576.56,0,2831.8,354,0,0,0,0,0,0,0,0,0,0,0,0,0,0,0,0,0,0,354,0,0,0,9700.57,7.0000000000000007E-2,0,0,0,0,0,0,0,0,0,118.59,0,5,0,47,7,138,12,0,0,0,0,0,0,0,0,0,0,0,0,0,0,0,0,0,0,0,0,0,0,null,null,null,null,null,null,null,0,{"$f":"+INDEX($F2310:$DJ2310,1,Sheet3!$C$1)","v":0},{"$f":"+IF(Sheet3!$C$1=1,IF(DN2310<3,0,1),1)","v":1}]
[1,3,"16I",6,2,3,45507.345016096457,9.5299999999999994,0,0,9.5299999999999994,2.6,0.03,0,0,2.46,0,4.59,2.4500000000000002,2.4500000000000002,10.200000000000001,10.200000000000001,0,0.4,0,1527.56,0,0,0,0,0,0,0,1527.56,0,1527.56,0,0,0,0,1499.9,1435.1,0,870.9,564.20000000000005,64.8,0,0,0,0,64.8,0,0,0,0,0,0,0,0,0,0,0,0,0,0,0,0,0,3027.46,0,0,0,0,0.03,2.46,0,2.27,0.66,1.62,2.4500000000000002,0,0,0,52,3,12,1,0,0,0,0,0,0,0,0,1,0.4,0,0,0,0,0,0,0,0,0,0,0,0,null,null,null,null,null,null,null,0,{"$f":"+INDEX($F2349:$DJ2349,1,Sheet3!$C$1)","v":0},{"$f":"+IF(Sheet3!$C$1=1,IF(DN2349<3,0,1),1)","v":1}]
[1,3,"16J",6,2,2,27342.779852073774,6.5200000000000005,0,0,7.5200000000000005,4.0599999999999996,0,0,0,0.2,0,6.3199999999999994,0,0,4.05,7.0500000000000007,0,0,0,548.96,0,0,0,0,0,0,0,548.96,0,548.96,0,0,0,0,1609.1,1609.1,0,0,1609.1,0,0,0,0,0,0,0,0,0,0,0,0,0,0,0,0,0,0,0,0,0,0,0,2158.06,0,0,0,0,0,0.2,0,5.55,0.55000000000000004,0.22,1,0,0,0,13,2,10,2,0,0,0,0,0,0,0,0,0,0,0,0,0,0,0,0,0,0,0,0,0,0,null,null,null,null,null,null,null,0,{"$f":"+INDEX($F2366:$DJ2366,1,Sheet3!$C$1)","v":0},{"$f":"+IF(Sheet3!$C$1=1,IF(DN2366<3,0,1),1)","v":1}]
[1,3,"170","10_1",2,1,8440.0533882036962,3.19,0,0,3.19,0,0,0,0,3.19,0,0,0,0,8.4,8.4,0,0,0,501.23,0,0,0,0,0,0,0,501.23,0,501.23,0,0,0,0,0,0,0,0,0,0,null,null,null,null,null,null,null,null,null,null,null,null,null,null,null,null,null,null,null,null,null,null,501.23,0,0,0,0,0,3.19,0,0,0,0,0,0,0,8,18,2,3,1,0,0,0,0,0,0,0,0,0,0,0,0,0,0,0,0,0,0,0,0,0,0,null,null,null,null,null,null,null,0,{"$f":"+INDEX($F2396:$DJ2396,1,Sheet3!$C$1)","v":0},{"$f":"+IF(Sheet3!$C$1=1,IF(DN2396<3,0,1),1)","v":1}]
[1,3,"184",6,2,3,40516.323565285049,10.01,0,0,10.02,1.58,0,0,0,6.34,0,2.42,1.25,1.25,14.85,14.85,0,0,0,2171.9900000000002,0,0,0,0,0,0,0,2171.9900000000002,0,2171.9900000000002,0,0,0,0,1235.1500000000001,1235.1500000000001,0,1235.1500000000001,0,0,0,0,0,0,0,0,0,0,0,0,0,0,0,0,0,0,0,0,0,0,0,0,3407.1400000000003,0,0,0,0,0,6.34,0,2.0499999999999998,0.13,0.24,1.26,0,0,0,91,8,0,0,0,0,0,0,0,0,0,0,0,0,0,0,0,0,0,0,0,0,0,0,0,0,null,null,null,null,null,null,null,0,{"$f":"+INDEX($F2433:$DJ2433,1,Sheet3!$C$1)","v":0},{"$f":"+IF(Sheet3!$C$1=1,IF(DN2433<3,0,1),1)","v":1}]
[1,3,"185",11,2,47,411459.7210859519,133.43,0,0,136.31,1.3,2.2400000000000002,0,0,75.25,0,4.7,51.24,51.24,669.75,669.75,0,0.89,0,96437.780000000013,0,0,0,0,0,0,0,96437.780000000013,625.99,95811.790000000023,0,0,0,0,4829.49,4685.3099999999995,0,4685.3099999999995,0,144.18,0,0,0,0,144.18,0,0,0,0,0,0,0,0,0,0,0,0,0,0,0,0,0,101267.27,2.2000000000000002,0,0,0,0.04,75.25,0,0.97,0.24,3.25,54.12,0,8,7,2393,207,1673,108,0,0,0,0,0,0,0,0,1,0.89,0,0,0,0,0,0,0,0,0,0,0,0,null,null,null,null,null,null,null,0,{"$f":"+INDEX($F2473:$DJ2473,1,Sheet3!$C$1)","v":0},{"$f":"+IF(Sheet3!$C$1=1,IF(DN2473<3,0,1),1)","v":1}]
[1,3,"186",12,1,17,46224.554294429043,52.019999999999996,0,0,52.48,0.26,0.34,0,0,12.38,0,31.32,7.98,7.9799999999999995,44.400000000000006,44.400000000000006,0,26.720000000000002,0,6345.5300000000007,0,0,0,0,0,0,0,6345.5300000000007,0,6345.5300000000007,0,0,0,0,10169.359999999997,6171.98,0,6171.98,0,3997.38,0,0,0,0,3901.8,0,0,0,0,0,0,0,0,0,0,0,0,0,0,0,0,95.58,16514.89,0.15,0,0,0,0.19,12.38,0,1.78,1.74,26.88,8.44,0,0,0,265,26,4,1,0,0,0,0,0,0,0,0,13,24.65,0,0,0,0,0,0,0,0,0,0,0,0,null,null,null,null,null,null,null,0,{"$f":"+INDEX($F2500:$DJ2500,1,Sheet3!$C$1)","v":0},{"$f":"+IF(Sheet3!$C$1=1,IF(DN2500<3,0,1),1)","v":1}]
[1,4,"111","10_2",2,20,162186.8153575398,123.00500000000001,4.7300000000000004,828.08,222.43000000000006,15.71,1.07,0,0,17.05,0,0.11,200.84,189.93,100.75,106.75,8.2800000000000011,97.01,213.63000000000002,0,0,0,0,0,0,0,0,0,0,0,0,0,0,0,45511.22,25085.499999999996,0,0,25085.499999999996,20425.719999999998,0,14049.32,0,0,0,0,0,0,0,0,0,391.2,395.2,0,0,1050,0,0,4540,0,0,0,45511.22,0,0.79,0,0,0.28000000000000003,17.05,0,0,0.88,0.7,202.57,0,67,55,10,1,2,0,0,0,0,0,3,76.64,0,0,0,0,0,0,0,0,0,0,2,2.08,0,0,3,53.94,null,null,null,null,null,null,null,0,{"$f":"+INDEX($F2549:$DJ2549,1,Sheet3!$C$1)","v":0},{"$f":"+IF(Sheet3!$C$1=1,IF(DN2549<3,0,1),1)","v":1}]
[1,4,"112","1_1",2,2,14007.187140348207,9.86,1.1599999999999999,194.35,9.86,9.1300000000000008,3.61,0,0,4.2300000000000004,0,1.22,0.8,0,0,0,1.5000000000000002,0,0,0,0,0,0,0,0,0,0,0,0,0,0,0,0,0,1646.4,1646.4,0,0,1646.4,0,0,0,0,0,0,0,0,0,0,0,0,0,0,0,0,0,0,0,0,0,0,0,1646.4,0,2.71,0,0,0.17,4.2300000000000004,0,0.16,0.3,0.76,0.8,0,0,0,0,0,0,0,0,0,0,0,0,0,0,0,0,0,0,0,0,0,0,0,0,0,0,0,0,0,null,null,null,null,null,null,null,{"$f":"+DN2563*DO2563","v":0},{"$f":"+INDEX($F2563:$DJ2563,1,Sheet3!$C$1)","v":0},{"$f":"+IF(Sheet3!$C$1=1,IF(DN2563<3,0,1),1)","v":1}]
[1,4,"112","10_15",2,3,27235.799390047912,1.1100000000000001,0,0,1.1100000000000001,1.1100000000000001,1.1100000000000001,0,0,0,0,0,0,0,31.599999999999998,31.599999999999998,0,0,0,0,0,0,0,0,0,0,0,0,0,0,0,0,0,0,0,0,0,0,0,0,null,null,null,null,null,null,null,null,null,null,null,null,null,null,null,null,null,null,null,null,null,null,0,0,1.07,0,0,0.04,0,0,0,0,0,0,3,12,28,0,0,0,0,0,0,0,0,0,0,0,0,0,0,0,0,0,0,0,0,0,0,0,0,0,0,null,null,null,null,null,null,null,0,{"$f":"+INDEX($F2584:$DJ2584,1,Sheet3!$C$1)","v":0},{"$f":"+IF(Sheet3!$C$1=1,IF(DN2584<3,0,1),1)","v":1}]
[1,4,"11A",5,1,2,5670.3152643777012,2.6799999999999997,0,0,2.6799999999999997,1.1299999999999999,0.02,0,0,0.06,0,2.5999999999999996,0,0,0,0,0,0,0,0,0,0,0,0,0,0,0,0,0,0,0,0,0,0,681.2,681.2,0,0,681.2,0,0,0,0,0,0,0,0,0,0,0,0,0,0,0,0,0,0,0,0,0,0,0,681.2,0,0,0,0,0.02,0.06,0,0,2.31,0.09,0,0,0,0,0,0,0,0,0,0,0,0,0,0,0,0,0,0,0,0,0,0,0,0,0,0,0,0,0,0,null,null,null,null,null,null,null,0,{"$f":"+INDEX($F2640:$DJ2640,1,Sheet3!$C$1)","v":0},{"$f":"+IF(Sheet3!$C$1=1,IF(DN2640<3,0,1),1)","v":1}]
[1,4,"11A","10_1",1,1,597.91418620116781,0.66,0.61,62.67,0.66,0.49,0,0,0,7.0000000000000007E-2,0,0.05,0.54,0.54,1,1,0.62,0,0,0,0,0,0,0,0,0,0,0,0,0,0,0,0,0,0,0,0,0,0,0,null,null,null,null,null,null,null,null,null,null,null,null,null,null,null,null,null,null,null,null,null,null,0,0,0,0,0,0,7.0000000000000007E-2,0,0,0.01,0,0.54,0,1,0,0,0,0,0,0,0,0,0,0,0,0,0,0,0,0,0,0,0,0,0,0,0,0,0,0,0,null,null,null,null,null,null,null,0,{"$f":"+INDEX($F2651:$DJ2651,1,Sheet3!$C$1)","v":0},{"$f":"+IF(Sheet3!$C$1=1,IF(DN2651<3,0,1),1)","v":1}]
[1,4,"11B",13,3,2,80202.416829267866,128.92000000000002,0,0,261.55,0,0,0,0,0,0,0,249.66,0,0,0,0,4.09,0,0,0,0,0,0,0,0,0,0,0,0,0,0,0,0,1649.68,987.1,0,0,987.1,662.58,0,0,0,0,662.58,0,0,0,0,0,0,0,0,0,0,0,0,0,0,0,0,0,1649.68,0,0,0,0,0,0,0,4.09,0,0,257.45999999999998,0,0,0,0,0,0,0,0,0,0,0,0,0,0,0,1,4.09,0,0,0,0,0,0,0,0,0,0,0,0,null,null,null,null,null,null,null,0,{"$f":"+INDEX($F2700:$DJ2700,1,Sheet3!$C$1)","v":0},{"$f":"+IF(Sheet3!$C$1=1,IF(DN2700<3,0,1),1)","v":1}]
[1,4,"11C",12,2,3,22419.82414734727,13.02,2.0499999999999998,134.04,13.23,8.35,0.48,0,0,2.04,0,3.0700000000000003,7.43,1.82,11.4,15.399999999999999,3.11,2.67,0,0,0,0,0,0,0,0,0,0,0,0,0,0,0,0,1881.6000000000001,1736.4,0,0,1736.4,145.19999999999999,0,0,0,0,0,113.4,0,0,0,0,0,0,0,0,0,0,0,0,0,0,0,31.8,1881.6000000000001,0,0,0,0,0.48,2.04,0,1.1399999999999999,1.18,0.32,7.64,0,0,0,43,8,14,11,0,0,0,0,0,0,0,0,0,0,0,0,1,1.08,0,0,0,0,0,0,0,0,null,null,null,null,null,null,null,0,{"$f":"+INDEX($F2730:$DJ2730,1,Sheet3!$C$1)","v":0},{"$f":"+IF(Sheet3!$C$1=1,IF(DN2730<3,0,1),1)","v":1}]
[1,4,"11D",12,1,52,98290.666774734695,106.61500000000001,8.5499999999999989,1053.4499999999998,167.57000000000002,17.36,11.47,0,0,21.26,0,19.770000000000003,81.14,16.57,27.349999999999998,57.349999999999987,20.490000000000002,2.9400000000000004,96.39,0,0,0,0,0,0,0,0,0,0,0,0,0,0,0,25863.819999999996,25420.899999999998,0,0,25420.899999999998,442.92,0,0,0,0,325.62,0,0,0,0,0,0,0,74.099999999999994,43.2,0,0,0,0,0,0,0,0,25863.819999999996,4.3099999999999996,2.9,0,0,4.17,21.26,0,11.57,6.09,8.1,106.99,0,1,7,93,16,28,12,0,0,0,0,0,0,0,0,1,2.0099999999999998,0,0,0,0,1,0.54,1,0.39,0,0,0,0,null,null,null,null,null,null,null,0,{"$f":"+INDEX($F2767:$DJ2767,1,Sheet3!$C$1)","v":0},{"$f":"+IF(Sheet3!$C$1=1,IF(DN2767<3,0,1),1)","v":1}]
[1,4,"11E",5,1,21,32762.83344781393,42.82,1.22,123.02,44.6,0.09,1.1399999999999999,0,0,1.24,0.27,38.61,1.56,0,0,0,1.1600000000000001,11.42,0,0,0,0,0,0,0,0,0,0,0,0,0,0,0,0,10419.18,9705.65,0,0,9705.65,713.52999999999986,0,0,0,206.25,460.08,0,0,0,0,0,0,0,0,0,0,0,0,0,0,0,0,47.2,10419.18,0.7,0,0,0.35,0.09,1.24,0.27,0.57999999999999996,29.1,7.4,3.34,0,0,0,0,0,0,0,0,0,0,0,0,0,0,0,4,2.84,0,0,0,0,0,0,0,0,0,0,0,0,null,null,null,null,null,null,null,0,{"$f":"+INDEX($F2784:$DJ2784,1,Sheet3!$C$1)","v":0},{"$f":"+IF(Sheet3!$C$1=1,IF(DN2784<3,0,1),1)","v":1}]
[1,4,"150",3,3,1,65785.86,22.68,0,0,35.57,0,11.28,0,0,0,2.06,0.17,9.17,0,0,0,0,0,0,0,0,0,0,0,0,0,0,0,0,0,0,0,0,0,2487.4,2487.4,0,0,2487.4,0,0,0,0,0,0,0,0,0,0,0,0,0,0,0,0,0,0,0,0,0,0,0,2487.4,3.81,0,0,5.53,0,0,2.06,0,0,0.17,22.06,0,0,0,0,0,0,0,0,0,0,0,0,0,0,0,0,0,0,0,0,0,0,0,0,0,0,0,0,0,null,null,null,null,null,null,null,0,{"$f":"+INDEX($F2816:$DJ2816,1,Sheet3!$C$1)","v":0},{"$f":"+IF(Sheet3!$C$1=1,IF(DN2816<3,0,1),1)","v":1}]
[1,4,"16B",3,3,1,33569.084363605136,3.59,3.1,202.7,3.64,2.99,3.59,0,0,0,0,0,0,0,0,0,3.59,0,0,0,0,0,0,0,0,0,0,0,0,0,0,0,0,0,0,0,0,0,0,0,null,null,null,null,null,null,null,null,null,null,null,null,null,null,null,null,null,null,null,null,null,null,0,0,0,0,0,3.59,0,0,0,0,0,0.05,0,0,0,0,0,0,0,0,0,0,0,0,0,0,0,0,0,0,0,0,0,0,0,0,0,0,0,0,0,null,null,null,null,null,null,null,0,{"$f":"+INDEX($F2851:$DJ2851,1,Sheet3!$C$1)","v":0},{"$f":"+IF(Sheet3!$C$1=1,IF(DN2851<3,0,1),1)","v":1}]
[1,4,"16D",8,2,6,56298.492637533811,19.18,2.4500000000000002,435.24,19.82,6.16,4.8600000000000003,0,0,1.29,0.73,11.77,0.53,0,0,0.5,2.08,5.1099999999999994,0,0,0,0,0,0,0,0,0,0,0,0,0,0,0,0,4177.67,2022.5,0,0,2022.5,2155.17,0,0,0,0,0,0,0,0,0,2155.17,0,0,0,0,0,0,0,0,0,0,0,0,4177.67,0,2.36,0,0,2.21,1.29,0.73,5.8,5.25,0.37,1.17,0,0,0,0,0,0,0,2,5.1100000000000003,0,0,0,0,0,0,0,0,0,0,0,0,0,0,0,0,0,0,0,0,null,null,null,null,null,null,null,0,{"$f":"+INDEX($F2893:$DJ2893,1,Sheet3!$C$1)","v":0},{"$f":"+IF(Sheet3!$C$1=1,IF(DN2893<3,0,1),1)","v":1}]
[1,4,"16E",5,3,1,32890.650111673931,20.12,0,0,20.12,0,0,0,0,0,0.05,20.07,0,0,0,0,0,0,0,0,0,0,0,0,0,0,0,0,0,0,0,0,0,0,2714.2,2714.2,0,0,2714.2,0,0,0,0,0,0,0,0,0,0,0,0,0,0,0,0,0,0,0,0,0,0,0,2714.2,0,0,0,0,0,0,0.05,0,18.27,0.04,0,0,0,0,0,0,0,0,0,0,0,0,0,0,0,0,0,0,0,0,0,0,0,0,0,0,0,0,0,0,null,null,null,null,null,null,null,0,{"$f":"+INDEX($F2918:$DJ2918,1,Sheet3!$C$1)","v":0},{"$f":"+IF(Sheet3!$C$1=1,IF(DN2918<3,0,1),1)","v":1}]
[1,4,"16F",12,2,4,29455.972311831814,17.95,0,0,19.21,0,3.04,0,0,5.88,0,8.5300000000000011,0.5,0.5,19.899999999999999,25.4,5.4499999999999993,1.28,0,0,0,0,0,0,0,0,0,0,0,0,0,0,0,0,1591.41,1384.05,1384.05,0,0,207.36,0,0,0,0,207.36,0,0,0,0,0,0,0,0,0,0,0,0,0,0,0,0,0,1591.41,2.4700000000000002,0.38,0,0,0.19,5.88,0,0.7,0,7.46,1.76,0,7,17,16,2,0,0,0,0,0,0,0,0,0,0,1,1.28,0,0,0,0,0,0,0,0,0,0,0,0,null,null,null,null,null,null,null,0,{"$f":"+INDEX($F2967:$DJ2967,1,Sheet3!$C$1)","v":0},{"$f":"+IF(Sheet3!$C$1=1,IF(DN2967<3,0,1),1)","v":1}]
[1,4,"16G",5,2,56,525538.44441050233,317.98999999999995,2.35,153.66,333.23999999999984,21.14,6.72,0,0,4.42,4.5999999999999996,300.90999999999997,1.34,0,0.9,0.9,6.9499999999999993,97.26,0,0,0,0,0,0,0,0,0,0,0,0,0,0,0,0,87618.219999999987,55332.610000000008,0,9312.06,46020.55000000001,32285.61,10078.17,4524.79,0,0,0,4015.2,0,0,0,13667.45,0,0,0,0,0,0,0,0,0,0,0,0,87618.219999999987,2.87,1.97,0,0,1.88,4.42,4.5999999999999996,2.57,263.39999999999998,19.170000000000002,16.59,0,0,0,0,0,5,1,9,56.4,2,15.23,1,8.3000000000000007,0,0,0,0,0,0,6,38.24,0,0,0,0,0,0,0,0,null,null,null,null,null,null,null,0,{"$f":"+INDEX($F2983:$DJ2983,1,Sheet3!$C$1)","v":0},{"$f":"+IF(Sheet3!$C$1=1,IF(DN2983<3,0,1),1)","v":1}]
[1,4,"16H",12,2,4,25068.189083743124,19.97,0,0,21.89,0.53,0.68,0,0,6.4,2.1800000000000002,10.62,0.09,0.09,9.4499999999999993,9.4499999999999993,0,3.3800000000000003,0,0,0,0,0,0,0,0,0,0,0,0,0,0,0,0,2565.46,2017.9,0,2017.9,0,547.55999999999995,0,0,0,0,547.55999999999995,0,0,0,0,0,0,0,0,0,0,0,0,0,0,0,0,0,2565.46,0,0.15,0,0,0.53,6.4,2.1800000000000002,0.37,0.52,9.09,2.0099999999999998,0,0,0,39,5,17,2,0,0,0,0,0,0,0,0,1,3.38,0,0,0,0,0,0,0,0,0,0,0,0,null,null,null,null,null,null,null,0,{"$f":"+INDEX($F3034:$DJ3034,1,Sheet3!$C$1)","v":0},{"$f":"+IF(Sheet3!$C$1=1,IF(DN3034<3,0,1),1)","v":1}]
[1,4,"16I","10_15",2,4,30024.838687082494,5.8000000000000007,0,0,6.24,0.42,0.23,0,0,2.0499999999999998,0,3.2,0.32,0.32,31.05,31.05,0,1.9300000000000002,0,0,0,0,0,0,0,0,0,0,0,0,0,0,0,0,722.16,409.5,409.5,0,0,312.65999999999997,0,0,0,0,312.66000000000003,0,0,0,0,0,0,0,0,0,0,0,0,0,0,0,0,0,722.16,0.19,0,0,0,0.04,2.0499999999999998,0,0,0,2.71,0.76,1,8,31,11,3,3,2,0,0,0,0,0,0,0,0,2,1.93,0,0,0,0,0,0,0,0,0,0,0,0,null,null,null,null,null,null,null,0,{"$f":"+INDEX($F3060:$DJ3060,1,Sheet3!$C$1)","v":0},{"$f":"+IF(Sheet3!$C$1=1,IF(DN3060<3,0,1),1)","v":1}]
[1,4,"16I",13,2,11,101818.71791383129,561.30000000000007,11.51,767.25,606.79,0,0,0,0,86.99,9.4700000000000006,29.37,435.47,0,0,0,75.039999999999992,11.39,0,0,0,0,0,0,0,0,0,0,0,0,0,0,0,0,14424.98,12980.779999999999,0,12980.779999999999,0,1444.2,0,0,0,0,1444.2,0,0,0,0,0,0,0,0,0,0,0,0,0,0,0,0,0,14424.98,0,0,0,0,0,86.99,9.4700000000000006,0,0.18,29.02,480.96,0,0,0,0,0,0,0,0,0,0,0,0,0,0,0,3,8.94,0,0,0,0,0,0,0,0,0,0,0,0,null,null,null,null,null,null,null,0,{"$f":"+INDEX($F3069:$DJ3069,1,Sheet3!$C$1)","v":0},{"$f":"+IF(Sheet3!$C$1=1,IF(DN3069<3,0,1),1)","v":1}]
[1,4,"170","1_1",4,2,298124.64,4.84,0,0,4.84,4.84,4.84,0,0,0,0,0,0,0,0,0,0,4.84,0,0,0,0,0,0,0,0,0,0,0,0,0,0,0,0,2904,0,0,0,0,2904,0,2904,0,0,0,0,0,0,0,0,0,0,0,0,0,0,0,0,0,0,0,0,2904,0,0,0,0,4.84,0,0,0,0,0,0,0,0,0,0,0,0,0,0,0,0,0,2,4.84,0,0,0,0,0,0,0,0,0,0,0,0,0,0,0,0,null,null,null,null,null,null,null,0,{"$f":"+INDEX($F3118:$DJ3118,1,Sheet3!$C$1)","v":0},{"$f":"+IF(Sheet3!$C$1=1,IF(DN3118<3,0,1),1)","v":1}]
[1,4,"170",12,2,2,10746.929066223554,4.7200000000000006,0,0,14.83,0.65,0.08,0,0,0.63,0,3.23,0.78,0.78,5.85,5.85,0,0,0,0,0,0,0,0,0,0,0,0,0,0,0,0,0,0,0,0,0,0,0,0,null,null,null,null,null,null,null,null,null,null,null,null,null,null,null,null,null,null,null,null,null,null,0,0,0,0,0,0.08,0.63,0,0,0,3.23,10.89,0,0,0,15,3,20,1,0,0,0,0,0,0,0,0,0,0,0,0,0,0,0,0,0,0,0,0,0,0,null,null,null,null,null,null,null,0,{"$f":"+INDEX($F3146:$DJ3146,1,Sheet3!$C$1)","v":0},{"$f":"+IF(Sheet3!$C$1=1,IF(DN3146<3,0,1),1)","v":1}]
[1,4,"184",0,1,2,239.7,0,0,0,0,0,0,0,0,0,0,0,0,0,0,0.23799999999999999,0,0,0,0,0,0,0,0,0,0,0,0,0,0,0,0,0,0,47.6,0,0,0,0,47.6,0,0,0,0,0,0,0,0,0,0,0,0,0,0,0,0,0,0,47.6,0,0,0,47.6,0,0,0,0,0,0,0,0,0,0,0,0,0,0,0,0,0,0,0,0,0,0,0,0,0,0,0,0,0,0,0,0,0,0,0,0,0,0,0,0,null,null,null,null,null,null,null,0,{"$f":"+INDEX($F3185:$DJ3185,1,Sheet3!$C$1)","v":0},{"$f":"+IF(Sheet3!$C$1=1,IF(DN3185<3,0,1),1)","v":1}]
[1,4,"185","1_1",4,1,136714.65031783859,65.63,0,0,65.63,64.38,64.38,0,0,0.27,0,0,0.98,0.98,1.8,1.8,0,63.96,0,0,0,0,0,0,0,0,0,0,0,0,0,0,0,0,23302.15,2147.4299999999998,0,2147.4299999999998,0,21154.720000000001,0,0,0,0,0,0,0,0,0,12979.08,0,0,0,0,0,0,0,0,0,0,8175.64,0,23302.15,0,64.38,0,0,0,0.27,0,0,0,0,0.98,0,0,0,12,0,0,0,1,63.96,0,0,0,0,1,63.96,0,0,0,0,0,0,0,0,0,0,0,0,0,0,null,null,null,null,null,null,null,0,{"$f":"+INDEX($F3227:$DJ3227,1,Sheet3!$C$1)","v":0},{"$f":"+IF(Sheet3!$C$1=1,IF(DN3227<3,0,1),1)","v":1}]
[1,4,"185","10_15",1,3,7535.2293059545082,0,0,0,0,0,0,0,0,0,0,0,0,0,22.2,22.2,0,0,0,0,0,0,0,0,0,0,0,0,0,0,0,0,0,0,0,0,0,0,0,0,null,null,null,null,null,null,null,null,null,null,null,null,null,null,null,null,null,null,null,null,null,null,0,0,0,0,0,0,0,0,0,0,0,0,0,19,4,0,0,2,2,0,0,0,0,0,0,0,0,0,0,0,0,0,0,0,0,0,0,0,0,0,0,null,null,null,null,null,null,null,0,{"$f":"+INDEX($F3252:$DJ3252,1,Sheet3!$C$1)","v":0},{"$f":"+IF(Sheet3!$C$1=1,IF(DN3252<3,0,1),1)","v":1}]
[1,4,"186",4,5,1,1668098.7830102593,45.69,0,0,45.69,45.62,30.2,0,0,0,0,15.49,0,0,0,0,0,0,0,0,0,0,0,0,0,0,0,0,0,0,0,0,0,0,1882.1,1882.1,0,1882.1,0,0,0,0,0,0,0,0,0,0,0,0,0,0,0,0,0,0,0,0,0,0,0,0,1882.1,0,0,0,0,30.2,0,0,15.42,0,0,0,0,0,0,0,0,0,0,0,0,0,0,0,0,0,0,0,0,0,0,0,0,0,0,0,0,0,0,0,0,null,null,null,null,null,null,null,0,{"$f":"+INDEX($F3269:$DJ3269,1,Sheet3!$C$1)","v":0},{"$f":"+IF(Sheet3!$C$1=1,IF(DN3269<3,0,1),1)","v":1}]
[1,4,"187",5,3,30,1343107.0855859071,642.74,0,0,644.82000000000005,240.95,3.5,0,0,51.03,5.65,575.1,7.46,0,0,0,0,137.02000000000001,0,0,0,0,0,0,0,0,0,0,0,0,0,0,0,0,72709.599999999991,37080.089999999997,0,37080.089999999997,0,35629.509999999995,10985.12,0,0,0,2767.12,2004.08,0,0,0,19873.189999999999,0,0,0,0,0,0,0,0,0,0,0,0,72709.599999999991,0,0,0,3.41,0.09,51.03,5.65,5.0599999999999996,513.53,32.99,9.5399999999999991,0,0,0,0,0,0,0,6,95.65,1,24.32,0,0,0,0,8,17.05,0,0,1,20.72,0,0,0,0,0,0,0,0,null,null,null,null,null,null,null,0,{"$f":"+INDEX($F3313:$DJ3313,1,Sheet3!$C$1)","v":0},{"$f":"+IF(Sheet3!$C$1=1,IF(DN3313<3,0,1),1)","v":1}]
[1,4,"187","10_2",3,1,40558.038137610056,120.07,0,0,120.07,17.89,2.19,0,0,20.63,0,4.07,93.18,93.18,31.8,31.8,120.07,120.07,0,0,0,0,0,0,0,0,0,0,0,0,0,0,0,0,27642.46,3212.66,0,3212.66,0,24429.8,18767.36,0,0,0,562.14,0,0,0,0,0,0,0,0,0,1030.8599999999999,0,0,0,0,0,0,4069.44,27642.46,0,0,0,2.19,0,20.63,0,0.27,0,3.47,93.18,0,2,45,0,0,0,0,0,0,1,120.07,0,0,0,0,1,3.47,0,0,0,0,0,0,0,0,1,23.97,0,0,null,null,null,null,null,null,null,1030.8599999999999,{"$f":"+INDEX($F3336:$DJ3336,1,Sheet3!$C$1)","v":1030.8599999999999},{"$f":"+IF(Sheet3!$C$1=1,IF(DN3336<3,0,1),1)","v":1}]
[2,1,"111","10_2",2,13,152759.67118360085,116.325,18.8,1364.2199999999998,208.82,21.36,2.48,0,0,15.37,0,0,190.33,190.32999999999998,81.3,83.3,132.04999999999998,0.56000000000000005,208.57,10991.369999999999,10991.369999999999,10991.369999999999,0,0,0,0,0,0,0,0,0,0,0,0,24591.799999999996,22510.999999999996,0,0,22510.999999999996,2080.8000000000002,0,0,0,0,0,0,0,0,0,0,0,134.4,106.4,0,0,0,0,0,1840,0,0,0,35583.17,0.33,1.74,0,0,0.41,15.37,0,0,0.37,0,190.58,1,40,60,13,9,2,10,0,0,0,0,0,0,0,0,0,0,0,0,0,0,0,0,1,0.56000000000000005,0,0,0,0,null,null,null,null,null,null,null,0,{"$f":"+INDEX($F3361:$DJ3361,1,Sheet3!$C$1)","v":0},{"$f":"+IF(Sheet3!$C$1=1,IF(DN3361<3,0,1),1)","v":1}]
[2,1,"119","10_1",1,18,46336.464186789628,25.66,19.14,2193.6,34.160000000000004,19.46,3.37,0,0,15.13,0,0.71,9.2100000000000009,9.2100000000000009,40.650000000000006,40.650000000000006,28.630000000000003,2.11,7.77,15215.92,15215.92,15215.92,0,0,0,0,0,0,0,0,0,0,0,0,5846.4000000000005,5045.5,0,0,5045.5,800.9,0,0,0,0,0,0,0,0,0,0,0,0,400.9,0,0,0,0,0,400,0,0,0,21062.320000000003,0,2.96,0,0.03,0.38,15.13,0,0.25,0.52,0,14.74,1,25,27,3,0,0,0,0,0,0,0,0,0,0,0,0,0,0,0,0,0,0,0,3,2.11,0,0,0,0,null,null,null,null,null,null,null,0,{"$f":"+INDEX($F3403:$DJ3403,1,Sheet3!$C$1)","v":0},{"$f":"+IF(Sheet3!$C$1=1,IF(DN3403<3,0,1),1)","v":1}]
[2,1,"11B",7,2,1,1725.9781819187676,5.41,4.6500000000000004,304.06,5.41,0,0,0,0,0,0.16,5.25,0,0,0,0,5.4099999999999993,0,0,845.34,845.34,845.34,0,0,0,0,0,0,0,0,0,0,0,0,1207.5,1207.5,0,0,1207.5,0,0,0,0,0,0,0,0,0,0,0,0,0,0,0,0,0,0,0,0,0,0,0,2052.84,0,0,0,0,0,0,0.16,0.47,0,4.68,0,0,0,0,0,0,0,0,0,0,0,0,0,0,0,0,0,0,0,0,0,0,0,0,0,0,0,0,0,0,null,null,null,null,null,null,null,0,{"$f":"+INDEX($F3452:$DJ3452,1,Sheet3!$C$1)","v":0},{"$f":"+IF(Sheet3!$C$1=1,IF(DN3452<3,0,1),1)","v":1}]
[2,1,"11C","10_2",1,7,11902.66661583588,10.88,9.6999999999999993,901.54,12.540000000000001,9.3699999999999992,0.88,0,0,3.58,0,0.16999999999999998,6.25,6.25,6.4,6.4,10.88,1.73,0,5917.29,5917.29,5917.29,0,0,0,0,0,0,0,0,0,0,0,0,2958.7,2210,0,0,2210,748.7,0,0,0,0,0,0,0,0,0,0,0,0,328.7,0,0,0,0,0,420,0,0,0,8875.99,0,0.62,0,0,0.26,3.58,0,0.03,0.14000000000000001,0,7.91,0,4,4,0,0,0,0,0,0,0,0,0,0,0,0,0,0,0,0,0,0,0,0,2,1.73,0,0,0,0,null,null,null,null,null,null,null,0,{"$f":"+INDEX($F3480:$DJ3480,1,Sheet3!$C$1)","v":0},{"$f":"+IF(Sheet3!$C$1=1,IF(DN3480<3,0,1),1)","v":1}]
[2,1,"11E","1_1",1,1,438.66329737935598,1.36,0.88,57.54,1.36,1.27,1.27,0,0,0,0,0.09,0,0,0,0,1.36,0,0,845.32,845.32,845.32,0,0,0,0,0,0,0,0,0,0,0,0,353.6,353.6,0,0,353.6,0,0,0,0,0,0,0,0,0,0,0,0,0,0,0,0,0,0,0,0,0,0,0,1198.92,1.27,0,0,0,0,0,0,0.09,0,0,0,0,0,0,0,0,0,0,0,0,0,0,0,0,0,0,0,0,0,0,0,0,0,0,0,0,0,0,0,0,null,null,null,null,null,null,null,0,{"$f":"+INDEX($F3519:$DJ3519,1,Sheet3!$C$1)","v":0},{"$f":"+IF(Sheet3!$C$1=1,IF(DN3519<3,0,1),1)","v":1}]
[2,1,"11E","10_2",2,1,6913.9975875132059,10.27,1.31,85.66,19.190000000000001,0,0,0,0,0.21,0,0,17.84,0,2.2000000000000002,2.2000000000000002,1.3500000000000003,0,19.190000000000001,845.32,845.32,845.32,0,0,0,0,0,0,0,0,0,0,0,0,2271,2131,0,0,2131,140,0,0,0,0,0,0,0,0,0,0,0,0,0,0,0,0,0,0,140,0,0,0,3116.32,0,0,0,0,0,0.21,0,0.12,0,1.02,17.84,0,1,2,0,0,0,0,0,0,0,0,0,0,0,0,0,0,0,0,0,0,0,0,0,0,0,0,0,0,null,null,null,null,null,null,null,0,{"$f":"+INDEX($F3536:$DJ3536,1,Sheet3!$C$1)","v":0},{"$f":"+IF(Sheet3!$C$1=1,IF(DN3536<3,0,1),1)","v":1}]
[2,1,"16B","1_1",1,4,211517.4545378082,10.379999999999999,8.8099999999999987,822.02,12.45,6.38,4.68,0,0,3.92,0.38,0,1.4,0,0,0,10.35,0,0,3381.32,3381.32,3381.32,0,0,0,0,0,0,0,0,0,0,0,0,0,0,0,0,0,0,null,null,null,null,null,null,null,null,null,null,null,null,null,null,null,null,null,null,null,null,null,null,3381.32,0,0,0,0,4.68,3.92,0.38,0,0,0,3.47,0,0,0,0,0,0,0,0,0,0,0,0,0,0,0,0,0,0,0,0,0,0,0,0,0,0,0,0,0,null,null,null,null,null,null,null,0,{"$f":"+INDEX($F3566:$DJ3566,1,Sheet3!$C$1)","v":0},{"$f":"+IF(Sheet3!$C$1=1,IF(DN3566<3,0,1),1)","v":1}]
[2,1,"16D","10_2",1,7,25582.641868035418,15.96,13.14,1081.1199999999999,15.96,7.57,0.77,0,0,14.16,0,0.15,0.88,0.88,8.7999999999999989,9.1,15.96,0,0,5917.2899999999991,5917.2899999999991,5917.2899999999991,0,0,0,0,0,0,0,0,0,0,0,0,822.43000000000006,422.43,0,0,422.43,400,0,0,0,0,0,0,0,0,0,0,0,0,0,0,0,0,0,0,400,0,0,0,6739.7199999999993,0.37,0.26,0,0,0.14000000000000001,14.16,0,0.15,0,0,0.88,0,2,12,0,0,0,0,0,0,0,0,0,0,0,0,0,0,0,0,0,0,0,0,0,0,0,0,0,0,null,null,null,null,null,null,null,0,{"$f":"+INDEX($F3603:$DJ3603,1,Sheet3!$C$1)","v":0},{"$f":"+IF(Sheet3!$C$1=1,IF(DN3603<3,0,1),1)","v":1}]
[2,1,"16F",7,2,3,8409.0188385150632,18.170000000000002,12.44,850.81999999999994,18.170000000000002,0,0.4,0,0,0.47,0,15.53,1.77,1.77,0.75,0.75,18.169999999999998,11.66,0,2535.9900000000002,2535.9900000000002,2535.9900000000002,0,0,0,0,0,0,0,0,0,0,0,0,3813.44,1924.52,1924.52,0,0,1888.92,0,0,0,0,1888.92,0,0,0,0,0,0,0,0,0,0,0,0,0,0,0,0,0,6349.43,0.2,0,0,0.1,0.1,0.47,0,0,0.45,15.07,1.77,0,0,0,5,0,0,0,0,0,0,0,0,0,0,0,3,11.66,0,0,0,0,0,0,0,0,0,0,0,0,null,null,null,null,null,null,null,0,{"$f":"+INDEX($F3647:$DJ3647,1,Sheet3!$C$1)","v":0},{"$f":"+IF(Sheet3!$C$1=1,IF(DN3647<3,0,1),1)","v":1}]
[2,1,"16G",6,2,6,112931.75649264605,40.870000000000005,23.549999999999997,1544.3399999999997,41.320000000000007,23.19,1.42,0,0,0.22,0.11,37.620000000000005,1.5,0.92,2.1,2.1,40.870000000000005,17.579999999999998,0,5071.96,5071.96,5071.96,0,0,0,0,0,0,0,0,0,0,0,0,17944.36,8599.7999999999993,0,0,8599.7999999999993,9344.5600000000013,0,0,0,0,0,0,0,0,0,9344.56,0,0,0,0,0,0,0,0,0,0,0,0,23016.32,0.84,0.28999999999999998,0,0,0.28999999999999998,0.22,0.11,36.04,0.41,0.63,1.95,0,0,0,0,0,14,0,2,17.579999999999998,0,0,0,0,0,0,0,0,0,0,0,0,0,0,0,0,0,0,0,0,null,null,null,null,null,null,null,0,{"$f":"+INDEX($F3670:$DJ3670,1,Sheet3!$C$1)","v":0},{"$f":"+IF(Sheet3!$C$1=1,IF(DN3670<3,0,1),1)","v":1}]
[2,1,"16H","1_1",2,1,3656.1886571510695,6,5.94,388.41,6.04,3.98,3.98,0,0,0,0.18,1.84,0,0,0,0,6,0,0,845.33,845.33,845.33,0,0,0,0,0,0,0,0,0,0,0,0,666.45,666.45,0,666.45,0,0,0,0,0,0,0,0,0,0,0,0,0,0,0,0,0,0,0,0,0,0,0,0,1511.7800000000002,0,3.98,0,0,0,0,0.18,0.1,0.71,0.94,0.04,0,0,0,0,0,0,0,0,0,0,0,0,0,0,0,0,0,0,0,0,0,0,0,0,0,0,0,0,0,null,null,null,null,null,null,null,0,{"$f":"+INDEX($F3687:$DJ3687,1,Sheet3!$C$1)","v":0},{"$f":"+IF(Sheet3!$C$1=1,IF(DN3687<3,0,1),1)","v":1}]
[2,1,"16J","1_2",1,149,132584.57450662125,335.21999999999986,289.44000000000023,22007.99,426.99999999999983,9.64,206.67,0,0,16.690000000000001,34.15,48.26,29.45,0,0,0,334.31999999999988,17.170000000000002,0,125722.82000000005,125722.82000000005,125722.82000000005,0,0,0,0,0,0,0,0,0,0,0,0,73033.069999999992,71175.289999999979,0,408.05,70767.239999999991,1857.78,0,0,0,0,1670.58,0,0,0,0,0,0,0,0,0,0,0,0,0,0,0,0,187.2,198755.88999999998,94.08,105.79,0,3.93,2.38,16.690000000000001,30.56,1.25,5.03,40.54,121.23,0,0,0,0,0,0,0,0,0,0,0,0,0,0,0,19,10.45,0,0,0,0,0,0,0,0,0,0,0,0,null,null,null,null,null,null,null,0,{"$f":"+INDEX($F3733:$DJ3733,1,Sheet3!$C$1)","v":0},{"$f":"+IF(Sheet3!$C$1=1,IF(DN3733<3,0,1),1)","v":1}]
[2,1,"16J",11,2,27,129445.62844610428,252.96999999999994,149.23999999999998,9852.1,344.78999999999996,4.8,10.65,0,0,91.39,10.3,18.48,141.97999999999999,26.55,40.950000000000003,117.95,271.40999999999997,19.159999999999997,39.659999999999997,22676.170000000006,22676.170000000006,22676.170000000006,0,0,0,0,0,0,0,0,0,0,0,0,47442.880000000012,44365.66,0,0,44365.66,3077.22,0,0,0,0,1151.82,0,0,0,0,0,0,0,125.4,0,0,0,0,0,1800,0,0,0,70119.05,7.73,2.54,0,0,0.38,91.39,0.05,1.03,3.42,13.64,213.97,0,0,0,214,11,46,2,0,0,0,0,0,0,0,0,4,7.93,0,0,0,0,0,0,1,0.66,0,0,0,0,null,null,null,null,null,null,null,0,{"$f":"+INDEX($F3754:$DJ3754,1,Sheet3!$C$1)","v":0},{"$f":"+IF(Sheet3!$C$1=1,IF(DN3754<3,0,1),1)","v":1}]
[2,1,"181",4,1,30,169333.1466415418,57.029999999999973,50.8,4195.5600000000004,57.539999999999978,10.27,11.92,0,0,12.68,11.95,13.41,7.07,0,1.35,1.35,57.069999999999979,5.3100000000000005,0,25361.790000000008,25361.790000000008,25361.790000000008,0,0,0,0,0,0,0,0,0,0,0,0,4902.2699999999995,4053.3900000000003,0,3759.59,293.8,848.88,0,0,0,0,848.88,0,0,0,0,0,0,0,0,0,0,0,0,0,0,0,0,0,30264.060000000005,1,0,0,0,10.92,12.68,8.23,1.36,0.28999999999999998,11.16,7.58,0,0,0,8,1,0,0,0,0,0,0,0,0,0,0,4,5.31,0,0,0,0,0,0,0,0,0,0,0,0,null,null,null,null,null,null,null,0,{"$f":"+INDEX($F3781:$DJ3781,1,Sheet3!$C$1)","v":0},{"$f":"+IF(Sheet3!$C$1=1,IF(DN3781<3,0,1),1)","v":1}]
[2,1,"185",3,2,1,41134.363249991067,12.89,3.72,293.61,12.94,3.63,3.32,0,0,2.8,4.3099999999999996,0.92,1.54,0,0,0,12.889999999999997,0,0,845.33,845.33,845.33,0,0,0,0,0,0,0,0,0,0,0,0,917.25,917.25,0,917.25,0,0,0,0,0,0,0,0,0,0,0,0,0,0,0,0,0,0,0,0,0,0,0,0,1762.58,0,0,0,0,3.32,2.8,4.3099999999999996,0.92,0,0,1.59,0,0,0,0,0,0,0,0,0,0,0,0,0,0,0,0,0,0,0,0,0,0,0,0,0,0,0,0,0,null,null,null,null,null,null,null,0,{"$f":"+INDEX($F3821:$DJ3821,1,Sheet3!$C$1)","v":0},{"$f":"+IF(Sheet3!$C$1=1,IF(DN3821<3,0,1),1)","v":1}]
[2,1,"187",6,1,30,243535.2221325167,68.2,66.03,4853.4500000000007,68.33,7.11,2.4500000000000002,0,0,9.06,0.63,40.220000000000006,15.84,0.01,4.05,4.05,68.2,12.19,0,25173.950000000004,25173.950000000004,25173.950000000004,0,0,0,0,0,0,0,0,0,0,0,0,7674.03,5726.7599999999984,0,5726.7599999999984,0,1947.27,0,0,0,0,1947.27,0,0,0,0,0,0,0,0,0,0,0,0,0,0,0,0,0,32847.980000000003,2.2200000000000002,0,0,0.23,0,9.06,0.63,17.38,3.19,19.32,15.97,0,0,0,25,2,0,0,0,0,0,0,0,0,0,0,12,12.19,0,0,0,0,0,0,0,0,0,0,0,0,null,null,null,null,null,null,null,0,{"$f":"+INDEX($F3870:$DJ3870,1,Sheet3!$C$1)","v":0},{"$f":"+IF(Sheet3!$C$1=1,IF(DN3870<3,0,1),1)","v":1}]
[2,2,"111",8,3,2,282213.38130009163,99.490000000000009,87.75,10126.130000000001,101.38,24.78,2.72,0,0,6.11,6.11,83.539999999999992,1.01,0,0,0,99.490000000000038,32.35,0,18045.34,16828.13,0,9674.5499999999993,9674.5499999999993,0,7153.58,1217.21,0,0,0,0,0,0,0,16911.78,7263.4,0,0,7263.4,9648.3799999999992,0,0,0,0,0,2073.5,0,0,0,7574.88,0,0,0,0,0,0,0,0,0,0,0,0,34957.119999999995,0,1.1100000000000001,0,0,1.61,6.11,6.11,12.59,67.83,0,2.9,0,0,0,0,0,0,0,1,29.73,0,0,0,0,0,0,0,0,0,0,1,21.5,0,0,0,0,0,0,0,0,null,null,null,null,null,null,null,0,{"$f":"+INDEX($F3900:$DJ3900,1,Sheet3!$C$1)","v":0},{"$f":"+IF(Sheet3!$C$1=1,IF(DN3900<3,0,1),1)","v":1}]
[2,2,"112",8,1,790,2930585.7479548766,1434.9299999999994,1424.1699999999996,307672.25000000058,1462.57,1043.31,789.08,0,0,313.74,27.2,251.05,56.53,20.590000000000003,273.09999999999991,278.09999999999997,1436.3199999999997,9.81,14.69,696071.86999999976,508587.53000000009,0,291733.28000000009,291733.28000000009,0,216854.25,170621.58999999994,16862.750000000004,14119.650000000007,2743.1000000000004,0,0,0,0,122322.99000000003,116778.54000000002,0,0,116778.54000000002,5544.4500000000007,0,1333.65,0,0,0,252,0,0,0,1042,0,316.8,0,0,0,0,0,0,2600,0,0,0,818394.85999999952,129.54,527.84,0,14.09,116.1,314.39999999999998,27.2,55.03,131.94,6.67,80.19,4,144,143,218,37,19,4,1,3.9,0,0,1,2.19,0,0,0,0,0,0,1,2.4,0,0,0,0,0,0,0,0,null,null,null,null,null,null,null,0,{"$f":"+INDEX($F3937:$DJ3937,1,Sheet3!$C$1)","v":0},{"$f":"+IF(Sheet3!$C$1=1,IF(DN3937<3,0,1),1)","v":1}]
[2,2,"112","10_2",1,103,467833.12187376805,282.35500000000019,279.17,91910.330000000031,362.78,174.27,24.52,0,0,153.65,0.22,7.589999999999999,166.08,166.08000000000004,190.79999999999993,190.79999999999993,335.09999999999991,6.26,198.56,193562.44999999995,150143.25,0,86231.96,86231.96,0,63911.289999999994,32034.729999999985,11384.47,11384.47,0,0,0,0,0,44543.4,38981.000000000015,0,0,38981.000000000015,5562.4,0,0,0,0,0,0,0,0,0,0,0,1502.4,0,0,0,0,0,0,4060,0,0,0,238105.84999999995,0.56999999999999995,18.11,0,1.38,4.46,153.65,0.22,1.79,5.94,0.27,175.17,0,106,151,0,0,3,1,0,0,0,0,0,0,0,0,0,0,0,0,0,0,0,0,0,0,0,0,0,0,null,null,null,null,null,null,null,0,{"$f":"+INDEX($F3948:$DJ3948,1,Sheet3!$C$1)","v":0},{"$f":"+IF(Sheet3!$C$1=1,IF(DN3948<3,0,1),1)","v":1}]
[2,2,"11A","1_2",2,3,13639.715058748516,21.73,17.739999999999998,6268.41,22.23,1.71,21.67,0,0,0,0,0.06,0,0,0,0,21.73,0,0,12283.72,10494.54,0,6037.64,6037.64,0,4456.8999999999996,1789.1799999999998,0,0,0,0,0,0,0,296.39999999999998,296.39999999999998,0,0,296.39999999999998,0,0,0,0,0,0,0,0,0,0,0,0,0,0,0,0,0,0,0,0,0,0,0,12580.119999999999,18.93,2.74,0,0,0,0,0,0.06,0,0,0.5,0,0,0,0,0,0,0,0,0,0,0,0,0,0,0,0,0,0,0,0,0,0,0,0,0,0,0,0,0,null,null,null,null,null,null,null,0,{"$f":"+INDEX($F4004:$DJ4004,1,Sheet3!$C$1)","v":0},{"$f":"+IF(Sheet3!$C$1=1,IF(DN4004<3,0,1),1)","v":1}]
[2,2,"11A","10_15",1,193,2614487.4679531101,402.63000000000005,391.78999999999996,198339.10000000009,462.1700000000003,378.75,76.87,0,0,294.77,1.66,21.319999999999986,8.01,8.009999999999998,2494.0000000000018,2495.9480000000017,402.63000000000005,0,0,421586.19,322622.97000000003,0,185302.37000000002,185302.37000000002,0,137320.59999999998,46278.979999999989,52684.240000000005,51638.289999999994,947.9899999999999,97.96,0,0,0,53002.219999999979,32568.579999999998,0,0,32568.579999999998,20433.64,0,0,0,0,0,0,0,0,0,0,0,0,0,0,0,0,0,0,20433.64,0,0,0,474588.40999999974,8.7200000000000006,54.41,0,0.64,11.95,295.92,1.66,4.5599999999999996,14.11,0.81,67.55,64,569,3164,47,10,22,1,0,0,0,0,0,0,0,0,0,0,0,0,0,0,0,0,0,0,0,0,0,0,null,null,null,null,null,null,null,0,{"$f":"+INDEX($F4021:$DJ4021,1,Sheet3!$C$1)","v":0},{"$f":"+IF(Sheet3!$C$1=1,IF(DN4021<3,0,1),1)","v":1}]
[2,2,"11B","10_15",3,2,79675.597990121139,59.15,59.31,8757.5299999999988,69.449999999999989,24.28,11.97,0,0,31.37,1.62,1.56,12.63,12.629999999999999,140.4,140.4,59.149999999999991,15,0,29162.9,14464.900000000001,0,8293.27,8293.27,0,6171.63,1212.6199999999999,13485.380000000001,13485.380000000001,0,0,0,0,0,8161.35,6550.4,0,0,6550.4,1610.95,0,0,0,0,0,0,0,0,0,0,0,0,171,137.6,0,1302.3499999999999,0,0,0,0,0,0,37324.25,11.2,0,0,0,0.77,31.37,1.62,0,1.48,0,22.93,0,89,94,0,0,0,0,0,0,0,0,0,0,0,0,0,0,0,0,0,0,1,1.72,1,0.9,0,0,2,15,null,null,null,null,null,null,null,0,{"$f":"+INDEX($F4067:$DJ4067,1,Sheet3!$C$1)","v":0},{"$f":"+IF(Sheet3!$C$1=1,IF(DN4067<3,0,1),1)","v":1}]
[2,2,"11C","1_2",2,6,147913.53580395938,40.61,37.28,7266.38,43.099999999999994,7.12,18.690000000000001,0,0,4.3099999999999996,3.85,4.22,9.5399999999999991,0,0,0,40.1,5.2099999999999991,0,15757.979999999998,12175.05,0,6993.09,6993.09,0,5181.96,3582.93,0,0,0,0,0,0,0,4826.75,2827,0,0,2827,1999.75,0,924,0,0,0,0,0,0,0,1075.75,0,0,0,0,0,0,0,0,0,0,0,0,20584.73,9.06,0.57999999999999996,0,0.11,1.77,4.3099999999999996,0,0,4.0599999999999996,0,12.03,0,0,0,0,0,0,0,1,3.67,0,0,1,1.54,0,0,0,0,0,0,0,0,0,0,0,0,0,0,0,0,null,null,null,null,null,null,null,0,{"$f":"+INDEX($F4088:$DJ4088,1,Sheet3!$C$1)","v":0},{"$f":"+IF(Sheet3!$C$1=1,IF(DN4088<3,0,1),1)","v":1}]
[2,2,"11C",11,2,45,560158.12501913053,448.11500000000007,264.73000000000013,36819.460000000014,732.32,176.79,18.82,0,0,114.94,1.49,3.49,540.19000000000005,183.79,284.54999999999995,358.5499999999999,607.59000000000015,95.789999999999992,514.91000000000008,116492.81999999999,60833.38,0,34931.98000000001,34931.98000000001,0,25901.4,21720.930000000008,33938.51,7049.04,26889.469999999998,0,0,0,0,81388.250000000015,68841.01999999999,0,0,68841.01999999999,12547.23,0,0,0,0,0,0,0,443.1,0,0,0,0,5383.93,0,0,700,0,0,6020.2,0,0,0,197881.07000000004,5.08,10.69,0,0.19,2.86,114.94,1.49,0.16,3.7,3.29,588.77,0,70,34,839,58,390,18,0,0,0,0,0,0,0,0,0,0,0,0,0,0,0,0,8,27.95,0,0,2,43.36,null,null,null,null,null,null,null,0,{"$f":"+INDEX($F4115:$DJ4115,1,Sheet3!$C$1)","v":0},{"$f":"+IF(Sheet3!$C$1=1,IF(DN4115<3,0,1),1)","v":1}]
[2,2,"11D","10_15",2,6,87671.385901521891,65.884999999999991,58.949999999999996,6419.55,77.929999999999993,10.7,15.17,0,0,13.66,0.92,16.98,19.96,19.96,135.9,135.9,66.69,9.92,12.25,20235.240000000002,10326.19,0,5949.0499999999993,5949.0499999999993,0,4377.1399999999994,3669.31,6239.74,5500.9500000000007,738.79,0,0,0,0,14061.76,12410.2,0,0,12410.2,1651.56,0,0,0,0,1349.46,0,0,0,0,0,0,0,302.10000000000002,0,0,0,0,0,0,0,0,0,34297,14.15,0.28999999999999998,0,0,0.73,13.66,0.92,15.07,0.32,1.59,31.2,5,77,86,31,7,0,0,0,0,0,0,0,0,0,0,2,8.33,0,0,0,0,0,0,1,1.59,0,0,0,0,null,null,null,null,null,null,null,0,{"$f":"+INDEX($F4155:$DJ4155,1,Sheet3!$C$1)","v":0},{"$f":"+IF(Sheet3!$C$1=1,IF(DN4155<3,0,1),1)","v":1}]
[2,2,"11E",0,3,6,558479.24304397905,209.7,188.89999999999998,15430.64,218.38,8.1199999999999992,33.04,0,0,24.53,35.81,47.800000000000011,68.52,0,0,385.59999999999997,209.70000000000002,92.44,0,29467.009999999995,25796.82,0,14831.130000000001,14831.130000000001,0,10965.69,3670.1899999999996,0,0,0,0,0,0,0,89242.170000000013,19710.02,0,0,19710.02,69532.149999999994,5133.6000000000004,6380.5,0,0,4617.54,1342.81,0,0,0,0,0,0,0,0,0,0,0,0,48440,3617.7,0,0,118709.18,30.1,0.1,0,0,2.84,24.53,35.81,41.9,0.67,5.23,77.2,0,0,0,0,0,0,0,0,0,1,14.96,2,31.56,0,0,3,34.69,0,0,1,13.29,0,0,0,0,0,0,0,0,null,null,null,null,null,null,null,0,{"$f":"+INDEX($F4172:$DJ4172,1,Sheet3!$C$1)","v":0},{"$f":"+IF(Sheet3!$C$1=1,IF(DN4172<3,0,1),1)","v":1}]
[2,2,"150",5,2,4,134313.89614,61.609999999999992,54.769999999999996,5514.5999999999995,64.2,36.49,2.25,0,0,8.66,0.11,49.62,0.97,0,0,0,61.429999999999993,41.959999999999994,0,11708.94,9246.619999999999,0,5317.35,5317.35,0,3929.27,2462.3200000000002,0,0,0,0,0,0,0,10776.11,2606.5499999999997,0,390.95,2215.6,8169.56,470.28,2163.8000000000002,0,0,1479.06,1435.54,0,0,0,2620.88,0,0,0,0,0,0,0,0,0,0,0,0,22485.05,2.25,0,0,0,0,8.66,0.11,0.47,35.880000000000003,1.51,3.56,0,0,0,0,0,0,0,1,11.15,1,2.2000000000000002,1,5.54,0,0,1,9.1300000000000008,0,0,2,13.94,0,0,0,0,0,0,0,0,null,null,null,null,null,null,null,0,{"$f":"+INDEX($F4234:$DJ4234,1,Sheet3!$C$1)","v":0},{"$f":"+IF(Sheet3!$C$1=1,IF(DN4234<3,0,1),1)","v":1}]
[2,2,"150",6,4,4,1741521.8252187574,1024.3200000000002,819.43,67822.649999999994,1296.08,389.37,78.84,0,0,49.23,46.36,620.32999999999993,229.56,0,0,0,1024.3200000000002,365.86,0,103767.93,101332.92,0,55865.42,55865.42,0,45467.5,2435.0099999999998,0,0,0,0,0,0,0,77565.31,23323.739999999998,0,1968.69,21355.05,54241.57,0,0,0,0,0,9777.16,0,0,0,38478.6,0,0,0,0,0,0,0,0,0,0,5985.81,0,181333.24000000002,78.84,0,0,0,0,49.23,0,610.74,7.0000000000000007E-2,3.41,501.32,0,0,0,0,0,0,0,2,225.2,0,0,0,0,1,127.59,0,0,0,0,2,140.66,0,0,0,0,0,0,0,0,null,null,null,null,null,null,null,0,{"$f":"+INDEX($F4239:$DJ4239,1,Sheet3!$C$1)","v":0},{"$f":"+IF(Sheet3!$C$1=1,IF(DN4239<3,0,1),1)","v":1}]
[2,2,"16B",4,3,6,2273280.2156606405,331.53999999999996,296.53000000000003,44436.11,348.40000000000003,202.39,177.47,0,0,72.930000000000007,41.84,17.54,21.76,0.94,3.4,3.4,331.53999999999991,110.85,0,77658.760000000009,74016.960000000006,0,42519.91,42519.91,0,31497.05,3641.8,0,0,0,0,0,0,0,22837.200000000001,0,0,0,0,22837.200000000001,0,11535,0,0,0,0,0,0,0,11302.2,0,0,0,0,0,0,0,0,0,0,0,0,100495.96,13.03,0,0,1.22,163.22,72.930000000000007,41.84,14.68,0,0,38.619999999999997,1,0,2,8,0,0,0,2,33.46,0,0,1,43.38,0,0,0,0,0,0,0,0,0,0,0,0,0,0,0,0,null,null,null,null,null,null,null,0,{"$f":"+INDEX($F4282:$DJ4282,1,Sheet3!$C$1)","v":0},{"$f":"+IF(Sheet3!$C$1=1,IF(DN4282<3,0,1),1)","v":1}]
[2,2,"16B","10_2",3,6,234837.00414371528,300.22999999999996,226.56,39443.96,329.94,0,18.61,0,0,237.93,2.29,4.6800000000000006,36.72,36.72,165.34999999999997,165.34999999999997,300.23,0,0,81794.06,65614.97,0,37656.460000000006,37656.460000000006,0,27958.510000000002,3644.0299999999997,12535.060000000001,11917.9,617.16,0,0,0,0,364,0,0,0,0,364,0,0,0,0,0,0,0,0,0,0,0,0,0,0,0,0,0,0,364,0,0,0,82158.06,16.41,0,0,0,0,240.13,0,2.41,0,2.27,66.430000000000007,0,96,116,27,7,2,1,0,0,0,0,0,0,0,0,0,0,0,0,0,0,0,0,0,0,0,0,0,0,null,null,null,null,null,null,null,0,{"$f":"+INDEX($F4306:$DJ4306,1,Sheet3!$C$1)","v":0},{"$f":"+IF(Sheet3!$C$1=1,IF(DN4306<3,0,1),1)","v":1}]
[2,2,"16D",12,2,37,738088.0454013719,328.9,316.45999999999998,64248.310000000005,330.73,124.8,154.47,0,0,106.48,3.07,13.5,51.38,49.309999999999988,343.1,392.09999999999997,328.57000000000005,1,0,141334.20000000001,106064.51000000001,0,61452.320000000007,60955.540000000008,496.78,44612.19,21840.730000000007,13428.960000000001,9858.630000000001,1851.73,0,0,0,1718.6,3009.8,301.60000000000002,0,0,301.60000000000002,2708.2,0,0,0,0,0,105,0,0,0,0,0,0,0,0,0,0,0,0,2603.1999999999998,0,0,0,144344,29.09,102.3,7.18,5.76,10.14,106.48,3.07,2.38,5.99,1.0900000000000001,53.21,25,106,329,113,3,16,2,0,0,0,0,0,0,0,0,0,0,0,0,1,1,0,0,0,0,0,0,0,0,null,null,null,null,null,null,null,{"$f":"+DN4355*DO4355","v":0},{"$f":"+INDEX($F4355:$DJ4355,1,Sheet3!$C$1)","v":0},{"$f":"+IF(Sheet3!$C$1=1,IF(DN4355<3,0,1),1)","v":1}]
[2,2,"16E","1_2",3,4,79140.052646426702,108.52000000000001,104.61,30144.350000000002,111.13,21.98,24.29,0,0,55.75,4.68,5.28,18.52,0,0,0,108.52000000000001,0,0,52339.61,49907.509999999995,0,28667.5,28667.5,0,21240.01,2432.1,0,0,0,0,0,0,0,960,960,0,960,0,0,0,0,0,0,0,0,0,0,0,0,0,0,0,0,0,0,0,0,0,0,0,0,53299.61,1.1299999999999999,21.67,0,0,0.26,56.98,4.68,0.46,0,4.3600000000000003,21.13,0,0,0,0,0,0,0,0,0,0,0,0,0,0,0,0,0,0,0,0,0,0,0,0,0,0,0,0,0,null,null,null,null,null,null,null,0,{"$f":"+INDEX($F4368:$DJ4368,1,Sheet3!$C$1)","v":0},{"$f":"+IF(Sheet3!$C$1=1,IF(DN4368<3,0,1),1)","v":1}]
[2,2,"16F",2,3,3,248493.91353196313,168.60000000000002,136.05000000000001,42460.39,170.38,156.47,154.72999999999999,0,0,1.74,6,5.0999999999999996,1.03,0,0,0,168.6,100.27000000000001,0,109149.09000000001,70051.95,0,40149.96,40149.96,0,29901.990000000005,1828.6999999999998,37268.44,0,0,0,0,0,37268.44,40044.300000000003,0,0,0,0,40044.300000000003,0,0,0,0,0,0,0,0,0,40044.300000000003,0,0,0,0,0,0,0,0,0,0,0,0,149193.38999999998,0,1.48,152.91999999999999,0,0.33,1.74,6,0,0,0,2.81,0,0,0,0,0,0,0,3,100.27,0,0,0,0,0,0,0,0,0,0,0,0,0,0,0,0,0,0,0,0,null,null,null,null,null,null,null,0,{"$f":"+INDEX($F4422:$DJ4422,1,Sheet3!$C$1)","v":0},{"$f":"+IF(Sheet3!$C$1=1,IF(DN4422<3,0,1),1)","v":1}]
[2,2,"16F","10_1",1,9,31398.576844068222,20.810000000000002,19.060000000000002,6263.5100000000011,23.810000000000002,0.99,1.38,0,0,13.98,0,2.95,2.5,2.5,36.4,36.4,20.610000000000003,0,0,14476.1,10411.939999999999,0,5986.31,5986.31,0,4425.6299999999992,2312.7199999999998,1751.4400000000003,1751.4400000000003,0,0,0,0,0,1005.2,1005.2,187.2,0,818,0,0,0,0,0,0,0,0,0,0,0,0,0,0,0,0,0,0,0,0,0,0,0,15481.300000000001,0.96,0.19,0,0.06,0.17,13.98,0,0.02,0.24,2.62,5.5,0,22,25,0,0,0,0,0,0,0,0,0,0,0,0,0,0,0,0,0,0,0,0,0,0,0,0,0,0,null,null,null,null,null,null,null,0,{"$f":"+INDEX($F4439:$DJ4439,1,Sheet3!$C$1)","v":0},{"$f":"+IF(Sheet3!$C$1=1,IF(DN4439<3,0,1),1)","v":1}]
[2,2,"16G",11,2,154,2331048.5947431698,1535.2500000000007,1160.69,122154.7,2208.59,319.58999999999997,157.16,0,0,498.29,3.5,57.22000000000002,1157.32,878.71999999999969,1834.6999999999998,1871.3,1593.2800000000009,507.78,769.29,533799.61999999988,197078.85,0,113360.66999999998,112736.03999999998,624.63,83718.179999999993,81020.219999999987,255700.55,6828.2300000000005,248872.31999999998,0,0,0,0,281675.35000000003,237246.31,0,26408.58,210837.72999999995,44429.039999999979,1762.06,0,0,0,124.74,0,0,4491.8900000000003,0,0,0,0,7558.85,0,0,12968.2,0,0,16703.05,0,0,820.25,815474.97000000032,72.040000000000006,71.88,0,4.26,8.98,498.29,3.5,17.07,10.62,27.34,1490,0,64,40,9191,493,1868,114,0,0,2,29.05,0,0,0,0,1,0.77,0,0,0,0,0,0,16,40.76,0,0,23,255.17,null,null,null,null,null,null,null,0,{"$f":"+INDEX($F4487:$DJ4487,1,Sheet3!$C$1)","v":0},{"$f":"+IF(Sheet3!$C$1=1,IF(DN4487<3,0,1),1)","v":1}]
[2,2,"16H",3,3,2,130993.42058162868,188.5,184.14,17365.129999999997,190.56,13.49,29,0,0,55.56,0,0,103.94,89.79,32.6,32.6,188.50000000000003,141.79000000000002,0,31728.14,28896.17,0,16587.48,16587.48,0,12308.69,1212.6199999999999,1619.35,1619.35,0,0,0,0,0,30378.76,4290.42,0,4290.42,0,26088.34,0,23616.55,0,0,0,0,0,0,0,0,0,0,0,0,2471.79,0,0,0,0,0,0,0,62106.9,0,0,0,22.52,6.48,55.56,0,0,0,0,106,0,11,38,0,0,0,0,0,0,0,0,1,141.79,0,0,0,0,0,0,0,0,0,0,0,0,1,43.43,0,0,null,null,null,null,null,null,null,2471.79,{"$f":"+INDEX($F4506:$DJ4506,1,Sheet3!$C$1)","v":2471.79},{"$f":"+IF(Sheet3!$C$1=1,IF(DN4506<3,0,1),1)","v":1}]
[2,2,"16H","10_15",4,1,371724.36824133928,288.98,287.88,19178.259999999998,290.02999999999997,0,0,0,0,19.32,0,1.87,267.79000000000002,267.79000000000002,92.1,604.5,288.98,288.98,0,40133.21,31860.880000000001,0,18267.02,18267.02,0,13593.86,606.30999999999995,7666.02,7666.02,0,0,0,0,0,28631.94,3755,0,3755,0,24876.94,0,20687.96,0,0,302.94,0,0,0,0,0,0,0,0,0,3886.04,0,0,0,0,0,0,0,68765.149999999994,0,0,0,0,0,19.32,0,0,0,1.87,268.83999999999997,0,62,67,5,1,0,0,0,0,0,0,1,288.98,0,0,1,1.87,0,0,0,0,0,0,0,0,1,184.75,0,0,null,null,null,null,null,null,null,3886.04,{"$f":"+INDEX($F4535:$DJ4535,1,Sheet3!$C$1)","v":3886.04},{"$f":"+IF(Sheet3!$C$1=1,IF(DN4535<3,0,1),1)","v":1}]
[2,2,"16I",6,3,19,1647545.5280547931,1207.03,1054.4699999999998,88989.75,1234.5000000000002,169.72,38.909999999999997,0,0,119.87,71.77,353.22,623.26,198.9,97.55,97.55,1207.03,275.56,0,174511.31,153478.42000000001,0,90683.05,84756.790000000008,5926.26,62795.369999999995,11583.629999999996,9449.26,5092.45,4356.8099999999995,0,0,0,0,87976.92,35701.289999999994,3053.06,26994.889999999996,5653.34,52275.63,15478.63,24066.27,0,0,5005.22,5400.61,0,1417.16,0,0,0,0,0,0,907.74,0,0,0,0,0,0,0,262488.23000000004,13.02,5.27,0,20.48,0.14000000000000001,119.87,35.4,253.15,1.93,91.53,650.73,0,57,20,96,4,88,5,0,0,3,48.43,3,81.22,0,0,7,33.869999999999997,0,0,2,85.01,0,0,0,0,1,20.73,0,0,null,null,null,null,null,null,null,907.74,{"$f":"+INDEX($F4573:$DJ4573,1,Sheet3!$C$1)","v":907.74},{"$f":"+IF(Sheet3!$C$1=1,IF(DN4573<3,0,1),1)","v":1}]
[2,2,"16J",4,3,14,1497471.4933895534,632.04999999999995,594.49,56111.360000000001,752.38,68.66,173.86,0,0,168.99,45.88,48.429999999999993,194.89,163.22000000000003,202.49999999999997,205.49999999999997,612.62999999999988,378.84999999999997,0,124074.16999999998,92912.52,0,54120.570000000007,52324.01,1796.56,38791.950000000004,8481.9799999999977,22679.670000000002,11246.79,11432.880000000001,0,0,0,0,152036.37000000002,44064.549999999996,0,1292.33,42772.219999999994,107971.81999999998,69406.23,29138.53,0,0,450.59,0,0,0,0,1259.92,0,0,2142.2399999999998,0,1541.11,2051,0,0,0,0,0,1982.2,276110.54000000004,22.33,6.81,0,33.229999999999997,110.72,169.76,45.88,18.25,7.83,21.76,315.22000000000003,4,82,70,414,17,106,1,1,1.92,5,247.7,4,125.64,0,0,4,2.99,0,0,0,0,0,0,4,13.97,2,32.07,3,13.4,null,null,null,null,null,null,null,1541.11,{"$f":"+INDEX($F4622:$DJ4622,1,Sheet3!$C$1)","v":1541.11},{"$f":"+IF(Sheet3!$C$1=1,IF(DN4622<3,0,1),1)","v":1}]
[2,2,"16J",11,4,7,1531405.9010722479,2042.8899999999999,1680.9399999999998,118461.13000000002,2638.2900000000004,260.85000000000002,89,0,0,817.9,7.13,153.39999999999998,1279.8800000000001,610.00000000000011,942.4,960.4,2076.1099999999997,741.0899999999998,0,279012.49,161945.06000000003,0,92849.11,92849.11,0,69095.95,4135.0399999999991,112932.38999999998,16410.59,96521.8,0,0,0,0,121765.12,35758.119999999995,0,2354.64,33403.479999999996,86007,35708.93,21983.1,0,0,8915.8799999999992,2719.96,0,0,0,13642.38,0,0,1279.55,0,857.2,700,0,0,200,0,0,0,400777.60999999987,53.4,8.3800000000000008,0,4.6399999999999997,0.45,840.03,7.13,1.05,21.45,125.98,1568.2,0,134,85,4645,283,153,7,1,195.15,1,259.97000000000003,1,196.99,0,0,5,80.06,0,0,1,29.24,0,0,1,10.07,1,19.399999999999999,1,9.34,null,null,null,null,null,null,null,857.2,{"$f":"+INDEX($F4654:$DJ4654,1,Sheet3!$C$1)","v":857.2},{"$f":"+IF(Sheet3!$C$1=1,IF(DN4654<3,0,1),1)","v":1}]
[2,2,"16J",12,3,111,4051635.872633128,5711.8299999999981,5154.2700000000013,449162.85,6977.1600000000008,590.82000000000005,1209.81,0,0,1376.05,359.06,768.35000000000048,1998.56,1679.0099999999995,2353.6999999999985,2522.8999999999978,5672.5499999999993,3182.6400000000008,0,1052519.9300000002,735807.00999999978,0,425464.07000000012,421133.13000000018,4330.9400000000005,310342.93999999983,67136.519999999931,249576.4,117348.66999999998,130464.40000000002,1763.33,0,0,0,984417.75999999966,397467.57000000018,0,12088.9,385378.67000000022,586950.19000000018,254738.8,123270.6,0,2750,29761.14,10436.84,0,3574.25,0,87392.31,0,0,18019.7,0,1327.2,17826.919999999998,0,0,14564,0,0,23288.43,2036937.69,608.03,311.17,0,218.09,71.08,1377.45,349.41,206.42,261.58,269.95999999999998,3263.89,25,1016,821,5228,247,376,11,18,658.08,31,1091.96,15,577.96,0,0,40,206.3,0,0,6,109.34,0,0,24,126.38,4,34.24,31,228.36,null,null,null,null,null,null,null,1327.2,{"$f":"+INDEX($F4657:$DJ4657,1,Sheet3!$C$1)","v":1327.2},{"$f":"+IF(Sheet3!$C$1=1,IF(DN4657<3,0,1),1)","v":1}]
[2,2,"170","10_1",2,15,350996.32985410764,197.08000000000004,181.21,34800.559999999998,208.52000000000004,0.2,5.81,0,0,143.80000000000001,0,0.53,46.94,46.94,357.5,360.3,197.07999999999998,0,0,82118.97,57818.310000000005,0,33259.54,33259.54,0,24558.77,8894.2699999999986,15406.39,12961.82,975.13,1469.44,0,0,0,0,0,0,0,0,0,null,null,null,null,null,null,null,null,null,null,null,null,null,null,null,null,null,null,null,null,null,null,82118.97,5.0999999999999996,0,0,0,0.71,143.80000000000001,0,0.02,0.27,0,58.38,20,157,278,45,5,0,0,0,0,0,0,0,0,0,0,0,0,0,0,0,0,0,0,0,0,0,0,0,0,null,null,null,null,null,null,null,0,{"$f":"+INDEX($F4702:$DJ4702,1,Sheet3!$C$1)","v":0},{"$f":"+IF(Sheet3!$C$1=1,IF(DN4702<3,0,1),1)","v":1}]
[2,2,"170",13,2,78,495998.92116790963,963.95,926.23000000000025,154547.62999999992,1023.4799999999999,87.72,27.53,0,0,636.04999999999995,41.59,10.090000000000002,248.69,0,0,0,963.95,25.700000000000003,0,302785.85999999993,253487.38000000006,0,146221.28,144713.09999999998,1508.1799999999998,107266.09999999999,47803.689999999995,1494.79,1494.79,0,0,0,0,0,9173.14,8040.44,0,8040.44,0,1132.7,0,709.2,0,0,0,0,423.5,0,0,0,0,0,0,0,0,0,0,0,0,0,0,0,311958.99999999994,22,1.4,0,0,4.13,636.04999999999995,33.119999999999997,1.63,1.01,5.94,308.22000000000003,0,0,0,0,0,0,0,0,0,0,0,1,5.74,0,0,0,0,1,8.4700000000000006,0,0,0,0,0,0,0,0,0,0,null,null,null,null,null,null,null,0,{"$f":"+INDEX($F4724:$DJ4724,1,Sheet3!$C$1)","v":0},{"$f":"+IF(Sheet3!$C$1=1,IF(DN4724<3,0,1),1)","v":1}]
[2,2,"181",8,3,100,4895933.7719099782,8571.1899999999969,7758.9900000000007,807931.0900000002,8904.6299999999956,688.84,483.41,0,0,1125.27,494.23,1889.55,4578.7299999999996,528.91,394.65000000000003,395.65000000000003,8572.2699999999986,1358.5499999999995,0,1547940.18,1385970.9199999995,0,817580.99999999988,765561.02000000014,52019.98,568389.92000000004,60692.219999999965,101277.04000000001,16068.42,35455.060000000005,0,0,1457.65,48295.909999999996,553407.45999999985,206621.97999999995,0,185981.68,20640.3,346785.48,172389.65,10962,0,0,16097.2,7624.96,528.5,0,0,128982.67,0,0,0,0,4103.8999999999996,0,0,0,0,0,5999,97.6,2101347.6400000011,218.06,2.25,199.18,33.01,30,1125.27,151.83000000000001,983.62,46.88,375.38,4912.17,0,124,75,1482,49,18,2,14,536.21,12,643.12,1,16.36,2,77.849999999999994,19,127.19,1,36.57,3,87.37,0,0,0,0,3,106.1,0,0,null,null,null,null,null,null,null,4103.8999999999996,{"$f":"+INDEX($F4773:$DJ4773,1,Sheet3!$C$1)","v":4103.8999999999996},{"$f":"+IF(Sheet3!$C$1=1,IF(DN4773<3,0,1),1)","v":1}]
[1,1,"111",5,3,3,90617.317798037344,45.43,35.72,2335.7200000000003,45.53,14.71,0.12,0,0,6.15,7.0000000000000007E-2,38.94,0.15,0,0,0,45.429999999999993,33.459999999999994,0,2535.9700000000003,2535.9700000000003,2535.9700000000003,0,0,0,0,0,0,0,0,0,0,0,0,16850.29,7223.4,0,0,7223.4,9626.89,0,0,0,0,0,2506.73,0,0,0,7120.16,0,0,0,0,0,0,0,0,0,0,0,0,19386.260000000002,0,0,0,0,0.12,6.15,7.0000000000000007E-2,0.09,35.92,0,0.25,0,0,0,0,0,0,0,3,32.74,0,0,0,0,0,0,0,0,0,0,2,24.57,0,0,0,0,0,0,0,0,null,null,null,null,null,null,null,0,{"$f":"+INDEX($F4788:$DJ4788,1,Sheet3!$C$1)","v":0},{"$f":"+IF(Sheet3!$C$1=1,IF(DN4788<3,0,1),1)","v":1}]
[2,2,"181",13,3,369,3862460.6160671534,27101.339999999982,24180.130000000019,2436547.17,28503.979999999981,247.95,361.67,0,0,5320.93,3155.94,221.88000000000011,18040.919999999998,0,0,2.2999999999999998,27012.199999999979,1394.66,0,4376808.0199999968,4152712.6199999992,0,2438906.0099999993,2311075.9900000016,127830.01999999997,1713806.610000001,224095.39999999921,0,0,0,0,0,0,0,542622.17000000027,486958.44000000018,0,384329.73000000027,102628.71,55663.729999999996,21701.06,9718.65,24.5,0,5367.06,1043.7,488,0,0,4095.96,0,0,0,0,0,0,0,0,0,0,0,13224.8,4919430.1900000004,172.75,0,0,161.57,22.21,5326.02,65.05,38.51,2.4700000000000002,157.9,19443.560000000001,0,0,0,0,0,0,0,2,13.32,5,205.73,1,20.170000000000002,0,0,20,33.130000000000003,1,9.76,2,9.94,0,0,0,0,0,0,0,0,null,null,null,null,null,null,null,0,{"$f":"+INDEX($F4840:$DJ4840,1,Sheet3!$C$1)","v":0},{"$f":"+IF(Sheet3!$C$1=1,IF(DN4840<3,0,1),1)","v":1}]
[2,2,"184",5,5,1,1667723.3073790562,1243,940.15,61814.99,1243,128.79,1.85,0,0,0,94.83,1133.8,12.52,0,0,0,1243.2399999999946,1014.4099999999992,0,103332.79999999999,102726.48999999999,0,58911.06,58911.06,0,43815.43,606.30999999999995,0,0,0,0,0,0,0,142855.76999999999,9465,0,3755,5710,133390.76999999999,14247.6,14631.25,0,39449.68,6616,17631.439999999999,0,0,0,40814.800000000003,0,0,0,0,0,0,0,0,0,0,0,0,246188.56999999998,0,0,0,0,1.85,0,94.83,8.94,963.77,115.54,12.52,0,0,0,0,0,0,0,1,810.44,1,41.71,1,71.05,0,0,1,77.92,0,0,1,560.44000000000005,0,0,0,0,0,0,0,0,null,null,null,null,null,null,null,0,{"$f":"+INDEX($F4869:$DJ4869,1,Sheet3!$C$1)","v":0},{"$f":"+IF(Sheet3!$C$1=1,IF(DN4869<3,0,1),1)","v":1}]
[2,2,"184",12,2,99,1019291.3042078364,1376.4799999999993,1276.6499999999996,105686.68000000002,1395.9199999999989,73.489999999999995,199.77,0,0,279.81,79.150000000000006,559.59000000000015,258.16000000000003,218.58999999999995,699.69999999999959,721.49999999999966,1376.7199999999991,545.42000000000007,0,318577.19,170927.04,0,98278.380000000048,98278.380000000048,0,72648.659999999989,58514.51,89135.640000000014,1999.29,87136.350000000035,0,0,0,0,216048.23,104387.69999999994,0,98631.799999999945,5755.9,111660.53000000003,19003.32,13111.04,0,0,56841.2,7916.94,0,0,0,6138.83,0,0,0,0,0,0,0,1119,165,0,0,7365.2,534625.42000000004,157.19999999999999,0,0,29.76,5.52,287.10000000000002,37.78,13.12,13.3,522.24,277.60000000000002,0,21,19,3748,275,410,13,4,38.15,4,56.76,3,49.87,0,0,62,364.26,0,0,9,78.05,0,0,0,0,0,0,0,0,null,null,null,null,null,null,null,0,{"$f":"+INDEX($F4907:$DJ4907,1,Sheet3!$C$1)","v":0},{"$f":"+IF(Sheet3!$C$1=1,IF(DN4907<3,0,1),1)","v":1}]
[2,2,"185","1_1",4,21,12043493.691149419,6552.16,5709.3899999999985,1057944.3900000001,6640.88,4595.38,4535.3,0,0,777.22,241.8,153.29000000000002,844.55,509.10999999999996,798.8,810.8,6554.3899999999985,3294.8500000000008,0,2013897.58,1744919.5299999998,0,1002149.3400000001,999806.03,2343.31,742770.19000000006,12614.469999999994,256363.58000000002,62984.03,0,0,0,23184.59,170194.96,697599.3,53740.52,0,53740.52,0,643858.78,14186.28,0,0,0,3441.92,2781.31,26979.59,0,0,462236.64,0,0,0,0,2528.84,0,0,0,700,0,131004.2,0,2711496.8800000004,368.41,2794.88,696.7,168.91,470.53,813.09,220,31.59,41.63,43.36,933.27,0,532,525,0,0,0,0,17,2960.05,1,90.22,0,0,11,1456.94,2,20.79,3,423.84,2,43.85,0,0,0,0,1,105.83,0,0,null,null,null,null,null,null,null,2528.84,{"$f":"+INDEX($F4924:$DJ4924,1,Sheet3!$C$1)","v":2528.84},{"$f":"+IF(Sheet3!$C$1=1,IF(DN4924<3,0,1),1)","v":1}]
[2,2,"185",8,2,163,2731361.8588161375,1709.9200000000008,1576.6000000000004,176074.91999999995,1770.940000000001,335.77,360.61,0,0,435.09,54.33,609.95999999999992,249.93,11.22,26.099999999999998,26.099999999999998,1707.8800000000008,229.87999999999994,0,399682.53999999986,292517.00000000012,0,168473.01000000007,167733.54000000007,739.47,124043.98999999995,97929.949999999852,9235.59,1374.65,1255.03,0,0,6605.91,0,59160.480000000018,16591.099999999999,0,15020.6,1570.5,42569.380000000005,0,8024.95,0,0,29202.639999999999,0,0,0,0,5341.79,0,0,0,0,0,0,0,0,0,0,0,0,458843.01999999984,128.41999999999999,87.44,0,11.81,130.09,437.94,26.35,55.26,195.82,319.58,310.95,0,0,2,118,31,15,2,4,32.08,0,0,3,16.72,0,0,69,181.08,0,0,0,0,0,0,0,0,0,0,0,0,null,null,null,null,null,null,null,0,{"$f":"+INDEX($F4955:$DJ4955,1,Sheet3!$C$1)","v":0},{"$f":"+IF(Sheet3!$C$1=1,IF(DN4955<3,0,1),1)","v":1}]
[2,2,"185",14,2,38,3202683.863564359,484.02,453.26999999999987,159595.27000000005,488.37,364.7,382.17,0,0,61.88,16.059999999999999,22.070000000000004,1.84,0,0,0,484.02,28.389999999999997,0,355961.49000000011,254860.25999999998,0,148078.13000000003,148078.13000000003,0,106782.13,22783.340000000004,78317.890000000014,0,0,0,0,78317.890000000014,0,16063.64,0,0,0,0,16063.64,6487.74,5498.64,0,0,214.32,0,0,0,0,3862.94,0,0,0,0,0,0,0,0,0,0,0,0,372025.13000000012,4.53,16.989999999999998,0,16.07,344.58,61.88,16.059999999999999,0.12,16.149999999999999,5.48,6.19,0,0,0,0,0,0,0,1,6.64,1,10.83,1,9.66,0,0,2,1.26,0,0,0,0,0,0,0,0,0,0,0,0,null,null,null,null,null,null,null,0,{"$f":"+INDEX($F4991:$DJ4991,1,Sheet3!$C$1)","v":0},{"$f":"+IF(Sheet3!$C$1=1,IF(DN4991<3,0,1),1)","v":1}]
[2,2,"186","10_1",2,32,395501.32109800784,491.38,474.5,44392.89,578.15000000000009,0.04,0.04,0,0,102.81,0,46.800000000000004,341.73,341.73,655.9,655.9,492.04999999999995,223.91000000000005,0,139036.95999999996,72317.66,0,41580.089999999997,41580.089999999997,0,30737.570000000003,19486.130000000005,47233.169999999991,40915.869999999988,6317.3,0,0,0,0,53687.210000000006,35405.33,0,35405.33,0,18281.879999999997,0,0,0,0,6022.14,0,0,0,0,5129.3,0,0,0,0,131.85,0,0,0,0,0,0,6998.59,192724.16999999998,0,0,0,0,0.04,102.81,0,0.18,0,45.06,428.5,6,391,370,270,18,26,4,3,47.23,0,0,0,0,0,0,20,37.19,0,0,0,0,0,0,0,0,1,7.36,0,0,null,null,null,null,null,null,null,131.85,{"$f":"+INDEX($F5036:$DJ5036,1,Sheet3!$C$1)","v":131.85},{"$f":"+IF(Sheet3!$C$1=1,IF(DN5036<3,0,1),1)","v":1}]
[2,2,"186",13,1,57,40047.461148999406,167.93000000000006,167.08,22465.490000000005,233.34,0.02,0,0,0,91.01,10.06,13.579999999999998,53.28,0,0,0,167.93000000000006,39.750000000000007,0,55901.179999999993,36659.630000000005,0,21055.080000000005,21055.080000000005,0,15604.550000000001,19241.550000000003,0,0,0,0,0,0,0,9338.9299999999985,6751.4499999999989,0,6751.4499999999989,0,2587.4799999999996,0,0,0,0,1577.88,0,0,0,0,0,0,0,0,0,0,0,0,0,0,0,0,1009.6,65240.109999999986,0,0,0,0,0,91.01,0.89,0,0,13.5,118.69,0,0,0,0,0,0,0,0,0,0,0,0,0,0,0,11,9.74,0,0,0,0,0,0,0,0,0,0,0,0,null,null,null,null,null,null,null,0,{"$f":"+INDEX($F5058:$DJ5058,1,Sheet3!$C$1)","v":0},{"$f":"+IF(Sheet3!$C$1=1,IF(DN5058<3,0,1),1)","v":1}]
[2,2,"187",9,1,1,96415.435506088266,4.17,4.07,3051.52,4.17,2.6,1.57,0,0,2.57,0,0.03,0,0,42.4,42.4,4.17,0,0,8984.67,5069.49,0,2906.53,2906.53,0,2162.96,493.53,3421.65,0,0,3421.65,0,0,0,0,0,0,0,0,0,null,null,null,null,null,null,null,null,null,null,null,null,null,null,null,null,null,null,null,null,null,null,8984.67,0,0,0,0,0,2.57,0,0,0.03,0,0,31,0,21,0,0,0,0,0,0,0,0,0,0,0,0,0,0,0,0,0,0,0,0,0,0,0,0,0,0,null,null,null,null,null,null,null,0,{"$f":"+INDEX($F5107:$DJ5107,1,Sheet3!$C$1)","v":0},{"$f":"+IF(Sheet3!$C$1=1,IF(DN5107<3,0,1),1)","v":1}]
[2,2,"187","10_2",2,14,106907.2205516963,225.64,213.56,33096.560000000005,231.95,0,1.84,0,0,101.91,0,10.42,111.47,97.220000000000013,129.55000000000001,129.55000000000001,226.06999999999996,50.259999999999991,0,72331.320000000007,55402.32,0,31918.599999999995,31715.949999999993,202.65,23483.72,8567.4800000000014,8361.5200000000023,8361.5200000000023,0,0,0,0,0,17749.009999999998,14641.71,0,14641.71,0,3107.2999999999997,0,0,0,0,1401.3,0,0,0,0,0,0,0,0,0,0,0,0,0,0,0,0,1706,90080.330000000016,1.84,0,0,0,0,101.91,0,0,0.26,10.029999999999999,117.78,0,85,77,1,0,0,0,0,0,0,0,0,0,0,0,4,8.65,0,0,0,0,0,0,0,0,0,0,0,0,null,null,null,null,null,null,null,0,{"$f":"+INDEX($F5122:$DJ5122,1,Sheet3!$C$1)","v":0},{"$f":"+IF(Sheet3!$C$1=1,IF(DN5122<3,0,1),1)","v":1}]
[2,2,"187",14,4,1,937856.48974877782,730.81,729.72,68664.490000000005,730.83,186.49,386.3,0,0,80.22,28.53,18.690000000000001,217.07,217.07,101,131,730.81000000000006,290.43,0,143096.5,114072.39,0,65401.919999999998,65401.919999999998,0,48670.47,606.30999999999995,28417.8,10497.54,0,0,0,17920.259999999998,0,41314.1,3755,0,3755,0,37559.1,25680.59,0,0,0,0,0,2226.6999999999998,0,0,2863.92,0,0,0,0,5297.6,0,0,0,0,0,1490.29,0,184410.6,189.59,28.55,0,95.4,72.760000000000005,80.22,28.53,0,17.57,0,217.09,0,91,21,0,0,0,0,1,13.2,1,277.23,0,0,1,11.2,0,0,1,59.34,0,0,0,0,0,0,1,186.38,0,0,null,null,null,null,null,null,null,5297.6,{"$f":"+INDEX($F5142:$DJ5142,1,Sheet3!$C$1)","v":5297.6},{"$f":"+IF(Sheet3!$C$1=1,IF(DN5142<3,0,1),1)","v":1}]
[2,3,"11A",9,1,6,599886.17484353844,1.05,0,0,1.05,1.05,0,0,0,1.05,0,0,0,0,348.4,348.4,0,0,0,21980.510000000002,0,0,0,0,0,0,0,21980.510000000002,125.2,0,21855.31,0,0,0,0,0,0,0,0,0,null,null,null,null,null,null,null,null,null,null,null,null,null,null,null,null,null,null,null,null,null,null,21980.510000000002,0,0,0,0,0,1.05,0,0,0,0,0,208,19,229,0,0,0,0,0,0,0,0,0,0,0,0,0,0,0,0,0,0,0,0,0,0,0,0,0,0,null,null,null,null,null,null,null,0,{"$f":"+INDEX($F5191:$DJ5191,1,Sheet3!$C$1)","v":0},{"$f":"+IF(Sheet3!$C$1=1,IF(DN5191<3,0,1),1)","v":1}]
[2,3,"11B","10_2",2,59,566056.84963157203,661.94999999999982,1.93,285.42,1239.0499999999993,60.74,14.42,0,0,27.48,1.79,0,1171.73,746.16000000000008,368.40000000000003,385.4,137.35000000000002,423.25999999999993,1220.6899999999996,30877.710000000017,0,0,0,0,0,0,0,30877.710000000017,30639.040000000019,238.67,0,0,0,0,149975.30000000005,122179.90000000001,0,0,122179.90000000001,27795.399999999998,0,0,0,0,0,0,0,313.8,0,0,0,4128,5557.55,471.75,0,7784.24,0,0,9540.06,0,0,0,180853.01000000004,6.16,6.06,0,0,2.2000000000000002,27.48,1.79,2.52,2.25,0.48,1190.01,2,257,204,11,1,0,0,0,0,0,0,0,0,0,0,0,0,0,0,0,0,4,5.9,11,31.54,0,0,18,359.1,null,null,null,null,null,null,null,0,{"$f":"+INDEX($F5208:$DJ5208,1,Sheet3!$C$1)","v":0},{"$f":"+IF(Sheet3!$C$1=1,IF(DN5208<3,0,1),1)","v":1}]
[2,3,"11E","10_2",2,7,53727.47212285814,76.680000000000007,0,0,130.04,1.3,5.25,0,0,17.37,2.77,0,94.67,33.020000000000003,43.6,44.6,16.11,12.36,95.49,3523.38,0,0,0,0,0,0,0,3523.38,3069.88,453.5,0,0,0,0,18194.490000000002,14425.31,0,0,14425.31,3769.1800000000003,0,0,0,0,144.18,0,0,0,0,0,0,0,247,0,0,1050,0,0,2303,0,0,25,21717.87,5.25,0,0,0,0,17.37,2.77,1.25,0.25,0,103.15,0,29,21,19,1,0,0,0,0,0,0,0,0,0,0,1,0.89,0,0,0,0,0,0,1,1.3,0,0,2,11.11,null,null,null,null,null,null,null,0,{"$f":"+INDEX($F5258:$DJ5258,1,Sheet3!$C$1)","v":0},{"$f":"+IF(Sheet3!$C$1=1,IF(DN5258<3,0,1),1)","v":1}]
[2,3,"16B",9,1,2,1883407.1043797727,0,0,0,0,0,0,0,0,0,0,0,0,0,965.6,965.6,0,0,0,71224.03,0,0,0,0,0,0,0,71224.03,0,0,71224.03,0,0,0,0,0,0,0,0,0,null,null,null,null,null,null,null,null,null,null,null,null,null,null,null,null,null,null,null,null,null,null,71224.03,0,0,0,0,0,0,0,0,0,0,0,661,14,538,0,0,0,0,0,0,0,0,0,0,0,0,0,0,0,0,0,0,0,0,0,0,0,0,0,0,null,null,null,null,null,null,null,0,{"$f":"+INDEX($F5289:$DJ5289,1,Sheet3!$C$1)","v":0},{"$f":"+IF(Sheet3!$C$1=1,IF(DN5289<3,0,1),1)","v":1}]
[2,3,"16F","10_1",1,1,6751.4322642369052,4.8899999999999997,0,0,5.22,0.06,0,0,0,3.89,0,0.97,0.03,0.03,7.8,7.8,0,0,0,500.79,0,0,0,0,0,0,0,500.79,500.79,0,0,0,0,0,0,0,0,0,0,0,null,null,null,null,null,null,null,null,null,null,null,null,null,null,null,null,null,null,null,null,null,null,500.79,0,0,0,0,0,3.89,0,0.06,0,0.91,0.36,0,4,7,0,0,0,0,0,0,0,0,0,0,0,0,0,0,0,0,0,0,0,0,0,0,0,0,0,0,null,null,null,null,null,null,null,0,{"$f":"+INDEX($F5325:$DJ5325,1,Sheet3!$C$1)","v":0},{"$f":"+IF(Sheet3!$C$1=1,IF(DN5325<3,0,1),1)","v":1}]
[2,3,"16G","10_1",3,1,35640.154433992728,31.4,0,0,33.83,1.47,0,0,0,2.23,0.49,2.99,25.69,25.69,37.85,37.85,0,27.8,0,2495.37,0,0,0,0,0,0,0,2495.37,2495.37,0,0,0,0,0,4993.42,3328,0,0,3328,1665.42,0,1665.42,0,0,0,0,0,0,0,0,0,0,0,0,0,0,0,0,0,0,0,0,7488.79,0,0,0,0,0,2.23,0.49,0.5,0,2.46,28.12,0,24,21,7,1,2,1,0,0,0,0,1,27.8,0,0,0,0,0,0,0,0,0,0,0,0,0,0,0,0,null,null,null,null,null,null,null,0,{"$f":"+INDEX($F5342:$DJ5342,1,Sheet3!$C$1)","v":0},{"$f":"+IF(Sheet3!$C$1=1,IF(DN5342<3,0,1),1)","v":1}]
[2,3,"16I","10_2",2,2,23323.897854824467,33,0,0,37.32,0.05,0.69,0,0,19.649999999999999,0,4.5199999999999996,8.14,8.14,17.899999999999999,17.899999999999999,0,0.71,0,1687.49,0,0,0,0,0,0,0,1687.49,1377.2,310.29000000000002,0,0,0,0,1417.8799999999999,1302.8599999999999,0,1302.8599999999999,0,115.02,0,0,0,0,115.02,0,0,0,0,0,0,0,0,0,0,0,0,0,0,0,0,0,3105.37,0.64,0,0,0,0.05,19.649999999999999,0,0.18,0,4.34,12.46,0,10,9,13,1,0,0,0,0,0,0,0,0,0,0,1,0.71,0,0,0,0,0,0,0,0,0,0,0,0,null,null,null,null,null,null,null,0,{"$f":"+INDEX($F5375:$DJ5375,1,Sheet3!$C$1)","v":0},{"$f":"+IF(Sheet3!$C$1=1,IF(DN5375<3,0,1),1)","v":1}]
[2,3,"170","10_1",2,1,29142.043247294689,15.02,0,0,15.96,0,0.31,0,0,14.24,0.17,0.3,0,0,17.2,17.2,0,0,0,2618.48,0,0,0,0,0,0,0,2618.48,2618.48,0,0,0,0,0,0,0,0,0,0,0,null,null,null,null,null,null,null,null,null,null,null,null,null,null,null,null,null,null,null,null,null,null,2618.48,0,0,0,0,0.31,14.24,0.17,0.15,0.15,0,0.94,0,1,31,0,0,0,0,0,0,0,0,0,0,0,0,0,0,0,0,0,0,0,0,0,0,0,0,0,0,null,null,null,null,null,null,null,0,{"$f":"+INDEX($F5409:$DJ5409,1,Sheet3!$C$1)","v":0},{"$f":"+IF(Sheet3!$C$1=1,IF(DN5409<3,0,1),1)","v":1}]
[2,3,"184",11,2,87,887599.9908856313,995.97999999999956,10.61,1049.76,1252.98,16.059999999999999,44.1,0,0,563.16999999999996,0,59.919999999999987,328.79,317.21000000000009,1053.7499999999998,1118.75,37.850000000000009,227.05999999999997,0,146941.98000000004,0,0,0,0,0,0,0,146941.98000000004,2803.12,144138.86000000004,0,0,0,0,126375.28999999998,103346.03,0,61462.029999999984,41884,23029.260000000006,11138.96,0,0,0,4695.07,0,0,0,0,0,0,0,0,0,285.5,0,0,0,378,0,0,6531.73,273317.27,23.54,0,0,20.34,0.22,563.16999999999996,0,3.01,0.56000000000000005,54.76,585.79,0,22,14,5822,284,674,57,0,0,5,53.28,0,0,0,0,12,28.8,0,0,0,0,0,0,0,0,1,5.71,0,0,null,null,null,null,null,null,null,285.5,{"$f":"+INDEX($F5456:$DJ5456,1,Sheet3!$C$1)","v":285.5},{"$f":"+IF(Sheet3!$C$1=1,IF(DN5456<3,0,1),1)","v":1}]
[2,3,"185",11,2,12,530719.66031587624,92.64,0,0,93.450000000000017,0.24,0,0,0,51.79,0,2.3300000000000005,38.520000000000003,38.520000000000003,154.29999999999998,716.50000000000011,0,0.89,0,19864.060000000001,0,0,0,0,0,0,0,19864.060000000001,500.79,19363.27,0,0,0,0,4408.29,4264.1100000000006,0,4264.1100000000006,0,144.18,0,0,0,0,144.18,0,0,0,0,0,0,0,0,0,0,0,0,0,0,0,0,0,24272.349999999995,0,0,0,0,0,51.79,0,0.09,0.05,1.85,39.33,0,4,3,462,41,414,73,0,0,0,0,0,0,0,0,1,0.89,0,0,0,0,0,0,0,0,0,0,0,0,null,null,null,null,null,null,null,0,{"$f":"+INDEX($F5476:$DJ5476,1,Sheet3!$C$1)","v":0},{"$f":"+IF(Sheet3!$C$1=1,IF(DN5476<3,0,1),1)","v":1}]
[2,3,"187",12,3,2,934761.0549783454,187.78,0,0,200.23999999999998,17.11,0,0,0,115.38,0,3.94,68.459999999999994,68.459999999999994,633.5,1615.5,0,30.7,0,41709.75,0,0,0,0,0,0,0,41709.75,40659.56,1050.19,0,0,0,0,13861.84,5084.8600000000006,0,5084.8600000000006,0,8776.98,0,7269.17,0,0,0,389.55,0,0,0,0,0,0,0,0,1118.26,0,0,0,0,0,0,0,55571.59,0,0,0,0,0,115.38,0,0,3.71,0,80.92,0,294,582,45,5,0,0,0,0,0,0,1,30.7,0,0,0,0,0,0,1,3.71,0,0,0,0,1,26.27,0,0,null,null,null,null,null,null,null,1118.26,{"$f":"+INDEX($F5525:$DJ5525,1,Sheet3!$C$1)","v":1118.26},{"$f":"+IF(Sheet3!$C$1=1,IF(DN5525<3,0,1),1)","v":1}]
[2,4,"111","10_2",1,35,118841.70916464564,91.78,8.81,1288.95,153.89000000000004,18.739999999999998,1.85,0,0,15.25,0,0.32,132.69999999999999,121.63,60.500000000000007,64.500000000000014,14.360000000000001,7.49,139.79000000000002,0,0,0,0,0,0,0,0,0,0,0,0,0,0,0,23546.34,21194.039999999997,0,0,21194.039999999997,2352.3000000000002,0,0,0,0,0,0,0,0,0,0,0,0,1020.3,0,0,0,0,0,1332,0,0,0,23546.34,0,1.21,0,0.04,0.6,15.25,0,0.22,1.57,0.06,134.57,0,29,50,19,2,1,0,0,0,0,0,0,0,0,0,0,0,0,0,0,0,0,0,3,5.37,0,0,0,0,null,null,null,null,null,null,null,0,{"$f":"+INDEX($F5542:$DJ5542,1,Sheet3!$C$1)","v":0},{"$f":"+IF(Sheet3!$C$1=1,IF(DN5542<3,0,1),1)","v":1}]
[2,4,"119",5,3,1,97427.172347297179,43.73,0,0,43.96,0,0.53,0,0,0,0,43.2,0,0,0,0,0,25.119999999999997,0,0,0,0,0,0,0,0,0,0,0,0,0,0,0,0,4284.21,0,0,0,0,4284.21,0,0,0,0,0,0,0,0,0,4284.21,0,0,0,0,0,0,0,0,0,0,0,0,4284.21,0,0,0,0,0,0,0,0,41.17,0,0.23,0,0,0,0,0,0,0,1,25.12,0,0,0,0,0,0,0,0,0,0,0,0,0,0,0,0,0,0,0,0,null,null,null,null,null,null,null,0,{"$f":"+INDEX($F5592:$DJ5592,1,Sheet3!$C$1)","v":0},{"$f":"+IF(Sheet3!$C$1=1,IF(DN5592<3,0,1),1)","v":1}]
[2,4,"11A",9,1,1,155890.97551494298,0,0,0,0,0,0,0,0,0,0,0,0,0,74.599999999999994,74.599999999999994,0,0,0,0,0,0,0,0,0,0,0,0,0,0,0,0,0,0,0,0,0,0,0,0,null,null,null,null,null,null,null,null,null,null,null,null,null,null,null,null,null,null,null,null,null,null,0,0,0,0,0,0,0,0,0,0,0,0,58,0,32,0,0,0,0,0,0,0,0,0,0,0,0,0,0,0,0,0,0,0,0,0,0,0,0,0,0,null,null,null,null,null,null,null,0,{"$f":"+INDEX($F5623:$DJ5623,1,Sheet3!$C$1)","v":0},{"$f":"+IF(Sheet3!$C$1=1,IF(DN5623<3,0,1),1)","v":1}]
[2,4,"11B",11,1,164,412241.6841797597,582.39499999999998,5.42,432.53,1099.1400000000001,32.94,13.48,0,0,32.64,0.78,0.82000000000000006,1017.15,44.600000000000009,61.699999999999996,248.7,6.24,8.370000000000001,1028.6699999999998,0,0,0,0,0,0,0,0,0,0,0,0,0,0,0,140311.89000000004,138789.70000000004,0,0,138789.70000000004,1522.19,0,0,0,0,0,0,0,69,0,0,0,244.8,779.59,88.8,0,0,0,0,340,0,0,0,140311.89000000004,8.2100000000000009,3.26,0,0.03,1.98,32.64,0.78,2.63,0.71,0.16,1048.25,0,0,3,329,46,14,5,0,0,0,0,0,0,0,0,0,0,0,0,0,0,1,1.1100000000000001,2,5.09,0,0,0,0,null,null,null,null,null,null,null,0,{"$f":"+INDEX($F5659:$DJ5659,1,Sheet3!$C$1)","v":0},{"$f":"+IF(Sheet3!$C$1=1,IF(DN5659<3,0,1),1)","v":1}]
[2,4,"11C",5,1,188,908437.2669324805,440.96,10.050000000000001,692.64,457.09999999999991,134.53,22.44,0,0,15.24,19.84,377.24,6.2,0.2,2.7,7.7,17.73,33.910000000000004,0,0,0,0,0,0,0,0,0,0,0,0,0,0,0,0,104979.24999999999,96998.619999999981,0,0,96998.619999999981,7980.6299999999992,0,0,0,600,0,1508.85,0,0,0,5471.78,0,0,0,0,0,0,0,0,400,0,0,0,104979.24999999999,7.29,9.4600000000000009,0,0.69,5,15.24,19.84,5.56,349.53,5.18,22.34,0,0,0,17,1,0,0,7,17.489999999999998,0,0,0,0,0,0,0,0,0,0,6,14.44,0,0,0,0,0,0,0,0,null,null,null,null,null,null,null,0,{"$f":"+INDEX($F5676:$DJ5676,1,Sheet3!$C$1)","v":0},{"$f":"+IF(Sheet3!$C$1=1,IF(DN5676<3,0,1),1)","v":1}]
[2,4,"11D",8,1,1367,3186666.9922349849,2612.2050000000017,137.63000000000002,10371.579999999998,3276.8200000000006,222.56,254.63,0,0,79.59,33.04,2151.2249999999985,95.2,9.4499999999999993,25.6,58.600000000000009,144.73999999999998,573.51,27.93,0,0,0,0,0,0,0,0,0,0,0,0,0,0,0,875675.43999999983,580538.50999999954,0,0,580538.50999999954,295136.93,24828.76,2638.12,0,241259.63,16442.689999999999,1571.33,0,0,0,7791.13,0,0,0,0,0,0,0,0,0,0,0,605.27,875675.43999999983,76.37,27.35,0,7.88,136.66,79.59,33.04,574.38,614.48,654.82000000000005,753.15,0,1,4,88,32,21,7,9,23.03,21,49.99,3,6.5,0,0,104,103.8,0,0,8,15.28,0,0,0,0,0,0,0,0,null,null,null,null,null,null,null,0,{"$f":"+INDEX($F5709:$DJ5709,1,Sheet3!$C$1)","v":0},{"$f":"+IF(Sheet3!$C$1=1,IF(DN5709<3,0,1),1)","v":1}]
[2,4,"11E",7,1,371,200783.1948093496,730.67999999999961,17.18,1793.4500000000003,825.94999999999959,16.61,19.37,0,0,3.6,37.01,634.68000000000029,36.020000000000003,0,0,0,18.350000000000001,285.76000000000022,0,0,0,0,0,0,0,0,0,0,0,0,0,0,0,0,226388.5800000001,169484.09999999992,161.19999999999999,0,169322.89999999994,56904.479999999974,14165.23,947.5,0,2907,38217.03,448.35,0,0,0,0,0,0,0,0,0,0,0,0,0,0,0,219.37,226388.5800000001,5.82,0.74,0,12.46,0.32,3.6,37.01,8.81,5.56,619.67999999999995,131.29,0,0,0,0,0,0,0,0,0,12,34.75,1,2.79,0,0,192,239.63,0,0,2,4.2699999999999996,0,0,0,0,0,0,0,0,null,null,null,null,null,null,null,0,{"$f":"+INDEX($F5743:$DJ5743,1,Sheet3!$C$1)","v":0},{"$f":"+IF(Sheet3!$C$1=1,IF(DN5743<3,0,1),1)","v":1}]
[2,4,"150",11,1,13,75918.009999999995,21.769999999999996,0,0,36.18,0.2,0,0,0,18.309999999999999,0,2.21,1.25,1.25,181.65,183.65,0,0,0,0,0,0,0,0,0,0,0,0,0,0,0,0,0,0,2885.34,2885.34,0,840.45,2044.8899999999999,0,0,0,0,0,0,0,0,0,0,0,0,0,0,0,0,0,0,0,0,0,0,0,2885.34,0,0,0,0,0,18.309999999999999,0,1.74,0.18,0.08,15.66,0,0,0,942,94,157,18,0,0,0,0,0,0,0,0,0,0,0,0,0,0,0,0,0,0,0,0,0,0,null,null,null,null,null,null,null,0,{"$f":"+INDEX($F5786:$DJ5786,1,Sheet3!$C$1)","v":0},{"$f":"+IF(Sheet3!$C$1=1,IF(DN5786<3,0,1),1)","v":1}]
[2,4,"16B",8,2,11,470717.97516332241,101.64,0,0,104.89999999999998,22.95,7.51,0,0,13.52,4.5,75.430000000000007,0.68,0,0,0,0,52.95,0,0,0,0,0,0,0,0,0,0,0,0,0,0,0,0,22795.769999999997,0,0,0,0,22795.769999999997,4827.17,1332,0,0,0,236.25,0,0,0,16400.349999999999,0,0,0,0,0,0,0,0,0,0,0,0,22795.769999999997,0,0,0,0,7.51,13.52,4.5,27.91,43.32,0.77,3.94,0,0,0,0,0,0,0,7,44.04,1,6.03,1,2.77,0,0,0,0,0,0,1,2.25,0,0,0,0,0,0,0,0,null,null,null,null,null,null,null,0,{"$f":"+INDEX($F5810:$DJ5810,1,Sheet3!$C$1)","v":0},{"$f":"+IF(Sheet3!$C$1=1,IF(DN5810<3,0,1),1)","v":1}]
[2,4,"16D",5,2,7,101443.40306677046,59.03,7.05,460.99,59.06,0,0,0,0,1.76,0,57.16,0.11,0,0,0,7.8799999999999963,54.629999999999995,0,0,0,0,0,0,0,0,0,0,0,0,0,0,0,0,18790.309999999998,296.39999999999998,0,296.39999999999998,0,18493.91,4908.34,5885.08,0,0,0,1341.03,0,0,0,6359.46,0,0,0,0,0,0,0,0,0,0,0,0,18790.309999999998,0,0,0,0,0,1.76,0,0,54.97,0.1,0.14000000000000001,0,0,0,0,0,0,0,4,27.89,2,7.95,1,11.87,0,0,0,0,0,0,1,13.27,0,0,0,0,0,0,0,0,null,null,null,null,null,null,null,{"$f":"+DN5827*DO5827","v":0},{"$f":"+INDEX($F5827:$DJ5827,1,Sheet3!$C$1)","v":0},{"$f":"+IF(Sheet3!$C$1=1,IF(DN5827<3,0,1),1)","v":1}]
[2,4,"16F",6,3,1,164937.85877513187,31.05,0,0,31.14,27.77,0,0,0,0,0.88,28.45,1.72,0,0,0,0,28.130000000000006,0,0,0,0,0,0,0,0,0,0,0,0,0,0,0,0,11593.25,1337.15,1337.15,0,0,10256.1,0,0,0,0,0,0,0,0,0,10256.1,0,0,0,0,0,0,0,0,0,0,0,0,11593.25,0,0,0,0,0,0,0.88,27.77,0,0.02,1.81,0,0,0,0,0,0,0,1,28.13,0,0,0,0,0,0,0,0,0,0,0,0,0,0,0,0,0,0,0,0,null,null,null,null,null,null,null,0,{"$f":"+INDEX($F5876:$DJ5876,1,Sheet3!$C$1)","v":0},{"$f":"+IF(Sheet3!$C$1=1,IF(DN5876<3,0,1),1)","v":1}]
[2,4,"16G","1_1",1,39,110208.54625793417,61.589999999999989,3.89,419.42999999999995,65.27,46.04,40.6,0,0,7.37,1.9,8.8800000000000008,2.84,0.61,2.7,2.7,4.3599999999999994,0,0,0,0,0,0,0,0,0,0,0,0,0,0,0,0,0,13815.750000000004,13815.750000000004,0,143,13672.750000000004,0,0,0,0,0,0,0,0,0,0,0,0,0,0,0,0,0,0,0,0,0,0,0,13815.750000000004,6.7,27,0,1.33,4.93,7.37,1.9,0.86,1.66,4.2,6.52,0,0,1,6,1,6,1,0,0,0,0,0,0,0,0,0,0,0,0,0,0,0,0,0,0,0,0,0,0,null,null,null,null,null,null,null,0,{"$f":"+INDEX($F5894:$DJ5894,1,Sheet3!$C$1)","v":0},{"$f":"+IF(Sheet3!$C$1=1,IF(DN5894<3,0,1),1)","v":1}]
[2,4,"16H","10_2",4,1,85389.599814827103,245.53,216.78,16724.57,291.16000000000003,0,0,0,0,23.23,0,37.9,184.4,184.4,174,174,245.53000000000003,0,0,0,0,0,0,0,0,0,0,0,0,0,0,0,0,0,0,0,0,0,0,0,null,null,null,null,null,null,null,null,null,null,null,null,null,null,null,null,null,null,null,null,null,null,0,0,0,0,0,0,23.23,0,0,0,37.9,230.03,0,139,68,0,0,0,0,0,0,0,0,0,0,0,0,0,0,0,0,0,0,0,0,0,0,0,0,0,0,null,null,null,null,null,null,null,0,{"$f":"+INDEX($F5943:$DJ5943,1,Sheet3!$C$1)","v":0},{"$f":"+IF(Sheet3!$C$1=1,IF(DN5943<3,0,1),1)","v":1}]
[2,4,"16I",6,1,72,1931269.9294002748,157.29000000000005,1.1299999999999999,79.05,168.38000000000008,23.54,7.58,0,0,11.38,0.22,128.31999999999996,9.7899999999999991,0.11,4.5,4.5,4.59,29.600000000000005,0,0,0,0,0,0,0,0,0,0,0,0,0,0,0,0,37091.94,28521.789999999994,2697.5499999999997,3639.7,22184.539999999997,8570.1500000000015,1634.52,3175.88,0,0,3580.2,179.55,0,0,0,0,0,0,0,0,0,0,0,0,0,0,0,0,37091.94,1.73,0.65,0,1.73,3.16,11.38,0.22,67.02,6.53,46.42,20.88,0,0,0,20,4,6,0,0,0,1,2.35,2,4.6399999999999997,0,0,28,22.24,0,0,1,1.71,0,0,0,0,0,0,0,0,null,null,null,null,null,null,null,0,{"$f":"+INDEX($F5962:$DJ5962,1,Sheet3!$C$1)","v":0},{"$f":"+IF(Sheet3!$C$1=1,IF(DN5962<3,0,1),1)","v":1}]
[2,4,"16J","10_2",3,2,82842.433647390542,161.55000000000001,111.53,9651.7999999999993,390.38,0,0.21,0,0,20.84,0,0,182.35,98.65,107.2,107.2,119.48999999999995,119.09999999999995,83.91,0,0,0,0,0,0,0,0,0,0,0,0,0,0,0,3554.2,3554.2,0,0,3554.2,0,0,0,0,0,0,0,0,0,0,0,0,0,0,0,0,0,0,0,0,0,0,0,3554.2,0,0,0,0,0.21,20.84,0,0,0,0,369.33,0,76,38,0,0,0,0,0,0,0,0,0,0,0,0,0,0,0,0,0,0,0,0,0,0,0,0,0,0,null,null,null,null,null,null,null,0,{"$f":"+INDEX($F6010:$DJ6010,1,Sheet3!$C$1)","v":0},{"$f":"+IF(Sheet3!$C$1=1,IF(DN6010<3,0,1),1)","v":1}]
[2,4,"170","10_2",1,1,988.88071513608475,1.43,0.94,369.88,1.79,0,0,0,0,1.43,0,0,0,0,1,1,1.4300000000000002,0,0,0,0,0,0,0,0,0,0,0,0,0,0,0,0,0,0,0,0,0,0,0,null,null,null,null,null,null,null,null,null,null,null,null,null,null,null,null,null,null,null,null,null,null,0,0,0,0,0,0,1.43,0,0,0,0,0.36,0,1,0,0,0,0,0,0,0,0,0,0,0,0,0,0,0,0,0,0,0,0,0,0,0,0,0,0,0,null,null,null,null,null,null,null,0,{"$f":"+INDEX($F6039:$DJ6039,1,Sheet3!$C$1)","v":0},{"$f":"+IF(Sheet3!$C$1=1,IF(DN6039<3,0,1),1)","v":1}]
[2,4,"181",13,1,33,13307.409450654552,70.98,4.9000000000000004,320.41000000000003,118.52000000000001,0,1.36,0,0,20.170000000000002,0,4.3499999999999996,45.1,0,0,0,0,2.15,0,0,0,0,0,0,0,0,0,0,0,0,0,0,0,0,4236.6400000000003,3888.34,0,2355.44,1532.8999999999999,348.29999999999995,0,0,0,0,348.3,0,0,0,0,0,0,0,0,0,0,0,0,0,0,0,0,0,4236.6400000000003,0,0,0,1.36,0,20.170000000000002,0,0.11,0,2.21,92.64,0,0,0,0,0,0,0,0,0,0,0,0,0,0,0,4,2.15,0,0,0,0,0,0,0,0,0,0,0,0,null,null,null,null,null,null,null,0,{"$f":"+INDEX($F6077:$DJ6077,1,Sheet3!$C$1)","v":0},{"$f":"+IF(Sheet3!$C$1=1,IF(DN6077<3,0,1),1)","v":1}]
[2,4,"184",6,1,20,306605.05240396003,41.239999999999995,1.93,126.2,43.37,16.899999999999999,4.25,0,0,5.82,0.26,29.54,1.37,1.37,0.75,0.75,1.9300000000000002,8.68,0,0,0,0,0,0,0,0,0,0,0,0,0,0,0,0,7618.6000000000013,3774.1600000000003,0,3774.1600000000003,0,3844.44,0,3339,0,0,505.44,0,0,0,0,0,0,0,0,0,0,0,0,0,0,0,0,0,7618.6000000000013,2.97,0,0,1.26,0.02,5.82,0.26,22.77,1.69,4.8,3.5,0,0,0,4,1,0,0,0,0,0,0,2,5.22,0,0,3,3.12,0,0,0,0,0,0,0,0,0,0,0,0,null,null,null,null,null,null,null,0,{"$f":"+INDEX($F6094:$DJ6094,1,Sheet3!$C$1)","v":0},{"$f":"+IF(Sheet3!$C$1=1,IF(DN6094<3,0,1),1)","v":1}]
[2,4,"185",5,1,2,14616.254062836042,5.72,0,0,5.72,0,0,0,0,0.02,0,5.7,0,0,0,0,0.83000000000000007,4.2300000000000004,0,0,0,0,0,0,0,0,0,0,0,0,0,0,0,0,1201.75,0,0,0,0,1201.75,0,0,0,0,0,0,0,0,0,1201.75,0,0,0,0,0,0,0,0,0,0,0,0,1201.75,0,0,0,0,0,0.02,0,0,5.48,0,0,0,0,0,0,0,0,0,1,4.2300000000000004,0,0,0,0,0,0,0,0,0,0,0,0,0,0,0,0,0,0,0,0,null,null,null,null,null,null,null,0,{"$f":"+INDEX($F6129:$DJ6129,1,Sheet3!$C$1)","v":0},{"$f":"+IF(Sheet3!$C$1=1,IF(DN6129<3,0,1),1)","v":1}]
[2,4,"186",6,1,18,351039.09994239733,52.260000000000005,0,0,64.06,5.81,0.16,0,0,5.59,0,29.589999999999996,16.920000000000002,2.39,9.4499999999999993,9.4499999999999993,0,15.010000000000002,0,0,0,0,0,0,0,0,0,0,0,0,0,0,0,0,7172.2499999999991,5333.4,0,5333.4,0,1838.85,0,0,0,0,1536.17,0,0,0,0,0,0,0,0,0,0,0,0,0,0,0,0,302.68,7172.2499999999991,0,0,0,0,0.16,5.59,0,17.309999999999999,0.18,11.99,28.72,0,0,0,52,6,4,1,0,0,0,0,0,0,0,0,9,9.9700000000000006,0,0,0,0,0,0,0,0,0,0,0,0,null,null,null,null,null,null,null,0,{"$f":"+INDEX($F6161:$DJ6161,1,Sheet3!$C$1)","v":0},{"$f":"+IF(Sheet3!$C$1=1,IF(DN6161<3,0,1),1)","v":1}]
[2,4,"187",8,2,33,250128.50375221545,347.84,7.87,574.51,356.32,26.05,18.739999999999998,0,0,87.22,15.06,175.11000000000004,51.71,1.8599999999999999,13.350000000000001,15.35,24.099999999999998,122.05000000000001,0,0,0,0,0,0,0,0,0,0,0,0,0,0,0,0,58928.369999999995,24092.25,0,24092.25,0,34836.119999999995,19828.48,0,0,0,13203.79,1211.7,0,0,0,467.35,0,0,0,0,0,0,0,0,0,0,0,124.8,58928.369999999995,15.68,0,0,0,3.06,87.22,15.06,29.77,14.26,127.44,60.19,0,0,0,80,9,0,0,1,0.92,5,49.82,0,0,0,0,23,81.33,0,0,2,11.54,0,0,0,0,0,0,0,0,null,null,null,null,null,null,null,0,{"$f":"+INDEX($F6206:$DJ6206,1,Sheet3!$C$1)","v":0},{"$f":"+IF(Sheet3!$C$1=1,IF(DN6206<3,0,1),1)","v":1}]
[3,1,"119","1_2",1,62,124635.93346792906,73.530000000000015,66.429999999999993,8062.7200000000021,74.52000000000001,4.9000000000000004,53.74,0,0,9.16,1.89,7.7299999999999978,1.01,0,0,0,73.530000000000015,0,0,52334.46,52334.46,52334.46,0,0,0,0,0,0,0,0,0,0,0,0,1643.1999999999998,1643.1999999999998,0,0,1643.1999999999998,0,0,0,0,0,0,0,0,0,0,0,0,0,0,0,0,0,0,0,0,0,0,0,53977.659999999996,4.07,39.590000000000003,0,0,1.1200000000000001,9.16,1.89,1.42,5.67,0,2,0,0,0,0,0,0,0,0,0,0,0,0,0,0,0,0,0,0,0,0,0,0,0,0,0,0,0,0,0,null,null,null,null,null,null,null,0,{"$f":"+INDEX($F6228:$DJ6228,1,Sheet3!$C$1)","v":0},{"$f":"+IF(Sheet3!$C$1=1,IF(DN6228<3,0,1),1)","v":1}]
[3,1,"11A",5,1,31,229318.9697388511,117.29000000000002,100.47,7611.34,118.21000000000001,52.19,3.61,0,0,5.33,1.31,101.74,5.3,0,0.6,1.6,117.28999999999999,45.649999999999991,0,26205.210000000006,26205.210000000006,26205.210000000006,0,0,0,0,0,0,0,0,0,0,0,0,32145.209999999995,16844.699999999997,0,0,16844.699999999997,15300.51,0,3572.45,0,0,217.08,2226,0,0,0,9284.98,0,0,0,0,0,0,0,0,0,0,0,0,58350.42,0.62,1.89,0,0.05,1,5.33,1.31,2.4,89.82,2.89,6.22,0,0,0,4,0,0,0,7,35.299999999999997,0,0,1,6.29,0,0,1,1.34,0,0,5,21.2,0,0,0,0,0,0,0,0,null,null,null,null,null,null,null,0,{"$f":"+INDEX($F6245:$DJ6245,1,Sheet3!$C$1)","v":0},{"$f":"+IF(Sheet3!$C$1=1,IF(DN6245<3,0,1),1)","v":1}]
[3,1,"11D","10_2",1,52,316723.50871527678,372.21499999999997,66.240000000000009,6216.6600000000008,708.09,30.92,11.32,0,0,22.07,0.23,0.80999999999999994,637.70000000000005,227.95999999999998,150.19999999999996,165.20000000000002,275.92,39.86999999999999,666.23999999999978,43924.94999999999,43924.94999999999,43924.94999999999,0,0,0,0,0,0,0,0,0,0,0,0,77065.66,70979,0,0,70979,6086.66,0,653.95000000000005,0,1856.25,178.2,0,0,0,0,0,0,0,413.43,11.35,0,549.5,0,0,2423.98,0,0,0,120990.60999999997,6.26,2.7,0,0.08,2.1800000000000002,22.17,0.23,2.71,4.4400000000000004,0.9,665.26,1,64,152,0,0,0,0,0,0,0,0,1,2.86,0,0,2,1.1000000000000001,0,0,0,0,1,0.66,3,4.72,0,0,2,27.59,null,null,null,null,null,null,null,0,{"$f":"+INDEX($F6296:$DJ6296,1,Sheet3!$C$1)","v":0},{"$f":"+IF(Sheet3!$C$1=1,IF(DN6296<3,0,1),1)","v":1}]
[3,1,"11E",11,1,18,55575.292728691398,62.255000000000003,24.53,1920.7199999999998,102.84,3.73,3.49,0,0,4.57,0.83,6.56,74.31,20.270000000000003,44.1,87.1,76.91,5.58,64.33,15215.94,15215.94,15215.94,0,0,0,0,0,0,0,0,0,0,0,0,14100.590000000002,13019.599999999999,0,0,13019.599999999999,1080.99,0,0,0,106.25,351.54,0,0,0,0,0,0,0,623.20000000000005,0,0,0,0,0,0,0,0,0,29316.529999999995,2.63,0.73,0,0,0.13,4.57,0.83,2.54,0.13,6.03,84.8,0,0,4,166,19,92,5,0,0,0,0,0,0,0,0,5,2.17,0,0,0,0,0,0,1,3.28,0,0,0,0,null,null,null,null,null,null,null,0,{"$f":"+INDEX($F6312:$DJ6312,1,Sheet3!$C$1)","v":0},{"$f":"+IF(Sheet3!$C$1=1,IF(DN6312<3,0,1),1)","v":1}]
[3,1,"16B",15,1,2,22458.997918569359,4.1499999999999995,4.05,717.65,4.1499999999999995,1.6,3.58,0,0,0.46,0,0.11,0,0,0,0,4.1500000000000004,0,0,1690.67,1690.67,1690.67,0,0,0,0,0,0,0,0,0,0,0,0,0,0,0,0,0,0,null,null,null,null,null,null,null,null,null,null,null,null,null,null,null,null,null,null,null,null,null,null,1690.67,0,0.11,0,0,3.47,0.46,0,0.08,0,0,0,0,0,0,0,0,0,0,0,0,0,0,0,0,0,0,0,0,0,0,0,0,0,0,0,0,0,0,0,0,null,null,null,null,null,null,null,0,{"$f":"+INDEX($F6340:$DJ6340,1,Sheet3!$C$1)","v":0},{"$f":"+IF(Sheet3!$C$1=1,IF(DN6340<3,0,1),1)","v":1}]
[3,1,"16F",6,1,36,819720.60029724904,97.1,77.930000000000007,5943.42,98.9,42.33,5.85,0,0,11.31,0.02,71.860000000000014,8.06,1.91,4.8,4.8,96.72,31.54,0,30318.310000000005,30318.310000000005,30318.310000000005,0,0,0,0,0,0,0,0,0,0,0,0,28433.009999999995,11014.849999999999,4561.25,0,6453.6,17418.159999999996,0,0,0,0,892.62,0,0,0,0,16525.54,0,0,0,0,0,0,0,0,0,0,0,0,58751.319999999992,1.87,1.28,0,1.3,1.4,11.31,0.02,55.27,2.0699999999999998,12.5,9.86,0,0,0,22,6,3,1,8,25.98,0,0,0,0,0,0,9,5.56,0,0,0,0,0,0,0,0,0,0,0,0,null,null,null,null,null,null,null,0,{"$f":"+INDEX($F6379:$DJ6379,1,Sheet3!$C$1)","v":0},{"$f":"+IF(Sheet3!$C$1=1,IF(DN6379<3,0,1),1)","v":1}]
[3,1,"16I",11,1,32,50880.667881452828,53.47,44.18,3747.5299999999997,56.03,0.68,1.73,0,0,21.63,0,25.469999999999995,4.6399999999999997,4.6399999999999997,60.6,60.6,53.47,11.52,0,27050.470000000008,27050.470000000008,27050.470000000008,0,0,0,0,0,0,0,0,0,0,0,0,8715.2899999999991,6849.05,679.90000000000009,1550.65,4618.5,1866.24,0,0,0,0,1866.24,0,0,0,0,0,0,0,0,0,0,0,0,0,0,0,0,0,35765.760000000002,1.59,0.14000000000000001,0,0,0,21.63,0,0.14000000000000001,0.59,24.3,7.2,0,0,0,273,25,94,12,0,0,0,0,0,0,0,0,11,11.52,0,0,0,0,0,0,0,0,0,0,0,0,null,null,null,null,null,null,null,0,{"$f":"+INDEX($F6428:$DJ6428,1,Sheet3!$C$1)","v":0},{"$f":"+IF(Sheet3!$C$1=1,IF(DN6428<3,0,1),1)","v":1}]
[3,1,"181",4,1,32,221959.01610898922,68.75,59.590000000000018,4774.13,69.34999999999998,11.97,15.48,0,0,17.600000000000001,11.95,14.11,9.61,0,1.35,1.35,68.789999999999992,5.3100000000000005,0,27052.450000000008,27052.450000000008,27052.450000000008,0,0,0,0,0,0,0,0,0,0,0,0,5551.5199999999995,4702.6399999999994,0,4239.84,462.8,848.88,0,0,0,0,848.88,0,0,0,0,0,0,0,0,0,0,0,0,0,0,0,0,0,32603.970000000005,1,0,0,0,14.48,17.600000000000001,8.23,1.42,0.77,11.27,10.210000000000001,0,0,0,8,1,0,0,0,0,0,0,0,0,0,0,4,5.31,0,0,0,0,0,0,0,0,0,0,0,0,null,null,null,null,null,null,null,0,{"$f":"+INDEX($F6459:$DJ6459,1,Sheet3!$C$1)","v":0},{"$f":"+IF(Sheet3!$C$1=1,IF(DN6459<3,0,1),1)","v":1}]
[3,1,"186","1_1",1,1,117105.50801240231,6.44,3.79,247.82,7.51,3.79,1.81,0,0,1.23,0,2.27,1.1299999999999999,0,0,0,6.4399999999999995,0,0,845.34,845.34,845.34,0,0,0,0,0,0,0,0,0,0,0,0,492.6,492.6,0,492.6,0,0,0,0,0,0,0,0,0,0,0,0,0,0,0,0,0,0,0,0,0,0,0,0,1337.94,0,0,0,0,1.81,1.23,0,1.28,0.38,0.56999999999999995,2.2000000000000002,0,0,0,0,0,0,0,0,0,0,0,0,0,0,0,0,0,0,0,0,0,0,0,0,0,0,0,0,0,null,null,null,null,null,null,null,0,{"$f":"+INDEX($F6495:$DJ6495,1,Sheet3!$C$1)","v":0},{"$f":"+IF(Sheet3!$C$1=1,IF(DN6495<3,0,1),1)","v":1}]
[3,1,"187",0,1,1,4997.0745359780749,3.86,3.66,239.32,4.66,0,0,0,0,1.47,0,1.21,1.18,0,0,7.5,3.86,1.18,0,807.5,807.5,807.5,0,0,0,0,0,0,0,0,0,0,0,0,662.86,471.7,0,471.7,0,191.16,0,0,0,0,191.16,0,0,0,0,0,0,0,0,0,0,0,0,0,0,0,0,0,1470.3600000000001,0,0,0,0,0,1.47,0,0,0,1.21,1.98,0,0,0,0,0,0,0,0,0,0,0,0,0,0,0,1,1.18,0,0,0,0,0,0,0,0,0,0,0,0,null,null,null,null,null,null,null,0,{"$f":"+INDEX($F6507:$DJ6507,1,Sheet3!$C$1)","v":0},{"$f":"+IF(Sheet3!$C$1=1,IF(DN6507<3,0,1),1)","v":1}]
[3,2,"112","1_2",1,119,218268.89360585558,181.25999999999993,179.19,37984.58,193.97999999999993,7.94,125.88,0,0,37.81,3.9,8.52,5.15,0,1.2,1.2,181.25999999999993,0,0,84206.669999999969,62720.959999999999,0,35937.330000000009,35937.330000000009,0,26783.630000000005,21485.710000000003,0,0,0,0,0,0,0,1951.04,1951.04,0,0,1951.04,0,0,0,0,0,0,0,0,0,0,0,0,0,0,0,0,0,0,0,0,0,0,0,86157.709999999977,0.42,117.42,0,2.4500000000000002,5.59,37.81,3.9,1.3,6.5,0.17,17.87,0,0,2,0,0,0,0,0,0,0,0,0,0,0,0,0,0,0,0,0,0,0,0,0,0,0,0,0,0,null,null,null,null,null,null,null,0,{"$f":"+INDEX($F6562:$DJ6562,1,Sheet3!$C$1)","v":0},{"$f":"+IF(Sheet3!$C$1=1,IF(DN6562<3,0,1),1)","v":1}]
[3,2,"112",9,2,40,1423079.2553665461,128.82000000000002,121.38999999999999,53560.28,129.34,95.16,12.51,0,0,108.61,0,7.63,7.0000000000000007E-2,7.0000000000000007E-2,714.09999999999991,714.09999999999991,128.82000000000002,2.5599999999999996,0,136041.89000000001,88031.969999999987,0,50606.229999999996,50606.229999999996,0,37425.740000000005,13754.090000000002,34255.83,1126.21,0,33129.620000000003,0,0,0,1303.8,605.79999999999995,0,0,605.79999999999995,698,0,0,0,0,0,0,0,0,0,698,0,0,0,0,0,0,0,0,0,0,0,0,137345.69,2.59,7.19,0,0.37,2.36,108.61,0,1.24,5.71,0,0.59,428,48,445,4,2,0,0,1,2.56,0,0,0,0,0,0,0,0,0,0,0,0,0,0,0,0,0,0,0,0,null,null,null,null,null,null,null,0,{"$f":"+INDEX($F6579:$DJ6579,1,Sheet3!$C$1)","v":0},{"$f":"+IF(Sheet3!$C$1=1,IF(DN6579<3,0,1),1)","v":1}]
[3,2,"119","10_1",1,54,205195.16574511933,124.97499999999999,99.520000000000024,15266.580000000005,153.91,102.11,11.42,0,0,64.83,0,3.56,54.74,54.74,187.20000000000007,187.20000000000007,132.48999999999998,19.690000000000001,23.259999999999998,47928.91,24328.029999999992,0,13955.28,13955.28,0,10372.750000000002,11725.289999999997,11875.589999999997,11875.589999999997,0,0,0,0,0,34483.26999999999,26567.499999999996,0,0,26567.499999999996,7915.7699999999995,0,0,0,0,0,0,0,0,0,0,0,0,3260.4,0,0,350,0,0,4305.37,0,0,0,82412.179999999993,0.06,10.44,0,0,0.92,64.83,0,0.24,2.95,0.28000000000000003,73.75,3,117,119,13,1,2,0,0,0,0,0,0,0,0,0,0,0,0,0,0,0,0,0,11,17.16,0,0,1,2.5299999999999998,null,null,null,null,null,null,null,0,{"$f":"+INDEX($F6626:$DJ6626,1,Sheet3!$C$1)","v":0},{"$f":"+IF(Sheet3!$C$1=1,IF(DN6626<3,0,1),1)","v":1}]
[3,2,"11A","1_1",2,77,424079.94054906163,263.27,259.13000000000011,82494.86000000003,267.41999999999996,238.57,168.03,0,0,78.17,2.41,9.7399999999999967,4.92,0.09,8.5,8.5,263.22999999999996,0,0,165840.76,136546.98000000004,0,78391.749999999971,78391.749999999971,0,58155.23000000001,28572.42,721.36,125.2,596.16,0,0,0,0,10466.139999999998,10466.139999999998,0,0,10466.139999999998,0,0,0,0,0,0,0,0,0,0,0,0,0,0,0,0,0,0,0,0,0,0,0,176306.90000000005,14.4,134.83000000000001,0,0.87,17.93,78.17,2.41,2.37,6.55,0.04,9.07,0,2,2,28,2,0,0,0,0,0,0,0,0,0,0,0,0,0,0,0,0,0,0,0,0,0,0,0,0,null,null,null,null,null,null,null,0,{"$f":"+INDEX($F6646:$DJ6646,1,Sheet3!$C$1)","v":0},{"$f":"+IF(Sheet3!$C$1=1,IF(DN6646<3,0,1),1)","v":1}]
[3,2,"11A","10_2",1,28,88350.611353486267,57.14,49.460000000000008,11013.9,78.34999999999998,38.340000000000003,5.83,0,0,25.91,0,1.5100000000000002,40.24,34.239999999999995,33.599999999999994,33.599999999999994,73.999999999999986,0,38.19,23693.589999999993,17676.189999999999,0,10134.409999999998,10134.409999999998,0,7541.7800000000007,5641.7999999999993,375.6,375.6,0,0,0,0,0,9199.0000000000018,9059.0000000000018,0,0,9059.0000000000018,140,0,0,0,0,0,0,0,0,0,0,0,0,0,0,0,0,0,0,140,0,0,0,32892.589999999997,0.43,4.6500000000000004,0,0.18,0.56999999999999995,25.91,0,0.31,1.53,0.06,44.59,0,13,38,3,1,0,0,0,0,0,0,0,0,0,0,0,0,0,0,0,0,0,0,0,0,0,0,0,0,null,null,null,null,null,null,null,0,{"$f":"+INDEX($F6674:$DJ6674,1,Sheet3!$C$1)","v":0},{"$f":"+IF(Sheet3!$C$1=1,IF(DN6674<3,0,1),1)","v":1}]
[3,2,"11B",9,3,25,2426401.0834659711,628.69499999999994,572.14,97720.06,812.63000000000022,142.55000000000001,57.79,0,0,239.68,3.75,17.22,384.92,384.92,1367.1999999999998,1367.1999999999998,710.39,161.93,400.11000000000007,249553.36,158981.39000000001,0,91968.029999999984,91968.029999999984,0,67013.359999999986,15121.819999999992,75450.149999999994,3356.51,0,72093.64,0,0,0,101068.02000000002,68283.05,0,0,68283.05,32784.97,13295.2,0,0,0,5191.0200000000004,1414.9,0,0,0,1024.25,0,0,3222.3,5137.3,0,3500,0,0,0,0,0,0,350621.38000000012,29.4,14.95,0,0.55000000000000004,6.92,245.65,3.75,47.84,1.91,1.98,459.06,823,189,672,0,0,0,0,1,8.15,3,43.34,0,0,0,0,6,36.4,0,0,1,14.1,12,65.260000000000005,9,18.579999999999998,0,0,7,68.459999999999994,null,null,null,null,null,null,null,0,{"$f":"+INDEX($F6713:$DJ6713,1,Sheet3!$C$1)","v":0},{"$f":"+IF(Sheet3!$C$1=1,IF(DN6713<3,0,1),1)","v":1}]
[3,2,"11B",13,1,187,249096.86629517877,576.29499999999939,446.66999999999979,62587.510000000017,938.2199999999998,95.12,18.45,0,0,108.6,14.67,7.4100000000000019,582.37,0,0,0,435.25999999999993,320.66000000000008,16.489999999999998,144730.00000000017,95518.219999999987,0,54827.480000000018,54827.480000000018,0,40690.74,49211.780000000021,0,0,0,0,0,0,0,21968.409999999989,16297.689999999997,0,0,16297.689999999997,5670.72,0,0,2996.1,0,66.42,0,0,502.8,0,0,0,2071.1999999999998,0,0,0,0,0,0,0,0,0,34.200000000000003,166698.41000000015,10.67,6.29,0,0.24,1.25,108.6,9.49,3.92,1.82,1.52,788.91,0,0,0,0,0,0,0,0,0,0,0,0,0,0,0,1,0.41,0,0,0,0,0,0,0,0,0,0,0,0,null,null,null,null,null,null,null,0,{"$f":"+INDEX($F6730:$DJ6730,1,Sheet3!$C$1)","v":0},{"$f":"+IF(Sheet3!$C$1=1,IF(DN6730<3,0,1),1)","v":1}]
[3,2,"11D",6,2,492,9007991.9351690058,6071.8300000000081,5239.1200000000035,493329.40999999945,6839.3200000000052,3418.9,54.72,0,0,58.6,89.72,5795.4800000000087,73.31,6.6599999999999993,66,69,6037.1700000000092,4702.6699999999992,0,1128151.2899999996,824186.88000000012,0,475956.40000000043,469381.53000000038,6574.87,348230.47999999975,299198.52999999968,4765.880000000001,1188.6500000000001,3577.23,0,0,0,0,3111390.2700000005,994878.87000000023,0,0,994878.87000000023,2116511.399999999,449165.29,268573.34000000003,0,26252.18,53412.54,49667.199999999997,0,0,0,1264277.68,0,0,0,0,0,0,0,0,0,0,2523.9699999999998,2639.2,4239541.5600000015,15.98,11,0,1.95,24.61,58.6,70.14,5264.05,160.01,288.52,840.8,2,25,8,163,28,30,11,280,2694.06,101,1050.42,59,616.75,1,28.76,70,367.06,0,0,75,521.52,0,0,0,0,0,0,0,0,null,null,null,null,null,null,null,0,{"$f":"+INDEX($F6793:$DJ6793,1,Sheet3!$C$1)","v":0},{"$f":"+IF(Sheet3!$C$1=1,IF(DN6793<3,0,1),1)","v":1}]
[3,2,"11D",7,3,7,143598.08644707946,312.29999999999995,293.72999999999996,33821.800000000003,354.28999999999996,140.26,2.68,0,0,1.04,10.37,274.61,23.6,0,0,0,312.24,275.06,0,59278.89,55034.720000000001,0,31652.510000000002,31652.510000000002,0,23382.21,4244.17,0,0,0,0,0,0,0,158301.13,24066.400000000001,0,0,24066.400000000001,134234.72999999998,54038.09,57589.34,0,684.9,10015.02,11907.38,0,0,0,0,0,0,0,0,0,0,0,0,0,0,0,0,217580.02000000002,0,0,0,2.44,0.24,1.04,10.37,9.2799999999999994,0.65,263.42,65.59,0,0,0,0,0,0,0,0,0,6,96.36,4,178.7,0,0,5,82.75,0,0,3,147.34,0,0,0,0,0,0,0,0,null,null,null,null,null,null,null,0,{"$f":"+INDEX($F6797:$DJ6797,1,Sheet3!$C$1)","v":0},{"$f":"+IF(Sheet3!$C$1=1,IF(DN6797<3,0,1),1)","v":1}]
[3,2,"11E",8,1,2743,6778524.3727002423,10098.660000000016,8435.6400000000194,684854.4300000018,12874.380000000014,276.57,960.77,0,0,216.12,749.31,7114.3300000000054,1058.82,30.23,84.550000000000011,210.45,10000.510000000015,3156.9800000000009,0,2102536.4299999992,1109718.3399999975,0,637055.27000000072,636783.55000000075,271.72000000000003,472663.0700000014,987036.46000000031,5781.63,1116.78,4664.8500000000004,0,0,0,0,2859978.3499999992,2143012.1000000015,0,0,2143012.1000000015,716966.24999999953,245996.86,31151.03,91.8,24182.94,367720.34,10100.75,0,0,1350,27395.19,0,0,0,313.14,0,0,0,0,200,920.4,0,7543.8,4962514.7800000049,461.16,118.42,0,84.02,273.04000000000002,216.12,708.95,2250.3000000000002,517.64,3946.94,3830.54,0,13,10,362,64,13,2,35,111.88,129,621.32000000000005,15,66.12,0,0,1559,2311.2800000000002,0,0,14,99.22,4,4.75,0,0,0,0,0,0,null,null,null,null,null,null,null,0,{"$f":"+INDEX($F6846:$DJ6846,1,Sheet3!$C$1)","v":0},{"$f":"+IF(Sheet3!$C$1=1,IF(DN6846<3,0,1),1)","v":1}]
[3,2,"150",2,3,2,150587.35708496414,113.31,105.44999999999999,17467.22,114.71000000000001,89.26,89.26,0,0,0.43,0,8.51,15.11,0,0,0,112.41000000000004,95.54000000000002,0,51724.020000000004,29039.67,0,16658.62,16658.62,0,12381.05,1212.6199999999999,21471.73,0,0,0,0,0,21471.73,41379.96,3246.84,0,1106.8399999999999,2140,38133.119999999995,0,0,0,0,912.06,0,6097.54,0,0,31123.52,0,0,0,0,0,0,0,0,0,0,0,0,93103.98000000001,0,0,89.26,0,0,0.43,0,0,0,7.23,16.510000000000002,0,0,0,0,0,0,0,2,88.89,0,0,0,0,0,0,1,5.63,1,85.22,0,0,0,0,0,0,0,0,0,0,null,null,null,null,null,null,null,0,{"$f":"+INDEX($F6879:$DJ6879,1,Sheet3!$C$1)","v":0},{"$f":"+IF(Sheet3!$C$1=1,IF(DN6879<3,0,1),1)","v":1}]
[3,2,"150",12,4,4,853603.91,1424.02,1447.95,104472.20999999999,2396.3099999999995,12.59,101.28,0,0,218.56,366.3,103.58,634.29999999999995,634.29999999999995,921.30000000000007,921.30000000000007,1425.2500000000005,1115.9400000000003,0,268803.48,170317.27999999997,0,97656.719999999987,97656.719999999987,0,72660.56,2419.17,96067.03,66396.91,29670.120000000003,0,0,0,0,95354.19,29236.18,0,9883.15,19353.03,66118.009999999995,5397.8,32356.62,0,0,926.64,762.3,0,0,0,0,0,0,0,0,0,0,0,0,13311,0,0,13363.65,364157.67,90.17,0,0,1.0900000000000001,3.26,225.32,366.3,33.630000000000003,0.16,0.53,1606.59,2,539,364,1237,48,38,3,0,0,1,484.32,1,452.96,0,0,1,5.72,0,0,1,7.26,0,0,0,0,0,0,0,0,null,null,null,null,null,null,null,0,{"$f":"+INDEX($F6913:$DJ6913,1,Sheet3!$C$1)","v":0},{"$f":"+IF(Sheet3!$C$1=1,IF(DN6913<3,0,1),1)","v":1}]
[3,2,"16B","1_2",3,9,184948.47292933977,287.43,273.11,48799.750000000007,312.17999999999995,4.57,150.55000000000001,0,0,95.87,13.48,4.9400000000000004,22.59,0,2,2,287.14999999999998,0,0,86417.87000000001,81369.740000000005,0,46779.69,46779.69,0,34590.049999999996,5048.1299999999992,0,0,0,0,0,0,0,0,0,0,0,0,0,null,null,null,null,null,null,null,null,null,null,null,null,null,null,null,null,null,null,null,null,null,null,86417.87000000001,130.44,9.92,0,0.64,1.21,95.87,13.48,0.63,3.75,0.28999999999999998,47.34,0,2,0,0,0,0,0,0,0,0,0,0,0,0,0,0,0,0,0,0,0,0,0,0,0,0,0,0,0,null,null,null,null,null,null,null,0,{"$f":"+INDEX($F6927:$DJ6927,1,Sheet3!$C$1)","v":0},{"$f":"+IF(Sheet3!$C$1=1,IF(DN6927<3,0,1),1)","v":1}]
[3,2,"16D",4,1,78,1230441.8615805993,123.84000000000005,115.64,18935.780000000002,124.58000000000006,65.7,83.56,0,0,19.84,0.96,9.9799999999999969,9.5,0.28000000000000003,11.4,15.8,123.72000000000004,1.2599999999999998,0,46055.240000000005,31533.830000000009,0,18084.419999999991,18084.419999999991,0,13449.410000000003,14020.62,500.79,500.79,0,0,0,0,0,2081.4,803.4,0,0,803.4,1278,0,678,0,0,0,0,0,0,0,0,0,0,0,0,0,0,0,0,600,0,0,0,48136.639999999999,11.13,19.32,0,2.5099999999999998,50.6,19.84,0.96,5.75,2.79,0.61,10.24,0,7,5,6,1,4,1,0,0,0,0,1,1.26,0,0,0,0,0,0,0,0,0,0,0,0,0,0,0,0,null,null,null,null,null,null,null,0,{"$f":"+INDEX($F6980:$DJ6980,1,Sheet3!$C$1)","v":0},{"$f":"+IF(Sheet3!$C$1=1,IF(DN6980<3,0,1),1)","v":1}]
[3,2,"16D","10_1",3,23,816498.79498822428,418.3599999999999,398.36,90335.060000000012,420.26,184.34,20.67,0,0,303.98,7.02,4.5999999999999996,82.09,82.09,600.69999999999993,601,419.04999999999995,0,0,184035.37999999998,149327.94,0,85892.08,85892.08,0,63435.859999999986,13808.899999999994,20898.54,20898.54,0,0,0,0,0,2800,0,0,0,0,2800,0,0,0,0,0,0,0,0,0,0,0,0,0,0,0,0,0,0,2800,0,0,0,186835.38,5.0999999999999996,12.8,0,0.91,1.86,303.98,7.02,0.21,0.62,0,83.99,25,233,605,51,3,0,0,0,0,0,0,0,0,0,0,0,0,0,0,0,0,0,0,0,0,0,0,0,0,null,null,null,null,null,null,null,0,{"$f":"+INDEX($F6997:$DJ6997,1,Sheet3!$C$1)","v":0},{"$f":"+IF(Sheet3!$C$1=1,IF(DN6997<3,0,1),1)","v":1}]
[3,2,"16E",8,4,1,810676.75090440211,333.33,332.7,81105.600000000006,336.28,295.60000000000002,295.60000000000002,0,0,14.42,0,3.24,20.07,20.07,54.6,54.6,333.32999999999981,323.64999999999986,0,193942.06,134740.79,0,77251.88,77251.88,0,57488.91,606.30999999999995,58594.96,4062.65,0,0,0,0,54532.31,71753.53,0,0,0,0,71753.53,0,0,0,0,0,0,9994,0,0,61759.53,0,0,0,0,0,0,0,0,0,0,0,0,265695.58999999997,0,19.13,228.38,31.96,16.13,14.42,0,0,0,0,23.02,0,44,23,0,0,0,0,1,322.32,0,0,0,0,0,0,0,0,1,227.25,0,0,0,0,0,0,0,0,0,0,null,null,null,null,null,null,null,0,{"$f":"+INDEX($F7046:$DJ7046,1,Sheet3!$C$1)","v":0},{"$f":"+IF(Sheet3!$C$1=1,IF(DN7046<3,0,1),1)","v":1}]
[3,2,"16E",12,2,126,926909.4697526833,532.02999999999975,524.54999999999995,129230.57999999996,559.16999999999996,128.33000000000001,137.65,0,0,202.26,2.2400000000000002,114.02,75.86,65.45,420.35000000000014,515.45000000000016,529.64999999999975,18.41,0,299824.90999999997,213082.69999999995,0,122384.67999999996,122384.67999999996,0,90698.020000000048,51211.549999999981,35530.660000000003,17635.340000000004,17695.839999999997,0,0,0,199.48,27258.670000000006,20658.140000000003,12686.84,1901.8999999999996,6069.4,6600.53,0,1917.42,0,0,505.44,0,0,0,0,1211.77,0,0,0,0,0,0,0,0,2965.9,0,0,0,327083.57999999984,26.15,90.38,0.93,5.46,14.47,202.26,2.2400000000000002,9.39,18.75,80.599999999999994,103,12,172,186,473,49,345,30,2,7.13,0,0,2,8.01,0,0,2,3.27,0,0,0,0,0,0,0,0,0,0,0,0,null,null,null,null,null,null,null,0,{"$f":"+INDEX($F7064:$DJ7064,1,Sheet3!$C$1)","v":0},{"$f":"+IF(Sheet3!$C$1=1,IF(DN7064<3,0,1),1)","v":1}]
[3,2,"16F",7,2,9,50955.927128708834,130.09,123.4,10197.99,142.64000000000001,6.8,0.14000000000000001,0,0,2.0299999999999998,4.1100000000000003,92.089999999999989,31.72,0,2.4,2.4,125.97999999999999,8.86,0,21978.959999999999,17020.75,0,9879.1699999999983,9712.0999999999985,167.07,7141.58,4958.21,0,0,0,0,0,0,0,7305.17,6767.329999999999,6478.7299999999987,288.60000000000002,0,537.84,0,0,0,0,537.84,0,0,0,0,0,0,0,0,0,0,0,0,0,0,0,0,0,29284.129999999997,0,0,0,0,0.14000000000000001,2.0299999999999998,4.1100000000000003,0.02,0.67,91.38,44.27,0,0,0,11,3,2,0,0,0,0,0,0,0,0,0,2,3.32,0,0,0,0,0,0,0,0,0,0,0,0,null,null,null,null,null,null,null,0,{"$f":"+INDEX($F7094:$DJ7094,1,Sheet3!$C$1)","v":0},{"$f":"+IF(Sheet3!$C$1=1,IF(DN7094<3,0,1),1)","v":1}]
[3,2,"16G",5,3,3,405622.13035786193,228.83,223.16,14592.4,228.91,83.45,0.8,0,0,1.02,10.54,214.29,2.1800000000000002,2.1800000000000002,16.350000000000001,16.350000000000001,228.77000000000018,198.12999999999997,0,28595.859999999997,24284.550000000003,0,13953.72,13953.72,0,10330.83,1818.9299999999998,2492.38,0,2492.38,0,0,0,0,33268.649999999994,10564.54,0,3429.74,7134.8,22704.11,0,0,0,0,0,2514.56,0,0,0,18689.55,0,0,0,0,0,0,0,0,1500,0,0,0,61864.51,0.8,0,0,0,0,1.02,0.28000000000000003,1.24,200.51,4.7,2.2599999999999998,0,0,0,107,2,0,0,3,197.72,0,0,0,0,0,0,0,0,0,0,1,26.64,0,0,0,0,0,0,0,0,null,null,null,null,null,null,null,0,{"$f":"+INDEX($F7131:$DJ7131,1,Sheet3!$C$1)","v":0},{"$f":"+IF(Sheet3!$C$1=1,IF(DN7131<3,0,1),1)","v":1}]
[3,2,"16H",6,1,74,2810531.5367604964,197.71,177.34,16116.330000000004,220.26999999999995,48.73,5.01,0,0,9.89,8.3800000000000008,144.77000000000001,29.66,5.120000000000001,9.9,9.9,197.71,79.27000000000001,0,48160.380000000019,26413.239999999998,0,15145.810000000001,15145.810000000001,0,11267.429999999997,21126.570000000003,620.56999999999994,0,620.56999999999994,0,0,0,0,72712.989999999962,29302.799999999992,0,10093,19209.800000000007,43410.19,2884.35,34713,0,0,4790.34,52.5,0,0,0,970,0,0,0,0,0,0,0,0,0,0,0,0,120873.36999999997,0.6,2.39,0,1.02,0.92,9.89,8.3800000000000008,71.37,8,61.32,52.22,0,0,0,29,0,37,0,1,3.2,2,6.64,14,40.07,0,0,33,30.29,0,0,1,0.5,0,0,0,0,0,0,0,0,null,null,null,null,null,null,null,0,{"$f":"+INDEX($F7180:$DJ7180,1,Sheet3!$C$1)","v":0},{"$f":"+IF(Sheet3!$C$1=1,IF(DN7180<3,0,1),1)","v":1}]
[3,2,"16H",13,3,134,1749301.2564633305,14309.789999999994,13554.619999999997,1272036.6899999995,17983.859999999997,48.35,537.30999999999995,0,0,3509.32,1371.86,559.67000000000007,8331.6299999999992,0,0,0,14278.689999999997,3657.11,0,2207714.0199999996,2126392.7199999993,0,1245507.4199999992,1187206.8699999992,58300.549999999988,880885.30000000016,81321.299999999901,0,0,0,0,0,0,0,464503.25,135618.65,0,117107.54999999999,18511.100000000002,328884.60000000003,262115.29,10707.04,0,0,49576.71,5918.36,0,0,0,0,0,0,0,0,0,0,0,0,0,0,0,567.20000000000005,2672217.27,40.14,7.68,0,489,0.49,3509.32,155.18,15.4,2.02,537.45000000000005,12005.7,0,0,0,0,0,0,0,0,0,28,2672.47,6,495.83,0,0,52,329.88,0,0,6,58.36,0,0,0,0,0,0,0,0,null,null,null,null,null,null,null,0,{"$f":"+INDEX($F7213:$DJ7213,1,Sheet3!$C$1)","v":0},{"$f":"+IF(Sheet3!$C$1=1,IF(DN7213<3,0,1),1)","v":1}]
[3,2,"16I",0,1,2,228110.00123877521,2.0499999999999998,2.37,831.19,2.4,0.13,0.13,0,0,0.2,0,0.8,0.92,0,0,262.8,2.0500000000000003,0.3,0,1397.0499999999997,1145.75,0,656.89,656.89,0,488.86,251.29999999999998,0,0,0,0,0,0,0,338.97,290.86,0,0,290.86,48.11,0,0,0,0,48.11,0,0,0,0,0,0,0,0,0,0,0,0,0,0,0,0,0,1736.02,0,0,0,0,0.13,0.2,0,0,0.02,0.59,1.27,0,0,0,0,0,0,0,0,0,0,0,0,0,0,0,1,0.3,0,0,0,0,0,0,0,0,0,0,0,0,null,null,null,null,null,null,null,0,{"$f":"+INDEX($F7215:$DJ7215,1,Sheet3!$C$1)","v":0},{"$f":"+IF(Sheet3!$C$1=1,IF(DN7215<3,0,1),1)","v":1}]
[3,2,"16I",12,5,1,1008200.3785340834,4022.1,3953.59,258525.25,4836.7,0,0,0,0,341.17,0,287.29000000000002,3393.64,0,240.4,240.4,4022.0999999999967,94.9,0,449347.16,424397.99,0,241151.3,241151.3,0,183246.69,606.30999999999995,24342.86,5909.3,18433.560000000001,0,0,0,0,11220,3755,0,3755,0,7465,0,0,0,0,7465,0,0,0,0,0,0,0,0,0,0,0,0,0,0,0,0,0,460567.16,0,0,0,0,0,341.17,0,111.8,0,175.49,4208.24,0,43,24,707,21,485,19,0,0,0,0,0,0,0,0,1,94.9,0,0,0,0,0,0,0,0,0,0,0,0,null,null,null,null,null,null,null,0,{"$f":"+INDEX($F7261:$DJ7261,1,Sheet3!$C$1)","v":0},{"$f":"+IF(Sheet3!$C$1=1,IF(DN7261<3,0,1),1)","v":1}]
[3,2,"16J",5,1,93,214692.11935808562,310.57000000000005,267.34999999999997,20127.810000000009,338.43,15.79,23.62,0,0,11.79,10.38,244.8599999999999,19.920000000000002,0.31,1.8499999999999999,3.85,309.85000000000002,60.259999999999984,0,64278.970000000008,32837.1,0,18917.020000000004,18861.160000000003,55.86,13920.080000000004,31316.670000000016,125.2,125.2,0,0,0,0,0,91613.890000000014,67442.349999999991,0,323.7,67118.649999999994,24171.539999999997,9708.6,7830.6,0,774.9,2470.5,117.6,0,0,0,3214.34,0,0,0,0,0,0,0,0,0,0,0,55,155892.85999999993,11.51,4.53,0,5.76,1.82,11.79,7.6,3.13,194.03,37.51,47.78,0,1,1,3,0,0,0,4,11.96,3,16.57,4,14.57,0,0,13,15.8,0,0,1,1.1200000000000001,0,0,0,0,0,0,0,0,null,null,null,null,null,null,null,0,{"$f":"+INDEX($F7282:$DJ7282,1,Sheet3!$C$1)","v":0},{"$f":"+IF(Sheet3!$C$1=1,IF(DN7282<3,0,1),1)","v":1}]
[3,2,"170","1_2",2,15,70571.566873239528,161.94,161.79,18100.98,173.37,0.66,93.65,0,0,40.6,10.08,1.9600000000000002,15.65,0,0,0,161.84,0,0,38532.44,29332.000000000007,0,16863.809999999998,16863.809999999998,0,12468.19,9200.44,0,0,0,0,0,0,0,0,0,0,0,0,0,null,null,null,null,null,null,null,null,null,null,null,null,null,null,null,null,null,null,null,null,null,null,38532.44,86,1.25,0,5.62,0.78,40.6,10.08,0.46,0.86,0.32,27.08,0,0,0,0,0,0,0,0,0,0,0,0,0,0,0,0,0,0,0,0,0,0,0,0,0,0,0,0,0,null,null,null,null,null,null,null,0,{"$f":"+INDEX($F7331:$DJ7331,1,Sheet3!$C$1)","v":0},{"$f":"+IF(Sheet3!$C$1=1,IF(DN7331<3,0,1),1)","v":1}]
[3,2,"170",7,3,1,12994.336936885184,43.85,43.83,2866.04,43.85,0,0,0,0,5.0199999999999996,0,27.2,11.63,0,0.9,0.9,43.849999999999994,0,0,5400.8600000000006,4793.92,0,2762.42,2762.42,0,2031.5,606.94000000000005,0,0,0,0,0,0,0,0,0,0,0,0,0,null,null,null,null,null,null,null,null,null,null,null,null,null,null,null,null,null,null,null,null,null,null,5400.8600000000006,0,0,0,0,0,5.0199999999999996,0,0,0,27.2,11.63,0,0,0,3,1,1,1,0,0,0,0,0,0,0,0,0,0,0,0,0,0,0,0,0,0,0,0,0,0,null,null,null,null,null,null,null,0,{"$f":"+INDEX($F7347:$DJ7347,1,Sheet3!$C$1)","v":0},{"$f":"+IF(Sheet3!$C$1=1,IF(DN7347<3,0,1),1)","v":1}]
[3,2,"181",2,3,94,4964353.0813804595,4032.7099999999996,3799.809999999999,705854.06000000029,4124.5099999999993,2621.81,2614.9299999999998,0,0,195.74,24.2,189.39000000000001,1008.45,25.33,211,211,3990.9999999999991,2430.75,0,1850961.7500000002,1163719.8799999999,0,673547.99000000022,664678.27000000014,8869.7199999999993,490171.88999999978,56945.509999999937,630296.36000000022,16872.95,427.27,0,0,0,612996.14000000013,1072266.3399999996,148160.45000000001,0,147710.65000000002,449.8,924105.8899999999,20146.939999999999,0,0,0,1701,1670.33,0,0,0,900587.62,0,0,0,0,0,0,0,0,0,0,0,0,2923228.0900000003,7.35,0,2575.35,30.47,1.76,195.74,24.2,19.55,15.82,13.08,1100.25,0,150,98,63,7,1,1,76,2245.42,3,153.38999999999999,0,0,0,0,1,10.9,0,0,1,16.97,0,0,0,0,0,0,0,0,null,null,null,null,null,null,null,0,{"$f":"+INDEX($F7398:$DJ7398,1,Sheet3!$C$1)","v":0},{"$f":"+IF(Sheet3!$C$1=1,IF(DN7398<3,0,1),1)","v":1}]
[3,2,"181","10_1",4,13,2576092.3735525827,3786.2200000000003,3823.45,377035.8,3888.91,384.57,228,0,0,1282.45,30.86,147.35999999999999,2097.5500000000002,2097.5499999999997,4576.6000000000004,4577.2,3786.2199999999993,2203.67,0,989752.39,599747.81999999995,0,343460.44,343460.44,0,256287.38000000003,7875.9699999999975,382128.6,369455.66,12672.939999999999,0,0,0,0,242444.59999999998,55907.37,0,47685.37,8222,186537.23,51669.34,0,0,0,0,0,0,0,0,65846.36,0,0,0,0,592.77,0,0,0,48509.4,0,0,19919.36,1232196.9899999998,209.43,2.87,0,15.7,0,1282.45,30.86,9.5299999999999994,25.42,109.17,2200.2399999999998,4,3367,2161,485,17,112,2,4,1141.1099999999999,2,499.75,0,0,0,0,0,0,0,0,0,0,0,0,0,0,3,205.3,0,0,null,null,null,null,null,null,null,592.77,{"$f":"+INDEX($F7428:$DJ7428,1,Sheet3!$C$1)","v":592.77},{"$f":"+IF(Sheet3!$C$1=1,IF(DN7428<3,0,1),1)","v":1}]
[3,2,"184",3,1,2,40009.123798301836,11.95,9.5300000000000011,762.83999999999992,11.95,0,4.2,0,0,4.2,0.51,1.48,1.56,0,0,0,11.95,0,0,2213.87,1179.83,0,676.44,676.44,0,503.39,1034.04,0,0,0,0,0,0,0,728.12,728.12,0,728.12,0,0,0,0,0,0,0,0,0,0,0,0,0,0,0,0,0,0,0,0,0,0,0,0,2941.99,0,0,0,4.2,0,4.2,0.51,0,0,1.48,1.56,0,0,0,0,0,0,0,0,0,0,0,0,0,0,0,0,0,0,0,0,0,0,0,0,0,0,0,0,0,null,null,null,null,null,null,null,0,{"$f":"+INDEX($F7465:$DJ7465,1,Sheet3!$C$1)","v":0},{"$f":"+IF(Sheet3!$C$1=1,IF(DN7465<3,0,1),1)","v":1}]
[3,2,"184",7,2,552,3843930.2884659227,7186.4299999999939,7659.3299999999954,706712.60000000044,7232.0599999999949,2475.3200000000002,126.53,0,0,335.53,188.56,6116.9699999999893,418.84,11.110000000000001,26.1,28.1,7177.5299999999943,5388.6799999999912,0,1369810.6199999987,1031298.1000000004,0,596750.58999999985,588799.34999999986,7951.2400000000007,434547.50999999989,335222.64000000031,3289.88,0,3289.88,0,0,0,0,1843797.3699999992,531852.22999999975,0,531852.22999999975,0,1311945.1400000006,200378.86,39538.410000000003,0,0,462844.62,206595.68,0,0,0,352075.04,0,0,0,0,0,0,0,0,0,0,21112.13,29400.400000000001,3213607.9900000016,59.94,0,0,61.08,1.45,339.59,123.42,14.26,7.64,6069.41,464.47,0,0,0,143,22,8,1,113,1526.91,33,496.01,6,91.61,10,189.49,391,3073.59,0,0,185,2098.7600000000002,0,0,0,0,0,0,0,0,null,null,null,null,null,null,null,0,{"$f":"+INDEX($F7482:$DJ7482,1,Sheet3!$C$1)","v":0},{"$f":"+IF(Sheet3!$C$1=1,IF(DN7482<3,0,1),1)","v":1}]
[3,2,"184",13,2,441,1306656.7079764502,8550.6800000000021,7325.68,578545.18999999994,9577.9399999999987,12.78,143.9,0,0,2428.4899999999998,3003.71,149.24,2825.34,0,0,4.8,8470.3700000000063,650.34000000000026,0,1216988.0699999998,955833.58,0,550559.32999999949,548980.7099999995,1578.6200000000001,405274.25000000035,261154.48999999859,0,0,0,0,0,0,0,147711.62000000005,116168.65000000005,0,84339.220000000016,31829.43,31542.96999999999,4815.6499999999996,1018.42,0,0,14958.35,491.4,201.5,0,0,637.45000000000005,0,0,0,0,0,0,0,5997,0,0,0,3423.2,1364699.6899999997,62.19,0,0,76.42,0.1,2433.6799999999998,231.29,3.33,0.56999999999999995,142.44,3852.6,0,0,0,0,0,0,0,1,2.25,1,31.21,2,16.18,0,0,51,93.61,1,7.19,3,5.92,0,0,0,0,0,0,0,0,null,null,null,null,null,null,null,0,{"$f":"+INDEX($F7514:$DJ7514,1,Sheet3!$C$1)","v":0},{"$f":"+IF(Sheet3!$C$1=1,IF(DN7514<3,0,1),1)","v":1}]
[3,2,"185",6,2,51,2444518.374762672,937.10000000000014,714.12000000000012,60282.430000000015,969.92,97.16,14.66,0,0,144.63999999999999,23.48,372.13,382.19,3.34,18.600000000000001,18.600000000000001,937,104.44999999999997,0,131470.38000000003,99718.45,0,57488.910000000011,57071.850000000013,417.06,42229.54,29867.610000000015,1884.32,0,1884.32,0,0,0,0,63562.159999999989,27592.319999999996,0,27592.319999999996,0,35969.840000000004,4389,7757.87,0,0,2219.4,1797.25,0,0,0,18613.97,0,0,0,0,0,0,0,0,0,0,1192.3499999999999,0,195032.54000000004,6.97,1.06,0,2.16,3.15,145.91,12.06,314.52999999999997,17.190000000000001,35.39,415.01,0,0,0,89,12,20,3,3,49.97,2,14.63,1,28.34,1,8.6,4,13.94,0,0,2,17.649999999999999,0,0,0,0,0,0,0,0,null,null,null,null,null,null,null,0,{"$f":"+INDEX($F7549:$DJ7549,1,Sheet3!$C$1)","v":0},{"$f":"+IF(Sheet3!$C$1=1,IF(DN7549<3,0,1),1)","v":1}]
[3,2,"186","1_1",3,14,1015716.2124968958,1320.3300000000002,1268.0500000000002,161643.36000000002,1328.6000000000004,874.21,793.52,0,0,231.31,58.33,182.86,54.31,0,0,0,1323.47,1086.7699999999998,0,283025.98,270372.46999999997,0,156737.61999999994,154394.30999999994,2343.31,113634.84999999999,8488.3399999999965,4165.17,0,0,0,0,0,4165.17,276144.20999999996,35808.400000000009,0,35808.400000000009,0,240335.81000000006,11949.15,49432.18,0,0,9410.58,8504.14,12860.14,0,0,95792.4,0,0,0,0,0,0,0,0,0,0,42348.82,10038.4,559170.18999999994,351.12,275.89,16.739999999999998,122.64,7.44,251,58.33,1.1299999999999999,0,178.56,62.58,0,0,0,0,0,0,0,9,683.64,2,120.92,3,172.13,7,337.27,5,69.849999999999994,5,191.36,4,91.1,0,0,0,0,0,0,0,0,null,null,null,null,null,null,null,0,{"$f":"+INDEX($F7598:$DJ7598,1,Sheet3!$C$1)","v":0},{"$f":"+IF(Sheet3!$C$1=1,IF(DN7598<3,0,1),1)","v":1}]
[3,2,"186","10_1",3,105,5259934.457081045,8261.8999999999978,8053.8099999999995,722090.40000000014,9409.8900000000012,278.10000000000002,293.04000000000002,0,0,1678,54.44,555.29,5681.13,5681.1299999999992,10306.999999999993,10312.799999999992,8264.84,6522.5999999999995,0,2049358.3299999998,1147659.7500000002,0,659117.1599999998,656773.84999999974,2343.31,488542.5900000002,63590.419999999911,838108.15999999968,789124.47,48983.689999999995,0,0,0,0,1120109.9899999998,250716.39000000004,0,247789.79000000004,2926.6,869393.59999999986,322018.59999999998,181027.74,0,0,58046.27,15745.55,6037.16,0,0,139952.20000000001,0,0,0,0,7318.91,0,0,0,6976,0,17345.580000000002,114925.59,3169468.3199999994,145.11000000000001,0.49,0,144.82,0.08,1680.49,2.71,16.05,2.89,534.49,6829.12,35,7129,5378,2206,349,111,6,20,1892.9,24,1924.21,12,1058.33,3,151.57,55,445.84,2,82.58,11,184.09,0,0,0,0,18,520.74,0,0,null,null,null,null,null,null,null,7318.91,{"$f":"+INDEX($F7633:$DJ7633,1,Sheet3!$C$1)","v":7318.91},{"$f":"+IF(Sheet3!$C$1=1,IF(DN7633<3,0,1),1)","v":1}]
[3,2,"187","1_2",1,43,240892.59296669136,158.21,137.98999999999998,11312.279999999997,163.15,0.78,109.67,0,0,13.06,19.600000000000001,13.410000000000002,2.4700000000000002,0,0.75,0.75,158.21000000000004,27.45,0,32204.519999999997,17250.100000000002,0,9991.61,9991.61,0,7258.4900000000007,14954.42,0,0,0,0,0,0,0,19380.169999999998,16389.409999999996,0,16389.409999999996,0,2990.76,0,1920,0,0,949.16,0,0,0,0,0,0,0,0,0,0,0,0,0,0,0,0,121.6,51584.69000000001,103.9,0,0,2.19,3.2,13.06,19.600000000000001,7.0000000000000007E-2,0,13.34,7.41,0,0,0,4,1,0,0,0,0,0,0,2,3.2,0,0,9,5.91,0,0,0,0,0,0,0,0,0,0,0,0,null,null,null,null,null,null,null,0,{"$f":"+INDEX($F7665:$DJ7665,1,Sheet3!$C$1)","v":0},{"$f":"+IF(Sheet3!$C$1=1,IF(DN7665<3,0,1),1)","v":1}]
[3,2,"187",5,4,3,2858630.4805109715,2082.42,1826.34,141001.35,2321.8900000000003,1198.46,42.37,0,0,228.19,8.56,1248.5700000000002,554.73,57.34,242.4,243.9,2083.3399999999983,1516.7999999999988,0,260043.96999999997,234137.68,0,134253.96,134253.96,0,99883.72,1818.9299999999998,24087.360000000001,20838.810000000001,3248.55,0,0,0,0,163145.20000000001,11265,0,11265,0,151880.20000000001,0,97129.89,0,0,0,21861.06,0,0,0,12830.08,0,0,0,0,0,0,0,0,0,0,19500.37,558.79999999999995,423189.17000000004,35.090000000000003,0,0,0,2.13,233.34,8.56,1.04,1049.42,158.52000000000001,794.2,0,166,108,137,7,0,0,1,78.92,0,0,1,1337.43,1,638.42999999999995,0,0,0,0,1,723.42,0,0,0,0,0,0,0,0,null,null,null,null,null,null,null,0,{"$f":"+INDEX($F7681:$DJ7681,1,Sheet3!$C$1)","v":0},{"$f":"+IF(Sheet3!$C$1=1,IF(DN7681<3,0,1),1)","v":1}]
[3,3,"111","10_1",2,5,90148.263765658747,47.28,0,0,93.63,0.93,0,0,0,0.54,0,0,93.09,93.09,141.20000000000002,141.20000000000002,0,93.38,93.63,11603.08,0,0,0,0,0,0,0,11603.08,11603.08,0,0,0,0,0,33650.32,9686,0,0,9686,23964.32,0,11200.23,0,0,0,0,0,0,0,0,0,0,0,0,0,2100,0,0,10664.09,0,0,0,45253.4,0,0,0,0,0,0.54,0,0,0,0,93.09,0,107,71,0,0,0,0,0,0,0,0,3,58.35,0,0,0,0,0,0,0,0,0,0,0,0,0,0,5,92.84,null,null,null,null,null,null,null,0,{"$f":"+INDEX($F7732:$DJ7732,1,Sheet3!$C$1)","v":0},{"$f":"+IF(Sheet3!$C$1=1,IF(DN7732<3,0,1),1)","v":1}]
[3,3,"112","10_15",2,2,24736.354321999388,7.0600000000000005,0,0,14.04,4.0199999999999996,0,0,0,3.76,0,0.26,6.02,6.02,45.2,45.2,0,0,5.96,3023.54,0,0,0,0,0,0,0,3023.54,3023.54,0,0,0,0,0,2333.1799999999998,733.18,0,0,733.18,1600,0,0,0,0,0,0,0,0,0,0,0,0,0,0,0,0,0,0,1600,0,0,0,5356.7199999999993,0,0,0,0,0,3.76,0,0,0.26,0,10.02,0,29,29,0,0,0,0,0,0,0,0,0,0,0,0,0,0,0,0,0,0,0,0,0,0,0,0,0,0,null,null,null,null,null,null,null,0,{"$f":"+INDEX($F7749:$DJ7749,1,Sheet3!$C$1)","v":0},{"$f":"+IF(Sheet3!$C$1=1,IF(DN7749<3,0,1),1)","v":1}]
[3,3,"119",11,1,95,595727.09335471876,487.28500000000003,0,0,925.69,67.56,5.91,0,0,42.99,0,0.46000000000000008,845.28,300.5,280.65000000000003,298.54999999999995,0,3.46,874.16000000000008,38038.449999999997,0,0,0,0,0,0,0,38038.449999999997,6009.5799999999981,32028.870000000014,0,0,0,0,105790.00000000001,101198.40000000002,0,0,101198.40000000002,4591.6000000000004,0,0,0,0,0,0,0,0,0,0,0,0,368.6,0,0,0,0,0,4223,0,0,0,143828.44999999995,1.07,3.92,0,0.09,0.83,42.99,0,0.22,2.23,1.1000000000000001,872.85,0,48,25,987,91,361,32,0,0,0,0,0,0,0,0,0,0,0,0,0,0,0,0,2,3.46,0,0,0,0,null,null,null,null,null,null,null,0,{"$f":"+INDEX($F7767:$DJ7767,1,Sheet3!$C$1)","v":0},{"$f":"+IF(Sheet3!$C$1=1,IF(DN7767<3,0,1),1)","v":1}]
[3,3,"11D","10_15",2,1,28599.253329510804,15.99,0,0,60.67,0,0,0,0,15.99,0,0,0,0,55,55,0,0,0,4711.38,0,0,0,0,0,0,0,4711.38,4711.38,0,0,0,0,0,2469.4,2469.4,0,0,2469.4,0,0,0,0,0,0,0,0,0,0,0,0,0,0,0,0,0,0,0,0,0,0,0,7180.7800000000007,0,0,0,0,0,15.99,0,0,0,0,44.68,0,44,22,0,0,0,0,0,0,0,0,0,0,0,0,0,0,0,0,0,0,0,0,0,0,0,0,0,0,null,null,null,null,null,null,null,0,{"$f":"+INDEX($F7816:$DJ7816,1,Sheet3!$C$1)","v":0},{"$f":"+IF(Sheet3!$C$1=1,IF(DN7816<3,0,1),1)","v":1}]
[3,3,"150","10_15",3,1,23863.919999999998,6.75,0,0,7.21,0,0,0,0,6.63,0,0,0.12,0.12,62.8,62.8,0,0,0,5203.8100000000004,0,0,0,0,0,0,0,5203.8100000000004,5203.8100000000004,0,0,0,0,0,0,0,0,0,0,0,null,null,null,null,null,null,null,null,null,null,null,null,null,null,null,null,null,null,null,null,null,null,5203.8100000000004,0,0,0,0,0,6.63,0,0,0,0,0.57999999999999996,0,40,44,0,0,0,0,0,0,0,0,0,0,0,0,0,0,0,0,0,0,0,0,0,0,0,0,0,0,null,null,null,null,null,null,null,0,{"$f":"+INDEX($F7848:$DJ7848,1,Sheet3!$C$1)","v":0},{"$f":"+IF(Sheet3!$C$1=1,IF(DN7848<3,0,1),1)","v":1}]
[3,3,"16E","10_1",1,1,1533.5401758351168,1.1299999999999999,0,0,1.33,1.1299999999999999,0,0,0,0.67,0,0,0.46,0.46,2.8,2.8,0,0,0,250.4,0,0,0,0,0,0,0,250.4,250.4,0,0,0,0,0,146.9,146.9,0,146.9,0,0,0,0,0,0,0,0,0,0,0,0,0,0,0,0,0,0,0,0,0,0,0,0,397.3,0,0,0,0,0,0.67,0,0,0,0,0.66,0,2,2,0,0,0,0,0,0,0,0,0,0,0,0,0,0,0,0,0,0,0,0,0,0,0,0,0,0,null,null,null,null,null,null,null,0,{"$f":"+INDEX($F7883:$DJ7883,1,Sheet3!$C$1)","v":0},{"$f":"+IF(Sheet3!$C$1=1,IF(DN7883<3,0,1),1)","v":1}]
[3,3,"16F","10_1",2,3,41720.79294218048,31.015000000000001,0,0,42.07,0,0,0,0,6.29,0,5.1199999999999992,29.4,29.400000000000002,54.2,54.2,0,11.530000000000001,24.3,4753.1499999999996,0,0,0,0,0,0,0,4753.1499999999996,4753.1499999999996,0,0,0,0,0,4361.7,3809.38,2041.38,0,1768,552.32000000000005,0,0,0,0,408.24,0,0,0,0,0,0,0,0,0,0,0,0,0,0,0,0,144.08000000000001,9114.8499999999985,0,0,0,0,0,6.29,0,0,0.48,4.79,30.5,0,40,26,0,0,0,0,0,0,0,0,0,0,0,0,1,3.85,0,0,0,0,0,0,0,0,0,0,0,0,null,null,null,null,null,null,null,0,{"$f":"+INDEX($F7900:$DJ7900,1,Sheet3!$C$1)","v":0},{"$f":"+IF(Sheet3!$C$1=1,IF(DN7900<3,0,1),1)","v":1}]
[3,3,"16H",11,3,4,185127.06497924167,48.93,0,0,61.269999999999996,0,0.09,0,0,11.88,0,1.07,35.89,35.89,166.35000000000002,166.35000000000002,0,1.06,0,37144.68,0,0,0,0,0,0,0,37144.68,0,37144.68,0,0,0,0,3718.63,3546.91,0,3546.91,0,171.72,0,0,0,0,171.72,0,0,0,0,0,0,0,0,0,0,0,0,0,0,0,0,0,40863.31,0.09,0,0,0,0,11.88,0,0,0,1.07,48.23,0,0,0,549,19,523,18,0,0,0,0,0,0,0,0,1,1.06,0,0,0,0,0,0,0,0,0,0,0,0,null,null,null,null,null,null,null,0,{"$f":"+INDEX($F7934:$DJ7934,1,Sheet3!$C$1)","v":0},{"$f":"+IF(Sheet3!$C$1=1,IF(DN7934<3,0,1),1)","v":1}]
[3,3,"170",5,1,1,4277.9672310285241,1.41,0,0,1.41,0,0,0,0,0,0,1.41,0,0,1.95,1.95,0,0,0,238.67,0,0,0,0,0,0,0,238.67,0,238.67,0,0,0,0,0,0,0,0,0,0,null,null,null,null,null,null,null,null,null,null,null,null,null,null,null,null,null,null,null,null,null,null,238.67,0,0,0,0,0,0,0,0,1.3,0,0,0,0,0,12,1,0,0,0,0,0,0,0,0,0,0,0,0,0,0,0,0,0,0,0,0,0,0,0,0,null,null,null,null,null,null,null,0,{"$f":"+INDEX($F7967:$DJ7967,1,Sheet3!$C$1)","v":0},{"$f":"+IF(Sheet3!$C$1=1,IF(DN7967<3,0,1),1)","v":1}]
[3,3,"184","10_15",2,10,27971.66988627283,5.3100000000000005,0,0,5.3100000000000005,0,0,0,0,5.31,0,0,0,0,75.800000000000011,75.800000000000011,0,2.19,0,26037.48,0,0,0,0,0,0,0,26037.48,26037.48,0,0,0,0,0,686.09999999999991,686.09999999999991,0,686.09999999999991,0,0,0,0,0,0,0,0,0,0,0,0,0,0,0,0,0,0,0,0,0,0,0,0,26723.579999999998,0,0,0,0,0,5.31,0,0,0,0,0,0,60,31,0,0,0,0,0,0,0,0,0,0,0,0,0,0,0,0,0,0,0,0,0,0,0,0,0,0,null,null,null,null,null,null,null,0,{"$f":"+INDEX($F8015:$DJ8015,1,Sheet3!$C$1)","v":0},{"$f":"+IF(Sheet3!$C$1=1,IF(DN8015<3,0,1),1)","v":1}]
[3,3,"185","10_15",1,14,71101.712738302522,13.94,0,0,15.01,0,0.92,0,0,7.44,0,1.86,3.72,3.7199999999999998,124.60000000000002,125.41200000000001,0,0,0,7808.5300000000007,0,0,0,0,0,0,0,7808.5300000000007,7092.49,716.04,0,0,0,0,561.25,415.65,0,415.65,0,145.6,0,0,0,0,0,0,0,0,0,0,0,0,0,0,0,0,0,0,145.6,0,0,0,8369.7800000000007,0.92,0,0,0,0,7.44,0,0,0.23,1.62,4.79,0,70,74,38,8,1,1,0,0,0,0,0,0,0,0,0,0,0,0,0,0,0,0,0,0,0,0,0,0,null,null,null,null,null,null,null,0,{"$f":"+INDEX($F8034:$DJ8034,1,Sheet3!$C$1)","v":0},{"$f":"+IF(Sheet3!$C$1=1,IF(DN8034<3,0,1),1)","v":1}]
[3,3,"187",12,1,39,211426.79700400017,224.89999999999992,6.15,425.18,228.97999999999993,12.57,1.54,0,0,66.63,0,95.34999999999998,61.38,61.38,181.04999999999995,192.24999999999994,11.129999999999999,113.89,0,21824.140000000003,0,0,0,0,0,0,0,21824.140000000003,1251.98,20572.160000000003,0,0,0,0,39498.470000000008,20261.469999999998,0,20261.469999999998,0,19236.999999999996,0,7269.17,0,0,8749.36,389.55,0,0,0,1435.06,0,0,0,0,1286.26,0,0,0,0,0,0,107.6,61322.609999999993,0,0,0,0,1.54,66.63,0,2.35,11.19,80.36,65.459999999999994,0,20,12,924,97,5,1,1,15.38,0,0,1,30.7,0,0,21,54.09,0,0,1,3.71,0,0,0,0,2,29.63,0,0,null,null,null,null,null,null,null,1286.26,{"$f":"+INDEX($F8083:$DJ8083,1,Sheet3!$C$1)","v":1286.26},{"$f":"+IF(Sheet3!$C$1=1,IF(DN8083<3,0,1),1)","v":1}]
[3,4,"112",5,1,15,133739.21114273212,68.660000000000011,0,0,69.09,25.32,4.62,0,0,4.78,0.3,58.44,0.52,0,0,0,0,26.740000000000002,0,0,0,0,0,0,0,0,0,0,0,0,0,0,0,0,15168.500000000002,8476.9,0,0,8476.9,6691.6,0,0,0,0,0,1106.96,0,0,0,5584.64,0,0,0,0,0,0,0,0,0,0,0,0,15168.500000000002,4.09,0.3,0,0,0.01,4.78,0.3,1.1599999999999999,53.45,0,0.95,0,0,0,0,0,0,0,3,26.68,0,0,0,0,0,0,0,0,0,0,1,10.64,0,0,0,0,0,0,0,0,null,null,null,null,null,null,null,0,{"$f":"+INDEX($F8101:$DJ8101,1,Sheet3!$C$1)","v":0},{"$f":"+IF(Sheet3!$C$1=1,IF(DN8101<3,0,1),1)","v":1}]
[3,4,"11B","10_2",1,47,3713080.8519141888,4206.5949999999993,11.61,4619.8700000000008,8363.8000000000011,30.77,8.69,0,0,16.920000000000002,6.59,0.45,8308,8066.4600000000009,2362.7999999999993,2370.7999999999993,20.28,7898.96,385.07000000000005,0,0,0,0,0,0,0,0,0,0,0,0,0,0,0,430263.31000000006,49572.399999999994,0,0,49572.399999999994,380690.91,3786.44,0,0,0,0,0,0,74.400000000000006,0,0,373631.35,0,247.52,267.2,0,0,0,0,2684,0,0,0,430263.31000000006,5.87,2.4,0,0,0.42,16.920000000000002,6.59,2.33,0.65,0,8328.56,1,1949,270,332,23,1160,77,0,0,1,16.14,0,0,0,0,0,0,0,0,0,0,2,3.34,1,1.35,0,0,0,0,null,null,null,null,null,null,null,0,{"$f":"+INDEX($F8150:$DJ8150,1,Sheet3!$C$1)","v":0},{"$f":"+IF(Sheet3!$C$1=1,IF(DN8150<3,0,1),1)","v":1}]
[3,4,"11D",12,1,62,155820.75682255931,165.10500000000005,9.9099999999999984,1199.0199999999998,263.29000000000002,20.350000000000001,15.93,0,0,24.18,0.26,23.94,157.52000000000001,19.57,30.9,75.100000000000023,24.3,5.84,175.88000000000002,0,0,0,0,0,0,0,0,0,0,0,0,0,0,0,38520.099999999991,37489.299999999996,0,0,37489.299999999996,1030.8000000000002,0,0,0,144,769.5,0,0,0,0,0,0,0,74.099999999999994,43.2,0,0,0,0,0,0,0,0,38520.099999999991,6,3.32,0,0,6.52,24.18,0.26,16.39,7.48,9.73,186.77,0,2,9,101,17,28,12,0,0,0,0,0,0,0,0,3,4.75,0,0,0,0,1,0.54,1,0.39,0,0,0,0,null,null,null,null,null,null,null,0,{"$f":"+INDEX($F8182:$DJ8182,1,Sheet3!$C$1)","v":0},{"$f":"+IF(Sheet3!$C$1=1,IF(DN8182<3,0,1),1)","v":1}]
[3,4,"16B",2,1,1,34813.881471600544,18.510000000000002,0,0,18.510000000000002,18.510000000000002,18.510000000000002,0,0,0,0,0,0,0,0,0,0,0,0,0,0,0,0,0,0,0,0,0,0,0,0,0,0,0,0,0,0,0,0,0,null,null,null,null,null,null,null,null,null,null,null,null,null,null,null,null,null,null,null,null,null,null,0,0,0,18.510000000000002,0,0,0,0,0,0,0,0,0,0,0,0,0,0,0,0,0,0,0,0,0,0,0,0,0,0,0,0,0,0,0,0,0,0,0,0,0,null,null,null,null,null,null,null,0,{"$f":"+INDEX($F8217:$DJ8217,1,Sheet3!$C$1)","v":0},{"$f":"+IF(Sheet3!$C$1=1,IF(DN8217<3,0,1),1)","v":1}]
[3,4,"16D",7,1,1,928.58500000000004,2.15,0,0,2.15,0,0,0,0,0,0,2.15,0,0,0,0,0,0,0,0,0,0,0,0,0,0,0,0,0,0,0,0,0,0,559,559,0,0,559,0,0,0,0,0,0,0,0,0,0,0,0,0,0,0,0,0,0,0,0,0,0,0,559,0,0,0,0,0,0,0,0,0,2.15,0,0,0,0,0,0,0,0,0,0,0,0,0,0,0,0,0,0,0,0,0,0,0,0,0,0,0,0,0,0,null,null,null,null,null,null,null,0,{"$f":"+INDEX($F8234:$DJ8234,1,Sheet3!$C$1)","v":0},{"$f":"+IF(Sheet3!$C$1=1,IF(DN8234<3,0,1),1)","v":1}]
[3,4,"16F",12,1,26,67561.141514554532,55.949999999999996,15.750000000000002,1315.3400000000001,61.819999999999993,0.31,4.3,0,0,10.87,0,30.880000000000003,9.9,9.8999999999999986,43.400000000000006,48.900000000000006,22.18,10.5,0,0,0,0,0,0,0,0,0,0,0,0,0,0,0,0,6350.7199999999993,4988.3,3943.1000000000004,0,1045.2,1362.4199999999998,0,0,0,0,1362.42,0,0,0,0,0,0,0,0,0,0,0,0,0,0,0,0,0,6350.7199999999993,3.08,0.53,0,0.12,0.39,10.87,0,0.95,1.66,25.67,15.77,0,8,20,103,13,35,5,0,0,0,0,0,0,0,0,9,8.58,0,0,0,0,0,0,0,0,0,0,0,0,null,null,null,null,null,null,null,0,{"$f":"+INDEX($F8268:$DJ8268,1,Sheet3!$C$1)","v":0},{"$f":"+IF(Sheet3!$C$1=1,IF(DN8268<3,0,1),1)","v":1}]
[3,4,"16I",4,1,66,477050.87932631234,120.91,1.95,150.71,126.69000000000001,26.59,31.65,0,0,9.0500000000000007,4.6100000000000003,68.95,6.65,1.03,12.25,12.25,0.51,33.83,0,0,0,0,0,0,0,0,0,0,0,0,0,0,0,0,25708.329999999998,20657.879999999997,3084.8100000000004,2812.4800000000005,14760.590000000004,5050.45,0,0,0,0,5050.45,0,0,0,0,0,0,0,0,0,0,0,0,0,0,0,0,0,25708.329999999998,4.12,0.73,0,0.36,26.44,9.0500000000000007,4.6100000000000003,1.25,4.38,55.71,12.43,0,1,0,27,2,42,4,0,0,0,0,0,0,0,0,33,31.35,0,0,0,0,0,0,0,0,0,0,0,0,null,null,null,null,null,null,null,0,{"$f":"+INDEX($F8301:$DJ8301,1,Sheet3!$C$1)","v":0},{"$f":"+IF(Sheet3!$C$1=1,IF(DN8301<3,0,1),1)","v":1}]
[3,4,"16J",3,1,2,87501.786260704874,45.089999999999996,0,0,46.56,12.55,32.96,0,0,0.2,11.93,0,0,0,0,0,0,0,0,0,0,0,0,0,0,0,0,0,0,0,0,0,0,0,3946.2,3946.2,0,0,3946.2,0,0,0,0,0,0,0,0,0,0,0,0,0,0,0,0,0,0,0,0,0,0,0,3946.2,19.54,0,0,0.87,12.55,0.2,11.93,0,0,0,1.47,0,0,0,0,0,0,0,0,0,0,0,0,0,0,0,0,0,0,0,0,0,0,0,0,0,0,0,0,0,null,null,null,null,null,null,null,0,{"$f":"+INDEX($F8316:$DJ8316,1,Sheet3!$C$1)","v":0},{"$f":"+IF(Sheet3!$C$1=1,IF(DN8316<3,0,1),1)","v":1}]
[3,4,"181",8,1,46,398284.9955392835,1023.0200000000001,0,0,1124.4200000000003,10.36,10.79,0,0,169.36,3.65,169.65,669.57,0,1.3,2.1,0,44.75,0,0,0,0,0,0,0,0,0,0,0,0,0,0,0,0,54170.329999999987,48125.409999999982,0,31506.91,16618.5,6044.920000000001,0,0,0,0,5978.52,0,0,0,0,0,0,0,0,0,0,0,0,0,0,0,0,66.400000000000006,54170.329999999987,4.8099999999999996,0,0,4.33,1.65,169.36,3.65,38.89,6.35,63.78,770.97,0,1,0,2,0,0,0,0,0,0,0,0,0,0,0,13,39.5,0,0,0,0,0,0,0,0,0,0,0,0,null,null,null,null,null,null,null,0,{"$f":"+INDEX($F8349:$DJ8349,1,Sheet3!$C$1)","v":0},{"$f":"+IF(Sheet3!$C$1=1,IF(DN8349<3,0,1),1)","v":1}]
[3,4,"181","10_1",1,1,4630.0684220980784,4.32,0,0,4.32,0,0,0,0,4.32,0,0,0,0,11,11,0,0,0,0,0,0,0,0,0,0,0,0,0,0,0,0,0,0,515.4,515.4,0,515.4,0,0,0,0,0,0,0,0,0,0,0,0,0,0,0,0,0,0,0,0,0,0,0,0,515.4,0,0,0,0,0,4.32,0,0,0,0,0,0,8,6,0,0,0,0,0,0,0,0,0,0,0,0,0,0,0,0,0,0,0,0,0,0,0,0,0,0,null,null,null,null,null,null,null,0,{"$f":"+INDEX($F8350:$DJ8350,1,Sheet3!$C$1)","v":0},{"$f":"+IF(Sheet3!$C$1=1,IF(DN8350<3,0,1),1)","v":1}]
[3,4,"181","10_2",1,1,7201.6887721803378,11.31,0,0,11.31,0,0,0,0,9.15,0,0.53,1.63,1.63,3.6,3.6,0,0,0,0,0,0,0,0,0,0,0,0,0,0,0,0,0,0,1090.3699999999999,1090.3699999999999,0,1090.3699999999999,0,0,0,0,0,0,0,0,0,0,0,0,0,0,0,0,0,0,0,0,0,0,0,0,1090.3699999999999,0,0,0,0,0,9.15,0,0,0,0,1.63,0,0,6,0,0,0,0,0,0,0,0,0,0,0,0,0,0,0,0,0,0,0,0,0,0,0,0,0,0,null,null,null,null,null,null,null,0,{"$f":"+INDEX($F8351:$DJ8351,1,Sheet3!$C$1)","v":0},{"$f":"+IF(Sheet3!$C$1=1,IF(DN8351<3,0,1),1)","v":1}]
[3,4,"181",11,1,22,79842.032035677155,125.79,0,0,168.37,0.27,3.08,0,0,44.46,0,5.04,73.209999999999994,33.970000000000006,47.549999999999983,79.55,0,39.239999999999995,0,0,0,0,0,0,0,0,0,0,0,0,0,0,0,0,10788.130000000001,10027.130000000003,0,7354.72,2672.41,760.99999999999989,0,0,0,0,147.41999999999999,0,0,0,0,0,0,0,0,0,302.5,0,0,0,0,0,0,311.08,10788.130000000001,0,0,0,3.08,0,44.46,0,0.02,0,4.62,115.79,0,0,2,132,32,128,17,0,0,0,0,0,0,0,0,1,0.91,0,0,0,0,0,0,0,0,1,6.05,0,0,null,null,null,null,null,null,null,302.5,{"$f":"+INDEX($F8352:$DJ8352,1,Sheet3!$C$1)","v":302.5},{"$f":"+IF(Sheet3!$C$1=1,IF(DN8352<3,0,1),1)","v":1}]
[3,4,"181",12,1,5,30130.390049974954,37.479999999999997,0,0,37.479999999999997,0.36,0.33,0,0,12.14,0,7.6199999999999992,17.39,0.27,14.700000000000001,16.5,0,0.74,0,0,0,0,0,0,0,0,0,0,0,0,0,0,0,0,1966.7399999999998,1846.8599999999997,0,1846.8599999999997,0,119.88,0,0,0,0,119.88,0,0,0,0,0,0,0,0,0,0,0,0,0,0,0,0,0,1966.7399999999998,0,0,0,0,0.33,12.14,0,0.06,0,3.94,17.39,0,0,0,63,5,25,5,0,0,0,0,0,0,0,0,1,0.74,0,0,0,0,0,0,0,0,0,0,0,0,null,null,null,null,null,null,null,0,{"$f":"+INDEX($F8353:$DJ8353,1,Sheet3!$C$1)","v":0},{"$f":"+IF(Sheet3!$C$1=1,IF(DN8353<3,0,1),1)","v":1}]
[3,4,"181",13,1,134,401589.14775424334,3512.5299999999984,49.94,3428.3100000000004,3930.8099999999995,1.25,65.67,0,0,459.43,30.97,56.089999999999989,2900.37,0,0,0,374.52,71.36,0,0,0,0,0,0,0,0,0,0,0,0,0,0,0,0,182800.84000000003,174520.64,0,74137.940000000017,100382.70000000003,8280.2000000000007,4764.45,535,0,0,2192.35,0,0,0,0,0,0,0,0,0,0,0,0,0,0,0,0,788.4,182800.84000000003,1.4,0,0,64.03,0.24,459.43,0.01,4.6500000000000004,0.66,47.52,3318.65,0,0,0,0,0,0,0,0,0,1,13.81,1,1.1399999999999999,0,0,15,13.61,0,0,0,0,0,0,0,0,0,0,0,0,null,null,null,null,null,null,null,0,{"$f":"+INDEX($F8354:$DJ8354,1,Sheet3!$C$1)","v":0},{"$f":"+IF(Sheet3!$C$1=1,IF(DN8354<3,0,1),1)","v":1}]
[3,4,"184",0,1,2,239.7,0,0,0,0,0,0,0,0,0,0,0,0,0,0,0.23799999999999999,0,0,0,0,0,0,0,0,0,0,0,0,0,0,0,0,0,0,47.6,0,0,0,0,47.6,0,0,0,0,0,0,0,0,0,0,0,0,0,0,0,0,0,0,47.6,0,0,0,47.6,0,0,0,0,0,0,0,0,0,0,0,0,0,0,0,0,0,0,0,0,0,0,0,0,0,0,0,0,0,0,0,0,0,0,0,0,0,0,0,0,null,null,null,null,null,null,null,0,{"$f":"+INDEX($F8355:$DJ8355,1,Sheet3!$C$1)","v":0},{"$f":"+IF(Sheet3!$C$1=1,IF(DN8355<3,0,1),1)","v":1}]
[3,4,"184","1_1",1,2,22157.533602634154,5.83,0,0,5.83,5.31,2.84,0,0,0.34,7.0000000000000007E-2,2.58,0,0,0,0,0,1.96,0,0,0,0,0,0,0,0,0,0,0,0,0,0,0,0,1747.92,683.25,0,683.25,0,1064.67,0,1064.67,0,0,0,0,0,0,0,0,0,0,0,0,0,0,0,0,0,0,0,0,1747.92,0,2.56,0,0,0.28000000000000003,0.34,7.0000000000000007E-2,1.2,0,1.38,0,0,0,0,0,0,0,0,0,0,0,0,1,1.96,0,0,0,0,0,0,0,0,0,0,0,0,0,0,0,0,null,null,null,null,null,null,null,0,{"$f":"+INDEX($F8356:$DJ8356,1,Sheet3!$C$1)","v":0},{"$f":"+IF(Sheet3!$C$1=1,IF(DN8356<3,0,1),1)","v":1}]
[3,4,"184","1_2",1,29,193653.94274456153,517.64,0,0,558.15,0.06,248.03,0,0,39.520000000000003,203.11,10.34,16.64,0,0,0,35.15,319.12,0,0,0,0,0,0,0,0,0,0,0,0,0,0,0,0,54373.36,21565.460000000006,0,21565.460000000006,0,32807.9,0,0,0,0,812.92,0,0,0,0,0,0,0,0,0,0,0,0,22088.5,0,0,0,9906.48,54373.36,226.88,2.36,0,18.59,0.2,39.520000000000003,203.11,0,0,10.34,57.15,0,0,0,0,0,0,0,0,0,0,0,0,0,0,0,4,5.24,0,0,0,0,0,0,0,0,0,0,0,0,null,null,null,null,null,null,null,0,{"$f":"+INDEX($F8357:$DJ8357,1,Sheet3!$C$1)","v":0},{"$f":"+IF(Sheet3!$C$1=1,IF(DN8357<3,0,1),1)","v":1}]
[3,4,"184",3,1,5,162952.20413895519,67.95,0,0,77.92,7.69,24.76,0,0,36.659999999999997,0,4.92,1.61,0,0,0,0,49.72,0,0,0,0,0,0,0,0,0,0,0,0,0,0,0,0,5849.43,3302.03,0,3302.03,0,2547.4,0,0,0,0,0,0,0,0,0,0,0,0,0,0,0,0,0,1953,0,0,0,594.4,5849.43,8.74,0,0,8.43,7.59,36.659999999999997,0,7.0000000000000007E-2,0.03,4.82,11.58,0,0,0,0,0,0,0,0,0,0,0,0,0,0,0,0,0,0,0,0,0,0,0,0,0,0,0,0,0,null,null,null,null,null,null,null,0,{"$f":"+INDEX($F8358:$DJ8358,1,Sheet3!$C$1)","v":0},{"$f":"+IF(Sheet3!$C$1=1,IF(DN8358<3,0,1),1)","v":1}]
[3,4,"184",4,1,15,180216.71899359627,61.42,0.67,67.12,79.650000000000006,9.65,14.85,0,0,3.64,3.63,9.06,30.24,2.39,1.2,1.2,2.98,10.719999999999999,0,0,0,0,0,0,0,0,0,0,0,0,0,0,0,0,10046.370000000001,7434.170000000001,0,3105.85,4328.32,2612.2000000000003,0,296.39999999999998,0,0,1098.68,462,0,0,0,755.12,0,0,0,0,0,0,0,0,0,0,0,0,10046.370000000001,4.25,0,0,3.02,7.58,3.64,3.63,0.3,0,8.49,48.47,0,0,0,7,1,0,0,1,3.08,0,0,1,2.31,0,0,5,7.09,0,0,1,4.4000000000000004,0,0,0,0,0,0,0,0,null,null,null,null,null,null,null,0,{"$f":"+INDEX($F8359:$DJ8359,1,Sheet3!$C$1)","v":0},{"$f":"+IF(Sheet3!$C$1=1,IF(DN8359<3,0,1),1)","v":1}]
[3,4,"184",5,1,36,635119.1261518934,387.33,0,0,393.2,216.57,1.62,0,0,16.78,12.67,322.44000000000005,33.82,0,0,0,27.469999999999995,88.6,0,0,0,0,0,0,0,0,0,0,0,0,0,0,0,0,28535.350000000002,19296.920000000002,0,19296.920000000002,0,9238.43,624.17999999999995,0,0,0,1206.54,0,0,0,0,7407.71,0,0,0,0,0,0,0,0,0,0,0,0,28535.350000000002,0.69,0,0,0.88,0.05,16.78,12.67,0.65,251.06,56.99,39.69,0,0,0,0,0,0,0,2,68.540000000000006,1,1.01,0,0,0,0,7,7.41,0,0,0,0,0,0,0,0,0,0,0,0,null,null,null,null,null,null,null,0,{"$f":"+INDEX($F8360:$DJ8360,1,Sheet3!$C$1)","v":0},{"$f":"+IF(Sheet3!$C$1=1,IF(DN8360<3,0,1),1)","v":1}]
[3,4,"184",6,1,74,12402906.876290508,2356.9500000000003,1.93,126.2,2907.87,597.80999999999995,29.11,0,0,228.24,17.8,1882.8300000000004,198.97,1.57,19.95,19.95,35.18,1011.5600000000001,0,0,0,0,0,0,0,0,0,0,0,0,0,0,0,0,207348.12,85297.160000000018,0,74270.460000000006,11026.699999999999,122050.96,8933.4,65097.3,0,0,4066.26,7549.92,0,0,0,19396.84,0,0,0,0,0,0,0,0,0,0,0,17007.240000000002,207348.12,17.16,0,0,11.14,0.81,228.24,5.82,1800.63,1.69,67.67,749.89,0,0,0,127,6,0,0,3,113.1,2,26.81,6,252.57,0,0,13,26.88,0,0,3,100.41,0,0,0,0,0,0,0,0,null,null,null,null,null,null,null,0,{"$f":"+INDEX($F8361:$DJ8361,1,Sheet3!$C$1)","v":0},{"$f":"+IF(Sheet3!$C$1=1,IF(DN8361<3,0,1),1)","v":1}]
[3,4,"184",7,1,180,2037473.5223556384,2697.5100000000011,40.900000000000006,3040.7599999999993,2729.0000000000018,1785.88,63.22,0,0,174.7,6.01,2403.4299999999989,50.15,0,0.9,0.9,480.19999999999953,1506.2200000000012,0,0,0,0,0,0,0,0,0,0,0,0,0,0,0,0,277679.63,94215.98,0,93807.78,408.2,183463.64999999994,5338.9,0,0,0,79833.97,39216.99,0,0,0,51566.19,0,0,0,0,0,0,0,0,0,0,0,7507.6,277679.63,2.2599999999999998,0,0,60.59,0.37,174.7,6.01,1.03,44.65,2338.8000000000002,81.64,0,0,0,4,2,0,0,14,440.07,2,13.37,0,0,0,0,111,569.89,0,0,34,407.28,0,0,0,0,0,0,0,0,null,null,null,null,null,null,null,0,{"$f":"+INDEX($F8362:$DJ8362,1,Sheet3!$C$1)","v":0},{"$f":"+IF(Sheet3!$C$1=1,IF(DN8362<3,0,1),1)","v":1}]
[3,4,"184",8,1,106,854750.42467966245,1558.2499999999995,27.18,2321.6799999999998,2070.1099999999997,59.98,37.81,0,0,419.29,58.95,471.50000000000006,570.70000000000005,1.49,14.25,14.25,23.47,352.54,0,0,0,0,0,0,0,0,0,0,0,0,0,0,0,0,92045.730000000025,70356.009999999995,0,46315.509999999995,24040.499999999996,21689.719999999998,0,4926.5,0,0,10799,301.35000000000002,0,0,0,0,0,0,0,0,0,0,0,0,0,0,0,5662.87,92045.730000000025,34.479999999999997,0,0,1.37,1.96,419.29,58.95,191.11,8.07,179.97,1082.56,0,0,0,84,4,7,0,0,0,0,0,2,7.2,0,0,35,66.66,0,0,1,2.87,0,0,0,0,0,0,0,0,null,null,null,null,null,null,null,0,{"$f":"+INDEX($F8363:$DJ8363,1,Sheet3!$C$1)","v":0},{"$f":"+IF(Sheet3!$C$1=1,IF(DN8363<3,0,1),1)","v":1}]
[3,4,"184","10_1",1,1,15846.372513526132,19.489999999999998,0,0,20.47,0,0,0,0,16.53,0,2.96,0,0,17.2,17.2,0,0,0,0,0,0,0,0,0,0,0,0,0,0,0,0,0,0,1311.23,1311.23,0,1311.23,0,0,0,0,0,0,0,0,0,0,0,0,0,0,0,0,0,0,0,0,0,0,0,0,1311.23,0,0,0,0,0,16.53,0,0,0,2.96,0.98,0,9,14,0,0,0,0,0,0,0,0,0,0,0,0,0,0,0,0,0,0,0,0,0,0,0,0,0,0,null,null,null,null,null,null,null,0,{"$f":"+INDEX($F8364:$DJ8364,1,Sheet3!$C$1)","v":0},{"$f":"+IF(Sheet3!$C$1=1,IF(DN8364<3,0,1),1)","v":1}]
[3,4,"184","10_15",1,3,49685.538236659566,3.05,0,0,3.09,0.22,0,0,0,2.83,0,0.22,0,0,114.35,114.35,0,0,0,0,0,0,0,0,0,0,0,0,0,0,0,0,0,0,394.75,394.75,0,394.75,0,0,0,0,0,0,0,0,0,0,0,0,0,0,0,0,0,0,0,0,0,0,0,0,394.75,0,0,0,0,0,2.83,0,0.22,0,0,0.04,3,98,15,5,3,8,1,0,0,0,0,0,0,0,0,0,0,0,0,0,0,0,0,0,0,0,0,0,0,null,null,null,null,null,null,null,0,{"$f":"+INDEX($F8365:$DJ8365,1,Sheet3!$C$1)","v":0},{"$f":"+IF(Sheet3!$C$1=1,IF(DN8365<3,0,1),1)","v":1}]
[3,4,"184",11,1,39,426713.71644354105,910.16,608.06000000000006,42894.079999999994,929.21999999999991,72.77,8.43,0,0,179.01,5.42,39.419999999999995,677.88,569.19999999999982,432.79999999999984,532.79999999999995,719.84000000000015,346.22,0,0,0,0,0,0,0,0,0,0,0,0,0,0,0,0,19822.48,16710.39,0,13661.039999999999,3049.35,3112.09,0,0,0,0,2048.4899999999998,0,0,0,0,0,0,0,0,0,0,0,0,0,600,0,0,463.6,19822.48,3.43,0,0,4.24,0.76,179.01,5.42,2.29,3.34,33.18,696.94,0,1,15,2444,120,222,46,0,0,0,0,0,0,0,0,6,12.61,0,0,0,0,0,0,0,0,0,0,0,0,null,null,null,null,null,null,null,0,{"$f":"+INDEX($F8366:$DJ8366,1,Sheet3!$C$1)","v":0},{"$f":"+IF(Sheet3!$C$1=1,IF(DN8366<3,0,1),1)","v":1}]
[3,4,"184",12,1,7,36437.713566409941,103.88,4.24,277.25,105.27999999999999,1.6,0,0,0,16.739999999999998,0,18.309999999999999,68.83,3.69,19.05,29.25,4.24,14.09,0,0,0,0,0,0,0,0,0,0,0,0,0,0,0,0,8649.2099999999991,6343.14,0,2428.7400000000002,3914.4,2306.0700000000002,0,0,0,0,2306.0700000000002,0,0,0,0,0,0,0,0,0,0,0,0,0,0,0,0,0,8649.2099999999991,0,0,0,0,0,16.739999999999998,0,0.17,1.6,14.72,70.23,0,0,0,120,4,3,0,0,0,0,0,0,0,0,0,5,14.09,0,0,0,0,0,0,0,0,0,0,0,0,null,null,null,null,null,null,null,0,{"$f":"+INDEX($F8367:$DJ8367,1,Sheet3!$C$1)","v":0},{"$f":"+IF(Sheet3!$C$1=1,IF(DN8367<3,0,1),1)","v":1}]
[3,4,"184",13,1,138,363712.49821677367,2629.38,522.48,39773.17,3203.3199999999997,1.1000000000000001,76.819999999999993,0,0,513.29999999999995,100.94,40.74,1897.58,0,0,0,758.86999999999989,162.34,0,0,0,0,0,0,0,0,0,0,0,0,0,0,0,0,88058.050000000047,82362.190000000046,0,49781.289999999994,32580.899999999998,5695.8600000000006,1015.12,0,0,0,3411.49,257.25,0,0,0,0,0,0,0,0,0,0,0,0,0,0,0,1012,88058.050000000047,33.020000000000003,0,0,42.98,0,514.12,83.13,0.14000000000000001,1.1000000000000001,36.68,2471.52,0,0,0,0,0,0,0,0,0,1,32.869999999999997,0,0,0,0,14,21.03,0,0,2,2.4500000000000002,0,0,0,0,0,0,0,0,null,null,null,null,null,null,null,0,{"$f":"+INDEX($F8368:$DJ8368,1,Sheet3!$C$1)","v":0},{"$f":"+IF(Sheet3!$C$1=1,IF(DN8368<3,0,1),1)","v":1}]
[3,4,"185",0,1,1,55658.844752636287,0.81,0,0,0.81,0,0,0,0,0,0,0.81,0,0,0,81.599999999999994,0,0.45,0,0,0,0,0,0,0,0,0,0,0,0,0,0,0,0,72.900000000000006,0,0,0,0,72.900000000000006,0,0,0,0,72.900000000000006,0,0,0,0,0,0,0,0,0,0,0,0,0,0,0,0,0,72.900000000000006,0,0,0,0,0,0,0,0,0.16,0.65,0,0,0,0,0,0,0,0,0,0,0,0,0,0,0,0,1,0.45,0,0,0,0,0,0,0,0,0,0,0,0,null,null,null,null,null,null,null,0,{"$f":"+INDEX($F8369:$DJ8369,1,Sheet3!$C$1)","v":0},{"$f":"+IF(Sheet3!$C$1=1,IF(DN8369<3,0,1),1)","v":1}]
[3,4,"185","1_1",1,5,217246.99175611619,108.01,0,0,108.13000000000001,102.38,102.38,0,0,0.27,0.62,0,4.74,0.98,1.8,1.8,0,100.36,0,0,0,0,0,0,0,0,0,0,0,0,0,0,0,0,35890.310000000005,4986.6999999999989,0,4986.6999999999989,0,30903.610000000004,0,0,0,0,0,0,2274,0,0,20453.97,0,0,0,0,0,0,0,0,0,0,8175.64,0,35890.310000000005,0,102.38,0,0,0,0.27,0.62,0,0,0,4.8600000000000003,0,0,0,12,0,0,0,5,100.29,0,0,0,0,1,63.96,0,0,2,18.95,0,0,0,0,0,0,0,0,0,0,null,null,null,null,null,null,null,0,{"$f":"+INDEX($F8370:$DJ8370,1,Sheet3!$C$1)","v":0},{"$f":"+IF(Sheet3!$C$1=1,IF(DN8370<3,0,1),1)","v":1}]
[3,4,"185","1_2",1,5,53838.508518635492,22.54,2.21,238.60000000000002,23.92,0.98,5.84,0,0,10.67,0,5.81,0.22,0,0,0,2.2400000000000002,8.34,0,0,0,0,0,0,0,0,0,0,0,0,0,0,0,0,3622.62,568.6,568.6,0,0,3054.02,1714,398.8,0,0,941.22,0,0,0,0,0,0,0,0,0,0,0,0,0,0,0,0,0,3622.62,4.0999999999999996,0.98,0,0,0.76,10.67,0,0,0,5.81,1.6,0,0,0,0,0,0,0,0,0,1,4.88,1,1.86,0,0,2,5.81,0,0,0,0,0,0,0,0,0,0,0,0,null,null,null,null,null,null,null,0,{"$f":"+INDEX($F8371:$DJ8371,1,Sheet3!$C$1)","v":0},{"$f":"+IF(Sheet3!$C$1=1,IF(DN8371<3,0,1),1)","v":1}]
[3,4,"185",2,1,1,20490.006240775168,14.81,0,0,14.81,8.69,8.64,0,0,4,0,1.02,1.1499999999999999,0,0,0,0,9.4600000000000009,0,0,0,0,0,0,0,0,0,0,0,0,0,0,0,0,4046.12,1022.7,0,1022.7,0,3023.42,0,0,0,0,0,0,0,0,0,3023.42,0,0,0,0,0,0,0,0,0,0,0,0,4046.12,0,0,8.64,0,0,4,0,0.05,0,0,1.1499999999999999,0,0,0,0,0,0,0,1,9.4600000000000009,0,0,0,0,0,0,0,0,0,0,0,0,0,0,0,0,0,0,0,0,null,null,null,null,null,null,null,0,{"$f":"+INDEX($F8372:$DJ8372,1,Sheet3!$C$1)","v":0},{"$f":"+IF(Sheet3!$C$1=1,IF(DN8372<3,0,1),1)","v":1}]
[3,4,"185",3,1,1,432762.3025538699,55.03,0,0,55.03,55.03,55.03,0,0,0,0,0,0,0,0,0,0,54.41,0,0,0,0,0,0,0,0,0,0,0,0,0,0,0,0,11414.82,0,0,0,0,11414.82,0,0,0,0,0,0,0,0,0,11414.82,0,0,0,0,0,0,0,0,0,0,0,0,11414.82,0,0,0,34.94,20.09,0,0,0,0,0,0,0,0,0,0,0,0,0,1,54.41,0,0,0,0,0,0,0,0,0,0,0,0,0,0,0,0,0,0,0,0,null,null,null,null,null,null,null,0,{"$f":"+INDEX($F8373:$DJ8373,1,Sheet3!$C$1)","v":0},{"$f":"+IF(Sheet3!$C$1=1,IF(DN8373<3,0,1),1)","v":1}]
[3,4,"185",4,1,8,642442.24340384,107.5,0,0,108.66999999999999,67.38,67.239999999999995,0,0,8.06,6.26,5.15,20.79,0,0,0,3.43,59.86999999999999,0,0,0,0,0,0,0,0,0,0,0,0,0,0,0,0,27743.599999999999,2124.77,0,2124.77,0,25618.829999999998,0,11645.24,0,0,186.3,0,0,0,0,13787.29,0,0,0,0,0,0,0,0,0,0,0,0,27743.599999999999,0,12.27,0,0,54.97,8.06,6.26,0.91,1.74,2.06,21.96,0,0,0,0,0,0,0,2,35.53,0,0,4,23.19,0,0,1,1.1499999999999999,0,0,0,0,0,0,0,0,0,0,0,0,null,null,null,null,null,null,null,0,{"$f":"+INDEX($F8374:$DJ8374,1,Sheet3!$C$1)","v":0},{"$f":"+IF(Sheet3!$C$1=1,IF(DN8374<3,0,1),1)","v":1}]
[3,4,"185",5,1,13,329253.89799545082,138.72999999999999,0,0,148.13,0,2.14,0,0,7.2,4.8600000000000003,122.31,2.2200000000000002,0,0,0,0.83000000000000007,108.24999999999999,0,0,0,0,0,0,0,0,0,0,0,0,0,0,0,0,25514.58,0,0,0,0,25514.58,0,5739.7,0,0,0,0,0,0,0,19774.88,0,0,0,0,0,0,0,0,0,0,0,0,25514.58,0,0,0,0,0,7.2,4.8600000000000003,0.19,117.23,2.4300000000000002,11.62,0,0,0,0,0,0,0,10,96.87,0,0,1,11.38,0,0,0,0,0,0,0,0,0,0,0,0,0,0,0,0,null,null,null,null,null,null,null,0,{"$f":"+INDEX($F8375:$DJ8375,1,Sheet3!$C$1)","v":0},{"$f":"+IF(Sheet3!$C$1=1,IF(DN8375<3,0,1),1)","v":1}]
[3,4,"185",6,1,24,2493015.1436502901,1001.3000000000002,0,0,1017.7000000000002,172.26,1.1599999999999999,0,0,53.58,6.49,383.57,556.5,0,0,11,156.82999999999996,190.51999999999998,0,0,0,0,0,0,0,0,0,0,0,0,0,0,0,0,80482.680000000008,20195.259999999998,0,20195.259999999998,0,60287.42,35119.519999999997,10890.72,0,0,283.5,9163.66,0,0,0,4830.0200000000004,0,0,0,0,0,0,0,0,0,0,0,0,80482.680000000008,0,0,0,0,1.1599999999999999,53.58,6.49,358.11,12.3,5.57,572.9,0,0,0,0,0,0,0,2,8.0399999999999991,7,67.489999999999995,4,26.05,0,0,1,1.75,0,0,5,114.9,0,0,0,0,0,0,0,0,null,null,null,null,null,null,null,0,{"$f":"+INDEX($F8376:$DJ8376,1,Sheet3!$C$1)","v":0},{"$f":"+IF(Sheet3!$C$1=1,IF(DN8376<3,0,1),1)","v":1}]
[3,4,"185",7,1,30,142833.81836318946,111.14,5,326.95,113.77,48.35,0,0,0,7.53,0.06,102.13,1.42,0,0,0,4.6199999999999992,93.45,0,0,0,0,0,0,0,0,0,0,0,0,0,0,0,0,19254.559999999998,1045.5,0,1045.5,0,18209.059999999998,3172.24,0,0,0,7806.62,0,0,0,0,7230.2,0,0,0,0,0,0,0,0,0,0,0,0,19254.559999999998,0,0,0,0,0,7.53,0.06,0.08,0,101.2,4.05,0,0,0,0,0,0,0,1,36.99,1,7.07,0,0,0,0,27,49.61,0,0,0,0,0,0,0,0,0,0,0,0,null,null,null,null,null,null,null,0,{"$f":"+INDEX($F8377:$DJ8377,1,Sheet3!$C$1)","v":0},{"$f":"+IF(Sheet3!$C$1=1,IF(DN8377<3,0,1),1)","v":1}]
[3,4,"185",8,1,39,962180.04295106896,612.61000000000013,7.16,598.45000000000005,625.5300000000002,86.43,58.22,0,0,92.82,0,175.02999999999997,286.54000000000002,0,2.7,5.444,132.62999999999997,99.61999999999999,0,0,0,0,0,0,0,0,0,0,0,0,0,0,0,0,40938.079999999994,13495.65,0,13495.65,0,27442.43,9061.33,6135,0,0,4359.42,58.8,0,0,0,7657.08,0,0,0,0,0,0,0,0,170.8,0,0,0,40938.079999999994,0.5,1,0,19.739999999999998,32.78,97.02,0,48.21,29.74,42.48,299.45999999999998,0,0,1,4,1,8,1,2,24.05,4,40.32,3,7.78,0,0,18,26.91,0,0,1,0.56000000000000005,0,0,0,0,0,0,0,0,null,null,null,null,null,null,null,0,{"$f":"+INDEX($F8378:$DJ8378,1,Sheet3!$C$1)","v":0},{"$f":"+IF(Sheet3!$C$1=1,IF(DN8378<3,0,1),1)","v":1}]
[3,4,"185","10_15",1,8,104318.33356075501,22.79,0,0,22.79,0,0,0,0,13.9,0,2.98,5.91,5.91,190.2,190.2,0,0,0,0,0,0,0,0,0,0,0,0,0,0,0,0,0,0,509.7,509.7,0,509.7,0,0,0,0,0,0,0,0,0,0,0,0,0,0,0,0,0,0,0,0,0,0,0,0,509.7,0,0,0,0,0,13.9,0,0.53,0.92,0.96,5.91,0,129,99,0,0,2,2,0,0,0,0,0,0,0,0,0,0,0,0,0,0,0,0,0,0,0,0,0,0,null,null,null,null,null,null,null,0,{"$f":"+INDEX($F8379:$DJ8379,1,Sheet3!$C$1)","v":0},{"$f":"+IF(Sheet3!$C$1=1,IF(DN8379<3,0,1),1)","v":1}]
[3,4,"185",11,1,11,60480.514544257923,34.730000000000004,3.34,218.4,37.239999999999995,0,0,0,0,27.89,0,0.9,5.94,0.85,36.899999999999991,99.899999999999991,3.42,0,0,0,0,0,0,0,0,0,0,0,0,0,0,0,0,0,2811,231.4,0,231.4,0,2579.6,0,0,0,0,0,0,0,0,0,0,0,0,0,0,0,0,0,0,2579.6,0,0,0,2811,0,0,0,0,0,27.89,0,0.03,0,0.87,8.4499999999999993,0,0,0,150,30,64,2,0,0,0,0,0,0,0,0,0,0,0,0,0,0,0,0,0,0,0,0,0,0,null,null,null,null,null,null,null,0,{"$f":"+INDEX($F8380:$DJ8380,1,Sheet3!$C$1)","v":0},{"$f":"+IF(Sheet3!$C$1=1,IF(DN8380<3,0,1),1)","v":1}]
[3,4,"185",12,1,5,19405.632663428292,25.16,8.81,576.08000000000004,25.830000000000002,0.17,9.76,0,0,8.06,0,4.6999999999999993,2.64,2.64,13.95,15.95,8.9600000000000009,3.6199999999999997,0,0,0,0,0,0,0,0,0,0,0,0,0,0,0,0,1596.86,1072.82,0,1072.82,0,524.04,0,0,0,0,327.24,0,0,0,0,0,0,0,0,0,0,0,0,0,140,0,0,56.8,1596.86,9.61,0,0,0,0.15,8.06,0,0.84,0,3.77,3.31,0,0,0,66,16,10,1,0,0,0,0,0,0,0,0,2,2.02,0,0,0,0,0,0,0,0,0,0,0,0,null,null,null,null,null,null,null,0,{"$f":"+INDEX($F8381:$DJ8381,1,Sheet3!$C$1)","v":0},{"$f":"+IF(Sheet3!$C$1=1,IF(DN8381<3,0,1),1)","v":1}]
[3,4,"185",13,1,31,205405.83079430691,826.32999999999993,79.699999999999989,7621.99,1475.4299999999996,0.14000000000000001,15.6,0,0,136.91999999999999,11.83,17.96,644.02,0,0,0,99.43,16.87,0,0,0,0,0,0,0,0,0,0,0,0,0,0,0,0,25552.67,16109.730000000001,0,16109.730000000001,0,9442.94,8250,0,0,0,505.44,0,687.5,0,0,0,0,0,0,0,0,0,0,0,0,0,0,0,25552.67,1.85,0,0,13.75,0,136.91999999999999,8.65,1.21,0.32,16.28,1293.1199999999999,0,0,0,0,0,0,0,0,0,1,13.75,0,0,0,0,3,3.12,1,13.75,0,0,0,0,0,0,0,0,0,0,null,null,null,null,null,null,null,0,{"$f":"+INDEX($F8382:$DJ8382,1,Sheet3!$C$1)","v":0},{"$f":"+IF(Sheet3!$C$1=1,IF(DN8382<3,0,1),1)","v":1}]
[3,4,"186","1_1",1,4,464607.37678708043,29.68,0,0,31.360000000000003,17,11.65,0,0,4.5599999999999996,0,7.74,5.73,2.66,0.6,0.6,8,18.68,0,0,0,0,0,0,0,0,0,0,0,0,0,0,0,0,10372.990000000002,2710.71,0,2710.71,0,7662.28,0,6976.54,0,0,356.4,0,0,0,0,0,0,0,0,0,131.66999999999999,0,0,0,0,0,0,197.67,10372.990000000002,0,0,0,0,11.65,4.5599999999999996,0,0.13,0,7.61,7.41,0,0,0,4,0,0,0,0,0,0,0,3,16.48,0,0,1,2.2000000000000002,0,0,0,0,0,0,0,0,1,2.66,0,0,null,null,null,null,null,null,null,131.66999999999999,{"$f":"+INDEX($F8383:$DJ8383,1,Sheet3!$C$1)","v":131.66999999999999},{"$f":"+IF(Sheet3!$C$1=1,IF(DN8383<3,0,1),1)","v":1}]
[3,4,"186","1_2",1,6,16472.850003051226,18.630000000000003,2.29,185.56,18.770000000000003,0,15.56,0,0,0.91,0,1.85,0.31,0,0,0,2.42,7.69,0,0,0,0,0,0,0,0,0,0,0,0,0,0,0,0,2221.6399999999994,1742.0199999999998,0,1742.0199999999998,0,479.62,0,0,0,0,228.42,0,0,0,0,0,0,0,0,0,0,0,0,0,0,0,0,251.2,2221.6399999999994,12.89,0,0,0,0,0.91,0,0,0,1.79,0.45,0,0,0,0,0,0,0,0,0,0,0,0,0,0,0,1,1.41,0,0,0,0,0,0,0,0,0,0,0,0,null,null,null,null,null,null,null,0,{"$f":"+INDEX($F8384:$DJ8384,1,Sheet3!$C$1)","v":0},{"$f":"+IF(Sheet3!$C$1=1,IF(DN8384<3,0,1),1)","v":1}]
[3,4,"186",4,1,18,1812611.8992021361,108.23999999999998,4.42,329.98,109.28,54.52,42.88,0,0,3.98,0.27,36.959999999999994,24.15,0,4,8.8000000000000007,9.9700000000000006,21.57,0,0,0,0,0,0,0,0,0,0,0,0,0,0,0,0,11971.570000000002,6899.19,0,6899.19,0,5072.3799999999992,2851.78,0,0,0,1876.45,200.55,0,0,0,0,0,0,0,0,0,0,0,0,0,0,0,143.6,11971.570000000002,1.68,0.22,0,1.1299999999999999,39.29,4.54,0.27,15.98,0.74,19.649999999999999,25.19,0,4,0,0,0,0,0,0,0,2,7.79,0,0,0,0,8,11.62,0,0,1,1.91,0,0,0,0,0,0,0,0,null,null,null,null,null,null,null,0,{"$f":"+INDEX($F8385:$DJ8385,1,Sheet3!$C$1)","v":0},{"$f":"+IF(Sheet3!$C$1=1,IF(DN8385<3,0,1),1)","v":1}]
[3,4,"186",5,1,26,647520.89921000961,507.91000000000008,0,0,644.10000000000025,165.79,0.03,0,0,54.75,7.16,299.25,146.72,0,0,0,23.17,98.86,0,0,0,0,0,0,0,0,0,0,0,0,0,0,0,0,41828.159999999989,21546.739999999998,0,21546.739999999998,0,20281.419999999998,4666.4399999999996,0,0,0,683.64,1313.55,0,0,0,10780.47,0,0,0,0,0,0,0,0,0,0,940.58,1896.74,41828.159999999989,0.03,0,0,0,0,54.75,7.16,0.91,263.85000000000002,22.08,282.91000000000003,0,0,0,0,0,0,0,5,47.78,2,8.01,0,0,1,10.42,6,4.22,0,0,3,12.51,0,0,0,0,0,0,0,0,null,null,null,null,null,null,null,0,{"$f":"+INDEX($F8386:$DJ8386,1,Sheet3!$C$1)","v":0},{"$f":"+IF(Sheet3!$C$1=1,IF(DN8386<3,0,1),1)","v":1}]
[3,4,"186",6,1,35,1461604.6573803874,639.08000000000004,0,0,664.19000000000017,198.04,7.99,0,0,23.3,44.4,455.12,108.27,6.6000000000000005,15.1,16.100000000000001,0,375.19,0,0,0,0,0,0,0,0,0,0,0,0,0,0,0,0,72339.06,28746.59,0,28746.59,0,43592.469999999994,8030.48,2174.16,0,0,3063.83,5269.1,0,0,0,18475.66,0,0,0,0,0,0,0,0,0,0,0,6579.24,72339.06,7.83,0,0,0,0.16,23.3,44.4,416.32,0.37,35.33,133.38,0,0,2,52,6,32,4,1,94.04,1,14.87,1,5.48,0,0,14,19.399999999999999,0,0,1,89.39,0,0,0,0,0,0,0,0,null,null,null,null,null,null,null,{"$f":"+DN8387*DO8387","v":0},{"$f":"+INDEX($F8387:$DJ8387,1,Sheet3!$C$1)","v":0},{"$f":"+IF(Sheet3!$C$1=1,IF(DN8387<3,0,1),1)","v":1}]
[3,4,"186",7,1,213,398572.60965341394,944.44,31.990000000000002,2211.13,969.6,161.72,7.2,0,0,81.03,1.43,807.35000000000036,47.43,0.33,0.9,0.9,121.56999999999998,715.47000000000071,0,0,0,0,0,0,0,0,0,0,0,0,0,0,0,0,229602.57000000004,74295.020000000033,0,74295.020000000033,0,155307.55000000002,33966.33,10047.77,0,0,81579.55,9593.0400000000009,0,0,0,10476.780000000001,0,0,0,0,0,0,0,0,0,0,3470.6,6173.48,229602.57000000004,0.98,0,0,6.03,0.03,81.03,1.43,3.54,0.12,800.68,72.59,0,0,0,5,1,0,0,1,90.5,10,97.72,2,26.61,1,38.49,180,527.17999999999995,0,0,9,98.7,0,0,0,0,0,0,0,0,null,null,null,null,null,null,null,0,{"$f":"+INDEX($F8388:$DJ8388,1,Sheet3!$C$1)","v":0},{"$f":"+IF(Sheet3!$C$1=1,IF(DN8388<3,0,1),1)","v":1}]
[3,4,"186",8,1,149,654263.3206112308,1580.3400000000008,45.25,3122.9799999999996,1736.2900000000011,59.04,32.369999999999997,0,0,229.99,6.92,488.51,822.55,1.94,6,6,149.19,513.82999999999993,0,0,0,0,0,0,0,0,0,0,0,0,0,0,0,0,187001.03000000003,81632.510000000082,0,80594.110000000073,1038.4000000000001,105368.51999999997,42884.6,1755.04,0,0,41954.09,4447.8100000000004,0,0,0,6555.14,0,0,0,0,0,0,0,0,0,0,0,7771.84,187001.03000000003,15.48,0.14000000000000001,0,10.24,5.61,229.99,4.08,79.319999999999993,11.18,341.73,978.5,0,0,0,32,8,0,0,1,72.7,7,71.02,1,12.86,0,0,96,273.16000000000003,0,0,5,43.41,0,0,0,0,0,0,0,0,null,null,null,null,null,null,null,0,{"$f":"+INDEX($F8389:$DJ8389,1,Sheet3!$C$1)","v":0},{"$f":"+IF(Sheet3!$C$1=1,IF(DN8389<3,0,1),1)","v":1}]
[3,4,"186","10_1",1,2,96618.671416337587,45.730000000000004,0,0,57.120000000000005,0,0,0,0,38.340000000000003,0,0,7.39,7.39,111.39999999999999,111.39999999999999,0,0,0,0,0,0,0,0,0,0,0,0,0,0,0,0,0,0,807.05,807.05,0,807.05,0,0,0,0,0,0,0,0,0,0,0,0,0,0,0,0,0,0,0,0,0,0,0,0,807.05,0,0,0,0,0,38.340000000000003,0,0,0,0,18.78,0,15,175,0,0,0,0,0,0,0,0,0,0,0,0,0,0,0,0,0,0,0,0,0,0,0,0,0,0,null,null,null,null,null,null,null,0,{"$f":"+INDEX($F8390:$DJ8390,1,Sheet3!$C$1)","v":0},{"$f":"+IF(Sheet3!$C$1=1,IF(DN8390<3,0,1),1)","v":1}]
[3,4,"186","10_15",1,2,88683.625604324203,3.74,2.0499999999999998,145.75,3.74,2.11,0.1,0,0,1.53,0,2.11,0,0,221.79999999999998,221.79999999999998,1,0,0,0,0,0,0,0,0,0,0,0,0,0,0,0,0,0,356.2,356.2,0,356.2,0,0,0,0,0,0,0,0,0,0,0,0,0,0,0,0,0,0,0,0,0,0,0,0,356.2,0,0.1,0,0,0,1.53,0,0,0,2.11,0,0,185,61,0,0,0,0,0,0,0,0,0,0,0,0,0,0,0,0,0,0,0,0,0,0,0,0,0,0,null,null,null,null,null,null,null,0,{"$f":"+INDEX($F8391:$DJ8391,1,Sheet3!$C$1)","v":0},{"$f":"+IF(Sheet3!$C$1=1,IF(DN8391<3,0,1),1)","v":1}]
[3,4,"186","10_2",1,2,56610.606098514909,320.86,0,0,338.07,0,0,0,0,12.81,0,14.31,293.74,0,43.6,43.6,0,300.55,0,0,0,0,0,0,0,0,0,0,0,0,0,0,0,0,761.28,382.2,0,382.2,0,379.08,0,0,0,0,379.08,0,0,0,0,0,0,0,0,0,0,0,0,0,0,0,0,0,761.28,0,0,0,0,0,12.81,0,2.52,0,10.79,310.95,0,30,23,0,0,0,0,0,0,0,0,0,0,0,0,1,2.34,0,0,0,0,0,0,0,0,0,0,0,0,null,null,null,null,null,null,null,0,{"$f":"+INDEX($F8392:$DJ8392,1,Sheet3!$C$1)","v":0},{"$f":"+IF(Sheet3!$C$1=1,IF(DN8392<3,0,1),1)","v":1}]
[3,4,"186",11,1,37,112488.53335008357,122.88999999999999,16.919999999999998,1117.5700000000002,146.76000000000002,1.04,3.7,0,0,60.22,0,22.829999999999995,36.14,9.94,98.45,164.44999999999996,22.65,60.220000000000013,0,0,0,0,0,0,0,0,0,0,0,0,0,0,0,0,15064.229999999996,9607.0500000000011,0,9607.0500000000011,0,5457.18,1499.92,0,0,0,2127.06,0,0,0,0,0,0,0,0,0,0,0,0,0,488.6,0,0,1341.6,15064.229999999996,1.73,0,0,1.86,0.11,60.22,0,0.16,0,22.67,60.01,0,11,6,402,70,76,19,0,0,1,22.37,0,0,0,0,15,13.59,0,0,0,0,0,0,0,0,0,0,0,0,null,null,null,null,null,null,null,0,{"$f":"+INDEX($F8393:$DJ8393,1,Sheet3!$C$1)","v":0},{"$f":"+IF(Sheet3!$C$1=1,IF(DN8393<3,0,1),1)","v":1}]
[3,4,"186",12,1,15,36620.82545047038,60.89,0,0,62.290000000000006,0.66,2.14,0,0,21.45,0,20.380000000000003,16.920000000000002,4.2200000000000006,14.250000000000002,29.85,0,38.35,0,0,0,0,0,0,0,0,0,0,0,0,0,0,0,0,8282.75,5492.65,0,5492.65,0,2790.1,0,0,0,0,2340.9,0,0,0,0,0,0,0,0,0,0,0,0,0,0,0,0,449.2,8282.75,2.14,0,0,0,0,21.45,0,0.37,0.55000000000000004,18.170000000000002,18.32,0,0,0,56,34,5,0,0,0,0,0,0,0,0,0,10,14.45,0,0,0,0,0,0,0,0,0,0,0,0,null,null,null,null,null,null,null,0,{"$f":"+INDEX($F8394:$DJ8394,1,Sheet3!$C$1)","v":0},{"$f":"+IF(Sheet3!$C$1=1,IF(DN8394<3,0,1),1)","v":1}]
[3,4,"186",13,1,79,349649.93797042553,2274.3500000000008,60.730000000000004,5314.9499999999989,2432.2899999999995,20.39,3.62,0,0,421.27,8.26,78.5,1762.7,0,0,0,465.34,133.03,0,0,0,0,0,0,0,0,0,0,0,0,0,0,0,0,71478.13,54853.910000000011,273,54580.910000000011,0,16624.22,5530.35,0,0,0,8395.2000000000007,1586.67,0,0,0,0,0,0,0,0,0,0,0,0,0,0,0,1112,71478.13,0.86,0,0,2.71,0.05,421.27,8.26,4.59,0.3,68.62,1920.64,0,0,0,0,0,0,0,0,0,1,16.03,0,0,0,0,19,59.3,0,0,1,16.03,0,0,0,0,0,0,0,0,null,null,null,null,null,null,null,0,{"$f":"+INDEX($F8395:$DJ8395,1,Sheet3!$C$1)","v":0},{"$f":"+IF(Sheet3!$C$1=1,IF(DN8395<3,0,1),1)","v":1}]
[3,4,"187","1_1",1,1,36007.882139491536,10.94,9.5399999999999991,1611.49,11.56,4.92,10.94,0,0,0,0,0,0,0,0,0,10.94,0,0,0,0,0,0,0,0,0,0,0,0,0,0,0,0,0,0,0,0,0,0,0,null,null,null,null,null,null,null,null,null,null,null,null,null,null,null,null,null,null,null,null,null,null,0,0,4.92,0,0,0,0,0,0,0,0,0.62,0,0,0,0,0,0,0,0,0,0,0,0,0,0,0,0,0,0,0,0,0,0,0,0,0,0,0,0,0,null,null,null,null,null,null,null,0,{"$f":"+INDEX($F8396:$DJ8396,1,Sheet3!$C$1)","v":0},{"$f":"+IF(Sheet3!$C$1=1,IF(DN8396<3,0,1),1)","v":1}]
[3,4,"187","1_2",1,29,875767.77834349952,515.23,0,0,523.37,12.02,352.9,0,0,62.97,18.23,21.489999999999995,59.64,0,0,0,0,35.18,0,0,0,0,0,0,0,0,0,0,0,0,0,0,0,0,27077.360000000004,21934.800000000007,0,21934.800000000007,0,5142.5600000000004,0,1502.3,0,0,3001.86,0,0,0,0,0,0,0,0,0,0,0,0,0,0,0,0,638.4,27077.360000000004,330.36,0,0,0.6,11.42,62.97,18.23,0.09,0,21.13,67.78,0,0,0,0,0,0,0,0,0,0,0,2,3.83,0,0,9,18.53,0,0,0,0,0,0,0,0,0,0,0,0,null,null,null,null,null,null,null,0,{"$f":"+INDEX($F8397:$DJ8397,1,Sheet3!$C$1)","v":0},{"$f":"+IF(Sheet3!$C$1=1,IF(DN8397<3,0,1),1)","v":1}]
[3,4,"187",3,1,4,1454871.8309700398,209.65,0,0,210.07000000000002,12.52,142.76,0,0,8.94,0,57.89,0.06,0,0,0,185.4,207.3,0,0,0,0,0,0,0,0,0,0,0,0,0,0,0,0,88542.99,6886.99,0,6886.99,0,81656,65587.06,5670.51,0,0,0,1785.43,8613,0,0,0,0,0,0,0,0,0,0,0,0,0,0,0,88542.99,0,0,0,140.41,2.35,8.94,0,57.89,0,0,0.48,0,0,0,0,0,0,0,0,0,3,200.44,1,6.86,0,0,0,0,2,127.4,2,17.03,0,0,0,0,0,0,0,0,null,null,null,null,null,null,null,0,{"$f":"+INDEX($F8398:$DJ8398,1,Sheet3!$C$1)","v":0},{"$f":"+IF(Sheet3!$C$1=1,IF(DN8398<3,0,1),1)","v":1}]
[3,4,"187",4,1,19,1318792.7999225066,312.19,0,0,319.36,12.58,94.87,0,0,14.57,14.84,27.910000000000004,160,159.95999999999998,92.100000000000009,118.8,198.8,261.07,0,0,0,0,0,0,0,0,0,0,0,0,0,0,0,0,89639.160000000018,14257.92,0,14257.92,0,75381.240000000005,65050.879999999997,553.70000000000005,0,0,3159.46,1346.4,0,0,0,0,0,0,0,0,4589.2,0,0,0,0,0,0,681.6,89639.160000000018,1.56,0,0,7.81,85.5,14.57,14.84,0.95,0.23,26.4,167.17,0,58,42,78,14,2,0,0,0,5,252.78,1,2.14,0,0,9,24.04,0,0,1,16,0,0,0,0,1,150.96,0,0,null,null,null,null,null,null,null,4589.2,{"$f":"+INDEX($F8399:$DJ8399,1,Sheet3!$C$1)","v":4589.2},{"$f":"+IF(Sheet3!$C$1=1,IF(DN8399<3,0,1),1)","v":1}]
[3,4,"187",5,1,118,2874014.2499528765,1466.8000000000004,2.7,178.55,1473.7800000000007,735.98,7.45,0,0,108.72,15.47,1294.07,41.09,0,0,0,2.7899999999999996,471.94000000000011,0,0,0,0,0,0,0,0,0,0,0,0,0,0,0,0,204126.16999999998,90859.039999999979,0,90859.039999999979,0,113267.13,43743.88,10098.41,0,0,6336.98,3222.08,0,0,0,42441.83,0,0,0,0,0,0,0,0,0,0,7423.95,0,204126.16999999998,3.34,0,0,3.41,0.5,108.72,15.47,10.11,1125.1199999999999,109.78,48.07,0,0,0,0,0,0,0,15,283.64,4,111.79,2,29.35,2,113.55,22,39.270000000000003,0,0,3,32.32,0,0,0,0,0,0,0,0,null,null,null,null,null,null,null,0,{"$f":"+INDEX($F8400:$DJ8400,1,Sheet3!$C$1)","v":0},{"$f":"+IF(Sheet3!$C$1=1,IF(DN8400<3,0,1),1)","v":1}]
[3,4,"187",6,1,37,3007624.2374526202,879.41999999999985,0,0,882.81,140.19,2.73,0,0,19.89,8.09,472.50999999999993,376.2,0,5.3999999999999995,5.3999999999999995,6.57,117.21000000000001,0,0,0,0,0,0,0,0,0,0,0,0,0,0,0,0,68356.03,30636.220000000005,0,30636.220000000005,0,37719.810000000005,24188.07,3054.13,0,0,3628.8,1950.31,0,0,0,4408.8999999999996,0,0,0,0,0,0,0,0,0,0,0,489.6,68356.03,1.78,0,0,0,0.95,19.89,8.09,439.59,0.06,32.270000000000003,379.59,0,0,0,27,7,1,1,1,7.48,4,59.63,1,4.04,0,0,7,25.85,0,0,2,18.87,0,0,0,0,0,0,0,0,null,null,null,null,null,null,null,0,{"$f":"+INDEX($F8401:$DJ8401,1,Sheet3!$C$1)","v":0},{"$f":"+IF(Sheet3!$C$1=1,IF(DN8401<3,0,1),1)","v":1}]
[3,4,"187",7,1,165,343497.10595428251,1010.7199999999999,31.939999999999994,2226.1400000000003,1028.0900000000001,145.38,5.47,0,0,24.66,4.8099999999999996,669.75000000000034,306.02999999999997,0.32,1.5,1.5,55.910000000000011,526.20999999999981,0,0,0,0,0,0,0,0,0,0,0,0,0,0,0,0,168955.29999999996,55540.139999999985,0,55365.939999999988,174.2,113415.15999999999,36433.75,9143.81,0,0,55289.79,11679.4,0,0,0,305.20999999999998,0,0,0,0,0,0,0,0,0,0,0,563.20000000000005,168955.29999999996,4.78,0.2,0,0.49,0,24.66,4.8099999999999996,5.91,0.04,660.74,323.39999999999998,0,0,0,7,3,0,0,1,0.56000000000000005,4,140.06,2,32.04,0,0,124,416.19,0,0,6,179.44,0,0,0,0,0,0,0,0,null,null,null,null,null,null,null,0,{"$f":"+INDEX($F8402:$DJ8402,1,Sheet3!$C$1)","v":0},{"$f":"+IF(Sheet3!$C$1=1,IF(DN8402<3,0,1),1)","v":1}]
[3,4,"187",8,1,125,1297963.7586827837,899.05000000000041,15.84,1398.27,922.87000000000023,118.05,73.37,0,0,211.4,23.23,481.87999999999982,109.17,1.8599999999999999,16.950000000000003,18.95,142.44999999999999,437.20999999999992,0,0,0,0,0,0,0,0,0,0,0,0,0,0,0,0,162544.47000000003,53262.819999999971,0,53262.819999999971,0,109281.65000000002,42939.4,25101.83,0,0,28930.42,2415,4606.5,0,0,5051.7,0,0,0,0,0,0,0,0,0,0,0,236.8,162544.47000000003,25.21,0,0,42.37,4.12,211.4,23.23,103.95,65.790000000000006,277.86,132.99,0,0,0,95,18,0,0,2,59.3,8,151.09,2,39.619999999999997,0,0,77,192.56,1,71.06,5,23.05,0,0,0,0,0,0,0,0,null,null,null,null,null,null,null,0,{"$f":"+INDEX($F8403:$DJ8403,1,Sheet3!$C$1)","v":0},{"$f":"+IF(Sheet3!$C$1=1,IF(DN8403<3,0,1),1)","v":1}]
[3,4,"187","10_1",1,4,121436.38727125806,147.07999999999998,134.77000000000001,8862.4699999999993,171.95999999999998,0,17.5,0,0,125.59,0,1.6500000000000004,2.34,2.34,158.19999999999999,158.19999999999999,133.57,139.07999999999998,0,0,0,0,0,0,0,0,0,0,0,0,0,0,0,0,1891.88,1598.45,0,1598.45,0,293.43,0,0,0,0,212.22,0,0,0,0,0,0,0,0,0,81.209999999999994,0,0,0,0,0,0,0,1891.88,17.5,0,0,0,0,125.59,0,0.24,0,1.31,27.22,0,113,70,9,15,0,0,0,0,0,0,0,0,0,0,1,1.31,0,0,0,0,0,0,0,0,1,4.2,0,0,null,null,null,null,null,null,null,81.209999999999994,{"$f":"+INDEX($F8404:$DJ8404,1,Sheet3!$C$1)","v":81.209999999999994},{"$f":"+IF(Sheet3!$C$1=1,IF(DN8404<3,0,1),1)","v":1}]
[3,4,"187","10_15",1,7,1611283.3276753933,17.37,10.1,1204.0999999999999,30.220000000000002,9.42,0,0,0,1.04,0,15.81,0.52,0.52,1635.95,1635.95,2.78,15.290000000000001,0,0,0,0,0,0,0,0,0,0,0,0,0,0,0,0,1980.56,1173.8,0,1173.8,0,806.76,0,0,0,0,806.76,0,0,0,0,0,0,0,0,0,0,0,0,0,0,0,0,0,1980.56,0,0,0,0,0,1.04,0,0,0,15.81,13.37,1,218,2111,53,4,0,0,0,0,0,0,0,0,0,0,1,4.9800000000000004,0,0,0,0,0,0,0,0,0,0,0,0,null,null,null,null,null,null,null,0,{"$f":"+INDEX($F8405:$DJ8405,1,Sheet3!$C$1)","v":0},{"$f":"+IF(Sheet3!$C$1=1,IF(DN8405<3,0,1),1)","v":1}]
[3,4,"187","10_2",1,2,54566.696294203459,145.69999999999999,0,0,145.69999999999999,17.89,9,0,0,37.01,0,4.07,95.62,95.62,38.4,38.4,120.07,120.07,0,0,0,0,0,0,0,0,0,0,0,0,0,0,0,0,29119.469999999998,4689.67,0,4689.67,0,24429.8,18767.36,0,0,0,562.14,0,0,0,0,0,0,0,0,0,1030.8599999999999,0,0,0,0,0,0,4069.44,29119.469999999998,6.81,0,0,2.19,0,37.01,0,0.27,0,3.47,95.62,0,2,56,0,0,0,0,0,0,1,120.07,0,0,0,0,1,3.47,0,0,0,0,0,0,0,0,1,23.97,0,0,null,null,null,null,null,null,null,1030.8599999999999,{"$f":"+INDEX($F8406:$DJ8406,1,Sheet3!$C$1)","v":1030.8599999999999},{"$f":"+IF(Sheet3!$C$1=1,IF(DN8406<3,0,1),1)","v":1}]
[3,4,"187",11,1,57,388279.07895165548,579.66999999999996,262.08,17470.37,619.81000000000017,2.08,1.1399999999999999,0,0,171.11,0.89,24.989999999999995,381.54,294.71000000000009,486.94999999999993,581.94999999999993,357.28999999999996,77.680000000000021,0,0,0,0,0,0,0,0,0,0,0,0,0,0,0,0,21100.760000000002,16682.46,0,16682.46,0,4418.3,0,0,0,0,1968.3,0,0,0,0,0,0,0,0,0,95,0,0,0,2079,0,0,276,21100.760000000002,1.06,0,0,0,0.08,171.11,0.89,1.57,0,22.95,421.68,1,49,44,2362,171,158,46,0,0,0,0,0,0,0,0,8,12.15,0,0,0,0,0,0,0,0,1,1.9,0,0,null,null,null,null,null,null,null,95,{"$f":"+INDEX($F8407:$DJ8407,1,Sheet3!$C$1)","v":95},{"$f":"+IF(Sheet3!$C$1=1,IF(DN8407<3,0,1),1)","v":1}]
[3,4,"187",12,1,17,210942.72298811399,306.18,0,0,307.99,0.64,8.0399999999999991,0,0,12.97,0,77.36999999999999,207.8,3.08,20.100000000000001,153.9,0,281.34999999999991,0,0,0,0,0,0,0,0,0,0,0,0,0,0,0,0,26862.25,9670.75,0,9670.75,0,17191.5,4867.8999999999996,459.64,0,0,4845.87,0,0,0,0,5111.6899999999996,0,0,0,0,0,0,0,0,0,0,0,1906.4,26862.25,7.99,0,0,0,0.05,12.97,0,0.46,40.15,32.96,209.61,0,0,0,89,31,11,3,1,41.11,2,121.18,1,99.68,0,0,13,32.270000000000003,0,0,0,0,0,0,0,0,0,0,0,0,null,null,null,null,null,null,null,0,{"$f":"+INDEX($F8408:$DJ8408,1,Sheet3!$C$1)","v":0},{"$f":"+IF(Sheet3!$C$1=1,IF(DN8408<3,0,1),1)","v":1}]
[3,4,"187",13,1,58,199382.09673242553,1301.5400000000002,30.939999999999998,2383.7999999999997,1385.5500000000002,3.59,55.76,0,0,379.73,15.26,49.959999999999994,800.83,0,0,0,262.79999999999995,213.35000000000005,0,0,0,0,0,0,0,0,0,0,0,0,0,0,0,0,33117.97,25943.570000000007,0,25943.570000000007,0,7174.4000000000005,958,430,0,0,5786.4,0,0,0,0,0,0,0,0,0,0,0,0,0,0,0,0,0,33117.97,7.16,0,0,48.6,0,379.73,15.26,0.65,0.84,47.48,884.84,0,0,0,0,0,0,0,0,0,1,172.73,1,7.7,0,0,16,35.9,0,0,0,0,0,0,0,0,0,0,0,0,null,null,null,null,null,null,null,0,{"$f":"+INDEX($F8409:$DJ8409,1,Sheet3!$C$1)","v":0},{"$f":"+IF(Sheet3!$C$1=1,IF(DN8409<3,0,1),1)","v":1}]
[null,null,null,null,null,{"$f":"SUBTOTAL(9,F2:F8409)","v":517752}]

{"sheet":"Ajuda","index":9,"n_rows":234,"n_cols":16,"rows_kept":234,"cut":false,"hidden":true,"merged":[[23,2,23,5],[208,5,208,6],[208,2,209,4],[199,2,199,3],[199,4,199,5],[200,2,200,3],[200,4,200,5],[204,2,204,3],[204,4,204,5],[202,2,202,3],[202,4,202,5],[203,2,203,3],[203,4,203,5],[201,2,201,3],[201,4,201,5],[137,4,137,6],[137,2,137,3],[134,2,134,3],[136,2,136,3],[134,4,134,6],[135,4,135,6],[136,4,136,6],[219,2,226,2],[228,2,232,2],[209,5,209,6],[138,2,138,3],[139,2,139,3],[140,2,140,3],[211,2,218,2],[138,4,138,6],[140,4,140,6],[139,4,139,6],[145,2,152,2],[153,2,160,2],[162,2,166,2]]}
[]
[null,null,null,null,null,null,null,null,null,null,null,null,null,null,null,"Fonte:"]
[]
[]
[null,"Classes de Dimensão"]
[null,"Variáveis disponíveis"]
[null,"Grandes Orientações Produtivas"]
[null,"Mapa das NUTS"]
[null,"Alguns conceitos"]
[null,"Estrutura da Base de Dados"]
[]
[null,"Intervalos considerados nas três classificações associadas à Dimensão "]
[]
[null,null,null,null,"Dimensão económica","Dimensão física","Dimensão - Valor global de \nAjudas Diretas recebidas"]
[null,null,"Classes","Descritivo","Classe de DE","Classe de Superfície Agrícola (elegível)","Classe de AD"]
[null,null,"MP","Muito Pequenas","< 4 000 € de VPP","< 4 ha","<  1250 €"]
[null,null,"P","Pequenas",">= 4 000 e < 25 000 € de VPP",">= 4  e < 25 ha",">= 1 250 e < 5 000 €"]
[null,null,"M","Médias",">= 25 000 e < 100 000 € de VPP",">= 25  e < 200 ha",">= 5 000 e < 50 000 €"]
[null,null,"G","Grandes",">= 100 000 e < 500 000 € de VPP","= 200  e < 1 000 ha",">= 50 000 e < 300 000 €"]
[null,null,"MG","Muito Grandes",">= 500 000  € de VPP",">= 1 000 ha",">= 300 000 €"]
[]
[null,"Variáveis disponíveis"]
[]
[null,null,"Listagem de variáveis ordenada por tipos afins",null,null,null,"Unidade"]
[null,null,"(1) - Nº de Beneficiários",null,null,null,"Nº "]
[null,null,"(2) - Valor de Produção Padrão",null,null,null,"1000 €"]
[null,null,"(3) - Superfície Elegível (inclui Superfície Agrícola e Agro-Florestal Elegível)",null,null,null,"ha"]
[null,null,"(3a) - Nº de Direitos de RPB",null,null,null,"Nº "]
[null,null,"(3b) - Montante Global dos Direitos de RPB",null,null,null,"1000 €"]
[null,null,"(3c) - Superfície Agrícola (inc. Pastagens arbustivas)",null,null,null,"ha"]
[null,null,"(4) - Superfície Agrícola de Regadio",null,null,null,"ha"]
[null,null,"(5) - Culturas Temporárias",null,null,null,"ha"]
[null,null,"(5a) - Culturas Arvenses e Indústriais de sequeiro",null,null,null,"ha"]
[null,null,"(5b) - Culturas Arvenses e Indústriais de regadio",null,null,null,"ha"]
[null,null,"(6) - Superfície Forrageira Temporária",null,null,null,"ha"]
[null,null,"(7) - Superfície de Pousio",null,null,null,"ha"]
[null,null,"(8) - Culturas Permanentes",null,null,null,"ha"]
[null,null,"(9) - Superfície de Pastagens Permanentes",null,null,null,"ha"]
[null,null,"(9a) - Superfície de Pastagens com encabeçamento inferior a 0,2CN/ha de PP",null,null,null,"ha"]
[null,null,"(10) - Nº de Cabeças Normais (Cn) de Herbívoros",null,null,null,"CN"]
[null,null,"(11) - Nº de Cabeças Normais (Cn) Totais",null,null,null,"CN"]
[null,null,"(12) - Superfície Agrícola Declarada para Activar Direitos de RPB",null,null,null,"ha"]
[null,null,"(13) - Superfície Agrícola Declarada para Medidas Agroambientais",null,null,null,"ha"]
[null,null,"(14) - Superfície Agrícola Declarada para MZDs",null,null,null,"ha"]
[null,null,"(15) - Montante Total das AD 1º Pilar (16+22)",null,null,null,"1000 €"]
[null,null,"    (16) - Total de pagamentos desligados (17+18+21+21a)",null,null,null,"1000 €"]
[null,null,"        (17) - Montante Regime Pequena Agricultura",null,null,null,"1000 €"]
[null,null,"        (18) - Regime Pagamento Base (RPB) [(19)+(20)]",null,null,null,"1000 €"]
[null,null,"            (19) - RPB normal",null,null,null,"1000 €"]
[null,null,"            (20) - RPB Jovens agricultores",null,null,null,"1000 €"]
[null,null,"        (21) - Pagamento por Práticas Agrícolas Benéficas para o Ambiente (Greening)",null,null,null,"1000 €"]
[null,null,"        (21a) - Pagamento Redistributivo",null,null,null,"1000 €"]
[null,null,"     (22) - Total de pagamentos ligados (23+…..+28)",null,null,null,"1000 €"]
[null,null,"        (23) - Prémio às vacas em aleitamento",null,null,null,"1000 €"]
[null,null,"        (24) - Prémio aos ovinos e caprinos",null,null,null,"1000 €"]
[null,null,"        (25) - Prémio à vaca leiteira",null,null,null,"1000 €"]
[null,null,"        (26) - Apoio Específico aos produtores de Leite (Medida 1 e 2) 2016",null,null,null,"1000 €"]
[null,null,"        (27) - Pagamento Específico por superfície ao tomate ",null,null,null,"1000 €"]
[null,null,"        (28) - Pagamento Específico por superfície ao arroz",null,null,null,"1000 €"]
[null,null,"(29) - Total de Pagamentos Superfície Desenvolvimento Rural ((30)+(34))",null,null,null,"1000 €"]
[null,null,"      (30) - Medida Zonas Desfavorecidas (MZD)",null,null,null,"1000 €"]
[null,null,"            (31) - Zona Condicionantes Específicas",null,null,null,"1000 €"]
[null,null,"            (32) - Zona Condicionantes Naturais",null,null,null,"1000 €"]
[null,null,"            (33) - Zona De Montanha",null,null,null,"1000 €"]
[null,null,"      (34) - Medidas Agroambientais",null,null,null,"1000 €"]
[null,null,"            (35) - Maa-Agric.Biológica - Conv",null,null,null,"1000 €"]
[null,null,"            (36) - Maa-Agric.Biológica - Manut",null,null,null,"1000 €"]
[null,null,"            (37) - Apoio Agroambiental À Apicultura",null,null,null,"1000 €"]
[null,null,"            (38) - Maa - Douro Vinhateiro",null,null,null,"1000 €"]
[null,null,"            (39) - Culturas Permanentes Tradicionais",null,null,null,"1000 €"]
[null,null,"            (40) - Maa-Conservação Solo-Enr.Entr",null,null,null,"1000 €"]
[null,null,"            (41) - Maa-Conservação Solo-Sem Dir",null,null,null,"1000 €"]
[null,null,"            (42) - Mosaico Agroflorestal",null,null,null,"1000 €"]
[null,null,"            (43) - Maa - Soutos Notáveis",null,null,null,"1000 €"]
[null,null,"            (44) - Maa - Produçao Integrada",null,null,null,"1000 €"]
[null,null,"            (45) - Maa - Az Peneda/Gerês",null,null,null,"1000 €"]
[null,null,"            (46) - Maa - Manut. Socalcos",null,null,null,"1000 €"]
[null,null,"            (47) - Maa - Lameiros De Regadio",null,null,null,"1000 €"]
[null,null,"            (48) - Maa - Lameiros De Sequeiro",null,null,null,"1000 €"]
[null,null,"            (49) - Maa - Pastoreio Extensivo Ii",null,null,null,"1000 €"]
[null,null,"            (50) - Maa - Pastoreio Extensivo Iii",null,null,null,"1000 €"]
[null,null,"            (51) - Maa - Rot. De Seq Iii",null,null,null,"1000 €"]
[null,null,"            (52) - Maa - Rot. De Seq Ii",null,null,null,"1000 €"]
[null,null,"            (53) - Raças",null,null,null,"1000 €"]
[null,null,"            (54) - Maa - Rot. De Seq I",null,null,null,"1000 €"]
[null,null,"            (55) - Uso Eficiente Da Água Na Agricultura",null,null,null,"1000 €"]
[null,null,"            (56) - Pagamentos Natura",null,null,null,"1000 €"]
[null,null,"(57) - Total de Pagamentos aos Produtores (15+29)",null,null,null,"1000 €"]
[null,null,"(58) - Superfície de Cereais De Outono-Inverno",null,null,null,"ha"]
[null,null,"(59) - Superfície de Milho Grão; ",null,null,null,"ha"]
[null,null,"(60) - Superfície de Arroz; ",null,null,null,"ha"]
[null,null,"(61) - Superfície de Oleaginosas E Proteaginosas; ",null,null,null,"ha"]
[null,null,"(62) - Superfície de Hortícolas, Batata, Plantas E Flores; ",null,null,null,"ha"]
[null,null,"(63) - Superfície de Forragens E Prados Temporários; ",null,null,null,"ha"]
[null,null,"(64) - Superfície de Pousios; ",null,null,null,"ha"]
[null,null,"(65) - Superfície de Pomares; ",null,null,null,"ha"]
[null,null,"(66) - Superfície de Vinha; ",null,null,null,"ha"]
[null,null,"(67) - Superfície de Olival; ",null,null,null,"ha"]
[null,null,"(68) - Superfície de Prados E Pastagens Permanentes; ",null,null,null,"ha"]
[null,null,"(69) - Cabeças de Vacas Leiteiras",null,null,null,"Cab."]
[null,null,"(70) - Cabeças de Vacas Aleitantes",null,null,null,"Cab."]
[null,null,"(71) - Cabeças de Outros Bovinos",null,null,null,"Cab."]
[null,null,"(72) - Cabeças de Ovelhas",null,null,null,"Cab."]
[null,null,"(73) - Cabeças de Outros Ovinos",null,null,null,"Cab."]
[null,null,"(74) - Cabeças de Cabras",null,null,null,"Cab."]
[null,null,"(75) - Cabeças de Outros Caprinos",null,null,null,"Cab."]
[null,null,"(76) - Número de Produtores Maa - Produçao Integrada",null,null,null,"Nº "]
[null,null,"(77) - SA Declarada para Maa - Produçao Integrada",null,null,null,"ha"]
[null,null,"(78) - Número de Produtores Maa-Agric.Biológica - Conv",null,null,null,"Nº "]
[null,null,"(79) - SA Declarada para Maa-Agric.Biológica - Conv",null,null,null,"ha"]
[null,null,"(80) - Número de Produtores Maa-Agric.Biológica - Manut",null,null,null,"Nº "]
[null,null,"(81) - SA Declarada para Maa-Agric.Biológica - Manut",null,null,null,"ha"]
[null,null,"(82) - Número de Produtores Uso Eficiente Da Água Na Agricultura",null,null,null,"Nº "]
[null,null,"(83) - SA Declarada para Uso Eficiente Da Água Na Agricultura",null,null,null,"ha"]
[null,null,"(84) - Número de Produtores Culturas Permanentes Tradicionais",null,null,null,"Nº "]
[null,null,"(85) - SA Declarada para Culturas Permanentes Tradicionais",null,null,null,"ha"]
[null,null,"(86) - Número de Produtores Maa-Conservação Solo-Sem Dir",null,null,null,"Nº "]
[null,null,"(87) - SA Declarada para Maa-Conservação Solo-Sem Dir",null,null,null,"ha"]
[null,null,"(88) - Número de Produtores Maa-Conservação Solo-Enr.Entr",null,null,null,"Nº "]
[null,null,"(89) - SA Declarada para Maa-Conservação Solo-Enr.Entr",null,null,null,"ha"]
[null,null,"(90) - Número de Produtores Maa - Lameiros De Sequeiro",null,null,null,"Nº "]
[null,null,"(91) - SA Declarada para Maa - Lameiros De Sequeiro",null,null,null,"ha"]
[null,null,"(92) - Número de Produtores Maa - Lameiros De Regadio",null,null,null,"Nº "]
[null,null,"(93) - SA Declarada para Maa - Lameiros De Regadio",null,null,null,"ha"]
[null,null,"(94) - Número de Produtores Maa - Pastoreio Extensivo Ii",null,null,null,"Nº "]
[null,null,"(95) - SA Declarada para Maa - Pastoreio Extensivo Ii",null,null,null,"ha"]
[null,null,"(96) - Número de Produtores Maa - Pastoreio Extensivo Iii",null,null,null,"Nº "]
[null,null,"(97) - SA Declarada para Maa - Pastoreio Extensivo Iii",null,null,null,"ha"]
[]
[]
[]
[]
[null,"Grandes Orientações Produtivas"]
[]
[null,null,"GOP",null,"OTE incluídas"]
[null,null,"Grandes Culturas (Arvenses e Industriais)",null,"Arvenses e Outras Culturas predominantemente de Regadio; Arvenses e Outras Culturas predominantemente de Sequeiro; Arroz; Horticultura e Industriais; Tomate Indústria; Plantas tuberosas"]
[null,null,"Horticultura Intensiva",null,"Horticultura e Floricultura"]
[null,null,"Culturas Permanentes",null,"Vinhos; Fruticultura; Olival"]
[null,null,"Leite",null,"Bovinos Leite"]
[null,null,"Outros herbívoros",null,"Bovinos Carne predominantemente Intensivos; Bovinos Carne predominantemente Extensivos; Outros Ruminantes"]
[null,null,"Mistas",null,"Não classificadas; Policultura; Mistas; Pousio e Pastagem"]
[]
[null,"Mapa das NUTS"]
[]
[null,null,"NUTS II","Código NUTS III","NUTS III"]
[null,null,"Norte ",111,"Alto Minho"]
[null,null,null,112,"Cávado"]
[null,null,null,119,"Ave"]
[null,null,null,"11A","Área Metropolitana do Porto"]
[null,null,null,"11B","Alto Tâmega"]
[null,null,null,"11C","Tâmega e Sousa"]
[null,null,null,"11D","Douro"]
[null,null,null,"11E","Terras de Trás-os-Montes"]
[null,null,"Centro","16B","Oeste"]
[null,null,null,"16D","Região de Aveiro"]
[null,null,null,"16E","Região de Coimbra"]
[null,null,null,"16F","Região de Leiria"]
[null,null,null,"16G","Viseu Dão Lafões"]
[null,null,null,"16H","Beira Baixa"]
[null,null,null,"16I","Médio Tejo"]
[null,null,null,"16J","Beiras e Serra da Estrela"]
[null,null,"AML",170,"Área Metropolitana de Lisboa"]
[null,null,"Alentejo",181,"Alentejo Litoral"]
[null,null,null,184,"Baixo Alentejo"]
[null,null,null,185,"Lezíria do Tejo"]
[null,null,null,186,"Alto Alentejo"]
[null,null,null,187,"Alentejo Central"]
[null,null,"Algarve",150,"Algarve"]
[]
[]
[]
[]
[]
[]
[]
[]
[]
[]
[]
[]
[]
[]
[]
[]
[]
[]
[]
[]
[]
[]
[]
[]
[]
[]
[]
[]
[]
[]
[null,"Alguns conceitos"]
[null,null,"Conceito",null,"Descritivo",null,"Observações"]
[null,null,"VPP - Valores de Produção Padrão",null,"Valores médios de produção, para cada região agrária (7 DRA) e cada atividade (87 rubricas), determinados a partir de recolha de informação realizada pelas DRAPs e GPP de acordo com a regulamentação comunitária. ",null,"Reg. (CE) n.º 1242/2008"]
[null,null,"DE - Dimensão Económica ",null,"VPP total da exploração, expresso em euros, corresponde à soma dos valores obtidos para cada atividade, multiplicando os VPP pelo número de unidades existentes das atividades."]
[null,null,"OTE - Orientação Técnico-Económica",null,"Sistema de produção de uma exploração que se caracteriza pela contribuição relativa dos VPP das atividades para o VPP total da exploração "]
[null,null,"CN - Cabeça Normal",null,"Medida pecuária que relaciona os efetivos, convertidos em cabeças normais, em função das espécies e das idades, através de uma tabela de conversão em que um animal adulto da espécie bovina corresponde a 1 CN.",null,"INE - Conceitos"]
[null,null,"Localização da exploração agrícola",null,"Freguesia onde se situa a maior área declarada da exploração."]
[]
[null,"Estrutura da Base de Dados"]
[]
[null,null,"Em linha",null,null,"Em coluna"]
[null,null,null,null,null,"OTE por Classes de Dimensão    |    OTE    |    Classes de Dimensão"]
[null,null,"NUTS II","Código NUTS III","NUTS III","OTE","Dimensão"]
[null,null,"Norte ",111,"Alto Minho","Explorações não Classificadas","MP – muito pequenas"]
[null,null,null,112,"Cávado","Arvenses e Outras Cult pred. Regadio","P – pequenas"]
[null,null,null,119,"Ave","Arvenses e Outras Cult pred. Sequeiro","M – médias"]
[null,null,null,"11A","Área Metropolitana do Porto","Arroz","G – grandes"]
[null,null,null,"11B","Alto Tâmega","Horticultura e Industriais","MG – muito grandes"]
[null,null,null,"11C","Tâmega e Sousa","Horticultura e Floricultura"]
[null,null,null,"11D","Douro","Vinhos"]
[null,null,null,"11E","Terras de Trás-os-Montes","Fruticultura"]
[null,null,"Centro","16B","Oeste","Olival"]
[null,null,null,"16D","Região de Aveiro","Policultura"]
[null,null,null,"16E","Região de Coimbra","Bovinos Leite"]
[null,null,null,"16F","Região de Leiria","Bovinos Carne predomin. Intensivos"]
[null,null,null,"16G","Viseu Dão Lafões","Bovinos Carne predomin. Extensivos"]
[null,null,null,"16H","Beira Baixa","Outros Ruminantes"]
[null,null,null,"16I","Médio Tejo","Mistas"]
[null,null,null,"16J","Beiras e Serra da Estrela","Pousio e Pastagem"]
[null,null,"AML",170,"Área Metropolitana de Lisboa","Tomate Indústria"]
[null,null,"Alentejo",181,"Alentejo Litoral","Plantas tuberosas"]
[null,null,null,184,"Baixo Alentejo"]
[null,null,null,185,"Lezíria do Tejo"]
[null,null,null,186,"Alto Alentejo"]
[null,null,null,187,"Alentejo Central"]
[null,null,"Algarve",150,"Algarve"]

{"sheet":"EspecificacoesOTE","index":10,"n_rows":71,"n_cols":6,"rows_kept":71,"cut":false,"hidden":true,"merged":[[56,1,67,1],[33,2,38,2],[40,2,46,2],[50,2,51,2],[52,2,55,2],[56,3,68,3],[69,3,70,3],[2,2,9,2],[10,2,14,2],[15,2,19,2],[22,2,29,2],[30,2,32,2],[2,3,9,3],[10,3,21,3],[22,3,29,3],[30,3,39,3],[40,3,46,3],[56,2,67,2],[2,1,9,1],[22,1,29,1],[40,1,46,1],[0,0,0,3],[48,3,55,3],[10,1,19,1],[30,1,32,1],[33,1,38,1],[48,1,51,1],[52,1,55,1]]}
["Agregação de OTE - Orientação Técnico-económica"]
["Descritivo das OTE","Classes OTE","Grupos OTE","GOP - Grande Orientação Produtiva"]
["Explorações não classificadas","Não classificadas","Não Classificadas","Mistas",null,""]
["Expl. especializadas em suínos para criação"]
["Expl. especializadas em suínos de engorda"]
["Expl. combinando criação e engorda de suínos"]
["Expl. espec. de galinhas poedeiras"]
["Expl. espec. em aves de carne"]
["Expl. combinados de galinhas poedeiras e aves de carne"]
["Expl. com diversas combinações de granívoros"]
["Explorações especializadas em cerealiculrura (exceto arroz), plantas oleaginosas e plantas proteínicas","Arvenses e Outras Culturas Extensivas","Arvenses e Outras Cult pred. Regadio*","Grandes Culturas (Arvenses e Industriais)"]
["Explorações que combinam cereais, arroz, plantas oleaginosas e proteínicas"]
["Explorações de culturas de cereais e de plantas tuberosas combinadas"]
["Explorações especializadas em cultura de tabaco"]
["Explorações com combinação de diversas culturas arvenses"]
["Explorações especializadas em cerealiculrura (excepto arroz), plantas oleaginosas e plantas proteínicas",null,"Arvenses e Outras Cult pred. Sequeiro*"]
["Explorações que combinam cereais, arroz, plantas oleaginosas e proteínicas"]
["Explorações de culturas de cereais e de plantas tuberosas combinadas"]
["Explorações especializadas em cultura de tabaco"]
["Explorações com combinação de diversas culturas arvenses"]
["Explorações especializadas orizícolas","Arroz","Arroz"]
["Explorações especializadas em horticultura extensiva","Horticultura e Industriais","Horticultura e Indústria"]
["Expl. espec. em hortícola sob coberto","Horticultura e Floricultura","Horticultura e Floricultura","Horticultura Intensiva"]
["Expl. espec. em floricultura e plantas ornamentais sob coberto"]
["Expl. espec. em horticultura mistas sob coberto"]
["Expl. espec. em horticultura ao ar lvre"]
["Expl. espec. em floricultura e cultura de plantas ornamentais ao ar livre"]
["Expl. espec. em horticultura mistas ao ar livre"]
["Expl. com viveiros especializados"]
["Explorações com diversas culturas hortícolas"]
["Expl. espec. vinícolas produtoras de vinhos de qualidade","Vinhos","Vinhos","Culturas Permanentes"]
["Expl. espec. vinícolas produtoras de vinhos comuns"]
["Outras explorações vitivinícolas"]
["Expl. espec. na produção de uva de mesa","Fruticultura","Fruticultura"]
["Expl. espec.frutícolas (com excepção dos citrinos, frutos tropicais e frutos de casca rija)"]
["Expl. espec. em citrinos"]
["Expl. espec. na produção de frutos secos"]
["Expl. frutícolas especializadas em frutos tropicais"]
["Expl. esp. que combinam a produção de citrinos, frutos tropicais e frutos de casca rija"]
["Expl. olivícolas especializadas","Olival","Olival"]
["Expl. com diversas combinações de culturas permanentes","Policultura","Policultura","Mistas"]
["Expl. combinando horticultura e culturas permanentes"]
["Expl. combinando culturas arvenses e horticultura"]
["Expl. combinando culturas arvenses e vinhas"]
["Expl. combinando culturas arvenses e culturas permanentes"]
["Expl. de policultura orientadas para culturas arvenses"]
["Outras explorações de policultura"]
["Expl. bovinas especializadas - orientação leite","Bovinos Leite","Bovinos Leite","Leite"]
["Expl. bovinas especializadas - orientação criação e carne","Bovinos Carne","Bov. Carne semi-int*","Outros herbívoros"]
["Expl. bovinas - leite, criação e carne combinadas",null,"Bov. Carne Int*"]
["Expl. bovinas especializadas - orientação criação e carne",null,"Bov. Carne Extensivos*"]
["Expl. bovinas - leite, criação e carne combinadas"]
["Expl. com ovinos especializadas","Outros Ruminantes","Outros Ruminantes"]
["Expl. com ovinos e bovinos combinados"]
["Expl. com caprinos especializadas"]
["Expl. com diversos herbívoros"]
["Expl. de polipecuária orientadas para o leite","Mistas","Mistas","Mistas"]
["Expl. de polipecuária orientadas para os herbívoros não leiteiros"]
["Expl. de polipecuária: granívoros e bovinos leiteiros"]
["Expl. de polipecuária: granívoros e herbívoros não leiteiros"]
["Expl. mistas de culturas arvenses com bovinos leiteiros"]
["Expl. mistas de bovinos leiteiros com culturas arvenses"]
["Expl. mistas de culturas arvenses com herbívoros não leiteiros"]
["Expl. mistas de herbívoros não leiteiros com culturas arvenses"]
["Expl. mistas de culturas arvenses e granívoros"]
["Expl. mistas de culturas permanentes e herbívoros"]
["Expl. Apícolas"]
["Expl. com diversas culturas e criações mistas"]
["Explorações Especializadas em Pousio e Pastagem","Pousio e Pastagem","Pousio e Pastagem"]
["Explorações especializadas em Tomate Indústria","Tomate Indústria","Tomate Indústria","Grandes Culturas (Arvenses e Industriais)"]
["Explorações especializadas em cultura de plantas tuberosas","Plantas tuberosas","Plantas Tuberosas"]

{"sheet":"ClassesAnimais","index":11,"n_rows":23,"n_cols":3,"rows_kept":23,"cut":false,"hidden":true,"merged":[[2,5,9,5],[0,0,0,2]]}
["Tabela de conversão em CN - Cabeças Normais"]
["Classe de animais","Coeficiente CN","Herbívoros"]
["Vacas Leiteiras",1,1]
["Bovinos Fêmeas com mais de 2 Anos não leiteiras",1,1]
["Bovinos Fêmeas com menos de 6 meses",0.4,1]
["Bovinos Fêmeas de 6 Meses a 2 Anos",0.6,1]
["Bovinos Machos com mais de 2 Anos",1,1]
["Bovinos Machos com menos de 6 meses",0.4,1]
["Bovinos Machos de 6 Meses a 2 Anos",0.6,1]
["Caprinos Fêmeas com mais de 12 meses",0.15,1]
["Caprinos Femeas de 6 Meses a 12 Meses",0.15,1]
["Caprinos machos com mais de 12 meses",0.15,1]
["Colónias de Abelhas",0,0]
["Equídeos Fêmeas com mais de 6 meses",1,0]
["Equídeos Machos com mais de 6 meses",1,0]
["Galináceos",1.4E-2,0]
["Galinhas Poedeiras",1.4E-2,0]
["Outras Aves de Capoeira",0.03,0]
["Ovinos Fêmeas com mais de 12 Meses",0.15,1]
["Ovinos Femeas de 6 Meses a 12 Meses",0.15,1]
["Ovinos Machos com mais de 12 Meses",0.15,1]
["Porcas Reprodutoras (mais de 50 Kgs)",0.5,0]
["Outros Suínos (+3 meses)",0.3,0]