{"text_format":"1","workbook":"xlsx","n_sheets":12,"sheets":["Inicio","Base","CHART-Geral","CHART-NUTIII-DE","CHART-NUTIII-GOP","CHART-OTE-DE","Sheet6","Sheet3","Sheet4","Ajuda","EspecificacoesOTE","ClassesAnimais"],"not_rendered":{"charts":8,"images":18,"macros":1,"external_links":1,"defined_names":20,"comments":0,"pivot_tables":0},"unopened":[],"bounds":{"document_bytes":16777216,"sheet_cells":100000,"rows_first":2000,"rows_last":500,"rows_between":2000,"halvings":0,"cell_chars":16384,"cell_head_chars":4096},"cells_cut":0,"cells_raw":0,"read":"whole","date_system":"1900"}

{"sheet":"Inicio","index":0,"n_rows":25,"n_cols":14,"rows_kept":25,"cut":false,"hidden":false,"merged":[[3,0,3,16]]}
[]
[null,null,null,null,null,null,null,null,null,null,null,null,null,"Fonte: GPP a partir de dados "]
[]
["Caracterização dos Apoios e Agricultores Portugueses no âmbito do Pedido Único da PAC - 2020"]
[]
[]
[]
[]
[]
["1. ","Seleccione a variável, o tipo de classes de dimensão e o grupo de produtores a representar:"]
[]
[]
[]
[]
["2. ","Visualize os gráficos respetivos:"]
[]
[]
[]
[]
[null,"Visualize a base de dados:"]
[]
[]
[]
[]
[null,"Copie os dados obtidos para um novo ficheiro:"]

{"sheet":"Base","index":1,"n_rows":82,"n_cols":117,"rows_kept":82,"cut":false,"hidden":true,"merged":[[7,114,8,114],[7,107,8,107],[7,108,8,108],[7,103,8,103],[7,104,8,104],[7,113,8,113],[7,105,8,105],[42,0,42,2],[7,94,8,94],[7,95,8,95],[7,93,8,93],[7,101,8,101],[7,102,8,102],[33,0,33,2],[7,3,7,7],[7,43,7,47],[18,0,25,0],[7,8,7,12],[7,13,7,17],[4,111,4,116],[4,3,4,32],[4,63,4,92],[10,0,17,0],[27,0,31,0],[7,116,8,116],[7,97,8,97],[7,98,8,98],[7,99,8,99],[7,100,8,100],[7,115,8,115],[7,111,8,111],[7,112,8,112],[7,96,8,96],[7,109,8,109],[7,110,8,110],[7,68,7,72],[7,73,7,77],[7,78,7,82],[7,53,7,57],[7,88,7,92],[4,33,4,62],[7,63,7,67],[7,83,7,87],[46,3,46,7],[46,8,46,12],[46,13,46,17],[46,18,46,22],[46,23,46,27],[3,3,3,5],[3,15,3,16],[3,13,3,14],[4,93,4,110],[7,58,7,62],[7,33,7,37],[7,38,7,42],[7,48,7,52],[7,18,7,22],[7,23,7,27],[7,28,7,32],[7,106,8,106],[46,53,46,57],[46,58,46,62],[46,63,46,67],[46,68,46,72],[46,73,46,77],[46,28,46,32],[46,33,46,37],[46,38,46,42],[46,43,46,47],[46,48,46,52],[46,102,47,102],[46,103,47,103],[46,104,47,104],[46,95,47,95],[46,96,47,96],[46,97,47,97],[46,98,47,98],[46,99,47,99],[46,78,46,82],[46,83,46,87],[46,88,46,92],[46,93,47,93],[46,94,47,94],[44,111,44,116],[81,0,81,2],[72,0,72,2],[44,3,44,32],[44,33,44,62],[44,63,44,92],[44,93,44,110],[46,115,47,115],[46,116,47,116],[49,0,56,0],[57,0,64,0],[66,0,70,0],[46,110,47,110],[46,111,47,111],[46,112,47,112],[46,113,47,113],[46,114,47,114],[46,105,47,105],[46,106,47,106],[46,107,47,107],[46,108,47,108],[46,109,47,109],[46,100,47,100],[46,101,47,101]]}
[]
[]
[]
[null,null,null,"Tipo de Beneficiário:",null,null,{"$f":"INDEX(Sheet6!$P$1:$P$6,Sheet3!$A$2)","v":"Todos os Produtores do PU"},null,null,null,null,null,null,"Valor total:",null,{"$f":"+Base!$DM$34","v":169441},null,{"$f":"+\"(\" & (INDEX(Sheet6!$G$2:$G$117,Sheet3!$C$1)) & \")\"","v":"(Nº )"}]
[null,null,null,{"$f":"+INDEX(Sheet6!$D$2:$D$117,Sheet3!$C$1)&\" segundo Orientação Técnico Económica e \"&INDEX(Sheet6!$M$3:$M$6,Sheet3!$B$1)&\" e por NUTSIII em \" &Sheet6!$B$1","v":"(1) - Nº de Beneficiários segundo Orientação Técnico Económica e Classes de Superfície Agrícola e por NUTSIII em 2019"},null,null,null,null,null,null,null,null,null,null,null,null,null,null,null,null,null,null,null,null,null,null,null,null,null,null,null,null,null,{"$f":"+D5& \" (cont.)\"","v":"(1) - Nº de Beneficiários segundo Orientação Técnico Económica e Classes de Superfície Agrícola e por NUTSIII em 2019 (cont.)"},null,null,null,null,null,null,null,null,null,null,null,null,null,null,null,null,null,null,null,null,null,null,null,null,null,null,null,null,null,{"$f":"+AH5","v":"(1) - Nº de Beneficiários segundo Orientação Técnico Económica e Classes de Superfície Agrícola e por NUTSIII em 2019 (cont.)"},null,null,null,null,null,null,null,null,null,null,null,null,null,null,null,null,null,null,null,null,null,null,null,null,null,null,null,null,null,{"$f":"+INDEX(Sheet6!$D$2:$D$117,Sheet3!$C$1)&\" segundo Orientação Técnico Económica por NUTSIII em \" &Sheet6!B1","v":"(1) - Nº de Beneficiários segundo Orientação Técnico Económica por NUTSIII em 2019"},null,null,null,null,null,null,null,null,null,null,null,null,null,null,null,null,null,{"$f":"+INDEX(Sheet6!$D$2:$D$117,Sheet3!$C$1)&CHAR(10)& \"segundo \"&INDEX(Sheet6!$M$3:$M$6,Sheet3!$B$1)& \" por NUTSIII em \" &Sheet6!$B$1","v":"(1) - Nº de Beneficiários\nsegundo Classes de Superfície Agrícola por NUTSIII em 2019"}]
[]
[null,null,{"$f":"+\"Unidade: \"&INDEX(Sheet6!$G$2:$G$117,Sheet3!$C$1)","v":"Unidade: Nº "}]
[null,null,"OTE","Não classificadas",null,null,null,null,"Arvenses e Outras Cult pred. Regadio",null,null,null,null,"Arvenses e Outras Cult pred. Sequeiro",null,null,null,null,"Arroz",null,null,null,null,"Horticultura e Industriais",null,null,null,null,"Horticultura e Floricultura",null,null,null,null,"Vinhos",null,null,null,null,"Fruticultura",null,null,null,null,"Olival",null,null,null,null,"Policultura",null,null,null,null,"Bovinos Leite",null,null,null,null,"Bovinos Carne pred.  Intensivos",null,null,null,null,"Bovinos Carne pred.  Extensivos",null,null,null,null,"Outros Ruminantes",null,null,null,null,"Mistas",null,null,null,null,"Pousio e Pastagem",null,null,null,null,"Tomate Indústria",null,null,null,null,"Plantas tuberosas",null,null,null,null,"Não classificadas","Arvenses e Outras Cult pred. Regadio","Arvenses e Outras Cult pred. Sequeiro","Arroz","Horticultura e Industriais","Horticultura e Floricultura","Vinhos","Fruticultura","Olival","Policultura","Bovinos Leite","Bovinos Carne pred.  Intensivos","Bovinos Carne pred.  Extensivos","Outros Ruminantes","Mistas","Pousio e Pastagem","Tomate Indústria","Plantas tuberosas","MP","P","M","G","MG","Total"]
[null,null,{"$f":"+INDEX(Sheet6!M3:M6,Sheet3!B1)","v":"Classes de Superfície Agrícola"},"MP","P","M","G","MG","MP","P","M","G","MG","MP","P","M","G","MG","MP","P","M","G","MG","MP","P","M","G","MG","MP","P","M","G","MG","MP","P","M","G","MG","MP","P","M","G","MG","MP","P","M","G","MG","MP","P","M","G","MG","MP","P","M","G","MG","MP","P","M","G","MG","MP","P","M","G","MG","MP","P","M","G","MG","MP","P","M","G","MG","MP","P","M","G","MG","MP","P","M","G","MG","MP","P","M","G","MG",null,"Arvenses e Outras Cult pred. Regadio"]
["NUTS II","Cód.","NUTS III",null,null,null,null,null,null,null,null,null,null,null,null,null,null,null,null,null,null,null,null,null,null,null,null,null,null,null,null,null,{"$f":"+\"Unidade: \"&INDEX(Sheet6!$G$2:$G$117,Sheet3!$C$1)","v":"Unidade: Nº "},null,null,null,null,null,null,null,null,null,null,null,null,null,null,null,null,null,null,null,null,null,null,null,null,null,null,null,null,null,{"$f":"+\"Unidade: \"&INDEX(Sheet6!$G$2:$G$117,Sheet3!$C$1)","v":"Unidade: Nº "},null,null,null,null,null,null,null,null,null,null,null,null,null,null,null,null,null,null,null,null,null,null,null,null,null,null,null,null,null,{"$f":"+\"Unidade: \"&INDEX(Sheet6!$G$2:$G$117,Sheet3!$C$1)","v":"Unidade: Nº "},null,null,null,null,null,null,null,null,null,null,null,null,null,null,null,null,null,null,null,null,null,null,null,{"$f":"+\"Unidade: \"&INDEX(Sheet6!$G$2:$G$117,Sheet3!$C$1)","v":"Unidade: Nº "}]
["Norte ","111","Alto Minho",{"$f":"+Sheet3!D8/Sheet3!$F$1","v":0},{"$f":"+Sheet3!E8/Sheet3!$F$1","v":0},{"$f":"+Sheet3!F8/Sheet3!$F$1","v":0},{"$f":"+Sheet3!G8/Sheet3!$F$1","v":0},{"$f":"+Sheet3!H8/Sheet3!$F$1","v":0},{"$f":"+Sheet3!I8/Sheet3!$F$1","v":326},{"$f":"+Sheet3!J8/Sheet3!$F$1","v":9},{"$f":"+Sheet3!K8/Sheet3!$F$1","v":0},{"$f":"+Sheet3!L8/Sheet3!$F$1","v":0},{"$f":"+Sheet3!M8/Sheet3!$F$1","v":0},{"$f":"+Sheet3!N8/Sheet3!$F$1","v":156},{"$f":"+Sheet3!O8/Sheet3!$F$1","v":5},{"$f":"+Sheet3!P8/Sheet3!$F$1","v":0},{"$f":"+Sheet3!Q8/Sheet3!$F$1","v":0},{"$f":"+Sheet3!R8/Sheet3!$F$1","v":0},{"$f":"+Sheet3!S8/Sheet3!$F$1","v":0},{"$f":"+Sheet3!T8/Sheet3!$F$1","v":0},{"$f":"+Sheet3!U8/Sheet3!$F$1","v":0},{"$f":"+Sheet3!V8/Sheet3!$F$1","v":0},{"$f":"+Sheet3!W8/Sheet3!$F$1","v":0},{"$f":"+Sheet3!X8/Sheet3!$F$1","v":0},{"$f":"+Sheet3!Y8/Sheet3!$F$1","v":0},{"$f":"+Sheet3!Z8/Sheet3!$F$1","v":0},{"$f":"+Sheet3!AA8/Sheet3!$F$1","v":0},{"$f":"+Sheet3!AB8/Sheet3!$F$1","v":0},{"$f":"+Sheet3!AC8/Sheet3!$F$1","v":156},{"$f":"+Sheet3!AD8/Sheet3!$F$1","v":5},{"$f":"+Sheet3!AE8/Sheet3!$F$1","v":0},{"$f":"+Sheet3!AF8/Sheet3!$F$1","v":0},{"$f":"+Sheet3!AG8/Sheet3!$F$1","v":0},{"$f":"+Sheet3!AH8/Sheet3!$F$1","v":571},{"$f":"+Sheet3!AI8/Sheet3!$F$1","v":95},{"$f":"+Sheet3!AJ8/Sheet3!$F$1","v":10},{"$f":"+Sheet3!AK8/Sheet3!$F$1","v":0},{"$f":"+Sheet3!AL8/Sheet3!$F$1","v":0},{"$f":"+Sheet3!AM8/Sheet3!$F$1","v":143},{"$f":"+Sheet3!AN8/Sheet3!$F$1","v":18},{"$f":"+Sheet3!AO8/Sheet3!$F$1","v":0},{"$f":"+Sheet3!AP8/Sheet3!$F$1","v":0},{"$f":"+Sheet3!AQ8/Sheet3!$F$1","v":0},{"$f":"+Sheet3!AR8/Sheet3!$F$1","v":0},{"$f":"+Sheet3!AS8/Sheet3!$F$1","v":0},{"$f":"+Sheet3!AT8/Sheet3!$F$1","v":0},{"$f":"+Sheet3!AU8/Sheet3!$F$1","v":0},{"$f":"+Sheet3!AV8/Sheet3!$F$1","v":0},{"$f":"+Sheet3!AW8/Sheet3!$F$1","v":2159},{"$f":"+Sheet3!AX8/Sheet3!$F$1","v":32},{"$f":"+Sheet3!AY8/Sheet3!$F$1","v":0},{"$f":"+Sheet3!AZ8/Sheet3!$F$1","v":0},{"$f":"+Sheet3!BA8/Sheet3!$F$1","v":0},{"$f":"+Sheet3!BB8/Sheet3!$F$1","v":10},{"$f":"+Sheet3!BC8/Sheet3!$F$1","v":53},{"$f":"+Sheet3!BD8/Sheet3!$F$1","v":8},{"$f":"+Sheet3!BE8/Sheet3!$F$1","v":0},{"$f":"+Sheet3!BF8/Sheet3!$F$1","v":0},{"$f":"+Sheet3!BG8/Sheet3!$F$1","v":293},{"$f":"+Sheet3!BH8/Sheet3!$F$1","v":105},{"$f":"+Sheet3!BI8/Sheet3!$F$1","v":13},{"$f":"+Sheet3!BJ8/Sheet3!$F$1","v":0},{"$f":"+Sheet3!BK8/Sheet3!$F$1","v":0},{"$f":"+Sheet3!BL8/Sheet3!$F$1","v":420},{"$f":"+Sheet3!BM8/Sheet3!$F$1","v":375},{"$f":"+Sheet3!BN8/Sheet3!$F$1","v":121},{"$f":"+Sheet3!BO8/Sheet3!$F$1","v":6},{"$f":"+Sheet3!BP8/Sheet3!$F$1","v":5},{"$f":"+Sheet3!BQ8/Sheet3!$F$1","v":977},{"$f":"+Sheet3!BR8/Sheet3!$F$1","v":357},{"$f":"+Sheet3!BS8/Sheet3!$F$1","v":40},{"$f":"+Sheet3!BT8/Sheet3!$F$1","v":0},{"$f":"+Sheet3!BU8/Sheet3!$F$1","v":0},{"$f":"+Sheet3!BV8/Sheet3!$F$1","v":1071},{"$f":"+Sheet3!BW8/Sheet3!$F$1","v":61},{"$f":"+Sheet3!BX8/Sheet3!$F$1","v":0},{"$f":"+Sheet3!BY8/Sheet3!$F$1","v":0},{"$f":"+Sheet3!BZ8/Sheet3!$F$1","v":0},{"$f":"+Sheet3!CA8/Sheet3!$F$1","v":338},{"$f":"+Sheet3!CB8/Sheet3!$F$1","v":14},{"$f":"+Sheet3!CC8/Sheet3!$F$1","v":0},{"$f":"+Sheet3!CD8/Sheet3!$F$1","v":0},{"$f":"+Sheet3!CE8/Sheet3!$F$1","v":0},{"$f":"+Sheet3!CF8/Sheet3!$F$1","v":0},{"$f":"+Sheet3!CG8/Sheet3!$F$1","v":0},{"$f":"+Sheet3!CH8/Sheet3!$F$1","v":0},{"$f":"+Sheet3!CI8/Sheet3!$F$1","v":0},{"$f":"+Sheet3!CJ8/Sheet3!$F$1","v":0},{"$f":"+Sheet3!CK8/Sheet3!$F$1","v":0},{"$f":"+Sheet3!CL8/Sheet3!$F$1","v":0},{"$f":"+Sheet3!CM8/Sheet3!$F$1","v":0},{"$f":"+Sheet3!CN8/Sheet3!$F$1","v":0},{"$f":"+Sheet3!CO8/Sheet3!$F$1","v":0},{"$f":"+Sheet3!CP8/Sheet3!$F$1","v":3},{"$f":"+Sheet3!CQ8/Sheet3!$F$1","v":335},{"$f":"+Sheet3!CR8/Sheet3!$F$1","v":163},{"$f":"+Sheet3!CS8/Sheet3!$F$1","v":0},{"$f":"+Sheet3!CT8/Sheet3!$F$1","v":0},{"$f":"+Sheet3!CU8/Sheet3!$F$1","v":163},{"$f":"+Sheet3!CV8/Sheet3!$F$1","v":677},{"$f":"+Sheet3!CW8/Sheet3!$F$1","v":165},{"$f":"+Sheet3!CX8/Sheet3!$F$1","v":0},{"$f":"+Sheet3!CY8/Sheet3!$F$1","v":2195},{"$f":"+Sheet3!CZ8/Sheet3!$F$1","v":71},{"$f":"+Sheet3!DA8/Sheet3!$F$1","v":415},{"$f":"+Sheet3!DB8/Sheet3!$F$1","v":927},{"$f":"+Sheet3!DC8/Sheet3!$F$1","v":1377},{"$f":"+Sheet3!DD8/Sheet3!$F$1","v":1135},{"$f":"+Sheet3!DE8/Sheet3!$F$1","v":357},{"$f":"+Sheet3!DF8/Sheet3!$F$1","v":0},{"$f":"+Sheet3!DG8/Sheet3!$F$1","v":0},{"$f":"+Sheet3!DH8/Sheet3!$F$1","v":6623},{"$f":"+Sheet3!DI8/Sheet3!$F$1","v":1143},{"$f":"+Sheet3!DJ8/Sheet3!$F$1","v":205},{"$f":"+Sheet3!DK8/Sheet3!$F$1","v":7},{"$f":"+Sheet3!DL8/Sheet3!$F$1","v":5},{"$f":"SUM(DH11:DL11)","v":7983}]
[null,"112","Cávado",{"$f":"+Sheet3!D9/Sheet3!$F$1","v":3},{"$f":"+Sheet3!E9/Sheet3!$F$1","v":0},{"$f":"+Sheet3!F9/Sheet3!$F$1","v":0},{"$f":"+Sheet3!G9/Sheet3!$F$1","v":0},{"$f":"+Sheet3!H9/Sheet3!$F$1","v":0},{"$f":"+Sheet3!I9/Sheet3!$F$1","v":953},{"$f":"+Sheet3!J9/Sheet3!$F$1","v":20},{"$f":"+Sheet3!K9/Sheet3!$F$1","v":0},{"$f":"+Sheet3!L9/Sheet3!$F$1","v":0},{"$f":"+Sheet3!M9/Sheet3!$F$1","v":0},{"$f":"+Sheet3!N9/Sheet3!$F$1","v":272},{"$f":"+Sheet3!O9/Sheet3!$F$1","v":0},{"$f":"+Sheet3!P9/Sheet3!$F$1","v":0},{"$f":"+Sheet3!Q9/Sheet3!$F$1","v":0},{"$f":"+Sheet3!R9/Sheet3!$F$1","v":0},{"$f":"+Sheet3!S9/Sheet3!$F$1","v":0},{"$f":"+Sheet3!T9/Sheet3!$F$1","v":0},{"$f":"+Sheet3!U9/Sheet3!$F$1","v":0},{"$f":"+Sheet3!V9/Sheet3!$F$1","v":0},{"$f":"+Sheet3!W9/Sheet3!$F$1","v":0},{"$f":"+Sheet3!X9/Sheet3!$F$1","v":0},{"$f":"+Sheet3!Y9/Sheet3!$F$1","v":0},{"$f":"+Sheet3!Z9/Sheet3!$F$1","v":0},{"$f":"+Sheet3!AA9/Sheet3!$F$1","v":0},{"$f":"+Sheet3!AB9/Sheet3!$F$1","v":0},{"$f":"+Sheet3!AC9/Sheet3!$F$1","v":410},{"$f":"+Sheet3!AD9/Sheet3!$F$1","v":7},{"$f":"+Sheet3!AE9/Sheet3!$F$1","v":0},{"$f":"+Sheet3!AF9/Sheet3!$F$1","v":0},{"$f":"+Sheet3!AG9/Sheet3!$F$1","v":0},{"$f":"+Sheet3!AH9/Sheet3!$F$1","v":68},{"$f":"+Sheet3!AI9/Sheet3!$F$1","v":30},{"$f":"+Sheet3!AJ9/Sheet3!$F$1","v":6},{"$f":"+Sheet3!AK9/Sheet3!$F$1","v":0},{"$f":"+Sheet3!AL9/Sheet3!$F$1","v":0},{"$f":"+Sheet3!AM9/Sheet3!$F$1","v":225},{"$f":"+Sheet3!AN9/Sheet3!$F$1","v":29},{"$f":"+Sheet3!AO9/Sheet3!$F$1","v":0},{"$f":"+Sheet3!AP9/Sheet3!$F$1","v":0},{"$f":"+Sheet3!AQ9/Sheet3!$F$1","v":0},{"$f":"+Sheet3!AR9/Sheet3!$F$1","v":0},{"$f":"+Sheet3!AS9/Sheet3!$F$1","v":0},{"$f":"+Sheet3!AT9/Sheet3!$F$1","v":0},{"$f":"+Sheet3!AU9/Sheet3!$F$1","v":0},{"$f":"+Sheet3!AV9/Sheet3!$F$1","v":0},{"$f":"+Sheet3!AW9/Sheet3!$F$1","v":2000},{"$f":"+Sheet3!AX9/Sheet3!$F$1","v":64},{"$f":"+Sheet3!AY9/Sheet3!$F$1","v":0},{"$f":"+Sheet3!AZ9/Sheet3!$F$1","v":0},{"$f":"+Sheet3!BA9/Sheet3!$F$1","v":0},{"$f":"+Sheet3!BB9/Sheet3!$F$1","v":139},{"$f":"+Sheet3!BC9/Sheet3!$F$1","v":300},{"$f":"+Sheet3!BD9/Sheet3!$F$1","v":14},{"$f":"+Sheet3!BE9/Sheet3!$F$1","v":0},{"$f":"+Sheet3!BF9/Sheet3!$F$1","v":0},{"$f":"+Sheet3!BG9/Sheet3!$F$1","v":624},{"$f":"+Sheet3!BH9/Sheet3!$F$1","v":126},{"$f":"+Sheet3!BI9/Sheet3!$F$1","v":4},{"$f":"+Sheet3!BJ9/Sheet3!$F$1","v":0},{"$f":"+Sheet3!BK9/Sheet3!$F$1","v":0},{"$f":"+Sheet3!BL9/Sheet3!$F$1","v":138},{"$f":"+Sheet3!BM9/Sheet3!$F$1","v":91},{"$f":"+Sheet3!BN9/Sheet3!$F$1","v":18},{"$f":"+Sheet3!BO9/Sheet3!$F$1","v":0},{"$f":"+Sheet3!BP9/Sheet3!$F$1","v":0},{"$f":"+Sheet3!BQ9/Sheet3!$F$1","v":214},{"$f":"+Sheet3!BR9/Sheet3!$F$1","v":74},{"$f":"+Sheet3!BS9/Sheet3!$F$1","v":12},{"$f":"+Sheet3!BT9/Sheet3!$F$1","v":0},{"$f":"+Sheet3!BU9/Sheet3!$F$1","v":0},{"$f":"+Sheet3!BV9/Sheet3!$F$1","v":599},{"$f":"+Sheet3!BW9/Sheet3!$F$1","v":49},{"$f":"+Sheet3!BX9/Sheet3!$F$1","v":0},{"$f":"+Sheet3!BY9/Sheet3!$F$1","v":0},{"$f":"+Sheet3!BZ9/Sheet3!$F$1","v":0},{"$f":"+Sheet3!CA9/Sheet3!$F$1","v":723},{"$f":"+Sheet3!CB9/Sheet3!$F$1","v":77},{"$f":"+Sheet3!CC9/Sheet3!$F$1","v":0},{"$f":"+Sheet3!CD9/Sheet3!$F$1","v":0},{"$f":"+Sheet3!CE9/Sheet3!$F$1","v":0},{"$f":"+Sheet3!CF9/Sheet3!$F$1","v":0},{"$f":"+Sheet3!CG9/Sheet3!$F$1","v":0},{"$f":"+Sheet3!CH9/Sheet3!$F$1","v":0},{"$f":"+Sheet3!CI9/Sheet3!$F$1","v":0},{"$f":"+Sheet3!CJ9/Sheet3!$F$1","v":0},{"$f":"+Sheet3!CK9/Sheet3!$F$1","v":6},{"$f":"+Sheet3!CL9/Sheet3!$F$1","v":0},{"$f":"+Sheet3!CM9/Sheet3!$F$1","v":0},{"$f":"+Sheet3!CN9/Sheet3!$F$1","v":0},{"$f":"+Sheet3!CO9/Sheet3!$F$1","v":0},{"$f":"+Sheet3!CP9/Sheet3!$F$1","v":4},{"$f":"+Sheet3!CQ9/Sheet3!$F$1","v":976},{"$f":"+Sheet3!CR9/Sheet3!$F$1","v":273},{"$f":"+Sheet3!CS9/Sheet3!$F$1","v":0},{"$f":"+Sheet3!CT9/Sheet3!$F$1","v":0},{"$f":"+Sheet3!CU9/Sheet3!$F$1","v":419},{"$f":"+Sheet3!CV9/Sheet3!$F$1","v":105},{"$f":"+Sheet3!CW9/Sheet3!$F$1","v":256},{"$f":"+Sheet3!CX9/Sheet3!$F$1","v":0},{"$f":"+Sheet3!CY9/Sheet3!$F$1","v":2067},{"$f":"+Sheet3!CZ9/Sheet3!$F$1","v":453},{"$f":"+Sheet3!DA9/Sheet3!$F$1","v":758},{"$f":"+Sheet3!DB9/Sheet3!$F$1","v":250},{"$f":"+Sheet3!DC9/Sheet3!$F$1","v":301},{"$f":"+Sheet3!DD9/Sheet3!$F$1","v":650},{"$f":"+Sheet3!DE9/Sheet3!$F$1","v":804},{"$f":"+Sheet3!DF9/Sheet3!$F$1","v":0},{"$f":"+Sheet3!DG9/Sheet3!$F$1","v":6},{"$f":"+Sheet3!DH9/Sheet3!$F$1","v":6383},{"$f":"+Sheet3!DI9/Sheet3!$F$1","v":883},{"$f":"+Sheet3!DJ9/Sheet3!$F$1","v":56},{"$f":"+Sheet3!DK9/Sheet3!$F$1","v":0},{"$f":"+Sheet3!DL9/Sheet3!$F$1","v":0},{"$f":"SUM(DH12:DL12)","v":7322}]
[null,"119","Ave",{"$f":"+Sheet3!D10/Sheet3!$F$1","v":0},{"$f":"+Sheet3!E10/Sheet3!$F$1","v":0},{"$f":"+Sheet3!F10/Sheet3!$F$1","v":0},{"$f":"+Sheet3!G10/Sheet3!$F$1","v":0},{"$f":"+Sheet3!H10/Sheet3!$F$1","v":0},{"$f":"+Sheet3!I10/Sheet3!$F$1","v":555},{"$f":"+Sheet3!J10/Sheet3!$F$1","v":18},{"$f":"+Sheet3!K10/Sheet3!$F$1","v":0},{"$f":"+Sheet3!L10/Sheet3!$F$1","v":0},{"$f":"+Sheet3!M10/Sheet3!$F$1","v":0},{"$f":"+Sheet3!N10/Sheet3!$F$1","v":85},{"$f":"+Sheet3!O10/Sheet3!$F$1","v":5},{"$f":"+Sheet3!P10/Sheet3!$F$1","v":0},{"$f":"+Sheet3!Q10/Sheet3!$F$1","v":0},{"$f":"+Sheet3!R10/Sheet3!$F$1","v":0},{"$f":"+Sheet3!S10/Sheet3!$F$1","v":0},{"$f":"+Sheet3!T10/Sheet3!$F$1","v":0},{"$f":"+Sheet3!U10/Sheet3!$F$1","v":0},{"$f":"+Sheet3!V10/Sheet3!$F$1","v":0},{"$f":"+Sheet3!W10/Sheet3!$F$1","v":0},{"$f":"+Sheet3!X10/Sheet3!$F$1","v":0},{"$f":"+Sheet3!Y10/Sheet3!$F$1","v":0},{"$f":"+Sheet3!Z10/Sheet3!$F$1","v":0},{"$f":"+Sheet3!AA10/Sheet3!$F$1","v":0},{"$f":"+Sheet3!AB10/Sheet3!$F$1","v":0},{"$f":"+Sheet3!AC10/Sheet3!$F$1","v":101},{"$f":"+Sheet3!AD10/Sheet3!$F$1","v":8},{"$f":"+Sheet3!AE10/Sheet3!$F$1","v":0},{"$f":"+Sheet3!AF10/Sheet3!$F$1","v":0},{"$f":"+Sheet3!AG10/Sheet3!$F$1","v":0},{"$f":"+Sheet3!AH10/Sheet3!$F$1","v":173},{"$f":"+Sheet3!AI10/Sheet3!$F$1","v":64},{"$f":"+Sheet3!AJ10/Sheet3!$F$1","v":7},{"$f":"+Sheet3!AK10/Sheet3!$F$1","v":0},{"$f":"+Sheet3!AL10/Sheet3!$F$1","v":0},{"$f":"+Sheet3!AM10/Sheet3!$F$1","v":147},{"$f":"+Sheet3!AN10/Sheet3!$F$1","v":28},{"$f":"+Sheet3!AO10/Sheet3!$F$1","v":4},{"$f":"+Sheet3!AP10/Sheet3!$F$1","v":0},{"$f":"+Sheet3!AQ10/Sheet3!$F$1","v":0},{"$f":"+Sheet3!AR10/Sheet3!$F$1","v":0},{"$f":"+Sheet3!AS10/Sheet3!$F$1","v":0},{"$f":"+Sheet3!AT10/Sheet3!$F$1","v":0},{"$f":"+Sheet3!AU10/Sheet3!$F$1","v":0},{"$f":"+Sheet3!AV10/Sheet3!$F$1","v":0},{"$f":"+Sheet3!AW10/Sheet3!$F$1","v":729},{"$f":"+Sheet3!AX10/Sheet3!$F$1","v":54},{"$f":"+Sheet3!AY10/Sheet3!$F$1","v":6},{"$f":"+Sheet3!AZ10/Sheet3!$F$1","v":0},{"$f":"+Sheet3!BA10/Sheet3!$F$1","v":0},{"$f":"+Sheet3!BB10/Sheet3!$F$1","v":37},{"$f":"+Sheet3!BC10/Sheet3!$F$1","v":105},{"$f":"+Sheet3!BD10/Sheet3!$F$1","v":4},{"$f":"+Sheet3!BE10/Sheet3!$F$1","v":0},{"$f":"+Sheet3!BF10/Sheet3!$F$1","v":0},{"$f":"+Sheet3!BG10/Sheet3!$F$1","v":337},{"$f":"+Sheet3!BH10/Sheet3!$F$1","v":107},{"$f":"+Sheet3!BI10/Sheet3!$F$1","v":5},{"$f":"+Sheet3!BJ10/Sheet3!$F$1","v":0},{"$f":"+Sheet3!BK10/Sheet3!$F$1","v":0},{"$f":"+Sheet3!BL10/Sheet3!$F$1","v":171},{"$f":"+Sheet3!BM10/Sheet3!$F$1","v":322},{"$f":"+Sheet3!BN10/Sheet3!$F$1","v":34},{"$f":"+Sheet3!BO10/Sheet3!$F$1","v":0},{"$f":"+Sheet3!BP10/Sheet3!$F$1","v":0},{"$f":"+Sheet3!BQ10/Sheet3!$F$1","v":388},{"$f":"+Sheet3!BR10/Sheet3!$F$1","v":318},{"$f":"+Sheet3!BS10/Sheet3!$F$1","v":53},{"$f":"+Sheet3!BT10/Sheet3!$F$1","v":0},{"$f":"+Sheet3!BU10/Sheet3!$F$1","v":0},{"$f":"+Sheet3!BV10/Sheet3!$F$1","v":355},{"$f":"+Sheet3!BW10/Sheet3!$F$1","v":78},{"$f":"+Sheet3!BX10/Sheet3!$F$1","v":8},{"$f":"+Sheet3!BY10/Sheet3!$F$1","v":0},{"$f":"+Sheet3!BZ10/Sheet3!$F$1","v":0},{"$f":"+Sheet3!CA10/Sheet3!$F$1","v":528},{"$f":"+Sheet3!CB10/Sheet3!$F$1","v":54},{"$f":"+Sheet3!CC10/Sheet3!$F$1","v":0},{"$f":"+Sheet3!CD10/Sheet3!$F$1","v":0},{"$f":"+Sheet3!CE10/Sheet3!$F$1","v":0},{"$f":"+Sheet3!CF10/Sheet3!$F$1","v":0},{"$f":"+Sheet3!CG10/Sheet3!$F$1","v":0},{"$f":"+Sheet3!CH10/Sheet3!$F$1","v":0},{"$f":"+Sheet3!CI10/Sheet3!$F$1","v":0},{"$f":"+Sheet3!CJ10/Sheet3!$F$1","v":0},{"$f":"+Sheet3!CK10/Sheet3!$F$1","v":0},{"$f":"+Sheet3!CL10/Sheet3!$F$1","v":0},{"$f":"+Sheet3!CM10/Sheet3!$F$1","v":0},{"$f":"+Sheet3!CN10/Sheet3!$F$1","v":0},{"$f":"+Sheet3!CO10/Sheet3!$F$1","v":0},{"$f":"+Sheet3!CP10/Sheet3!$F$1","v":7},{"$f":"+Sheet3!CQ10/Sheet3!$F$1","v":575},{"$f":"+Sheet3!CR10/Sheet3!$F$1","v":91},{"$f":"+Sheet3!CS10/Sheet3!$F$1","v":0},{"$f":"+Sheet3!CT10/Sheet3!$F$1","v":0},{"$f":"+Sheet3!CU10/Sheet3!$F$1","v":111},{"$f":"+Sheet3!CV10/Sheet3!$F$1","v":247},{"$f":"+Sheet3!CW10/Sheet3!$F$1","v":182},{"$f":"+Sheet3!CX10/Sheet3!$F$1","v":4},{"$f":"+Sheet3!CY10/Sheet3!$F$1","v":791},{"$f":"+Sheet3!CZ10/Sheet3!$F$1","v":150},{"$f":"+Sheet3!DA10/Sheet3!$F$1","v":452},{"$f":"+Sheet3!DB10/Sheet3!$F$1","v":531},{"$f":"+Sheet3!DC10/Sheet3!$F$1","v":763},{"$f":"+Sheet3!DD10/Sheet3!$F$1","v":442},{"$f":"+Sheet3!DE10/Sheet3!$F$1","v":585},{"$f":"+Sheet3!DF10/Sheet3!$F$1","v":0},{"$f":"+Sheet3!DG10/Sheet3!$F$1","v":0},{"$f":"+Sheet3!DH10/Sheet3!$F$1","v":3624},{"$f":"+Sheet3!DI10/Sheet3!$F$1","v":1178},{"$f":"+Sheet3!DJ10/Sheet3!$F$1","v":131},{"$f":"+Sheet3!DK10/Sheet3!$F$1","v":0},{"$f":"+Sheet3!DL10/Sheet3!$F$1","v":0},4933]
[null,"11A","Área Metropolitana do Porto",{"$f":"+Sheet3!D11/Sheet3!$F$1","v":0},{"$f":"+Sheet3!E11/Sheet3!$F$1","v":0},{"$f":"+Sheet3!F11/Sheet3!$F$1","v":0},{"$f":"+Sheet3!G11/Sheet3!$F$1","v":0},{"$f":"+Sheet3!H11/Sheet3!$F$1","v":0},{"$f":"+Sheet3!I11/Sheet3!$F$1","v":818},{"$f":"+Sheet3!J11/Sheet3!$F$1","v":25},{"$f":"+Sheet3!K11/Sheet3!$F$1","v":0},{"$f":"+Sheet3!L11/Sheet3!$F$1","v":0},{"$f":"+Sheet3!M11/Sheet3!$F$1","v":0},{"$f":"+Sheet3!N11/Sheet3!$F$1","v":97},{"$f":"+Sheet3!O11/Sheet3!$F$1","v":0},{"$f":"+Sheet3!P11/Sheet3!$F$1","v":0},{"$f":"+Sheet3!Q11/Sheet3!$F$1","v":0},{"$f":"+Sheet3!R11/Sheet3!$F$1","v":0},{"$f":"+Sheet3!S11/Sheet3!$F$1","v":0},{"$f":"+Sheet3!T11/Sheet3!$F$1","v":0},{"$f":"+Sheet3!U11/Sheet3!$F$1","v":0},{"$f":"+Sheet3!V11/Sheet3!$F$1","v":0},{"$f":"+Sheet3!W11/Sheet3!$F$1","v":0},{"$f":"+Sheet3!X11/Sheet3!$F$1","v":0},{"$f":"+Sheet3!Y11/Sheet3!$F$1","v":0},{"$f":"+Sheet3!Z11/Sheet3!$F$1","v":0},{"$f":"+Sheet3!AA11/Sheet3!$F$1","v":0},{"$f":"+Sheet3!AB11/Sheet3!$F$1","v":0},{"$f":"+Sheet3!AC11/Sheet3!$F$1","v":223},{"$f":"+Sheet3!AD11/Sheet3!$F$1","v":14},{"$f":"+Sheet3!AE11/Sheet3!$F$1","v":0},{"$f":"+Sheet3!AF11/Sheet3!$F$1","v":0},{"$f":"+Sheet3!AG11/Sheet3!$F$1","v":0},{"$f":"+Sheet3!AH11/Sheet3!$F$1","v":62},{"$f":"+Sheet3!AI11/Sheet3!$F$1","v":25},{"$f":"+Sheet3!AJ11/Sheet3!$F$1","v":0},{"$f":"+Sheet3!AK11/Sheet3!$F$1","v":0},{"$f":"+Sheet3!AL11/Sheet3!$F$1","v":0},{"$f":"+Sheet3!AM11/Sheet3!$F$1","v":174},{"$f":"+Sheet3!AN11/Sheet3!$F$1","v":37},{"$f":"+Sheet3!AO11/Sheet3!$F$1","v":0},{"$f":"+Sheet3!AP11/Sheet3!$F$1","v":0},{"$f":"+Sheet3!AQ11/Sheet3!$F$1","v":0},{"$f":"+Sheet3!AR11/Sheet3!$F$1","v":0},{"$f":"+Sheet3!AS11/Sheet3!$F$1","v":0},{"$f":"+Sheet3!AT11/Sheet3!$F$1","v":0},{"$f":"+Sheet3!AU11/Sheet3!$F$1","v":0},{"$f":"+Sheet3!AV11/Sheet3!$F$1","v":0},{"$f":"+Sheet3!AW11/Sheet3!$F$1","v":798},{"$f":"+Sheet3!AX11/Sheet3!$F$1","v":50},{"$f":"+Sheet3!AY11/Sheet3!$F$1","v":0},{"$f":"+Sheet3!AZ11/Sheet3!$F$1","v":0},{"$f":"+Sheet3!BA11/Sheet3!$F$1","v":0},{"$f":"+Sheet3!BB11/Sheet3!$F$1","v":126},{"$f":"+Sheet3!BC11/Sheet3!$F$1","v":456},{"$f":"+Sheet3!BD11/Sheet3!$F$1","v":26},{"$f":"+Sheet3!BE11/Sheet3!$F$1","v":0},{"$f":"+Sheet3!BF11/Sheet3!$F$1","v":0},{"$f":"+Sheet3!BG11/Sheet3!$F$1","v":408},{"$f":"+Sheet3!BH11/Sheet3!$F$1","v":124},{"$f":"+Sheet3!BI11/Sheet3!$F$1","v":4},{"$f":"+Sheet3!BJ11/Sheet3!$F$1","v":0},{"$f":"+Sheet3!BK11/Sheet3!$F$1","v":0},{"$f":"+Sheet3!BL11/Sheet3!$F$1","v":74},{"$f":"+Sheet3!BM11/Sheet3!$F$1","v":46},{"$f":"+Sheet3!BN11/Sheet3!$F$1","v":0},{"$f":"+Sheet3!BO11/Sheet3!$F$1","v":0},{"$f":"+Sheet3!BP11/Sheet3!$F$1","v":0},{"$f":"+Sheet3!BQ11/Sheet3!$F$1","v":93},{"$f":"+Sheet3!BR11/Sheet3!$F$1","v":53},{"$f":"+Sheet3!BS11/Sheet3!$F$1","v":0},{"$f":"+Sheet3!BT11/Sheet3!$F$1","v":0},{"$f":"+Sheet3!BU11/Sheet3!$F$1","v":0},{"$f":"+Sheet3!BV11/Sheet3!$F$1","v":374},{"$f":"+Sheet3!BW11/Sheet3!$F$1","v":37},{"$f":"+Sheet3!BX11/Sheet3!$F$1","v":0},{"$f":"+Sheet3!BY11/Sheet3!$F$1","v":0},{"$f":"+Sheet3!BZ11/Sheet3!$F$1","v":0},{"$f":"+Sheet3!CA11/Sheet3!$F$1","v":680},{"$f":"+Sheet3!CB11/Sheet3!$F$1","v":168},{"$f":"+Sheet3!CC11/Sheet3!$F$1","v":0},{"$f":"+Sheet3!CD11/Sheet3!$F$1","v":0},{"$f":"+Sheet3!CE11/Sheet3!$F$1","v":0},{"$f":"+Sheet3!CF11/Sheet3!$F$1","v":0},{"$f":"+Sheet3!CG11/Sheet3!$F$1","v":0},{"$f":"+Sheet3!CH11/Sheet3!$F$1","v":0},{"$f":"+Sheet3!CI11/Sheet3!$F$1","v":0},{"$f":"+Sheet3!CJ11/Sheet3!$F$1","v":0},{"$f":"+Sheet3!CK11/Sheet3!$F$1","v":3},{"$f":"+Sheet3!CL11/Sheet3!$F$1","v":0},{"$f":"+Sheet3!CM11/Sheet3!$F$1","v":0},{"$f":"+Sheet3!CN11/Sheet3!$F$1","v":0},{"$f":"+Sheet3!CO11/Sheet3!$F$1","v":0},{"$f":"+Sheet3!CP11/Sheet3!$F$1","v":0},{"$f":"+Sheet3!CQ11/Sheet3!$F$1","v":845},{"$f":"+Sheet3!CR11/Sheet3!$F$1","v":99},{"$f":"+Sheet3!CS11/Sheet3!$F$1","v":0},{"$f":"+Sheet3!CT11/Sheet3!$F$1","v":0},{"$f":"+Sheet3!CU11/Sheet3!$F$1","v":238},{"$f":"+Sheet3!CV11/Sheet3!$F$1","v":89},{"$f":"+Sheet3!CW11/Sheet3!$F$1","v":212},{"$f":"+Sheet3!CX11/Sheet3!$F$1","v":0},{"$f":"+Sheet3!CY11/Sheet3!$F$1","v":850},{"$f":"+Sheet3!CZ11/Sheet3!$F$1","v":610},{"$f":"+Sheet3!DA11/Sheet3!$F$1","v":537},{"$f":"+Sheet3!DB11/Sheet3!$F$1","v":126},{"$f":"+Sheet3!DC11/Sheet3!$F$1","v":151},{"$f":"+Sheet3!DD11/Sheet3!$F$1","v":414},{"$f":"+Sheet3!DE11/Sheet3!$F$1","v":852},{"$f":"+Sheet3!DF11/Sheet3!$F$1","v":0},{"$f":"+Sheet3!DG11/Sheet3!$F$1","v":5},{"$f":"+Sheet3!DH11/Sheet3!$F$1","v":3941},{"$f":"+Sheet3!DI11/Sheet3!$F$1","v":1046},{"$f":"+Sheet3!DJ11/Sheet3!$F$1","v":44},{"$f":"+Sheet3!DK11/Sheet3!$F$1","v":0},{"$f":"+Sheet3!DL11/Sheet3!$F$1","v":0},5031]
[null,"11B","Alto Tâmega",{"$f":"+Sheet3!D12/Sheet3!$F$1","v":17},{"$f":"+Sheet3!E12/Sheet3!$F$1","v":9},{"$f":"+Sheet3!F12/Sheet3!$F$1","v":0},{"$f":"+Sheet3!G12/Sheet3!$F$1","v":0},{"$f":"+Sheet3!H12/Sheet3!$F$1","v":0},{"$f":"+Sheet3!I12/Sheet3!$F$1","v":171},{"$f":"+Sheet3!J12/Sheet3!$F$1","v":35},{"$f":"+Sheet3!K12/Sheet3!$F$1","v":0},{"$f":"+Sheet3!L12/Sheet3!$F$1","v":0},{"$f":"+Sheet3!M12/Sheet3!$F$1","v":0},{"$f":"+Sheet3!N12/Sheet3!$F$1","v":523},{"$f":"+Sheet3!O12/Sheet3!$F$1","v":96},{"$f":"+Sheet3!P12/Sheet3!$F$1","v":3},{"$f":"+Sheet3!Q12/Sheet3!$F$1","v":0},{"$f":"+Sheet3!R12/Sheet3!$F$1","v":0},{"$f":"+Sheet3!S12/Sheet3!$F$1","v":0},{"$f":"+Sheet3!T12/Sheet3!$F$1","v":0},{"$f":"+Sheet3!U12/Sheet3!$F$1","v":0},{"$f":"+Sheet3!V12/Sheet3!$F$1","v":0},{"$f":"+Sheet3!W12/Sheet3!$F$1","v":0},{"$f":"+Sheet3!X12/Sheet3!$F$1","v":0},{"$f":"+Sheet3!Y12/Sheet3!$F$1","v":0},{"$f":"+Sheet3!Z12/Sheet3!$F$1","v":0},{"$f":"+Sheet3!AA12/Sheet3!$F$1","v":0},{"$f":"+Sheet3!AB12/Sheet3!$F$1","v":0},{"$f":"+Sheet3!AC12/Sheet3!$F$1","v":1153},{"$f":"+Sheet3!AD12/Sheet3!$F$1","v":133},{"$f":"+Sheet3!AE12/Sheet3!$F$1","v":0},{"$f":"+Sheet3!AF12/Sheet3!$F$1","v":0},{"$f":"+Sheet3!AG12/Sheet3!$F$1","v":0},{"$f":"+Sheet3!AH12/Sheet3!$F$1","v":85},{"$f":"+Sheet3!AI12/Sheet3!$F$1","v":23},{"$f":"+Sheet3!AJ12/Sheet3!$F$1","v":0},{"$f":"+Sheet3!AK12/Sheet3!$F$1","v":0},{"$f":"+Sheet3!AL12/Sheet3!$F$1","v":0},{"$f":"+Sheet3!AM12/Sheet3!$F$1","v":899},{"$f":"+Sheet3!AN12/Sheet3!$F$1","v":383},{"$f":"+Sheet3!AO12/Sheet3!$F$1","v":17},{"$f":"+Sheet3!AP12/Sheet3!$F$1","v":0},{"$f":"+Sheet3!AQ12/Sheet3!$F$1","v":0},{"$f":"+Sheet3!AR12/Sheet3!$F$1","v":202},{"$f":"+Sheet3!AS12/Sheet3!$F$1","v":32},{"$f":"+Sheet3!AT12/Sheet3!$F$1","v":5},{"$f":"+Sheet3!AU12/Sheet3!$F$1","v":0},{"$f":"+Sheet3!AV12/Sheet3!$F$1","v":0},{"$f":"+Sheet3!AW12/Sheet3!$F$1","v":3175},{"$f":"+Sheet3!AX12/Sheet3!$F$1","v":979},{"$f":"+Sheet3!AY12/Sheet3!$F$1","v":16},{"$f":"+Sheet3!AZ12/Sheet3!$F$1","v":0},{"$f":"+Sheet3!BA12/Sheet3!$F$1","v":0},{"$f":"+Sheet3!BB12/Sheet3!$F$1","v":12},{"$f":"+Sheet3!BC12/Sheet3!$F$1","v":55},{"$f":"+Sheet3!BD12/Sheet3!$F$1","v":11},{"$f":"+Sheet3!BE12/Sheet3!$F$1","v":0},{"$f":"+Sheet3!BF12/Sheet3!$F$1","v":0},{"$f":"+Sheet3!BG12/Sheet3!$F$1","v":67},{"$f":"+Sheet3!BH12/Sheet3!$F$1","v":113},{"$f":"+Sheet3!BI12/Sheet3!$F$1","v":25},{"$f":"+Sheet3!BJ12/Sheet3!$F$1","v":0},{"$f":"+Sheet3!BK12/Sheet3!$F$1","v":0},{"$f":"+Sheet3!BL12/Sheet3!$F$1","v":163},{"$f":"+Sheet3!BM12/Sheet3!$F$1","v":1000},{"$f":"+Sheet3!BN12/Sheet3!$F$1","v":293},{"$f":"+Sheet3!BO12/Sheet3!$F$1","v":8},{"$f":"+Sheet3!BP12/Sheet3!$F$1","v":0},{"$f":"+Sheet3!BQ12/Sheet3!$F$1","v":536},{"$f":"+Sheet3!BR12/Sheet3!$F$1","v":974},{"$f":"+Sheet3!BS12/Sheet3!$F$1","v":147},{"$f":"+Sheet3!BT12/Sheet3!$F$1","v":0},{"$f":"+Sheet3!BU12/Sheet3!$F$1","v":0},{"$f":"+Sheet3!BV12/Sheet3!$F$1","v":335},{"$f":"+Sheet3!BW12/Sheet3!$F$1","v":411},{"$f":"+Sheet3!BX12/Sheet3!$F$1","v":20},{"$f":"+Sheet3!BY12/Sheet3!$F$1","v":0},{"$f":"+Sheet3!BZ12/Sheet3!$F$1","v":0},{"$f":"+Sheet3!CA12/Sheet3!$F$1","v":373},{"$f":"+Sheet3!CB12/Sheet3!$F$1","v":104},{"$f":"+Sheet3!CC12/Sheet3!$F$1","v":3},{"$f":"+Sheet3!CD12/Sheet3!$F$1","v":0},{"$f":"+Sheet3!CE12/Sheet3!$F$1","v":0},{"$f":"+Sheet3!CF12/Sheet3!$F$1","v":0},{"$f":"+Sheet3!CG12/Sheet3!$F$1","v":0},{"$f":"+Sheet3!CH12/Sheet3!$F$1","v":0},{"$f":"+Sheet3!CI12/Sheet3!$F$1","v":0},{"$f":"+Sheet3!CJ12/Sheet3!$F$1","v":0},{"$f":"+Sheet3!CK12/Sheet3!$F$1","v":49},{"$f":"+Sheet3!CL12/Sheet3!$F$1","v":0},{"$f":"+Sheet3!CM12/Sheet3!$F$1","v":0},{"$f":"+Sheet3!CN12/Sheet3!$F$1","v":0},{"$f":"+Sheet3!CO12/Sheet3!$F$1","v":0},{"$f":"+Sheet3!CP12/Sheet3!$F$1","v":31},{"$f":"+Sheet3!CQ12/Sheet3!$F$1","v":208},{"$f":"+Sheet3!CR12/Sheet3!$F$1","v":622},{"$f":"+Sheet3!CS12/Sheet3!$F$1","v":0},{"$f":"+Sheet3!CT12/Sheet3!$F$1","v":3},{"$f":"+Sheet3!CU12/Sheet3!$F$1","v":1292},{"$f":"+Sheet3!CV12/Sheet3!$F$1","v":113},{"$f":"+Sheet3!CW12/Sheet3!$F$1","v":1303},{"$f":"+Sheet3!CX12/Sheet3!$F$1","v":239},{"$f":"+Sheet3!CY12/Sheet3!$F$1","v":4172},{"$f":"+Sheet3!CZ12/Sheet3!$F$1","v":84},{"$f":"+Sheet3!DA12/Sheet3!$F$1","v":210},{"$f":"+Sheet3!DB12/Sheet3!$F$1","v":1465},{"$f":"+Sheet3!DC12/Sheet3!$F$1","v":1660},{"$f":"+Sheet3!DD12/Sheet3!$F$1","v":766},{"$f":"+Sheet3!DE12/Sheet3!$F$1","v":482},{"$f":"+Sheet3!DF12/Sheet3!$F$1","v":0},{"$f":"+Sheet3!DG12/Sheet3!$F$1","v":50},{"$f":"+Sheet3!DH12/Sheet3!$F$1","v":7773},{"$f":"+Sheet3!DI12/Sheet3!$F$1","v":4365},{"$f":"+Sheet3!DJ12/Sheet3!$F$1","v":552},{"$f":"+Sheet3!DK12/Sheet3!$F$1","v":10},{"$f":"+Sheet3!DL12/Sheet3!$F$1","v":0},12700]
[null,"11C","Tâmega e Sousa",{"$f":"+Sheet3!D13/Sheet3!$F$1","v":0},{"$f":"+Sheet3!E13/Sheet3!$F$1","v":0},{"$f":"+Sheet3!F13/Sheet3!$F$1","v":0},{"$f":"+Sheet3!G13/Sheet3!$F$1","v":0},{"$f":"+Sheet3!H13/Sheet3!$F$1","v":0},{"$f":"+Sheet3!I13/Sheet3!$F$1","v":537},{"$f":"+Sheet3!J13/Sheet3!$F$1","v":16},{"$f":"+Sheet3!K13/Sheet3!$F$1","v":0},{"$f":"+Sheet3!L13/Sheet3!$F$1","v":0},{"$f":"+Sheet3!M13/Sheet3!$F$1","v":0},{"$f":"+Sheet3!N13/Sheet3!$F$1","v":48},{"$f":"+Sheet3!O13/Sheet3!$F$1","v":5},{"$f":"+Sheet3!P13/Sheet3!$F$1","v":0},{"$f":"+Sheet3!Q13/Sheet3!$F$1","v":0},{"$f":"+Sheet3!R13/Sheet3!$F$1","v":0},{"$f":"+Sheet3!S13/Sheet3!$F$1","v":0},{"$f":"+Sheet3!T13/Sheet3!$F$1","v":0},{"$f":"+Sheet3!U13/Sheet3!$F$1","v":0},{"$f":"+Sheet3!V13/Sheet3!$F$1","v":0},{"$f":"+Sheet3!W13/Sheet3!$F$1","v":0},{"$f":"+Sheet3!X13/Sheet3!$F$1","v":0},{"$f":"+Sheet3!Y13/Sheet3!$F$1","v":0},{"$f":"+Sheet3!Z13/Sheet3!$F$1","v":0},{"$f":"+Sheet3!AA13/Sheet3!$F$1","v":0},{"$f":"+Sheet3!AB13/Sheet3!$F$1","v":0},{"$f":"+Sheet3!AC13/Sheet3!$F$1","v":376},{"$f":"+Sheet3!AD13/Sheet3!$F$1","v":6},{"$f":"+Sheet3!AE13/Sheet3!$F$1","v":0},{"$f":"+Sheet3!AF13/Sheet3!$F$1","v":0},{"$f":"+Sheet3!AG13/Sheet3!$F$1","v":0},{"$f":"+Sheet3!AH13/Sheet3!$F$1","v":558},{"$f":"+Sheet3!AI13/Sheet3!$F$1","v":223},{"$f":"+Sheet3!AJ13/Sheet3!$F$1","v":25},{"$f":"+Sheet3!AK13/Sheet3!$F$1","v":0},{"$f":"+Sheet3!AL13/Sheet3!$F$1","v":0},{"$f":"+Sheet3!AM13/Sheet3!$F$1","v":476},{"$f":"+Sheet3!AN13/Sheet3!$F$1","v":144},{"$f":"+Sheet3!AO13/Sheet3!$F$1","v":0},{"$f":"+Sheet3!AP13/Sheet3!$F$1","v":0},{"$f":"+Sheet3!AQ13/Sheet3!$F$1","v":0},{"$f":"+Sheet3!AR13/Sheet3!$F$1","v":5},{"$f":"+Sheet3!AS13/Sheet3!$F$1","v":0},{"$f":"+Sheet3!AT13/Sheet3!$F$1","v":0},{"$f":"+Sheet3!AU13/Sheet3!$F$1","v":0},{"$f":"+Sheet3!AV13/Sheet3!$F$1","v":0},{"$f":"+Sheet3!AW13/Sheet3!$F$1","v":2737},{"$f":"+Sheet3!AX13/Sheet3!$F$1","v":167},{"$f":"+Sheet3!AY13/Sheet3!$F$1","v":3},{"$f":"+Sheet3!AZ13/Sheet3!$F$1","v":0},{"$f":"+Sheet3!BA13/Sheet3!$F$1","v":0},{"$f":"+Sheet3!BB13/Sheet3!$F$1","v":6},{"$f":"+Sheet3!BC13/Sheet3!$F$1","v":20},{"$f":"+Sheet3!BD13/Sheet3!$F$1","v":3},{"$f":"+Sheet3!BE13/Sheet3!$F$1","v":0},{"$f":"+Sheet3!BF13/Sheet3!$F$1","v":0},{"$f":"+Sheet3!BG13/Sheet3!$F$1","v":326},{"$f":"+Sheet3!BH13/Sheet3!$F$1","v":74},{"$f":"+Sheet3!BI13/Sheet3!$F$1","v":3},{"$f":"+Sheet3!BJ13/Sheet3!$F$1","v":0},{"$f":"+Sheet3!BK13/Sheet3!$F$1","v":0},{"$f":"+Sheet3!BL13/Sheet3!$F$1","v":53},{"$f":"+Sheet3!BM13/Sheet3!$F$1","v":42},{"$f":"+Sheet3!BN13/Sheet3!$F$1","v":6},{"$f":"+Sheet3!BO13/Sheet3!$F$1","v":0},{"$f":"+Sheet3!BP13/Sheet3!$F$1","v":0},{"$f":"+Sheet3!BQ13/Sheet3!$F$1","v":244},{"$f":"+Sheet3!BR13/Sheet3!$F$1","v":77},{"$f":"+Sheet3!BS13/Sheet3!$F$1","v":17},{"$f":"+Sheet3!BT13/Sheet3!$F$1","v":0},{"$f":"+Sheet3!BU13/Sheet3!$F$1","v":0},{"$f":"+Sheet3!BV13/Sheet3!$F$1","v":692},{"$f":"+Sheet3!BW13/Sheet3!$F$1","v":67},{"$f":"+Sheet3!BX13/Sheet3!$F$1","v":4},{"$f":"+Sheet3!BY13/Sheet3!$F$1","v":0},{"$f":"+Sheet3!BZ13/Sheet3!$F$1","v":0},{"$f":"+Sheet3!CA13/Sheet3!$F$1","v":268},{"$f":"+Sheet3!CB13/Sheet3!$F$1","v":31},{"$f":"+Sheet3!CC13/Sheet3!$F$1","v":0},{"$f":"+Sheet3!CD13/Sheet3!$F$1","v":0},{"$f":"+Sheet3!CE13/Sheet3!$F$1","v":0},{"$f":"+Sheet3!CF13/Sheet3!$F$1","v":0},{"$f":"+Sheet3!CG13/Sheet3!$F$1","v":0},{"$f":"+Sheet3!CH13/Sheet3!$F$1","v":0},{"$f":"+Sheet3!CI13/Sheet3!$F$1","v":0},{"$f":"+Sheet3!CJ13/Sheet3!$F$1","v":0},{"$f":"+Sheet3!CK13/Sheet3!$F$1","v":0},{"$f":"+Sheet3!CL13/Sheet3!$F$1","v":0},{"$f":"+Sheet3!CM13/Sheet3!$F$1","v":0},{"$f":"+Sheet3!CN13/Sheet3!$F$1","v":0},{"$f":"+Sheet3!CO13/Sheet3!$F$1","v":0},{"$f":"+Sheet3!CP13/Sheet3!$F$1","v":6},{"$f":"+Sheet3!CQ13/Sheet3!$F$1","v":553},{"$f":"+Sheet3!CR13/Sheet3!$F$1","v":53},{"$f":"+Sheet3!CS13/Sheet3!$F$1","v":0},{"$f":"+Sheet3!CT13/Sheet3!$F$1","v":0},{"$f":"+Sheet3!CU13/Sheet3!$F$1","v":385},{"$f":"+Sheet3!CV13/Sheet3!$F$1","v":808},{"$f":"+Sheet3!CW13/Sheet3!$F$1","v":622},{"$f":"+Sheet3!CX13/Sheet3!$F$1","v":8},{"$f":"+Sheet3!CY13/Sheet3!$F$1","v":2909},{"$f":"+Sheet3!CZ13/Sheet3!$F$1","v":30},{"$f":"+Sheet3!DA13/Sheet3!$F$1","v":408},{"$f":"+Sheet3!DB13/Sheet3!$F$1","v":101},{"$f":"+Sheet3!DC13/Sheet3!$F$1","v":339},{"$f":"+Sheet3!DD13/Sheet3!$F$1","v":766},{"$f":"+Sheet3!DE13/Sheet3!$F$1","v":303},{"$f":"+Sheet3!DF13/Sheet3!$F$1","v":0},{"$f":"+Sheet3!DG13/Sheet3!$F$1","v":3},{"$f":"+Sheet3!DH13/Sheet3!$F$1","v":6342},{"$f":"+Sheet3!DI13/Sheet3!$F$1","v":886},{"$f":"+Sheet3!DJ13/Sheet3!$F$1","v":66},{"$f":"+Sheet3!DK13/Sheet3!$F$1","v":0},{"$f":"+Sheet3!DL13/Sheet3!$F$1","v":0},7294]
[null,"11D","Douro",{"$f":"+Sheet3!D14/Sheet3!$F$1","v":22},{"$f":"+Sheet3!E14/Sheet3!$F$1","v":0},{"$f":"+Sheet3!F14/Sheet3!$F$1","v":0},{"$f":"+Sheet3!G14/Sheet3!$F$1","v":0},{"$f":"+Sheet3!H14/Sheet3!$F$1","v":0},{"$f":"+Sheet3!I14/Sheet3!$F$1","v":42},{"$f":"+Sheet3!J14/Sheet3!$F$1","v":0},{"$f":"+Sheet3!K14/Sheet3!$F$1","v":0},{"$f":"+Sheet3!L14/Sheet3!$F$1","v":0},{"$f":"+Sheet3!M14/Sheet3!$F$1","v":0},{"$f":"+Sheet3!N14/Sheet3!$F$1","v":130},{"$f":"+Sheet3!O14/Sheet3!$F$1","v":30},{"$f":"+Sheet3!P14/Sheet3!$F$1","v":0},{"$f":"+Sheet3!Q14/Sheet3!$F$1","v":0},{"$f":"+Sheet3!R14/Sheet3!$F$1","v":0},{"$f":"+Sheet3!S14/Sheet3!$F$1","v":0},{"$f":"+Sheet3!T14/Sheet3!$F$1","v":0},{"$f":"+Sheet3!U14/Sheet3!$F$1","v":0},{"$f":"+Sheet3!V14/Sheet3!$F$1","v":0},{"$f":"+Sheet3!W14/Sheet3!$F$1","v":0},{"$f":"+Sheet3!X14/Sheet3!$F$1","v":0},{"$f":"+Sheet3!Y14/Sheet3!$F$1","v":0},{"$f":"+Sheet3!Z14/Sheet3!$F$1","v":0},{"$f":"+Sheet3!AA14/Sheet3!$F$1","v":0},{"$f":"+Sheet3!AB14/Sheet3!$F$1","v":0},{"$f":"+Sheet3!AC14/Sheet3!$F$1","v":1508},{"$f":"+Sheet3!AD14/Sheet3!$F$1","v":95},{"$f":"+Sheet3!AE14/Sheet3!$F$1","v":0},{"$f":"+Sheet3!AF14/Sheet3!$F$1","v":0},{"$f":"+Sheet3!AG14/Sheet3!$F$1","v":0},{"$f":"+Sheet3!AH14/Sheet3!$F$1","v":3771},{"$f":"+Sheet3!AI14/Sheet3!$F$1","v":1685},{"$f":"+Sheet3!AJ14/Sheet3!$F$1","v":231},{"$f":"+Sheet3!AK14/Sheet3!$F$1","v":8},{"$f":"+Sheet3!AL14/Sheet3!$F$1","v":0},{"$f":"+Sheet3!AM14/Sheet3!$F$1","v":824},{"$f":"+Sheet3!AN14/Sheet3!$F$1","v":633},{"$f":"+Sheet3!AO14/Sheet3!$F$1","v":60},{"$f":"+Sheet3!AP14/Sheet3!$F$1","v":0},{"$f":"+Sheet3!AQ14/Sheet3!$F$1","v":0},{"$f":"+Sheet3!AR14/Sheet3!$F$1","v":526},{"$f":"+Sheet3!AS14/Sheet3!$F$1","v":52},{"$f":"+Sheet3!AT14/Sheet3!$F$1","v":7},{"$f":"+Sheet3!AU14/Sheet3!$F$1","v":0},{"$f":"+Sheet3!AV14/Sheet3!$F$1","v":0},{"$f":"+Sheet3!AW14/Sheet3!$F$1","v":6548},{"$f":"+Sheet3!AX14/Sheet3!$F$1","v":1717},{"$f":"+Sheet3!AY14/Sheet3!$F$1","v":129},{"$f":"+Sheet3!AZ14/Sheet3!$F$1","v":0},{"$f":"+Sheet3!BA14/Sheet3!$F$1","v":0},{"$f":"+Sheet3!BB14/Sheet3!$F$1","v":29},{"$f":"+Sheet3!BC14/Sheet3!$F$1","v":49},{"$f":"+Sheet3!BD14/Sheet3!$F$1","v":13},{"$f":"+Sheet3!BE14/Sheet3!$F$1","v":0},{"$f":"+Sheet3!BF14/Sheet3!$F$1","v":0},{"$f":"+Sheet3!BG14/Sheet3!$F$1","v":35},{"$f":"+Sheet3!BH14/Sheet3!$F$1","v":29},{"$f":"+Sheet3!BI14/Sheet3!$F$1","v":5},{"$f":"+Sheet3!BJ14/Sheet3!$F$1","v":0},{"$f":"+Sheet3!BK14/Sheet3!$F$1","v":0},{"$f":"+Sheet3!BL14/Sheet3!$F$1","v":117},{"$f":"+Sheet3!BM14/Sheet3!$F$1","v":180},{"$f":"+Sheet3!BN14/Sheet3!$F$1","v":34},{"$f":"+Sheet3!BO14/Sheet3!$F$1","v":0},{"$f":"+Sheet3!BP14/Sheet3!$F$1","v":0},{"$f":"+Sheet3!BQ14/Sheet3!$F$1","v":363},{"$f":"+Sheet3!BR14/Sheet3!$F$1","v":333},{"$f":"+Sheet3!BS14/Sheet3!$F$1","v":51},{"$f":"+Sheet3!BT14/Sheet3!$F$1","v":0},{"$f":"+Sheet3!BU14/Sheet3!$F$1","v":0},{"$f":"+Sheet3!BV14/Sheet3!$F$1","v":320},{"$f":"+Sheet3!BW14/Sheet3!$F$1","v":134},{"$f":"+Sheet3!BX14/Sheet3!$F$1","v":20},{"$f":"+Sheet3!BY14/Sheet3!$F$1","v":0},{"$f":"+Sheet3!BZ14/Sheet3!$F$1","v":0},{"$f":"+Sheet3!CA14/Sheet3!$F$1","v":72},{"$f":"+Sheet3!CB14/Sheet3!$F$1","v":17},{"$f":"+Sheet3!CC14/Sheet3!$F$1","v":5},{"$f":"+Sheet3!CD14/Sheet3!$F$1","v":0},{"$f":"+Sheet3!CE14/Sheet3!$F$1","v":0},{"$f":"+Sheet3!CF14/Sheet3!$F$1","v":0},{"$f":"+Sheet3!CG14/Sheet3!$F$1","v":0},{"$f":"+Sheet3!CH14/Sheet3!$F$1","v":0},{"$f":"+Sheet3!CI14/Sheet3!$F$1","v":0},{"$f":"+Sheet3!CJ14/Sheet3!$F$1","v":0},{"$f":"+Sheet3!CK14/Sheet3!$F$1","v":49},{"$f":"+Sheet3!CL14/Sheet3!$F$1","v":0},{"$f":"+Sheet3!CM14/Sheet3!$F$1","v":0},{"$f":"+Sheet3!CN14/Sheet3!$F$1","v":0},{"$f":"+Sheet3!CO14/Sheet3!$F$1","v":0},{"$f":"+Sheet3!CP14/Sheet3!$F$1","v":24},{"$f":"+Sheet3!CQ14/Sheet3!$F$1","v":44},{"$f":"+Sheet3!CR14/Sheet3!$F$1","v":163},{"$f":"+Sheet3!CS14/Sheet3!$F$1","v":0},{"$f":"+Sheet3!CT14/Sheet3!$F$1","v":0},{"$f":"+Sheet3!CU14/Sheet3!$F$1","v":1606},{"$f":"+Sheet3!CV14/Sheet3!$F$1","v":5696},{"$f":"+Sheet3!CW14/Sheet3!$F$1","v":1519},{"$f":"+Sheet3!CX14/Sheet3!$F$1","v":585},{"$f":"+Sheet3!CY14/Sheet3!$F$1","v":8396},{"$f":"+Sheet3!CZ14/Sheet3!$F$1","v":93},{"$f":"+Sheet3!DA14/Sheet3!$F$1","v":72},{"$f":"+Sheet3!DB14/Sheet3!$F$1","v":333},{"$f":"+Sheet3!DC14/Sheet3!$F$1","v":749},{"$f":"+Sheet3!DD14/Sheet3!$F$1","v":474},{"$f":"+Sheet3!DE14/Sheet3!$F$1","v":95},{"$f":"+Sheet3!DF14/Sheet3!$F$1","v":0},{"$f":"+Sheet3!DG14/Sheet3!$F$1","v":50},{"$f":"+Sheet3!DH14/Sheet3!$F$1","v":14359},{"$f":"+Sheet3!DI14/Sheet3!$F$1","v":4968},{"$f":"+Sheet3!DJ14/Sheet3!$F$1","v":564},{"$f":"+Sheet3!DK14/Sheet3!$F$1","v":9},{"$f":"+Sheet3!DL14/Sheet3!$F$1","v":0},19900]
[null,"11E","Terras de Trás-os-Montes",{"$f":"+Sheet3!D15/Sheet3!$F$1","v":27},{"$f":"+Sheet3!E15/Sheet3!$F$1","v":16},{"$f":"+Sheet3!F15/Sheet3!$F$1","v":5},{"$f":"+Sheet3!G15/Sheet3!$F$1","v":0},{"$f":"+Sheet3!H15/Sheet3!$F$1","v":0},{"$f":"+Sheet3!I15/Sheet3!$F$1","v":3},{"$f":"+Sheet3!J15/Sheet3!$F$1","v":0},{"$f":"+Sheet3!K15/Sheet3!$F$1","v":0},{"$f":"+Sheet3!L15/Sheet3!$F$1","v":0},{"$f":"+Sheet3!M15/Sheet3!$F$1","v":0},{"$f":"+Sheet3!N15/Sheet3!$F$1","v":260},{"$f":"+Sheet3!O15/Sheet3!$F$1","v":313},{"$f":"+Sheet3!P15/Sheet3!$F$1","v":38},{"$f":"+Sheet3!Q15/Sheet3!$F$1","v":0},{"$f":"+Sheet3!R15/Sheet3!$F$1","v":0},{"$f":"+Sheet3!S15/Sheet3!$F$1","v":0},{"$f":"+Sheet3!T15/Sheet3!$F$1","v":0},{"$f":"+Sheet3!U15/Sheet3!$F$1","v":0},{"$f":"+Sheet3!V15/Sheet3!$F$1","v":0},{"$f":"+Sheet3!W15/Sheet3!$F$1","v":0},{"$f":"+Sheet3!X15/Sheet3!$F$1","v":3},{"$f":"+Sheet3!Y15/Sheet3!$F$1","v":4},{"$f":"+Sheet3!Z15/Sheet3!$F$1","v":0},{"$f":"+Sheet3!AA15/Sheet3!$F$1","v":0},{"$f":"+Sheet3!AB15/Sheet3!$F$1","v":0},{"$f":"+Sheet3!AC15/Sheet3!$F$1","v":3167},{"$f":"+Sheet3!AD15/Sheet3!$F$1","v":1627},{"$f":"+Sheet3!AE15/Sheet3!$F$1","v":117},{"$f":"+Sheet3!AF15/Sheet3!$F$1","v":0},{"$f":"+Sheet3!AG15/Sheet3!$F$1","v":0},{"$f":"+Sheet3!AH15/Sheet3!$F$1","v":99},{"$f":"+Sheet3!AI15/Sheet3!$F$1","v":69},{"$f":"+Sheet3!AJ15/Sheet3!$F$1","v":7},{"$f":"+Sheet3!AK15/Sheet3!$F$1","v":0},{"$f":"+Sheet3!AL15/Sheet3!$F$1","v":0},{"$f":"+Sheet3!AM15/Sheet3!$F$1","v":1082},{"$f":"+Sheet3!AN15/Sheet3!$F$1","v":969},{"$f":"+Sheet3!AO15/Sheet3!$F$1","v":90},{"$f":"+Sheet3!AP15/Sheet3!$F$1","v":0},{"$f":"+Sheet3!AQ15/Sheet3!$F$1","v":0},{"$f":"+Sheet3!AR15/Sheet3!$F$1","v":1584},{"$f":"+Sheet3!AS15/Sheet3!$F$1","v":402},{"$f":"+Sheet3!AT15/Sheet3!$F$1","v":71},{"$f":"+Sheet3!AU15/Sheet3!$F$1","v":0},{"$f":"+Sheet3!AV15/Sheet3!$F$1","v":0},{"$f":"+Sheet3!AW15/Sheet3!$F$1","v":5364},{"$f":"+Sheet3!AX15/Sheet3!$F$1","v":4845},{"$f":"+Sheet3!AY15/Sheet3!$F$1","v":488},{"$f":"+Sheet3!AZ15/Sheet3!$F$1","v":0},{"$f":"+Sheet3!BA15/Sheet3!$F$1","v":0},{"$f":"+Sheet3!BB15/Sheet3!$F$1","v":0},{"$f":"+Sheet3!BC15/Sheet3!$F$1","v":0},{"$f":"+Sheet3!BD15/Sheet3!$F$1","v":22},{"$f":"+Sheet3!BE15/Sheet3!$F$1","v":0},{"$f":"+Sheet3!BF15/Sheet3!$F$1","v":0},{"$f":"+Sheet3!BG15/Sheet3!$F$1","v":32},{"$f":"+Sheet3!BH15/Sheet3!$F$1","v":66},{"$f":"+Sheet3!BI15/Sheet3!$F$1","v":65},{"$f":"+Sheet3!BJ15/Sheet3!$F$1","v":0},{"$f":"+Sheet3!BK15/Sheet3!$F$1","v":0},{"$f":"+Sheet3!BL15/Sheet3!$F$1","v":3},{"$f":"+Sheet3!BM15/Sheet3!$F$1","v":50},{"$f":"+Sheet3!BN15/Sheet3!$F$1","v":74},{"$f":"+Sheet3!BO15/Sheet3!$F$1","v":0},{"$f":"+Sheet3!BP15/Sheet3!$F$1","v":0},{"$f":"+Sheet3!BQ15/Sheet3!$F$1","v":222},{"$f":"+Sheet3!BR15/Sheet3!$F$1","v":358},{"$f":"+Sheet3!BS15/Sheet3!$F$1","v":151},{"$f":"+Sheet3!BT15/Sheet3!$F$1","v":0},{"$f":"+Sheet3!BU15/Sheet3!$F$1","v":0},{"$f":"+Sheet3!BV15/Sheet3!$F$1","v":134},{"$f":"+Sheet3!BW15/Sheet3!$F$1","v":569},{"$f":"+Sheet3!BX15/Sheet3!$F$1","v":367},{"$f":"+Sheet3!BY15/Sheet3!$F$1","v":0},{"$f":"+Sheet3!BZ15/Sheet3!$F$1","v":0},{"$f":"+Sheet3!CA15/Sheet3!$F$1","v":134},{"$f":"+Sheet3!CB15/Sheet3!$F$1","v":107},{"$f":"+Sheet3!CC15/Sheet3!$F$1","v":14},{"$f":"+Sheet3!CD15/Sheet3!$F$1","v":0},{"$f":"+Sheet3!CE15/Sheet3!$F$1","v":0},{"$f":"+Sheet3!CF15/Sheet3!$F$1","v":0},{"$f":"+Sheet3!CG15/Sheet3!$F$1","v":0},{"$f":"+Sheet3!CH15/Sheet3!$F$1","v":0},{"$f":"+Sheet3!CI15/Sheet3!$F$1","v":0},{"$f":"+Sheet3!CJ15/Sheet3!$F$1","v":0},{"$f":"+Sheet3!CK15/Sheet3!$F$1","v":0},{"$f":"+Sheet3!CL15/Sheet3!$F$1","v":0},{"$f":"+Sheet3!CM15/Sheet3!$F$1","v":0},{"$f":"+Sheet3!CN15/Sheet3!$F$1","v":0},{"$f":"+Sheet3!CO15/Sheet3!$F$1","v":0},{"$f":"+Sheet3!CP15/Sheet3!$F$1","v":51},{"$f":"+Sheet3!CQ15/Sheet3!$F$1","v":5},{"$f":"+Sheet3!CR15/Sheet3!$F$1","v":613},{"$f":"+Sheet3!CS15/Sheet3!$F$1","v":0},{"$f":"+Sheet3!CT15/Sheet3!$F$1","v":10},{"$f":"+Sheet3!CU15/Sheet3!$F$1","v":4914},{"$f":"+Sheet3!CV15/Sheet3!$F$1","v":177},{"$f":"+Sheet3!CW15/Sheet3!$F$1","v":2144},{"$f":"+Sheet3!CX15/Sheet3!$F$1","v":2061},{"$f":"+Sheet3!CY15/Sheet3!$F$1","v":10701},{"$f":"+Sheet3!CZ15/Sheet3!$F$1","v":27},{"$f":"+Sheet3!DA15/Sheet3!$F$1","v":167},{"$f":"+Sheet3!DB15/Sheet3!$F$1","v":138},{"$f":"+Sheet3!DC15/Sheet3!$F$1","v":732},{"$f":"+Sheet3!DD15/Sheet3!$F$1","v":1072},{"$f":"+Sheet3!DE15/Sheet3!$F$1","v":258},{"$f":"+Sheet3!DF15/Sheet3!$F$1","v":0},{"$f":"+Sheet3!DG15/Sheet3!$F$1","v":6},{"$f":"+Sheet3!DH15/Sheet3!$F$1","v":12133},{"$f":"+Sheet3!DI15/Sheet3!$F$1","v":9408},{"$f":"+Sheet3!DJ15/Sheet3!$F$1","v":1523},{"$f":"+Sheet3!DK15/Sheet3!$F$1","v":11},{"$f":"+Sheet3!DL15/Sheet3!$F$1","v":0},23075]
["Centro","16B","Oeste",{"$f":"+Sheet3!D16/Sheet3!$F$1","v":18},{"$f":"+Sheet3!E16/Sheet3!$F$1","v":6},{"$f":"+Sheet3!F16/Sheet3!$F$1","v":5},{"$f":"+Sheet3!G16/Sheet3!$F$1","v":0},{"$f":"+Sheet3!H16/Sheet3!$F$1","v":0},{"$f":"+Sheet3!I16/Sheet3!$F$1","v":0},{"$f":"+Sheet3!J16/Sheet3!$F$1","v":0},{"$f":"+Sheet3!K16/Sheet3!$F$1","v":0},{"$f":"+Sheet3!L16/Sheet3!$F$1","v":0},{"$f":"+Sheet3!M16/Sheet3!$F$1","v":0},{"$f":"+Sheet3!N16/Sheet3!$F$1","v":42},{"$f":"+Sheet3!O16/Sheet3!$F$1","v":27},{"$f":"+Sheet3!P16/Sheet3!$F$1","v":6},{"$f":"+Sheet3!Q16/Sheet3!$F$1","v":0},{"$f":"+Sheet3!R16/Sheet3!$F$1","v":0},{"$f":"+Sheet3!S16/Sheet3!$F$1","v":0},{"$f":"+Sheet3!T16/Sheet3!$F$1","v":0},{"$f":"+Sheet3!U16/Sheet3!$F$1","v":0},{"$f":"+Sheet3!V16/Sheet3!$F$1","v":0},{"$f":"+Sheet3!W16/Sheet3!$F$1","v":0},{"$f":"+Sheet3!X16/Sheet3!$F$1","v":0},{"$f":"+Sheet3!Y16/Sheet3!$F$1","v":0},{"$f":"+Sheet3!Z16/Sheet3!$F$1","v":0},{"$f":"+Sheet3!AA16/Sheet3!$F$1","v":0},{"$f":"+Sheet3!AB16/Sheet3!$F$1","v":0},{"$f":"+Sheet3!AC16/Sheet3!$F$1","v":89},{"$f":"+Sheet3!AD16/Sheet3!$F$1","v":87},{"$f":"+Sheet3!AE16/Sheet3!$F$1","v":7},{"$f":"+Sheet3!AF16/Sheet3!$F$1","v":0},{"$f":"+Sheet3!AG16/Sheet3!$F$1","v":0},{"$f":"+Sheet3!AH16/Sheet3!$F$1","v":43},{"$f":"+Sheet3!AI16/Sheet3!$F$1","v":120},{"$f":"+Sheet3!AJ16/Sheet3!$F$1","v":60},{"$f":"+Sheet3!AK16/Sheet3!$F$1","v":0},{"$f":"+Sheet3!AL16/Sheet3!$F$1","v":0},{"$f":"+Sheet3!AM16/Sheet3!$F$1","v":174},{"$f":"+Sheet3!AN16/Sheet3!$F$1","v":388},{"$f":"+Sheet3!AO16/Sheet3!$F$1","v":90},{"$f":"+Sheet3!AP16/Sheet3!$F$1","v":0},{"$f":"+Sheet3!AQ16/Sheet3!$F$1","v":0},{"$f":"+Sheet3!AR16/Sheet3!$F$1","v":0},{"$f":"+Sheet3!AS16/Sheet3!$F$1","v":0},{"$f":"+Sheet3!AT16/Sheet3!$F$1","v":0},{"$f":"+Sheet3!AU16/Sheet3!$F$1","v":0},{"$f":"+Sheet3!AV16/Sheet3!$F$1","v":0},{"$f":"+Sheet3!AW16/Sheet3!$F$1","v":125},{"$f":"+Sheet3!AX16/Sheet3!$F$1","v":98},{"$f":"+Sheet3!AY16/Sheet3!$F$1","v":27},{"$f":"+Sheet3!AZ16/Sheet3!$F$1","v":0},{"$f":"+Sheet3!BA16/Sheet3!$F$1","v":0},{"$f":"+Sheet3!BB16/Sheet3!$F$1","v":0},{"$f":"+Sheet3!BC16/Sheet3!$F$1","v":7},{"$f":"+Sheet3!BD16/Sheet3!$F$1","v":0},{"$f":"+Sheet3!BE16/Sheet3!$F$1","v":0},{"$f":"+Sheet3!BF16/Sheet3!$F$1","v":0},{"$f":"+Sheet3!BG16/Sheet3!$F$1","v":86},{"$f":"+Sheet3!BH16/Sheet3!$F$1","v":38},{"$f":"+Sheet3!BI16/Sheet3!$F$1","v":9},{"$f":"+Sheet3!BJ16/Sheet3!$F$1","v":0},{"$f":"+Sheet3!BK16/Sheet3!$F$1","v":0},{"$f":"+Sheet3!BL16/Sheet3!$F$1","v":6},{"$f":"+Sheet3!BM16/Sheet3!$F$1","v":5},{"$f":"+Sheet3!BN16/Sheet3!$F$1","v":5},{"$f":"+Sheet3!BO16/Sheet3!$F$1","v":0},{"$f":"+Sheet3!BP16/Sheet3!$F$1","v":0},{"$f":"+Sheet3!BQ16/Sheet3!$F$1","v":368},{"$f":"+Sheet3!BR16/Sheet3!$F$1","v":38},{"$f":"+Sheet3!BS16/Sheet3!$F$1","v":0},{"$f":"+Sheet3!BT16/Sheet3!$F$1","v":0},{"$f":"+Sheet3!BU16/Sheet3!$F$1","v":0},{"$f":"+Sheet3!BV16/Sheet3!$F$1","v":63},{"$f":"+Sheet3!BW16/Sheet3!$F$1","v":34},{"$f":"+Sheet3!BX16/Sheet3!$F$1","v":3},{"$f":"+Sheet3!BY16/Sheet3!$F$1","v":0},{"$f":"+Sheet3!BZ16/Sheet3!$F$1","v":0},{"$f":"+Sheet3!CA16/Sheet3!$F$1","v":141},{"$f":"+Sheet3!CB16/Sheet3!$F$1","v":47},{"$f":"+Sheet3!CC16/Sheet3!$F$1","v":11},{"$f":"+Sheet3!CD16/Sheet3!$F$1","v":0},{"$f":"+Sheet3!CE16/Sheet3!$F$1","v":0},{"$f":"+Sheet3!CF16/Sheet3!$F$1","v":0},{"$f":"+Sheet3!CG16/Sheet3!$F$1","v":0},{"$f":"+Sheet3!CH16/Sheet3!$F$1","v":0},{"$f":"+Sheet3!CI16/Sheet3!$F$1","v":0},{"$f":"+Sheet3!CJ16/Sheet3!$F$1","v":0},{"$f":"+Sheet3!CK16/Sheet3!$F$1","v":17},{"$f":"+Sheet3!CL16/Sheet3!$F$1","v":7},{"$f":"+Sheet3!CM16/Sheet3!$F$1","v":0},{"$f":"+Sheet3!CN16/Sheet3!$F$1","v":0},{"$f":"+Sheet3!CO16/Sheet3!$F$1","v":0},{"$f":"+Sheet3!CP16/Sheet3!$F$1","v":32},{"$f":"+Sheet3!CQ16/Sheet3!$F$1","v":4},{"$f":"+Sheet3!CR16/Sheet3!$F$1","v":80},{"$f":"+Sheet3!CS16/Sheet3!$F$1","v":0},{"$f":"+Sheet3!CT16/Sheet3!$F$1","v":4},{"$f":"+Sheet3!CU16/Sheet3!$F$1","v":184},{"$f":"+Sheet3!CV16/Sheet3!$F$1","v":225},{"$f":"+Sheet3!CW16/Sheet3!$F$1","v":655},{"$f":"+Sheet3!CX16/Sheet3!$F$1","v":0},{"$f":"+Sheet3!CY16/Sheet3!$F$1","v":253},{"$f":"+Sheet3!CZ16/Sheet3!$F$1","v":11},{"$f":"+Sheet3!DA16/Sheet3!$F$1","v":134},{"$f":"+Sheet3!DB16/Sheet3!$F$1","v":18},{"$f":"+Sheet3!DC16/Sheet3!$F$1","v":410},{"$f":"+Sheet3!DD16/Sheet3!$F$1","v":106},{"$f":"+Sheet3!DE16/Sheet3!$F$1","v":199},{"$f":"+Sheet3!DF16/Sheet3!$F$1","v":0},{"$f":"+Sheet3!DG16/Sheet3!$F$1","v":26},{"$f":"+Sheet3!DH16/Sheet3!$F$1","v":1187},{"$f":"+Sheet3!DI16/Sheet3!$F$1","v":918},{"$f":"+Sheet3!DJ16/Sheet3!$F$1","v":234},{"$f":"+Sheet3!DK16/Sheet3!$F$1","v":7},{"$f":"+Sheet3!DL16/Sheet3!$F$1","v":0},2346]
[null,"16D","Região de Aveiro",{"$f":"+Sheet3!D17/Sheet3!$F$1","v":10},{"$f":"+Sheet3!E17/Sheet3!$F$1","v":0},{"$f":"+Sheet3!F17/Sheet3!$F$1","v":0},{"$f":"+Sheet3!G17/Sheet3!$F$1","v":0},{"$f":"+Sheet3!H17/Sheet3!$F$1","v":0},{"$f":"+Sheet3!I17/Sheet3!$F$1","v":904},{"$f":"+Sheet3!J17/Sheet3!$F$1","v":51},{"$f":"+Sheet3!K17/Sheet3!$F$1","v":9},{"$f":"+Sheet3!L17/Sheet3!$F$1","v":0},{"$f":"+Sheet3!M17/Sheet3!$F$1","v":0},{"$f":"+Sheet3!N17/Sheet3!$F$1","v":567},{"$f":"+Sheet3!O17/Sheet3!$F$1","v":44},{"$f":"+Sheet3!P17/Sheet3!$F$1","v":0},{"$f":"+Sheet3!Q17/Sheet3!$F$1","v":0},{"$f":"+Sheet3!R17/Sheet3!$F$1","v":0},{"$f":"+Sheet3!S17/Sheet3!$F$1","v":0},{"$f":"+Sheet3!T17/Sheet3!$F$1","v":0},{"$f":"+Sheet3!U17/Sheet3!$F$1","v":4},{"$f":"+Sheet3!V17/Sheet3!$F$1","v":0},{"$f":"+Sheet3!W17/Sheet3!$F$1","v":0},{"$f":"+Sheet3!X17/Sheet3!$F$1","v":0},{"$f":"+Sheet3!Y17/Sheet3!$F$1","v":0},{"$f":"+Sheet3!Z17/Sheet3!$F$1","v":0},{"$f":"+Sheet3!AA17/Sheet3!$F$1","v":0},{"$f":"+Sheet3!AB17/Sheet3!$F$1","v":0},{"$f":"+Sheet3!AC17/Sheet3!$F$1","v":217},{"$f":"+Sheet3!AD17/Sheet3!$F$1","v":13},{"$f":"+Sheet3!AE17/Sheet3!$F$1","v":0},{"$f":"+Sheet3!AF17/Sheet3!$F$1","v":0},{"$f":"+Sheet3!AG17/Sheet3!$F$1","v":0},{"$f":"+Sheet3!AH17/Sheet3!$F$1","v":35},{"$f":"+Sheet3!AI17/Sheet3!$F$1","v":20},{"$f":"+Sheet3!AJ17/Sheet3!$F$1","v":5},{"$f":"+Sheet3!AK17/Sheet3!$F$1","v":0},{"$f":"+Sheet3!AL17/Sheet3!$F$1","v":0},{"$f":"+Sheet3!AM17/Sheet3!$F$1","v":189},{"$f":"+Sheet3!AN17/Sheet3!$F$1","v":15},{"$f":"+Sheet3!AO17/Sheet3!$F$1","v":0},{"$f":"+Sheet3!AP17/Sheet3!$F$1","v":0},{"$f":"+Sheet3!AQ17/Sheet3!$F$1","v":0},{"$f":"+Sheet3!AR17/Sheet3!$F$1","v":0},{"$f":"+Sheet3!AS17/Sheet3!$F$1","v":0},{"$f":"+Sheet3!AT17/Sheet3!$F$1","v":0},{"$f":"+Sheet3!AU17/Sheet3!$F$1","v":0},{"$f":"+Sheet3!AV17/Sheet3!$F$1","v":0},{"$f":"+Sheet3!AW17/Sheet3!$F$1","v":800},{"$f":"+Sheet3!AX17/Sheet3!$F$1","v":50},{"$f":"+Sheet3!AY17/Sheet3!$F$1","v":4},{"$f":"+Sheet3!AZ17/Sheet3!$F$1","v":0},{"$f":"+Sheet3!BA17/Sheet3!$F$1","v":0},{"$f":"+Sheet3!BB17/Sheet3!$F$1","v":63},{"$f":"+Sheet3!BC17/Sheet3!$F$1","v":142},{"$f":"+Sheet3!BD17/Sheet3!$F$1","v":18},{"$f":"+Sheet3!BE17/Sheet3!$F$1","v":0},{"$f":"+Sheet3!BF17/Sheet3!$F$1","v":0},{"$f":"+Sheet3!BG17/Sheet3!$F$1","v":193},{"$f":"+Sheet3!BH17/Sheet3!$F$1","v":61},{"$f":"+Sheet3!BI17/Sheet3!$F$1","v":7},{"$f":"+Sheet3!BJ17/Sheet3!$F$1","v":0},{"$f":"+Sheet3!BK17/Sheet3!$F$1","v":0},{"$f":"+Sheet3!BL17/Sheet3!$F$1","v":36},{"$f":"+Sheet3!BM17/Sheet3!$F$1","v":21},{"$f":"+Sheet3!BN17/Sheet3!$F$1","v":0},{"$f":"+Sheet3!BO17/Sheet3!$F$1","v":0},{"$f":"+Sheet3!BP17/Sheet3!$F$1","v":0},{"$f":"+Sheet3!BQ17/Sheet3!$F$1","v":58},{"$f":"+Sheet3!BR17/Sheet3!$F$1","v":9},{"$f":"+Sheet3!BS17/Sheet3!$F$1","v":0},{"$f":"+Sheet3!BT17/Sheet3!$F$1","v":0},{"$f":"+Sheet3!BU17/Sheet3!$F$1","v":0},{"$f":"+Sheet3!BV17/Sheet3!$F$1","v":329},{"$f":"+Sheet3!BW17/Sheet3!$F$1","v":36},{"$f":"+Sheet3!BX17/Sheet3!$F$1","v":0},{"$f":"+Sheet3!BY17/Sheet3!$F$1","v":0},{"$f":"+Sheet3!BZ17/Sheet3!$F$1","v":0},{"$f":"+Sheet3!CA17/Sheet3!$F$1","v":387},{"$f":"+Sheet3!CB17/Sheet3!$F$1","v":73},{"$f":"+Sheet3!CC17/Sheet3!$F$1","v":3},{"$f":"+Sheet3!CD17/Sheet3!$F$1","v":0},{"$f":"+Sheet3!CE17/Sheet3!$F$1","v":0},{"$f":"+Sheet3!CF17/Sheet3!$F$1","v":0},{"$f":"+Sheet3!CG17/Sheet3!$F$1","v":0},{"$f":"+Sheet3!CH17/Sheet3!$F$1","v":0},{"$f":"+Sheet3!CI17/Sheet3!$F$1","v":0},{"$f":"+Sheet3!CJ17/Sheet3!$F$1","v":0},{"$f":"+Sheet3!CK17/Sheet3!$F$1","v":33},{"$f":"+Sheet3!CL17/Sheet3!$F$1","v":4},{"$f":"+Sheet3!CM17/Sheet3!$F$1","v":0},{"$f":"+Sheet3!CN17/Sheet3!$F$1","v":0},{"$f":"+Sheet3!CO17/Sheet3!$F$1","v":0},{"$f":"+Sheet3!CP17/Sheet3!$F$1","v":11},{"$f":"+Sheet3!CQ17/Sheet3!$F$1","v":965},{"$f":"+Sheet3!CR17/Sheet3!$F$1","v":612},{"$f":"+Sheet3!CS17/Sheet3!$F$1","v":7},{"$f":"+Sheet3!CT17/Sheet3!$F$1","v":0},{"$f":"+Sheet3!CU17/Sheet3!$F$1","v":238},{"$f":"+Sheet3!CV17/Sheet3!$F$1","v":62},{"$f":"+Sheet3!CW17/Sheet3!$F$1","v":206},{"$f":"+Sheet3!CX17/Sheet3!$F$1","v":0},{"$f":"+Sheet3!CY17/Sheet3!$F$1","v":855},{"$f":"+Sheet3!CZ17/Sheet3!$F$1","v":224},{"$f":"+Sheet3!DA17/Sheet3!$F$1","v":263},{"$f":"+Sheet3!DB17/Sheet3!$F$1","v":57},{"$f":"+Sheet3!DC17/Sheet3!$F$1","v":69},{"$f":"+Sheet3!DD17/Sheet3!$F$1","v":365},{"$f":"+Sheet3!DE17/Sheet3!$F$1","v":464},{"$f":"+Sheet3!DF17/Sheet3!$F$1","v":0},{"$f":"+Sheet3!DG17/Sheet3!$F$1","v":38},{"$f":"+Sheet3!DH17/Sheet3!$F$1","v":3828},{"$f":"+Sheet3!DI17/Sheet3!$F$1","v":552},{"$f":"+Sheet3!DJ17/Sheet3!$F$1","v":57},{"$f":"+Sheet3!DK17/Sheet3!$F$1","v":0},{"$f":"+Sheet3!DL17/Sheet3!$F$1","v":0},4437]
[null,"16E","Região de Coimbra",{"$f":"+Sheet3!D18/Sheet3!$F$1","v":35},{"$f":"+Sheet3!E18/Sheet3!$F$1","v":0},{"$f":"+Sheet3!F18/Sheet3!$F$1","v":0},{"$f":"+Sheet3!G18/Sheet3!$F$1","v":0},{"$f":"+Sheet3!H18/Sheet3!$F$1","v":0},{"$f":"+Sheet3!I18/Sheet3!$F$1","v":788},{"$f":"+Sheet3!J18/Sheet3!$F$1","v":209},{"$f":"+Sheet3!K18/Sheet3!$F$1","v":53},{"$f":"+Sheet3!L18/Sheet3!$F$1","v":0},{"$f":"+Sheet3!M18/Sheet3!$F$1","v":0},{"$f":"+Sheet3!N18/Sheet3!$F$1","v":341},{"$f":"+Sheet3!O18/Sheet3!$F$1","v":13},{"$f":"+Sheet3!P18/Sheet3!$F$1","v":4},{"$f":"+Sheet3!Q18/Sheet3!$F$1","v":0},{"$f":"+Sheet3!R18/Sheet3!$F$1","v":0},{"$f":"+Sheet3!S18/Sheet3!$F$1","v":126},{"$f":"+Sheet3!T18/Sheet3!$F$1","v":119},{"$f":"+Sheet3!U18/Sheet3!$F$1","v":48},{"$f":"+Sheet3!V18/Sheet3!$F$1","v":0},{"$f":"+Sheet3!W18/Sheet3!$F$1","v":0},{"$f":"+Sheet3!X18/Sheet3!$F$1","v":3},{"$f":"+Sheet3!Y18/Sheet3!$F$1","v":0},{"$f":"+Sheet3!Z18/Sheet3!$F$1","v":0},{"$f":"+Sheet3!AA18/Sheet3!$F$1","v":0},{"$f":"+Sheet3!AB18/Sheet3!$F$1","v":0},{"$f":"+Sheet3!AC18/Sheet3!$F$1","v":624},{"$f":"+Sheet3!AD18/Sheet3!$F$1","v":37},{"$f":"+Sheet3!AE18/Sheet3!$F$1","v":7},{"$f":"+Sheet3!AF18/Sheet3!$F$1","v":0},{"$f":"+Sheet3!AG18/Sheet3!$F$1","v":0},{"$f":"+Sheet3!AH18/Sheet3!$F$1","v":77},{"$f":"+Sheet3!AI18/Sheet3!$F$1","v":34},{"$f":"+Sheet3!AJ18/Sheet3!$F$1","v":0},{"$f":"+Sheet3!AK18/Sheet3!$F$1","v":0},{"$f":"+Sheet3!AL18/Sheet3!$F$1","v":0},{"$f":"+Sheet3!AM18/Sheet3!$F$1","v":197},{"$f":"+Sheet3!AN18/Sheet3!$F$1","v":57},{"$f":"+Sheet3!AO18/Sheet3!$F$1","v":3},{"$f":"+Sheet3!AP18/Sheet3!$F$1","v":0},{"$f":"+Sheet3!AQ18/Sheet3!$F$1","v":0},{"$f":"+Sheet3!AR18/Sheet3!$F$1","v":122},{"$f":"+Sheet3!AS18/Sheet3!$F$1","v":0},{"$f":"+Sheet3!AT18/Sheet3!$F$1","v":0},{"$f":"+Sheet3!AU18/Sheet3!$F$1","v":0},{"$f":"+Sheet3!AV18/Sheet3!$F$1","v":0},{"$f":"+Sheet3!AW18/Sheet3!$F$1","v":1839},{"$f":"+Sheet3!AX18/Sheet3!$F$1","v":147},{"$f":"+Sheet3!AY18/Sheet3!$F$1","v":16},{"$f":"+Sheet3!AZ18/Sheet3!$F$1","v":0},{"$f":"+Sheet3!BA18/Sheet3!$F$1","v":0},{"$f":"+Sheet3!BB18/Sheet3!$F$1","v":71},{"$f":"+Sheet3!BC18/Sheet3!$F$1","v":61},{"$f":"+Sheet3!BD18/Sheet3!$F$1","v":4},{"$f":"+Sheet3!BE18/Sheet3!$F$1","v":0},{"$f":"+Sheet3!BF18/Sheet3!$F$1","v":0},{"$f":"+Sheet3!BG18/Sheet3!$F$1","v":136},{"$f":"+Sheet3!BH18/Sheet3!$F$1","v":32},{"$f":"+Sheet3!BI18/Sheet3!$F$1","v":6},{"$f":"+Sheet3!BJ18/Sheet3!$F$1","v":0},{"$f":"+Sheet3!BK18/Sheet3!$F$1","v":0},{"$f":"+Sheet3!BL18/Sheet3!$F$1","v":20},{"$f":"+Sheet3!BM18/Sheet3!$F$1","v":8},{"$f":"+Sheet3!BN18/Sheet3!$F$1","v":0},{"$f":"+Sheet3!BO18/Sheet3!$F$1","v":0},{"$f":"+Sheet3!BP18/Sheet3!$F$1","v":0},{"$f":"+Sheet3!BQ18/Sheet3!$F$1","v":399},{"$f":"+Sheet3!BR18/Sheet3!$F$1","v":87},{"$f":"+Sheet3!BS18/Sheet3!$F$1","v":9},{"$f":"+Sheet3!BT18/Sheet3!$F$1","v":0},{"$f":"+Sheet3!BU18/Sheet3!$F$1","v":0},{"$f":"+Sheet3!BV18/Sheet3!$F$1","v":464},{"$f":"+Sheet3!BW18/Sheet3!$F$1","v":60},{"$f":"+Sheet3!BX18/Sheet3!$F$1","v":3},{"$f":"+Sheet3!BY18/Sheet3!$F$1","v":0},{"$f":"+Sheet3!BZ18/Sheet3!$F$1","v":0},{"$f":"+Sheet3!CA18/Sheet3!$F$1","v":425},{"$f":"+Sheet3!CB18/Sheet3!$F$1","v":41},{"$f":"+Sheet3!CC18/Sheet3!$F$1","v":4},{"$f":"+Sheet3!CD18/Sheet3!$F$1","v":0},{"$f":"+Sheet3!CE18/Sheet3!$F$1","v":0},{"$f":"+Sheet3!CF18/Sheet3!$F$1","v":0},{"$f":"+Sheet3!CG18/Sheet3!$F$1","v":0},{"$f":"+Sheet3!CH18/Sheet3!$F$1","v":0},{"$f":"+Sheet3!CI18/Sheet3!$F$1","v":0},{"$f":"+Sheet3!CJ18/Sheet3!$F$1","v":0},{"$f":"+Sheet3!CK18/Sheet3!$F$1","v":32},{"$f":"+Sheet3!CL18/Sheet3!$F$1","v":0},{"$f":"+Sheet3!CM18/Sheet3!$F$1","v":0},{"$f":"+Sheet3!CN18/Sheet3!$F$1","v":0},{"$f":"+Sheet3!CO18/Sheet3!$F$1","v":0},{"$f":"+Sheet3!CP18/Sheet3!$F$1","v":37},{"$f":"+Sheet3!CQ18/Sheet3!$F$1","v":1057},{"$f":"+Sheet3!CR18/Sheet3!$F$1","v":361},{"$f":"+Sheet3!CS18/Sheet3!$F$1","v":296},{"$f":"+Sheet3!CT18/Sheet3!$F$1","v":5},{"$f":"+Sheet3!CU18/Sheet3!$F$1","v":669},{"$f":"+Sheet3!CV18/Sheet3!$F$1","v":112},{"$f":"+Sheet3!CW18/Sheet3!$F$1","v":257},{"$f":"+Sheet3!CX18/Sheet3!$F$1","v":124},{"$f":"+Sheet3!CY18/Sheet3!$F$1","v":2003},{"$f":"+Sheet3!CZ18/Sheet3!$F$1","v":136},{"$f":"+Sheet3!DA18/Sheet3!$F$1","v":175},{"$f":"+Sheet3!DB18/Sheet3!$F$1","v":34},{"$f":"+Sheet3!DC18/Sheet3!$F$1","v":499},{"$f":"+Sheet3!DD18/Sheet3!$F$1","v":530},{"$f":"+Sheet3!DE18/Sheet3!$F$1","v":474},{"$f":"+Sheet3!DF18/Sheet3!$F$1","v":0},{"$f":"+Sheet3!DG18/Sheet3!$F$1","v":33},{"$f":"+Sheet3!DH18/Sheet3!$F$1","v":5708},{"$f":"+Sheet3!DI18/Sheet3!$F$1","v":928},{"$f":"+Sheet3!DJ18/Sheet3!$F$1","v":164},{"$f":"+Sheet3!DK18/Sheet3!$F$1","v":0},{"$f":"+Sheet3!DL18/Sheet3!$F$1","v":0},6800]
[null,"16F","Região de Leiria",{"$f":"+Sheet3!D19/Sheet3!$F$1","v":20},{"$f":"+Sheet3!E19/Sheet3!$F$1","v":0},{"$f":"+Sheet3!F19/Sheet3!$F$1","v":0},{"$f":"+Sheet3!G19/Sheet3!$F$1","v":0},{"$f":"+Sheet3!H19/Sheet3!$F$1","v":0},{"$f":"+Sheet3!I19/Sheet3!$F$1","v":129},{"$f":"+Sheet3!J19/Sheet3!$F$1","v":16},{"$f":"+Sheet3!K19/Sheet3!$F$1","v":4},{"$f":"+Sheet3!L19/Sheet3!$F$1","v":0},{"$f":"+Sheet3!M19/Sheet3!$F$1","v":0},{"$f":"+Sheet3!N19/Sheet3!$F$1","v":109},{"$f":"+Sheet3!O19/Sheet3!$F$1","v":6},{"$f":"+Sheet3!P19/Sheet3!$F$1","v":0},{"$f":"+Sheet3!Q19/Sheet3!$F$1","v":0},{"$f":"+Sheet3!R19/Sheet3!$F$1","v":0},{"$f":"+Sheet3!S19/Sheet3!$F$1","v":9},{"$f":"+Sheet3!T19/Sheet3!$F$1","v":10},{"$f":"+Sheet3!U19/Sheet3!$F$1","v":3},{"$f":"+Sheet3!V19/Sheet3!$F$1","v":0},{"$f":"+Sheet3!W19/Sheet3!$F$1","v":0},{"$f":"+Sheet3!X19/Sheet3!$F$1","v":0},{"$f":"+Sheet3!Y19/Sheet3!$F$1","v":0},{"$f":"+Sheet3!Z19/Sheet3!$F$1","v":0},{"$f":"+Sheet3!AA19/Sheet3!$F$1","v":0},{"$f":"+Sheet3!AB19/Sheet3!$F$1","v":0},{"$f":"+Sheet3!AC19/Sheet3!$F$1","v":398},{"$f":"+Sheet3!AD19/Sheet3!$F$1","v":16},{"$f":"+Sheet3!AE19/Sheet3!$F$1","v":4},{"$f":"+Sheet3!AF19/Sheet3!$F$1","v":0},{"$f":"+Sheet3!AG19/Sheet3!$F$1","v":0},{"$f":"+Sheet3!AH19/Sheet3!$F$1","v":7},{"$f":"+Sheet3!AI19/Sheet3!$F$1","v":3},{"$f":"+Sheet3!AJ19/Sheet3!$F$1","v":0},{"$f":"+Sheet3!AK19/Sheet3!$F$1","v":0},{"$f":"+Sheet3!AL19/Sheet3!$F$1","v":0},{"$f":"+Sheet3!AM19/Sheet3!$F$1","v":81},{"$f":"+Sheet3!AN19/Sheet3!$F$1","v":30},{"$f":"+Sheet3!AO19/Sheet3!$F$1","v":3},{"$f":"+Sheet3!AP19/Sheet3!$F$1","v":0},{"$f":"+Sheet3!AQ19/Sheet3!$F$1","v":0},{"$f":"+Sheet3!AR19/Sheet3!$F$1","v":232},{"$f":"+Sheet3!AS19/Sheet3!$F$1","v":11},{"$f":"+Sheet3!AT19/Sheet3!$F$1","v":3},{"$f":"+Sheet3!AU19/Sheet3!$F$1","v":0},{"$f":"+Sheet3!AV19/Sheet3!$F$1","v":0},{"$f":"+Sheet3!AW19/Sheet3!$F$1","v":938},{"$f":"+Sheet3!AX19/Sheet3!$F$1","v":46},{"$f":"+Sheet3!AY19/Sheet3!$F$1","v":0},{"$f":"+Sheet3!AZ19/Sheet3!$F$1","v":0},{"$f":"+Sheet3!BA19/Sheet3!$F$1","v":0},{"$f":"+Sheet3!BB19/Sheet3!$F$1","v":0},{"$f":"+Sheet3!BC19/Sheet3!$F$1","v":10},{"$f":"+Sheet3!BD19/Sheet3!$F$1","v":3},{"$f":"+Sheet3!BE19/Sheet3!$F$1","v":0},{"$f":"+Sheet3!BF19/Sheet3!$F$1","v":0},{"$f":"+Sheet3!BG19/Sheet3!$F$1","v":102},{"$f":"+Sheet3!BH19/Sheet3!$F$1","v":46},{"$f":"+Sheet3!BI19/Sheet3!$F$1","v":7},{"$f":"+Sheet3!BJ19/Sheet3!$F$1","v":0},{"$f":"+Sheet3!BK19/Sheet3!$F$1","v":0},{"$f":"+Sheet3!BL19/Sheet3!$F$1","v":3},{"$f":"+Sheet3!BM19/Sheet3!$F$1","v":8},{"$f":"+Sheet3!BN19/Sheet3!$F$1","v":7},{"$f":"+Sheet3!BO19/Sheet3!$F$1","v":0},{"$f":"+Sheet3!BP19/Sheet3!$F$1","v":0},{"$f":"+Sheet3!BQ19/Sheet3!$F$1","v":324},{"$f":"+Sheet3!BR19/Sheet3!$F$1","v":48},{"$f":"+Sheet3!BS19/Sheet3!$F$1","v":13},{"$f":"+Sheet3!BT19/Sheet3!$F$1","v":0},{"$f":"+Sheet3!BU19/Sheet3!$F$1","v":0},{"$f":"+Sheet3!BV19/Sheet3!$F$1","v":300},{"$f":"+Sheet3!BW19/Sheet3!$F$1","v":54},{"$f":"+Sheet3!BX19/Sheet3!$F$1","v":7},{"$f":"+Sheet3!BY19/Sheet3!$F$1","v":0},{"$f":"+Sheet3!BZ19/Sheet3!$F$1","v":0},{"$f":"+Sheet3!CA19/Sheet3!$F$1","v":111},{"$f":"+Sheet3!CB19/Sheet3!$F$1","v":10},{"$f":"+Sheet3!CC19/Sheet3!$F$1","v":0},{"$f":"+Sheet3!CD19/Sheet3!$F$1","v":0},{"$f":"+Sheet3!CE19/Sheet3!$F$1","v":0},{"$f":"+Sheet3!CF19/Sheet3!$F$1","v":0},{"$f":"+Sheet3!CG19/Sheet3!$F$1","v":0},{"$f":"+Sheet3!CH19/Sheet3!$F$1","v":0},{"$f":"+Sheet3!CI19/Sheet3!$F$1","v":0},{"$f":"+Sheet3!CJ19/Sheet3!$F$1","v":0},{"$f":"+Sheet3!CK19/Sheet3!$F$1","v":0},{"$f":"+Sheet3!CL19/Sheet3!$F$1","v":0},{"$f":"+Sheet3!CM19/Sheet3!$F$1","v":0},{"$f":"+Sheet3!CN19/Sheet3!$F$1","v":0},{"$f":"+Sheet3!CO19/Sheet3!$F$1","v":0},{"$f":"+Sheet3!CP19/Sheet3!$F$1","v":24},{"$f":"+Sheet3!CQ19/Sheet3!$F$1","v":151},{"$f":"+Sheet3!CR19/Sheet3!$F$1","v":117},{"$f":"+Sheet3!CS19/Sheet3!$F$1","v":24},{"$f":"+Sheet3!CT19/Sheet3!$F$1","v":0},{"$f":"+Sheet3!CU19/Sheet3!$F$1","v":419},{"$f":"+Sheet3!CV19/Sheet3!$F$1","v":12},{"$f":"+Sheet3!CW19/Sheet3!$F$1","v":116},{"$f":"+Sheet3!CX19/Sheet3!$F$1","v":248},{"$f":"+Sheet3!CY19/Sheet3!$F$1","v":988},{"$f":"+Sheet3!CZ19/Sheet3!$F$1","v":17},{"$f":"+Sheet3!DA19/Sheet3!$F$1","v":155},{"$f":"+Sheet3!DB19/Sheet3!$F$1","v":19},{"$f":"+Sheet3!DC19/Sheet3!$F$1","v":386},{"$f":"+Sheet3!DD19/Sheet3!$F$1","v":361},{"$f":"+Sheet3!DE19/Sheet3!$F$1","v":124},{"$f":"+Sheet3!DF19/Sheet3!$F$1","v":0},{"$f":"+Sheet3!DG19/Sheet3!$F$1","v":0},{"$f":"+Sheet3!DH19/Sheet3!$F$1","v":2776},{"$f":"+Sheet3!DI19/Sheet3!$F$1","v":327},{"$f":"+Sheet3!DJ19/Sheet3!$F$1","v":59},{"$f":"+Sheet3!DK19/Sheet3!$F$1","v":0},{"$f":"+Sheet3!DL19/Sheet3!$F$1","v":0},3162]
[null,"16G","Viseu Dão Lafões",{"$f":"+Sheet3!D20/Sheet3!$F$1","v":15},{"$f":"+Sheet3!E20/Sheet3!$F$1","v":3},{"$f":"+Sheet3!F20/Sheet3!$F$1","v":0},{"$f":"+Sheet3!G20/Sheet3!$F$1","v":0},{"$f":"+Sheet3!H20/Sheet3!$F$1","v":0},{"$f":"+Sheet3!I20/Sheet3!$F$1","v":399},{"$f":"+Sheet3!J20/Sheet3!$F$1","v":3},{"$f":"+Sheet3!K20/Sheet3!$F$1","v":0},{"$f":"+Sheet3!L20/Sheet3!$F$1","v":0},{"$f":"+Sheet3!M20/Sheet3!$F$1","v":0},{"$f":"+Sheet3!N20/Sheet3!$F$1","v":274},{"$f":"+Sheet3!O20/Sheet3!$F$1","v":20},{"$f":"+Sheet3!P20/Sheet3!$F$1","v":0},{"$f":"+Sheet3!Q20/Sheet3!$F$1","v":0},{"$f":"+Sheet3!R20/Sheet3!$F$1","v":0},{"$f":"+Sheet3!S20/Sheet3!$F$1","v":0},{"$f":"+Sheet3!T20/Sheet3!$F$1","v":0},{"$f":"+Sheet3!U20/Sheet3!$F$1","v":0},{"$f":"+Sheet3!V20/Sheet3!$F$1","v":0},{"$f":"+Sheet3!W20/Sheet3!$F$1","v":0},{"$f":"+Sheet3!X20/Sheet3!$F$1","v":0},{"$f":"+Sheet3!Y20/Sheet3!$F$1","v":0},{"$f":"+Sheet3!Z20/Sheet3!$F$1","v":0},{"$f":"+Sheet3!AA20/Sheet3!$F$1","v":0},{"$f":"+Sheet3!AB20/Sheet3!$F$1","v":0},{"$f":"+Sheet3!AC20/Sheet3!$F$1","v":788},{"$f":"+Sheet3!AD20/Sheet3!$F$1","v":13},{"$f":"+Sheet3!AE20/Sheet3!$F$1","v":0},{"$f":"+Sheet3!AF20/Sheet3!$F$1","v":0},{"$f":"+Sheet3!AG20/Sheet3!$F$1","v":0},{"$f":"+Sheet3!AH20/Sheet3!$F$1","v":257},{"$f":"+Sheet3!AI20/Sheet3!$F$1","v":122},{"$f":"+Sheet3!AJ20/Sheet3!$F$1","v":14},{"$f":"+Sheet3!AK20/Sheet3!$F$1","v":0},{"$f":"+Sheet3!AL20/Sheet3!$F$1","v":0},{"$f":"+Sheet3!AM20/Sheet3!$F$1","v":391},{"$f":"+Sheet3!AN20/Sheet3!$F$1","v":65},{"$f":"+Sheet3!AO20/Sheet3!$F$1","v":5},{"$f":"+Sheet3!AP20/Sheet3!$F$1","v":0},{"$f":"+Sheet3!AQ20/Sheet3!$F$1","v":0},{"$f":"+Sheet3!AR20/Sheet3!$F$1","v":51},{"$f":"+Sheet3!AS20/Sheet3!$F$1","v":0},{"$f":"+Sheet3!AT20/Sheet3!$F$1","v":0},{"$f":"+Sheet3!AU20/Sheet3!$F$1","v":0},{"$f":"+Sheet3!AV20/Sheet3!$F$1","v":0},{"$f":"+Sheet3!AW20/Sheet3!$F$1","v":2704},{"$f":"+Sheet3!AX20/Sheet3!$F$1","v":157},{"$f":"+Sheet3!AY20/Sheet3!$F$1","v":6},{"$f":"+Sheet3!AZ20/Sheet3!$F$1","v":0},{"$f":"+Sheet3!BA20/Sheet3!$F$1","v":0},{"$f":"+Sheet3!BB20/Sheet3!$F$1","v":42},{"$f":"+Sheet3!BC20/Sheet3!$F$1","v":25},{"$f":"+Sheet3!BD20/Sheet3!$F$1","v":0},{"$f":"+Sheet3!BE20/Sheet3!$F$1","v":0},{"$f":"+Sheet3!BF20/Sheet3!$F$1","v":0},{"$f":"+Sheet3!BG20/Sheet3!$F$1","v":117},{"$f":"+Sheet3!BH20/Sheet3!$F$1","v":48},{"$f":"+Sheet3!BI20/Sheet3!$F$1","v":5},{"$f":"+Sheet3!BJ20/Sheet3!$F$1","v":0},{"$f":"+Sheet3!BK20/Sheet3!$F$1","v":0},{"$f":"+Sheet3!BL20/Sheet3!$F$1","v":54},{"$f":"+Sheet3!BM20/Sheet3!$F$1","v":88},{"$f":"+Sheet3!BN20/Sheet3!$F$1","v":10},{"$f":"+Sheet3!BO20/Sheet3!$F$1","v":0},{"$f":"+Sheet3!BP20/Sheet3!$F$1","v":0},{"$f":"+Sheet3!BQ20/Sheet3!$F$1","v":680},{"$f":"+Sheet3!BR20/Sheet3!$F$1","v":194},{"$f":"+Sheet3!BS20/Sheet3!$F$1","v":23},{"$f":"+Sheet3!BT20/Sheet3!$F$1","v":0},{"$f":"+Sheet3!BU20/Sheet3!$F$1","v":0},{"$f":"+Sheet3!BV20/Sheet3!$F$1","v":1057},{"$f":"+Sheet3!BW20/Sheet3!$F$1","v":115},{"$f":"+Sheet3!BX20/Sheet3!$F$1","v":6},{"$f":"+Sheet3!BY20/Sheet3!$F$1","v":0},{"$f":"+Sheet3!BZ20/Sheet3!$F$1","v":0},{"$f":"+Sheet3!CA20/Sheet3!$F$1","v":132},{"$f":"+Sheet3!CB20/Sheet3!$F$1","v":7},{"$f":"+Sheet3!CC20/Sheet3!$F$1","v":0},{"$f":"+Sheet3!CD20/Sheet3!$F$1","v":0},{"$f":"+Sheet3!CE20/Sheet3!$F$1","v":0},{"$f":"+Sheet3!CF20/Sheet3!$F$1","v":0},{"$f":"+Sheet3!CG20/Sheet3!$F$1","v":0},{"$f":"+Sheet3!CH20/Sheet3!$F$1","v":0},{"$f":"+Sheet3!CI20/Sheet3!$F$1","v":0},{"$f":"+Sheet3!CJ20/Sheet3!$F$1","v":0},{"$f":"+Sheet3!CK20/Sheet3!$F$1","v":44},{"$f":"+Sheet3!CL20/Sheet3!$F$1","v":0},{"$f":"+Sheet3!CM20/Sheet3!$F$1","v":0},{"$f":"+Sheet3!CN20/Sheet3!$F$1","v":0},{"$f":"+Sheet3!CO20/Sheet3!$F$1","v":0},{"$f":"+Sheet3!CP20/Sheet3!$F$1","v":20},{"$f":"+Sheet3!CQ20/Sheet3!$F$1","v":404},{"$f":"+Sheet3!CR20/Sheet3!$F$1","v":295},{"$f":"+Sheet3!CS20/Sheet3!$F$1","v":0},{"$f":"+Sheet3!CT20/Sheet3!$F$1","v":0},{"$f":"+Sheet3!CU20/Sheet3!$F$1","v":805},{"$f":"+Sheet3!CV20/Sheet3!$F$1","v":394},{"$f":"+Sheet3!CW20/Sheet3!$F$1","v":461},{"$f":"+Sheet3!CX20/Sheet3!$F$1","v":54},{"$f":"+Sheet3!CY20/Sheet3!$F$1","v":2868},{"$f":"+Sheet3!CZ20/Sheet3!$F$1","v":72},{"$f":"+Sheet3!DA20/Sheet3!$F$1","v":173},{"$f":"+Sheet3!DB20/Sheet3!$F$1","v":154},{"$f":"+Sheet3!DC20/Sheet3!$F$1","v":899},{"$f":"+Sheet3!DD20/Sheet3!$F$1","v":1179},{"$f":"+Sheet3!DE20/Sheet3!$F$1","v":139},{"$f":"+Sheet3!DF20/Sheet3!$F$1","v":0},{"$f":"+Sheet3!DG20/Sheet3!$F$1","v":44},{"$f":"+Sheet3!DH20/Sheet3!$F$1","v":7013},{"$f":"+Sheet3!DI20/Sheet3!$F$1","v":873},{"$f":"+Sheet3!DJ20/Sheet3!$F$1","v":76},{"$f":"+Sheet3!DK20/Sheet3!$F$1","v":0},{"$f":"+Sheet3!DL20/Sheet3!$F$1","v":0},7962]
[null,"16H","Beira Baixa",{"$f":"+Sheet3!D21/Sheet3!$F$1","v":3},{"$f":"+Sheet3!E21/Sheet3!$F$1","v":0},{"$f":"+Sheet3!F21/Sheet3!$F$1","v":0},{"$f":"+Sheet3!G21/Sheet3!$F$1","v":0},{"$f":"+Sheet3!H21/Sheet3!$F$1","v":0},{"$f":"+Sheet3!I21/Sheet3!$F$1","v":5},{"$f":"+Sheet3!J21/Sheet3!$F$1","v":4},{"$f":"+Sheet3!K21/Sheet3!$F$1","v":0},{"$f":"+Sheet3!L21/Sheet3!$F$1","v":0},{"$f":"+Sheet3!M21/Sheet3!$F$1","v":0},{"$f":"+Sheet3!N21/Sheet3!$F$1","v":64},{"$f":"+Sheet3!O21/Sheet3!$F$1","v":79},{"$f":"+Sheet3!P21/Sheet3!$F$1","v":19},{"$f":"+Sheet3!Q21/Sheet3!$F$1","v":0},{"$f":"+Sheet3!R21/Sheet3!$F$1","v":0},{"$f":"+Sheet3!S21/Sheet3!$F$1","v":0},{"$f":"+Sheet3!T21/Sheet3!$F$1","v":0},{"$f":"+Sheet3!U21/Sheet3!$F$1","v":0},{"$f":"+Sheet3!V21/Sheet3!$F$1","v":0},{"$f":"+Sheet3!W21/Sheet3!$F$1","v":0},{"$f":"+Sheet3!X21/Sheet3!$F$1","v":0},{"$f":"+Sheet3!Y21/Sheet3!$F$1","v":0},{"$f":"+Sheet3!Z21/Sheet3!$F$1","v":0},{"$f":"+Sheet3!AA21/Sheet3!$F$1","v":0},{"$f":"+Sheet3!AB21/Sheet3!$F$1","v":0},{"$f":"+Sheet3!AC21/Sheet3!$F$1","v":275},{"$f":"+Sheet3!AD21/Sheet3!$F$1","v":28},{"$f":"+Sheet3!AE21/Sheet3!$F$1","v":6},{"$f":"+Sheet3!AF21/Sheet3!$F$1","v":0},{"$f":"+Sheet3!AG21/Sheet3!$F$1","v":0},{"$f":"+Sheet3!AH21/Sheet3!$F$1","v":0},{"$f":"+Sheet3!AI21/Sheet3!$F$1","v":0},{"$f":"+Sheet3!AJ21/Sheet3!$F$1","v":0},{"$f":"+Sheet3!AK21/Sheet3!$F$1","v":0},{"$f":"+Sheet3!AL21/Sheet3!$F$1","v":0},{"$f":"+Sheet3!AM21/Sheet3!$F$1","v":216},{"$f":"+Sheet3!AN21/Sheet3!$F$1","v":64},{"$f":"+Sheet3!AO21/Sheet3!$F$1","v":25},{"$f":"+Sheet3!AP21/Sheet3!$F$1","v":0},{"$f":"+Sheet3!AQ21/Sheet3!$F$1","v":0},{"$f":"+Sheet3!AR21/Sheet3!$F$1","v":526},{"$f":"+Sheet3!AS21/Sheet3!$F$1","v":112},{"$f":"+Sheet3!AT21/Sheet3!$F$1","v":22},{"$f":"+Sheet3!AU21/Sheet3!$F$1","v":0},{"$f":"+Sheet3!AV21/Sheet3!$F$1","v":0},{"$f":"+Sheet3!AW21/Sheet3!$F$1","v":914},{"$f":"+Sheet3!AX21/Sheet3!$F$1","v":345},{"$f":"+Sheet3!AY21/Sheet3!$F$1","v":69},{"$f":"+Sheet3!AZ21/Sheet3!$F$1","v":3},{"$f":"+Sheet3!BA21/Sheet3!$F$1","v":0},{"$f":"+Sheet3!BB21/Sheet3!$F$1","v":0},{"$f":"+Sheet3!BC21/Sheet3!$F$1","v":0},{"$f":"+Sheet3!BD21/Sheet3!$F$1","v":0},{"$f":"+Sheet3!BE21/Sheet3!$F$1","v":0},{"$f":"+Sheet3!BF21/Sheet3!$F$1","v":0},{"$f":"+Sheet3!BG21/Sheet3!$F$1","v":9},{"$f":"+Sheet3!BH21/Sheet3!$F$1","v":18},{"$f":"+Sheet3!BI21/Sheet3!$F$1","v":21},{"$f":"+Sheet3!BJ21/Sheet3!$F$1","v":3},{"$f":"+Sheet3!BK21/Sheet3!$F$1","v":0},{"$f":"+Sheet3!BL21/Sheet3!$F$1","v":0},{"$f":"+Sheet3!BM21/Sheet3!$F$1","v":11},{"$f":"+Sheet3!BN21/Sheet3!$F$1","v":77},{"$f":"+Sheet3!BO21/Sheet3!$F$1","v":60},{"$f":"+Sheet3!BP21/Sheet3!$F$1","v":0},{"$f":"+Sheet3!BQ21/Sheet3!$F$1","v":327},{"$f":"+Sheet3!BR21/Sheet3!$F$1","v":282},{"$f":"+Sheet3!BS21/Sheet3!$F$1","v":239},{"$f":"+Sheet3!BT21/Sheet3!$F$1","v":52},{"$f":"+Sheet3!BU21/Sheet3!$F$1","v":5},{"$f":"+Sheet3!BV21/Sheet3!$F$1","v":126},{"$f":"+Sheet3!BW21/Sheet3!$F$1","v":98},{"$f":"+Sheet3!BX21/Sheet3!$F$1","v":22},{"$f":"+Sheet3!BY21/Sheet3!$F$1","v":9},{"$f":"+Sheet3!BZ21/Sheet3!$F$1","v":0},{"$f":"+Sheet3!CA21/Sheet3!$F$1","v":91},{"$f":"+Sheet3!CB21/Sheet3!$F$1","v":139},{"$f":"+Sheet3!CC21/Sheet3!$F$1","v":135},{"$f":"+Sheet3!CD21/Sheet3!$F$1","v":20},{"$f":"+Sheet3!CE21/Sheet3!$F$1","v":0},{"$f":"+Sheet3!CF21/Sheet3!$F$1","v":0},{"$f":"+Sheet3!CG21/Sheet3!$F$1","v":0},{"$f":"+Sheet3!CH21/Sheet3!$F$1","v":0},{"$f":"+Sheet3!CI21/Sheet3!$F$1","v":0},{"$f":"+Sheet3!CJ21/Sheet3!$F$1","v":0},{"$f":"+Sheet3!CK21/Sheet3!$F$1","v":0},{"$f":"+Sheet3!CL21/Sheet3!$F$1","v":0},{"$f":"+Sheet3!CM21/Sheet3!$F$1","v":0},{"$f":"+Sheet3!CN21/Sheet3!$F$1","v":0},{"$f":"+Sheet3!CO21/Sheet3!$F$1","v":0},{"$f":"+Sheet3!CP21/Sheet3!$F$1","v":11},{"$f":"+Sheet3!CQ21/Sheet3!$F$1","v":10},{"$f":"+Sheet3!CR21/Sheet3!$F$1","v":165},{"$f":"+Sheet3!CS21/Sheet3!$F$1","v":0},{"$f":"+Sheet3!CT21/Sheet3!$F$1","v":0},{"$f":"+Sheet3!CU21/Sheet3!$F$1","v":311},{"$f":"+Sheet3!CV21/Sheet3!$F$1","v":11},{"$f":"+Sheet3!CW21/Sheet3!$F$1","v":311},{"$f":"+Sheet3!CX21/Sheet3!$F$1","v":661},{"$f":"+Sheet3!CY21/Sheet3!$F$1","v":1333},{"$f":"+Sheet3!CZ21/Sheet3!$F$1","v":3},{"$f":"+Sheet3!DA21/Sheet3!$F$1","v":52},{"$f":"+Sheet3!DB21/Sheet3!$F$1","v":155},{"$f":"+Sheet3!DC21/Sheet3!$F$1","v":907},{"$f":"+Sheet3!DD21/Sheet3!$F$1","v":257},{"$f":"+Sheet3!DE21/Sheet3!$F$1","v":389},{"$f":"+Sheet3!DF21/Sheet3!$F$1","v":0},{"$f":"+Sheet3!DG21/Sheet3!$F$1","v":0},{"$f":"+Sheet3!DH21/Sheet3!$F$1","v":2565},{"$f":"+Sheet3!DI21/Sheet3!$F$1","v":1193},{"$f":"+Sheet3!DJ21/Sheet3!$F$1","v":651},{"$f":"+Sheet3!DK21/Sheet3!$F$1","v":157},{"$f":"+Sheet3!DL21/Sheet3!$F$1","v":11},4577]
[null,"16I","Médio Tejo",{"$f":"+Sheet3!D22/Sheet3!$F$1","v":3},{"$f":"+Sheet3!E22/Sheet3!$F$1","v":4},{"$f":"+Sheet3!F22/Sheet3!$F$1","v":0},{"$f":"+Sheet3!G22/Sheet3!$F$1","v":0},{"$f":"+Sheet3!H22/Sheet3!$F$1","v":0},{"$f":"+Sheet3!I22/Sheet3!$F$1","v":25},{"$f":"+Sheet3!J22/Sheet3!$F$1","v":10},{"$f":"+Sheet3!K22/Sheet3!$F$1","v":20},{"$f":"+Sheet3!L22/Sheet3!$F$1","v":0},{"$f":"+Sheet3!M22/Sheet3!$F$1","v":0},{"$f":"+Sheet3!N22/Sheet3!$F$1","v":34},{"$f":"+Sheet3!O22/Sheet3!$F$1","v":19},{"$f":"+Sheet3!P22/Sheet3!$F$1","v":11},{"$f":"+Sheet3!Q22/Sheet3!$F$1","v":0},{"$f":"+Sheet3!R22/Sheet3!$F$1","v":0},{"$f":"+Sheet3!S22/Sheet3!$F$1","v":0},{"$f":"+Sheet3!T22/Sheet3!$F$1","v":0},{"$f":"+Sheet3!U22/Sheet3!$F$1","v":0},{"$f":"+Sheet3!V22/Sheet3!$F$1","v":0},{"$f":"+Sheet3!W22/Sheet3!$F$1","v":0},{"$f":"+Sheet3!X22/Sheet3!$F$1","v":0},{"$f":"+Sheet3!Y22/Sheet3!$F$1","v":3},{"$f":"+Sheet3!Z22/Sheet3!$F$1","v":0},{"$f":"+Sheet3!AA22/Sheet3!$F$1","v":0},{"$f":"+Sheet3!AB22/Sheet3!$F$1","v":0},{"$f":"+Sheet3!AC22/Sheet3!$F$1","v":274},{"$f":"+Sheet3!AD22/Sheet3!$F$1","v":10},{"$f":"+Sheet3!AE22/Sheet3!$F$1","v":0},{"$f":"+Sheet3!AF22/Sheet3!$F$1","v":0},{"$f":"+Sheet3!AG22/Sheet3!$F$1","v":0},{"$f":"+Sheet3!AH22/Sheet3!$F$1","v":40},{"$f":"+Sheet3!AI22/Sheet3!$F$1","v":11},{"$f":"+Sheet3!AJ22/Sheet3!$F$1","v":4},{"$f":"+Sheet3!AK22/Sheet3!$F$1","v":0},{"$f":"+Sheet3!AL22/Sheet3!$F$1","v":0},{"$f":"+Sheet3!AM22/Sheet3!$F$1","v":205},{"$f":"+Sheet3!AN22/Sheet3!$F$1","v":77},{"$f":"+Sheet3!AO22/Sheet3!$F$1","v":17},{"$f":"+Sheet3!AP22/Sheet3!$F$1","v":0},{"$f":"+Sheet3!AQ22/Sheet3!$F$1","v":0},{"$f":"+Sheet3!AR22/Sheet3!$F$1","v":567},{"$f":"+Sheet3!AS22/Sheet3!$F$1","v":64},{"$f":"+Sheet3!AT22/Sheet3!$F$1","v":12},{"$f":"+Sheet3!AU22/Sheet3!$F$1","v":0},{"$f":"+Sheet3!AV22/Sheet3!$F$1","v":0},{"$f":"+Sheet3!AW22/Sheet3!$F$1","v":1316},{"$f":"+Sheet3!AX22/Sheet3!$F$1","v":235},{"$f":"+Sheet3!AY22/Sheet3!$F$1","v":22},{"$f":"+Sheet3!AZ22/Sheet3!$F$1","v":5},{"$f":"+Sheet3!BA22/Sheet3!$F$1","v":0},{"$f":"+Sheet3!BB22/Sheet3!$F$1","v":0},{"$f":"+Sheet3!BC22/Sheet3!$F$1","v":7},{"$f":"+Sheet3!BD22/Sheet3!$F$1","v":0},{"$f":"+Sheet3!BE22/Sheet3!$F$1","v":0},{"$f":"+Sheet3!BF22/Sheet3!$F$1","v":0},{"$f":"+Sheet3!BG22/Sheet3!$F$1","v":43},{"$f":"+Sheet3!BH22/Sheet3!$F$1","v":45},{"$f":"+Sheet3!BI22/Sheet3!$F$1","v":10},{"$f":"+Sheet3!BJ22/Sheet3!$F$1","v":0},{"$f":"+Sheet3!BK22/Sheet3!$F$1","v":0},{"$f":"+Sheet3!BL22/Sheet3!$F$1","v":0},{"$f":"+Sheet3!BM22/Sheet3!$F$1","v":4},{"$f":"+Sheet3!BN22/Sheet3!$F$1","v":6},{"$f":"+Sheet3!BO22/Sheet3!$F$1","v":0},{"$f":"+Sheet3!BP22/Sheet3!$F$1","v":0},{"$f":"+Sheet3!BQ22/Sheet3!$F$1","v":317},{"$f":"+Sheet3!BR22/Sheet3!$F$1","v":60},{"$f":"+Sheet3!BS22/Sheet3!$F$1","v":23},{"$f":"+Sheet3!BT22/Sheet3!$F$1","v":0},{"$f":"+Sheet3!BU22/Sheet3!$F$1","v":0},{"$f":"+Sheet3!BV22/Sheet3!$F$1","v":233},{"$f":"+Sheet3!BW22/Sheet3!$F$1","v":66},{"$f":"+Sheet3!BX22/Sheet3!$F$1","v":15},{"$f":"+Sheet3!BY22/Sheet3!$F$1","v":5},{"$f":"+Sheet3!BZ22/Sheet3!$F$1","v":0},{"$f":"+Sheet3!CA22/Sheet3!$F$1","v":86},{"$f":"+Sheet3!CB22/Sheet3!$F$1","v":52},{"$f":"+Sheet3!CC22/Sheet3!$F$1","v":42},{"$f":"+Sheet3!CD22/Sheet3!$F$1","v":4},{"$f":"+Sheet3!CE22/Sheet3!$F$1","v":0},{"$f":"+Sheet3!CF22/Sheet3!$F$1","v":0},{"$f":"+Sheet3!CG22/Sheet3!$F$1","v":0},{"$f":"+Sheet3!CH22/Sheet3!$F$1","v":0},{"$f":"+Sheet3!CI22/Sheet3!$F$1","v":0},{"$f":"+Sheet3!CJ22/Sheet3!$F$1","v":0},{"$f":"+Sheet3!CK22/Sheet3!$F$1","v":0},{"$f":"+Sheet3!CL22/Sheet3!$F$1","v":0},{"$f":"+Sheet3!CM22/Sheet3!$F$1","v":0},{"$f":"+Sheet3!CN22/Sheet3!$F$1","v":0},{"$f":"+Sheet3!CO22/Sheet3!$F$1","v":0},{"$f":"+Sheet3!CP22/Sheet3!$F$1","v":11},{"$f":"+Sheet3!CQ22/Sheet3!$F$1","v":59},{"$f":"+Sheet3!CR22/Sheet3!$F$1","v":66},{"$f":"+Sheet3!CS22/Sheet3!$F$1","v":0},{"$f":"+Sheet3!CT22/Sheet3!$F$1","v":3},{"$f":"+Sheet3!CU22/Sheet3!$F$1","v":289},{"$f":"+Sheet3!CV22/Sheet3!$F$1","v":57},{"$f":"+Sheet3!CW22/Sheet3!$F$1","v":299},{"$f":"+Sheet3!CX22/Sheet3!$F$1","v":645},{"$f":"+Sheet3!CY22/Sheet3!$F$1","v":1583},{"$f":"+Sheet3!CZ22/Sheet3!$F$1","v":11},{"$f":"+Sheet3!DA22/Sheet3!$F$1","v":101},{"$f":"+Sheet3!DB22/Sheet3!$F$1","v":14},{"$f":"+Sheet3!DC22/Sheet3!$F$1","v":402},{"$f":"+Sheet3!DD22/Sheet3!$F$1","v":322},{"$f":"+Sheet3!DE22/Sheet3!$F$1","v":186},{"$f":"+Sheet3!DF22/Sheet3!$F$1","v":0},{"$f":"+Sheet3!DG22/Sheet3!$F$1","v":0},{"$f":"+Sheet3!DH22/Sheet3!$F$1","v":3152},{"$f":"+Sheet3!DI22/Sheet3!$F$1","v":680},{"$f":"+Sheet3!DJ22/Sheet3!$F$1","v":195},{"$f":"+Sheet3!DK22/Sheet3!$F$1","v":20},{"$f":"+Sheet3!DL22/Sheet3!$F$1","v":0},4047]
[null,"16J","Beiras e Serra da Estrela",{"$f":"+Sheet3!D23/Sheet3!$F$1","v":16},{"$f":"+Sheet3!E23/Sheet3!$F$1","v":8},{"$f":"+Sheet3!F23/Sheet3!$F$1","v":3},{"$f":"+Sheet3!G23/Sheet3!$F$1","v":0},{"$f":"+Sheet3!H23/Sheet3!$F$1","v":0},{"$f":"+Sheet3!I23/Sheet3!$F$1","v":54},{"$f":"+Sheet3!J23/Sheet3!$F$1","v":20},{"$f":"+Sheet3!K23/Sheet3!$F$1","v":5},{"$f":"+Sheet3!L23/Sheet3!$F$1","v":0},{"$f":"+Sheet3!M23/Sheet3!$F$1","v":0},{"$f":"+Sheet3!N23/Sheet3!$F$1","v":486},{"$f":"+Sheet3!O23/Sheet3!$F$1","v":321},{"$f":"+Sheet3!P23/Sheet3!$F$1","v":53},{"$f":"+Sheet3!Q23/Sheet3!$F$1","v":0},{"$f":"+Sheet3!R23/Sheet3!$F$1","v":0},{"$f":"+Sheet3!S23/Sheet3!$F$1","v":0},{"$f":"+Sheet3!T23/Sheet3!$F$1","v":0},{"$f":"+Sheet3!U23/Sheet3!$F$1","v":0},{"$f":"+Sheet3!V23/Sheet3!$F$1","v":0},{"$f":"+Sheet3!W23/Sheet3!$F$1","v":0},{"$f":"+Sheet3!X23/Sheet3!$F$1","v":0},{"$f":"+Sheet3!Y23/Sheet3!$F$1","v":0},{"$f":"+Sheet3!Z23/Sheet3!$F$1","v":0},{"$f":"+Sheet3!AA23/Sheet3!$F$1","v":0},{"$f":"+Sheet3!AB23/Sheet3!$F$1","v":0},{"$f":"+Sheet3!AC23/Sheet3!$F$1","v":1499},{"$f":"+Sheet3!AD23/Sheet3!$F$1","v":193},{"$f":"+Sheet3!AE23/Sheet3!$F$1","v":10},{"$f":"+Sheet3!AF23/Sheet3!$F$1","v":0},{"$f":"+Sheet3!AG23/Sheet3!$F$1","v":0},{"$f":"+Sheet3!AH23/Sheet3!$F$1","v":282},{"$f":"+Sheet3!AI23/Sheet3!$F$1","v":176},{"$f":"+Sheet3!AJ23/Sheet3!$F$1","v":41},{"$f":"+Sheet3!AK23/Sheet3!$F$1","v":0},{"$f":"+Sheet3!AL23/Sheet3!$F$1","v":0},{"$f":"+Sheet3!AM23/Sheet3!$F$1","v":718},{"$f":"+Sheet3!AN23/Sheet3!$F$1","v":455},{"$f":"+Sheet3!AO23/Sheet3!$F$1","v":94},{"$f":"+Sheet3!AP23/Sheet3!$F$1","v":0},{"$f":"+Sheet3!AQ23/Sheet3!$F$1","v":0},{"$f":"+Sheet3!AR23/Sheet3!$F$1","v":529},{"$f":"+Sheet3!AS23/Sheet3!$F$1","v":51},{"$f":"+Sheet3!AT23/Sheet3!$F$1","v":10},{"$f":"+Sheet3!AU23/Sheet3!$F$1","v":0},{"$f":"+Sheet3!AV23/Sheet3!$F$1","v":0},{"$f":"+Sheet3!AW23/Sheet3!$F$1","v":3827},{"$f":"+Sheet3!AX23/Sheet3!$F$1","v":1570},{"$f":"+Sheet3!AY23/Sheet3!$F$1","v":124},{"$f":"+Sheet3!AZ23/Sheet3!$F$1","v":0},{"$f":"+Sheet3!BA23/Sheet3!$F$1","v":0},{"$f":"+Sheet3!BB23/Sheet3!$F$1","v":5},{"$f":"+Sheet3!BC23/Sheet3!$F$1","v":23},{"$f":"+Sheet3!BD23/Sheet3!$F$1","v":26},{"$f":"+Sheet3!BE23/Sheet3!$F$1","v":0},{"$f":"+Sheet3!BF23/Sheet3!$F$1","v":0},{"$f":"+Sheet3!BG23/Sheet3!$F$1","v":36},{"$f":"+Sheet3!BH23/Sheet3!$F$1","v":155},{"$f":"+Sheet3!BI23/Sheet3!$F$1","v":159},{"$f":"+Sheet3!BJ23/Sheet3!$F$1","v":0},{"$f":"+Sheet3!BK23/Sheet3!$F$1","v":0},{"$f":"+Sheet3!BL23/Sheet3!$F$1","v":3},{"$f":"+Sheet3!BM23/Sheet3!$F$1","v":137},{"$f":"+Sheet3!BN23/Sheet3!$F$1","v":373},{"$f":"+Sheet3!BO23/Sheet3!$F$1","v":13},{"$f":"+Sheet3!BP23/Sheet3!$F$1","v":0},{"$f":"+Sheet3!BQ23/Sheet3!$F$1","v":648},{"$f":"+Sheet3!BR23/Sheet3!$F$1","v":956},{"$f":"+Sheet3!BS23/Sheet3!$F$1","v":432},{"$f":"+Sheet3!BT23/Sheet3!$F$1","v":8},{"$f":"+Sheet3!BU23/Sheet3!$F$1","v":0},{"$f":"+Sheet3!BV23/Sheet3!$F$1","v":362},{"$f":"+Sheet3!BW23/Sheet3!$F$1","v":468},{"$f":"+Sheet3!BX23/Sheet3!$F$1","v":130},{"$f":"+Sheet3!BY23/Sheet3!$F$1","v":3},{"$f":"+Sheet3!BZ23/Sheet3!$F$1","v":0},{"$f":"+Sheet3!CA23/Sheet3!$F$1","v":185},{"$f":"+Sheet3!CB23/Sheet3!$F$1","v":162},{"$f":"+Sheet3!CC23/Sheet3!$F$1","v":41},{"$f":"+Sheet3!CD23/Sheet3!$F$1","v":0},{"$f":"+Sheet3!CE23/Sheet3!$F$1","v":0},{"$f":"+Sheet3!CF23/Sheet3!$F$1","v":0},{"$f":"+Sheet3!CG23/Sheet3!$F$1","v":0},{"$f":"+Sheet3!CH23/Sheet3!$F$1","v":0},{"$f":"+Sheet3!CI23/Sheet3!$F$1","v":0},{"$f":"+Sheet3!CJ23/Sheet3!$F$1","v":0},{"$f":"+Sheet3!CK23/Sheet3!$F$1","v":7},{"$f":"+Sheet3!CL23/Sheet3!$F$1","v":0},{"$f":"+Sheet3!CM23/Sheet3!$F$1","v":0},{"$f":"+Sheet3!CN23/Sheet3!$F$1","v":0},{"$f":"+Sheet3!CO23/Sheet3!$F$1","v":0},{"$f":"+Sheet3!CP23/Sheet3!$F$1","v":32},{"$f":"+Sheet3!CQ23/Sheet3!$F$1","v":80},{"$f":"+Sheet3!CR23/Sheet3!$F$1","v":861},{"$f":"+Sheet3!CS23/Sheet3!$F$1","v":0},{"$f":"+Sheet3!CT23/Sheet3!$F$1","v":3},{"$f":"+Sheet3!CU23/Sheet3!$F$1","v":1704},{"$f":"+Sheet3!CV23/Sheet3!$F$1","v":499},{"$f":"+Sheet3!CW23/Sheet3!$F$1","v":1273},{"$f":"+Sheet3!CX23/Sheet3!$F$1","v":591},{"$f":"+Sheet3!CY23/Sheet3!$F$1","v":5525},{"$f":"+Sheet3!CZ23/Sheet3!$F$1","v":59},{"$f":"+Sheet3!DA23/Sheet3!$F$1","v":352},{"$f":"+Sheet3!DB23/Sheet3!$F$1","v":532},{"$f":"+Sheet3!DC23/Sheet3!$F$1","v":2045},{"$f":"+Sheet3!DD23/Sheet3!$F$1","v":963},{"$f":"+Sheet3!DE23/Sheet3!$F$1","v":389},{"$f":"+Sheet3!DF23/Sheet3!$F$1","v":0},{"$f":"+Sheet3!DG23/Sheet3!$F$1","v":10},{"$f":"+Sheet3!DH23/Sheet3!$F$1","v":8674},{"$f":"+Sheet3!DI23/Sheet3!$F$1","v":4706},{"$f":"+Sheet3!DJ23/Sheet3!$F$1","v":1509},{"$f":"+Sheet3!DK23/Sheet3!$F$1","v":29},{"$f":"+Sheet3!DL23/Sheet3!$F$1","v":0},14918]
["AML","170","Área Metropolitana de Lisboa",{"$f":"+Sheet3!D24/Sheet3!$F$1","v":3},{"$f":"+Sheet3!E24/Sheet3!$F$1","v":0},{"$f":"+Sheet3!F24/Sheet3!$F$1","v":3},{"$f":"+Sheet3!G24/Sheet3!$F$1","v":0},{"$f":"+Sheet3!H24/Sheet3!$F$1","v":0},{"$f":"+Sheet3!I24/Sheet3!$F$1","v":3},{"$f":"+Sheet3!J24/Sheet3!$F$1","v":27},{"$f":"+Sheet3!K24/Sheet3!$F$1","v":22},{"$f":"+Sheet3!L24/Sheet3!$F$1","v":0},{"$f":"+Sheet3!M24/Sheet3!$F$1","v":0},{"$f":"+Sheet3!N24/Sheet3!$F$1","v":18},{"$f":"+Sheet3!O24/Sheet3!$F$1","v":21},{"$f":"+Sheet3!P24/Sheet3!$F$1","v":12},{"$f":"+Sheet3!Q24/Sheet3!$F$1","v":0},{"$f":"+Sheet3!R24/Sheet3!$F$1","v":0},{"$f":"+Sheet3!S24/Sheet3!$F$1","v":0},{"$f":"+Sheet3!T24/Sheet3!$F$1","v":5},{"$f":"+Sheet3!U24/Sheet3!$F$1","v":48},{"$f":"+Sheet3!V24/Sheet3!$F$1","v":6},{"$f":"+Sheet3!W24/Sheet3!$F$1","v":0},{"$f":"+Sheet3!X24/Sheet3!$F$1","v":0},{"$f":"+Sheet3!Y24/Sheet3!$F$1","v":0},{"$f":"+Sheet3!Z24/Sheet3!$F$1","v":0},{"$f":"+Sheet3!AA24/Sheet3!$F$1","v":0},{"$f":"+Sheet3!AB24/Sheet3!$F$1","v":0},{"$f":"+Sheet3!AC24/Sheet3!$F$1","v":39},{"$f":"+Sheet3!AD24/Sheet3!$F$1","v":32},{"$f":"+Sheet3!AE24/Sheet3!$F$1","v":9},{"$f":"+Sheet3!AF24/Sheet3!$F$1","v":0},{"$f":"+Sheet3!AG24/Sheet3!$F$1","v":0},{"$f":"+Sheet3!AH24/Sheet3!$F$1","v":28},{"$f":"+Sheet3!AI24/Sheet3!$F$1","v":80},{"$f":"+Sheet3!AJ24/Sheet3!$F$1","v":42},{"$f":"+Sheet3!AK24/Sheet3!$F$1","v":3},{"$f":"+Sheet3!AL24/Sheet3!$F$1","v":0},{"$f":"+Sheet3!AM24/Sheet3!$F$1","v":37},{"$f":"+Sheet3!AN24/Sheet3!$F$1","v":35},{"$f":"+Sheet3!AO24/Sheet3!$F$1","v":17},{"$f":"+Sheet3!AP24/Sheet3!$F$1","v":0},{"$f":"+Sheet3!AQ24/Sheet3!$F$1","v":0},{"$f":"+Sheet3!AR24/Sheet3!$F$1","v":0},{"$f":"+Sheet3!AS24/Sheet3!$F$1","v":0},{"$f":"+Sheet3!AT24/Sheet3!$F$1","v":3},{"$f":"+Sheet3!AU24/Sheet3!$F$1","v":0},{"$f":"+Sheet3!AV24/Sheet3!$F$1","v":0},{"$f":"+Sheet3!AW24/Sheet3!$F$1","v":45},{"$f":"+Sheet3!AX24/Sheet3!$F$1","v":50},{"$f":"+Sheet3!AY24/Sheet3!$F$1","v":29},{"$f":"+Sheet3!AZ24/Sheet3!$F$1","v":3},{"$f":"+Sheet3!BA24/Sheet3!$F$1","v":0},{"$f":"+Sheet3!BB24/Sheet3!$F$1","v":3},{"$f":"+Sheet3!BC24/Sheet3!$F$1","v":13},{"$f":"+Sheet3!BD24/Sheet3!$F$1","v":8},{"$f":"+Sheet3!BE24/Sheet3!$F$1","v":0},{"$f":"+Sheet3!BF24/Sheet3!$F$1","v":0},{"$f":"+Sheet3!BG24/Sheet3!$F$1","v":64},{"$f":"+Sheet3!BH24/Sheet3!$F$1","v":43},{"$f":"+Sheet3!BI24/Sheet3!$F$1","v":22},{"$f":"+Sheet3!BJ24/Sheet3!$F$1","v":4},{"$f":"+Sheet3!BK24/Sheet3!$F$1","v":0},{"$f":"+Sheet3!BL24/Sheet3!$F$1","v":0},{"$f":"+Sheet3!BM24/Sheet3!$F$1","v":15},{"$f":"+Sheet3!BN24/Sheet3!$F$1","v":14},{"$f":"+Sheet3!BO24/Sheet3!$F$1","v":8},{"$f":"+Sheet3!BP24/Sheet3!$F$1","v":0},{"$f":"+Sheet3!BQ24/Sheet3!$F$1","v":268},{"$f":"+Sheet3!BR24/Sheet3!$F$1","v":71},{"$f":"+Sheet3!BS24/Sheet3!$F$1","v":20},{"$f":"+Sheet3!BT24/Sheet3!$F$1","v":3},{"$f":"+Sheet3!BU24/Sheet3!$F$1","v":0},{"$f":"+Sheet3!BV24/Sheet3!$F$1","v":31},{"$f":"+Sheet3!BW24/Sheet3!$F$1","v":19},{"$f":"+Sheet3!BX24/Sheet3!$F$1","v":15},{"$f":"+Sheet3!BY24/Sheet3!$F$1","v":10},{"$f":"+Sheet3!BZ24/Sheet3!$F$1","v":0},{"$f":"+Sheet3!CA24/Sheet3!$F$1","v":73},{"$f":"+Sheet3!CB24/Sheet3!$F$1","v":77},{"$f":"+Sheet3!CC24/Sheet3!$F$1","v":41},{"$f":"+Sheet3!CD24/Sheet3!$F$1","v":3},{"$f":"+Sheet3!CE24/Sheet3!$F$1","v":0},{"$f":"+Sheet3!CF24/Sheet3!$F$1","v":0},{"$f":"+Sheet3!CG24/Sheet3!$F$1","v":9},{"$f":"+Sheet3!CH24/Sheet3!$F$1","v":16},{"$f":"+Sheet3!CI24/Sheet3!$F$1","v":10},{"$f":"+Sheet3!CJ24/Sheet3!$F$1","v":0},{"$f":"+Sheet3!CK24/Sheet3!$F$1","v":5},{"$f":"+Sheet3!CL24/Sheet3!$F$1","v":7},{"$f":"+Sheet3!CM24/Sheet3!$F$1","v":0},{"$f":"+Sheet3!CN24/Sheet3!$F$1","v":0},{"$f":"+Sheet3!CO24/Sheet3!$F$1","v":0},{"$f":"+Sheet3!CP24/Sheet3!$F$1","v":13},{"$f":"+Sheet3!CQ24/Sheet3!$F$1","v":55},{"$f":"+Sheet3!CR24/Sheet3!$F$1","v":54},{"$f":"+Sheet3!CS24/Sheet3!$F$1","v":59},{"$f":"+Sheet3!CT24/Sheet3!$F$1","v":0},{"$f":"+Sheet3!CU24/Sheet3!$F$1","v":87},{"$f":"+Sheet3!CV24/Sheet3!$F$1","v":155},{"$f":"+Sheet3!CW24/Sheet3!$F$1","v":97},{"$f":"+Sheet3!CX24/Sheet3!$F$1","v":4},{"$f":"+Sheet3!CY24/Sheet3!$F$1","v":135},{"$f":"+Sheet3!CZ24/Sheet3!$F$1","v":27},{"$f":"+Sheet3!DA24/Sheet3!$F$1","v":139},{"$f":"+Sheet3!DB24/Sheet3!$F$1","v":43},{"$f":"+Sheet3!DC24/Sheet3!$F$1","v":363},{"$f":"+Sheet3!DD24/Sheet3!$F$1","v":82},{"$f":"+Sheet3!DE24/Sheet3!$F$1","v":198},{"$f":"+Sheet3!DF24/Sheet3!$F$1","v":40},{"$f":"+Sheet3!DG24/Sheet3!$F$1","v":16},{"$f":"+Sheet3!DH24/Sheet3!$F$1","v":637},{"$f":"+Sheet3!DI24/Sheet3!$F$1","v":530},{"$f":"+Sheet3!DJ24/Sheet3!$F$1","v":341},{"$f":"+Sheet3!DK24/Sheet3!$F$1","v":58},{"$f":"+Sheet3!DL24/Sheet3!$F$1","v":3},1569]
["Alentejo","181","Alentejo Litoral",{"$f":"+Sheet3!D25/Sheet3!$F$1","v":0},{"$f":"+Sheet3!E25/Sheet3!$F$1","v":5},{"$f":"+Sheet3!F25/Sheet3!$F$1","v":8},{"$f":"+Sheet3!G25/Sheet3!$F$1","v":5},{"$f":"+Sheet3!H25/Sheet3!$F$1","v":0},{"$f":"+Sheet3!I25/Sheet3!$F$1","v":0},{"$f":"+Sheet3!J25/Sheet3!$F$1","v":4},{"$f":"+Sheet3!K25/Sheet3!$F$1","v":5},{"$f":"+Sheet3!L25/Sheet3!$F$1","v":0},{"$f":"+Sheet3!M25/Sheet3!$F$1","v":0},{"$f":"+Sheet3!N25/Sheet3!$F$1","v":7},{"$f":"+Sheet3!O25/Sheet3!$F$1","v":21},{"$f":"+Sheet3!P25/Sheet3!$F$1","v":36},{"$f":"+Sheet3!Q25/Sheet3!$F$1","v":8},{"$f":"+Sheet3!R25/Sheet3!$F$1","v":0},{"$f":"+Sheet3!S25/Sheet3!$F$1","v":10},{"$f":"+Sheet3!T25/Sheet3!$F$1","v":36},{"$f":"+Sheet3!U25/Sheet3!$F$1","v":38},{"$f":"+Sheet3!V25/Sheet3!$F$1","v":0},{"$f":"+Sheet3!W25/Sheet3!$F$1","v":0},{"$f":"+Sheet3!X25/Sheet3!$F$1","v":0},{"$f":"+Sheet3!Y25/Sheet3!$F$1","v":0},{"$f":"+Sheet3!Z25/Sheet3!$F$1","v":0},{"$f":"+Sheet3!AA25/Sheet3!$F$1","v":0},{"$f":"+Sheet3!AB25/Sheet3!$F$1","v":0},{"$f":"+Sheet3!AC25/Sheet3!$F$1","v":62},{"$f":"+Sheet3!AD25/Sheet3!$F$1","v":32},{"$f":"+Sheet3!AE25/Sheet3!$F$1","v":15},{"$f":"+Sheet3!AF25/Sheet3!$F$1","v":0},{"$f":"+Sheet3!AG25/Sheet3!$F$1","v":0},{"$f":"+Sheet3!AH25/Sheet3!$F$1","v":0},{"$f":"+Sheet3!AI25/Sheet3!$F$1","v":5},{"$f":"+Sheet3!AJ25/Sheet3!$F$1","v":6},{"$f":"+Sheet3!AK25/Sheet3!$F$1","v":0},{"$f":"+Sheet3!AL25/Sheet3!$F$1","v":0},{"$f":"+Sheet3!AM25/Sheet3!$F$1","v":23},{"$f":"+Sheet3!AN25/Sheet3!$F$1","v":78},{"$f":"+Sheet3!AO25/Sheet3!$F$1","v":139},{"$f":"+Sheet3!AP25/Sheet3!$F$1","v":25},{"$f":"+Sheet3!AQ25/Sheet3!$F$1","v":0},{"$f":"+Sheet3!AR25/Sheet3!$F$1","v":36},{"$f":"+Sheet3!AS25/Sheet3!$F$1","v":10},{"$f":"+Sheet3!AT25/Sheet3!$F$1","v":20},{"$f":"+Sheet3!AU25/Sheet3!$F$1","v":0},{"$f":"+Sheet3!AV25/Sheet3!$F$1","v":0},{"$f":"+Sheet3!AW25/Sheet3!$F$1","v":75},{"$f":"+Sheet3!AX25/Sheet3!$F$1","v":127},{"$f":"+Sheet3!AY25/Sheet3!$F$1","v":91},{"$f":"+Sheet3!AZ25/Sheet3!$F$1","v":23},{"$f":"+Sheet3!BA25/Sheet3!$F$1","v":3},{"$f":"+Sheet3!BB25/Sheet3!$F$1","v":0},{"$f":"+Sheet3!BC25/Sheet3!$F$1","v":0},{"$f":"+Sheet3!BD25/Sheet3!$F$1","v":11},{"$f":"+Sheet3!BE25/Sheet3!$F$1","v":4},{"$f":"+Sheet3!BF25/Sheet3!$F$1","v":0},{"$f":"+Sheet3!BG25/Sheet3!$F$1","v":38},{"$f":"+Sheet3!BH25/Sheet3!$F$1","v":69},{"$f":"+Sheet3!BI25/Sheet3!$F$1","v":81},{"$f":"+Sheet3!BJ25/Sheet3!$F$1","v":11},{"$f":"+Sheet3!BK25/Sheet3!$F$1","v":0},{"$f":"+Sheet3!BL25/Sheet3!$F$1","v":0},{"$f":"+Sheet3!BM25/Sheet3!$F$1","v":38},{"$f":"+Sheet3!BN25/Sheet3!$F$1","v":202},{"$f":"+Sheet3!BO25/Sheet3!$F$1","v":107},{"$f":"+Sheet3!BP25/Sheet3!$F$1","v":9},{"$f":"+Sheet3!BQ25/Sheet3!$F$1","v":142},{"$f":"+Sheet3!BR25/Sheet3!$F$1","v":183},{"$f":"+Sheet3!BS25/Sheet3!$F$1","v":241},{"$f":"+Sheet3!BT25/Sheet3!$F$1","v":53},{"$f":"+Sheet3!BU25/Sheet3!$F$1","v":0},{"$f":"+Sheet3!BV25/Sheet3!$F$1","v":17},{"$f":"+Sheet3!BW25/Sheet3!$F$1","v":54},{"$f":"+Sheet3!BX25/Sheet3!$F$1","v":60},{"$f":"+Sheet3!BY25/Sheet3!$F$1","v":45},{"$f":"+Sheet3!BZ25/Sheet3!$F$1","v":6},{"$f":"+Sheet3!CA25/Sheet3!$F$1","v":84},{"$f":"+Sheet3!CB25/Sheet3!$F$1","v":314},{"$f":"+Sheet3!CC25/Sheet3!$F$1","v":423},{"$f":"+Sheet3!CD25/Sheet3!$F$1","v":26},{"$f":"+Sheet3!CE25/Sheet3!$F$1","v":0},{"$f":"+Sheet3!CF25/Sheet3!$F$1","v":0},{"$f":"+Sheet3!CG25/Sheet3!$F$1","v":0},{"$f":"+Sheet3!CH25/Sheet3!$F$1","v":8},{"$f":"+Sheet3!CI25/Sheet3!$F$1","v":0},{"$f":"+Sheet3!CJ25/Sheet3!$F$1","v":0},{"$f":"+Sheet3!CK25/Sheet3!$F$1","v":0},{"$f":"+Sheet3!CL25/Sheet3!$F$1","v":0},{"$f":"+Sheet3!CM25/Sheet3!$F$1","v":0},{"$f":"+Sheet3!CN25/Sheet3!$F$1","v":0},{"$f":"+Sheet3!CO25/Sheet3!$F$1","v":0},{"$f":"+Sheet3!CP25/Sheet3!$F$1","v":21},{"$f":"+Sheet3!CQ25/Sheet3!$F$1","v":16},{"$f":"+Sheet3!CR25/Sheet3!$F$1","v":78},{"$f":"+Sheet3!CS25/Sheet3!$F$1","v":88},{"$f":"+Sheet3!CT25/Sheet3!$F$1","v":3},{"$f":"+Sheet3!CU25/Sheet3!$F$1","v":113},{"$f":"+Sheet3!CV25/Sheet3!$F$1","v":17},{"$f":"+Sheet3!CW25/Sheet3!$F$1","v":266},{"$f":"+Sheet3!CX25/Sheet3!$F$1","v":71},{"$f":"+Sheet3!CY25/Sheet3!$F$1","v":320},{"$f":"+Sheet3!CZ25/Sheet3!$F$1","v":17},{"$f":"+Sheet3!DA25/Sheet3!$F$1","v":202},{"$f":"+Sheet3!DB25/Sheet3!$F$1","v":359},{"$f":"+Sheet3!DC25/Sheet3!$F$1","v":622},{"$f":"+Sheet3!DD25/Sheet3!$F$1","v":186},{"$f":"+Sheet3!DE25/Sheet3!$F$1","v":848},{"$f":"+Sheet3!DF25/Sheet3!$F$1","v":10},{"$f":"+Sheet3!DG25/Sheet3!$F$1","v":0},{"$f":"+Sheet3!DH25/Sheet3!$F$1","v":510},{"$f":"+Sheet3!DI25/Sheet3!$F$1","v":990},{"$f":"+Sheet3!DJ25/Sheet3!$F$1","v":1401},{"$f":"+Sheet3!DK25/Sheet3!$F$1","v":316},{"$f":"+Sheet3!DL25/Sheet3!$F$1","v":21},3238]
[null,"184","Baixo Alentejo",{"$f":"+Sheet3!D26/Sheet3!$F$1","v":21},{"$f":"+Sheet3!E26/Sheet3!$F$1","v":4},{"$f":"+Sheet3!F26/Sheet3!$F$1","v":4},{"$f":"+Sheet3!G26/Sheet3!$F$1","v":0},{"$f":"+Sheet3!H26/Sheet3!$F$1","v":0},{"$f":"+Sheet3!I26/Sheet3!$F$1","v":5},{"$f":"+Sheet3!J26/Sheet3!$F$1","v":14},{"$f":"+Sheet3!K26/Sheet3!$F$1","v":38},{"$f":"+Sheet3!L26/Sheet3!$F$1","v":13},{"$f":"+Sheet3!M26/Sheet3!$F$1","v":0},{"$f":"+Sheet3!N26/Sheet3!$F$1","v":144},{"$f":"+Sheet3!O26/Sheet3!$F$1","v":245},{"$f":"+Sheet3!P26/Sheet3!$F$1","v":206},{"$f":"+Sheet3!Q26/Sheet3!$F$1","v":42},{"$f":"+Sheet3!R26/Sheet3!$F$1","v":0},{"$f":"+Sheet3!S26/Sheet3!$F$1","v":0},{"$f":"+Sheet3!T26/Sheet3!$F$1","v":0},{"$f":"+Sheet3!U26/Sheet3!$F$1","v":0},{"$f":"+Sheet3!V26/Sheet3!$F$1","v":0},{"$f":"+Sheet3!W26/Sheet3!$F$1","v":0},{"$f":"+Sheet3!X26/Sheet3!$F$1","v":7},{"$f":"+Sheet3!Y26/Sheet3!$F$1","v":24},{"$f":"+Sheet3!Z26/Sheet3!$F$1","v":40},{"$f":"+Sheet3!AA26/Sheet3!$F$1","v":4},{"$f":"+Sheet3!AB26/Sheet3!$F$1","v":0},{"$f":"+Sheet3!AC26/Sheet3!$F$1","v":48},{"$f":"+Sheet3!AD26/Sheet3!$F$1","v":31},{"$f":"+Sheet3!AE26/Sheet3!$F$1","v":20},{"$f":"+Sheet3!AF26/Sheet3!$F$1","v":3},{"$f":"+Sheet3!AG26/Sheet3!$F$1","v":0},{"$f":"+Sheet3!AH26/Sheet3!$F$1","v":97},{"$f":"+Sheet3!AI26/Sheet3!$F$1","v":98},{"$f":"+Sheet3!AJ26/Sheet3!$F$1","v":46},{"$f":"+Sheet3!AK26/Sheet3!$F$1","v":4},{"$f":"+Sheet3!AL26/Sheet3!$F$1","v":0},{"$f":"+Sheet3!AM26/Sheet3!$F$1","v":48},{"$f":"+Sheet3!AN26/Sheet3!$F$1","v":87},{"$f":"+Sheet3!AO26/Sheet3!$F$1","v":238},{"$f":"+Sheet3!AP26/Sheet3!$F$1","v":34},{"$f":"+Sheet3!AQ26/Sheet3!$F$1","v":0},{"$f":"+Sheet3!AR26/Sheet3!$F$1","v":802},{"$f":"+Sheet3!AS26/Sheet3!$F$1","v":563},{"$f":"+Sheet3!AT26/Sheet3!$F$1","v":450},{"$f":"+Sheet3!AU26/Sheet3!$F$1","v":75},{"$f":"+Sheet3!AV26/Sheet3!$F$1","v":5},{"$f":"+Sheet3!AW26/Sheet3!$F$1","v":328},{"$f":"+Sheet3!AX26/Sheet3!$F$1","v":401},{"$f":"+Sheet3!AY26/Sheet3!$F$1","v":252},{"$f":"+Sheet3!AZ26/Sheet3!$F$1","v":60},{"$f":"+Sheet3!BA26/Sheet3!$F$1","v":5},{"$f":"+Sheet3!BB26/Sheet3!$F$1","v":0},{"$f":"+Sheet3!BC26/Sheet3!$F$1","v":0},{"$f":"+Sheet3!BD26/Sheet3!$F$1","v":0},{"$f":"+Sheet3!BE26/Sheet3!$F$1","v":0},{"$f":"+Sheet3!BF26/Sheet3!$F$1","v":0},{"$f":"+Sheet3!BG26/Sheet3!$F$1","v":35},{"$f":"+Sheet3!BH26/Sheet3!$F$1","v":36},{"$f":"+Sheet3!BI26/Sheet3!$F$1","v":82},{"$f":"+Sheet3!BJ26/Sheet3!$F$1","v":32},{"$f":"+Sheet3!BK26/Sheet3!$F$1","v":0},{"$f":"+Sheet3!BL26/Sheet3!$F$1","v":0},{"$f":"+Sheet3!BM26/Sheet3!$F$1","v":13},{"$f":"+Sheet3!BN26/Sheet3!$F$1","v":226},{"$f":"+Sheet3!BO26/Sheet3!$F$1","v":220},{"$f":"+Sheet3!BP26/Sheet3!$F$1","v":12},{"$f":"+Sheet3!BQ26/Sheet3!$F$1","v":421},{"$f":"+Sheet3!BR26/Sheet3!$F$1","v":402},{"$f":"+Sheet3!BS26/Sheet3!$F$1","v":536},{"$f":"+Sheet3!BT26/Sheet3!$F$1","v":152},{"$f":"+Sheet3!BU26/Sheet3!$F$1","v":3},{"$f":"+Sheet3!BV26/Sheet3!$F$1","v":50},{"$f":"+Sheet3!BW26/Sheet3!$F$1","v":119},{"$f":"+Sheet3!BX26/Sheet3!$F$1","v":168},{"$f":"+Sheet3!BY26/Sheet3!$F$1","v":125},{"$f":"+Sheet3!BZ26/Sheet3!$F$1","v":11},{"$f":"+Sheet3!CA26/Sheet3!$F$1","v":161},{"$f":"+Sheet3!CB26/Sheet3!$F$1","v":371},{"$f":"+Sheet3!CC26/Sheet3!$F$1","v":521},{"$f":"+Sheet3!CD26/Sheet3!$F$1","v":42},{"$f":"+Sheet3!CE26/Sheet3!$F$1","v":0},{"$f":"+Sheet3!CF26/Sheet3!$F$1","v":0},{"$f":"+Sheet3!CG26/Sheet3!$F$1","v":0},{"$f":"+Sheet3!CH26/Sheet3!$F$1","v":5},{"$f":"+Sheet3!CI26/Sheet3!$F$1","v":0},{"$f":"+Sheet3!CJ26/Sheet3!$F$1","v":0},{"$f":"+Sheet3!CK26/Sheet3!$F$1","v":0},{"$f":"+Sheet3!CL26/Sheet3!$F$1","v":0},{"$f":"+Sheet3!CM26/Sheet3!$F$1","v":0},{"$f":"+Sheet3!CN26/Sheet3!$F$1","v":0},{"$f":"+Sheet3!CO26/Sheet3!$F$1","v":0},{"$f":"+Sheet3!CP26/Sheet3!$F$1","v":30},{"$f":"+Sheet3!CQ26/Sheet3!$F$1","v":72},{"$f":"+Sheet3!CR26/Sheet3!$F$1","v":638},{"$f":"+Sheet3!CS26/Sheet3!$F$1","v":0},{"$f":"+Sheet3!CT26/Sheet3!$F$1","v":79},{"$f":"+Sheet3!CU26/Sheet3!$F$1","v":102},{"$f":"+Sheet3!CV26/Sheet3!$F$1","v":249},{"$f":"+Sheet3!CW26/Sheet3!$F$1","v":413},{"$f":"+Sheet3!CX26/Sheet3!$F$1","v":1897},{"$f":"+Sheet3!CY26/Sheet3!$F$1","v":1049},{"$f":"+Sheet3!CZ26/Sheet3!$F$1","v":5},{"$f":"+Sheet3!DA26/Sheet3!$F$1","v":188},{"$f":"+Sheet3!DB26/Sheet3!$F$1","v":474},{"$f":"+Sheet3!DC26/Sheet3!$F$1","v":1517},{"$f":"+Sheet3!DD26/Sheet3!$F$1","v":477},{"$f":"+Sheet3!DE26/Sheet3!$F$1","v":1097},{"$f":"+Sheet3!DF26/Sheet3!$F$1","v":9},{"$f":"+Sheet3!DG26/Sheet3!$F$1","v":0},{"$f":"+Sheet3!DH26/Sheet3!$F$1","v":2177},{"$f":"+Sheet3!DI26/Sheet3!$F$1","v":2420},{"$f":"+Sheet3!DJ26/Sheet3!$F$1","v":2845},{"$f":"+Sheet3!DK26/Sheet3!$F$1","v":817},{"$f":"+Sheet3!DL26/Sheet3!$F$1","v":39},8298]
[null,"185","Lezíria do Tejo",{"$f":"+Sheet3!D27/Sheet3!$F$1","v":13},{"$f":"+Sheet3!E27/Sheet3!$F$1","v":8},{"$f":"+Sheet3!F27/Sheet3!$F$1","v":11},{"$f":"+Sheet3!G27/Sheet3!$F$1","v":3},{"$f":"+Sheet3!H27/Sheet3!$F$1","v":0},{"$f":"+Sheet3!I27/Sheet3!$F$1","v":58},{"$f":"+Sheet3!J27/Sheet3!$F$1","v":89},{"$f":"+Sheet3!K27/Sheet3!$F$1","v":162},{"$f":"+Sheet3!L27/Sheet3!$F$1","v":19},{"$f":"+Sheet3!M27/Sheet3!$F$1","v":0},{"$f":"+Sheet3!N27/Sheet3!$F$1","v":34},{"$f":"+Sheet3!O27/Sheet3!$F$1","v":57},{"$f":"+Sheet3!P27/Sheet3!$F$1","v":48},{"$f":"+Sheet3!Q27/Sheet3!$F$1","v":6},{"$f":"+Sheet3!R27/Sheet3!$F$1","v":0},{"$f":"+Sheet3!S27/Sheet3!$F$1","v":0},{"$f":"+Sheet3!T27/Sheet3!$F$1","v":24},{"$f":"+Sheet3!U27/Sheet3!$F$1","v":85},{"$f":"+Sheet3!V27/Sheet3!$F$1","v":9},{"$f":"+Sheet3!W27/Sheet3!$F$1","v":0},{"$f":"+Sheet3!X27/Sheet3!$F$1","v":3},{"$f":"+Sheet3!Y27/Sheet3!$F$1","v":14},{"$f":"+Sheet3!Z27/Sheet3!$F$1","v":5},{"$f":"+Sheet3!AA27/Sheet3!$F$1","v":0},{"$f":"+Sheet3!AB27/Sheet3!$F$1","v":0},{"$f":"+Sheet3!AC27/Sheet3!$F$1","v":42},{"$f":"+Sheet3!AD27/Sheet3!$F$1","v":29},{"$f":"+Sheet3!AE27/Sheet3!$F$1","v":17},{"$f":"+Sheet3!AF27/Sheet3!$F$1","v":0},{"$f":"+Sheet3!AG27/Sheet3!$F$1","v":0},{"$f":"+Sheet3!AH27/Sheet3!$F$1","v":34},{"$f":"+Sheet3!AI27/Sheet3!$F$1","v":77},{"$f":"+Sheet3!AJ27/Sheet3!$F$1","v":26},{"$f":"+Sheet3!AK27/Sheet3!$F$1","v":0},{"$f":"+Sheet3!AL27/Sheet3!$F$1","v":0},{"$f":"+Sheet3!AM27/Sheet3!$F$1","v":57},{"$f":"+Sheet3!AN27/Sheet3!$F$1","v":49},{"$f":"+Sheet3!AO27/Sheet3!$F$1","v":56},{"$f":"+Sheet3!AP27/Sheet3!$F$1","v":12},{"$f":"+Sheet3!AQ27/Sheet3!$F$1","v":0},{"$f":"+Sheet3!AR27/Sheet3!$F$1","v":127},{"$f":"+Sheet3!AS27/Sheet3!$F$1","v":31},{"$f":"+Sheet3!AT27/Sheet3!$F$1","v":16},{"$f":"+Sheet3!AU27/Sheet3!$F$1","v":0},{"$f":"+Sheet3!AV27/Sheet3!$F$1","v":0},{"$f":"+Sheet3!AW27/Sheet3!$F$1","v":248},{"$f":"+Sheet3!AX27/Sheet3!$F$1","v":188},{"$f":"+Sheet3!AY27/Sheet3!$F$1","v":111},{"$f":"+Sheet3!AZ27/Sheet3!$F$1","v":34},{"$f":"+Sheet3!BA27/Sheet3!$F$1","v":6},{"$f":"+Sheet3!BB27/Sheet3!$F$1","v":7},{"$f":"+Sheet3!BC27/Sheet3!$F$1","v":4},{"$f":"+Sheet3!BD27/Sheet3!$F$1","v":5},{"$f":"+Sheet3!BE27/Sheet3!$F$1","v":5},{"$f":"+Sheet3!BF27/Sheet3!$F$1","v":0},{"$f":"+Sheet3!BG27/Sheet3!$F$1","v":59},{"$f":"+Sheet3!BH27/Sheet3!$F$1","v":36},{"$f":"+Sheet3!BI27/Sheet3!$F$1","v":24},{"$f":"+Sheet3!BJ27/Sheet3!$F$1","v":8},{"$f":"+Sheet3!BK27/Sheet3!$F$1","v":0},{"$f":"+Sheet3!BL27/Sheet3!$F$1","v":0},{"$f":"+Sheet3!BM27/Sheet3!$F$1","v":5},{"$f":"+Sheet3!BN27/Sheet3!$F$1","v":23},{"$f":"+Sheet3!BO27/Sheet3!$F$1","v":25},{"$f":"+Sheet3!BP27/Sheet3!$F$1","v":0},{"$f":"+Sheet3!BQ27/Sheet3!$F$1","v":170},{"$f":"+Sheet3!BR27/Sheet3!$F$1","v":58},{"$f":"+Sheet3!BS27/Sheet3!$F$1","v":38},{"$f":"+Sheet3!BT27/Sheet3!$F$1","v":4},{"$f":"+Sheet3!BU27/Sheet3!$F$1","v":0},{"$f":"+Sheet3!BV27/Sheet3!$F$1","v":28},{"$f":"+Sheet3!BW27/Sheet3!$F$1","v":31},{"$f":"+Sheet3!BX27/Sheet3!$F$1","v":26},{"$f":"+Sheet3!BY27/Sheet3!$F$1","v":26},{"$f":"+Sheet3!BZ27/Sheet3!$F$1","v":10},{"$f":"+Sheet3!CA27/Sheet3!$F$1","v":174},{"$f":"+Sheet3!CB27/Sheet3!$F$1","v":184},{"$f":"+Sheet3!CC27/Sheet3!$F$1","v":123},{"$f":"+Sheet3!CD27/Sheet3!$F$1","v":14},{"$f":"+Sheet3!CE27/Sheet3!$F$1","v":0},{"$f":"+Sheet3!CF27/Sheet3!$F$1","v":0},{"$f":"+Sheet3!CG27/Sheet3!$F$1","v":43},{"$f":"+Sheet3!CH27/Sheet3!$F$1","v":99},{"$f":"+Sheet3!CI27/Sheet3!$F$1","v":17},{"$f":"+Sheet3!CJ27/Sheet3!$F$1","v":0},{"$f":"+Sheet3!CK27/Sheet3!$F$1","v":0},{"$f":"+Sheet3!CL27/Sheet3!$F$1","v":5},{"$f":"+Sheet3!CM27/Sheet3!$F$1","v":4},{"$f":"+Sheet3!CN27/Sheet3!$F$1","v":0},{"$f":"+Sheet3!CO27/Sheet3!$F$1","v":0},{"$f":"+Sheet3!CP27/Sheet3!$F$1","v":41},{"$f":"+Sheet3!CQ27/Sheet3!$F$1","v":334},{"$f":"+Sheet3!CR27/Sheet3!$F$1","v":151},{"$f":"+Sheet3!CS27/Sheet3!$F$1","v":122},{"$f":"+Sheet3!CT27/Sheet3!$F$1","v":26},{"$f":"+Sheet3!CU27/Sheet3!$F$1","v":93},{"$f":"+Sheet3!CV27/Sheet3!$F$1","v":140},{"$f":"+Sheet3!CW27/Sheet3!$F$1","v":180},{"$f":"+Sheet3!CX27/Sheet3!$F$1","v":177},{"$f":"+Sheet3!CY27/Sheet3!$F$1","v":589},{"$f":"+Sheet3!CZ27/Sheet3!$F$1","v":21},{"$f":"+Sheet3!DA27/Sheet3!$F$1","v":129},{"$f":"+Sheet3!DB27/Sheet3!$F$1","v":61},{"$f":"+Sheet3!DC27/Sheet3!$F$1","v":278},{"$f":"+Sheet3!DD27/Sheet3!$F$1","v":126},{"$f":"+Sheet3!DE27/Sheet3!$F$1","v":495},{"$f":"+Sheet3!DF27/Sheet3!$F$1","v":160},{"$f":"+Sheet3!DG27/Sheet3!$F$1","v":13},{"$f":"+Sheet3!DH27/Sheet3!$F$1","v":1078},{"$f":"+Sheet3!DI27/Sheet3!$F$1","v":953},{"$f":"+Sheet3!DJ27/Sheet3!$F$1","v":895},{"$f":"+Sheet3!DK27/Sheet3!$F$1","v":187},{"$f":"+Sheet3!DL27/Sheet3!$F$1","v":23},3136]
[null,"186","Alto Alentejo",{"$f":"+Sheet3!D28/Sheet3!$F$1","v":3},{"$f":"+Sheet3!E28/Sheet3!$F$1","v":0},{"$f":"+Sheet3!F28/Sheet3!$F$1","v":3},{"$f":"+Sheet3!G28/Sheet3!$F$1","v":0},{"$f":"+Sheet3!H28/Sheet3!$F$1","v":0},{"$f":"+Sheet3!I28/Sheet3!$F$1","v":0},{"$f":"+Sheet3!J28/Sheet3!$F$1","v":7},{"$f":"+Sheet3!K28/Sheet3!$F$1","v":19},{"$f":"+Sheet3!L28/Sheet3!$F$1","v":0},{"$f":"+Sheet3!M28/Sheet3!$F$1","v":0},{"$f":"+Sheet3!N28/Sheet3!$F$1","v":18},{"$f":"+Sheet3!O28/Sheet3!$F$1","v":36},{"$f":"+Sheet3!P28/Sheet3!$F$1","v":27},{"$f":"+Sheet3!Q28/Sheet3!$F$1","v":8},{"$f":"+Sheet3!R28/Sheet3!$F$1","v":0},{"$f":"+Sheet3!S28/Sheet3!$F$1","v":0},{"$f":"+Sheet3!T28/Sheet3!$F$1","v":0},{"$f":"+Sheet3!U28/Sheet3!$F$1","v":3},{"$f":"+Sheet3!V28/Sheet3!$F$1","v":0},{"$f":"+Sheet3!W28/Sheet3!$F$1","v":0},{"$f":"+Sheet3!X28/Sheet3!$F$1","v":0},{"$f":"+Sheet3!Y28/Sheet3!$F$1","v":0},{"$f":"+Sheet3!Z28/Sheet3!$F$1","v":8},{"$f":"+Sheet3!AA28/Sheet3!$F$1","v":0},{"$f":"+Sheet3!AB28/Sheet3!$F$1","v":0},{"$f":"+Sheet3!AC28/Sheet3!$F$1","v":70},{"$f":"+Sheet3!AD28/Sheet3!$F$1","v":24},{"$f":"+Sheet3!AE28/Sheet3!$F$1","v":32},{"$f":"+Sheet3!AF28/Sheet3!$F$1","v":16},{"$f":"+Sheet3!AG28/Sheet3!$F$1","v":0},{"$f":"+Sheet3!AH28/Sheet3!$F$1","v":29},{"$f":"+Sheet3!AI28/Sheet3!$F$1","v":27},{"$f":"+Sheet3!AJ28/Sheet3!$F$1","v":23},{"$f":"+Sheet3!AK28/Sheet3!$F$1","v":0},{"$f":"+Sheet3!AL28/Sheet3!$F$1","v":0},{"$f":"+Sheet3!AM28/Sheet3!$F$1","v":50},{"$f":"+Sheet3!AN28/Sheet3!$F$1","v":51},{"$f":"+Sheet3!AO28/Sheet3!$F$1","v":42},{"$f":"+Sheet3!AP28/Sheet3!$F$1","v":6},{"$f":"+Sheet3!AQ28/Sheet3!$F$1","v":0},{"$f":"+Sheet3!AR28/Sheet3!$F$1","v":819},{"$f":"+Sheet3!AS28/Sheet3!$F$1","v":328},{"$f":"+Sheet3!AT28/Sheet3!$F$1","v":118},{"$f":"+Sheet3!AU28/Sheet3!$F$1","v":17},{"$f":"+Sheet3!AV28/Sheet3!$F$1","v":0},{"$f":"+Sheet3!AW28/Sheet3!$F$1","v":420},{"$f":"+Sheet3!AX28/Sheet3!$F$1","v":271},{"$f":"+Sheet3!AY28/Sheet3!$F$1","v":124},{"$f":"+Sheet3!AZ28/Sheet3!$F$1","v":26},{"$f":"+Sheet3!BA28/Sheet3!$F$1","v":0},{"$f":"+Sheet3!BB28/Sheet3!$F$1","v":0},{"$f":"+Sheet3!BC28/Sheet3!$F$1","v":0},{"$f":"+Sheet3!BD28/Sheet3!$F$1","v":9},{"$f":"+Sheet3!BE28/Sheet3!$F$1","v":3},{"$f":"+Sheet3!BF28/Sheet3!$F$1","v":0},{"$f":"+Sheet3!BG28/Sheet3!$F$1","v":11},{"$f":"+Sheet3!BH28/Sheet3!$F$1","v":55},{"$f":"+Sheet3!BI28/Sheet3!$F$1","v":91},{"$f":"+Sheet3!BJ28/Sheet3!$F$1","v":30},{"$f":"+Sheet3!BK28/Sheet3!$F$1","v":0},{"$f":"+Sheet3!BL28/Sheet3!$F$1","v":0},{"$f":"+Sheet3!BM28/Sheet3!$F$1","v":23},{"$f":"+Sheet3!BN28/Sheet3!$F$1","v":299},{"$f":"+Sheet3!BO28/Sheet3!$F$1","v":272},{"$f":"+Sheet3!BP28/Sheet3!$F$1","v":21},{"$f":"+Sheet3!BQ28/Sheet3!$F$1","v":465},{"$f":"+Sheet3!BR28/Sheet3!$F$1","v":457},{"$f":"+Sheet3!BS28/Sheet3!$F$1","v":297},{"$f":"+Sheet3!BT28/Sheet3!$F$1","v":76},{"$f":"+Sheet3!BU28/Sheet3!$F$1","v":3},{"$f":"+Sheet3!BV28/Sheet3!$F$1","v":117},{"$f":"+Sheet3!BW28/Sheet3!$F$1","v":131},{"$f":"+Sheet3!BX28/Sheet3!$F$1","v":100},{"$f":"+Sheet3!BY28/Sheet3!$F$1","v":61},{"$f":"+Sheet3!BZ28/Sheet3!$F$1","v":14},{"$f":"+Sheet3!CA28/Sheet3!$F$1","v":92},{"$f":"+Sheet3!CB28/Sheet3!$F$1","v":131},{"$f":"+Sheet3!CC28/Sheet3!$F$1","v":193},{"$f":"+Sheet3!CD28/Sheet3!$F$1","v":24},{"$f":"+Sheet3!CE28/Sheet3!$F$1","v":0},{"$f":"+Sheet3!CF28/Sheet3!$F$1","v":0},{"$f":"+Sheet3!CG28/Sheet3!$F$1","v":0},{"$f":"+Sheet3!CH28/Sheet3!$F$1","v":5},{"$f":"+Sheet3!CI28/Sheet3!$F$1","v":0},{"$f":"+Sheet3!CJ28/Sheet3!$F$1","v":0},{"$f":"+Sheet3!CK28/Sheet3!$F$1","v":0},{"$f":"+Sheet3!CL28/Sheet3!$F$1","v":0},{"$f":"+Sheet3!CM28/Sheet3!$F$1","v":0},{"$f":"+Sheet3!CN28/Sheet3!$F$1","v":0},{"$f":"+Sheet3!CO28/Sheet3!$F$1","v":0},{"$f":"+Sheet3!CP28/Sheet3!$F$1","v":8},{"$f":"+Sheet3!CQ28/Sheet3!$F$1","v":29},{"$f":"+Sheet3!CR28/Sheet3!$F$1","v":90},{"$f":"+Sheet3!CS28/Sheet3!$F$1","v":5},{"$f":"+Sheet3!CT28/Sheet3!$F$1","v":14},{"$f":"+Sheet3!CU28/Sheet3!$F$1","v":143},{"$f":"+Sheet3!CV28/Sheet3!$F$1","v":82},{"$f":"+Sheet3!CW28/Sheet3!$F$1","v":152},{"$f":"+Sheet3!CX28/Sheet3!$F$1","v":1288},{"$f":"+Sheet3!CY28/Sheet3!$F$1","v":844},{"$f":"+Sheet3!CZ28/Sheet3!$F$1","v":14},{"$f":"+Sheet3!DA28/Sheet3!$F$1","v":189},{"$f":"+Sheet3!DB28/Sheet3!$F$1","v":621},{"$f":"+Sheet3!DC28/Sheet3!$F$1","v":1299},{"$f":"+Sheet3!DD28/Sheet3!$F$1","v":425},{"$f":"+Sheet3!DE28/Sheet3!$F$1","v":443},{"$f":"+Sheet3!DF28/Sheet3!$F$1","v":7},{"$f":"+Sheet3!DG28/Sheet3!$F$1","v":0},{"$f":"+Sheet3!DH28/Sheet3!$F$1","v":2103},{"$f":"+Sheet3!DI28/Sheet3!$F$1","v":1558},{"$f":"+Sheet3!DJ28/Sheet3!$F$1","v":1405},{"$f":"+Sheet3!DK28/Sheet3!$F$1","v":546},{"$f":"+Sheet3!DL28/Sheet3!$F$1","v":43},5655]
[null,"187","Alentejo Central",{"$f":"+Sheet3!D29/Sheet3!$F$1","v":6},{"$f":"+Sheet3!E29/Sheet3!$F$1","v":6},{"$f":"+Sheet3!F29/Sheet3!$F$1","v":5},{"$f":"+Sheet3!G29/Sheet3!$F$1","v":5},{"$f":"+Sheet3!H29/Sheet3!$F$1","v":0},{"$f":"+Sheet3!I29/Sheet3!$F$1","v":12},{"$f":"+Sheet3!J29/Sheet3!$F$1","v":7},{"$f":"+Sheet3!K29/Sheet3!$F$1","v":4},{"$f":"+Sheet3!L29/Sheet3!$F$1","v":0},{"$f":"+Sheet3!M29/Sheet3!$F$1","v":0},{"$f":"+Sheet3!N29/Sheet3!$F$1","v":84},{"$f":"+Sheet3!O29/Sheet3!$F$1","v":108},{"$f":"+Sheet3!P29/Sheet3!$F$1","v":42},{"$f":"+Sheet3!Q29/Sheet3!$F$1","v":7},{"$f":"+Sheet3!R29/Sheet3!$F$1","v":0},{"$f":"+Sheet3!S29/Sheet3!$F$1","v":0},{"$f":"+Sheet3!T29/Sheet3!$F$1","v":0},{"$f":"+Sheet3!U29/Sheet3!$F$1","v":5},{"$f":"+Sheet3!V29/Sheet3!$F$1","v":0},{"$f":"+Sheet3!W29/Sheet3!$F$1","v":0},{"$f":"+Sheet3!X29/Sheet3!$F$1","v":0},{"$f":"+Sheet3!Y29/Sheet3!$F$1","v":6},{"$f":"+Sheet3!Z29/Sheet3!$F$1","v":9},{"$f":"+Sheet3!AA29/Sheet3!$F$1","v":0},{"$f":"+Sheet3!AB29/Sheet3!$F$1","v":0},{"$f":"+Sheet3!AC29/Sheet3!$F$1","v":56},{"$f":"+Sheet3!AD29/Sheet3!$F$1","v":18},{"$f":"+Sheet3!AE29/Sheet3!$F$1","v":38},{"$f":"+Sheet3!AF29/Sheet3!$F$1","v":20},{"$f":"+Sheet3!AG29/Sheet3!$F$1","v":0},{"$f":"+Sheet3!AH29/Sheet3!$F$1","v":144},{"$f":"+Sheet3!AI29/Sheet3!$F$1","v":296},{"$f":"+Sheet3!AJ29/Sheet3!$F$1","v":141},{"$f":"+Sheet3!AK29/Sheet3!$F$1","v":14},{"$f":"+Sheet3!AL29/Sheet3!$F$1","v":0},{"$f":"+Sheet3!AM29/Sheet3!$F$1","v":87},{"$f":"+Sheet3!AN29/Sheet3!$F$1","v":52},{"$f":"+Sheet3!AO29/Sheet3!$F$1","v":45},{"$f":"+Sheet3!AP29/Sheet3!$F$1","v":15},{"$f":"+Sheet3!AQ29/Sheet3!$F$1","v":0},{"$f":"+Sheet3!AR29/Sheet3!$F$1","v":644},{"$f":"+Sheet3!AS29/Sheet3!$F$1","v":192},{"$f":"+Sheet3!AT29/Sheet3!$F$1","v":65},{"$f":"+Sheet3!AU29/Sheet3!$F$1","v":15},{"$f":"+Sheet3!AV29/Sheet3!$F$1","v":0},{"$f":"+Sheet3!AW29/Sheet3!$F$1","v":317},{"$f":"+Sheet3!AX29/Sheet3!$F$1","v":283},{"$f":"+Sheet3!AY29/Sheet3!$F$1","v":130},{"$f":"+Sheet3!AZ29/Sheet3!$F$1","v":37},{"$f":"+Sheet3!BA29/Sheet3!$F$1","v":0},{"$f":"+Sheet3!BB29/Sheet3!$F$1","v":0},{"$f":"+Sheet3!BC29/Sheet3!$F$1","v":5},{"$f":"+Sheet3!BD29/Sheet3!$F$1","v":15},{"$f":"+Sheet3!BE29/Sheet3!$F$1","v":4},{"$f":"+Sheet3!BF29/Sheet3!$F$1","v":0},{"$f":"+Sheet3!BG29/Sheet3!$F$1","v":63},{"$f":"+Sheet3!BH29/Sheet3!$F$1","v":32},{"$f":"+Sheet3!BI29/Sheet3!$F$1","v":105},{"$f":"+Sheet3!BJ29/Sheet3!$F$1","v":38},{"$f":"+Sheet3!BK29/Sheet3!$F$1","v":0},{"$f":"+Sheet3!BL29/Sheet3!$F$1","v":0},{"$f":"+Sheet3!BM29/Sheet3!$F$1","v":16},{"$f":"+Sheet3!BN29/Sheet3!$F$1","v":239},{"$f":"+Sheet3!BO29/Sheet3!$F$1","v":386},{"$f":"+Sheet3!BP29/Sheet3!$F$1","v":31},{"$f":"+Sheet3!BQ29/Sheet3!$F$1","v":600},{"$f":"+Sheet3!BR29/Sheet3!$F$1","v":387},{"$f":"+Sheet3!BS29/Sheet3!$F$1","v":287},{"$f":"+Sheet3!BT29/Sheet3!$F$1","v":78},{"$f":"+Sheet3!BU29/Sheet3!$F$1","v":7},{"$f":"+Sheet3!BV29/Sheet3!$F$1","v":111},{"$f":"+Sheet3!BW29/Sheet3!$F$1","v":141},{"$f":"+Sheet3!BX29/Sheet3!$F$1","v":113},{"$f":"+Sheet3!BY29/Sheet3!$F$1","v":97},{"$f":"+Sheet3!BZ29/Sheet3!$F$1","v":14},{"$f":"+Sheet3!CA29/Sheet3!$F$1","v":148},{"$f":"+Sheet3!CB29/Sheet3!$F$1","v":220},{"$f":"+Sheet3!CC29/Sheet3!$F$1","v":330},{"$f":"+Sheet3!CD29/Sheet3!$F$1","v":53},{"$f":"+Sheet3!CE29/Sheet3!$F$1","v":0},{"$f":"+Sheet3!CF29/Sheet3!$F$1","v":0},{"$f":"+Sheet3!CG29/Sheet3!$F$1","v":0},{"$f":"+Sheet3!CH29/Sheet3!$F$1","v":7},{"$f":"+Sheet3!CI29/Sheet3!$F$1","v":0},{"$f":"+Sheet3!CJ29/Sheet3!$F$1","v":0},{"$f":"+Sheet3!CK29/Sheet3!$F$1","v":0},{"$f":"+Sheet3!CL29/Sheet3!$F$1","v":0},{"$f":"+Sheet3!CM29/Sheet3!$F$1","v":0},{"$f":"+Sheet3!CN29/Sheet3!$F$1","v":0},{"$f":"+Sheet3!CO29/Sheet3!$F$1","v":0},{"$f":"+Sheet3!CP29/Sheet3!$F$1","v":24},{"$f":"+Sheet3!CQ29/Sheet3!$F$1","v":24},{"$f":"+Sheet3!CR29/Sheet3!$F$1","v":243},{"$f":"+Sheet3!CS29/Sheet3!$F$1","v":6},{"$f":"+Sheet3!CT29/Sheet3!$F$1","v":18},{"$f":"+Sheet3!CU29/Sheet3!$F$1","v":140},{"$f":"+Sheet3!CV29/Sheet3!$F$1","v":598},{"$f":"+Sheet3!CW29/Sheet3!$F$1","v":201},{"$f":"+Sheet3!CX29/Sheet3!$F$1","v":918},{"$f":"+Sheet3!CY29/Sheet3!$F$1","v":772},{"$f":"+Sheet3!CZ29/Sheet3!$F$1","v":25},{"$f":"+Sheet3!DA29/Sheet3!$F$1","v":246},{"$f":"+Sheet3!DB29/Sheet3!$F$1","v":677},{"$f":"+Sheet3!DC29/Sheet3!$F$1","v":1361},{"$f":"+Sheet3!DD29/Sheet3!$F$1","v":478},{"$f":"+Sheet3!DE29/Sheet3!$F$1","v":755},{"$f":"+Sheet3!DF29/Sheet3!$F$1","v":7},{"$f":"+Sheet3!DG29/Sheet3!$F$1","v":0},{"$f":"+Sheet3!DH29/Sheet3!$F$1","v":2285},{"$f":"+Sheet3!DI29/Sheet3!$F$1","v":1777},{"$f":"+Sheet3!DJ29/Sheet3!$F$1","v":1592},{"$f":"+Sheet3!DK29/Sheet3!$F$1","v":780},{"$f":"+Sheet3!DL29/Sheet3!$F$1","v":59},6493]
["Algarve","150","Algarve",{"$f":"+Sheet3!D30/Sheet3!$F$1","v":6},{"$f":"+Sheet3!E30/Sheet3!$F$1","v":0},{"$f":"+Sheet3!F30/Sheet3!$F$1","v":0},{"$f":"+Sheet3!G30/Sheet3!$F$1","v":0},{"$f":"+Sheet3!H30/Sheet3!$F$1","v":0},{"$f":"+Sheet3!I30/Sheet3!$F$1","v":0},{"$f":"+Sheet3!J30/Sheet3!$F$1","v":0},{"$f":"+Sheet3!K30/Sheet3!$F$1","v":0},{"$f":"+Sheet3!L30/Sheet3!$F$1","v":0},{"$f":"+Sheet3!M30/Sheet3!$F$1","v":0},{"$f":"+Sheet3!N30/Sheet3!$F$1","v":29},{"$f":"+Sheet3!O30/Sheet3!$F$1","v":27},{"$f":"+Sheet3!P30/Sheet3!$F$1","v":12},{"$f":"+Sheet3!Q30/Sheet3!$F$1","v":0},{"$f":"+Sheet3!R30/Sheet3!$F$1","v":0},{"$f":"+Sheet3!S30/Sheet3!$F$1","v":0},{"$f":"+Sheet3!T30/Sheet3!$F$1","v":0},{"$f":"+Sheet3!U30/Sheet3!$F$1","v":0},{"$f":"+Sheet3!V30/Sheet3!$F$1","v":0},{"$f":"+Sheet3!W30/Sheet3!$F$1","v":0},{"$f":"+Sheet3!X30/Sheet3!$F$1","v":0},{"$f":"+Sheet3!Y30/Sheet3!$F$1","v":0},{"$f":"+Sheet3!Z30/Sheet3!$F$1","v":0},{"$f":"+Sheet3!AA30/Sheet3!$F$1","v":0},{"$f":"+Sheet3!AB30/Sheet3!$F$1","v":0},{"$f":"+Sheet3!AC30/Sheet3!$F$1","v":165},{"$f":"+Sheet3!AD30/Sheet3!$F$1","v":92},{"$f":"+Sheet3!AE30/Sheet3!$F$1","v":4},{"$f":"+Sheet3!AF30/Sheet3!$F$1","v":0},{"$f":"+Sheet3!AG30/Sheet3!$F$1","v":0},{"$f":"+Sheet3!AH30/Sheet3!$F$1","v":0},{"$f":"+Sheet3!AI30/Sheet3!$F$1","v":0},{"$f":"+Sheet3!AJ30/Sheet3!$F$1","v":0},{"$f":"+Sheet3!AK30/Sheet3!$F$1","v":0},{"$f":"+Sheet3!AL30/Sheet3!$F$1","v":0},{"$f":"+Sheet3!AM30/Sheet3!$F$1","v":370},{"$f":"+Sheet3!AN30/Sheet3!$F$1","v":726},{"$f":"+Sheet3!AO30/Sheet3!$F$1","v":205},{"$f":"+Sheet3!AP30/Sheet3!$F$1","v":3},{"$f":"+Sheet3!AQ30/Sheet3!$F$1","v":0},{"$f":"+Sheet3!AR30/Sheet3!$F$1","v":15},{"$f":"+Sheet3!AS30/Sheet3!$F$1","v":0},{"$f":"+Sheet3!AT30/Sheet3!$F$1","v":0},{"$f":"+Sheet3!AU30/Sheet3!$F$1","v":0},{"$f":"+Sheet3!AV30/Sheet3!$F$1","v":0},{"$f":"+Sheet3!AW30/Sheet3!$F$1","v":893},{"$f":"+Sheet3!AX30/Sheet3!$F$1","v":1071},{"$f":"+Sheet3!AY30/Sheet3!$F$1","v":120},{"$f":"+Sheet3!AZ30/Sheet3!$F$1","v":3},{"$f":"+Sheet3!BA30/Sheet3!$F$1","v":0},{"$f":"+Sheet3!BB30/Sheet3!$F$1","v":0},{"$f":"+Sheet3!BC30/Sheet3!$F$1","v":0},{"$f":"+Sheet3!BD30/Sheet3!$F$1","v":0},{"$f":"+Sheet3!BE30/Sheet3!$F$1","v":0},{"$f":"+Sheet3!BF30/Sheet3!$F$1","v":0},{"$f":"+Sheet3!BG30/Sheet3!$F$1","v":25},{"$f":"+Sheet3!BH30/Sheet3!$F$1","v":37},{"$f":"+Sheet3!BI30/Sheet3!$F$1","v":18},{"$f":"+Sheet3!BJ30/Sheet3!$F$1","v":0},{"$f":"+Sheet3!BK30/Sheet3!$F$1","v":0},{"$f":"+Sheet3!BL30/Sheet3!$F$1","v":4},{"$f":"+Sheet3!BM30/Sheet3!$F$1","v":10},{"$f":"+Sheet3!BN30/Sheet3!$F$1","v":28},{"$f":"+Sheet3!BO30/Sheet3!$F$1","v":0},{"$f":"+Sheet3!BP30/Sheet3!$F$1","v":0},{"$f":"+Sheet3!BQ30/Sheet3!$F$1","v":122},{"$f":"+Sheet3!BR30/Sheet3!$F$1","v":90},{"$f":"+Sheet3!BS30/Sheet3!$F$1","v":50},{"$f":"+Sheet3!BT30/Sheet3!$F$1","v":3},{"$f":"+Sheet3!BU30/Sheet3!$F$1","v":0},{"$f":"+Sheet3!BV30/Sheet3!$F$1","v":34},{"$f":"+Sheet3!BW30/Sheet3!$F$1","v":83},{"$f":"+Sheet3!BX30/Sheet3!$F$1","v":44},{"$f":"+Sheet3!BY30/Sheet3!$F$1","v":4},{"$f":"+Sheet3!BZ30/Sheet3!$F$1","v":0},{"$f":"+Sheet3!CA30/Sheet3!$F$1","v":71},{"$f":"+Sheet3!CB30/Sheet3!$F$1","v":102},{"$f":"+Sheet3!CC30/Sheet3!$F$1","v":34},{"$f":"+Sheet3!CD30/Sheet3!$F$1","v":0},{"$f":"+Sheet3!CE30/Sheet3!$F$1","v":0},{"$f":"+Sheet3!CF30/Sheet3!$F$1","v":0},{"$f":"+Sheet3!CG30/Sheet3!$F$1","v":0},{"$f":"+Sheet3!CH30/Sheet3!$F$1","v":0},{"$f":"+Sheet3!CI30/Sheet3!$F$1","v":0},{"$f":"+Sheet3!CJ30/Sheet3!$F$1","v":0},{"$f":"+Sheet3!CK30/Sheet3!$F$1","v":0},{"$f":"+Sheet3!CL30/Sheet3!$F$1","v":0},{"$f":"+Sheet3!CM30/Sheet3!$F$1","v":0},{"$f":"+Sheet3!CN30/Sheet3!$F$1","v":0},{"$f":"+Sheet3!CO30/Sheet3!$F$1","v":0},{"$f":"+Sheet3!CP30/Sheet3!$F$1","v":14},{"$f":"+Sheet3!CQ30/Sheet3!$F$1","v":3},{"$f":"+Sheet3!CR30/Sheet3!$F$1","v":71},{"$f":"+Sheet3!CS30/Sheet3!$F$1","v":0},{"$f":"+Sheet3!CT30/Sheet3!$F$1","v":7},{"$f":"+Sheet3!CU30/Sheet3!$F$1","v":266},{"$f":"+Sheet3!CV30/Sheet3!$F$1","v":8},{"$f":"+Sheet3!CW30/Sheet3!$F$1","v":1307},{"$f":"+Sheet3!CX30/Sheet3!$F$1","v":18},{"$f":"+Sheet3!CY30/Sheet3!$F$1","v":2088},{"$f":"+Sheet3!CZ30/Sheet3!$F$1","v":0},{"$f":"+Sheet3!DA30/Sheet3!$F$1","v":82},{"$f":"+Sheet3!DB30/Sheet3!$F$1","v":46},{"$f":"+Sheet3!DC30/Sheet3!$F$1","v":269},{"$f":"+Sheet3!DD30/Sheet3!$F$1","v":167},{"$f":"+Sheet3!DE30/Sheet3!$F$1","v":210},{"$f":"+Sheet3!DF30/Sheet3!$F$1","v":0},{"$f":"+Sheet3!DG30/Sheet3!$F$1","v":0},{"$f":"+Sheet3!DH30/Sheet3!$F$1","v":1747},{"$f":"+Sheet3!DI30/Sheet3!$F$1","v":2259},{"$f":"+Sheet3!DJ30/Sheet3!$F$1","v":535},{"$f":"+Sheet3!DK30/Sheet3!$F$1","v":17},{"$f":"+Sheet3!DL30/Sheet3!$F$1","v":0},4558]
["Continente",null,null,{"$f":"+Sheet3!D31/Sheet3!$F$1","v":275},{"$f":"+Sheet3!E31/Sheet3!$F$1","v":110},{"$f":"+Sheet3!F31/Sheet3!$F$1","v":54},{"$f":"+Sheet3!G31/Sheet3!$F$1","v":16},{"$f":"+Sheet3!H31/Sheet3!$F$1","v":1},{"$f":"+Sheet3!I31/Sheet3!$F$1","v":5805},{"$f":"+Sheet3!J31/Sheet3!$F$1","v":611},{"$f":"+Sheet3!K31/Sheet3!$F$1","v":349},{"$f":"+Sheet3!L31/Sheet3!$F$1","v":38},{"$f":"+Sheet3!M31/Sheet3!$F$1","v":1},{"$f":"+Sheet3!N31/Sheet3!$F$1","v":3831},{"$f":"+Sheet3!O31/Sheet3!$F$1","v":1520},{"$f":"+Sheet3!P31/Sheet3!$F$1","v":531},{"$f":"+Sheet3!Q31/Sheet3!$F$1","v":75},{"$f":"+Sheet3!R31/Sheet3!$F$1","v":2},{"$f":"+Sheet3!S31/Sheet3!$F$1","v":154},{"$f":"+Sheet3!T31/Sheet3!$F$1","v":201},{"$f":"+Sheet3!U31/Sheet3!$F$1","v":238},{"$f":"+Sheet3!V31/Sheet3!$F$1","v":18},{"$f":"+Sheet3!W31/Sheet3!$F$1","v":0},{"$f":"+Sheet3!X31/Sheet3!$F$1","v":40},{"$f":"+Sheet3!Y31/Sheet3!$F$1","v":67},{"$f":"+Sheet3!Z31/Sheet3!$F$1","v":69},{"$f":"+Sheet3!AA31/Sheet3!$F$1","v":7},{"$f":"+Sheet3!AB31/Sheet3!$F$1","v":0},{"$f":"+Sheet3!AC31/Sheet3!$F$1","v":11761},{"$f":"+Sheet3!AD31/Sheet3!$F$1","v":2575},{"$f":"+Sheet3!AE31/Sheet3!$F$1","v":309},{"$f":"+Sheet3!AF31/Sheet3!$F$1","v":46},{"$f":"+Sheet3!AG31/Sheet3!$F$1","v":0},{"$f":"+Sheet3!AH31/Sheet3!$F$1","v":6475},{"$f":"+Sheet3!AI31/Sheet3!$F$1","v":3300},{"$f":"+Sheet3!AJ31/Sheet3!$F$1","v":720},{"$f":"+Sheet3!AK31/Sheet3!$F$1","v":37},{"$f":"+Sheet3!AL31/Sheet3!$F$1","v":1},{"$f":"+Sheet3!AM31/Sheet3!$F$1","v":6828},{"$f":"+Sheet3!AN31/Sheet3!$F$1","v":4487},{"$f":"+Sheet3!AO31/Sheet3!$F$1","v":1173},{"$f":"+Sheet3!AP31/Sheet3!$F$1","v":105},{"$f":"+Sheet3!AQ31/Sheet3!$F$1","v":4},{"$f":"+Sheet3!AR31/Sheet3!$F$1","v":6802},{"$f":"+Sheet3!AS31/Sheet3!$F$1","v":1860},{"$f":"+Sheet3!AT31/Sheet3!$F$1","v":811},{"$f":"+Sheet3!AU31/Sheet3!$F$1","v":117},{"$f":"+Sheet3!AV31/Sheet3!$F$1","v":8},{"$f":"+Sheet3!AW31/Sheet3!$F$1","v":38312},{"$f":"+Sheet3!AX31/Sheet3!$F$1","v":12972},{"$f":"+Sheet3!AY31/Sheet3!$F$1","v":1783},{"$f":"+Sheet3!AZ31/Sheet3!$F$1","v":201},{"$f":"+Sheet3!BA31/Sheet3!$F$1","v":18},{"$f":"+Sheet3!BB31/Sheet3!$F$1","v":581},{"$f":"+Sheet3!BC31/Sheet3!$F$1","v":1349},{"$f":"+Sheet3!BD31/Sheet3!$F$1","v":209},{"$f":"+Sheet3!BE31/Sheet3!$F$1","v":21},{"$f":"+Sheet3!BF31/Sheet3!$F$1","v":0},{"$f":"+Sheet3!BG31/Sheet3!$F$1","v":3161},{"$f":"+Sheet3!BH31/Sheet3!$F$1","v":1524},{"$f":"+Sheet3!BI31/Sheet3!$F$1","v":779},{"$f":"+Sheet3!BJ31/Sheet3!$F$1","v":133},{"$f":"+Sheet3!BK31/Sheet3!$F$1","v":2},{"$f":"+Sheet3!BL31/Sheet3!$F$1","v":1292},{"$f":"+Sheet3!BM31/Sheet3!$F$1","v":2533},{"$f":"+Sheet3!BN31/Sheet3!$F$1","v":2111},{"$f":"+Sheet3!BO31/Sheet3!$F$1","v":1114},{"$f":"+Sheet3!BP31/Sheet3!$F$1","v":85},{"$f":"+Sheet3!BQ31/Sheet3!$F$1","v":8349},{"$f":"+Sheet3!BR31/Sheet3!$F$1","v":5885},{"$f":"+Sheet3!BS31/Sheet3!$F$1","v":2709},{"$f":"+Sheet3!BT31/Sheet3!$F$1","v":434},{"$f":"+Sheet3!BU31/Sheet3!$F$1","v":21},{"$f":"+Sheet3!BV31/Sheet3!$F$1","v":7205},{"$f":"+Sheet3!BW31/Sheet3!$F$1","v":2935},{"$f":"+Sheet3!BX31/Sheet3!$F$1","v":1155},{"$f":"+Sheet3!BY31/Sheet3!$F$1","v":389},{"$f":"+Sheet3!BZ31/Sheet3!$F$1","v":59},{"$f":"+Sheet3!CA31/Sheet3!$F$1","v":5480},{"$f":"+Sheet3!CB31/Sheet3!$F$1","v":2522},{"$f":"+Sheet3!CC31/Sheet3!$F$1","v":1945},{"$f":"+Sheet3!CD31/Sheet3!$F$1","v":194},{"$f":"+Sheet3!CE31/Sheet3!$F$1","v":5},{"$f":"+Sheet3!CF31/Sheet3!$F$1","v":3},{"$f":"+Sheet3!CG31/Sheet3!$F$1","v":59},{"$f":"+Sheet3!CH31/Sheet3!$F$1","v":144},{"$f":"+Sheet3!CI31/Sheet3!$F$1","v":30},{"$f":"+Sheet3!CJ31/Sheet3!$F$1","v":0},{"$f":"+Sheet3!CK31/Sheet3!$F$1","v":264},{"$f":"+Sheet3!CL31/Sheet3!$F$1","v":31},{"$f":"+Sheet3!CM31/Sheet3!$F$1","v":11},{"$f":"+Sheet3!CN31/Sheet3!$F$1","v":0},{"$f":"+Sheet3!CO31/Sheet3!$F$1","v":0},{"$f":"+Sheet3!CP31/Sheet3!$F$1","v":456},{"$f":"+Sheet3!CQ31/Sheet3!$F$1","v":6804},{"$f":"+Sheet3!CR31/Sheet3!$F$1","v":5959},{"$f":"+Sheet3!CS31/Sheet3!$F$1","v":611},{"$f":"+Sheet3!CT31/Sheet3!$F$1","v":183},{"$f":"+Sheet3!CU31/Sheet3!$F$1","v":14691},{"$f":"+Sheet3!CV31/Sheet3!$F$1","v":10533},{"$f":"+Sheet3!CW31/Sheet3!$F$1","v":12597},{"$f":"+Sheet3!CX31/Sheet3!$F$1","v":9598},{"$f":"+Sheet3!CY31/Sheet3!$F$1","v":53286},{"$f":"+Sheet3!CZ31/Sheet3!$F$1","v":2160},{"$f":"+Sheet3!DA31/Sheet3!$F$1","v":5599},{"$f":"+Sheet3!DB31/Sheet3!$F$1","v":7135},{"$f":"+Sheet3!DC31/Sheet3!$F$1","v":17398},{"$f":"+Sheet3!DD31/Sheet3!$F$1","v":11743},{"$f":"+Sheet3!DE31/Sheet3!$F$1","v":10146},{"$f":"+Sheet3!DF31/Sheet3!$F$1","v":236},{"$f":"+Sheet3!DG31/Sheet3!$F$1","v":306},{"$f":"+Sheet3!DH31/Sheet3!$F$1","v":106618},{"$f":"+Sheet3!DI31/Sheet3!$F$1","v":44541},{"$f":"+Sheet3!DJ31/Sheet3!$F$1","v":15100},{"$f":"+Sheet3!DK31/Sheet3!$F$1","v":2975},{"$f":"+Sheet3!DL31/Sheet3!$F$1","v":207},{"$f":"SUM(DH34:DL34)","v":169441}]
[]
[]
[null,"Legenda"]
[null,"MP",{"$f":"+INDEX(Sheet6!O8:Q8,1,Sheet3!$B$1)","v":"< 5 ha"}]
[null,"P",{"$f":"+INDEX(Sheet6!O9:Q9,1,Sheet3!$B$1)","v":">= 5  e < 25 ha"}]
[null,"M",{"$f":"+INDEX(Sheet6!O10:Q10,1,Sheet3!$B$1)","v":">= 25  e < 200 ha"}]
[null,"G",{"$f":"+INDEX(Sheet6!O11:Q11,1,Sheet3!$B$1)","v":">= 200  e < 1 000 ha"}]
[null,"MG",{"$f":"+INDEX(Sheet6!O12:Q12,1,Sheet3!$B$1)","v":">= 1 000 ha"}]
["Fonte: GPP a partir de dados IFAP"]
[]
[null,null,null,{"$f":"+INDEX(Sheet6!$D$2:$D$117,Sheet3!$C$1)&\" segundo Orientação Técnico Económica e \"&INDEX(Sheet6!$M$3:$M$6,Sheet3!$B$1)&\" e por NUTSIII em \" &Sheet6!$B$1","v":"(1) - Nº de Beneficiários segundo Orientação Técnico Económica e Classes de Superfície Agrícola e por NUTSIII em 2019"},null,null,null,null,null,null,null,null,null,null,null,null,null,null,null,null,null,null,null,null,null,null,null,null,null,null,null,null,null,{"$f":"+D45& \" (cont.)\"","v":"(1) - Nº de Beneficiários segundo Orientação Técnico Económica e Classes de Superfície Agrícola e por NUTSIII em 2019 (cont.)"},null,null,null,null,null,null,null,null,null,null,null,null,null,null,null,null,null,null,null,null,null,null,null,null,null,null,null,null,null,{"$f":"+AH45","v":"(1) - Nº de Beneficiários segundo Orientação Técnico Económica e Classes de Superfície Agrícola e por NUTSIII em 2019 (cont.)"},null,null,null,null,null,null,null,null,null,null,null,null,null,null,null,null,null,null,null,null,null,null,null,null,null,null,null,null,null,{"$f":"+INDEX(Sheet6!$D$2:$D$117,Sheet3!$C$1)&\" segundo Orientação Técnico Económica por NUTSIII em \" &Sheet6!B43","v":"(1) - Nº de Beneficiários segundo Orientação Técnico Económica por NUTSIII em 42"},null,null,null,null,null,null,null,null,null,null,null,null,null,null,null,null,null,{"$f":"+INDEX(Sheet6!$D$2:$D$117,Sheet3!$C$1)&CHAR(10)& \"segundo \"&INDEX(Sheet6!$M$3:$M$6,Sheet3!$B$1)& \" por NUTSIII em \" &Sheet6!$B$1","v":"(1) - Nº de Beneficiários\nsegundo Classes de Superfície Agrícola por NUTSIII em 2019"}]
[null,null,"Unidade (%)"]
[null,null,"OTE","Não classificadas",null,null,null,null,"Arvenses e Outras Cult pred. Regadio",null,null,null,null,"Arvenses e Outras Cult pred. Sequeiro",null,null,null,null,"Arroz",null,null,null,null,"Horticultura e Industriais",null,null,null,null,"Horticultura e Floricultura",null,null,null,null,"Vinhos",null,null,null,null,"Fruticultura",null,null,null,null,"Olival",null,null,null,null,"Policultura",null,null,null,null,"Bovinos Leite",null,null,null,null,"Bovinos Carne pred.  Intensivos",null,null,null,null,"Bovinos Carne pred.  Extensivos",null,null,null,null,"Outros Ruminantes",null,null,null,null,"Mistas",null,null,null,null,"Pousio e Pastagem",null,null,null,null,"Tomate Indústria",null,null,null,null,"Plantas tuberosas",null,null,null,null,"Não classificadas","Arvenses e Outras Cult pred. Regadio","Arvenses e Outras Cult pred. Sequeiro","Arroz","Horticultura e Industriais","Horticultura e Floricultura","Vinhos","Fruticultura","Olival","Policultura","Bovinos Leite","Bovinos Carne pred.  Intensivos","Bovinos Carne pred.  Extensivos","Outros Ruminantes","Mistas","Pousio e Pastagem","Tomate Indústria","Plantas tuberosas","MP","P","M","G","MG","Total"]
[null,null,{"$f":"+C9","v":"Classes de Superfície Agrícola"},"MP","P","M","G","MG","MP","P","M","G","MG","MP","P","M","G","MG","MP","P","M","G","MG","MP","P","M","G","MG","MP","P","M","G","MG","MP","P","M","G","MG","MP","P","M","G","MG","MP","P","M","G","MG","MP","P","M","G","MG","MP","P","M","G","MG","MP","P","M","G","MG","MP","P","M","G","MG","MP","P","M","G","MG","MP","P","M","G","MG","MP","P","M","G","MG","MP","P","M","G","MG","MP","P","M","G","MG",null,"Arvenses e Outras Cult pred. Regadio"]
["NUTS II","Cód.","NUTS III",null,null,null,null,null,null,null,null,null,null,null,null,null,null,null,null,null,null,null,null,null,null,null,null,null,null,null,null,null,{"$f":"+\"Unidade: % \"","v":"Unidade: % "},null,null,null,null,null,null,null,null,null,null,null,null,null,null,null,null,null,null,null,null,null,null,null,null,null,null,null,null,null,{"$f":"+\"Unidade: % \"","v":"Unidade: % "},null,null,null,null,null,null,null,null,null,null,null,null,null,null,null,null,null,null,null,null,null,null,null,null,null,null,null,null,null,{"$f":"+\"Unidade: % \"","v":"Unidade: % "},null,null,null,null,null,null,null,null,null,null,null,null,null,null,null,null,null,null,null,null,null,null,null,"Unidade: % "]
["Norte ","111","Alto Minho",{"$f":"+D11/$DM$34*100","v":0},{"$f":"+E11/$DM$34*100","v":0},0,0,0,0.1923973536511234,5.3115833830064746E-3,0,0,0,9.2067445305445555E-2,2.9508796572258189E-3,0,0,0,0,0,0,0,0,0,0,0,0,0,9.2067445305445555E-2,2.9508796572258189E-3,0,0,0,0.33699045685518852,5.6066713487290566E-2,{"$f":"+AJ11/$DM$34*100","v":5.9017593144516378E-3},0,0,8.4395158196658424E-2,1.0623166766012949E-2,0,0,0,0,0,0,0,0,1.2741898359901087,1.8885629806245242E-2,0,0,0,5.9017593144516378E-3,3.1279324366593683E-2,4.7214074515613104E-3,0,0,0.172921547913433,6.1968472801742197E-2,7.6722871087871293E-3,0,0,0.24787389120696879,0.22131597429193642,7.1411287704864809E-2,3.5410555886709826E-3,{"$f":"+BP11/$DM$34*100","v":2.9508796572258189E-3},0.576601885021925,0.21069280752592348,2.3607037257806551E-2,0,0,0.63207842257777036,3.6000731818154989E-2,0,0,0,0.19947946482846537,8.2624630402322926E-3,0,0,0,0,0,0,0,0,0,0,0,0,0,1.7705277943354913E-3,0.19770893703412989,9.6198676825561699E-2,0,0,9.6198676825561699E-2,{"$f":"+CV11/$DM$34*100","v":0.39954910558837586},9.7379028688452024E-2,0,1.2954361695221346,4.1902491132606634E-2,0.244923011549743,0.54709308844966686,0.81267225759999051,0.66984968219026098,0.21069280752592348,0,0,3.90873519396132,0.67457108964182222,0.12098606594625858,4.1312315201161463E-3,2.9508796572258189E-3,{"$f":"SUM(DH50:DL50)","v":4.7113744607267423}]
[null,"112","Cávado",{"$f":"+D12/$DM$34*100","v":1.7705277943354913E-3},0,0,0,0,0.56243766266724116,1.1803518628903276E-2,0,0,0,0.16052785335308456,0,0,0,0,0,0,0,0,0,0,0,0,0,0,0.24197213189251715,4.1312315201161463E-3,0,0,0,4.013196333827114E-2,1.7705277943354913E-2,{"$f":"+AJ12/$DM$34*100","v":3.5410555886709826E-3},0,0,0.13278958457516185,1.7115102011909751E-2,0,0,0,0,0,0,0,0,1.1803518628903276,3.7771259612490483E-2,0,0,0,8.2034454470877774E-2,0.17705277943354913,8.2624630402322926E-3,0,0,0.36826978122178222,7.4362167362090642E-2,2.3607037257806552E-3,0,0,8.1444278539432605E-2,5.370600976150991E-2,1.0623166766012949E-2,0,{"$f":"+BP12/$DM$34*100","v":0},0.12629764932926504,4.3673018926942121E-2,7.0821111773419652E-3,0,0,0.3535153829356531,2.8918620640813027E-2,0,0,0,0.42669719843485343,4.5443546721277608E-2,0,0,0,0,0,0,0,0,3.5410555886709826E-3,0,0,0,0,2.3607037257806552E-3,0.57601170909047983,0.1611180292845297,0,0,0.24728371527552362,{"$f":"+CV12/$DM$34*100","v":6.1968472801742197E-2},0.15108503844996193,0,1.2198936502971536,0.26734969694465921,0.44735335603543419,0.14754398286129095,0.1776429553649943,0.38361435543935646,0.4745014488819117,0,3.5410555886709826E-3,3.7670929704144802,0.52112534746607964,3.304985216092917E-2,0,0,{"$f":"SUM(DH51:DL51)","v":4.3212681700414892}]
[null,"119","Ave",{"$f":"+D13/$DM$34*100","v":0},0,0,0,0,0.32754764195206587,1.0623166766012949E-2,0,0,0,5.0164954172838921E-2,2.9508796572258189E-3,0,0,0,0,0,0,0,0,0,0,0,0,0,5.9607769075961541E-2,4.7214074515613104E-3,0,0,0,0.10210043614001334,3.7771259612490483E-2,{"$f":"+AJ13/$DM$34*100","v":4.1312315201161463E-3},0,0,8.6755861922439073E-2,1.6524926080464585E-2,2.3607037257806552E-3,0,0,0,0,0,0,0,0.43023825402352439,3.1869500298038846E-2,3.5410555886709826E-3,0,0,2.1836509463471061E-2,6.1968472801742197E-2,2.3607037257806552E-3,0,0,0.19888928889702021,6.3148824664632522E-2,2.9508796572258189E-3,0,0,0.100920084277123,0.19003664992534275,2.006598166913557E-2,0,{"$f":"+BP13/$DM$34*100","v":0},0.22898826140072356,0.1876759461995621,3.1279324366593683E-2,0,0,0.20951245566303314,4.6033722652722778E-2,4.7214074515613104E-3,0,0,0.31161289180304647,3.1869500298038846E-2,0,0,0,0,0,0,0,0,0,0,0,0,0,4.1312315201161463E-3,0.3393511605809692,5.370600976150991E-2,0,0,6.5509528390413185E-2,{"$f":"+CV13/$DM$34*100","v":0.14577345506695547},0.10741201952301982,2.3607037257806552E-3,0.4668291617731245,8.8526389716774567E-2,0.26675952101321404,0.31338341959738197,0.45030423569265998,0.2608577616987624,0.34525291989542084,0,0,2.1387975755572737,0.69522724724240292,7.7313047019316461E-2,0,0,2.9113378698189933]
[null,"11A","Área Metropolitana do Porto",{"$f":"+D14/$DM$34*100","v":0},0,0,0,0,0.48276391192214396,1.4754398286129095E-2,0,0,0,5.7247065350180891E-2,0,0,0,0,0,0,0,0,0,0,0,0,0,0,0.13160923271227151,8.2624630402322926E-3,0,0,0,3.6590907749600159E-2,1.4754398286129095E-2,{"$f":"+AJ14/$DM$34*100","v":0},0,0,0.10269061207145849,2.1836509463471061E-2,0,0,0,0,0,0,0,0,0.47096039329324074,2.9508796572258189E-2,0,0,0,7.4362167362090642E-2,0.26912022473899466,1.5344574217574259E-2,0,0,0.24079178002962684,7.3181815499200317E-2,2.3607037257806552E-3,0,0,4.3673018926942121E-2,2.7148092846477533E-2,0,0,{"$f":"+BP14/$DM$34*100","v":0},5.4886361624400234E-2,3.1279324366593683E-2,0,0,0,0.22072579836049125,2.1836509463471061E-2,0,0,0,0.40131963338271137,9.9149556482787518E-2,0,0,0,0,0,0,0,0,1.7705277943354913E-3,0,0,0,0,0,0.49869866207116348,5.8427417213071223E-2,0,0,0.140461871683949,{"$f":"+CV14/$DM$34*100","v":5.2525657898619578E-2},0.12511729746637473,0,0.50164954172838927,0.36000731818154996,0.31692447518605293,7.4362167362090642E-2,8.9116565648219737E-2,0.24433283561829783,0.50282989359127961,0,2.9508796572258189E-3,2.3258833458253907,0.61732402429164135,2.5967740983587208E-2,0,0,2.9691751111006193]
[null,"11B","Alto Tâmega",{"$f":"+D15/$DM$34*100","v":1.0032990834567785E-2},5.3115833830064746E-3,0,0,0,0.100920084277123,2.0656157600580732E-2,0,0,0,0.30866201214582067,5.6656889418735722E-2,1.7705277943354913E-3,0,0,0,0,0,0,0,0,0,0,0,0,0.68047284895627391,7.8493398882206786E-2,0,0,0,5.0164954172838921E-2,1.3574046423238766E-2,{"$f":"+AJ15/$DM$34*100","v":0},0,0,0.53056816236920235,0.22603738174349775,1.0032990834567785E-2,0,0,0.11921553815192308,1.8885629806245242E-2,2.9508796572258189E-3,0,0,1.873808582338395,0.57778223688481534,9.4428149031226209E-3,0,0,7.0821111773419652E-3,3.2459676229484008E-2,6.4919352458968019E-3,0,0,3.9541787406825971E-2,6.668988025330351E-2,1.4754398286129095E-2,0,0,9.6198676825561699E-2,0.59017593144516378,0.172921547913433,4.7214074515613104E-3,{"$f":"+BP15/$DM$34*100","v":0},0.31633429925460776,0.5748313572275896,8.6755861922439073E-2,0,0,0.19770893703412989,0.24256230782396232,1.1803518628903276E-2,0,0,0.22013562242904611,6.1378296870297035E-2,1.7705277943354913E-3,0,0,0,0,0,0,0,2.8918620640813027E-2,0,0,0,0,1.8295453874800079E-2,0.12275659374059407,0.36708942935889188,0,1.7705277943354913E-3,0.76250730342715167,{"$f":"+CV15/$DM$34*100","v":6.668988025330351E-2},0.76899923867304842,0.14105204761539417,2.4622139859892234,4.9574778241393759E-2,0.12393694560348439,0.86460773956716497,0.97969204619897199,0.45207476348699549,0.28446479895656895,0,2.9508796572258189E-2,4.5874375151232583,2.5761179407581403,0.32577711415773042,5.9017593144516378E-3,0,7.4952343293535817]
[null,"11C","Tâmega e Sousa",{"$f":"+D16/$DM$34*100","v":0},0,0,0,0,0.31692447518605293,9.4428149031226209E-3,0,0,0,2.8328444709367861E-2,2.9508796572258189E-3,0,0,0,0,0,0,0,0,0,0,0,0,0,0.22190615022338159,3.5410555886709826E-3,0,0,0,0.32931816974640143,0.13160923271227151,{"$f":"+AJ16/$DM$34*100","v":1.4754398286129095E-2},0,0,0.28092374336789799,8.4985334128103593E-2,0,0,0,2.9508796572258189E-3,0,0,0,0,1.6153115243654135,9.8559380551342363E-2,1.7705277943354913E-3,0,0,3.5410555886709826E-3,1.1803518628903276E-2,1.7705277943354913E-3,0,0,0.1923973536511234,4.3673018926942121E-2,1.7705277943354913E-3,0,0,3.1279324366593683E-2,2.478738912069688E-2,3.5410555886709826E-3,0,{"$f":"+BP16/$DM$34*100","v":0},0.14400292727261996,4.5443546721277608E-2,1.0032990834567785E-2,0,0,0.40840174456005335,3.9541787406825971E-2,2.3607037257806552E-3,0,0,0.15816714962730388,1.8295453874800079E-2,0,0,0,0,0,0,0,0,0,0,0,0,0,3.5410555886709826E-3,0.32636729008917559,3.1279324366593683E-2,0,0,0.22721773360638806,{"$f":"+CV16/$DM$34*100","v":0.47686215260769232},0.36708942935889188,4.7214074515613104E-3,1.7168217845739815,1.7705277943354913E-2,0.24079178002962684,5.9607769075961541E-2,0.20006964075991052,0.45207476348699549,0.17882330722788464,0,1.7705277943354913E-3,3.7428957572252286,0.52289587526041514,3.8951611475380808E-2,0,0,4.304743243961024]
[null,"11D","Douro",{"$f":"+D17/$DM$34*100","v":1.2983870491793604E-2},0,0,0,0,2.478738912069688E-2,0,0,0,0,7.6722871087871292E-2,1.7705277943354913E-2,0,0,0,0,0,0,0,0,0,0,0,0,0,0.88998530461930692,5.6066713487290566E-2,0,0,0,2.2255534374797126,0.994446444485101,{"$f":"+AJ17/$DM$34*100","v":0.13633064016383284},4.7214074515613104E-3,0,0.48630496751081492,0.37358136460478869,3.5410555886709827E-2,0,0,0.31043253994015613,3.0689148435148517E-2,4.1312315201161463E-3,0,0,3.8644719991029328,1.0133320742913463,7.6132695156426136E-2,0,0,1.7115102011909751E-2,2.8918620640813027E-2,7.6722871087871293E-3,0,0,2.0656157600580732E-2,1.7115102011909751E-2,2.9508796572258189E-3,0,0,6.9050583979084174E-2,0.10623166766012948,2.006598166913557E-2,0,{"$f":"+BP17/$DM$34*100","v":0},0.21423386311459447,0.19652858517123953,3.0098972503703355E-2,0,0,0.18885629806245241,7.9083574813651941E-2,1.1803518628903276E-2,0,0,4.2492667064051796E-2,1.0032990834567785E-2,2.9508796572258189E-3,0,0,0,0,0,0,0,2.8918620640813027E-2,0,0,0,0,1.416422235468393E-2,2.5967740983587208E-2,9.6198676825561699E-2,0,0,0.94782254590093307,{"$f":"+CV17/$DM$34*100","v":3.361642105511653},0.89647723986520378,0.34525291989542084,4.955117120413596,5.4886361624400234E-2,4.2492667064051796E-2,0.19652858517123953,0.44204177265242767,0.27974339150500765,5.6066713487290566E-2,0,2.9508796572258189E-2,8.4743361996211082,2.9319940274195737,0.33285922533507234,5.3115833830064746E-3,0,11.744501035758761]
[null,"11E","Terras de Trás-os-Montes",{"$f":"+D18/$DM$34*100","v":1.5934750149019423E-2},9.4428149031226209E-3,2.9508796572258189E-3,0,0,1.7705277943354913E-3,0,0,0,0,0.15344574217574258,0.18472506654233625,2.2426685394916223E-2,0,0,0,0,0,0,0,1.7705277943354913E-3,2.3607037257806552E-3,0,0,0,1.8690871748868336,0.96021624046128151,6.9050583979084174E-2,0,0,5.8427417213071223E-2,4.0722139269716302E-2,{"$f":"+AJ18/$DM$34*100","v":4.1312315201161463E-3},0,0,0.63857035782366722,0.57188047757036375,5.311583383006474E-2,0,0,0.93483867540913956,0.23725072444095585,4.1902491132606634E-2,0,0,3.1657036962718585,2.8594023878518184,0.28800585454523991,0,0,0,0,1.2983870491793604E-2,0,0,1.8885629806245242E-2,3.8951611475380808E-2,3.8361435543935646E-2,0,0,1.7705277943354913E-3,2.9508796572258189E-2,4.3673018926942121E-2,0,{"$f":"+BP18/$DM$34*100","v":0},0.13101905678082637,0.21128298345736862,8.9116565648219737E-2,0,0,7.9083574813651941E-2,0.33581010499229819,0.21659456684037509,0,0,7.9083574813651941E-2,6.3148824664632522E-2,8.2624630402322926E-3,0,0,0,0,0,0,0,0,0,0,0,0,3.0098972503703355E-2,2.9508796572258189E-3,0.36177784597588541,0,5.9017593144516378E-3,2.9001245271215352,{"$f":"+CV18/$DM$34*100","v":0.104461139865794},1.2653371970184311,1.2163525947084826,6.3154726423946981,1.5934750149019423E-2,9.8559380551342363E-2,8.1444278539432605E-2,0.4320087818178599,0.63266859850921553,0.15226539031285227,0,3.5410555886709826E-3,7.1606045762241717,5.5523751630361007,0.89883794359098446,6.4919352458968019E-3,0,13.618309618097156]
["Centro","16B","Oeste",{"$f":"+D19/$DM$34*100","v":1.0623166766012949E-2},3.5410555886709826E-3,2.9508796572258189E-3,0,0,0,0,0,0,0,2.478738912069688E-2,1.5934750149019423E-2,3.5410555886709826E-3,0,0,0,0,0,0,0,0,0,0,0,0,5.2525657898619578E-2,5.1345306035729246E-2,4.1312315201161463E-3,0,0,2.5377565052142045E-2,7.0821111773419654E-2,{"$f":"+AJ19/$DM$34*100","v":3.5410555886709827E-2},0,0,0.10269061207145849,0.22898826140072356,5.311583383006474E-2,0,0,0,0,0,0,0,7.3771991430645473E-2,5.7837241281626053E-2,1.5934750149019423E-2,0,0,0,4.1312315201161463E-3,0,0,0,5.0755130104284091E-2,2.2426685394916223E-2,5.3115833830064746E-3,0,0,3.5410555886709826E-3,2.9508796572258189E-3,2.9508796572258189E-3,0,{"$f":"+BP19/$DM$34*100","v":0},0.21718474277182026,2.2426685394916223E-2,0,0,0,3.7181083681045321E-2,2.006598166913557E-2,1.7705277943354913E-3,0,0,8.3214806333768085E-2,2.7738268777922698E-2,6.4919352458968019E-3,0,0,0,0,0,0,0,1.0032990834567785E-2,4.1312315201161463E-3,0,0,0,1.8885629806245242E-2,2.3607037257806552E-3,4.7214074515613103E-2,0,2.3607037257806552E-3,0.10859237138591013,{"$f":"+CV19/$DM$34*100","v":0.13278958457516185},0.3865652350965823,0,0.14931451065562645,6.4919352458968019E-3,7.9083574813651941E-2,1.0623166766012949E-2,0.24197213189251715,6.2558648733187366E-2,0.1174450103575876,0,1.5344574217574259E-2,0.70053883062540945,0.54178150506666045,0.13810116795816835,4.1312315201161463E-3,0,1.3845527351703544]
[null,"16D","Região de Aveiro",{"$f":"+D20/$DM$34*100","v":5.9017593144516378E-3},0,0,0,0,0.53351904202642808,3.0098972503703355E-2,5.3115833830064746E-3,0,0,0.3346297531294079,2.5967740983587208E-2,0,0,0,0,0,2.3607037257806552E-3,0,0,0,0,0,0,0,0.12806817712360055,7.6722871087871293E-3,0,0,0,2.0656157600580732E-2,1.1803518628903276E-2,{"$f":"+AJ20/$DM$34*100","v":2.9508796572258189E-3},0,0,0.11154325104313596,8.8526389716774567E-3,0,0,0,0,0,0,0,0,0.47214074515613103,2.9508796572258189E-2,2.3607037257806552E-3,0,0,3.7181083681045321E-2,8.3804982265213268E-2,1.0623166766012949E-2,0,0,0.1139039547689166,3.6000731818154989E-2,4.1312315201161463E-3,0,0,2.1246333532025898E-2,1.239369456034844E-2,0,0,{"$f":"+BP20/$DM$34*100","v":0},3.4230204023819502E-2,5.3115833830064746E-3,0,0,0,0.19416788144545888,2.1246333532025898E-2,0,0,0,0.22839808546927842,4.3082842995496959E-2,1.7705277943354913E-3,0,0,0,0,0,0,0,1.9475805737690404E-2,2.3607037257806552E-3,0,0,0,6.4919352458968019E-3,0.56951977384458308,0.36118767004444025,4.1312315201161463E-3,0,0.140461871683949,{"$f":"+CV20/$DM$34*100","v":3.6590907749600159E-2},0.12157624187770373,0,0.50460042138561501,0.13219940864371668,0.15521626997007806,3.3640028092374333E-2,4.0722139269716302E-2,0.21541421497748478,0.27384163219055602,0,2.2426685394916223E-2,2.2591934655720869,0.32577711415773042,3.3640028092374333E-2,0,0,2.6186106078221916]
[null,"16E","Região de Coimbra",{"$f":"+D21/$DM$34*100","v":2.0656157600580732E-2},0,0,0,0,0.46505863397878905,0.12334676967203924,3.1279324366593683E-2,0,0,0.20124999262280086,7.6722871087871293E-3,2.3607037257806552E-3,0,0,7.4362167362090642E-2,7.0230935841974498E-2,2.8328444709367861E-2,0,0,1.7705277943354913E-3,0,0,0,0,0.36826978122178222,2.1836509463471061E-2,4.1312315201161463E-3,0,0,4.5443546721277608E-2,2.006598166913557E-2,{"$f":"+AJ21/$DM$34*100","v":0},0,0,0.11626465849469726,3.3640028092374333E-2,1.7705277943354913E-3,0,0,7.2001463636309979E-2,0,0,0,0,1.0853335379276563,8.6755861922439073E-2,9.4428149031226209E-3,0,0,4.1902491132606634E-2,3.6000731818154989E-2,2.3607037257806552E-3,0,0,8.026392667654228E-2,1.8885629806245242E-2,3.5410555886709826E-3,0,0,1.1803518628903276E-2,4.7214074515613104E-3,0,0,{"$f":"+BP21/$DM$34*100","v":0},0.23548019664662037,5.1345306035729246E-2,5.3115833830064746E-3,0,0,0.27384163219055602,3.5410555886709827E-2,1.7705277943354913E-3,0,0,0.25082477086419463,2.4197213189251717E-2,2.3607037257806552E-3,0,0,0,0,0,0,0,1.8885629806245242E-2,0,0,0,0,2.1836509463471061E-2,0.6238159595375381,0.21305351125170416,0.17469207570776848,2.9508796572258189E-3,0.39482769813681462,{"$f":"+CV21/$DM$34*100","v":6.6099704321858341E-2},0.1516752143814071,7.3181815499200317E-2,1.1821223906846632,8.026392667654228E-2,0.10328078800290366,2.006598166913557E-2,0.29449778979113672,0.31279324366593686,0.27974339150500765,0,1.9475805737690404E-2,3.368724216688995,0.54768326438111203,9.6788852757006869E-2,0,0,4.0131963338271133]
[null,"16F","Região de Leiria",{"$f":"+D22/$DM$34*100","v":1.1803518628903276E-2},0,0,0,0,7.6132695156426136E-2,9.4428149031226209E-3,2.3607037257806552E-3,0,0,6.4329176527522861E-2,3.5410555886709826E-3,0,0,0,5.3115833830064746E-3,5.9017593144516378E-3,1.7705277943354913E-3,0,0,0,0,0,0,0,0.2348900207151752,9.4428149031226209E-3,2.3607037257806552E-3,0,0,4.1312315201161463E-3,1.7705277943354913E-3,{"$f":"+AJ22/$DM$34*100","v":0},0,0,4.7804250447058272E-2,1.7705277943354913E-2,1.7705277943354913E-3,0,0,0.13692081609527801,6.4919352458968019E-3,1.7705277943354913E-3,0,0,0.55358502369556362,2.7148092846477533E-2,0,0,0,0,5.9017593144516378E-3,1.7705277943354913E-3,0,0,6.019794500740671E-2,2.7148092846477533E-2,4.1312315201161463E-3,0,0,1.7705277943354913E-3,4.7214074515613104E-3,4.1312315201161463E-3,0,{"$f":"+BP22/$DM$34*100","v":0},0.19121700178823309,2.8328444709367861E-2,7.6722871087871293E-3,0,0,0.17705277943354913,3.1869500298038846E-2,4.1312315201161463E-3,0,0,6.5509528390413185E-2,5.9017593144516378E-3,0,0,0,0,0,0,0,0,0,0,0,0,0,1.416422235468393E-2,8.9116565648219737E-2,6.9050583979084174E-2,1.416422235468393E-2,0,0.24728371527552362,{"$f":"+CV22/$DM$34*100","v":7.0821111773419652E-3},6.8460408047639004E-2,0.14636363099840063,0.58309382026782186,1.0032990834567785E-2,9.1477269374000386E-2,1.1213342697458112E-2,0.2278079095378332,0.21305351125170416,7.3181815499200317E-2,0,0,1.6383283856917747,0.19298752958256857,3.4820379955264665E-2,0,0,1.8661362952296079]
[null,"16G","Viseu Dão Lafões",{"$f":"+D23/$DM$34*100","v":8.8526389716774567E-3},1.7705277943354913E-3,0,0,0,0.23548019664662037,1.7705277943354913E-3,0,0,0,0.1617082052159749,1.1803518628903276E-2,0,0,0,0,0,0,0,0,0,0,0,0,0,0.46505863397878905,7.6722871087871293E-3,0,0,0,0.1516752143814071,7.2001463636309979E-2,{"$f":"+AJ23/$DM$34*100","v":8.2624630402322926E-3},0,0,0.23075878919505904,3.8361435543935646E-2,2.9508796572258189E-3,0,0,3.0098972503703355E-2,0,0,0,0,1.595835718627723,9.2657621236890725E-2,3.5410555886709826E-3,0,0,2.478738912069688E-2,1.4754398286129095E-2,0,0,0,6.9050583979084174E-2,2.8328444709367861E-2,2.9508796572258189E-3,0,0,3.1869500298038846E-2,5.1935481967174416E-2,5.9017593144516378E-3,0,{"$f":"+BP23/$DM$34*100","v":0},0.40131963338271137,0.11449413070036178,1.3574046423238766E-2,0,0,0.6238159595375381,6.7870232116193835E-2,3.5410555886709826E-3,0,0,7.7903222950761616E-2,4.1312315201161463E-3,0,0,0,0,0,0,0,0,2.5967740983587208E-2,0,0,0,0,1.1803518628903276E-2,0.23843107630384616,0.17410189977632332,0,0,0.47509162481335682,{"$f":"+CV23/$DM$34*100","v":0.23252931698939452},0.27207110439622051,3.1869500298038846E-2,1.6926245713847297,4.2492667064051796E-2,0.10210043614001334,9.0887093442555217E-2,0.53056816236920235,0.69581742317384809,8.2034454470877774E-2,0,2.5967740983587208E-2,4.1389038072249331,0.51522358815162794,4.4853370789832446E-2,0,0,4.6989807661663932]
[null,"16H","Beira Baixa",{"$f":"+D24/$DM$34*100","v":1.7705277943354913E-3},0,0,0,0,2.9508796572258189E-3,2.3607037257806552E-3,0,0,0,3.7771259612490483E-2,4.662389858416794E-2,1.1213342697458112E-2,0,0,0,0,0,0,0,0,0,0,0,0,0.16229838114742004,1.6524926080464585E-2,3.5410555886709826E-3,0,0,0,0,{"$f":"+AJ24/$DM$34*100","v":0},0,0,0.12747800119215538,3.7771259612490483E-2,1.4754398286129095E-2,0,0,0.31043253994015613,6.6099704321858341E-2,1.2983870491793604E-2,0,0,0.53942080134087966,0.20361069634858153,4.0722139269716302E-2,1.7705277943354913E-3,0,0,0,0,0,0,5.3115833830064746E-3,1.0623166766012949E-2,1.239369456034844E-2,1.7705277943354913E-3,0,0,6.4919352458968019E-3,4.5443546721277608E-2,3.5410555886709827E-2,{"$f":"+BP24/$DM$34*100","v":0},0.19298752958256857,0.16642961266753617,0.14105204761539417,3.0689148435148517E-2,2.9508796572258189E-3,7.4362167362090642E-2,5.7837241281626053E-2,1.2983870491793604E-2,5.3115833830064746E-3,0,5.370600976150991E-2,8.2034454470877774E-2,7.9673750745097111E-2,1.1803518628903276E-2,0,0,0,0,0,0,0,0,0,0,0,6.4919352458968019E-3,5.9017593144516378E-3,9.7379028688452024E-2,0,0,0.18354471467944594,{"$f":"+CV24/$DM$34*100","v":6.4919352458968019E-3},0.18354471467944594,0.39010629068525327,0.78670451661640339,1.7705277943354913E-3,3.0689148435148517E-2,9.1477269374000386E-2,0.53528956982076359,0.1516752143814071,0.22957843733216873,0,0,1.5138012641568452,0.70407988621408046,0.38420453137080163,9.2657621236890725E-2,6.4919352458968019E-3,2.7012352382245148]
[null,"16I","Médio Tejo",{"$f":"+D25/$DM$34*100","v":1.7705277943354913E-3},2.3607037257806552E-3,0,0,0,1.4754398286129095E-2,5.9017593144516378E-3,1.1803518628903276E-2,0,0,2.006598166913557E-2,1.1213342697458112E-2,6.4919352458968019E-3,0,0,0,0,0,0,0,0,1.7705277943354913E-3,0,0,0,0.1617082052159749,5.9017593144516378E-3,0,0,0,2.3607037257806551E-2,6.4919352458968019E-3,{"$f":"+AJ25/$DM$34*100","v":2.3607037257806552E-3},0,0,0.12098606594625858,4.5443546721277608E-2,1.0032990834567785E-2,0,0,0.3346297531294079,3.7771259612490483E-2,7.0821111773419652E-3,0,0,0.77667152578183551,0.13869134388961349,1.2983870491793604E-2,2.9508796572258189E-3,0,0,4.1312315201161463E-3,0,0,0,2.5377565052142045E-2,2.655791691503237E-2,5.9017593144516378E-3,0,0,0,2.3607037257806552E-3,3.5410555886709826E-3,0,{"$f":"+BP25/$DM$34*100","v":0},0.18708577026811693,3.5410555886709827E-2,1.3574046423238766E-2,0,0,0.13751099202672315,3.8951611475380808E-2,8.8526389716774567E-3,2.9508796572258189E-3,0,5.0755130104284091E-2,3.0689148435148517E-2,2.478738912069688E-2,2.3607037257806552E-3,0,0,0,0,0,0,0,0,0,0,0,6.4919352458968019E-3,3.4820379955264665E-2,3.8951611475380808E-2,0,1.7705277943354913E-3,0.17056084418765233,{"$f":"+CV25/$DM$34*100","v":3.3640028092374333E-2},0.17646260350210397,0.38066347578213067,0.93424849947769428,6.4919352458968019E-3,5.9607769075961541E-2,8.2624630402322926E-3,0.23725072444095585,0.19003664992534275,0.10977272324880047,0,0,1.8602345359151562,0.40131963338271137,0.11508430663180694,1.1803518628903276E-2,0,2.388441994558578]
[null,"16J","Beiras e Serra da Estrela",{"$f":"+D26/$DM$34*100","v":9.4428149031226209E-3},4.7214074515613104E-3,1.7705277943354913E-3,0,0,3.1869500298038846E-2,1.1803518628903276E-2,2.9508796572258189E-3,0,0,0.28682550268234963,0.18944647399389758,3.1279324366593683E-2,0,0,0,0,0,0,0,0,0,0,0,0,0.88467372123630061,0.1139039547689166,5.9017593144516378E-3,0,0,0.16642961266753617,0.10387096393434883,{"$f":"+AJ26/$DM$34*100","v":2.4197213189251717E-2},0,0,0.42374631877762758,0.26853004880754955,5.5476537555845397E-2,0,0,0.31220306773449169,3.0098972503703355E-2,5.9017593144516378E-3,0,0,2.2586032896406421,0.92657621236890719,7.3181815499200317E-2,0,0,2.9508796572258189E-3,1.3574046423238766E-2,1.5344574217574259E-2,0,0,2.1246333532025898E-2,9.1477269374000386E-2,9.383797309978105E-2,0,0,1.7705277943354913E-3,8.0854102607987449E-2,0.22013562242904611,7.6722871087871293E-3,{"$f":"+BP26/$DM$34*100","v":0},0.38243400357646617,0.56420819046157666,0.25495600238431076,4.7214074515613104E-3,0,0.2136436871831493,0.27620233591633669,7.6722871087871292E-2,1.7705277943354913E-3,0,0.10918254731735531,9.5608500894116544E-2,2.4197213189251717E-2,0,0,0,0,0,0,0,4.1312315201161463E-3,0,0,0,0,1.8885629806245242E-2,4.7214074515613103E-2,0.50814147697428602,0,1.7705277943354913E-3,1.0056597871825592,{"$f":"+CV26/$DM$34*100","v":0.29449778979113672},0.75129396072969357,0.3487939754840918,3.26072202123453,3.4820379955264665E-2,0.20774192786869766,0.31397359552882714,1.2069097798053601,0.56833942198169274,0.22957843733216873,0,5.9017593144516378E-3,5.1191860293553511,2.7773679333809409,0.8905754805507522,1.7115102011909751E-2,0,8.8042445452989533]
["AML","170","Área Metropolitana de Lisboa",{"$f":"+D27/$DM$34*100","v":1.7705277943354913E-3},0,1.7705277943354913E-3,0,0,1.7705277943354913E-3,1.5934750149019423E-2,1.2983870491793604E-2,0,0,1.0623166766012949E-2,1.239369456034844E-2,7.0821111773419652E-3,0,0,0,2.9508796572258189E-3,2.8328444709367861E-2,3.5410555886709826E-3,0,0,0,0,0,0,2.3016861326361389E-2,1.8885629806245242E-2,5.3115833830064746E-3,0,0,1.6524926080464585E-2,4.7214074515613103E-2,{"$f":"+AJ27/$DM$34*100","v":2.478738912069688E-2},1.7705277943354913E-3,0,2.1836509463471061E-2,2.0656157600580732E-2,1.0032990834567785E-2,0,0,0,0,1.7705277943354913E-3,0,0,2.655791691503237E-2,2.9508796572258189E-2,1.7115102011909751E-2,1.7705277943354913E-3,0,1.7705277943354913E-3,7.6722871087871293E-3,4.7214074515613104E-3,0,0,3.7771259612490483E-2,2.5377565052142045E-2,1.2983870491793604E-2,2.3607037257806552E-3,0,0,8.8526389716774567E-3,8.2624630402322926E-3,4.7214074515613104E-3,{"$f":"+BP27/$DM$34*100","v":0},0.15816714962730388,4.1902491132606634E-2,1.1803518628903276E-2,1.7705277943354913E-3,0,1.8295453874800079E-2,1.1213342697458112E-2,8.8526389716774567E-3,5.9017593144516378E-3,0,4.3082842995496959E-2,4.5443546721277608E-2,2.4197213189251717E-2,1.7705277943354913E-3,0,0,5.3115833830064746E-3,9.4428149031226209E-3,5.9017593144516378E-3,0,2.9508796572258189E-3,4.1312315201161463E-3,0,0,0,7.6722871087871293E-3,3.2459676229484008E-2,3.1869500298038846E-2,3.4820379955264665E-2,0,5.1345306035729246E-2,{"$f":"+CV27/$DM$34*100","v":9.1477269374000386E-2},5.7247065350180891E-2,2.3607037257806552E-3,7.9673750745097111E-2,1.5934750149019423E-2,8.2034454470877774E-2,2.5377565052142045E-2,0.21423386311459447,4.8394426378503434E-2,0.11685483442614245,2.3607037257806551E-2,9.4428149031226209E-3,0.37594206833056937,0.31279324366593686,0.20124999262280086,3.4230204023819502E-2,1.7705277943354913E-3,0.92598603643746213]
["Alentejo","181","Alentejo Litoral",{"$f":"+D28/$DM$34*100","v":0},2.9508796572258189E-3,4.7214074515613104E-3,2.9508796572258189E-3,0,0,2.3607037257806552E-3,2.9508796572258189E-3,0,0,4.1312315201161463E-3,1.239369456034844E-2,2.1246333532025898E-2,4.7214074515613104E-3,0,5.9017593144516378E-3,2.1246333532025898E-2,2.2426685394916223E-2,0,0,0,0,0,0,0,3.6590907749600159E-2,1.8885629806245242E-2,8.8526389716774567E-3,0,0,0,2.9508796572258189E-3,{"$f":"+AJ28/$DM$34*100","v":3.5410555886709826E-3},0,0,1.3574046423238766E-2,4.6033722652722778E-2,8.2034454470877774E-2,1.4754398286129095E-2,0,2.1246333532025898E-2,5.9017593144516378E-3,1.1803518628903276E-2,0,0,4.4263194858387284E-2,7.4952343293535797E-2,5.370600976150991E-2,1.3574046423238766E-2,1.7705277943354913E-3,0,0,6.4919352458968019E-3,2.3607037257806552E-3,0,2.2426685394916223E-2,4.0722139269716302E-2,4.7804250447058272E-2,6.4919352458968019E-3,0,0,2.2426685394916223E-2,0.11921553815192308,6.3148824664632522E-2,{"$f":"+BP28/$DM$34*100","v":5.3115833830064746E-3},8.3804982265213268E-2,0.10800219545446497,0.14223239947828448,3.1279324366593683E-2,0,1.0032990834567785E-2,3.1869500298038846E-2,3.5410555886709827E-2,2.655791691503237E-2,3.5410555886709826E-3,4.9574778241393759E-2,0.18531524247378145,0.2496444190013043,1.5344574217574259E-2,0,0,0,4.7214074515613104E-3,0,0,0,0,0,0,0,1.239369456034844E-2,9.4428149031226209E-3,4.6033722652722778E-2,5.1935481967174416E-2,1.7705277943354913E-3,6.668988025330351E-2,{"$f":"+CV28/$DM$34*100","v":1.0032990834567785E-2},0.15698679776441357,4.1902491132606634E-2,0.18885629806245241,1.0032990834567785E-2,0.11921553815192308,0.21187315938881379,0.36708942935889188,0.10977272324880047,0.50046918986549893,5.9017593144516378E-3,0,0.30098972503703353,0.5842741721307122,0.82683647995467446,0.18649559433667176,1.239369456034844E-2,1.9109896660194405]
[null,"184","Baixo Alentejo",{"$f":"+D29/$DM$34*100","v":1.239369456034844E-2},2.3607037257806552E-3,2.3607037257806552E-3,0,0,2.9508796572258189E-3,8.2624630402322926E-3,2.2426685394916223E-2,7.6722871087871293E-3,0,8.4985334128103593E-2,0.14459310320406513,0.12157624187770373,2.478738912069688E-2,0,0,0,0,0,0,4.1312315201161463E-3,1.416422235468393E-2,2.3607037257806551E-2,2.3607037257806552E-3,0,2.8328444709367861E-2,1.8295453874800079E-2,1.1803518628903276E-2,1.7705277943354913E-3,0,5.7247065350180891E-2,5.7837241281626053E-2,{"$f":"+AJ29/$DM$34*100","v":2.7148092846477533E-2},2.3607037257806552E-3,0,2.8328444709367861E-2,5.1345306035729246E-2,0.140461871683949,2.006598166913557E-2,0,0.47332109701902136,0.33226904940362723,0.2655791691503237,4.4263194858387284E-2,2.9508796572258189E-3,0.19357770551401374,0.23666054850951068,0.14872433472418128,3.5410555886709827E-2,2.9508796572258189E-3,0,0,0,0,0,2.0656157600580732E-2,2.1246333532025898E-2,4.8394426378503434E-2,1.8885629806245242E-2,0,0,7.6722871087871293E-3,0.13337976050660702,0.12983870491793603,{"$f":"+BP29/$DM$34*100","v":7.0821111773419652E-3},0.24846406713841396,0.23725072444095585,0.31633429925460776,8.9706741579664892E-2,1.7705277943354913E-3,2.9508796572258189E-2,7.0230935841974498E-2,9.9149556482787518E-2,7.3771991430645473E-2,6.4919352458968019E-3,9.5018324962671374E-2,0.21895527056615577,0.30748166028293034,2.478738912069688E-2,0,0,0,2.9508796572258189E-3,0,0,0,0,0,0,0,1.7705277943354913E-2,4.2492667064051796E-2,0.37653224426201454,0,4.662389858416794E-2,6.019794500740671E-2,{"$f":"+CV29/$DM$34*100","v":0.14695380692984578},0.24374265968685263,1.1195637419514757,0.61909455208597686,2.9508796572258189E-3,0.11095307511169079,0.27974339150500765,0.89529688800231344,0.28151391929934316,0.64742299679534476,5.3115833830064746E-3,0,1.2848130027561218,1.4282257540972965,1.6790505249614909,0.48217373599069885,2.3016861326361389E-2,4.89727987913197]
[null,"185","Lezíria do Tejo",{"$f":"+D30/$DM$34*100","v":7.6722871087871293E-3},4.7214074515613104E-3,6.4919352458968019E-3,1.7705277943354913E-3,0,3.4230204023819502E-2,5.2525657898619578E-2,9.5608500894116544E-2,1.1213342697458112E-2,0,2.006598166913557E-2,3.3640028092374333E-2,2.8328444709367861E-2,3.5410555886709826E-3,0,0,1.416422235468393E-2,5.0164954172838921E-2,5.3115833830064746E-3,0,1.7705277943354913E-3,8.2624630402322926E-3,2.9508796572258189E-3,0,0,2.478738912069688E-2,1.7115102011909751E-2,1.0032990834567785E-2,0,0,2.006598166913557E-2,4.5443546721277608E-2,{"$f":"+AJ30/$DM$34*100","v":1.5344574217574259E-2},0,0,3.3640028092374333E-2,2.8918620640813027E-2,3.304985216092917E-2,7.0821111773419652E-3,0,7.4952343293535797E-2,1.8295453874800079E-2,9.4428149031226209E-3,0,0,0.14636363099840063,0.11095307511169079,6.5509528390413185E-2,2.006598166913557E-2,3.5410555886709826E-3,4.1312315201161463E-3,2.3607037257806552E-3,2.9508796572258189E-3,2.9508796572258189E-3,0,3.4820379955264665E-2,2.1246333532025898E-2,1.416422235468393E-2,4.7214074515613104E-3,0,0,2.9508796572258189E-3,1.3574046423238766E-2,1.4754398286129095E-2,{"$f":"+BP30/$DM$34*100","v":0},0.10032990834567784,3.4230204023819502E-2,2.2426685394916223E-2,2.3607037257806552E-3,0,1.6524926080464585E-2,1.8295453874800079E-2,1.5344574217574259E-2,1.5344574217574259E-2,5.9017593144516378E-3,0.10269061207145849,0.10859237138591013,7.2591639567755148E-2,8.2624630402322926E-3,0,0,2.5377565052142045E-2,5.8427417213071223E-2,1.0032990834567785E-2,0,0,2.9508796572258189E-3,2.3607037257806552E-3,0,0,2.4197213189251717E-2,0.19711876110268473,8.9116565648219737E-2,7.2001463636309979E-2,1.5344574217574259E-2,5.4886361624400234E-2,{"$f":"+CV30/$DM$34*100","v":8.2624630402322929E-2},0.10623166766012948,0.104461139865794,0.34761362362120146,1.239369456034844E-2,7.6132695156426136E-2,3.6000731818154989E-2,0.16406890894175555,7.4362167362090642E-2,0.2921370860653561,9.4428149031226205E-2,7.6722871087871293E-3,0.63620965409788666,0.56243766266724116,0.52820745864342156,0.11036289918024562,1.3574046423238766E-2,1.8507917210120337]
[null,"186","Alto Alentejo",{"$f":"+D31/$DM$34*100","v":1.7705277943354913E-3},0,1.7705277943354913E-3,0,0,0,4.1312315201161463E-3,1.1213342697458112E-2,0,0,1.0623166766012949E-2,2.1246333532025898E-2,1.5934750149019423E-2,4.7214074515613104E-3,0,0,0,1.7705277943354913E-3,0,0,0,0,4.7214074515613104E-3,0,0,4.1312315201161465E-2,1.416422235468393E-2,1.8885629806245242E-2,9.4428149031226209E-3,0,1.7115102011909751E-2,1.5934750149019423E-2,{"$f":"+AJ31/$DM$34*100","v":1.3574046423238766E-2},0,0,2.9508796572258189E-2,3.0098972503703355E-2,2.478738912069688E-2,3.5410555886709826E-3,0,0.48335408785358913,0.19357770551401374,6.9640759910529329E-2,1.0032990834567785E-2,0,0.24787389120696879,0.15993767742163939,7.3181815499200317E-2,1.5344574217574259E-2,0,0,0,5.3115833830064746E-3,1.7705277943354913E-3,0,6.4919352458968019E-3,3.2459676229484008E-2,5.370600976150991E-2,1.7705277943354913E-2,0,0,1.3574046423238766E-2,0.17646260350210397,0.16052785335308456,{"$f":"+BP31/$DM$34*100","v":1.239369456034844E-2},0.27443180812200113,0.26971040067043983,0.17528225163921365,4.4853370789832446E-2,1.7705277943354913E-3,6.9050583979084174E-2,7.7313047019316461E-2,5.9017593144516378E-2,3.6000731818154989E-2,8.2624630402322926E-3,5.4296185692955065E-2,7.7313047019316461E-2,0.1139039547689166,1.416422235468393E-2,0,0,0,2.9508796572258189E-3,0,0,0,0,0,0,0,4.7214074515613104E-3,1.7115102011909751E-2,5.311583383006474E-2,2.9508796572258189E-3,8.2624630402322926E-3,8.4395158196658424E-2,{"$f":"+CV31/$DM$34*100","v":4.8394426378503434E-2},8.9706741579664892E-2,0.760146599701371,0.4981084861397182,8.2624630402322926E-3,0.11154325104313596,0.36649925342744671,0.76663853494726775,0.25082477086419463,0.26144793763020757,4.1312315201161463E-3,0,1.2411399838291794,0.91949410119156527,0.82919718368045514,0.3222360585690594,2.5377565052142045E-2,3.3374448923224014]
[null,"187","Alentejo Central",{"$f":"+D32/$DM$34*100","v":3.5410555886709826E-3},3.5410555886709826E-3,2.9508796572258189E-3,2.9508796572258189E-3,0,7.0821111773419652E-3,4.1312315201161463E-3,2.3607037257806552E-3,0,0,4.9574778241393759E-2,6.3739000596077691E-2,2.478738912069688E-2,4.1312315201161463E-3,0,0,0,2.9508796572258189E-3,0,0,0,3.5410555886709826E-3,5.3115833830064746E-3,0,0,3.304985216092917E-2,1.0623166766012949E-2,2.2426685394916223E-2,1.1803518628903276E-2,0,8.4985334128103593E-2,0.17469207570776848,{"$f":"+AJ32/$DM$34*100","v":8.3214806333768085E-2},8.2624630402322926E-3,0,5.1345306035729246E-2,3.0689148435148517E-2,2.655791691503237E-2,8.8526389716774567E-3,0,0.3800732998506855,0.11331377883747144,3.8361435543935646E-2,8.8526389716774567E-3,0,0.18708577026811693,0.16701978859898137,7.6722871087871292E-2,2.1836509463471061E-2,0,0,2.9508796572258189E-3,8.8526389716774567E-3,2.3607037257806552E-3,0,3.7181083681045321E-2,1.8885629806245242E-2,6.1968472801742197E-2,2.2426685394916223E-2,0,0,9.4428149031226209E-3,0.14105204761539417,0.2278079095378332,{"$f":"+BP32/$DM$34*100","v":1.8295453874800079E-2},0.35410555886709827,0.22839808546927842,0.16938049232476202,4.6033722652722778E-2,4.1312315201161463E-3,6.5509528390413185E-2,8.3214806333768085E-2,6.668988025330351E-2,5.7247065350180891E-2,8.2624630402322926E-3,8.7346037853884242E-2,0.12983870491793603,0.19475805737690405,3.1279324366593683E-2,0,0,0,4.1312315201161463E-3,0,0,0,0,0,0,0,1.416422235468393E-2,1.416422235468393E-2,0.14341275134117482,3.5410555886709826E-3,1.0623166766012949E-2,8.2624630402322929E-2,{"$f":"+CV32/$DM$34*100","v":0.35292520700420793},0.11862536222047793,0.54178150506666045,0.4556158190756664,1.4754398286129095E-2,0.1451832791355103,0.39954910558837586,0.80322944269686802,0.28210409523078833,0.44558282824109863,4.1312315201161463E-3,0,1.3485520033521994,1.048742630178056,0.93956008286070081,0.46033722652722775,3.4820379955264665E-2,3.8320123228734486]
["Algarve","150","Algarve",{"$f":"+D33/$DM$34*100","v":3.5410555886709826E-3},0,0,0,0,0,0,0,0,0,1.7115102011909751E-2,1.5934750149019423E-2,7.0821111773419652E-3,0,0,0,0,0,0,0,0,0,0,0,0,9.7379028688452024E-2,5.4296185692955065E-2,2.3607037257806552E-3,0,0,0,0,{"$f":"+AJ33/$DM$34*100","v":0},0,0,0.21836509463471063,0.42846772622918894,0.12098606594625858,1.7705277943354913E-3,0,8.8526389716774567E-3,0,0,0,0,0.52702710678053122,0.63207842257777036,7.0821111773419654E-2,1.7705277943354913E-3,0,0,0,0,0,0,1.4754398286129095E-2,2.1836509463471061E-2,1.0623166766012949E-2,0,0,2.3607037257806552E-3,5.9017593144516378E-3,1.6524926080464585E-2,0,{"$f":"+BP33/$DM$34*100","v":0},7.2001463636309979E-2,5.311583383006474E-2,2.9508796572258189E-2,1.7705277943354913E-3,0,2.006598166913557E-2,4.898460230994859E-2,2.5967740983587208E-2,2.3607037257806552E-3,0,4.1902491132606634E-2,6.019794500740671E-2,2.006598166913557E-2,0,0,0,0,0,0,0,0,0,0,0,0,8.2624630402322926E-3,1.7705277943354913E-3,4.1902491132606634E-2,0,4.1312315201161463E-3,0.15698679776441357,{"$f":"+CV33/$DM$34*100","v":4.7214074515613104E-3},0.7713599423988291,1.0623166766012949E-2,1.232287344857502,0,4.8394426378503434E-2,2.7148092846477533E-2,0.15875732555874908,9.8559380551342363E-2,0.12393694560348439,0,0,1.0310373522347012,1.333207429134625,0.31574412332316265,1.0032990834567785E-2,0,2.6900218955270567]
["Continente",null,null,{"$f":"+D34/$DM$34*100","v":0.16229838114742004},6.4919352458968016E-2,3.1869500298038846E-2,9.4428149031226209E-3,5.901759314451638E-4,3.4259712820391761,0.36059749411299508,0.20597140007436215,2.2426685394916223E-2,5.901759314451638E-4,2.2609639933664227,0.89706741579664906,0.31338341959738197,4.4263194858387284E-2,1.1803518628903276E-3,9.0887093442555217E-2,0.11862536222047793,0.140461871683949,1.0623166766012949E-2,0,2.3607037257806551E-2,3.9541787406825971E-2,4.0722139269716302E-2,4.1312315201161463E-3,0,6.9410591297265718,1.5197030234712967,0.18236436281655563,2.7148092846477533E-2,0,3.8213891561074353,1.9475805737690404,{"$f":"+AJ34/$DM$34*100","v":0.42492667064051792},2.1836509463471061E-2,5.901759314451638E-4,4.0297212599075785,2.6481194043944498,0.69227636758517719,6.1968472801742197E-2,2.3607037257806552E-3,4.0143766856900038,1.0977272324880045,0.47863268040202789,6.9050583979084174E-2,4.7214074515613104E-3,22.610820285527115,7.6557621827066642,1.052283685766727,0.11862536222047793,1.0623166766012949E-2,0.34289221616964016,0.79614733151952588,0.12334676967203924,1.239369456034844E-2,0,1.8655461192981628,0.89942811952242963,0.45974705059578264,7.8493398882206786E-2,1.1803518628903276E-3,0.76250730342715167,1.4949156343506,1.2458613912807408,0.65745598762991253,{"$f":"+BP34/$DM$34*100","v":5.0164954172838921E-2},4.9273788516356731,3.4731853565547892,1.5987865982849487,0.2561363542472011,1.239369456034844E-2,4.2522175860624056,1.7321663587915557,0.68165320081916425,0.22957843733216873,3.4820379955264665E-2,3.2341641043194977,1.4884236991047031,1.1478921866608436,0.11449413070036178,2.9508796572258189E-3,1.7705277943354913E-3,3.4820379955264665E-2,8.4985334128103593E-2,1.7705277943354913E-2,0,0.15580644590152323,1.8295453874800079E-2,6.4919352458968019E-3,0,0,0.26912022473899466,4.0155570375528944,3.5168583754817311,0.36059749411299508,0.10800219545446497,8.6702746088609022,{"$f":"+CV34/$DM$34*100","v":6.2163230859119105},7.4344462084147285,5.6645085900106817,31.448114682987001,1.2747800119215538,3.3043950401614723,4.210905270861244,10.267880855282959,6.9304359629605585,5.9879250004426323,0.13928151982105866,0.18059383502222012,62.923377458820475,26.287026162499039,8.911656564821973,1.7557733960493624,0.12216641780914891,{"$f":"SUM(DM50:DM72)","v":99.99586876847988}]
[]
[]
[null,"Legenda"]
[null,"MP",{"$f":"+C38","v":"< 5 ha"}]
[null,"P",{"$f":"+C39","v":">= 5  e < 25 ha"}]
[null,"M",">= 25  e < 200 ha"]
[null,"G",">= 200  e < 1 000 ha"]
[null,"MG",">= 1 000 ha"]
["Fonte: GPP a partir de dados IFAP"]

{"sheet":"CHART-Geral","index":2,"n_rows":59,"n_cols":39,"rows_kept":59,"cut":false,"hidden":true,"merged":[[0,0,1,17],[4,12,4,13],[30,7,32,10],[58,0,58,2],[4,2,4,7]]}
[{"$f":"+\"Valores Globais \" & TRIM(INDEX(Sheet6!$D$2:$D$117,Sheet3!$C$1))","v":"Valores Globais (1) - Nº de Beneficiários"}]
[]
[null,"Tipo de Beneficiário:",{"$f":"INDEX(Sheet6!$P$1:$P$6,Sheet3!$A$2)","v":"Todos os Produtores do PU"},null,null,null,null,null,null,null,null,null,null,null,"Valor total:",{"$f":"+Base!$DM$34","v":169441},{"$f":"+\"(\" & (INDEX(Sheet6!$G$2:$G$117,Sheet3!$C$1)) & \")\"","v":"(Nº )"}]
[null,null,null,null,null,null,null,null,null,null,null,null,null,null,null,null,null,null,null,null,null,null,null,null,null,null,null,null,null,null,null,null,null,null,null,null,{"$f":"+Base!A11","v":"Norte "},{"$f":"+SUM(Base!DM11:DM18)","v":88238}]
[null,null,{"$f":"+\"Por \" & INDEX(Sheet6!$M$3:$M$6,Sheet3!$B$1)","v":"Por Classes de Superfície Agrícola"},null,null,null,null,null,null,null,null,null,"Por NUTII",null,null,null,null,null,null,null,null,null,null,null,null,null,null,null,null,null,null,null,null,null,null,null,{"$f":"+Base!A19","v":"Centro"},{"$f":"+SUM(Base!DM19:DM26)","v":48249}]
[null,null,null,null,null,null,null,null,null,null,null,null,null,null,null,null,null,null,null,null,null,null,null,null,null,null,null,null,null,null,null,null,null,null,null,null,{"$f":"+Base!A27","v":"AML"},{"$f":"+SUM(Base!DM27)","v":1569}]
[null,null,null,null,null,null,null,null,null,null,null,null,null,null,null,null,null,null,null,null,null,null,null,null,null,null,null,null,null,null,null,null,null,null,null,null,{"$f":"+Base!A28","v":"Alentejo"},{"$f":"+SUM(Base!DM28:DM32)","v":26820}]
[null,null,null,null,null,null,null,null,null,null,null,null,null,null,null,null,null,null,null,null,null,null,null,null,null,null,null,null,null,null,null,null,null,null,null,null,{"$f":"+Base!A33","v":"Algarve"},{"$f":"+SUM(Base!DM33)","v":4558}]
[null,null,null,null,null,null,null,null,null,null,null,null,null,null,null,null,null,null,null,null,null,null,null,null,null,null,null,null,null,null,null,null,null,null,null,null,null,{"$f":"SUM(AL4:AL8)","v":169434},{"$f":"+AL9-Base!DM34","v":-7}]
[]
[]
[]
[null,null,null,null,null,null,null,null,null,null,null,null,null,null,null,null,null,null,null,null,null,null,null,null,null,null,null,null,null,null,null,null,null,null,null,null,"Grandes Culturas (Arvenses e Industriais)",{"$f":"+SUM(Base!CQ34:CT34)+Base!DF34+Base!DG34","v":14099}]
[null,null,null,null,null,null,null,null,null,null,null,null,null,null,null,null,null,null,null,null,null,null,null,null,null,null,null,null,null,null,null,null,null,null,null,null,"Horticultura Intensiva",{"$f":"+Base!CU34","v":14691}]
[null,null,null,null,null,null,null,null,null,null,null,null,null,null,null,null,null,null,null,null,null,null,null,null,null,null,null,null,null,null,null,null,null,null,null,null,"Culturas Permanentes",{"$f":"+SUM(Base!CV34:CX34)","v":32728}]
[null,null,null,null,null,null,null,null,null,null,null,null,null,null,null,null,null,null,null,null,null,null,null,null,null,null,null,null,null,null,null,null,null,null,null,null,"Leite",{"$f":"+Base!CZ34","v":2160}]
[null,null,null,null,null,null,null,null,null,null,null,null,null,null,null,null,null,null,null,null,null,null,null,null,null,null,null,null,null,null,null,null,null,null,null,null,"Outros herbívoros",{"$f":"+SUM(Base!DA34:DC34)","v":30132}]
[null,null,null,null,null,null,null,null,null,null,null,null,null,null,null,null,null,null,null,null,null,null,null,null,null,null,null,null,null,null,null,null,null,null,null,null,"Mistas",{"$f":"+Base!CY34+Base!DD34+Base!DE34+Base!CP34","v":75631}]
[null,null,null,null,null,null,null,null,null,null,null,null,null,null,null,null,null,null,null,null,null,null,null,null,null,null,null,null,null,null,null,null,null,null,null,null,null,{"$f":"SUM(AL13:AL18)","v":169441}]
[]
[]
[]
[]
[]
["Legenda"]
["MP",{"$f":"+Base!C38","v":"< 5 ha"}]
["P",{"$f":"+Base!C39","v":">= 5  e < 25 ha"}]
["M",{"$f":"+Base!C40","v":">= 25  e < 200 ha"}]
["G",{"$f":"+Base!C41","v":">= 200  e < 1 000 ha"}]
["MG",{"$f":"+Base!C42","v":">= 1 000 ha"}]
[null,null,null,null,null,null,null,"Por Grande Orientação Produtiva"]
[]
[]
[]
[]
[]
[]
[]
[]
[]
[]
[]
[]
[]
[]
[]
[]
[]
[]
[]
[]
[]
[]
[]
[]
[]
[]
[]
["Fonte: GPP a partir de dados IFAP"]

{"sheet":"CHART-NUTIII-DE","index":3,"n_rows":89,"n_cols":19,"rows_kept":89,"cut":false,"hidden":true,"merged":[[0,0,1,19],[46,0,47,19],[2,16,2,17],[88,0,88,2]]}
[{"$f":"+INDEX(Sheet6!$D$2:$D$117,Sheet3!$C$1)& \" por NUTIII e por \" & INDEX(Sheet6!$M$3:$M$6,Sheet3!$B$1)","v":"(1) - Nº de Beneficiários por NUTIII e por Classes de Superfície Agrícola"}]
[]
[{"$f":"+Base!C7","v":"Unidade: Nº "},null,null,"Tipo de Beneficiário:",{"$f":"INDEX(Sheet6!$P$1:$P$6,Sheet3!$A$2)","v":"Todos os Produtores do PU"},null,null,null,null,null,null,null,null,null,null,"Valor total:",{"$f":"+Base!$DM$34","v":169441},null,{"$f":"+\"(\" & (INDEX(Sheet6!$G$2:$G$117,Sheet3!$C$1)) & \")\"","v":"(Nº )"}]
[]
[]
[]
[]
[]
[]
[]
[]
[]
[]
[]
[]
[]
[]
[]
[]
[]
[]
[]
[]
[]
[]
[]
[]
[]
[]
[]
[]
[]
[]
[]
[]
[]
[]
[]
[]
["Legenda"]
["MP",{"$f":"+Base!C38","v":"< 5 ha"}]
["P",{"$f":"+Base!C39","v":">= 5  e < 25 ha"}]
["M",{"$f":"+Base!C40","v":">= 25  e < 200 ha"}]
["G",{"$f":"+Base!C41","v":">= 200  e < 1 000 ha"}]
["MG",{"$f":"+Base!C42","v":">= 1 000 ha"}]
[]
[{"$f":"+\"Estrutura: \"&INDEX(Sheet6!$D$2:$D$117,Sheet3!$C$1)& \", por NUTIII e por \" & INDEX(Sheet6!$M$3:$M$6,Sheet3!$B$1)","v":"Estrutura: (1) - Nº de Beneficiários, por NUTIII e por Classes de Superfície Agrícola"}]
[]
[]
[]
[]
[]
[]
[]
[]
[]
[]
[]
[]
[]
[]
[]
[]
[]
[]
[]
[]
[]
[]
[]
[]
[]
[]
[]
[]
[]
[]
[]
[]
[]
[]
[]
[]
[]
[]
[]
[]
[]
["Fonte: GPP a partir de dados IFAP"]

{"sheet":"CHART-NUTIII-GOP","index":4,"n_rows":89,"n_cols":42,"rows_kept":89,"cut":false,"hidden":true,"merged":[[0,0,1,19],[46,0,47,19],[2,16,2,17],[88,0,88,2]]}
[{"$f":"+INDEX(Sheet6!$D$2:$D$117,Sheet3!$C$1)& \" por NUTIII e por Grande Orientação Produtiva\"","v":"(1) - Nº de Beneficiários por NUTIII e por Grande Orientação Produtiva"}]
[]
[{"$f":"+Base!C7","v":"Unidade: Nº "},null,null,"Tipo de Beneficiário:",{"$f":"INDEX(Sheet6!$P$1:$P$6,Sheet3!$A$2)","v":"Todos os Produtores do PU"},null,null,null,null,null,null,null,null,null,null,"Valor total:",{"$f":"+Base!$DM$34","v":169441},null,{"$f":"+\"(\" & (INDEX(Sheet6!$G$2:$G$117,Sheet3!$C$1)) & \")\"","v":"(Nº )"}]
[]
[null,null,null,null,null,null,null,null,null,null,null,null,null,null,null,null,null,null,null,null,null,null,null,null,null,null,null,null,null,null,null,null,null,null,null,null,"Grandes Culturas (Arvenses e Industriais)","Horticultura Intensiva","Culturas Permanentes","Leite","Outros herbívoros","Mistas"]
[null,null,null,null,null,null,null,null,null,null,null,null,null,null,null,null,null,null,null,null,null,null,null,null,null,null,null,null,null,null,null,null,null,null,null,{"$f":"Base!C11","v":"Alto Minho"},{"$f":"SUM(Base!CQ11:CT11)+Base!DF11+Base!DG11","v":498},{"$f":"Base!CU11","v":163},{"$f":"SUM(Base!CV11:CX11)","v":842},{"$f":"Base!CZ11","v":71},{"$f":"SUM(Base!DA11:DC11)","v":2719},{"$f":"Base!CY11+Base!DD11+Base!DE11+Base!CP11","v":3690}]
[null,null,null,null,null,null,null,null,null,null,null,null,null,null,null,null,null,null,null,null,null,null,null,null,null,null,null,null,null,null,null,null,null,null,null,{"$f":"Base!C12","v":"Cávado"},{"$f":"SUM(Base!CQ12:CT12)+Base!DF12+Base!DG12","v":1255},{"$f":"Base!CU12","v":419},{"$f":"SUM(Base!CV12:CX12)","v":361},{"$f":"Base!CZ12","v":453},{"$f":"SUM(Base!DA12:DC12)","v":1309},{"$f":"Base!CY12+Base!DD12+Base!DE12+Base!CP12","v":3525}]
[null,null,null,null,null,null,null,null,null,null,null,null,null,null,null,null,null,null,null,null,null,null,null,null,null,null,null,null,null,null,null,null,null,null,null,{"$f":"Base!C13","v":"Ave"},{"$f":"SUM(Base!CQ13:CT13)+Base!DF13+Base!DG13","v":666},{"$f":"Base!CU13","v":111},{"$f":"SUM(Base!CV13:CX13)","v":433},{"$f":"Base!CZ13","v":150},{"$f":"SUM(Base!DA13:DC13)","v":1746},{"$f":"Base!CY13+Base!DD13+Base!DE13+Base!CP13","v":1825}]
[null,null,null,null,null,null,null,null,null,null,null,null,null,null,null,null,null,null,null,null,null,null,null,null,null,null,null,null,null,null,null,null,null,null,null,{"$f":"Base!C14","v":"Área Metropolitana do Porto"},{"$f":"SUM(Base!CQ14:CT14)+Base!DF14+Base!DG14","v":949},{"$f":"Base!CU14","v":238},{"$f":"SUM(Base!CV14:CX14)","v":301},{"$f":"Base!CZ14","v":610},{"$f":"SUM(Base!DA14:DC14)","v":814},{"$f":"Base!CY14+Base!DD14+Base!DE14+Base!CP14","v":2116}]
[null,null,null,null,null,null,null,null,null,null,null,null,null,null,null,null,null,null,null,null,null,null,null,null,null,null,null,null,null,null,null,null,null,null,null,{"$f":"Base!C15","v":"Alto Tâmega"},{"$f":"SUM(Base!CQ15:CT15)+Base!DF15+Base!DG15","v":883},{"$f":"Base!CU15","v":1292},{"$f":"SUM(Base!CV15:CX15)","v":1655},{"$f":"Base!CZ15","v":84},{"$f":"SUM(Base!DA15:DC15)","v":3335},{"$f":"Base!CY15+Base!DD15+Base!DE15+Base!CP15","v":5451}]
[null,null,null,null,null,null,null,null,null,null,null,null,null,null,null,null,null,null,null,null,null,null,null,null,null,null,null,null,null,null,null,null,null,null,null,{"$f":"Base!C16","v":"Tâmega e Sousa"},{"$f":"SUM(Base!CQ16:CT16)+Base!DF16+Base!DG16","v":609},{"$f":"Base!CU16","v":385},{"$f":"SUM(Base!CV16:CX16)","v":1438},{"$f":"Base!CZ16","v":30},{"$f":"SUM(Base!DA16:DC16)","v":848},{"$f":"Base!CY16+Base!DD16+Base!DE16+Base!CP16","v":3984}]
[null,null,null,null,null,null,null,null,null,null,null,null,null,null,null,null,null,null,null,null,null,null,null,null,null,null,null,null,null,null,null,null,null,null,null,{"$f":"Base!C17","v":"Douro"},{"$f":"SUM(Base!CQ17:CT17)+Base!DF17+Base!DG17","v":257},{"$f":"Base!CU17","v":1606},{"$f":"SUM(Base!CV17:CX17)","v":7800},{"$f":"Base!CZ17","v":93},{"$f":"SUM(Base!DA17:DC17)","v":1154},{"$f":"Base!CY17+Base!DD17+Base!DE17+Base!CP17","v":8989}]
[null,null,null,null,null,null,null,null,null,null,null,null,null,null,null,null,null,null,null,null,null,null,null,null,null,null,null,null,null,null,null,null,null,null,null,{"$f":"Base!C18","v":"Terras de Trás-os-Montes"},{"$f":"SUM(Base!CQ18:CT18)+Base!DF18+Base!DG18","v":634},{"$f":"Base!CU18","v":4914},{"$f":"SUM(Base!CV18:CX18)","v":4382},{"$f":"Base!CZ18","v":27},{"$f":"SUM(Base!DA18:DC18)","v":1037},{"$f":"Base!CY18+Base!DD18+Base!DE18+Base!CP18","v":12082}]
[null,null,null,null,null,null,null,null,null,null,null,null,null,null,null,null,null,null,null,null,null,null,null,null,null,null,null,null,null,null,null,null,null,null,null,{"$f":"Base!C19","v":"Oeste"},{"$f":"SUM(Base!CQ19:CT19)+Base!DF19+Base!DG19","v":114},{"$f":"Base!CU19","v":184},{"$f":"SUM(Base!CV19:CX19)","v":880},{"$f":"Base!CZ19","v":11},{"$f":"SUM(Base!DA19:DC19)","v":562},{"$f":"Base!CY19+Base!DD19+Base!DE19+Base!CP19","v":590}]
[null,null,null,null,null,null,null,null,null,null,null,null,null,null,null,null,null,null,null,null,null,null,null,null,null,null,null,null,null,null,null,null,null,null,null,{"$f":"Base!C20","v":"Região de Aveiro"},{"$f":"SUM(Base!CQ20:CT20)+Base!DF20+Base!DG20","v":1622},{"$f":"Base!CU20","v":238},{"$f":"SUM(Base!CV20:CX20)","v":268},{"$f":"Base!CZ20","v":224},{"$f":"SUM(Base!DA20:DC20)","v":389},{"$f":"Base!CY20+Base!DD20+Base!DE20+Base!CP20","v":1695}]
[null,null,null,null,null,null,null,null,null,null,null,null,null,null,null,null,null,null,null,null,null,null,null,null,null,null,null,null,null,null,null,null,null,null,null,{"$f":"Base!C21","v":"Região de Coimbra"},{"$f":"SUM(Base!CQ21:CT21)+Base!DF21+Base!DG21","v":1752},{"$f":"Base!CU21","v":669},{"$f":"SUM(Base!CV21:CX21)","v":493},{"$f":"Base!CZ21","v":136},{"$f":"SUM(Base!DA21:DC21)","v":708},{"$f":"Base!CY21+Base!DD21+Base!DE21+Base!CP21","v":3044}]
[null,null,null,null,null,null,null,null,null,null,null,null,null,null,null,null,null,null,null,null,null,null,null,null,null,null,null,null,null,null,null,null,null,null,null,{"$f":"Base!C22","v":"Região de Leiria"},{"$f":"SUM(Base!CQ22:CT22)+Base!DF22+Base!DG22","v":292},{"$f":"Base!CU22","v":419},{"$f":"SUM(Base!CV22:CX22)","v":376},{"$f":"Base!CZ22","v":17},{"$f":"SUM(Base!DA22:DC22)","v":560},{"$f":"Base!CY22+Base!DD22+Base!DE22+Base!CP22","v":1497}]
[null,null,null,null,null,null,null,null,null,null,null,null,null,null,null,null,null,null,null,null,null,null,null,null,null,null,null,null,null,null,null,null,null,null,null,{"$f":"Base!C23","v":"Viseu Dão Lafões"},{"$f":"SUM(Base!CQ23:CT23)+Base!DF23+Base!DG23","v":743},{"$f":"Base!CU23","v":805},{"$f":"SUM(Base!CV23:CX23)","v":909},{"$f":"Base!CZ23","v":72},{"$f":"SUM(Base!DA23:DC23)","v":1226},{"$f":"Base!CY23+Base!DD23+Base!DE23+Base!CP23","v":4206}]
[null,null,null,null,null,null,null,null,null,null,null,null,null,null,null,null,null,null,null,null,null,null,null,null,null,null,null,null,null,null,null,null,null,null,null,{"$f":"Base!C24","v":"Beira Baixa"},{"$f":"SUM(Base!CQ24:CT24)+Base!DF24+Base!DG24","v":175},{"$f":"Base!CU24","v":311},{"$f":"SUM(Base!CV24:CX24)","v":983},{"$f":"Base!CZ24","v":3},{"$f":"SUM(Base!DA24:DC24)","v":1114},{"$f":"Base!CY24+Base!DD24+Base!DE24+Base!CP24","v":1990}]
[null,null,null,null,null,null,null,null,null,null,null,null,null,null,null,null,null,null,null,null,null,null,null,null,null,null,null,null,null,null,null,null,null,null,null,{"$f":"Base!C25","v":"Médio Tejo"},{"$f":"SUM(Base!CQ25:CT25)+Base!DF25+Base!DG25","v":128},{"$f":"Base!CU25","v":289},{"$f":"SUM(Base!CV25:CX25)","v":1001},{"$f":"Base!CZ25","v":11},{"$f":"SUM(Base!DA25:DC25)","v":517},{"$f":"Base!CY25+Base!DD25+Base!DE25+Base!CP25","v":2102}]
[null,null,null,null,null,null,null,null,null,null,null,null,null,null,null,null,null,null,null,null,null,null,null,null,null,null,null,null,null,null,null,null,null,null,null,{"$f":"Base!C26","v":"Beiras e Serra da Estrela"},{"$f":"SUM(Base!CQ26:CT26)+Base!DF26+Base!DG26","v":954},{"$f":"Base!CU26","v":1704},{"$f":"SUM(Base!CV26:CX26)","v":2363},{"$f":"Base!CZ26","v":59},{"$f":"SUM(Base!DA26:DC26)","v":2929},{"$f":"Base!CY26+Base!DD26+Base!DE26+Base!CP26","v":6909}]
[null,null,null,null,null,null,null,null,null,null,null,null,null,null,null,null,null,null,null,null,null,null,null,null,null,null,null,null,null,null,null,null,null,null,null,{"$f":"Base!C27","v":"Área Metropolitana de Lisboa"},{"$f":"SUM(Base!CQ27:CT27)+Base!DF27+Base!DG27","v":224},{"$f":"Base!CU27","v":87},{"$f":"SUM(Base!CV27:CX27)","v":256},{"$f":"Base!CZ27","v":27},{"$f":"SUM(Base!DA27:DC27)","v":545},{"$f":"Base!CY27+Base!DD27+Base!DE27+Base!CP27","v":428}]
[null,null,null,null,null,null,null,null,null,null,null,null,null,null,null,null,null,null,null,null,null,null,null,null,null,null,null,null,null,null,null,null,null,null,null,{"$f":"Base!C28","v":"Alentejo Litoral"},{"$f":"SUM(Base!CQ28:CT28)+Base!DF28+Base!DG28","v":195},{"$f":"Base!CU28","v":113},{"$f":"SUM(Base!CV28:CX28)","v":354},{"$f":"Base!CZ28","v":17},{"$f":"SUM(Base!DA28:DC28)","v":1183},{"$f":"Base!CY28+Base!DD28+Base!DE28+Base!CP28","v":1375}]
[null,null,null,null,null,null,null,null,null,null,null,null,null,null,null,null,null,null,null,null,null,null,null,null,null,null,null,null,null,null,null,null,null,null,null,{"$f":"Base!C29","v":"Baixo Alentejo"},{"$f":"SUM(Base!CQ29:CT29)+Base!DF29+Base!DG29","v":798},{"$f":"Base!CU29","v":102},{"$f":"SUM(Base!CV29:CX29)","v":2559},{"$f":"Base!CZ29","v":5},{"$f":"SUM(Base!DA29:DC29)","v":2179},{"$f":"Base!CY29+Base!DD29+Base!DE29+Base!CP29","v":2653}]
[null,null,null,null,null,null,null,null,null,null,null,null,null,null,null,null,null,null,null,null,null,null,null,null,null,null,null,null,null,null,null,null,null,null,null,{"$f":"Base!C30","v":"Lezíria do Tejo"},{"$f":"SUM(Base!CQ30:CT30)+Base!DF30+Base!DG30","v":806},{"$f":"Base!CU30","v":93},{"$f":"SUM(Base!CV30:CX30)","v":497},{"$f":"Base!CZ30","v":21},{"$f":"SUM(Base!DA30:DC30)","v":468},{"$f":"Base!CY30+Base!DD30+Base!DE30+Base!CP30","v":1251}]
[null,null,null,null,null,null,null,null,null,null,null,null,null,null,null,null,null,null,null,null,null,null,null,null,null,null,null,null,null,null,null,null,null,null,null,{"$f":"Base!C31","v":"Alto Alentejo"},{"$f":"SUM(Base!CQ31:CT31)+Base!DF31+Base!DG31","v":145},{"$f":"Base!CU31","v":143},{"$f":"SUM(Base!CV31:CX31)","v":1522},{"$f":"Base!CZ31","v":14},{"$f":"SUM(Base!DA31:DC31)","v":2109},{"$f":"Base!CY31+Base!DD31+Base!DE31+Base!CP31","v":1720}]
[null,null,null,null,null,null,null,null,null,null,null,null,null,null,null,null,null,null,null,null,null,null,null,null,null,null,null,null,null,null,null,null,null,null,null,{"$f":"Base!C32","v":"Alentejo Central"},{"$f":"SUM(Base!CQ32:CT32)+Base!DF32+Base!DG32","v":298},{"$f":"Base!CU32","v":140},{"$f":"SUM(Base!CV32:CX32)","v":1717},{"$f":"Base!CZ32","v":25},{"$f":"SUM(Base!DA32:DC32)","v":2284},{"$f":"Base!CY32+Base!DD32+Base!DE32+Base!CP32","v":2029}]
[null,null,null,null,null,null,null,null,null,null,null,null,null,null,null,null,null,null,null,null,null,null,null,null,null,null,null,null,null,null,null,null,null,null,null,{"$f":"Base!C33","v":"Algarve"},{"$f":"SUM(Base!CQ33:CT33)+Base!DF33+Base!DG33","v":81},{"$f":"Base!CU33","v":266},{"$f":"SUM(Base!CV33:CX33)","v":1333},{"$f":"Base!CZ33","v":0},{"$f":"SUM(Base!DA33:DC33)","v":397},{"$f":"Base!CY33+Base!DD33+Base!DE33+Base!CP33","v":2479}]
[null,null,null,null,null,null,null,null,null,null,null,null,null,null,null,null,null,null,null,null,null,null,null,null,null,null,null,null,null,null,null,null,null,null,null,"Continente",{"$f":"SUM(AK6:AK28)","v":14078},{"$f":"SUM(AL6:AL28)","v":14691},32723,2160,30132,75630]
[]
[]
[]
[]
[]
[]
[]
[]
[]
[]
[]
[]
[]
[]
[]
[]
[]
[{"$f":"+\"Estrutura: \"&INDEX(Sheet6!$D$2:$D$117,Sheet3!$C$1)& \", por NUTIII e por Grande Orientação Produtiva\"","v":"Estrutura: (1) - Nº de Beneficiários, por NUTIII e por Grande Orientação Produtiva"}]
[]
[]
[]
[]
[]
[]
[]
[]
[]
[]
[]
[]
[]
[]
[]
[]
[]
[]
[]
[]
[]
[]
[]
[]
[]
[]
[]
[]
[]
[]
[]
[]
[]
[]
[]
[]
[]
[]
[]
[]
[]
["Fonte: GPP a partir de dados IFAP"]

{"sheet":"CHART-OTE-DE","index":5,"n_rows":50,"n_cols":19,"rows_kept":50,"cut":false,"hidden":true,"merged":[[0,0,1,18],[2,16,2,17],[49,0,49,2]]}
[{"$f":"+INDEX(Sheet6!$D$2:$D$117,Sheet3!$C$1)& \" por OTE e por \" & INDEX(Sheet6!$M$3:$M$6,Sheet3!$B$1)","v":"(1) - Nº de Beneficiários por OTE e por Classes de Superfície Agrícola"}]
[]
[{"$f":"+Base!C7","v":"Unidade: Nº "},null,null,"Tipo de Beneficiário:",{"$f":"INDEX(Sheet6!$P$1:$P$6,Sheet3!$A$2)","v":"Todos os Produtores do PU"},null,null,null,null,null,null,null,null,null,null,"Valor total:",{"$f":"+Base!$DM$34","v":169441},null,{"$f":"+\"(\" & (INDEX(Sheet6!$G$2:$G$117,Sheet3!$C$1)) & \")\"","v":"(Nº )"}]
[]
[]
[]
[]
[]
[]
[]
[]
[]
[]
[]
[]
[]
[]
[]
[]
[]
[]
[]
[]
[]
[]
[]
[]
[]
[]
[]
[]
[]
[]
[]
[]
[]
[]
[]
[]
[]
[]
[]
["Legenda"]
["MP",{"$f":"+Base!C38","v":"< 5 ha"}]
["P",{"$f":"+Base!C39","v":">= 5  e < 25 ha"}]
["M",{"$f":"+Base!C40","v":">= 25  e < 200 ha"}]
["G",{"$f":"+Base!C41","v":">= 200  e < 1 000 ha"}]
["MG",{"$f":"+Base!C42","v":">= 1 000 ha"}]
[]
["Fonte: GPP a partir de dados IFAP"]

{"sheet":"Sheet6","index":6,"n_rows":107,"n_cols":21,"rows_kept":107,"cut":false,"hidden":true,"merged":[]}
["Ano",2019,null,null,null,"desmultiplicador","Unidade",null,null,null,{"$f":"+INDEX(K2:K105,Sheet3!C1)","v":"Beneficiarios_PU_2019.pdf"},null,null,null,null,"Todos os Produtores do PU","<5"]
[null,1,"ContarDeGPP_ID","(1) - Nº de Beneficiários",1,1,"Nº ","Nº de Beneficiários",1,null,"Beneficiarios_PU_2019.pdf",null,null,null,null,"Beneficiários do RPA",1,null,null,null,"ContarDeGPP_ID"]
[null,2,"SomaDeVpp","(2) - Valor de Produção Padrão",2,1000,"1000 €","Valor de Produção Padrão",{"$f":"+I2+1","v":2},null,null,null,"Classe de DE",1,null,"Beneficiários do RPB",2,null,null,null,"SomaDeVpp"]
[null,3,"SomaDeSAU","(3) - Superfície Elegível (inclui Superfície Agrícola e Agro-Florestal Elegível)",3,1,"ha","Superfície Elegível (inclui Superfície Agrícola e Agro-Florestal Elegível)",{"$f":"+I3+1","v":3},null,"SPE_PU_2019.pdf",null,"Classes de Superfície Agrícola",2,null,"Apenas Pagamentos ligados e 2º Pilar",3,null,null,null,"SomaDeSAU"]
[null,4,"SumD_RPB","(3a) - Nº de Direitos de RPB","3a",1,"Nº ","Nº de Direitos de RPB",{"$f":"+E5","v":"3a"},null,null,null,"Classe de AD",3,null,"Apenas outras ajudas 2º Pilar",4]
[null,5,"SumMG_Direitos","(3b) - Montante Global dos Direitos de RPB","3b",1000,"1000 €","Montante Global dos Direitos de RPB",{"$f":"+E6","v":"3b"},null,null,null,null,null,null,null,null,null,null,null,"SomaDeSAU_IRRIG"]
[null,6,"SUmofSAU_est","(3c) - Superfície Agrícola (inc. Pastagens arbustivas)","3c",1,"ha","Superfície Agrícola (inc. Pastagens arbustivas)",{"$f":"+E7","v":"3c"},null,null,null,null,null,null,null,null,null,null,null,"SomaDeCult_Temp"]
[null,7,"SomaDeSAU_IRRIG","(4) - Superfície Agrícola de Regadio",4,1,"ha","Superfície Agrícola de Regadio",{"$f":"+E8","v":4},null,null,null,"MP","Muito Pequenas","< 4 000 € de VPP","< 5 ha","<  1250 €",null,null,null,"SomaDeSF"]
[null,8,"SomaDeCult_Temp","(5) - Culturas Temporárias",5,1,"ha","Culturas Temporárias",5,null,null,null,"P","Pequenas",">= 4 000 e < 25 000 € de VPP",">= 5  e < 25 ha",">= 1 250 e < 5 000 €",null,null,null,"SomaDePousio"]
[null,9,"SumOf_ARV_Ind_SEQ","(5a) - Culturas Arvenses e Indústriais de sequeiro","5a",1,"ha","Culturas Arvenses e Indústriais de sequeiro",{"$f":"+E10","v":"5a"},null,null,null,"MP","Médias",">= 25 000 e < 100 000 € de VPP",">= 25  e < 200 ha",">= 5 000 e < 50 000 €",null,null,null,"SomaDeCP"]
[null,10,"SumOf_ARV_Ind_Reg","(5b) - Culturas Arvenses e Indústriais de regadio","5b",1,"ha","Culturas Arvenses e Indústriais de regadio",{"$f":"+E11","v":"5b"},null,null,null,"G","Grandes",">= 100 000 e < 500 000 € de VPP",">= 200  e < 1 000 ha",">= 50 000 e < 300 000 €",null,null,null,"SomaDePP"]
[null,11,"SomaDeSF","(6) - Superfície Forrageira Temporária",6,1,"ha","Superfície Forrageira Temporária",6,null,null,null,"MG","Muito Grandes",">= 500 000  € de VPP",">= 1 000 ha",">= 300 000 €",null,null,null,"SomaDeCNH"]
[null,12,"SomaDePousio","(7) - Superfície de Pousio",7,1,"ha","Superfície de Pousio",7,null,null,null,null,null,null,null,null,null,null,null,"SomaDeCNT"]
[null,13,"SomaDeCP","(8) - Culturas Permanentes",8,1,"ha","Culturas Permanentes",8,null,null,null,null,null,null,null,null,null,null,null,"SomaDeS_RPB"]
[null,14,"SomaDePP","(9) - Superfície de Pastagens Permanentes",9,1,"ha","Superfície de Pastagens Permanentes",9,null,null,null,"MP","P","MP","G","MG",null,null,null,"SomaDeS_MAA"]
[null,15,"Sumpp_02cn","(9a) - Superfície de Pastagens com encabeçamento inferior a 0,2CN/ha de PP","9a",1,"ha","Superfície de Pastagens com encabeçamento inferior a 0,2CN/ha de PP","9a",null,null,null,"MP","P","MP","G","MG",null,null,null,"SomaDeS_MZD"]
[null,16,"SomaDeCNH","(10) - Nº de Cabeças Normais (Cn) de Herbívoros",10,1,"CN","Nº de Cabeças Normais (Cn) de Herbívoros",10,null,null,null,"Muito Pequenas","Pequenas","Médias","Grandes","Muito Grandes",null,null,null,"SomaDeAD_Totais2015"]
[null,17,"SomaDeCNT","(11) - Nº de Cabeças Normais (Cn) Totais",11,1,"CN","Nº de Cabeças Normais (Cn) Totais",11,null,null,null,"< 4000€ de VPP",">= 4000 e <25 000€ de VPP",">=25000 e <100 000€ de VPP",">= 100 000 e < 500 000 € de VPP",">= 500 000  € de VPP",null,null,null,"Ajudas_desligadas"]
[null,18,"SomaDeS_RPB","(12) - Superfície Agrícola Declarada para Activar Direitos de RPB",12,1,"ha","Superfície Agrícola Declarada para Activar Direitos de RPB",12,null,null,null,"< 5 ha",">= 5  e < 25 ha",">= 25  e < 200 ha","= 200  e < 1 000 ha",">= 1 000 ha",null,null,null,"SomaDeRPA"]
[null,19,"SomaDeS_MAA","(13) - Superfície Agrícola Declarada para Medidas Agroambientais",13,1,"ha","Superfície Agrícola Declarada para Medidas Agroambientais",13,null,null,null,{"$f":"+M$16& CHAR(10)  & M18","v":"MP\n< 4000€ de VPP"},"P\n>= 4000 e <25 000€ de VPP","MP\n>=25000 e <100 000€ de VPP","G\n>= 100 000 e < 500 000 € de VPP","MG\n>= 500 000  € de VPP",null,null,null,"RPB_Total"]
[null,20,"SomaDeS_MZD","(14) - Superfície Agrícola Declarada para MZDs",14,1,"ha","Superfície Agrícola Declarada para MZDs",14,null,null,null,"MP\n< 5 ha","P\n>= 5  e < 25 ha","MP\n>= 25  e < 200 ha","G\n= 200  e < 1 000 ha","MG\n>= 1 000 ha",null,null,null,"SomaDeRPBAJU"]
[null,21,"SomaDeAD_Totais2015","(15) - Montante Total das AD 1º Pilar (16+22)",15,1000,"1000 €","Montante Total das AD 1º Pilar (16+22)",15,null,"AD_PU_2019.pdf",null,null,null,null,null,null,null,null,null,"SomaDeRPBJOV"]
[null,22,"Ajudas_desligadas","    (16) - Total de pagamentos desligados (17+18+21+21a)",16,1000,"1000 €","Total de pagamentos desligados (17+18+21+21a)",16,"    ",null,null,null,null,null,null,null,null,null,null,"SomaDeGREEN"]
[null,23,"SomaDeRPA","        (17) - Montante Regime Pequena Agricultura",17,1000,"1000 €","Montante Regime Pequena Agricultura",17,"        "]
[null,24,"RPB_Total","        (18) - Regime Pagamento Base (RPB) [(19)+(20)]",18,1000,"1000 €","Regime Pagamento Base (RPB) [(19)+(20)]",18,"        ",null,null,null,null,null,null,null,null,null,null,"Pag_ligados"]
[null,25,"SomaDeRPBAJU","            (19) - RPB normal",19,1000,"1000 €","RPB normal",19,"            ",null,null,"MP","Muito Pequenas","< 4 000 € de VPP","< 4 ha","<  1250 €",null,null,null,"SomaDeVACAS_ALEIT"]
[null,26,"SomaDeRPBJOV","            (20) - RPB Jovens agricultores",20,1000,"1000 €","RPB Jovens agricultores",20,"            ",null,null,"P","Pequenas",">= 4 000 e < 25 000 € de VPP",">= 4  e < 25 ha",">= 1 250 e < 5 000 €",null,null,null,"SomaDePAG_OV_CAP"]
[null,27,"SomaDeGREEN","        (21) - Pagamento por Práticas Agrícolas Benéficas para o Ambiente (Greening)",21,1000,"1000 €","Pagamento por Práticas Agrícolas Benéficas para o Ambiente (Greening)",21,"        ",null,null,"MP","Médias",">= 25 000 e < 100 000 € de VPP",">= 25  e < 200 ha",">= 5 000 e < 50 000 €",null,null,null,"SomaDeVACAS_leite"]
[null,28,null,"        (21a) - Pagamento Redistributivo","21a",1000,"1000 €","Pagamento Redistributivo","21a","        ",null,null,"G","Grandes",">= 100 000 e < 500 000 € de VPP","= 200  e < 1 000 ha",">= 50 000 e < 300 000 €",null,null,null,"SomaDePAG_COMPL_Leite"]
[null,29,"Pag_ligados","    (22) - Total de pagamentos ligados (23+…..+28)",22,1000,"1000 €","Total de pagamentos ligados (23+…..+28)",22,"    ",null,null,"MG","Muito Grandes",">= 500 000  € de VPP",">= 1 000 ha",">= 300 000 €",null,null,null,"SomaDePAG_TOMATE"]
[null,30,"SomaDeVACAS_ALEIT","        (23) - Prémio às vacas em aleitamento",23,1000,"1000 €","Prémio às vacas em aleitamento",23,"        ",null,null,null,null,null,null,null,null,null,null,"SomaDePAG_ARROZ"]
[null,31,"SomaDePAG_OV_CAP","        (24) - Prémio aos ovinos e caprinos",24,1000,"1000 €","Prémio aos ovinos e caprinos",24,"        "]
[null,32,"SomaDeVACAS_leite","        (25) - Prémio à vaca leiteira",25,1000,"1000 €","Prémio à vaca leiteira",25,"        "]
[null,33,"SomaDePAG_COMPL_Leite","        (26) - Apoio Específico aos produtores de Leite (Medida 1 e 2) 2016",26,1000,"1000 €","Apoio Específico aos produtores de Leite (Medida 1 e 2) 2016",26,"        "]
[null,34,"SomaDePAG_TOMATE","        (27) - Pagamento Específico por superfície ao tomate ",27,1000,"1000 €","Pagamento Específico por superfície ao tomate ",27,"        "]
[null,35,"SomaDePAG_ARROZ","        (28) - Pagamento Específico por superfície ao arroz",28,1000,"1000 €","Pagamento Específico por superfície ao arroz",28,"        "]
[null,36,"2_pilar","(29) - Total de Pagamentos Superfície Desenvolvimento Rural ((30)+(34))",29,1000,"1000 €","Total de Pagamentos Superfície Desenvolvimento Rural ((30)+(34))",29,null,"MAA_MZD_PU_2019.pdf"]
[null,37,"MZD","     (30) - Medida Zonas Desfavorecidas (MZD)",30,1000,"1000 €","Medida Zonas Desfavorecidas (MZD)",30,"     ","MZD_Medida Zonas desfavorecidas.pdf"]
[null,38,"AZDZCE","            (31) - Zona Condicionantes Específicas",31,1000,"1000 €","Zona Condicionantes Específicas",31,"            ","MZD_ZCE Zona Condicionantes Específicas.pdf"]
[null,39,"AZDZCN","            (32) - Zona Outras Condicionantes Naturais",32,1000,"1000 €","Zona Outras Condicionantes Naturais",32,"            ","MZD_ZCN Zona Outras Condicionantes Naturais.pdf"]
[null,40,"AZDZMT","            (33) - Zona De Montanha",33,1000,"1000 €","Zona De Montanha (mapa)",33,"            ","MZD_ZM Zona de Montanha.pdf"]
[null,41,"MAA","     (34) - Medidas Agroambientais",34,1000,"1000 €","Medidas Agroambientais",34,"     ","MAA_Medidas Agroambientais.pdf"]
[null,42,"MAAABC","            (35) - Maa-Agric.Biológica - Conv",35,1000,"1000 €","Maa-Agric.Biológica - Conv",35,"            ","MAAABC_Agricultura Biológica - Transitada da Produção Integrada.pdf"]
[null,43,"MAAABM","            (36) - Maa-Agric.Biológica - Manut",36,1000,"1000 €","Maa-Agric.Biológica - Manut",36,"            ","MAAABM_Agricultura Biológica – Manutenção.pdf"]
[null,44,"MAAAPI","            (37) - Apoio Agroambiental À Apicultura",37,1000,"1000 €","Apoio Agroambiental À Apicultura",37,"            ","MAAPI_apoio à Apicultura.pdf"]
[null,45,"MAACPD","            (38) - Maa - Douro Vinhateiro",38,1000,"1000 €","Maa - Douro Vinhateiro",38,"            ","MAACPD_apoio Douro Vinhateiro.pdf"]
[null,46,"MAACPT","            (39) - Culturas Permanentes Tradicionais",39,1000,"1000 €","Culturas Permanentes Tradicionais",39,"            ","MAACPT_ Culturas Permanentes Tradicionais.pdf"]
[null,47,"MAACSE","            (40) - Maa-Conservação Solo-Enr.Entr",40,1000,"1000 €","Maa-Conservação Solo-Enr.Entr",40,"            ","MAACSE_Conservação do Solo - Enrelvamento da Entrelinha de Culturas Permanentes.pdf"]
[null,48,"MAACSS","            (41) - Maa-Conservação Solo-Sem Dir",41,1000,"1000 €","Maa-Conservação Solo-Sem Dir",41,"            ","MAACSS_Conservação do Solo - Sementeira Direta ou Mobilização na Linha.pdf"]
[null,49,"MAAMAF","            (42) - Mosaico Agroflorestal",42,1000,"1000 €","Mosaico Agroflorestal",42,"            ","MAAMAF_ Mosaico AgroFlorestal.pdf"]
[null,50,"MAAMNS","            (43) - Maa - Soutos Notáveis",43,1000,"1000 €","Maa - Soutos Notáveis",43,"            ","MAAMNS_Conservação dos Soutos Notáveis da Terra Fria.pdf"]
[null,51,"MAAPDI","            (44) - Maa - Produçao Integrada",44,1000,"1000 €","Maa - Produçao Integrada",44,"            ","MAAPDI_Produção Integrada.pdf"]
[null,52,"MAAPGP","            (45) - Maa - Az Peneda/Gerês",45,1000,"1000 €","Maa - Az Peneda/Gerês",45,"            ","MAAPGP_Gestão de Pastoreio em áreas de Baldio -Peneda_Gerês.pdf"]
[null,53,"MAAPGS","            (46) - Maa - Manut. Socalcos",46,1000,"1000 €","Maa - Manut. Socalcos",46,"            ","MAAPGS_Manutenção de Socalcos - Peneda_Gerês.pdf"]
[null,54,"MAAPLR","            (47) - Maa - Lameiros De Regadio",47,1000,"1000 €","Maa - Lameiros De Regadio",47,"            ","MAAPLR_Pastoreio Extensivo - Apoio à Manutenção de Lameiros de Alto Valor Natural - Regadio.pdf"]
[null,55,"MAAPLS","            (48) - Maa - Lameiros De Sequeiro",48,1000,"1000 €","Maa - Lameiros De Sequeiro",48,"            ","MAAPLS_Pastoreio Extensivo - Apoio à Manutenção de Lameiros de Alto Valor Natural –  Sequeiro.pdf"]
[null,56,"MAAPMT","            (49) - Maa - Pastoreio Extensivo Ii",49,1000,"1000 €","Maa - Pastoreio Extensivo Ii",49,"            ","MAAPMT_Pastoreio Extensivo -Apoio à Manutenção de Sistemas Agro-silvo-pastoris sob Montado.pdf"]
[null,57,"MAAPPL","            (50) - Maa - Pastoreio Extensivo Iii",50,1000,"1000 €","Maa - Pastoreio Extensivo Iii",50,"            ","MAAPPL_Pastoreio Extensivo - Apoio à Proteção do Lobo Ibérico.pdf"]
[null,58,"MAARAE","            (51) - Maa - Rot. De Seq Iii",51,1000,"1000 €","Maa - Rot. De Seq Iii",51,"            ","MAARAE_Manutenção de Rotação de Sequeiro Cereal-Pousio - Outras Áreas Estepárias.pdf"]
[null,59,"MAARCV","            (52) - Maa - Rot. De Seq Ii",52,1000,"1000 €","Maa - Rot. De Seq Ii",52,"            ","MAARCV_Manutenção de Rotação de Sequeiro Cereal-Pousio AZ Castro Verde.pdf"]
[null,60,"MAARGN","            (53) - Raças",53,1000,"1000 €","Raças",53,"            ","MAARGN_ Recursos Genéticos – Manutenção de Raças Autóctones em risco.pdf"]
[null,61,"MAAROA","            (54) - Maa - Rot. De Seq I",54,1000,"1000 €","Maa - Rot. De Seq I",54,"            ","MAAROA_Manutenção de Rotação de Sequeiro Cereal-Pousio - AZ Montesinho_Nogueira e Douro Internacional, Sabor, Maçãs e Vale do Côa.pdf"]
[null,62,"MAAUEA","            (55) - Uso Eficiente Da Água Na Agricultura",55,1000,"1000 €","Uso Eficiente Da Água Na Agricultura",55,"            ","MAAUEA_Uso Eficiente da Água na Agricultura.pdf"]
[null,63,"PAg_Natura","            (56) - Pagamentos Natura",56,1000,"1000 €","Pagamentos Natura",56,"            ","PAgamentos_natura2018.pdf"]
[null,64,null,"(57) - Total de Pagamentos aos Produtores (15+29)",57,1000,"1000 €","Total de Pagamentos aos Produtores (15+29)",57,null,""]
[null,65,"Cereais_seq","     (58) - Superfície de Cereais De Outono-Inverno",58,1,"ha","Superfície de Cereais De Outono-Inverno",58,"     ",""]
[null,66,"Milho_grao","     (59) - Superfície de Milho Grão; ",59,1,"ha","Superfície de Milho Grão; ",59,"     ",""]
[null,67,"Arroz","     (60) - Superfície de Arroz; ",60,1,"ha","Superfície de Arroz; ",60,"     ",""]
[null,68,"Oleag_proteag","     (61) - Superfície de Oleaginosas E Proteaginosas; ",61,1,"ha","Superfície de Oleaginosas E Proteaginosas; ",61,"     ",""]
[null,69,"Horticolas","     (62) - Superfície de Hortícolas, Batata, Plantas E Flores; ",62,1,"ha","Superfície de Hortícolas, Batata, Plantas E Flores; ",62,"     ",""]
[null,70,"Forrag_prados_temp","     (63) - Superfície de Forragens E Prados Temporários; ",63,1,"ha","Superfície de Forragens E Prados Temporários; ",63,"     ",""]
[null,71,"Pousios","     (64) - Superfície de Pousios; ",64,1,"ha","Superfície de Pousios; ",64,"     ",""]
[null,72,"Pomares","     (65) - Superfície de Pomares; ",65,1,"ha","Superfície de Pomares; ",65,"     ",""]
[null,73,"Vinha","     (66) - Superfície de Vinha; ",66,1,"ha","Superfície de Vinha; ",66,"     ",""]
[null,74,"Olival","     (67) - Superfície de Olival; ",67,1,"ha","Superfície de Olival; ",{"$f":"+E75","v":67},"     ",""]
[null,75,"Past_prados_perm","     (68) - Superfície de Prados E Pastagens Permanentes; ",68,1,"ha","Superfície de Prados E Pastagens Permanentes; ",68,"     ",""]
[null,76,"Vacas_leite1","     (69) - Cabeças de Vacas Leiteiras",69,1,"Cab.","Cabeças de Vacas Leiteiras",69,"     ",""]
[null,77,"Vacas_aleit1","     (70) - Cabeças de Vacas Aleitantes",70,1,"Cab.","Cabeças de Vacas Aleitantes",70,"     ",""]
[null,78,"Outros_bov","     (71) - Cabeças de Outros Bovinos",71,1,"Cab.","Cabeças de Outros Bovinos",71,"     ",""]
[null,79,"Ovelhas","     (72) - Cabeças de Ovelhas",72,1,"Cab.","Cabeças de Ovelhas",72,"     ",""]
[null,80,"Outros_ovinos","     (73) - Cabeças de Outros Ovinos",73,1,"Cab.","Cabeças de Outros Ovinos",73,"     ",""]
[null,81,"Cabras","     (74) - Cabeças de Cabras",74,1,"Cab.","Cabeças de Cabras",74,"     ","www.gpp.pt"]
[null,82,"Outros_cap","     (75) - Cabeças de Outros Caprinos",75,1,"Cab.","Cabeças de Outros Caprinos",75,"     ",""]
[null,83,"PI_N","            (76) - Número de Produtores Maa - Produçao Integrada",76,1,"Nº ","Número de Produtores Maa - Produçao Integrada",76,"            ",""]
[null,84,"PI_SAU","            (77) - SA Declarada para Maa - Produçao Integrada",77,1,"ha","SA Declarada para Maa - Produçao Integrada",77,"            ","MAAPDI_PI_SAU.pdf"]
[null,85,"PABC_N","            (78) - Número de Produtores Maa-Agric.Biológica - Conv",78,1,"Nº ","Número de Produtores Maa-Agric.Biológica - Conv",78,"            ",""]
[null,86,"PABC_SAU","            (79) - SA Declarada para Maa-Agric.Biológica - Conv",79,1,"ha","SA Declarada para Maa-Agric.Biológica - Conv",79,"            ","MAAABC_PABC_SAU.pdf"]
[null,87,"PABM_N","            (80) - Número de Produtores Maa-Agric.Biológica - Manut",80,1,"Nº ","Número de Produtores Maa-Agric.Biológica - Manut",80,"            ",""]
[null,88,"PABM_SAU","            (81) - SA Declarada para Maa-Agric.Biológica - Manut",81,1,"ha","SA Declarada para Maa-Agric.Biológica - Manut",81,"            ","MAAABM_PABM_SAU.pdf"]
[null,89,"PUEA_N","            (82) - Número de Produtores Uso Eficiente Da Água Na Agricultura",82,1,"Nº ","Número de Produtores Uso Eficiente Da Água Na Agricultura",82,"            ",""]
[null,90,"PUEA_SAU","            (83) - SA Declarada para Uso Eficiente Da Água Na Agricultura",83,1,"ha","SA Declarada para Uso Eficiente Da Água Na Agricultura",83,"            ","MAAUEA_PUEA_SAU_Uso Eficiente da Água na Agricultura.pdf"]
[null,91,"PCPT_N","            (84) - Número de Produtores Culturas Permanentes Tradicionais",84,1,"Nº ","Número de Produtores Culturas Permanentes Tradicionais",84,"            ",""]
[null,92,"PCPT_SAU","            (85) - SA Declarada para Culturas Permanentes Tradicionais",85,1,"ha","SA Declarada para Culturas Permanentes Tradicionais",85,"            ","MAACPT_PCPT_SAU_Culturas Permanentes Tradicionais.pdf"]
[null,93,"PCSS_N","            (86) - Número de Produtores Maa-Conservação Solo-Sem Dir",86,1,"Nº ","Número de Produtores Maa-Conservação Solo-Sem Dir",86,"            ",""]
[null,94,"PCSS_SAU","            (87) - SA Declarada para Maa-Conservação Solo-Sem Dir",87,1,"ha","SA Declarada para Maa-Conservação Solo-Sem Dir",87,"            ","MAACSS_PCSS_SAU_Conservação do Solo - Sementeira Direta ou mobilização na linha.pdf"]
[null,95,"PCSE_N","            (88) - Número de Produtores Maa-Conservação Solo-Enr.Entr",88,1,"Nº ","Número de Produtores Maa-Conservação Solo-Enr.Entr",88,"            ",""]
[null,96,"PCSE_SAU","            (89) - SA Declarada para Maa-Conservação Solo-Enr.Entr",89,1,"ha","SA Declarada para Maa-Conservação Solo-Enr.Entr",89,"            ","MAACSE_PCSE_SAU_Conservação do Solo - Enrelvamento da Entrelinha de culuras permanentes.pdf"]
[null,97,"PPLS_N","            (90) - Número de Produtores Maa - Lameiros De Sequeiro",90,1,"Nº ","Número de Produtores Maa - Lameiros De Sequeiro",90,"            ",""]
[null,98,"PPLS_SAU","            (91) - SA Declarada para Maa - Lameiros De Sequeiro",91,1,"ha","SA Declarada para Maa - Lameiros De Sequeiro",91,"            ","MAAPLS_PPLS_SAU_Pastoreio Extensivo - Apoio à Manutenção de Lameiros de Alto Valor Natural –  Sequeiro.pdf"]
[null,99,"PPLR_N","            (92) - Número de Produtores Maa - Lameiros De Regadio",92,1,"Nº ","Número de Produtores Maa - Lameiros De Regadio",92,"            ",""]
[null,100,"PPLR_SAU","            (93) - SA Declarada para Maa - Lameiros De Regadio",93,1,"ha","SA Declarada para Maa - Lameiros De Regadio",93,"            ","MAAPLR_PPLR_SAU_Pastoreio Extensivo - Apoio à Manutenção de Lameiros de Alto Valor Natural –  Regadio.pdf"]
[null,101,"PPMT_N","            (94) - Número de Produtores Maa -Pastoreio Extensivo -Apoio à Manutenção de Sistemas Agro-silvo-pastoris sob Montado Ii",94,1,"Nº ","Número de Produtores Maa -Pastoreio Extensivo -Apoio à Manutenção de Sistemas Agro-silvo-pastoris sob Montado Ii",94,"            ",""]
[null,102,"PPMT_SAU","            (95) - SA Declarada para Maa - Pastoreio Extensivo -Apoio à Manutenção de Sistemas Agro-silvo-pastoris sob Montado Ii",95,1,"ha","SA Declarada para Maa - Pastoreio Extensivo -Apoio à Manutenção de Sistemas Agro-silvo-pastoris sob Montado Ii",95,"            ","MAAPPMT_PPMT_SAU_Pastoreio Extensivo -Apoio à Manutenção de Sistemas Agro-silvo-pastoris sob Montado.pdf"]
[null,103,"PPPL_N","            (96) - Número de Produtores Maa - Pastoreio Extensivo Apoio à Proteção do Lobo Ibérico",96,1,"Nº ","Número de Produtores Maa - Pastoreio Extensivo Apoio à Proteção do Lobo Ibérico",96,"            ",""]
[null,104,"PPPL_SAU","            (97) - SA Declarada para Maa - Pastoreio Extensivo Apoio à Proteção do Lobo Ibérico",97,1,"ha","SA Declarada para Maa - Pastoreio Extensivo Apoio à Proteção do Lobo Ibérico",97,"            ","MAAPPL_SAU_Pastoreio Extensivo - Apoio à Proteção do Lobo Ibérico.pdf"]
[null,105]
[null,106]

{"sheet":"Sheet3","index":7,"n_rows":31,"n_cols":116,"rows_kept":31,"cut":false,"hidden":true,"merged":[]}
[null,2,1,null,22,{"$f":"+INDEX(Sheet6!F2:F117,C1)","v":1}]
[1,{"$f":"+A2-1","v":0}]
[{"$f":"+INDEX(Sheet6!Q1:Q5,Sheet3!A2)","v":"<5"},null,{"$f":"SUM(I8:M8)","v":335},0,0,0,0,0,"1_1","1_1","1_1","1_1","1_1","1_2","1_2","1_2","1_2","1_2",2,2,2,2,2,3,3,3,3,3,4,4,4,4,4,5,5,5,5,5,6,6,6,6,6,7,7,7,7,7,8,8,8,8,8,9,9,9,9,9,"10_1","10_1","10_1","10_1","10_1","10_2","10_2","10_2","10_2","10_2",11,11,11,11,11,12,12,12,12,12,13,13,13,13,13,14,14,14,14,14,15,15,15,15,15,0,"1_1","1_2",2,3,4,5,6,7,8,9,"10_1","10_2",11,12,13,14,15,1,2,3,4,5]
[null,null,null,1,2,3,4,5,1,2,3,4,5,1,2,3,4,5,1,2,3,4,5,1,2,3,4,5,1,2,3,4,5,1,2,3,4,5,1,2,3,4,5,1,2,3,4,5,1,2,3,4,5,1,2,3,4,5,1,2,3,4,5,1,2,3,4,5,1,2,3,4,5,1,2,3,4,5,1,2,3,4,5,1,2,3,4,5,1,2,3,4,5,null,null,null,null,null,null,null,null,null,null,null,null,null,null,null,null,null,null,1,2,3,4,5]
[null,null,null,null,null,null,null,null,"Arvenses e Outras Cult pred. Regadio","Arvenses e Outras Cult pred. Regadio","Arvenses e Outras Cult pred. Regadio","Arvenses e Outras Cult pred. Regadio","Arvenses e Outras Cult pred. Regadio","Arvenses e Outras Cult pred. Sequeiro","Arvenses e Outras Cult pred. Sequeiro","Arvenses e Outras Cult pred. Sequeiro","Arvenses e Outras Cult pred. Sequeiro","Arvenses e Outras Cult pred. Sequeiro","Arroz","Arroz","Arroz","Arroz","Arroz","Horticultura e Industriais","Horticultura e Industriais","Horticultura e Industriais","Horticultura e Industriais","Horticultura e Industriais","Horticultura e Floricultura","Horticultura e Floricultura","Horticultura e Floricultura","Horticultura e Floricultura","Horticultura e Floricultura","Vinhos","Vinhos"]
[null,null,null,null,null,null,null,null,"Muito Pequenas","Pequenas","Médias","Grandes","Muito Grandes","Muito Pequenas","Pequenas","Médias","Grandes","Muito Grandes","Muito Pequenas","Pequenas","Médias","Grandes","Muito Grandes","Muito Pequenas","Pequenas","Médias","Grandes","Muito Grandes","Muito Pequenas","Pequenas","Médias","Grandes","Muito Grandes","Muito Pequenas","Pequenas"]
[null,null,"NUT'S III"]
[1,"111","Alto Minho",{"$f":"+SUMIFS(Sheet4!$DM$2:$DM$8270,Sheet4!$C$2:$C$8270,Sheet3!$B8,Sheet4!$D$2:$D$8270,Sheet3!D$3,Sheet4!$E$2:$E$8270,Sheet3!D$4,Sheet4!$A$2:$A$8270,Sheet3!$B$1,Sheet4!$B$2:$B$8270,Sheet3!$A$3)","v":0},{"$f":"+SUMIFS(Sheet4!$DM$2:$DM$8270,Sheet4!$C$2:$C$8270,Sheet3!$B8,Sheet4!$D$2:$D$8270,Sheet3!E$3,Sheet4!$E$2:$E$8270,Sheet3!E$4,Sheet4!$A$2:$A$8270,Sheet3!$B$1,Sheet4!$B$2:$B$8270,Sheet3!$A$3)","v":0},{"$f":"+SUMIFS(Sheet4!$DM$2:$DM$8270,Sheet4!$C$2:$C$8270,Sheet3!$B8,Sheet4!$D$2:$D$8270,Sheet3!F$3,Sheet4!$E$2:$E$8270,Sheet3!F$4,Sheet4!$A$2:$A$8270,Sheet3!$B$1,Sheet4!$B$2:$B$8270,Sheet3!$A$3)","v":0},{"$f":"+SUMIFS(Sheet4!$DM$2:$DM$8270,Sheet4!$C$2:$C$8270,Sheet3!$B8,Sheet4!$D$2:$D$8270,Sheet3!G$3,Sheet4!$E$2:$E$8270,Sheet3!G$4,Sheet4!$A$2:$A$8270,Sheet3!$B$1,Sheet4!$B$2:$B$8270,Sheet3!$A$3)","v":0},{"$f":"+SUMIFS(Sheet4!$DM$2:$DM$8270,Sheet4!$C$2:$C$8270,Sheet3!$B8,Sheet4!$D$2:$D$8270,Sheet3!H$3,Sheet4!$E$2:$E$8270,Sheet3!H$4,Sheet4!$A$2:$A$8270,Sheet3!$B$1,Sheet4!$B$2:$B$8270,Sheet3!$A$3)","v":0},{"$f":"+SUMIFS(Sheet4!$DM$2:$DM$8270,Sheet4!$C$2:$C$8270,Sheet3!$B8,Sheet4!$D$2:$D$8270,Sheet3!I$3,Sheet4!$E$2:$E$8270,Sheet3!I$4,Sheet4!$A$2:$A$8270,Sheet3!$B$1,Sheet4!$B$2:$B$8270,Sheet3!$A$3)","v":326},{"$f":"+SUMIFS(Sheet4!$DM$2:$DM$8270,Sheet4!$C$2:$C$8270,Sheet3!$B8,Sheet4!$D$2:$D$8270,Sheet3!J$3,Sheet4!$E$2:$E$8270,Sheet3!J$4,Sheet4!$A$2:$A$8270,Sheet3!$B$1,Sheet4!$B$2:$B$8270,Sheet3!$A$3)","v":9},{"$f":"+SUMIFS(Sheet4!$DM$2:$DM$8270,Sheet4!$C$2:$C$8270,Sheet3!$B8,Sheet4!$D$2:$D$8270,Sheet3!K$3,Sheet4!$E$2:$E$8270,Sheet3!K$4,Sheet4!$A$2:$A$8270,Sheet3!$B$1,Sheet4!$B$2:$B$8270,Sheet3!$A$3)","v":0},{"$f":"+SUMIFS(Sheet4!$DM$2:$DM$8270,Sheet4!$C$2:$C$8270,Sheet3!$B8,Sheet4!$D$2:$D$8270,Sheet3!L$3,Sheet4!$E$2:$E$8270,Sheet3!L$4,Sheet4!$A$2:$A$8270,Sheet3!$B$1,Sheet4!$B$2:$B$8270,Sheet3!$A$3)","v":0},{"$f":"+SUMIFS(Sheet4!$DM$2:$DM$8270,Sheet4!$C$2:$C$8270,Sheet3!$B8,Sheet4!$D$2:$D$8270,Sheet3!M$3,Sheet4!$E$2:$E$8270,Sheet3!M$4,Sheet4!$A$2:$A$8270,Sheet3!$B$1,Sheet4!$B$2:$B$8270,Sheet3!$A$3)","v":0},{"$f":"+SUMIFS(Sheet4!$DM$2:$DM$8270,Sheet4!$C$2:$C$8270,Sheet3!$B8,Sheet4!$D$2:$D$8270,Sheet3!N$3,Sheet4!$E$2:$E$8270,Sheet3!N$4,Sheet4!$A$2:$A$8270,Sheet3!$B$1,Sheet4!$B$2:$B$8270,Sheet3!$A$3)","v":156},{"$f":"+SUMIFS(Sheet4!$DM$2:$DM$8270,Sheet4!$C$2:$C$8270,Sheet3!$B8,Sheet4!$D$2:$D$8270,Sheet3!O$3,Sheet4!$E$2:$E$8270,Sheet3!O$4,Sheet4!$A$2:$A$8270,Sheet3!$B$1,Sheet4!$B$2:$B$8270,Sheet3!$A$3)","v":5},{"$f":"+SUMIFS(Sheet4!$DM$2:$DM$8270,Sheet4!$C$2:$C$8270,Sheet3!$B8,Sheet4!$D$2:$D$8270,Sheet3!P$3,Sheet4!$E$2:$E$8270,Sheet3!P$4,Sheet4!$A$2:$A$8270,Sheet3!$B$1,Sheet4!$B$2:$B$8270,Sheet3!$A$3)","v":0},{"$f":"+SUMIFS(Sheet4!$DM$2:$DM$8270,Sheet4!$C$2:$C$8270,Sheet3!$B8,Sheet4!$D$2:$D$8270,Sheet3!Q$3,Sheet4!$E$2:$E$8270,Sheet3!Q$4,Sheet4!$A$2:$A$8270,Sheet3!$B$1,Sheet4!$B$2:$B$8270,Sheet3!$A$3)","v":0},{"$f":"+SUMIFS(Sheet4!$DM$2:$DM$8270,Sheet4!$C$2:$C$8270,Sheet3!$B8,Sheet4!$D$2:$D$8270,Sheet3!R$3,Sheet4!$E$2:$E$8270,Sheet3!R$4,Sheet4!$A$2:$A$8270,Sheet3!$B$1,Sheet4!$B$2:$B$8270,Sheet3!$A$3)","v":0},{"$f":"+SUMIFS(Sheet4!$DM$2:$DM$8270,Sheet4!$C$2:$C$8270,Sheet3!$B8,Sheet4!$D$2:$D$8270,Sheet3!S$3,Sheet4!$E$2:$E$8270,Sheet3!S$4,Sheet4!$A$2:$A$8270,Sheet3!$B$1,Sheet4!$B$2:$B$8270,Sheet3!$A$3)","v":0},{"$f":"+SUMIFS(Sheet4!$DM$2:$DM$8270,Sheet4!$C$2:$C$8270,Sheet3!$B8,Sheet4!$D$2:$D$8270,Sheet3!T$3,Sheet4!$E$2:$E$8270,Sheet3!T$4,Sheet4!$A$2:$A$8270,Sheet3!$B$1,Sheet4!$B$2:$B$8270,Sheet3!$A$3)","v":0},{"$f":"+SUMIFS(Sheet4!$DM$2:$DM$8270,Sheet4!$C$2:$C$8270,Sheet3!$B8,Sheet4!$D$2:$D$8270,Sheet3!U$3,Sheet4!$E$2:$E$8270,Sheet3!U$4,Sheet4!$A$2:$A$8270,Sheet3!$B$1,Sheet4!$B$2:$B$8270,Sheet3!$A$3)","v":0},{"$f":"+SUMIFS(Sheet4!$DM$2:$DM$8270,Sheet4!$C$2:$C$8270,Sheet3!$B8,Sheet4!$D$2:$D$8270,Sheet3!V$3,Sheet4!$E$2:$E$8270,Sheet3!V$4,Sheet4!$A$2:$A$8270,Sheet3!$B$1,Sheet4!$B$2:$B$8270,Sheet3!$A$3)","v":0},{"$f":"+SUMIFS(Sheet4!$DM$2:$DM$8270,Sheet4!$C$2:$C$8270,Sheet3!$B8,Sheet4!$D$2:$D$8270,Sheet3!W$3,Sheet4!$E$2:$E$8270,Sheet3!W$4,Sheet4!$A$2:$A$8270,Sheet3!$B$1,Sheet4!$B$2:$B$8270,Sheet3!$A$3)","v":0},{"$f":"+SUMIFS(Sheet4!$DM$2:$DM$8270,Sheet4!$C$2:$C$8270,Sheet3!$B8,Sheet4!$D$2:$D$8270,Sheet3!X$3,Sheet4!$E$2:$E$8270,Sheet3!X$4,Sheet4!$A$2:$A$8270,Sheet3!$B$1,Sheet4!$B$2:$B$8270,Sheet3!$A$3)","v":0},{"$f":"+SUMIFS(Sheet4!$DM$2:$DM$8270,Sheet4!$C$2:$C$8270,Sheet3!$B8,Sheet4!$D$2:$D$8270,Sheet3!Y$3,Sheet4!$E$2:$E$8270,Sheet3!Y$4,Sheet4!$A$2:$A$8270,Sheet3!$B$1,Sheet4!$B$2:$B$8270,Sheet3!$A$3)","v":0},{"$f":"+SUMIFS(Sheet4!$DM$2:$DM$8270,Sheet4!$C$2:$C$8270,Sheet3!$B8,Sheet4!$D$2:$D$8270,Sheet3!Z$3,Sheet4!$E$2:$E$8270,Sheet3!Z$4,Sheet4!$A$2:$A$8270,Sheet3!$B$1,Sheet4!$B$2:$B$8270,Sheet3!$A$3)","v":0},{"$f":"+SUMIFS(Sheet4!$DM$2:$DM$8270,Sheet4!$C$2:$C$8270,Sheet3!$B8,Sheet4!$D$2:$D$8270,Sheet3!AA$3,Sheet4!$E$2:$E$8270,Sheet3!AA$4,Sheet4!$A$2:$A$8270,Sheet3!$B$1,Sheet4!$B$2:$B$8270,Sheet3!$A$3)","v":0},{"$f":"+SUMIFS(Sheet4!$DM$2:$DM$8270,Sheet4!$C$2:$C$8270,Sheet3!$B8,Sheet4!$D$2:$D$8270,Sheet3!AB$3,Sheet4!$E$2:$E$8270,Sheet3!AB$4,Sheet4!$A$2:$A$8270,Sheet3!$B$1,Sheet4!$B$2:$B$8270,Sheet3!$A$3)","v":0},{"$f":"+SUMIFS(Sheet4!$DM$2:$DM$8270,Sheet4!$C$2:$C$8270,Sheet3!$B8,Sheet4!$D$2:$D$8270,Sheet3!AC$3,Sheet4!$E$2:$E$8270,Sheet3!AC$4,Sheet4!$A$2:$A$8270,Sheet3!$B$1,Sheet4!$B$2:$B$8270,Sheet3!$A$3)","v":156},{"$f":"+SUMIFS(Sheet4!$DM$2:$DM$8270,Sheet4!$C$2:$C$8270,Sheet3!$B8,Sheet4!$D$2:$D$8270,Sheet3!AD$3,Sheet4!$E$2:$E$8270,Sheet3!AD$4,Sheet4!$A$2:$A$8270,Sheet3!$B$1,Sheet4!$B$2:$B$8270,Sheet3!$A$3)","v":5},{"$f":"+SUMIFS(Sheet4!$DM$2:$DM$8270,Sheet4!$C$2:$C$8270,Sheet3!$B8,Sheet4!$D$2:$D$8270,Sheet3!AE$3,Sheet4!$E$2:$E$8270,Sheet3!AE$4,Sheet4!$A$2:$A$8270,Sheet3!$B$1,Sheet4!$B$2:$B$8270,Sheet3!$A$3)","v":0},{"$f":"+SUMIFS(Sheet4!$DM$2:$DM$8270,Sheet4!$C$2:$C$8270,Sheet3!$B8,Sheet4!$D$2:$D$8270,Sheet3!AF$3,Sheet4!$E$2:$E$8270,Sheet3!AF$4,Sheet4!$A$2:$A$8270,Sheet3!$B$1,Sheet4!$B$2:$B$8270,Sheet3!$A$3)","v":0},{"$f":"+SUMIFS(Sheet4!$DM$2:$DM$8270,Sheet4!$C$2:$C$8270,Sheet3!$B8,Sheet4!$D$2:$D$8270,Sheet3!AG$3,Sheet4!$E$2:$E$8270,Sheet3!AG$4,Sheet4!$A$2:$A$8270,Sheet3!$B$1,Sheet4!$B$2:$B$8270,Sheet3!$A$3)","v":0},{"$f":"+SUMIFS(Sheet4!$DM$2:$DM$8270,Sheet4!$C$2:$C$8270,Sheet3!$B8,Sheet4!$D$2:$D$8270,Sheet3!AH$3,Sheet4!$E$2:$E$8270,Sheet3!AH$4,Sheet4!$A$2:$A$8270,Sheet3!$B$1,Sheet4!$B$2:$B$8270,Sheet3!$A$3)","v":571},{"$f":"+SUMIFS(Sheet4!$DM$2:$DM$8270,Sheet4!$C$2:$C$8270,Sheet3!$B8,Sheet4!$D$2:$D$8270,Sheet3!AI$3,Sheet4!$E$2:$E$8270,Sheet3!AI$4,Sheet4!$A$2:$A$8270,Sheet3!$B$1,Sheet4!$B$2:$B$8270,Sheet3!$A$3)","v":95},{"$f":"+SUMIFS(Sheet4!$DM$2:$DM$8270,Sheet4!$C$2:$C$8270,Sheet3!$B8,Sheet4!$D$2:$D$8270,Sheet3!AJ$3,Sheet4!$E$2:$E$8270,Sheet3!AJ$4,Sheet4!$A$2:$A$8270,Sheet3!$B$1,Sheet4!$B$2:$B$8270,Sheet3!$A$3)","v":10},{"$f":"+SUMIFS(Sheet4!$DM$2:$DM$8270,Sheet4!$C$2:$C$8270,Sheet3!$B8,Sheet4!$D$2:$D$8270,Sheet3!AK$3,Sheet4!$E$2:$E$8270,Sheet3!AK$4,Sheet4!$A$2:$A$8270,Sheet3!$B$1,Sheet4!$B$2:$B$8270,Sheet3!$A$3)","v":0},{"$f":"+SUMIFS(Sheet4!$DM$2:$DM$8270,Sheet4!$C$2:$C$8270,Sheet3!$B8,Sheet4!$D$2:$D$8270,Sheet3!AL$3,Sheet4!$E$2:$E$8270,Sheet3!AL$4,Sheet4!$A$2:$A$8270,Sheet3!$B$1,Sheet4!$B$2:$B$8270,Sheet3!$A$3)","v":0},{"$f":"+SUMIFS(Sheet4!$DM$2:$DM$8270,Sheet4!$C$2:$C$8270,Sheet3!$B8,Sheet4!$D$2:$D$8270,Sheet3!AM$3,Sheet4!$E$2:$E$8270,Sheet3!AM$4,Sheet4!$A$2:$A$8270,Sheet3!$B$1,Sheet4!$B$2:$B$8270,Sheet3!$A$3)","v":143},{"$f":"+SUMIFS(Sheet4!$DM$2:$DM$8270,Sheet4!$C$2:$C$8270,Sheet3!$B8,Sheet4!$D$2:$D$8270,Sheet3!AN$3,Sheet4!$E$2:$E$8270,Sheet3!AN$4,Sheet4!$A$2:$A$8270,Sheet3!$B$1,Sheet4!$B$2:$B$8270,Sheet3!$A$3)","v":18},{"$f":"+SUMIFS(Sheet4!$DM$2:$DM$8270,Sheet4!$C$2:$C$8270,Sheet3!$B8,Sheet4!$D$2:$D$8270,Sheet3!AO$3,Sheet4!$E$2:$E$8270,Sheet3!AO$4,Sheet4!$A$2:$A$8270,Sheet3!$B$1,Sheet4!$B$2:$B$8270,Sheet3!$A$3)","v":0},{"$f":"+SUMIFS(Sheet4!$DM$2:$DM$8270,Sheet4!$C$2:$C$8270,Sheet3!$B8,Sheet4!$D$2:$D$8270,Sheet3!AP$3,Sheet4!$E$2:$E$8270,Sheet3!AP$4,Sheet4!$A$2:$A$8270,Sheet3!$B$1,Sheet4!$B$2:$B$8270,Sheet3!$A$3)","v":0},{"$f":"+SUMIFS(Sheet4!$DM$2:$DM$8270,Sheet4!$C$2:$C$8270,Sheet3!$B8,Sheet4!$D$2:$D$8270,Sheet3!AQ$3,Sheet4!$E$2:$E$8270,Sheet3!AQ$4,Sheet4!$A$2:$A$8270,Sheet3!$B$1,Sheet4!$B$2:$B$8270,Sheet3!$A$3)","v":0},{"$f":"+SUMIFS(Sheet4!$DM$2:$DM$8270,Sheet4!$C$2:$C$8270,Sheet3!$B8,Sheet4!$D$2:$D$8270,Sheet3!AR$3,Sheet4!$E$2:$E$8270,Sheet3!AR$4,Sheet4!$A$2:$A$8270,Sheet3!$B$1,Sheet4!$B$2:$B$8270,Sheet3!$A$3)","v":0},{"$f":"+SUMIFS(Sheet4!$DM$2:$DM$8270,Sheet4!$C$2:$C$8270,Sheet3!$B8,Sheet4!$D$2:$D$8270,Sheet3!AS$3,Sheet4!$E$2:$E$8270,Sheet3!AS$4,Sheet4!$A$2:$A$8270,Sheet3!$B$1,Sheet4!$B$2:$B$8270,Sheet3!$A$3)","v":0},{"$f":"+SUMIFS(Sheet4!$DM$2:$DM$8270,Sheet4!$C$2:$C$8270,Sheet3!$B8,Sheet4!$D$2:$D$8270,Sheet3!AT$3,Sheet4!$E$2:$E$8270,Sheet3!AT$4,Sheet4!$A$2:$A$8270,Sheet3!$B$1,Sheet4!$B$2:$B$8270,Sheet3!$A$3)","v":0},{"$f":"+SUMIFS(Sheet4!$DM$2:$DM$8270,Sheet4!$C$2:$C$8270,Sheet3!$B8,Sheet4!$D$2:$D$8270,Sheet3!AU$3,Sheet4!$E$2:$E$8270,Sheet3!AU$4,Sheet4!$A$2:$A$8270,Sheet3!$B$1,Sheet4!$B$2:$B$8270,Sheet3!$A$3)","v":0},{"$f":"+SUMIFS(Sheet4!$DM$2:$DM$8270,Sheet4!$C$2:$C$8270,Sheet3!$B8,Sheet4!$D$2:$D$8270,Sheet3!AV$3,Sheet4!$E$2:$E$8270,Sheet3!AV$4,Sheet4!$A$2:$A$8270,Sheet3!$B$1,Sheet4!$B$2:$B$8270,Sheet3!$A$3)","v":0},{"$f":"+SUMIFS(Sheet4!$DM$2:$DM$8270,Sheet4!$C$2:$C$8270,Sheet3!$B8,Sheet4!$D$2:$D$8270,Sheet3!AW$3,Sheet4!$E$2:$E$8270,Sheet3!AW$4,Sheet4!$A$2:$A$8270,Sheet3!$B$1,Sheet4!$B$2:$B$8270,Sheet3!$A$3)","v":2159},{"$f":"+SUMIFS(Sheet4!$DM$2:$DM$8270,Sheet4!$C$2:$C$8270,Sheet3!$B8,Sheet4!$D$2:$D$8270,Sheet3!AX$3,Sheet4!$E$2:$E$8270,Sheet3!AX$4,Sheet4!$A$2:$A$8270,Sheet3!$B$1,Sheet4!$B$2:$B$8270,Sheet3!$A$3)","v":32},{"$f":"+SUMIFS(Sheet4!$DM$2:$DM$8270,Sheet4!$C$2:$C$8270,Sheet3!$B8,Sheet4!$D$2:$D$8270,Sheet3!AY$3,Sheet4!$E$2:$E$8270,Sheet3!AY$4,Sheet4!$A$2:$A$8270,Sheet3!$B$1,Sheet4!$B$2:$B$8270,Sheet3!$A$3)","v":0},{"$f":"+SUMIFS(Sheet4!$DM$2:$DM$8270,Sheet4!$C$2:$C$8270,Sheet3!$B8,Sheet4!$D$2:$D$8270,Sheet3!AZ$3,Sheet4!$E$2:$E$8270,Sheet3!AZ$4,Sheet4!$A$2:$A$8270,Sheet3!$B$1,Sheet4!$B$2:$B$8270,Sheet3!$A$3)","v":0},{"$f":"+SUMIFS(Sheet4!$DM$2:$DM$8270,Sheet4!$C$2:$C$8270,Sheet3!$B8,Sheet4!$D$2:$D$8270,Sheet3!BA$3,Sheet4!$E$2:$E$8270,Sheet3!BA$4,Sheet4!$A$2:$A$8270,Sheet3!$B$1,Sheet4!$B$2:$B$8270,Sheet3!$A$3)","v":0},{"$f":"+SUMIFS(Sheet4!$DM$2:$DM$8270,Sheet4!$C$2:$C$8270,Sheet3!$B8,Sheet4!$D$2:$D$8270,Sheet3!BB$3,Sheet4!$E$2:$E$8270,Sheet3!BB$4,Sheet4!$A$2:$A$8270,Sheet3!$B$1,Sheet4!$B$2:$B$8270,Sheet3!$A$3)","v":10},{"$f":"+SUMIFS(Sheet4!$DM$2:$DM$8270,Sheet4!$C$2:$C$8270,Sheet3!$B8,Sheet4!$D$2:$D$8270,Sheet3!BC$3,Sheet4!$E$2:$E$8270,Sheet3!BC$4,Sheet4!$A$2:$A$8270,Sheet3!$B$1,Sheet4!$B$2:$B$8270,Sheet3!$A$3)","v":53},{"$f":"+SUMIFS(Sheet4!$DM$2:$DM$8270,Sheet4!$C$2:$C$8270,Sheet3!$B8,Sheet4!$D$2:$D$8270,Sheet3!BD$3,Sheet4!$E$2:$E$8270,Sheet3!BD$4,Sheet4!$A$2:$A$8270,Sheet3!$B$1,Sheet4!$B$2:$B$8270,Sheet3!$A$3)","v":8},{"$f":"+SUMIFS(Sheet4!$DM$2:$DM$8270,Sheet4!$C$2:$C$8270,Sheet3!$B8,Sheet4!$D$2:$D$8270,Sheet3!BE$3,Sheet4!$E$2:$E$8270,Sheet3!BE$4,Sheet4!$A$2:$A$8270,Sheet3!$B$1,Sheet4!$B$2:$B$8270,Sheet3!$A$3)","v":0},{"$f":"+SUMIFS(Sheet4!$DM$2:$DM$8270,Sheet4!$C$2:$C$8270,Sheet3!$B8,Sheet4!$D$2:$D$8270,Sheet3!BF$3,Sheet4!$E$2:$E$8270,Sheet3!BF$4,Sheet4!$A$2:$A$8270,Sheet3!$B$1,Sheet4!$B$2:$B$8270,Sheet3!$A$3)","v":0},{"$f":"+SUMIFS(Sheet4!$DM$2:$DM$8270,Sheet4!$C$2:$C$8270,Sheet3!$B8,Sheet4!$D$2:$D$8270,Sheet3!BG$3,Sheet4!$E$2:$E$8270,Sheet3!BG$4,Sheet4!$A$2:$A$8270,Sheet3!$B$1,Sheet4!$B$2:$B$8270,Sheet3!$A$3)","v":293},{"$f":"+SUMIFS(Sheet4!$DM$2:$DM$8270,Sheet4!$C$2:$C$8270,Sheet3!$B8,Sheet4!$D$2:$D$8270,Sheet3!BH$3,Sheet4!$E$2:$E$8270,Sheet3!BH$4,Sheet4!$A$2:$A$8270,Sheet3!$B$1,Sheet4!$B$2:$B$8270,Sheet3!$A$3)","v":105},{"$f":"+SUMIFS(Sheet4!$DM$2:$DM$8270,Sheet4!$C$2:$C$8270,Sheet3!$B8,Sheet4!$D$2:$D$8270,Sheet3!BI$3,Sheet4!$E$2:$E$8270,Sheet3!BI$4,Sheet4!$A$2:$A$8270,Sheet3!$B$1,Sheet4!$B$2:$B$8270,Sheet3!$A$3)","v":13},{"$f":"+SUMIFS(Sheet4!$DM$2:$DM$8270,Sheet4!$C$2:$C$8270,Sheet3!$B8,Sheet4!$D$2:$D$8270,Sheet3!BJ$3,Sheet4!$E$2:$E$8270,Sheet3!BJ$4,Sheet4!$A$2:$A$8270,Sheet3!$B$1,Sheet4!$B$2:$B$8270,Sheet3!$A$3)","v":0},{"$f":"+SUMIFS(Sheet4!$DM$2:$DM$8270,Sheet4!$C$2:$C$8270,Sheet3!$B8,Sheet4!$D$2:$D$8270,Sheet3!BK$3,Sheet4!$E$2:$E$8270,Sheet3!BK$4,Sheet4!$A$2:$A$8270,Sheet3!$B$1,Sheet4!$B$2:$B$8270,Sheet3!$A$3)","v":0},{"$f":"+SUMIFS(Sheet4!$DM$2:$DM$8270,Sheet4!$C$2:$C$8270,Sheet3!$B8,Sheet4!$D$2:$D$8270,Sheet3!BL$3,Sheet4!$E$2:$E$8270,Sheet3!BL$4,Sheet4!$A$2:$A$8270,Sheet3!$B$1,Sheet4!$B$2:$B$8270,Sheet3!$A$3)","v":420},{"$f":"+SUMIFS(Sheet4!$DM$2:$DM$8270,Sheet4!$C$2:$C$8270,Sheet3!$B8,Sheet4!$D$2:$D$8270,Sheet3!BM$3,Sheet4!$E$2:$E$8270,Sheet3!BM$4,Sheet4!$A$2:$A$8270,Sheet3!$B$1,Sheet4!$B$2:$B$8270,Sheet3!$A$3)","v":375},{"$f":"+SUMIFS(Sheet4!$DM$2:$DM$8270,Sheet4!$C$2:$C$8270,Sheet3!$B8,Sheet4!$D$2:$D$8270,Sheet3!BN$3,Sheet4!$E$2:$E$8270,Sheet3!BN$4,Sheet4!$A$2:$A$8270,Sheet3!$B$1,Sheet4!$B$2:$B$8270,Sheet3!$A$3)","v":121},{"$f":"+SUMIFS(Sheet4!$DM$2:$DM$8270,Sheet4!$C$2:$C$8270,Sheet3!$B8,Sheet4!$D$2:$D$8270,Sheet3!BO$3,Sheet4!$E$2:$E$8270,Sheet3!BO$4,Sheet4!$A$2:$A$8270,Sheet3!$B$1,Sheet4!$B$2:$B$8270,Sheet3!$A$3)","v":6},{"$f":"+SUMIFS(Sheet4!$DM$2:$DM$8270,Sheet4!$C$2:$C$8270,Sheet3!$B8,Sheet4!$D$2:$D$8270,Sheet3!BP$3,Sheet4!$E$2:$E$8270,Sheet3!BP$4,Sheet4!$A$2:$A$8270,Sheet3!$B$1,Sheet4!$B$2:$B$8270,Sheet3!$A$3)","v":5},{"$f":"+SUMIFS(Sheet4!$DM$2:$DM$8270,Sheet4!$C$2:$C$8270,Sheet3!$B8,Sheet4!$D$2:$D$8270,Sheet3!BQ$3,Sheet4!$E$2:$E$8270,Sheet3!BQ$4,Sheet4!$A$2:$A$8270,Sheet3!$B$1,Sheet4!$B$2:$B$8270,Sheet3!$A$3)","v":977},{"$f":"+SUMIFS(Sheet4!$DM$2:$DM$8270,Sheet4!$C$2:$C$8270,Sheet3!$B8,Sheet4!$D$2:$D$8270,Sheet3!BR$3,Sheet4!$E$2:$E$8270,Sheet3!BR$4,Sheet4!$A$2:$A$8270,Sheet3!$B$1,Sheet4!$B$2:$B$8270,Sheet3!$A$3)","v":357},{"$f":"+SUMIFS(Sheet4!$DM$2:$DM$8270,Sheet4!$C$2:$C$8270,Sheet3!$B8,Sheet4!$D$2:$D$8270,Sheet3!BS$3,Sheet4!$E$2:$E$8270,Sheet3!BS$4,Sheet4!$A$2:$A$8270,Sheet3!$B$1,Sheet4!$B$2:$B$8270,Sheet3!$A$3)","v":40},{"$f":"+SUMIFS(Sheet4!$DM$2:$DM$8270,Sheet4!$C$2:$C$8270,Sheet3!$B8,Sheet4!$D$2:$D$8270,Sheet3!BT$3,Sheet4!$E$2:$E$8270,Sheet3!BT$4,Sheet4!$A$2:$A$8270,Sheet3!$B$1,Sheet4!$B$2:$B$8270,Sheet3!$A$3)","v":0},{"$f":"+SUMIFS(Sheet4!$DM$2:$DM$8270,Sheet4!$C$2:$C$8270,Sheet3!$B8,Sheet4!$D$2:$D$8270,Sheet3!BU$3,Sheet4!$E$2:$E$8270,Sheet3!BU$4,Sheet4!$A$2:$A$8270,Sheet3!$B$1,Sheet4!$B$2:$B$8270,Sheet3!$A$3)","v":0},{"$f":"+SUMIFS(Sheet4!$DM$2:$DM$8270,Sheet4!$C$2:$C$8270,Sheet3!$B8,Sheet4!$D$2:$D$8270,Sheet3!BV$3,Sheet4!$E$2:$E$8270,Sheet3!BV$4,Sheet4!$A$2:$A$8270,Sheet3!$B$1,Sheet4!$B$2:$B$8270,Sheet3!$A$3)","v":1071},{"$f":"+SUMIFS(Sheet4!$DM$2:$DM$8270,Sheet4!$C$2:$C$8270,Sheet3!$B8,Sheet4!$D$2:$D$8270,Sheet3!BW$3,Sheet4!$E$2:$E$8270,Sheet3!BW$4,Sheet4!$A$2:$A$8270,Sheet3!$B$1,Sheet4!$B$2:$B$8270,Sheet3!$A$3)","v":61},{"$f":"+SUMIFS(Sheet4!$DM$2:$DM$8270,Sheet4!$C$2:$C$8270,Sheet3!$B8,Sheet4!$D$2:$D$8270,Sheet3!BX$3,Sheet4!$E$2:$E$8270,Sheet3!BX$4,Sheet4!$A$2:$A$8270,Sheet3!$B$1,Sheet4!$B$2:$B$8270,Sheet3!$A$3)","v":0},{"$f":"+SUMIFS(Sheet4!$DM$2:$DM$8270,Sheet4!$C$2:$C$8270,Sheet3!$B8,Sheet4!$D$2:$D$8270,Sheet3!BY$3,Sheet4!$E$2:$E$8270,Sheet3!BY$4,Sheet4!$A$2:$A$8270,Sheet3!$B$1,Sheet4!$B$2:$B$8270,Sheet3!$A$3)","v":0},{"$f":"+SUMIFS(Sheet4!$DM$2:$DM$8270,Sheet4!$C$2:$C$8270,Sheet3!$B8,Sheet4!$D$2:$D$8270,Sheet3!BZ$3,Sheet4!$E$2:$E$8270,Sheet3!BZ$4,Sheet4!$A$2:$A$8270,Sheet3!$B$1,Sheet4!$B$2:$B$8270,Sheet3!$A$3)","v":0},{"$f":"+SUMIFS(Sheet4!$DM$2:$DM$8270,Sheet4!$C$2:$C$8270,Sheet3!$B8,Sheet4!$D$2:$D$8270,Sheet3!CA$3,Sheet4!$E$2:$E$8270,Sheet3!CA$4,Sheet4!$A$2:$A$8270,Sheet3!$B$1,Sheet4!$B$2:$B$8270,Sheet3!$A$3)","v":338},{"$f":"+SUMIFS(Sheet4!$DM$2:$DM$8270,Sheet4!$C$2:$C$8270,Sheet3!$B8,Sheet4!$D$2:$D$8270,Sheet3!CB$3,Sheet4!$E$2:$E$8270,Sheet3!CB$4,Sheet4!$A$2:$A$8270,Sheet3!$B$1,Sheet4!$B$2:$B$8270,Sheet3!$A$3)","v":14},{"$f":"+SUMIFS(Sheet4!$DM$2:$DM$8270,Sheet4!$C$2:$C$8270,Sheet3!$B8,Sheet4!$D$2:$D$8270,Sheet3!CC$3,Sheet4!$E$2:$E$8270,Sheet3!CC$4,Sheet4!$A$2:$A$8270,Sheet3!$B$1,Sheet4!$B$2:$B$8270,Sheet3!$A$3)","v":0},{"$f":"+SUMIFS(Sheet4!$DM$2:$DM$8270,Sheet4!$C$2:$C$8270,Sheet3!$B8,Sheet4!$D$2:$D$8270,Sheet3!CD$3,Sheet4!$E$2:$E$8270,Sheet3!CD$4,Sheet4!$A$2:$A$8270,Sheet3!$B$1,Sheet4!$B$2:$B$8270,Sheet3!$A$3)","v":0},{"$f":"+SUMIFS(Sheet4!$DM$2:$DM$8270,Sheet4!$C$2:$C$8270,Sheet3!$B8,Sheet4!$D$2:$D$8270,Sheet3!CE$3,Sheet4!$E$2:$E$8270,Sheet3!CE$4,Sheet4!$A$2:$A$8270,Sheet3!$B$1,Sheet4!$B$2:$B$8270,Sheet3!$A$3)","v":0},{"$f":"+SUMIFS(Sheet4!$DM$2:$DM$8270,Sheet4!$C$2:$C$8270,Sheet3!$B8,Sheet4!$D$2:$D$8270,Sheet3!CF$3,Sheet4!$E$2:$E$8270,Sheet3!CF$4,Sheet4!$A$2:$A$8270,Sheet3!$B$1,Sheet4!$B$2:$B$8270,Sheet3!$A$3)","v":0},{"$f":"+SUMIFS(Sheet4!$DM$2:$DM$8270,Sheet4!$C$2:$C$8270,Sheet3!$B8,Sheet4!$D$2:$D$8270,Sheet3!CG$3,Sheet4!$E$2:$E$8270,Sheet3!CG$4,Sheet4!$A$2:$A$8270,Sheet3!$B$1,Sheet4!$B$2:$B$8270,Sheet3!$A$3)","v":0},{"$f":"+SUMIFS(Sheet4!$DM$2:$DM$8270,Sheet4!$C$2:$C$8270,Sheet3!$B8,Sheet4!$D$2:$D$8270,Sheet3!CH$3,Sheet4!$E$2:$E$8270,Sheet3!CH$4,Sheet4!$A$2:$A$8270,Sheet3!$B$1,Sheet4!$B$2:$B$8270,Sheet3!$A$3)","v":0},{"$f":"+SUMIFS(Sheet4!$DM$2:$DM$8270,Sheet4!$C$2:$C$8270,Sheet3!$B8,Sheet4!$D$2:$D$8270,Sheet3!CI$3,Sheet4!$E$2:$E$8270,Sheet3!CI$4,Sheet4!$A$2:$A$8270,Sheet3!$B$1,Sheet4!$B$2:$B$8270,Sheet3!$A$3)","v":0},{"$f":"+SUMIFS(Sheet4!$DM$2:$DM$8270,Sheet4!$C$2:$C$8270,Sheet3!$B8,Sheet4!$D$2:$D$8270,Sheet3!CJ$3,Sheet4!$E$2:$E$8270,Sheet3!CJ$4,Sheet4!$A$2:$A$8270,Sheet3!$B$1,Sheet4!$B$2:$B$8270,Sheet3!$A$3)","v":0},{"$f":"+SUMIFS(Sheet4!$DM$2:$DM$8270,Sheet4!$C$2:$C$8270,Sheet3!$B8,Sheet4!$D$2:$D$8270,Sheet3!CK$3,Sheet4!$E$2:$E$8270,Sheet3!CK$4,Sheet4!$A$2:$A$8270,Sheet3!$B$1,Sheet4!$B$2:$B$8270,Sheet3!$A$3)","v":0},{"$f":"+SUMIFS(Sheet4!$DM$2:$DM$8270,Sheet4!$C$2:$C$8270,Sheet3!$B8,Sheet4!$D$2:$D$8270,Sheet3!CL$3,Sheet4!$E$2:$E$8270,Sheet3!CL$4,Sheet4!$A$2:$A$8270,Sheet3!$B$1,Sheet4!$B$2:$B$8270,Sheet3!$A$3)","v":0},{"$f":"+SUMIFS(Sheet4!$DM$2:$DM$8270,Sheet4!$C$2:$C$8270,Sheet3!$B8,Sheet4!$D$2:$D$8270,Sheet3!CM$3,Sheet4!$E$2:$E$8270,Sheet3!CM$4,Sheet4!$A$2:$A$8270,Sheet3!$B$1,Sheet4!$B$2:$B$8270,Sheet3!$A$3)","v":0},{"$f":"+SUMIFS(Sheet4!$DM$2:$DM$8270,Sheet4!$C$2:$C$8270,Sheet3!$B8,Sheet4!$D$2:$D$8270,Sheet3!CN$3,Sheet4!$E$2:$E$8270,Sheet3!CN$4,Sheet4!$A$2:$A$8270,Sheet3!$B$1,Sheet4!$B$2:$B$8270,Sheet3!$A$3)","v":0},{"$f":"+SUMIFS(Sheet4!$DM$2:$DM$8270,Sheet4!$C$2:$C$8270,Sheet3!$B8,Sheet4!$D$2:$D$8270,Sheet3!CO$3,Sheet4!$E$2:$E$8270,Sheet3!CO$4,Sheet4!$A$2:$A$8270,Sheet3!$B$1,Sheet4!$B$2:$B$8270,Sheet3!$A$3)","v":0},{"$f":"+IF(SUMIFS(Sheet4!$DN$2:$DN$8270,Sheet4!$C$2:$C$8270,Sheet3!$B8,Sheet4!$D$2:$D$8270,Sheet3!CP$3,Sheet4!$A$2:$A$8270,Sheet3!$B$1,Sheet4!$B$2:$B$8270,Sheet3!$A$3)<3,0,SUMIFS(Sheet4!$DN$2:$DN$8270,Sheet4!$C$2:$C$8270,Sheet3!$B8,Sheet4!$D$2:$D$8270,Sheet3!CP$3,Sheet4!$A$2:$A$8270,Sheet3!$B$1,Sheet4!$B$2:$B$8270,Sheet3!$A$3))","v":3},{"$f":"+IF(SUMIFS(Sheet4!$DN$2:$DN$8270,Sheet4!$C$2:$C$8270,Sheet3!$B8,Sheet4!$D$2:$D$8270,Sheet3!CQ$3,Sheet4!$A$2:$A$8270,Sheet3!$B$1,Sheet4!$B$2:$B$8270,Sheet3!$A$3)<3,0,SUMIFS(Sheet4!$DN$2:$DN$8270,Sheet4!$C$2:$C$8270,Sheet3!$B8,Sheet4!$D$2:$D$8270,Sheet3!CQ$3,Sheet4!$A$2:$A$8270,Sheet3!$B$1,Sheet4!$B$2:$B$8270,Sheet3!$A$3))","v":335},{"$f":"+IF(SUMIFS(Sheet4!$DN$2:$DN$8270,Sheet4!$C$2:$C$8270,Sheet3!$B8,Sheet4!$D$2:$D$8270,Sheet3!CR$3,Sheet4!$A$2:$A$8270,Sheet3!$B$1,Sheet4!$B$2:$B$8270,Sheet3!$A$3)<3,0,SUMIFS(Sheet4!$DN$2:$DN$8270,Sheet4!$C$2:$C$8270,Sheet3!$B8,Sheet4!$D$2:$D$8270,Sheet3!CR$3,Sheet4!$A$2:$A$8270,Sheet3!$B$1,Sheet4!$B$2:$B$8270,Sheet3!$A$3))","v":163},{"$f":"+IF(SUMIFS(Sheet4!$DN$2:$DN$8270,Sheet4!$C$2:$C$8270,Sheet3!$B8,Sheet4!$D$2:$D$8270,Sheet3!CS$3,Sheet4!$A$2:$A$8270,Sheet3!$B$1,Sheet4!$B$2:$B$8270,Sheet3!$A$3)<3,0,SUMIFS(Sheet4!$DN$2:$DN$8270,Sheet4!$C$2:$C$8270,Sheet3!$B8,Sheet4!$D$2:$D$8270,Sheet3!CS$3,Sheet4!$A$2:$A$8270,Sheet3!$B$1,Sheet4!$B$2:$B$8270,Sheet3!$A$3))","v":0},{"$f":"+IF(SUMIFS(Sheet4!$DN$2:$DN$8270,Sheet4!$C$2:$C$8270,Sheet3!$B8,Sheet4!$D$2:$D$8270,Sheet3!CT$3,Sheet4!$A$2:$A$8270,Sheet3!$B$1,Sheet4!$B$2:$B$8270,Sheet3!$A$3)<3,0,SUMIFS(Sheet4!$DN$2:$DN$8270,Sheet4!$C$2:$C$8270,Sheet3!$B8,Sheet4!$D$2:$D$8270,Sheet3!CT$3,Sheet4!$A$2:$A$8270,Sheet3!$B$1,Sheet4!$B$2:$B$8270,Sheet3!$A$3))","v":0},{"$f":"+IF(SUMIFS(Sheet4!$DN$2:$DN$8270,Sheet4!$C$2:$C$8270,Sheet3!$B8,Sheet4!$D$2:$D$8270,Sheet3!CU$3,Sheet4!$A$2:$A$8270,Sheet3!$B$1,Sheet4!$B$2:$B$8270,Sheet3!$A$3)<3,0,SUMIFS(Sheet4!$DN$2:$DN$8270,Sheet4!$C$2:$C$8270,Sheet3!$B8,Sheet4!$D$2:$D$8270,Sheet3!CU$3,Sheet4!$A$2:$A$8270,Sheet3!$B$1,Sheet4!$B$2:$B$8270,Sheet3!$A$3))","v":163},{"$f":"+IF(SUMIFS(Sheet4!$DN$2:$DN$8270,Sheet4!$C$2:$C$8270,Sheet3!$B8,Sheet4!$D$2:$D$8270,Sheet3!CV$3,Sheet4!$A$2:$A$8270,Sheet3!$B$1,Sheet4!$B$2:$B$8270,Sheet3!$A$3)<3,0,SUMIFS(Sheet4!$DN$2:$DN$8270,Sheet4!$C$2:$C$8270,Sheet3!$B8,Sheet4!$D$2:$D$8270,Sheet3!CV$3,Sheet4!$A$2:$A$8270,Sheet3!$B$1,Sheet4!$B$2:$B$8270,Sheet3!$A$3))","v":677},{"$f":"+IF(SUMIFS(Sheet4!$DN$2:$DN$8270,Sheet4!$C$2:$C$8270,Sheet3!$B8,Sheet4!$D$2:$D$8270,Sheet3!CW$3,Sheet4!$A$2:$A$8270,Sheet3!$B$1,Sheet4!$B$2:$B$8270,Sheet3!$A$3)<3,0,SUMIFS(Sheet4!$DN$2:$DN$8270,Sheet4!$C$2:$C$8270,Sheet3!$B8,Sheet4!$D$2:$D$8270,Sheet3!CW$3,Sheet4!$A$2:$A$8270,Sheet3!$B$1,Sheet4!$B$2:$B$8270,Sheet3!$A$3))","v":165},{"$f":"+IF(SUMIFS(Sheet4!$DN$2:$DN$8270,Sheet4!$C$2:$C$8270,Sheet3!$B8,Sheet4!$D$2:$D$8270,Sheet3!CX$3,Sheet4!$A$2:$A$8270,Sheet3!$B$1,Sheet4!$B$2:$B$8270,Sheet3!$A$3)<3,0,SUMIFS(Sheet4!$DN$2:$DN$8270,Sheet4!$C$2:$C$8270,Sheet3!$B8,Sheet4!$D$2:$D$8270,Sheet3!CX$3,Sheet4!$A$2:$A$8270,Sheet3!$B$1,Sheet4!$B$2:$B$8270,Sheet3!$A$3))","v":0},{"$f":"+IF(SUMIFS(Sheet4!$DN$2:$DN$8270,Sheet4!$C$2:$C$8270,Sheet3!$B8,Sheet4!$D$2:$D$8270,Sheet3!CY$3,Sheet4!$A$2:$A$8270,Sheet3!$B$1,Sheet4!$B$2:$B$8270,Sheet3!$A$3)<3,0,SUMIFS(Sheet4!$DN$2:$DN$8270,Sheet4!$C$2:$C$8270,Sheet3!$B8,Sheet4!$D$2:$D$8270,Sheet3!CY$3,Sheet4!$A$2:$A$8270,Sheet3!$B$1,Sheet4!$B$2:$B$8270,Sheet3!$A$3))","v":2195},{"$f":"+IF(SUMIFS(Sheet4!$DN$2:$DN$8270,Sheet4!$C$2:$C$8270,Sheet3!$B8,Sheet4!$D$2:$D$8270,Sheet3!CZ$3,Sheet4!$A$2:$A$8270,Sheet3!$B$1,Sheet4!$B$2:$B$8270,Sheet3!$A$3)<3,0,SUMIFS(Sheet4!$DN$2:$DN$8270,Sheet4!$C$2:$C$8270,Sheet3!$B8,Sheet4!$D$2:$D$8270,Sheet3!CZ$3,Sheet4!$A$2:$A$8270,Sheet3!$B$1,Sheet4!$B$2:$B$8270,Sheet3!$A$3))","v":71},{"$f":"+IF(SUMIFS(Sheet4!$DN$2:$DN$8270,Sheet4!$C$2:$C$8270,Sheet3!$B8,Sheet4!$D$2:$D$8270,Sheet3!DA$3,Sheet4!$A$2:$A$8270,Sheet3!$B$1,Sheet4!$B$2:$B$8270,Sheet3!$A$3)<3,0,SUMIFS(Sheet4!$DN$2:$DN$8270,Sheet4!$C$2:$C$8270,Sheet3!$B8,Sheet4!$D$2:$D$8270,Sheet3!DA$3,Sheet4!$A$2:$A$8270,Sheet3!$B$1,Sheet4!$B$2:$B$8270,Sheet3!$A$3))","v":415},{"$f":"+IF(SUMIFS(Sheet4!$DN$2:$DN$8270,Sheet4!$C$2:$C$8270,Sheet3!$B8,Sheet4!$D$2:$D$8270,Sheet3!DB$3,Sheet4!$A$2:$A$8270,Sheet3!$B$1,Sheet4!$B$2:$B$8270,Sheet3!$A$3)<3,0,SUMIFS(Sheet4!$DN$2:$DN$8270,Sheet4!$C$2:$C$8270,Sheet3!$B8,Sheet4!$D$2:$D$8270,Sheet3!DB$3,Sheet4!$A$2:$A$8270,Sheet3!$B$1,Sheet4!$B$2:$B$8270,Sheet3!$A$3))","v":927},{"$f":"+IF(SUMIFS(Sheet4!$DN$2:$DN$8270,Sheet4!$C$2:$C$8270,Sheet3!$B8,Sheet4!$D$2:$D$8270,Sheet3!DC$3,Sheet4!$A$2:$A$8270,Sheet3!$B$1,Sheet4!$B$2:$B$8270,Sheet3!$A$3)<3,0,SUMIFS(Sheet4!$DN$2:$DN$8270,Sheet4!$C$2:$C$8270,Sheet3!$B8,Sheet4!$D$2:$D$8270,Sheet3!DC$3,Sheet4!$A$2:$A$8270,Sheet3!$B$1,Sheet4!$B$2:$B$8270,Sheet3!$A$3))","v":1377},{"$f":"+IF(SUMIFS(Sheet4!$DN$2:$DN$8270,Sheet4!$C$2:$C$8270,Sheet3!$B8,Sheet4!$D$2:$D$8270,Sheet3!DD$3,Sheet4!$A$2:$A$8270,Sheet3!$B$1,Sheet4!$B$2:$B$8270,Sheet3!$A$3)<3,0,SUMIFS(Sheet4!$DN$2:$DN$8270,Sheet4!$C$2:$C$8270,Sheet3!$B8,Sheet4!$D$2:$D$8270,Sheet3!DD$3,Sheet4!$A$2:$A$8270,Sheet3!$B$1,Sheet4!$B$2:$B$8270,Sheet3!$A$3))","v":1135},{"$f":"+IF(SUMIFS(Sheet4!$DN$2:$DN$8270,Sheet4!$C$2:$C$8270,Sheet3!$B8,Sheet4!$D$2:$D$8270,Sheet3!DE$3,Sheet4!$A$2:$A$8270,Sheet3!$B$1,Sheet4!$B$2:$B$8270,Sheet3!$A$3)<3,0,SUMIFS(Sheet4!$DN$2:$DN$8270,Sheet4!$C$2:$C$8270,Sheet3!$B8,Sheet4!$D$2:$D$8270,Sheet3!DE$3,Sheet4!$A$2:$A$8270,Sheet3!$B$1,Sheet4!$B$2:$B$8270,Sheet3!$A$3))","v":357},{"$f":"+IF(SUMIFS(Sheet4!$DN$2:$DN$8270,Sheet4!$C$2:$C$8270,Sheet3!$B8,Sheet4!$D$2:$D$8270,Sheet3!DF$3,Sheet4!$A$2:$A$8270,Sheet3!$B$1,Sheet4!$B$2:$B$8270,Sheet3!$A$3)<3,0,SUMIFS(Sheet4!$DN$2:$DN$8270,Sheet4!$C$2:$C$8270,Sheet3!$B8,Sheet4!$D$2:$D$8270,Sheet3!DF$3,Sheet4!$A$2:$A$8270,Sheet3!$B$1,Sheet4!$B$2:$B$8270,Sheet3!$A$3))","v":0},{"$f":"+IF(SUMIFS(Sheet4!$DN$2:$DN$8270,Sheet4!$C$2:$C$8270,Sheet3!$B8,Sheet4!$D$2:$D$8270,Sheet3!DG$3,Sheet4!$A$2:$A$8270,Sheet3!$B$1,Sheet4!$B$2:$B$8270,Sheet3!$A$3)<3,0,SUMIFS(Sheet4!$DN$2:$DN$8270,Sheet4!$C$2:$C$8270,Sheet3!$B8,Sheet4!$D$2:$D$8270,Sheet3!DG$3,Sheet4!$A$2:$A$8270,Sheet3!$B$1,Sheet4!$B$2:$B$8270,Sheet3!$A$3))","v":0},{"$f":"+IF(SUMIFS(Sheet4!$DN$2:$DN$8270,Sheet4!$C$2:$C$8270,Sheet3!$B8,Sheet4!$E$2:$E$8270,Sheet3!DH$4,Sheet4!$A$2:$A$8270,Sheet3!$B$1,Sheet4!$B$2:$B$8270,Sheet3!$A$3)<3,0,SUMIFS(Sheet4!$DN$2:$DN$8270,Sheet4!$C$2:$C$8270,Sheet3!$B8,Sheet4!$E$2:$E$8270,Sheet3!DH$4,Sheet4!$A$2:$A$8270,Sheet3!$B$1,Sheet4!$B$2:$B$8270,Sheet3!$A$3))","v":6623},{"$f":"+IF(SUMIFS(Sheet4!$DN$2:$DN$8270,Sheet4!$C$2:$C$8270,Sheet3!$B8,Sheet4!$E$2:$E$8270,Sheet3!DI$4,Sheet4!$A$2:$A$8270,Sheet3!$B$1,Sheet4!$B$2:$B$8270,Sheet3!$A$3)<3,0,SUMIFS(Sheet4!$DN$2:$DN$8270,Sheet4!$C$2:$C$8270,Sheet3!$B8,Sheet4!$E$2:$E$8270,Sheet3!DI$4,Sheet4!$A$2:$A$8270,Sheet3!$B$1,Sheet4!$B$2:$B$8270,Sheet3!$A$3))","v":1143},{"$f":"+IF(SUMIFS(Sheet4!$DN$2:$DN$8270,Sheet4!$C$2:$C$8270,Sheet3!$B8,Sheet4!$E$2:$E$8270,Sheet3!DJ$4,Sheet4!$A$2:$A$8270,Sheet3!$B$1,Sheet4!$B$2:$B$8270,Sheet3!$A$3)<3,0,SUMIFS(Sheet4!$DN$2:$DN$8270,Sheet4!$C$2:$C$8270,Sheet3!$B8,Sheet4!$E$2:$E$8270,Sheet3!DJ$4,Sheet4!$A$2:$A$8270,Sheet3!$B$1,Sheet4!$B$2:$B$8270,Sheet3!$A$3))","v":205},{"$f":"+IF(SUMIFS(Sheet4!$DN$2:$DN$8270,Sheet4!$C$2:$C$8270,Sheet3!$B8,Sheet4!$E$2:$E$8270,Sheet3!DK$4,Sheet4!$A$2:$A$8270,Sheet3!$B$1,Sheet4!$B$2:$B$8270,Sheet3!$A$3)<3,0,SUMIFS(Sheet4!$DN$2:$DN$8270,Sheet4!$C$2:$C$8270,Sheet3!$B8,Sheet4!$E$2:$E$8270,Sheet3!DK$4,Sheet4!$A$2:$A$8270,Sheet3!$B$1,Sheet4!$B$2:$B$8270,Sheet3!$A$3))","v":7},{"$f":"+IF(SUMIFS(Sheet4!$DN$2:$DN$8270,Sheet4!$C$2:$C$8270,Sheet3!$B8,Sheet4!$E$2:$E$8270,Sheet3!DL$4,Sheet4!$A$2:$A$8270,Sheet3!$B$1,Sheet4!$B$2:$B$8270,Sheet3!$A$3)<3,0,SUMIFS(Sheet4!$DN$2:$DN$8270,Sheet4!$C$2:$C$8270,Sheet3!$B8,Sheet4!$E$2:$E$8270,Sheet3!DL$4,Sheet4!$A$2:$A$8270,Sheet3!$B$1,Sheet4!$B$2:$B$8270,Sheet3!$A$3))","v":5}]
[1,"112","Cávado",{"$f":"+SUMIFS(Sheet4!$DM$2:$DM$8270,Sheet4!$C$2:$C$8270,Sheet3!$B9,Sheet4!$D$2:$D$8270,Sheet3!D$3,Sheet4!$E$2:$E$8270,Sheet3!D$4,Sheet4!$A$2:$A$8270,Sheet3!$B$1,Sheet4!$B$2:$B$8270,Sheet3!$A$3)","v":3},{"$f":"+SUMIFS(Sheet4!$DM$2:$DM$8270,Sheet4!$C$2:$C$8270,Sheet3!$B9,Sheet4!$D$2:$D$8270,Sheet3!E$3,Sheet4!$E$2:$E$8270,Sheet3!E$4,Sheet4!$A$2:$A$8270,Sheet3!$B$1,Sheet4!$B$2:$B$8270,Sheet3!$A$3)","v":0},{"$f":"+SUMIFS(Sheet4!$DM$2:$DM$8270,Sheet4!$C$2:$C$8270,Sheet3!$B9,Sheet4!$D$2:$D$8270,Sheet3!F$3,Sheet4!$E$2:$E$8270,Sheet3!F$4,Sheet4!$A$2:$A$8270,Sheet3!$B$1,Sheet4!$B$2:$B$8270,Sheet3!$A$3)","v":0},{"$f":"+SUMIFS(Sheet4!$DM$2:$DM$8270,Sheet4!$C$2:$C$8270,Sheet3!$B9,Sheet4!$D$2:$D$8270,Sheet3!G$3,Sheet4!$E$2:$E$8270,Sheet3!G$4,Sheet4!$A$2:$A$8270,Sheet3!$B$1,Sheet4!$B$2:$B$8270,Sheet3!$A$3)","v":0},{"$f":"+SUMIFS(Sheet4!$DM$2:$DM$8270,Sheet4!$C$2:$C$8270,Sheet3!$B9,Sheet4!$D$2:$D$8270,Sheet3!H$3,Sheet4!$E$2:$E$8270,Sheet3!H$4,Sheet4!$A$2:$A$8270,Sheet3!$B$1,Sheet4!$B$2:$B$8270,Sheet3!$A$3)","v":0},{"$f":"+SUMIFS(Sheet4!$DM$2:$DM$8270,Sheet4!$C$2:$C$8270,Sheet3!$B9,Sheet4!$D$2:$D$8270,Sheet3!I$3,Sheet4!$E$2:$E$8270,Sheet3!I$4,Sheet4!$A$2:$A$8270,Sheet3!$B$1,Sheet4!$B$2:$B$8270,Sheet3!$A$3)","v":953},{"$f":"+SUMIFS(Sheet4!$DM$2:$DM$8270,Sheet4!$C$2:$C$8270,Sheet3!$B9,Sheet4!$D$2:$D$8270,Sheet3!J$3,Sheet4!$E$2:$E$8270,Sheet3!J$4,Sheet4!$A$2:$A$8270,Sheet3!$B$1,Sheet4!$B$2:$B$8270,Sheet3!$A$3)","v":20},{"$f":"+SUMIFS(Sheet4!$DM$2:$DM$8270,Sheet4!$C$2:$C$8270,Sheet3!$B9,Sheet4!$D$2:$D$8270,Sheet3!K$3,Sheet4!$E$2:$E$8270,Sheet3!K$4,Sheet4!$A$2:$A$8270,Sheet3!$B$1,Sheet4!$B$2:$B$8270,Sheet3!$A$3)","v":0},{"$f":"+SUMIFS(Sheet4!$DM$2:$DM$8270,Sheet4!$C$2:$C$8270,Sheet3!$B9,Sheet4!$D$2:$D$8270,Sheet3!L$3,Sheet4!$E$2:$E$8270,Sheet3!L$4,Sheet4!$A$2:$A$8270,Sheet3!$B$1,Sheet4!$B$2:$B$8270,Sheet3!$A$3)","v":0},{"$f":"+SUMIFS(Sheet4!$DM$2:$DM$8270,Sheet4!$C$2:$C$8270,Sheet3!$B9,Sheet4!$D$2:$D$8270,Sheet3!M$3,Sheet4!$E$2:$E$8270,Sheet3!M$4,Sheet4!$A$2:$A$8270,Sheet3!$B$1,Sheet4!$B$2:$B$8270,Sheet3!$A$3)","v":0},{"$f":"+SUMIFS(Sheet4!$DM$2:$DM$8270,Sheet4!$C$2:$C$8270,Sheet3!$B9,Sheet4!$D$2:$D$8270,Sheet3!N$3,Sheet4!$E$2:$E$8270,Sheet3!N$4,Sheet4!$A$2:$A$8270,Sheet3!$B$1,Sheet4!$B$2:$B$8270,Sheet3!$A$3)","v":272},{"$f":"+SUMIFS(Sheet4!$DM$2:$DM$8270,Sheet4!$C$2:$C$8270,Sheet3!$B9,Sheet4!$D$2:$D$8270,Sheet3!O$3,Sheet4!$E$2:$E$8270,Sheet3!O$4,Sheet4!$A$2:$A$8270,Sheet3!$B$1,Sheet4!$B$2:$B$8270,Sheet3!$A$3)","v":0},{"$f":"+SUMIFS(Sheet4!$DM$2:$DM$8270,Sheet4!$C$2:$C$8270,Sheet3!$B9,Sheet4!$D$2:$D$8270,Sheet3!P$3,Sheet4!$E$2:$E$8270,Sheet3!P$4,Sheet4!$A$2:$A$8270,Sheet3!$B$1,Sheet4!$B$2:$B$8270,Sheet3!$A$3)","v":0},{"$f":"+SUMIFS(Sheet4!$DM$2:$DM$8270,Sheet4!$C$2:$C$8270,Sheet3!$B9,Sheet4!$D$2:$D$8270,Sheet3!Q$3,Sheet4!$E$2:$E$8270,Sheet3!Q$4,Sheet4!$A$2:$A$8270,Sheet3!$B$1,Sheet4!$B$2:$B$8270,Sheet3!$A$3)","v":0},{"$f":"+SUMIFS(Sheet4!$DM$2:$DM$8270,Sheet4!$C$2:$C$8270,Sheet3!$B9,Sheet4!$D$2:$D$8270,Sheet3!R$3,Sheet4!$E$2:$E$8270,Sheet3!R$4,Sheet4!$A$2:$A$8270,Sheet3!$B$1,Sheet4!$B$2:$B$8270,Sheet3!$A$3)","v":0},{"$f":"+SUMIFS(Sheet4!$DM$2:$DM$8270,Sheet4!$C$2:$C$8270,Sheet3!$B9,Sheet4!$D$2:$D$8270,Sheet3!S$3,Sheet4!$E$2:$E$8270,Sheet3!S$4,Sheet4!$A$2:$A$8270,Sheet3!$B$1,Sheet4!$B$2:$B$8270,Sheet3!$A$3)","v":0},{"$f":"+SUMIFS(Sheet4!$DM$2:$DM$8270,Sheet4!$C$2:$C$8270,Sheet3!$B9,Sheet4!$D$2:$D$8270,Sheet3!T$3,Sheet4!$E$2:$E$8270,Sheet3!T$4,Sheet4!$A$2:$A$8270,Sheet3!$B$1,Sheet4!$B$2:$B$8270,Sheet3!$A$3)","v":0},{"$f":"+SUMIFS(Sheet4!$DM$2:$DM$8270,Sheet4!$C$2:$C$8270,Sheet3!$B9,Sheet4!$D$2:$D$8270,Sheet3!U$3,Sheet4!$E$2:$E$8270,Sheet3!U$4,Sheet4!$A$2:$A$8270,Sheet3!$B$1,Sheet4!$B$2:$B$8270,Sheet3!$A$3)","v":0},{"$f":"+SUMIFS(Sheet4!$DM$2:$DM$8270,Sheet4!$C$2:$C$8270,Sheet3!$B9,Sheet4!$D$2:$D$8270,Sheet3!V$3,Sheet4!$E$2:$E$8270,Sheet3!V$4,Sheet4!$A$2:$A$8270,Sheet3!$B$1,Sheet4!$B$2:$B$8270,Sheet3!$A$3)","v":0},{"$f":"+SUMIFS(Sheet4!$DM$2:$DM$8270,Sheet4!$C$2:$C$8270,Sheet3!$B9,Sheet4!$D$2:$D$8270,Sheet3!W$3,Sheet4!$E$2:$E$8270,Sheet3!W$4,Sheet4!$A$2:$A$8270,Sheet3!$B$1,Sheet4!$B$2:$B$8270,Sheet3!$A$3)","v":0},{"$f":"+SUMIFS(Sheet4!$DM$2:$DM$8270,Sheet4!$C$2:$C$8270,Sheet3!$B9,Sheet4!$D$2:$D$8270,Sheet3!X$3,Sheet4!$E$2:$E$8270,Sheet3!X$4,Sheet4!$A$2:$A$8270,Sheet3!$B$1,Sheet4!$B$2:$B$8270,Sheet3!$A$3)","v":0},{"$f":"+SUMIFS(Sheet4!$DM$2:$DM$8270,Sheet4!$C$2:$C$8270,Sheet3!$B9,Sheet4!$D$2:$D$8270,Sheet3!Y$3,Sheet4!$E$2:$E$8270,Sheet3!Y$4,Sheet4!$A$2:$A$8270,Sheet3!$B$1,Sheet4!$B$2:$B$8270,Sheet3!$A$3)","v":0},{"$f":"+SUMIFS(Sheet4!$DM$2:$DM$8270,Sheet4!$C$2:$C$8270,Sheet3!$B9,Sheet4!$D$2:$D$8270,Sheet3!Z$3,Sheet4!$E$2:$E$8270,Sheet3!Z$4,Sheet4!$A$2:$A$8270,Sheet3!$B$1,Sheet4!$B$2:$B$8270,Sheet3!$A$3)","v":0},{"$f":"+SUMIFS(Sheet4!$DM$2:$DM$8270,Sheet4!$C$2:$C$8270,Sheet3!$B9,Sheet4!$D$2:$D$8270,Sheet3!AA$3,Sheet4!$E$2:$E$8270,Sheet3!AA$4,Sheet4!$A$2:$A$8270,Sheet3!$B$1,Sheet4!$B$2:$B$8270,Sheet3!$A$3)","v":0},{"$f":"+SUMIFS(Sheet4!$DM$2:$DM$8270,Sheet4!$C$2:$C$8270,Sheet3!$B9,Sheet4!$D$2:$D$8270,Sheet3!AB$3,Sheet4!$E$2:$E$8270,Sheet3!AB$4,Sheet4!$A$2:$A$8270,Sheet3!$B$1,Sheet4!$B$2:$B$8270,Sheet3!$A$3)","v":0},{"$f":"+SUMIFS(Sheet4!$DM$2:$DM$8270,Sheet4!$C$2:$C$8270,Sheet3!$B9,Sheet4!$D$2:$D$8270,Sheet3!AC$3,Sheet4!$E$2:$E$8270,Sheet3!AC$4,Sheet4!$A$2:$A$8270,Sheet3!$B$1,Sheet4!$B$2:$B$8270,Sheet3!$A$3)","v":410},{"$f":"+SUMIFS(Sheet4!$DM$2:$DM$8270,Sheet4!$C$2:$C$8270,Sheet3!$B9,Sheet4!$D$2:$D$8270,Sheet3!AD$3,Sheet4!$E$2:$E$8270,Sheet3!AD$4,Sheet4!$A$2:$A$8270,Sheet3!$B$1,Sheet4!$B$2:$B$8270,Sheet3!$A$3)","v":7},{"$f":"+SUMIFS(Sheet4!$DM$2:$DM$8270,Sheet4!$C$2:$C$8270,Sheet3!$B9,Sheet4!$D$2:$D$8270,Sheet3!AE$3,Sheet4!$E$2:$E$8270,Sheet3!AE$4,Sheet4!$A$2:$A$8270,Sheet3!$B$1,Sheet4!$B$2:$B$8270,Sheet3!$A$3)","v":0},{"$f":"+SUMIFS(Sheet4!$DM$2:$DM$8270,Sheet4!$C$2:$C$8270,Sheet3!$B9,Sheet4!$D$2:$D$8270,Sheet3!AF$3,Sheet4!$E$2:$E$8270,Sheet3!AF$4,Sheet4!$A$2:$A$8270,Sheet3!$B$1,Sheet4!$B$2:$B$8270,Sheet3!$A$3)","v":0},{"$f":"+SUMIFS(Sheet4!$DM$2:$DM$8270,Sheet4!$C$2:$C$8270,Sheet3!$B9,Sheet4!$D$2:$D$8270,Sheet3!AG$3,Sheet4!$E$2:$E$8270,Sheet3!AG$4,Sheet4!$A$2:$A$8270,Sheet3!$B$1,Sheet4!$B$2:$B$8270,Sheet3!$A$3)","v":0},{"$f":"+SUMIFS(Sheet4!$DM$2:$DM$8270,Sheet4!$C$2:$C$8270,Sheet3!$B9,Sheet4!$D$2:$D$8270,Sheet3!AH$3,Sheet4!$E$2:$E$8270,Sheet3!AH$4,Sheet4!$A$2:$A$8270,Sheet3!$B$1,Sheet4!$B$2:$B$8270,Sheet3!$A$3)","v":68},{"$f":"+SUMIFS(Sheet4!$DM$2:$DM$8270,Sheet4!$C$2:$C$8270,Sheet3!$B9,Sheet4!$D$2:$D$8270,Sheet3!AI$3,Sheet4!$E$2:$E$8270,Sheet3!AI$4,Sheet4!$A$2:$A$8270,Sheet3!$B$1,Sheet4!$B$2:$B$8270,Sheet3!$A$3)","v":30},{"$f":"+SUMIFS(Sheet4!$DM$2:$DM$8270,Sheet4!$C$2:$C$8270,Sheet3!$B9,Sheet4!$D$2:$D$8270,Sheet3!AJ$3,Sheet4!$E$2:$E$8270,Sheet3!AJ$4,Sheet4!$A$2:$A$8270,Sheet3!$B$1,Sheet4!$B$2:$B$8270,Sheet3!$A$3)","v":6},{"$f":"+SUMIFS(Sheet4!$DM$2:$DM$8270,Sheet4!$C$2:$C$8270,Sheet3!$B9,Sheet4!$D$2:$D$8270,Sheet3!AK$3,Sheet4!$E$2:$E$8270,Sheet3!AK$4,Sheet4!$A$2:$A$8270,Sheet3!$B$1,Sheet4!$B$2:$B$8270,Sheet3!$A$3)","v":0},{"$f":"+SUMIFS(Sheet4!$DM$2:$DM$8270,Sheet4!$C$2:$C$8270,Sheet3!$B9,Sheet4!$D$2:$D$8270,Sheet3!AL$3,Sheet4!$E$2:$E$8270,Sheet3!AL$4,Sheet4!$A$2:$A$8270,Sheet3!$B$1,Sheet4!$B$2:$B$8270,Sheet3!$A$3)","v":0},{"$f":"+SUMIFS(Sheet4!$DM$2:$DM$8270,Sheet4!$C$2:$C$8270,Sheet3!$B9,Sheet4!$D$2:$D$8270,Sheet3!AM$3,Sheet4!$E$2:$E$8270,Sheet3!AM$4,Sheet4!$A$2:$A$8270,Sheet3!$B$1,Sheet4!$B$2:$B$8270,Sheet3!$A$3)","v":225},{"$f":"+SUMIFS(Sheet4!$DM$2:$DM$8270,Sheet4!$C$2:$C$8270,Sheet3!$B9,Sheet4!$D$2:$D$8270,Sheet3!AN$3,Sheet4!$E$2:$E$8270,Sheet3!AN$4,Sheet4!$A$2:$A$8270,Sheet3!$B$1,Sheet4!$B$2:$B$8270,Sheet3!$A$3)","v":29},{"$f":"+SUMIFS(Sheet4!$DM$2:$DM$8270,Sheet4!$C$2:$C$8270,Sheet3!$B9,Sheet4!$D$2:$D$8270,Sheet3!AO$3,Sheet4!$E$2:$E$8270,Sheet3!AO$4,Sheet4!$A$2:$A$8270,Sheet3!$B$1,Sheet4!$B$2:$B$8270,Sheet3!$A$3)","v":0},{"$f":"+SUMIFS(Sheet4!$DM$2:$DM$8270,Sheet4!$C$2:$C$8270,Sheet3!$B9,Sheet4!$D$2:$D$8270,Sheet3!AP$3,Sheet4!$E$2:$E$8270,Sheet3!AP$4,Sheet4!$A$2:$A$8270,Sheet3!$B$1,Sheet4!$B$2:$B$8270,Sheet3!$A$3)","v":0},{"$f":"+SUMIFS(Sheet4!$DM$2:$DM$8270,Sheet4!$C$2:$C$8270,Sheet3!$B9,Sheet4!$D$2:$D$8270,Sheet3!AQ$3,Sheet4!$E$2:$E$8270,Sheet3!AQ$4,Sheet4!$A$2:$A$8270,Sheet3!$B$1,Sheet4!$B$2:$B$8270,Sheet3!$A$3)","v":0},{"$f":"+SUMIFS(Sheet4!$DM$2:$DM$8270,Sheet4!$C$2:$C$8270,Sheet3!$B9,Sheet4!$D$2:$D$8270,Sheet3!AR$3,Sheet4!$E$2:$E$8270,Sheet3!AR$4,Sheet4!$A$2:$A$8270,Sheet3!$B$1,Sheet4!$B$2:$B$8270,Sheet3!$A$3)","v":0},{"$f":"+SUMIFS(Sheet4!$DM$2:$DM$8270,Sheet4!$C$2:$C$8270,Sheet3!$B9,Sheet4!$D$2:$D$8270,Sheet3!AS$3,Sheet4!$E$2:$E$8270,Sheet3!AS$4,Sheet4!$A$2:$A$8270,Sheet3!$B$1,Sheet4!$B$2:$B$8270,Sheet3!$A$3)","v":0},{"$f":"+SUMIFS(Sheet4!$DM$2:$DM$8270,Sheet4!$C$2:$C$8270,Sheet3!$B9,Sheet4!$D$2:$D$8270,Sheet3!AT$3,Sheet4!$E$2:$E$8270,Sheet3!AT$4,Sheet4!$A$2:$A$8270,Sheet3!$B$1,Sheet4!$B$2:$B$8270,Sheet3!$A$3)","v":0},{"$f":"+SUMIFS(Sheet4!$DM$2:$DM$8270,Sheet4!$C$2:$C$8270,Sheet3!$B9,Sheet4!$D$2:$D$8270,Sheet3!AU$3,Sheet4!$E$2:$E$8270,Sheet3!AU$4,Sheet4!$A$2:$A$8270,Sheet3!$B$1,Sheet4!$B$2:$B$8270,Sheet3!$A$3)","v":0},{"$f":"+SUMIFS(Sheet4!$DM$2:$DM$8270,Sheet4!$C$2:$C$8270,Sheet3!$B9,Sheet4!$D$2:$D$8270,Sheet3!AV$3,Sheet4!$E$2:$E$8270,Sheet3!AV$4,Sheet4!$A$2:$A$8270,Sheet3!$B$1,Sheet4!$B$2:$B$8270,Sheet3!$A$3)","v":0},{"$f":"+SUMIFS(Sheet4!$DM$2:$DM$8270,Sheet4!$C$2:$C$8270,Sheet3!$B9,Sheet4!$D$2:$D$8270,Sheet3!AW$3,Sheet4!$E$2:$E$8270,Sheet3!AW$4,Sheet4!$A$2:$A$8270,Sheet3!$B$1,Sheet4!$B$2:$B$8270,Sheet3!$A$3)","v":2000},{"$f":"+SUMIFS(Sheet4!$DM$2:$DM$8270,Sheet4!$C$2:$C$8270,Sheet3!$B9,Sheet4!$D$2:$D$8270,Sheet3!AX$3,Sheet4!$E$2:$E$8270,Sheet3!AX$4,Sheet4!$A$2:$A$8270,Sheet3!$B$1,Sheet4!$B$2:$B$8270,Sheet3!$A$3)","v":64},{"$f":"+SUMIFS(Sheet4!$DM$2:$DM$8270,Sheet4!$C$2:$C$8270,Sheet3!$B9,Sheet4!$D$2:$D$8270,Sheet3!AY$3,Sheet4!$E$2:$E$8270,Sheet3!AY$4,Sheet4!$A$2:$A$8270,Sheet3!$B$1,Sheet4!$B$2:$B$8270,Sheet3!$A$3)","v":0},{"$f":"+SUMIFS(Sheet4!$DM$2:$DM$8270,Sheet4!$C$2:$C$8270,Sheet3!$B9,Sheet4!$D$2:$D$8270,Sheet3!AZ$3,Sheet4!$E$2:$E$8270,Sheet3!AZ$4,Sheet4!$A$2:$A$8270,Sheet3!$B$1,Sheet4!$B$2:$B$8270,Sheet3!$A$3)","v":0},{"$f":"+SUMIFS(Sheet4!$DM$2:$DM$8270,Sheet4!$C$2:$C$8270,Sheet3!$B9,Sheet4!$D$2:$D$8270,Sheet3!BA$3,Sheet4!$E$2:$E$8270,Sheet3!BA$4,Sheet4!$A$2:$A$8270,Sheet3!$B$1,Sheet4!$B$2:$B$8270,Sheet3!$A$3)","v":0},{"$f":"+SUMIFS(Sheet4!$DM$2:$DM$8270,Sheet4!$C$2:$C$8270,Sheet3!$B9,Sheet4!$D$2:$D$8270,Sheet3!BB$3,Sheet4!$E$2:$E$8270,Sheet3!BB$4,Sheet4!$A$2:$A$8270,Sheet3!$B$1,Sheet4!$B$2:$B$8270,Sheet3!$A$3)","v":139},{"$f":"+SUMIFS(Sheet4!$DM$2:$DM$8270,Sheet4!$C$2:$C$8270,Sheet3!$B9,Sheet4!$D$2:$D$8270,Sheet3!BC$3,Sheet4!$E$2:$E$8270,Sheet3!BC$4,Sheet4!$A$2:$A$8270,Sheet3!$B$1,Sheet4!$B$2:$B$8270,Sheet3!$A$3)","v":300},{"$f":"+SUMIFS(Sheet4!$DM$2:$DM$8270,Sheet4!$C$2:$C$8270,Sheet3!$B9,Sheet4!$D$2:$D$8270,Sheet3!BD$3,Sheet4!$E$2:$E$8270,Sheet3!BD$4,Sheet4!$A$2:$A$8270,Sheet3!$B$1,Sheet4!$B$2:$B$8270,Sheet3!$A$3)","v":14},{"$f":"+SUMIFS(Sheet4!$DM$2:$DM$8270,Sheet4!$C$2:$C$8270,Sheet3!$B9,Sheet4!$D$2:$D$8270,Sheet3!BE$3,Sheet4!$E$2:$E$8270,Sheet3!BE$4,Sheet4!$A$2:$A$8270,Sheet3!$B$1,Sheet4!$B$2:$B$8270,Sheet3!$A$3)","v":0},{"$f":"+SUMIFS(Sheet4!$DM$2:$DM$8270,Sheet4!$C$2:$C$8270,Sheet3!$B9,Sheet4!$D$2:$D$8270,Sheet3!BF$3,Sheet4!$E$2:$E$8270,Sheet3!BF$4,Sheet4!$A$2:$A$8270,Sheet3!$B$1,Sheet4!$B$2:$B$8270,Sheet3!$A$3)","v":0},{"$f":"+SUMIFS(Sheet4!$DM$2:$DM$8270,Sheet4!$C$2:$C$8270,Sheet3!$B9,Sheet4!$D$2:$D$8270,Sheet3!BG$3,Sheet4!$E$2:$E$8270,Sheet3!BG$4,Sheet4!$A$2:$A$8270,Sheet3!$B$1,Sheet4!$B$2:$B$8270,Sheet3!$A$3)","v":624},{"$f":"+SUMIFS(Sheet4!$DM$2:$DM$8270,Sheet4!$C$2:$C$8270,Sheet3!$B9,Sheet4!$D$2:$D$8270,Sheet3!BH$3,Sheet4!$E$2:$E$8270,Sheet3!BH$4,Sheet4!$A$2:$A$8270,Sheet3!$B$1,Sheet4!$B$2:$B$8270,Sheet3!$A$3)","v":126},{"$f":"+SUMIFS(Sheet4!$DM$2:$DM$8270,Sheet4!$C$2:$C$8270,Sheet3!$B9,Sheet4!$D$2:$D$8270,Sheet3!BI$3,Sheet4!$E$2:$E$8270,Sheet3!BI$4,Sheet4!$A$2:$A$8270,Sheet3!$B$1,Sheet4!$B$2:$B$8270,Sheet3!$A$3)","v":4},{"$f":"+SUMIFS(Sheet4!$DM$2:$DM$8270,Sheet4!$C$2:$C$8270,Sheet3!$B9,Sheet4!$D$2:$D$8270,Sheet3!BJ$3,Sheet4!$E$2:$E$8270,Sheet3!BJ$4,Sheet4!$A$2:$A$8270,Sheet3!$B$1,Sheet4!$B$2:$B$8270,Sheet3!$A$3)","v":0},{"$f":"+SUMIFS(Sheet4!$DM$2:$DM$8270,Sheet4!$C$2:$C$8270,Sheet3!$B9,Sheet4!$D$2:$D$8270,Sheet3!BK$3,Sheet4!$E$2:$E$8270,Sheet3!BK$4,Sheet4!$A$2:$A$8270,Sheet3!$B$1,Sheet4!$B$2:$B$8270,Sheet3!$A$3)","v":0},{"$f":"+SUMIFS(Sheet4!$DM$2:$DM$8270,Sheet4!$C$2:$C$8270,Sheet3!$B9,Sheet4!$D$2:$D$8270,Sheet3!BL$3,Sheet4!$E$2:$E$8270,Sheet3!BL$4,Sheet4!$A$2:$A$8270,Sheet3!$B$1,Sheet4!$B$2:$B$8270,Sheet3!$A$3)","v":138},{"$f":"+SUMIFS(Sheet4!$DM$2:$DM$8270,Sheet4!$C$2:$C$8270,Sheet3!$B9,Sheet4!$D$2:$D$8270,Sheet3!BM$3,Sheet4!$E$2:$E$8270,Sheet3!BM$4,Sheet4!$A$2:$A$8270,Sheet3!$B$1,Sheet4!$B$2:$B$8270,Sheet3!$A$3)","v":91},{"$f":"+SUMIFS(Sheet4!$DM$2:$DM$8270,Sheet4!$C$2:$C$8270,Sheet3!$B9,Sheet4!$D$2:$D$8270,Sheet3!BN$3,Sheet4!$E$2:$E$8270,Sheet3!BN$4,Sheet4!$A$2:$A$8270,Sheet3!$B$1,Sheet4!$B$2:$B$8270,Sheet3!$A$3)","v":18},{"$f":"+SUMIFS(Sheet4!$DM$2:$DM$8270,Sheet4!$C$2:$C$8270,Sheet3!$B9,Sheet4!$D$2:$D$8270,Sheet3!BO$3,Sheet4!$E$2:$E$8270,Sheet3!BO$4,Sheet4!$A$2:$A$8270,Sheet3!$B$1,Sheet4!$B$2:$B$8270,Sheet3!$A$3)","v":0},{"$f":"+SUMIFS(Sheet4!$DM$2:$DM$8270,Sheet4!$C$2:$C$8270,Sheet3!$B9,Sheet4!$D$2:$D$8270,Sheet3!BP$3,Sheet4!$E$2:$E$8270,Sheet3!BP$4,Sheet4!$A$2:$A$8270,Sheet3!$B$1,Sheet4!$B$2:$B$8270,Sheet3!$A$3)","v":0},{"$f":"+SUMIFS(Sheet4!$DM$2:$DM$8270,Sheet4!$C$2:$C$8270,Sheet3!$B9,Sheet4!$D$2:$D$8270,Sheet3!BQ$3,Sheet4!$E$2:$E$8270,Sheet3!BQ$4,Sheet4!$A$2:$A$8270,Sheet3!$B$1,Sheet4!$B$2:$B$8270,Sheet3!$A$3)","v":214},{"$f":"+SUMIFS(Sheet4!$DM$2:$DM$8270,Sheet4!$C$2:$C$8270,Sheet3!$B9,Sheet4!$D$2:$D$8270,Sheet3!BR$3,Sheet4!$E$2:$E$8270,Sheet3!BR$4,Sheet4!$A$2:$A$8270,Sheet3!$B$1,Sheet4!$B$2:$B$8270,Sheet3!$A$3)","v":74},{"$f":"+SUMIFS(Sheet4!$DM$2:$DM$8270,Sheet4!$C$2:$C$8270,Sheet3!$B9,Sheet4!$D$2:$D$8270,Sheet3!BS$3,Sheet4!$E$2:$E$8270,Sheet3!BS$4,Sheet4!$A$2:$A$8270,Sheet3!$B$1,Sheet4!$B$2:$B$8270,Sheet3!$A$3)","v":12},{"$f":"+SUMIFS(Sheet4!$DM$2:$DM$8270,Sheet4!$C$2:$C$8270,Sheet3!$B9,Sheet4!$D$2:$D$8270,Sheet3!BT$3,Sheet4!$E$2:$E$8270,Sheet3!BT$4,Sheet4!$A$2:$A$8270,Sheet3!$B$1,Sheet4!$B$2:$B$8270,Sheet3!$A$3)","v":0},{"$f":"+SUMIFS(Sheet4!$DM$2:$DM$8270,Sheet4!$C$2:$C$8270,Sheet3!$B9,Sheet4!$D$2:$D$8270,Sheet3!BU$3,Sheet4!$E$2:$E$8270,Sheet3!BU$4,Sheet4!$A$2:$A$8270,Sheet3!$B$1,Sheet4!$B$2:$B$8270,Sheet3!$A$3)","v":0},{"$f":"+SUMIFS(Sheet4!$DM$2:$DM$8270,Sheet4!$C$2:$C$8270,Sheet3!$B9,Sheet4!$D$2:$D$8270,Sheet3!BV$3,Sheet4!$E$2:$E$8270,Sheet3!BV$4,Sheet4!$A$2:$A$8270,Sheet3!$B$1,Sheet4!$B$2:$B$8270,Sheet3!$A$3)","v":599},{"$f":"+SUMIFS(Sheet4!$DM$2:$DM$8270,Sheet4!$C$2:$C$8270,Sheet3!$B9,Sheet4!$D$2:$D$8270,Sheet3!BW$3,Sheet4!$E$2:$E$8270,Sheet3!BW$4,Sheet4!$A$2:$A$8270,Sheet3!$B$1,Sheet4!$B$2:$B$8270,Sheet3!$A$3)","v":49},{"$f":"+SUMIFS(Sheet4!$DM$2:$DM$8270,Sheet4!$C$2:$C$8270,Sheet3!$B9,Sheet4!$D$2:$D$8270,Sheet3!BX$3,Sheet4!$E$2:$E$8270,Sheet3!BX$4,Sheet4!$A$2:$A$8270,Sheet3!$B$1,Sheet4!$B$2:$B$8270,Sheet3!$A$3)","v":0},{"$f":"+SUMIFS(Sheet4!$DM$2:$DM$8270,Sheet4!$C$2:$C$8270,Sheet3!$B9,Sheet4!$D$2:$D$8270,Sheet3!BY$3,Sheet4!$E$2:$E$8270,Sheet3!BY$4,Sheet4!$A$2:$A$8270,Sheet3!$B$1,Sheet4!$B$2:$B$8270,Sheet3!$A$3)","v":0},{"$f":"+SUMIFS(Sheet4!$DM$2:$DM$8270,Sheet4!$C$2:$C$8270,Sheet3!$B9,Sheet4!$D$2:$D$8270,Sheet3!BZ$3,Sheet4!$E$2:$E$8270,Sheet3!BZ$4,Sheet4!$A$2:$A$8270,Sheet3!$B$1,Sheet4!$B$2:$B$8270,Sheet3!$A$3)","v":0},{"$f":"+SUMIFS(Sheet4!$DM$2:$DM$8270,Sheet4!$C$2:$C$8270,Sheet3!$B9,Sheet4!$D$2:$D$8270,Sheet3!CA$3,Sheet4!$E$2:$E$8270,Sheet3!CA$4,Sheet4!$A$2:$A$8270,Sheet3!$B$1,Sheet4!$B$2:$B$8270,Sheet3!$A$3)","v":723},{"$f":"+SUMIFS(Sheet4!$DM$2:$DM$8270,Sheet4!$C$2:$C$8270,Sheet3!$B9,Sheet4!$D$2:$D$8270,Sheet3!CB$3,Sheet4!$E$2:$E$8270,Sheet3!CB$4,Sheet4!$A$2:$A$8270,Sheet3!$B$1,Sheet4!$B$2:$B$8270,Sheet3!$A$3)","v":77},{"$f":"+SUMIFS(Sheet4!$DM$2:$DM$8270,Sheet4!$C$2:$C$8270,Sheet3!$B9,Sheet4!$D$2:$D$8270,Sheet3!CC$3,Sheet4!$E$2:$E$8270,Sheet3!CC$4,Sheet4!$A$2:$A$8270,Sheet3!$B$1,Sheet4!$B$2:$B$8270,Sheet3!$A$3)","v":0},{"$f":"+SUMIFS(Sheet4!$DM$2:$DM$8270,Sheet4!$C$2:$C$8270,Sheet3!$B9,Sheet4!$D$2:$D$8270,Sheet3!CD$3,Sheet4!$E$2:$E$8270,Sheet3!CD$4,Sheet4!$A$2:$A$8270,Sheet3!$B$1,Sheet4!$B$2:$B$8270,Sheet3!$A$3)","v":0},{"$f":"+SUMIFS(Sheet4!$DM$2:$DM$8270,Sheet4!$C$2:$C$8270,Sheet3!$B9,Sheet4!$D$2:$D$8270,Sheet3!CE$3,Sheet4!$E$2:$E$8270,Sheet3!CE$4,Sheet4!$A$2:$A$8270,Sheet3!$B$1,Sheet4!$B$2:$B$8270,Sheet3!$A$3)","v":0},{"$f":"+SUMIFS(Sheet4!$DM$2:$DM$8270,Sheet4!$C$2:$C$8270,Sheet3!$B9,Sheet4!$D$2:$D$8270,Sheet3!CF$3,Sheet4!$E$2:$E$8270,Sheet3!CF$4,Sheet4!$A$2:$A$8270,Sheet3!$B$1,Sheet4!$B$2:$B$8270,Sheet3!$A$3)","v":0},{"$f":"+SUMIFS(Sheet4!$DM$2:$DM$8270,Sheet4!$C$2:$C$8270,Sheet3!$B9,Sheet4!$D$2:$D$8270,Sheet3!CG$3,Sheet4!$E$2:$E$8270,Sheet3!CG$4,Sheet4!$A$2:$A$8270,Sheet3!$B$1,Sheet4!$B$2:$B$8270,Sheet3!$A$3)","v":0},{"$f":"+SUMIFS(Sheet4!$DM$2:$DM$8270,Sheet4!$C$2:$C$8270,Sheet3!$B9,Sheet4!$D$2:$D$8270,Sheet3!CH$3,Sheet4!$E$2:$E$8270,Sheet3!CH$4,Sheet4!$A$2:$A$8270,Sheet3!$B$1,Sheet4!$B$2:$B$8270,Sheet3!$A$3)","v":0},{"$f":"+SUMIFS(Sheet4!$DM$2:$DM$8270,Sheet4!$C$2:$C$8270,Sheet3!$B9,Sheet4!$D$2:$D$8270,Sheet3!CI$3,Sheet4!$E$2:$E$8270,Sheet3!CI$4,Sheet4!$A$2:$A$8270,Sheet3!$B$1,Sheet4!$B$2:$B$8270,Sheet3!$A$3)","v":0},{"$f":"+SUMIFS(Sheet4!$DM$2:$DM$8270,Sheet4!$C$2:$C$8270,Sheet3!$B9,Sheet4!$D$2:$D$8270,Sheet3!CJ$3,Sheet4!$E$2:$E$8270,Sheet3!CJ$4,Sheet4!$A$2:$A$8270,Sheet3!$B$1,Sheet4!$B$2:$B$8270,Sheet3!$A$3)","v":0},{"$f":"+SUMIFS(Sheet4!$DM$2:$DM$8270,Sheet4!$C$2:$C$8270,Sheet3!$B9,Sheet4!$D$2:$D$8270,Sheet3!CK$3,Sheet4!$E$2:$E$8270,Sheet3!CK$4,Sheet4!$A$2:$A$8270,Sheet3!$B$1,Sheet4!$B$2:$B$8270,Sheet3!$A$3)","v":6},{"$f":"+SUMIFS(Sheet4!$DM$2:$DM$8270,Sheet4!$C$2:$C$8270,Sheet3!$B9,Sheet4!$D$2:$D$8270,Sheet3!CL$3,Sheet4!$E$2:$E$8270,Sheet3!CL$4,Sheet4!$A$2:$A$8270,Sheet3!$B$1,Sheet4!$B$2:$B$8270,Sheet3!$A$3)","v":0},{"$f":"+SUMIFS(Sheet4!$DM$2:$DM$8270,Sheet4!$C$2:$C$8270,Sheet3!$B9,Sheet4!$D$2:$D$8270,Sheet3!CM$3,Sheet4!$E$2:$E$8270,Sheet3!CM$4,Sheet4!$A$2:$A$8270,Sheet3!$B$1,Sheet4!$B$2:$B$8270,Sheet3!$A$3)","v":0},{"$f":"+SUMIFS(Sheet4!$DM$2:$DM$8270,Sheet4!$C$2:$C$8270,Sheet3!$B9,Sheet4!$D$2:$D$8270,Sheet3!CN$3,Sheet4!$E$2:$E$8270,Sheet3!CN$4,Sheet4!$A$2:$A$8270,Sheet3!$B$1,Sheet4!$B$2:$B$8270,Sheet3!$A$3)","v":0},{"$f":"+SUMIFS(Sheet4!$DM$2:$DM$8270,Sheet4!$C$2:$C$8270,Sheet3!$B9,Sheet4!$D$2:$D$8270,Sheet3!CO$3,Sheet4!$E$2:$E$8270,Sheet3!CO$4,Sheet4!$A$2:$A$8270,Sheet3!$B$1,Sheet4!$B$2:$B$8270,Sheet3!$A$3)","v":0},{"$f":"+IF(SUMIFS(Sheet4!$DN$2:$DN$8270,Sheet4!$C$2:$C$8270,Sheet3!$B9,Sheet4!$D$2:$D$8270,Sheet3!CP$3,Sheet4!$A$2:$A$8270,Sheet3!$B$1,Sheet4!$B$2:$B$8270,Sheet3!$A$3)<3,0,SUMIFS(Sheet4!$DN$2:$DN$8270,Sheet4!$C$2:$C$8270,Sheet3!$B9,Sheet4!$D$2:$D$8270,Sheet3!CP$3,Sheet4!$A$2:$A$8270,Sheet3!$B$1,Sheet4!$B$2:$B$8270,Sheet3!$A$3))","v":4},{"$f":"+IF(SUMIFS(Sheet4!$DN$2:$DN$8270,Sheet4!$C$2:$C$8270,Sheet3!$B9,Sheet4!$D$2:$D$8270,Sheet3!CQ$3,Sheet4!$A$2:$A$8270,Sheet3!$B$1,Sheet4!$B$2:$B$8270,Sheet3!$A$3)<3,0,SUMIFS(Sheet4!$DN$2:$DN$8270,Sheet4!$C$2:$C$8270,Sheet3!$B9,Sheet4!$D$2:$D$8270,Sheet3!CQ$3,Sheet4!$A$2:$A$8270,Sheet3!$B$1,Sheet4!$B$2:$B$8270,Sheet3!$A$3))","v":976},{"$f":"+IF(SUMIFS(Sheet4!$DN$2:$DN$8270,Sheet4!$C$2:$C$8270,Sheet3!$B9,Sheet4!$D$2:$D$8270,Sheet3!CR$3,Sheet4!$A$2:$A$8270,Sheet3!$B$1,Sheet4!$B$2:$B$8270,Sheet3!$A$3)<3,0,SUMIFS(Sheet4!$DN$2:$DN$8270,Sheet4!$C$2:$C$8270,Sheet3!$B9,Sheet4!$D$2:$D$8270,Sheet3!CR$3,Sheet4!$A$2:$A$8270,Sheet3!$B$1,Sheet4!$B$2:$B$8270,Sheet3!$A$3))","v":273},{"$f":"+IF(SUMIFS(Sheet4!$DN$2:$DN$8270,Sheet4!$C$2:$C$8270,Sheet3!$B9,Sheet4!$D$2:$D$8270,Sheet3!CS$3,Sheet4!$A$2:$A$8270,Sheet3!$B$1,Sheet4!$B$2:$B$8270,Sheet3!$A$3)<3,0,SUMIFS(Sheet4!$DN$2:$DN$8270,Sheet4!$C$2:$C$8270,Sheet3!$B9,Sheet4!$D$2:$D$8270,Sheet3!CS$3,Sheet4!$A$2:$A$8270,Sheet3!$B$1,Sheet4!$B$2:$B$8270,Sheet3!$A$3))","v":0},{"$f":"+IF(SUMIFS(Sheet4!$DN$2:$DN$8270,Sheet4!$C$2:$C$8270,Sheet3!$B9,Sheet4!$D$2:$D$8270,Sheet3!CT$3,Sheet4!$A$2:$A$8270,Sheet3!$B$1,Sheet4!$B$2:$B$8270,Sheet3!$A$3)<3,0,SUMIFS(Sheet4!$DN$2:$DN$8270,Sheet4!$C$2:$C$8270,Sheet3!$B9,Sheet4!$D$2:$D$8270,Sheet3!CT$3,Sheet4!$A$2:$A$8270,Sheet3!$B$1,Sheet4!$B$2:$B$8270,Sheet3!$A$3))","v":0},{"$f":"+IF(SUMIFS(Sheet4!$DN$2:$DN$8270,Sheet4!$C$2:$C$8270,Sheet3!$B9,Sheet4!$D$2:$D$8270,Sheet3!CU$3,Sheet4!$A$2:$A$8270,Sheet3!$B$1,Sheet4!$B$2:$B$8270,Sheet3!$A$3)<3,0,SUMIFS(Sheet4!$DN$2:$DN$8270,Sheet4!$C$2:$C$8270,Sheet3!$B9,Sheet4!$D$2:$D$8270,Sheet3!CU$3,Sheet4!$A$2:$A$8270,Sheet3!$B$1,Sheet4!$B$2:$B$8270,Sheet3!$A$3))","v":419},{"$f":"+IF(SUMIFS(Sheet4!$DN$2:$DN$8270,Sheet4!$C$2:$C$8270,Sheet3!$B9,Sheet4!$D$2:$D$8270,Sheet3!CV$3,Sheet4!$A$2:$A$8270,Sheet3!$B$1,Sheet4!$B$2:$B$8270,Sheet3!$A$3)<3,0,SUMIFS(Sheet4!$DN$2:$DN$8270,Sheet4!$C$2:$C$8270,Sheet3!$B9,Sheet4!$D$2:$D$8270,Sheet3!CV$3,Sheet4!$A$2:$A$8270,Sheet3!$B$1,Sheet4!$B$2:$B$8270,Sheet3!$A$3))","v":105},{"$f":"+IF(SUMIFS(Sheet4!$DN$2:$DN$8270,Sheet4!$C$2:$C$8270,Sheet3!$B9,Sheet4!$D$2:$D$8270,Sheet3!CW$3,Sheet4!$A$2:$A$8270,Sheet3!$B$1,Sheet4!$B$2:$B$8270,Sheet3!$A$3)<3,0,SUMIFS(Sheet4!$DN$2:$DN$8270,Sheet4!$C$2:$C$8270,Sheet3!$B9,Sheet4!$D$2:$D$8270,Sheet3!CW$3,Sheet4!$A$2:$A$8270,Sheet3!$B$1,Sheet4!$B$2:$B$8270,Sheet3!$A$3))","v":256},{"$f":"+IF(SUMIFS(Sheet4!$DN$2:$DN$8270,Sheet4!$C$2:$C$8270,Sheet3!$B9,Sheet4!$D$2:$D$8270,Sheet3!CX$3,Sheet4!$A$2:$A$8270,Sheet3!$B$1,Sheet4!$B$2:$B$8270,Sheet3!$A$3)<3,0,SUMIFS(Sheet4!$DN$2:$DN$8270,Sheet4!$C$2:$C$8270,Sheet3!$B9,Sheet4!$D$2:$D$8270,Sheet3!CX$3,Sheet4!$A$2:$A$8270,Sheet3!$B$1,Sheet4!$B$2:$B$8270,Sheet3!$A$3))","v":0},{"$f":"+IF(SUMIFS(Sheet4!$DN$2:$DN$8270,Sheet4!$C$2:$C$8270,Sheet3!$B9,Sheet4!$D$2:$D$8270,Sheet3!CY$3,Sheet4!$A$2:$A$8270,Sheet3!$B$1,Sheet4!$B$2:$B$8270,Sheet3!$A$3)<3,0,SUMIFS(Sheet4!$DN$2:$DN$8270,Sheet4!$C$2:$C$8270,Sheet3!$B9,Sheet4!$D$2:$D$8270,Sheet3!CY$3,Sheet4!$A$2:$A$8270,Sheet3!$B$1,Sheet4!$B$2:$B$8270,Sheet3!$A$3))","v":2067},{"$f":"+IF(SUMIFS(Sheet4!$DN$2:$DN$8270,Sheet4!$C$2:$C$8270,Sheet3!$B9,Sheet4!$D$2:$D$8270,Sheet3!CZ$3,Sheet4!$A$2:$A$8270,Sheet3!$B$1,Sheet4!$B$2:$B$8270,Sheet3!$A$3)<3,0,SUMIFS(Sheet4!$DN$2:$DN$8270,Sheet4!$C$2:$C$8270,Sheet3!$B9,Sheet4!$D$2:$D$8270,Sheet3!CZ$3,Sheet4!$A$2:$A$8270,Sheet3!$B$1,Sheet4!$B$2:$B$8270,Sheet3!$A$3))","v":453},{"$f":"+IF(SUMIFS(Sheet4!$DN$2:$DN$8270,Sheet4!$C$2:$C$8270,Sheet3!$B9,Sheet4!$D$2:$D$8270,Sheet3!DA$3,Sheet4!$A$2:$A$8270,Sheet3!$B$1,Sheet4!$B$2:$B$8270,Sheet3!$A$3)<3,0,SUMIFS(Sheet4!$DN$2:$DN$8270,Sheet4!$C$2:$C$8270,Sheet3!$B9,Sheet4!$D$2:$D$8270,Sheet3!DA$3,Sheet4!$A$2:$A$8270,Sheet3!$B$1,Sheet4!$B$2:$B$8270,Sheet3!$A$3))","v":758},{"$f":"+IF(SUMIFS(Sheet4!$DN$2:$DN$8270,Sheet4!$C$2:$C$8270,Sheet3!$B9,Sheet4!$D$2:$D$8270,Sheet3!DB$3,Sheet4!$A$2:$A$8270,Sheet3!$B$1,Sheet4!$B$2:$B$8270,Sheet3!$A$3)<3,0,SUMIFS(Sheet4!$DN$2:$DN$8270,Sheet4!$C$2:$C$8270,Sheet3!$B9,Sheet4!$D$2:$D$8270,Sheet3!DB$3,Sheet4!$A$2:$A$8270,Sheet3!$B$1,Sheet4!$B$2:$B$8270,Sheet3!$A$3))","v":250},{"$f":"+IF(SUMIFS(Sheet4!$DN$2:$DN$8270,Sheet4!$C$2:$C$8270,Sheet3!$B9,Sheet4!$D$2:$D$8270,Sheet3!DC$3,Sheet4!$A$2:$A$8270,Sheet3!$B$1,Sheet4!$B$2:$B$8270,Sheet3!$A$3)<3,0,SUMIFS(Sheet4!$DN$2:$DN$8270,Sheet4!$C$2:$C$8270,Sheet3!$B9,Sheet4!$D$2:$D$8270,Sheet3!DC$3,Sheet4!$A$2:$A$8270,Sheet3!$B$1,Sheet4!$B$2:$B$8270,Sheet3!$A$3))","v":301},{"$f":"+IF(SUMIFS(Sheet4!$DN$2:$DN$8270,Sheet4!$C$2:$C$8270,Sheet3!$B9,Sheet4!$D$2:$D$8270,Sheet3!DD$3,Sheet4!$A$2:$A$8270,Sheet3!$B$1,Sheet4!$B$2:$B$8270,Sheet3!$A$3)<3,0,SUMIFS(Sheet4!$DN$2:$DN$8270,Sheet4!$C$2:$C$8270,Sheet3!$B9,Sheet4!$D$2:$D$8270,Sheet3!DD$3,Sheet4!$A$2:$A$8270,Sheet3!$B$1,Sheet4!$B$2:$B$8270,Sheet3!$A$3))","v":650},{"$f":"+IF(SUMIFS(Sheet4!$DN$2:$DN$8270,Sheet4!$C$2:$C$8270,Sheet3!$B9,Sheet4!$D$2:$D$8270,Sheet3!DE$3,Sheet4!$A$2:$A$8270,Sheet3!$B$1,Sheet4!$B$2:$B$8270,Sheet3!$A$3)<3,0,SUMIFS(Sheet4!$DN$2:$DN$8270,Sheet4!$C$2:$C$8270,Sheet3!$B9,Sheet4!$D$2:$D$8270,Sheet3!DE$3,Sheet4!$A$2:$A$8270,Sheet3!$B$1,Sheet4!$B$2:$B$8270,Sheet3!$A$3))","v":804},{"$f":"+IF(SUMIFS(Sheet4!$DN$2:$DN$8270,Sheet4!$C$2:$C$8270,Sheet3!$B9,Sheet4!$D$2:$D$8270,Sheet3!DF$3,Sheet4!$A$2:$A$8270,Sheet3!$B$1,Sheet4!$B$2:$B$8270,Sheet3!$A$3)<3,0,SUMIFS(Sheet4!$DN$2:$DN$8270,Sheet4!$C$2:$C$8270,Sheet3!$B9,Sheet4!$D$2:$D$8270,Sheet3!DF$3,Sheet4!$A$2:$A$8270,Sheet3!$B$1,Sheet4!$B$2:$B$8270,Sheet3!$A$3))","v":0},{"$f":"+IF(SUMIFS(Sheet4!$DN$2:$DN$8270,Sheet4!$C$2:$C$8270,Sheet3!$B9,Sheet4!$D$2:$D$8270,Sheet3!DG$3,Sheet4!$A$2:$A$8270,Sheet3!$B$1,Sheet4!$B$2:$B$8270,Sheet3!$A$3)<3,0,SUMIFS(Sheet4!$DN$2:$DN$8270,Sheet4!$C$2:$C$8270,Sheet3!$B9,Sheet4!$D$2:$D$8270,Sheet3!DG$3,Sheet4!$A$2:$A$8270,Sheet3!$B$1,Sheet4!$B$2:$B$8270,Sheet3!$A$3))","v":6},{"$f":"+IF(SUMIFS(Sheet4!$DN$2:$DN$8270,Sheet4!$C$2:$C$8270,Sheet3!$B9,Sheet4!$E$2:$E$8270,Sheet3!DH$4,Sheet4!$A$2:$A$8270,Sheet3!$B$1,Sheet4!$B$2:$B$8270,Sheet3!$A$3)<3,0,SUMIFS(Sheet4!$DN$2:$DN$8270,Sheet4!$C$2:$C$8270,Sheet3!$B9,Sheet4!$E$2:$E$8270,Sheet3!DH$4,Sheet4!$A$2:$A$8270,Sheet3!$B$1,Sheet4!$B$2:$B$8270,Sheet3!$A$3))","v":6383},{"$f":"+IF(SUMIFS(Sheet4!$DN$2:$DN$8270,Sheet4!$C$2:$C$8270,Sheet3!$B9,Sheet4!$E$2:$E$8270,Sheet3!DI$4,Sheet4!$A$2:$A$8270,Sheet3!$B$1,Sheet4!$B$2:$B$8270,Sheet3!$A$3)<3,0,SUMIFS(Sheet4!$DN$2:$DN$8270,Sheet4!$C$2:$C$8270,Sheet3!$B9,Sheet4!$E$2:$E$8270,Sheet3!DI$4,Sheet4!$A$2:$A$8270,Sheet3!$B$1,Sheet4!$B$2:$B$8270,Sheet3!$A$3))","v":883},{"$f":"+IF(SUMIFS(Sheet4!$DN$2:$DN$8270,Sheet4!$C$2:$C$8270,Sheet3!$B9,Sheet4!$E$2:$E$8270,Sheet3!DJ$4,Sheet4!$A$2:$A$8270,Sheet3!$B$1,Sheet4!$B$2:$B$8270,Sheet3!$A$3)<3,0,SUMIFS(Sheet4!$DN$2:$DN$8270,Sheet4!$C$2:$C$8270,Sheet3!$B9,Sheet4!$E$2:$E$8270,Sheet3!DJ$4,Sheet4!$A$2:$A$8270,Sheet3!$B$1,Sheet4!$B$2:$B$8270,Sheet3!$A$3))","v":56},{"$f":"+IF(SUMIFS(Sheet4!$DN$2:$DN$8270,Sheet4!$C$2:$C$8270,Sheet3!$B9,Sheet4!$E$2:$E$8270,Sheet3!DK$4,Sheet4!$A$2:$A$8270,Sheet3!$B$1,Sheet4!$B$2:$B$8270,Sheet3!$A$3)<3,0,SUMIFS(Sheet4!$DN$2:$DN$8270,Sheet4!$C$2:$C$8270,Sheet3!$B9,Sheet4!$E$2:$E$8270,Sheet3!DK$4,Sheet4!$A$2:$A$8270,Sheet3!$B$1,Sheet4!$B$2:$B$8270,Sheet3!$A$3))","v":0},{"$f":"+IF(SUMIFS(Sheet4!$DN$2:$DN$8270,Sheet4!$C$2:$C$8270,Sheet3!$B9,Sheet4!$E$2:$E$8270,Sheet3!DL$4,Sheet4!$A$2:$A$8270,Sheet3!$B$1,Sheet4!$B$2:$B$8270,Sheet3!$A$3)<3,0,SUMIFS(Sheet4!$DN$2:$DN$8270,Sheet4!$C$2:$C$8270,Sheet3!$B9,Sheet4!$E$2:$E$8270,Sheet3!DL$4,Sheet4!$A$2:$A$8270,Sheet3!$B$1,Sheet4!$B$2:$B$8270,Sheet3!$A$3))","v":0}]
[1,"119","Ave",{"$f":"+SUMIFS(Sheet4!$DM$2:$DM$8270,Sheet4!$C$2:$C$8270,Sheet3!$B10,Sheet4!$D$2:$D$8270,Sheet3!D$3,Sheet4!$E$2:$E$8270,Sheet3!D$4,Sheet4!$A$2:$A$8270,Sheet3!$B$1,Sheet4!$B$2:$B$8270,Sheet3!$A$3)","v":0},{"$f":"+SUMIFS(Sheet4!$DM$2:$DM$8270,Sheet4!$C$2:$C$8270,Sheet3!$B10,Sheet4!$D$2:$D$8270,Sheet3!E$3,Sheet4!$E$2:$E$8270,Sheet3!E$4,Sheet4!$A$2:$A$8270,Sheet3!$B$1,Sheet4!$B$2:$B$8270,Sheet3!$A$3)","v":0},{"$f":"+SUMIFS(Sheet4!$DM$2:$DM$8270,Sheet4!$C$2:$C$8270,Sheet3!$B10,Sheet4!$D$2:$D$8270,Sheet3!F$3,Sheet4!$E$2:$E$8270,Sheet3!F$4,Sheet4!$A$2:$A$8270,Sheet3!$B$1,Sheet4!$B$2:$B$8270,Sheet3!$A$3)","v":0},{"$f":"+SUMIFS(Sheet4!$DM$2:$DM$8270,Sheet4!$C$2:$C$8270,Sheet3!$B10,Sheet4!$D$2:$D$8270,Sheet3!G$3,Sheet4!$E$2:$E$8270,Sheet3!G$4,Sheet4!$A$2:$A$8270,Sheet3!$B$1,Sheet4!$B$2:$B$8270,Sheet3!$A$3)","v":0},{"$f":"+SUMIFS(Sheet4!$DM$2:$DM$8270,Sheet4!$C$2:$C$8270,Sheet3!$B10,Sheet4!$D$2:$D$8270,Sheet3!H$3,Sheet4!$E$2:$E$8270,Sheet3!H$4,Sheet4!$A$2:$A$8270,Sheet3!$B$1,Sheet4!$B$2:$B$8270,Sheet3!$A$3)","v":0},{"$f":"+SUMIFS(Sheet4!$DM$2:$DM$8270,Sheet4!$C$2:$C$8270,Sheet3!$B10,Sheet4!$D$2:$D$8270,Sheet3!I$3,Sheet4!$E$2:$E$8270,Sheet3!I$4,Sheet4!$A$2:$A$8270,Sheet3!$B$1,Sheet4!$B$2:$B$8270,Sheet3!$A$3)","v":555},{"$f":"+SUMIFS(Sheet4!$DM$2:$DM$8270,Sheet4!$C$2:$C$8270,Sheet3!$B10,Sheet4!$D$2:$D$8270,Sheet3!J$3,Sheet4!$E$2:$E$8270,Sheet3!J$4,Sheet4!$A$2:$A$8270,Sheet3!$B$1,Sheet4!$B$2:$B$8270,Sheet3!$A$3)","v":18},{"$f":"+SUMIFS(Sheet4!$DM$2:$DM$8270,Sheet4!$C$2:$C$8270,Sheet3!$B10,Sheet4!$D$2:$D$8270,Sheet3!K$3,Sheet4!$E$2:$E$8270,Sheet3!K$4,Sheet4!$A$2:$A$8270,Sheet3!$B$1,Sheet4!$B$2:$B$8270,Sheet3!$A$3)","v":0},{"$f":"+SUMIFS(Sheet4!$DM$2:$DM$8270,Sheet4!$C$2:$C$8270,Sheet3!$B10,Sheet4!$D$2:$D$8270,Sheet3!L$3,Sheet4!$E$2:$E$8270,Sheet3!L$4,Sheet4!$A$2:$A$8270,Sheet3!$B$1,Sheet4!$B$2:$B$8270,Sheet3!$A$3)","v":0},{"$f":"+SUMIFS(Sheet4!$DM$2:$DM$8270,Sheet4!$C$2:$C$8270,Sheet3!$B10,Sheet4!$D$2:$D$8270,Sheet3!M$3,Sheet4!$E$2:$E$8270,Sheet3!M$4,Sheet4!$A$2:$A$8270,Sheet3!$B$1,Sheet4!$B$2:$B$8270,Sheet3!$A$3)","v":0},{"$f":"+SUMIFS(Sheet4!$DM$2:$DM$8270,Sheet4!$C$2:$C$8270,Sheet3!$B10,Sheet4!$D$2:$D$8270,Sheet3!N$3,Sheet4!$E$2:$E$8270,Sheet3!N$4,Sheet4!$A$2:$A$8270,Sheet3!$B$1,Sheet4!$B$2:$B$8270,Sheet3!$A$3)","v":85},{"$f":"+SUMIFS(Sheet4!$DM$2:$DM$8270,Sheet4!$C$2:$C$8270,Sheet3!$B10,Sheet4!$D$2:$D$8270,Sheet3!O$3,Sheet4!$E$2:$E$8270,Sheet3!O$4,Sheet4!$A$2:$A$8270,Sheet3!$B$1,Sheet4!$B$2:$B$8270,Sheet3!$A$3)","v":5},{"$f":"+SUMIFS(Sheet4!$DM$2:$DM$8270,Sheet4!$C$2:$C$8270,Sheet3!$B10,Sheet4!$D$2:$D$8270,Sheet3!P$3,Sheet4!$E$2:$E$8270,Sheet3!P$4,Sheet4!$A$2:$A$8270,Sheet3!$B$1,Sheet4!$B$2:$B$8270,Sheet3!$A$3)","v":0},{"$f":"+SUMIFS(Sheet4!$DM$2:$DM$8270,Sheet4!$C$2:$C$8270,Sheet3!$B10,Sheet4!$D$2:$D$8270,Sheet3!Q$3,Sheet4!$E$2:$E$8270,Sheet3!Q$4,Sheet4!$A$2:$A$8270,Sheet3!$B$1,Sheet4!$B$2:$B$8270,Sheet3!$A$3)","v":0},{"$f":"+SUMIFS(Sheet4!$DM$2:$DM$8270,Sheet4!$C$2:$C$8270,Sheet3!$B10,Sheet4!$D$2:$D$8270,Sheet3!R$3,Sheet4!$E$2:$E$8270,Sheet3!R$4,Sheet4!$A$2:$A$8270,Sheet3!$B$1,Sheet4!$B$2:$B$8270,Sheet3!$A$3)","v":0},{"$f":"+SUMIFS(Sheet4!$DM$2:$DM$8270,Sheet4!$C$2:$C$8270,Sheet3!$B10,Sheet4!$D$2:$D$8270,Sheet3!S$3,Sheet4!$E$2:$E$8270,Sheet3!S$4,Sheet4!$A$2:$A$8270,Sheet3!$B$1,Sheet4!$B$2:$B$8270,Sheet3!$A$3)","v":0},{"$f":"+SUMIFS(Sheet4!$DM$2:$DM$8270,Sheet4!$C$2:$C$8270,Sheet3!$B10,Sheet4!$D$2:$D$8270,Sheet3!T$3,Sheet4!$E$2:$E$8270,Sheet3!T$4,Sheet4!$A$2:$A$8270,Sheet3!$B$1,Sheet4!$B$2:$B$8270,Sheet3!$A$3)","v":0},{"$f":"+SUMIFS(Sheet4!$DM$2:$DM$8270,Sheet4!$C$2:$C$8270,Sheet3!$B10,Sheet4!$D$2:$D$8270,Sheet3!U$3,Sheet4!$E$2:$E$8270,Sheet3!U$4,Sheet4!$A$2:$A$8270,Sheet3!$B$1,Sheet4!$B$2:$B$8270,Sheet3!$A$3)","v":0},{"$f":"+SUMIFS(Sheet4!$DM$2:$DM$8270,Sheet4!$C$2:$C$8270,Sheet3!$B10,Sheet4!$D$2:$D$8270,Sheet3!V$3,Sheet4!$E$2:$E$8270,Sheet3!V$4,Sheet4!$A$2:$A$8270,Sheet3!$B$1,Sheet4!$B$2:$B$8270,Sheet3!$A$3)","v":0},{"$f":"+SUMIFS(Sheet4!$DM$2:$DM$8270,Sheet4!$C$2:$C$8270,Sheet3!$B10,Sheet4!$D$2:$D$8270,Sheet3!W$3,Sheet4!$E$2:$E$8270,Sheet3!W$4,Sheet4!$A$2:$A$8270,Sheet3!$B$1,Sheet4!$B$2:$B$8270,Sheet3!$A$3)","v":0},{"$f":"+SUMIFS(Sheet4!$DM$2:$DM$8270,Sheet4!$C$2:$C$8270,Sheet3!$B10,Sheet4!$D$2:$D$8270,Sheet3!X$3,Sheet4!$E$2:$E$8270,Sheet3!X$4,Sheet4!$A$2:$A$8270,Sheet3!$B$1,Sheet4!$B$2:$B$8270,Sheet3!$A$3)","v":0},{"$f":"+SUMIFS(Sheet4!$DM$2:$DM$8270,Sheet4!$C$2:$C$8270,Sheet3!$B10,Sheet4!$D$2:$D$8270,Sheet3!Y$3,Sheet4!$E$2:$E$8270,Sheet3!Y$4,Sheet4!$A$2:$A$8270,Sheet3!$B$1,Sheet4!$B$2:$B$8270,Sheet3!$A$3)","v":0},{"$f":"+SUMIFS(Sheet4!$DM$2:$DM$8270,Sheet4!$C$2:$C$8270,Sheet3!$B10,Sheet4!$D$2:$D$8270,Sheet3!Z$3,Sheet4!$E$2:$E$8270,Sheet3!Z$4,Sheet4!$A$2:$A$8270,Sheet3!$B$1,Sheet4!$B$2:$B$8270,Sheet3!$A$3)","v":0},{"$f":"+SUMIFS(Sheet4!$DM$2:$DM$8270,Sheet4!$C$2:$C$8270,Sheet3!$B10,Sheet4!$D$2:$D$8270,Sheet3!AA$3,Sheet4!$E$2:$E$8270,Sheet3!AA$4,Sheet4!$A$2:$A$8270,Sheet3!$B$1,Sheet4!$B$2:$B$8270,Sheet3!$A$3)","v":0},{"$f":"+SUMIFS(Sheet4!$DM$2:$DM$8270,Sheet4!$C$2:$C$8270,Sheet3!$B10,Sheet4!$D$2:$D$8270,Sheet3!AB$3,Sheet4!$E$2:$E$8270,Sheet3!AB$4,Sheet4!$A$2:$A$8270,Sheet3!$B$1,Sheet4!$B$2:$B$8270,Sheet3!$A$3)","v":0},{"$f":"+SUMIFS(Sheet4!$DM$2:$DM$8270,Sheet4!$C$2:$C$8270,Sheet3!$B10,Sheet4!$D$2:$D$8270,Sheet3!AC$3,Sheet4!$E$2:$E$8270,Sheet3!AC$4,Sheet4!$A$2:$A$8270,Sheet3!$B$1,Sheet4!$B$2:$B$8270,Sheet3!$A$3)","v":101},{"$f":"+SUMIFS(Sheet4!$DM$2:$DM$8270,Sheet4!$C$2:$C$8270,Sheet3!$B10,Sheet4!$D$2:$D$8270,Sheet3!AD$3,Sheet4!$E$2:$E$8270,Sheet3!AD$4,Sheet4!$A$2:$A$8270,Sheet3!$B$1,Sheet4!$B$2:$B$8270,Sheet3!$A$3)","v":8},{"$f":"+SUMIFS(Sheet4!$DM$2:$DM$8270,Sheet4!$C$2:$C$8270,Sheet3!$B10,Sheet4!$D$2:$D$8270,Sheet3!AE$3,Sheet4!$E$2:$E$8270,Sheet3!AE$4,Sheet4!$A$2:$A$8270,Sheet3!$B$1,Sheet4!$B$2:$B$8270,Sheet3!$A$3)","v":0},{"$f":"+SUMIFS(Sheet4!$DM$2:$DM$8270,Sheet4!$C$2:$C$8270,Sheet3!$B10,Sheet4!$D$2:$D$8270,Sheet3!AF$3,Sheet4!$E$2:$E$8270,Sheet3!AF$4,Sheet4!$A$2:$A$8270,Sheet3!$B$1,Sheet4!$B$2:$B$8270,Sheet3!$A$3)","v":0},{"$f":"+SUMIFS(Sheet4!$DM$2:$DM$8270,Sheet4!$C$2:$C$8270,Sheet3!$B10,Sheet4!$D$2:$D$8270,Sheet3!AG$3,Sheet4!$E$2:$E$8270,Sheet3!AG$4,Sheet4!$A$2:$A$8270,Sheet3!$B$1,Sheet4!$B$2:$B$8270,Sheet3!$A$3)","v":0},{"$f":"+SUMIFS(Sheet4!$DM$2:$DM$8270,Sheet4!$C$2:$C$8270,Sheet3!$B10,Sheet4!$D$2:$D$8270,Sheet3!AH$3,Sheet4!$E$2:$E$8270,Sheet3!AH$4,Sheet4!$A$2:$A$8270,Sheet3!$B$1,Sheet4!$B$2:$B$8270,Sheet3!$A$3)","v":173},{"$f":"+SUMIFS(Sheet4!$DM$2:$DM$8270,Sheet4!$C$2:$C$8270,Sheet3!$B10,Sheet4!$D$2:$D$8270,Sheet3!AI$3,Sheet4!$E$2:$E$8270,Sheet3!AI$4,Sheet4!$A$2:$A$8270,Sheet3!$B$1,Sheet4!$B$2:$B$8270,Sheet3!$A$3)","v":64},{"$f":"+SUMIFS(Sheet4!$DM$2:$DM$8270,Sheet4!$C$2:$C$8270,Sheet3!$B10,Sheet4!$D$2:$D$8270,Sheet3!AJ$3,Sheet4!$E$2:$E$8270,Sheet3!AJ$4,Sheet4!$A$2:$A$8270,Sheet3!$B$1,Sheet4!$B$2:$B$8270,Sheet3!$A$3)","v":7},{"$f":"+SUMIFS(Sheet4!$DM$2:$DM$8270,Sheet4!$C$2:$C$8270,Sheet3!$B10,Sheet4!$D$2:$D$8270,Sheet3!AK$3,Sheet4!$E$2:$E$8270,Sheet3!AK$4,Sheet4!$A$2:$A$8270,Sheet3!$B$1,Sheet4!$B$2:$B$8270,Sheet3!$A$3)","v":0},{"$f":"+SUMIFS(Sheet4!$DM$2:$DM$8270,Sheet4!$C$2:$C$8270,Sheet3!$B10,Sheet4!$D$2:$D$8270,Sheet3!AL$3,Sheet4!$E$2:$E$8270,Sheet3!AL$4,Sheet4!$A$2:$A$8270,Sheet3!$B$1,Sheet4!$B$2:$B$8270,Sheet3!$A$3)","v":0},{"$f":"+SUMIFS(Sheet4!$DM$2:$DM$8270,Sheet4!$C$2:$C$8270,Sheet3!$B10,Sheet4!$D$2:$D$8270,Sheet3!AM$3,Sheet4!$E$2:$E$8270,Sheet3!AM$4,Sheet4!$A$2:$A$8270,Sheet3!$B$1,Sheet4!$B$2:$B$8270,Sheet3!$A$3)","v":147},{"$f":"+SUMIFS(Sheet4!$DM$2:$DM$8270,Sheet4!$C$2:$C$8270,Sheet3!$B10,Sheet4!$D$2:$D$8270,Sheet3!AN$3,Sheet4!$E$2:$E$8270,Sheet3!AN$4,Sheet4!$A$2:$A$8270,Sheet3!$B$1,Sheet4!$B$2:$B$8270,Sheet3!$A$3)","v":28},{"$f":"+SUMIFS(Sheet4!$DM$2:$DM$8270,Sheet4!$C$2:$C$8270,Sheet3!$B10,Sheet4!$D$2:$D$8270,Sheet3!AO$3,Sheet4!$E$2:$E$8270,Sheet3!AO$4,Sheet4!$A$2:$A$8270,Sheet3!$B$1,Sheet4!$B$2:$B$8270,Sheet3!$A$3)","v":4},{"$f":"+SUMIFS(Sheet4!$DM$2:$DM$8270,Sheet4!$C$2:$C$8270,Sheet3!$B10,Sheet4!$D$2:$D$8270,Sheet3!AP$3,Sheet4!$E$2:$E$8270,Sheet3!AP$4,Sheet4!$A$2:$A$8270,Sheet3!$B$1,Sheet4!$B$2:$B$8270,Sheet3!$A$3)","v":0},{"$f":"+SUMIFS(Sheet4!$DM$2:$DM$8270,Sheet4!$C$2:$C$8270,Sheet3!$B10,Sheet4!$D$2:$D$8270,Sheet3!AQ$3,Sheet4!$E$2:$E$8270,Sheet3!AQ$4,Sheet4!$A$2:$A$8270,Sheet3!$B$1,Sheet4!$B$2:$B$8270,Sheet3!$A$3)","v":0},{"$f":"+SUMIFS(Sheet4!$DM$2:$DM$8270,Sheet4!$C$2:$C$8270,Sheet3!$B10,Sheet4!$D$2:$D$8270,Sheet3!AR$3,Sheet4!$E$2:$E$8270,Sheet3!AR$4,Sheet4!$A$2:$A$8270,Sheet3!$B$1,Sheet4!$B$2:$B$8270,Sheet3!$A$3)","v":0},{"$f":"+SUMIFS(Sheet4!$DM$2:$DM$8270,Sheet4!$C$2:$C$8270,Sheet3!$B10,Sheet4!$D$2:$D$8270,Sheet3!AS$3,Sheet4!$E$2:$E$8270,Sheet3!AS$4,Sheet4!$A$2:$A$8270,Sheet3!$B$1,Sheet4!$B$2:$B$8270,Sheet3!$A$3)","v":0},{"$f":"+SUMIFS(Sheet4!$DM$2:$DM$8270,Sheet4!$C$2:$C$8270,Sheet3!$B10,Sheet4!$D$2:$D$8270,Sheet3!AT$3,Sheet4!$E$2:$E$8270,Sheet3!AT$4,Sheet4!$A$2:$A$8270,Sheet3!$B$1,Sheet4!$B$2:$B$8270,Sheet3!$A$3)","v":0},{"$f":"+SUMIFS(Sheet4!$DM$2:$DM$8270,Sheet4!$C$2:$C$8270,Sheet3!$B10,Sheet4!$D$2:$D$8270,Sheet3!AU$3,Sheet4!$E$2:$E$8270,Sheet3!AU$4,Sheet4!$A$2:$A$8270,Sheet3!$B$1,Sheet4!$B$2:$B$8270,Sheet3!$A$3)","v":0},{"$f":"+SUMIFS(Sheet4!$DM$2:$DM$8270,Sheet4!$C$2:$C$8270,Sheet3!$B10,Sheet4!$D$2:$D$8270,Sheet3!AV$3,Sheet4!$E$2:$E$8270,Sheet3!AV$4,Sheet4!$A$2:$A$8270,Sheet3!$B$1,Sheet4!$B$2:$B$8270,Sheet3!$A$3)","v":0},{"$f":"+SUMIFS(Sheet4!$DM$2:$DM$8270,Sheet4!$C$2:$C$8270,Sheet3!$B10,Sheet4!$D$2:$D$8270,Sheet3!AW$3,Sheet4!$E$2:$E$8270,Sheet3!AW$4,Sheet4!$A$2:$A$8270,Sheet3!$B$1,Sheet4!$B$2:$B$8270,Sheet3!$A$3)","v":729},{"$f":"+SUMIFS(Sheet4!$DM$2:$DM$8270,Sheet4!$C$2:$C$8270,Sheet3!$B10,Sheet4!$D$2:$D$8270,Sheet3!AX$3,Sheet4!$E$2:$E$8270,Sheet3!AX$4,Sheet4!$A$2:$A$8270,Sheet3!$B$1,Sheet4!$B$2:$B$8270,Sheet3!$A$3)","v":54},{"$f":"+SUMIFS(Sheet4!$DM$2:$DM$8270,Sheet4!$C$2:$C$8270,Sheet3!$B10,Sheet4!$D$2:$D$8270,Sheet3!AY$3,Sheet4!$E$2:$E$8270,Sheet3!AY$4,Sheet4!$A$2:$A$8270,Sheet3!$B$1,Sheet4!$B$2:$B$8270,Sheet3!$A$3)","v":6},{"$f":"+SUMIFS(Sheet4!$DM$2:$DM$8270,Sheet4!$C$2:$C$8270,Sheet3!$B10,Sheet4!$D$2:$D$8270,Sheet3!AZ$3,Sheet4!$E$2:$E$8270,Sheet3!AZ$4,Sheet4!$A$2:$A$8270,Sheet3!$B$1,Sheet4!$B$2:$B$8270,Sheet3!$A$3)","v":0},{"$f":"+SUMIFS(Sheet4!$DM$2:$DM$8270,Sheet4!$C$2:$C$8270,Sheet3!$B10,Sheet4!$D$2:$D$8270,Sheet3!BA$3,Sheet4!$E$2:$E$8270,Sheet3!BA$4,Sheet4!$A$2:$A$8270,Sheet3!$B$1,Sheet4!$B$2:$B$8270,Sheet3!$A$3)","v":0},{"$f":"+SUMIFS(Sheet4!$DM$2:$DM$8270,Sheet4!$C$2:$C$8270,Sheet3!$B10,Sheet4!$D$2:$D$8270,Sheet3!BB$3,Sheet4!$E$2:$E$8270,Sheet3!BB$4,Sheet4!$A$2:$A$8270,Sheet3!$B$1,Sheet4!$B$2:$B$8270,Sheet3!$A$3)","v":37},{"$f":"+SUMIFS(Sheet4!$DM$2:$DM$8270,Sheet4!$C$2:$C$8270,Sheet3!$B10,Sheet4!$D$2:$D$8270,Sheet3!BC$3,Sheet4!$E$2:$E$8270,Sheet3!BC$4,Sheet4!$A$2:$A$8270,Sheet3!$B$1,Sheet4!$B$2:$B$8270,Sheet3!$A$3)","v":105},{"$f":"+SUMIFS(Sheet4!$DM$2:$DM$8270,Sheet4!$C$2:$C$8270,Sheet3!$B10,Sheet4!$D$2:$D$8270,Sheet3!BD$3,Sheet4!$E$2:$E$8270,Sheet3!BD$4,Sheet4!$A$2:$A$8270,Sheet3!$B$1,Sheet4!$B$2:$B$8270,Sheet3!$A$3)","v":4},{"$f":"+SUMIFS(Sheet4!$DM$2:$DM$8270,Sheet4!$C$2:$C$8270,Sheet3!$B10,Sheet4!$D$2:$D$8270,Sheet3!BE$3,Sheet4!$E$2:$E$8270,Sheet3!BE$4,Sheet4!$A$2:$A$8270,Sheet3!$B$1,Sheet4!$B$2:$B$8270,Sheet3!$A$3)","v":0},{"$f":"+SUMIFS(Sheet4!$DM$2:$DM$8270,Sheet4!$C$2:$C$8270,Sheet3!$B10,Sheet4!$D$2:$D$8270,Sheet3!BF$3,Sheet4!$E$2:$E$8270,Sheet3!BF$4,Sheet4!$A$2:$A$8270,Sheet3!$B$1,Sheet4!$B$2:$B$8270,Sheet3!$A$3)","v":0},{"$f":"+SUMIFS(Sheet4!$DM$2:$DM$8270,Sheet4!$C$2:$C$8270,Sheet3!$B10,Sheet4!$D$2:$D$8270,Sheet3!BG$3,Sheet4!$E$2:$E$8270,Sheet3!BG$4,Sheet4!$A$2:$A$8270,Sheet3!$B$1,Sheet4!$B$2:$B$8270,Sheet3!$A$3)","v":337},{"$f":"+SUMIFS(Sheet4!$DM$2:$DM$8270,Sheet4!$C$2:$C$8270,Sheet3!$B10,Sheet4!$D$2:$D$8270,Sheet3!BH$3,Sheet4!$E$2:$E$8270,Sheet3!BH$4,Sheet4!$A$2:$A$8270,Sheet3!$B$1,Sheet4!$B$2:$B$8270,Sheet3!$A$3)","v":107},{"$f":"+SUMIFS(Sheet4!$DM$2:$DM$8270,Sheet4!$C$2:$C$8270,Sheet3!$B10,Sheet4!$D$2:$D$8270,Sheet3!BI$3,Sheet4!$E$2:$E$8270,Sheet3!BI$4,Sheet4!$A$2:$A$8270,Sheet3!$B$1,Sheet4!$B$2:$B$8270,Sheet3!$A$3)","v":5},{"$f":"+SUMIFS(Sheet4!$DM$2:$DM$8270,Sheet4!$C$2:$C$8270,Sheet3!$B10,Sheet4!$D$2:$D$8270,Sheet3!BJ$3,Sheet4!$E$2:$E$8270,Sheet3!BJ$4,Sheet4!$A$2:$A$8270,Sheet3!$B$1,Sheet4!$B$2:$B$8270,Sheet3!$A$3)","v":0},{"$f":"+SUMIFS(Sheet4!$DM$2:$DM$8270,Sheet4!$C$2:$C$8270,Sheet3!$B10,Sheet4!$D$2:$D$8270,Sheet3!BK$3,Sheet4!$E$2:$E$8270,Sheet3!BK$4,Sheet4!$A$2:$A$8270,Sheet3!$B$1,Sheet4!$B$2:$B$8270,Sheet3!$A$3)","v":0},{"$f":"+SUMIFS(Sheet4!$DM$2:$DM$8270,Sheet4!$C$2:$C$8270,Sheet3!$B10,Sheet4!$D$2:$D$8270,Sheet3!BL$3,Sheet4!$E$2:$E$8270,Sheet3!BL$4,Sheet4!$A$2:$A$8270,Sheet3!$B$1,Sheet4!$B$2:$B$8270,Sheet3!$A$3)","v":171},{"$f":"+SUMIFS(Sheet4!$DM$2:$DM$8270,Sheet4!$C$2:$C$8270,Sheet3!$B10,Sheet4!$D$2:$D$8270,Sheet3!BM$3,Sheet4!$E$2:$E$8270,Sheet3!BM$4,Sheet4!$A$2:$A$8270,Sheet3!$B$1,Sheet4!$B$2:$B$8270,Sheet3!$A$3)","v":322},{"$f":"+SUMIFS(Sheet4!$DM$2:$DM$8270,Sheet4!$C$2:$C$8270,Sheet3!$B10,Sheet4!$D$2:$D$8270,Sheet3!BN$3,Sheet4!$E$2:$E$8270,Sheet3!BN$4,Sheet4!$A$2:$A$8270,Sheet3!$B$1,Sheet4!$B$2:$B$8270,Sheet3!$A$3)","v":34},{"$f":"+SUMIFS(Sheet4!$DM$2:$DM$8270,Sheet4!$C$2:$C$8270,Sheet3!$B10,Sheet4!$D$2:$D$8270,Sheet3!BO$3,Sheet4!$E$2:$E$8270,Sheet3!BO$4,Sheet4!$A$2:$A$8270,Sheet3!$B$1,Sheet4!$B$2:$B$8270,Sheet3!$A$3)","v":0},{"$f":"+SUMIFS(Sheet4!$DM$2:$DM$8270,Sheet4!$C$2:$C$8270,Sheet3!$B10,Sheet4!$D$2:$D$8270,Sheet3!BP$3,Sheet4!$E$2:$E$8270,Sheet3!BP$4,Sheet4!$A$2:$A$8270,Sheet3!$B$1,Sheet4!$B$2:$B$8270,Sheet3!$A$3)","v":0},{"$f":"+SUMIFS(Sheet4!$DM$2:$DM$8270,Sheet4!$C$2:$C$8270,Sheet3!$B10,Sheet4!$D$2:$D$8270,Sheet3!BQ$3,Sheet4!$E$2:$E$8270,Sheet3!BQ$4,Sheet4!$A$2:$A$8270,Sheet3!$B$1,Sheet4!$B$2:$B$8270,Sheet3!$A$3)","v":388},{"$f":"+SUMIFS(Sheet4!$DM$2:$DM$8270,Sheet4!$C$2:$C$8270,Sheet3!$B10,Sheet4!$D$2:$D$8270,Sheet3!BR$3,Sheet4!$E$2:$E$8270,Sheet3!BR$4,Sheet4!$A$2:$A$8270,Sheet3!$B$1,Sheet4!$B$2:$B$8270,Sheet3!$A$3)","v":318},{"$f":"+SUMIFS(Sheet4!$DM$2:$DM$8270,Sheet4!$C$2:$C$8270,Sheet3!$B10,Sheet4!$D$2:$D$8270,Sheet3!BS$3,Sheet4!$E$2:$E$8270,Sheet3!BS$4,Sheet4!$A$2:$A$8270,Sheet3!$B$1,Sheet4!$B$2:$B$8270,Sheet3!$A$3)","v":53},{"$f":"+SUMIFS(Sheet4!$DM$2:$DM$8270,Sheet4!$C$2:$C$8270,Sheet3!$B10,Sheet4!$D$2:$D$8270,Sheet3!BT$3,Sheet4!$E$2:$E$8270,Sheet3!BT$4,Sheet4!$A$2:$A$8270,Sheet3!$B$1,Sheet4!$B$2:$B$8270,Sheet3!$A$3)","v":0},{"$f":"+SUMIFS(Sheet4!$DM$2:$DM$8270,Sheet4!$C$2:$C$8270,Sheet3!$B10,Sheet4!$D$2:$D$8270,Sheet3!BU$3,Sheet4!$E$2:$E$8270,Sheet3!BU$4,Sheet4!$A$2:$A$8270,Sheet3!$B$1,Sheet4!$B$2:$B$8270,Sheet3!$A$3)","v":0},{"$f":"+SUMIFS(Sheet4!$DM$2:$DM$8270,Sheet4!$C$2:$C$8270,Sheet3!$B10,Sheet4!$D$2:$D$8270,Sheet3!BV$3,Sheet4!$E$2:$E$8270,Sheet3!BV$4,Sheet4!$A$2:$A$8270,Sheet3!$B$1,Sheet4!$B$2:$B$8270,Sheet3!$A$3)","v":355},{"$f":"+SUMIFS(Sheet4!$DM$2:$DM$8270,Sheet4!$C$2:$C$8270,Sheet3!$B10,Sheet4!$D$2:$D$8270,Sheet3!BW$3,Sheet4!$E$2:$E$8270,Sheet3!BW$4,Sheet4!$A$2:$A$8270,Sheet3!$B$1,Sheet4!$B$2:$B$8270,Sheet3!$A$3)","v":78},{"$f":"+SUMIFS(Sheet4!$DM$2:$DM$8270,Sheet4!$C$2:$C$8270,Sheet3!$B10,Sheet4!$D$2:$D$8270,Sheet3!BX$3,Sheet4!$E$2:$E$8270,Sheet3!BX$4,Sheet4!$A$2:$A$8270,Sheet3!$B$1,Sheet4!$B$2:$B$8270,Sheet3!$A$3)","v":8},{"$f":"+SUMIFS(Sheet4!$DM$2:$DM$8270,Sheet4!$C$2:$C$8270,Sheet3!$B10,Sheet4!$D$2:$D$8270,Sheet3!BY$3,Sheet4!$E$2:$E$8270,Sheet3!BY$4,Sheet4!$A$2:$A$8270,Sheet3!$B$1,Sheet4!$B$2:$B$8270,Sheet3!$A$3)","v":0},{"$f":"+SUMIFS(Sheet4!$DM$2:$DM$8270,Sheet4!$C$2:$C$8270,Sheet3!$B10,Sheet4!$D$2:$D$8270,Sheet3!BZ$3,Sheet4!$E$2:$E$8270,Sheet3!BZ$4,Sheet4!$A$2:$A$8270,Sheet3!$B$1,Sheet4!$B$2:$B$8270,Sheet3!$A$3)","v":0},{"$f":"+SUMIFS(Sheet4!$DM$2:$DM$8270,Sheet4!$C$2:$C$8270,Sheet3!$B10,Sheet4!$D$2:$D$8270,Sheet3!CA$3,Sheet4!$E$2:$E$8270,Sheet3!CA$4,Sheet4!$A$2:$A$8270,Sheet3!$B$1,Sheet4!$B$2:$B$8270,Sheet3!$A$3)","v":528},{"$f":"+SUMIFS(Sheet4!$DM$2:$DM$8270,Sheet4!$C$2:$C$8270,Sheet3!$B10,Sheet4!$D$2:$D$8270,Sheet3!CB$3,Sheet4!$E$2:$E$8270,Sheet3!CB$4,Sheet4!$A$2:$A$8270,Sheet3!$B$1,Sheet4!$B$2:$B$8270,Sheet3!$A$3)","v":54},{"$f":"+SUMIFS(Sheet4!$DM$2:$DM$8270,Sheet4!$C$2:$C$8270,Sheet3!$B10,Sheet4!$D$2:$D$8270,Sheet3!CC$3,Sheet4!$E$2:$E$8270,Sheet3!CC$4,Sheet4!$A$2:$A$8270,Sheet3!$B$1,Sheet4!$B$2:$B$8270,Sheet3!$A$3)","v":0},{"$f":"+SUMIFS(Sheet4!$DM$2:$DM$8270,Sheet4!$C$2:$C$8270,Sheet3!$B10,Sheet4!$D$2:$D$8270,Sheet3!CD$3,Sheet4!$E$2:$E$8270,Sheet3!CD$4,Sheet4!$A$2:$A$8270,Sheet3!$B$1,Sheet4!$B$2:$B$8270,Sheet3!$A$3)","v":0},{"$f":"+SUMIFS(Sheet4!$DM$2:$DM$8270,Sheet4!$C$2:$C$8270,Sheet3!$B10,Sheet4!$D$2:$D$8270,Sheet3!CE$3,Sheet4!$E$2:$E$8270,Sheet3!CE$4,Sheet4!$A$2:$A$8270,Sheet3!$B$1,Sheet4!$B$2:$B$8270,Sheet3!$A$3)","v":0},{"$f":"+SUMIFS(Sheet4!$DM$2:$DM$8270,Sheet4!$C$2:$C$8270,Sheet3!$B10,Sheet4!$D$2:$D$8270,Sheet3!CF$3,Sheet4!$E$2:$E$8270,Sheet3!CF$4,Sheet4!$A$2:$A$8270,Sheet3!$B$1,Sheet4!$B$2:$B$8270,Sheet3!$A$3)","v":0},{"$f":"+SUMIFS(Sheet4!$DM$2:$DM$8270,Sheet4!$C$2:$C$8270,Sheet3!$B10,Sheet4!$D$2:$D$8270,Sheet3!CG$3,Sheet4!$E$2:$E$8270,Sheet3!CG$4,Sheet4!$A$2:$A$8270,Sheet3!$B$1,Sheet4!$B$2:$B$8270,Sheet3!$A$3)","v":0},{"$f":"+SUMIFS(Sheet4!$DM$2:$DM$8270,Sheet4!$C$2:$C$8270,Sheet3!$B10,Sheet4!$D$2:$D$8270,Sheet3!CH$3,Sheet4!$E$2:$E$8270,Sheet3!CH$4,Sheet4!$A$2:$A$8270,Sheet3!$B$1,Sheet4!$B$2:$B$8270,Sheet3!$A$3)","v":0},{"$f":"+SUMIFS(Sheet4!$DM$2:$DM$8270,Sheet4!$C$2:$C$8270,Sheet3!$B10,Sheet4!$D$2:$D$8270,Sheet3!CI$3,Sheet4!$E$2:$E$8270,Sheet3!CI$4,Sheet4!$A$2:$A$8270,Sheet3!$B$1,Sheet4!$B$2:$B$8270,Sheet3!$A$3)","v":0},{"$f":"+SUMIFS(Sheet4!$DM$2:$DM$8270,Sheet4!$C$2:$C$8270,Sheet3!$B10,Sheet4!$D$2:$D$8270,Sheet3!CJ$3,Sheet4!$E$2:$E$8270,Sheet3!CJ$4,Sheet4!$A$2:$A$8270,Sheet3!$B$1,Sheet4!$B$2:$B$8270,Sheet3!$A$3)","v":0},{"$f":"+SUMIFS(Sheet4!$DM$2:$DM$8270,Sheet4!$C$2:$C$8270,Sheet3!$B10,Sheet4!$D$2:$D$8270,Sheet3!CK$3,Sheet4!$E$2:$E$8270,Sheet3!CK$4,Sheet4!$A$2:$A$8270,Sheet3!$B$1,Sheet4!$B$2:$B$8270,Sheet3!$A$3)","v":0},{"$f":"+SUMIFS(Sheet4!$DM$2:$DM$8270,Sheet4!$C$2:$C$8270,Sheet3!$B10,Sheet4!$D$2:$D$8270,Sheet3!CL$3,Sheet4!$E$2:$E$8270,Sheet3!CL$4,Sheet4!$A$2:$A$8270,Sheet3!$B$1,Sheet4!$B$2:$B$8270,Sheet3!$A$3)","v":0},{"$f":"+SUMIFS(Sheet4!$DM$2:$DM$8270,Sheet4!$C$2:$C$8270,Sheet3!$B10,Sheet4!$D$2:$D$8270,Sheet3!CM$3,Sheet4!$E$2:$E$8270,Sheet3!CM$4,Sheet4!$A$2:$A$8270,Sheet3!$B$1,Sheet4!$B$2:$B$8270,Sheet3!$A$3)","v":0},{"$f":"+SUMIFS(Sheet4!$DM$2:$DM$8270,Sheet4!$C$2:$C$8270,Sheet3!$B10,Sheet4!$D$2:$D$8270,Sheet3!CN$3,Sheet4!$E$2:$E$8270,Sheet3!CN$4,Sheet4!$A$2:$A$8270,Sheet3!$B$1,Sheet4!$B$2:$B$8270,Sheet3!$A$3)","v":0},{"$f":"+SUMIFS(Sheet4!$DM$2:$DM$8270,Sheet4!$C$2:$C$8270,Sheet3!$B10,Sheet4!$D$2:$D$8270,Sheet3!CO$3,Sheet4!$E$2:$E$8270,Sheet3!CO$4,Sheet4!$A$2:$A$8270,Sheet3!$B$1,Sheet4!$B$2:$B$8270,Sheet3!$A$3)","v":0},{"$f":"+IF(SUMIFS(Sheet4!$DN$2:$DN$8270,Sheet4!$C$2:$C$8270,Sheet3!$B10,Sheet4!$D$2:$D$8270,Sheet3!CP$3,Sheet4!$A$2:$A$8270,Sheet3!$B$1,Sheet4!$B$2:$B$8270,Sheet3!$A$3)<3,0,SUMIFS(Sheet4!$DN$2:$DN$8270,Sheet4!$C$2:$C$8270,Sheet3!$B10,Sheet4!$D$2:$D$8270,Sheet3!CP$3,Sheet4!$A$2:$A$8270,Sheet3!$B$1,Sheet4!$B$2:$B$8270,Sheet3!$A$3))","v":7},{"$f":"+IF(SUMIFS(Sheet4!$DN$2:$DN$8270,Sheet4!$C$2:$C$8270,Sheet3!$B10,Sheet4!$D$2:$D$8270,Sheet3!CQ$3,Sheet4!$A$2:$A$8270,Sheet3!$B$1,Sheet4!$B$2:$B$8270,Sheet3!$A$3)<3,0,SUMIFS(Sheet4!$DN$2:$DN$8270,Sheet4!$C$2:$C$8270,Sheet3!$B10,Sheet4!$D$2:$D$8270,Sheet3!CQ$3,Sheet4!$A$2:$A$8270,Sheet3!$B$1,Sheet4!$B$2:$B$8270,Sheet3!$A$3))","v":575},{"$f":"+IF(SUMIFS(Sheet4!$DN$2:$DN$8270,Sheet4!$C$2:$C$8270,Sheet3!$B10,Sheet4!$D$2:$D$8270,Sheet3!CR$3,Sheet4!$A$2:$A$8270,Sheet3!$B$1,Sheet4!$B$2:$B$8270,Sheet3!$A$3)<3,0,SUMIFS(Sheet4!$DN$2:$DN$8270,Sheet4!$C$2:$C$8270,Sheet3!$B10,Sheet4!$D$2:$D$8270,Sheet3!CR$3,Sheet4!$A$2:$A$8270,Sheet3!$B$1,Sheet4!$B$2:$B$8270,Sheet3!$A$3))","v":91},{"$f":"+IF(SUMIFS(Sheet4!$DN$2:$DN$8270,Sheet4!$C$2:$C$8270,Sheet3!$B10,Sheet4!$D$2:$D$8270,Sheet3!CS$3,Sheet4!$A$2:$A$8270,Sheet3!$B$1,Sheet4!$B$2:$B$8270,Sheet3!$A$3)<3,0,SUMIFS(Sheet4!$DN$2:$DN$8270,Sheet4!$C$2:$C$8270,Sheet3!$B10,Sheet4!$D$2:$D$8270,Sheet3!CS$3,Sheet4!$A$2:$A$8270,Sheet3!$B$1,Sheet4!$B$2:$B$8270,Sheet3!$A$3))","v":0},{"$f":"+IF(SUMIFS(Sheet4!$DN$2:$DN$8270,Sheet4!$C$2:$C$8270,Sheet3!$B10,Sheet4!$D$2:$D$8270,Sheet3!CT$3,Sheet4!$A$2:$A$8270,Sheet3!$B$1,Sheet4!$B$2:$B$8270,Sheet3!$A$3)<3,0,SUMIFS(Sheet4!$DN$2:$DN$8270,Sheet4!$C$2:$C$8270,Sheet3!$B10,Sheet4!$D$2:$D$8270,Sheet3!CT$3,Sheet4!$A$2:$A$8270,Sheet3!$B$1,Sheet4!$B$2:$B$8270,Sheet3!$A$3))","v":0},{"$f":"+IF(SUMIFS(Sheet4!$DN$2:$DN$8270,Sheet4!$C$2:$C$8270,Sheet3!$B10,Sheet4!$D$2:$D$8270,Sheet3!CU$3,Sheet4!$A$2:$A$8270,Sheet3!$B$1,Sheet4!$B$2:$B$8270,Sheet3!$A$3)<3,0,SUMIFS(Sheet4!$DN$2:$DN$8270,Sheet4!$C$2:$C$8270,Sheet3!$B10,Sheet4!$D$2:$D$8270,Sheet3!CU$3,Sheet4!$A$2:$A$8270,Sheet3!$B$1,Sheet4!$B$2:$B$8270,Sheet3!$A$3))","v":111},{"$f":"+IF(SUMIFS(Sheet4!$DN$2:$DN$8270,Sheet4!$C$2:$C$8270,Sheet3!$B10,Sheet4!$D$2:$D$8270,Sheet3!CV$3,Sheet4!$A$2:$A$8270,Sheet3!$B$1,Sheet4!$B$2:$B$8270,Sheet3!$A$3)<3,0,SUMIFS(Sheet4!$DN$2:$DN$8270,Sheet4!$C$2:$C$8270,Sheet3!$B10,Sheet4!$D$2:$D$8270,Sheet3!CV$3,Sheet4!$A$2:$A$8270,Sheet3!$B$1,Sheet4!$B$2:$B$8270,Sheet3!$A$3))","v":247},{"$f":"+IF(SUMIFS(Sheet4!$DN$2:$DN$8270,Sheet4!$C$2:$C$8270,Sheet3!$B10,Sheet4!$D$2:$D$8270,Sheet3!CW$3,Sheet4!$A$2:$A$8270,Sheet3!$B$1,Sheet4!$B$2:$B$8270,Sheet3!$A$3)<3,0,SUMIFS(Sheet4!$DN$2:$DN$8270,Sheet4!$C$2:$C$8270,Sheet3!$B10,Sheet4!$D$2:$D$8270,Sheet3!CW$3,Sheet4!$A$2:$A$8270,Sheet3!$B$1,Sheet4!$B$2:$B$8270,Sheet3!$A$3))","v":182},{"$f":"+IF(SUMIFS(Sheet4!$DN$2:$DN$8270,Sheet4!$C$2:$C$8270,Sheet3!$B10,Sheet4!$D$2:$D$8270,Sheet3!CX$3,Sheet4!$A$2:$A$8270,Sheet3!$B$1,Sheet4!$B$2:$B$8270,Sheet3!$A$3)<3,0,SUMIFS(Sheet4!$DN$2:$DN$8270,Sheet4!$C$2:$C$8270,Sheet3!$B10,Sheet4!$D$2:$D$8270,Sheet3!CX$3,Sheet4!$A$2:$A$8270,Sheet3!$B$1,Sheet4!$B$2:$B$8270,Sheet3!$A$3))","v":4},{"$f":"+IF(SUMIFS(Sheet4!$DN$2:$DN$8270,Sheet4!$C$2:$C$8270,Sheet3!$B10,Sheet4!$D$2:$D$8270,Sheet3!CY$3,Sheet4!$A$2:$A$8270,Sheet3!$B$1,Sheet4!$B$2:$B$8270,Sheet3!$A$3)<3,0,SUMIFS(Sheet4!$DN$2:$DN$8270,Sheet4!$C$2:$C$8270,Sheet3!$B10,Sheet4!$D$2:$D$8270,Sheet3!CY$3,Sheet4!$A$2:$A$8270,Sheet3!$B$1,Sheet4!$B$2:$B$8270,Sheet3!$A$3))","v":791},{"$f":"+IF(SUMIFS(Sheet4!$DN$2:$DN$8270,Sheet4!$C$2:$C$8270,Sheet3!$B10,Sheet4!$D$2:$D$8270,Sheet3!CZ$3,Sheet4!$A$2:$A$8270,Sheet3!$B$1,Sheet4!$B$2:$B$8270,Sheet3!$A$3)<3,0,SUMIFS(Sheet4!$DN$2:$DN$8270,Sheet4!$C$2:$C$8270,Sheet3!$B10,Sheet4!$D$2:$D$8270,Sheet3!CZ$3,Sheet4!$A$2:$A$8270,Sheet3!$B$1,Sheet4!$B$2:$B$8270,Sheet3!$A$3))","v":150},{"$f":"+IF(SUMIFS(Sheet4!$DN$2:$DN$8270,Sheet4!$C$2:$C$8270,Sheet3!$B10,Sheet4!$D$2:$D$8270,Sheet3!DA$3,Sheet4!$A$2:$A$8270,Sheet3!$B$1,Sheet4!$B$2:$B$8270,Sheet3!$A$3)<3,0,SUMIFS(Sheet4!$DN$2:$DN$8270,Sheet4!$C$2:$C$8270,Sheet3!$B10,Sheet4!$D$2:$D$8270,Sheet3!DA$3,Sheet4!$A$2:$A$8270,Sheet3!$B$1,Sheet4!$B$2:$B$8270,Sheet3!$A$3))","v":452},{"$f":"+IF(SUMIFS(Sheet4!$DN$2:$DN$8270,Sheet4!$C$2:$C$8270,Sheet3!$B10,Sheet4!$D$2:$D$8270,Sheet3!DB$3,Sheet4!$A$2:$A$8270,Sheet3!$B$1,Sheet4!$B$2:$B$8270,Sheet3!$A$3)<3,0,SUMIFS(Sheet4!$DN$2:$DN$8270,Sheet4!$C$2:$C$8270,Sheet3!$B10,Sheet4!$D$2:$D$8270,Sheet3!DB$3,Sheet4!$A$2:$A$8270,Sheet3!$B$1,Sheet4!$B$2:$B$8270,Sheet3!$A$3))","v":531},{"$f":"+IF(SUMIFS(Sheet4!$DN$2:$DN$8270,Sheet4!$C$2:$C$8270,Sheet3!$B10,Sheet4!$D$2:$D$8270,Sheet3!DC$3,Sheet4!$A$2:$A$8270,Sheet3!$B$1,Sheet4!$B$2:$B$8270,Sheet3!$A$3)<3,0,SUMIFS(Sheet4!$DN$2:$DN$8270,Sheet4!$C$2:$C$8270,Sheet3!$B10,Sheet4!$D$2:$D$8270,Sheet3!DC$3,Sheet4!$A$2:$A$8270,Sheet3!$B$1,Sheet4!$B$2:$B$8270,Sheet3!$A$3))","v":763},{"$f":"+IF(SUMIFS(Sheet4!$DN$2:$DN$8270,Sheet4!$C$2:$C$8270,Sheet3!$B10,Sheet4!$D$2:$D$8270,Sheet3!DD$3,Sheet4!$A$2:$A$8270,Sheet3!$B$1,Sheet4!$B$2:$B$8270,Sheet3!$A$3)<3,0,SUMIFS(Sheet4!$DN$2:$DN$8270,Sheet4!$C$2:$C$8270,Sheet3!$B10,Sheet4!$D$2:$D$8270,Sheet3!DD$3,Sheet4!$A$2:$A$8270,Sheet3!$B$1,Sheet4!$B$2:$B$8270,Sheet3!$A$3))","v":442},{"$f":"+IF(SUMIFS(Sheet4!$DN$2:$DN$8270,Sheet4!$C$2:$C$8270,Sheet3!$B10,Sheet4!$D$2:$D$8270,Sheet3!DE$3,Sheet4!$A$2:$A$8270,Sheet3!$B$1,Sheet4!$B$2:$B$8270,Sheet3!$A$3)<3,0,SUMIFS(Sheet4!$DN$2:$DN$8270,Sheet4!$C$2:$C$8270,Sheet3!$B10,Sheet4!$D$2:$D$8270,Sheet3!DE$3,Sheet4!$A$2:$A$8270,Sheet3!$B$1,Sheet4!$B$2:$B$8270,Sheet3!$A$3))","v":585},{"$f":"+IF(SUMIFS(Sheet4!$DN$2:$DN$8270,Sheet4!$C$2:$C$8270,Sheet3!$B10,Sheet4!$D$2:$D$8270,Sheet3!DF$3,Sheet4!$A$2:$A$8270,Sheet3!$B$1,Sheet4!$B$2:$B$8270,Sheet3!$A$3)<3,0,SUMIFS(Sheet4!$DN$2:$DN$8270,Sheet4!$C$2:$C$8270,Sheet3!$B10,Sheet4!$D$2:$D$8270,Sheet3!DF$3,Sheet4!$A$2:$A$8270,Sheet3!$B$1,Sheet4!$B$2:$B$8270,Sheet3!$A$3))","v":0},{"$f":"+IF(SUMIFS(Sheet4!$DN$2:$DN$8270,Sheet4!$C$2:$C$8270,Sheet3!$B10,Sheet4!$D$2:$D$8270,Sheet3!DG$3,Sheet4!$A$2:$A$8270,Sheet3!$B$1,Sheet4!$B$2:$B$8270,Sheet3!$A$3)<3,0,SUMIFS(Sheet4!$DN$2:$DN$8270,Sheet4!$C$2:$C$8270,Sheet3!$B10,Sheet4!$D$2:$D$8270,Sheet3!DG$3,Sheet4!$A$2:$A$8270,Sheet3!$B$1,Sheet4!$B$2:$B$8270,Sheet3!$A$3))","v":0},{"$f":"+IF(SUMIFS(Sheet4!$DN$2:$DN$8270,Sheet4!$C$2:$C$8270,Sheet3!$B10,Sheet4!$E$2:$E$8270,Sheet3!DH$4,Sheet4!$A$2:$A$8270,Sheet3!$B$1,Sheet4!$B$2:$B$8270,Sheet3!$A$3)<3,0,SUMIFS(Sheet4!$DN$2:$DN$8270,Sheet4!$C$2:$C$8270,Sheet3!$B10,Sheet4!$E$2:$E$8270,Sheet3!DH$4,Sheet4!$A$2:$A$8270,Sheet3!$B$1,Sheet4!$B$2:$B$8270,Sheet3!$A$3))","v":3624},{"$f":"+IF(SUMIFS(Sheet4!$DN$2:$DN$8270,Sheet4!$C$2:$C$8270,Sheet3!$B10,Sheet4!$E$2:$E$8270,Sheet3!DI$4,Sheet4!$A$2:$A$8270,Sheet3!$B$1,Sheet4!$B$2:$B$8270,Sheet3!$A$3)<3,0,SUMIFS(Sheet4!$DN$2:$DN$8270,Sheet4!$C$2:$C$8270,Sheet3!$B10,Sheet4!$E$2:$E$8270,Sheet3!DI$4,Sheet4!$A$2:$A$8270,Sheet3!$B$1,Sheet4!$B$2:$B$8270,Sheet3!$A$3))","v":1178},{"$f":"+IF(SUMIFS(Sheet4!$DN$2:$DN$8270,Sheet4!$C$2:$C$8270,Sheet3!$B10,Sheet4!$E$2:$E$8270,Sheet3!DJ$4,Sheet4!$A$2:$A$8270,Sheet3!$B$1,Sheet4!$B$2:$B$8270,Sheet3!$A$3)<3,0,SUMIFS(Sheet4!$DN$2:$DN$8270,Sheet4!$C$2:$C$8270,Sheet3!$B10,Sheet4!$E$2:$E$8270,Sheet3!DJ$4,Sheet4!$A$2:$A$8270,Sheet3!$B$1,Sheet4!$B$2:$B$8270,Sheet3!$A$3))","v":131},{"$f":"+IF(SUMIFS(Sheet4!$DN$2:$DN$8270,Sheet4!$C$2:$C$8270,Sheet3!$B10,Sheet4!$E$2:$E$8270,Sheet3!DK$4,Sheet4!$A$2:$A$8270,Sheet3!$B$1,Sheet4!$B$2:$B$8270,Sheet3!$A$3)<3,0,SUMIFS(Sheet4!$DN$2:$DN$8270,Sheet4!$C$2:$C$8270,Sheet3!$B10,Sheet4!$E$2:$E$8270,Sheet3!DK$4,Sheet4!$A$2:$A$8270,Sheet3!$B$1,Sheet4!$B$2:$B$8270,Sheet3!$A$3))","v":0},{"$f":"+IF(SUMIFS(Sheet4!$DN$2:$DN$8270,Sheet4!$C$2:$C$8270,Sheet3!$B10,Sheet4!$E$2:$E$8270,Sheet3!DL$4,Sheet4!$A$2:$A$8270,Sheet3!$B$1,Sheet4!$B$2:$B$8270,Sheet3!$A$3)<3,0,SUMIFS(Sheet4!$DN$2:$DN$8270,Sheet4!$C$2:$C$8270,Sheet3!$B10,Sheet4!$E$2:$E$8270,Sheet3!DL$4,Sheet4!$A$2:$A$8270,Sheet3!$B$1,Sheet4!$B$2:$B$8270,Sheet3!$A$3))","v":0}]
[1,"11A","Área Metropolitana do Porto",{"$f":"+SUMIFS(Sheet4!$DM$2:$DM$8270,Sheet4!$C$2:$C$8270,Sheet3!$B11,Sheet4!$D$2:$D$8270,Sheet3!D$3,Sheet4!$E$2:$E$8270,Sheet3!D$4,Sheet4!$A$2:$A$8270,Sheet3!$B$1,Sheet4!$B$2:$B$8270,Sheet3!$A$3)","v":0},{"$f":"+SUMIFS(Sheet4!$DM$2:$DM$8270,Sheet4!$C$2:$C$8270,Sheet3!$B11,Sheet4!$D$2:$D$8270,Sheet3!E$3,Sheet4!$E$2:$E$8270,Sheet3!E$4,Sheet4!$A$2:$A$8270,Sheet3!$B$1,Sheet4!$B$2:$B$8270,Sheet3!$A$3)","v":0},{"$f":"+SUMIFS(Sheet4!$DM$2:$DM$8270,Sheet4!$C$2:$C$8270,Sheet3!$B11,Sheet4!$D$2:$D$8270,Sheet3!F$3,Sheet4!$E$2:$E$8270,Sheet3!F$4,Sheet4!$A$2:$A$8270,Sheet3!$B$1,Sheet4!$B$2:$B$8270,Sheet3!$A$3)","v":0},{"$f":"+SUMIFS(Sheet4!$DM$2:$DM$8270,Sheet4!$C$2:$C$8270,Sheet3!$B11,Sheet4!$D$2:$D$8270,Sheet3!G$3,Sheet4!$E$2:$E$8270,Sheet3!G$4,Sheet4!$A$2:$A$8270,Sheet3!$B$1,Sheet4!$B$2:$B$8270,Sheet3!$A$3)","v":0},{"$f":"+SUMIFS(Sheet4!$DM$2:$DM$8270,Sheet4!$C$2:$C$8270,Sheet3!$B11,Sheet4!$D$2:$D$8270,Sheet3!H$3,Sheet4!$E$2:$E$8270,Sheet3!H$4,Sheet4!$A$2:$A$8270,Sheet3!$B$1,Sheet4!$B$2:$B$8270,Sheet3!$A$3)","v":0},{"$f":"+SUMIFS(Sheet4!$DM$2:$DM$8270,Sheet4!$C$2:$C$8270,Sheet3!$B11,Sheet4!$D$2:$D$8270,Sheet3!I$3,Sheet4!$E$2:$E$8270,Sheet3!I$4,Sheet4!$A$2:$A$8270,Sheet3!$B$1,Sheet4!$B$2:$B$8270,Sheet3!$A$3)","v":818},{"$f":"+SUMIFS(Sheet4!$DM$2:$DM$8270,Sheet4!$C$2:$C$8270,Sheet3!$B11,Sheet4!$D$2:$D$8270,Sheet3!J$3,Sheet4!$E$2:$E$8270,Sheet3!J$4,Sheet4!$A$2:$A$8270,Sheet3!$B$1,Sheet4!$B$2:$B$8270,Sheet3!$A$3)","v":25},{"$f":"+SUMIFS(Sheet4!$DM$2:$DM$8270,Sheet4!$C$2:$C$8270,Sheet3!$B11,Sheet4!$D$2:$D$8270,Sheet3!K$3,Sheet4!$E$2:$E$8270,Sheet3!K$4,Sheet4!$A$2:$A$8270,Sheet3!$B$1,Sheet4!$B$2:$B$8270,Sheet3!$A$3)","v":0},{"$f":"+SUMIFS(Sheet4!$DM$2:$DM$8270,Sheet4!$C$2:$C$8270,Sheet3!$B11,Sheet4!$D$2:$D$8270,Sheet3!L$3,Sheet4!$E$2:$E$8270,Sheet3!L$4,Sheet4!$A$2:$A$8270,Sheet3!$B$1,Sheet4!$B$2:$B$8270,Sheet3!$A$3)","v":0},{"$f":"+SUMIFS(Sheet4!$DM$2:$DM$8270,Sheet4!$C$2:$C$8270,Sheet3!$B11,Sheet4!$D$2:$D$8270,Sheet3!M$3,Sheet4!$E$2:$E$8270,Sheet3!M$4,Sheet4!$A$2:$A$8270,Sheet3!$B$1,Sheet4!$B$2:$B$8270,Sheet3!$A$3)","v":0},{"$f":"+SUMIFS(Sheet4!$DM$2:$DM$8270,Sheet4!$C$2:$C$8270,Sheet3!$B11,Sheet4!$D$2:$D$8270,Sheet3!N$3,Sheet4!$E$2:$E$8270,Sheet3!N$4,Sheet4!$A$2:$A$8270,Sheet3!$B$1,Sheet4!$B$2:$B$8270,Sheet3!$A$3)","v":97},{"$f":"+SUMIFS(Sheet4!$DM$2:$DM$8270,Sheet4!$C$2:$C$8270,Sheet3!$B11,Sheet4!$D$2:$D$8270,Sheet3!O$3,Sheet4!$E$2:$E$8270,Sheet3!O$4,Sheet4!$A$2:$A$8270,Sheet3!$B$1,Sheet4!$B$2:$B$8270,Sheet3!$A$3)","v":0},{"$f":"+SUMIFS(Sheet4!$DM$2:$DM$8270,Sheet4!$C$2:$C$8270,Sheet3!$B11,Sheet4!$D$2:$D$8270,Sheet3!P$3,Sheet4!$E$2:$E$8270,Sheet3!P$4,Sheet4!$A$2:$A$8270,Sheet3!$B$1,Sheet4!$B$2:$B$8270,Sheet3!$A$3)","v":0},{"$f":"+SUMIFS(Sheet4!$DM$2:$DM$8270,Sheet4!$C$2:$C$8270,Sheet3!$B11,Sheet4!$D$2:$D$8270,Sheet3!Q$3,Sheet4!$E$2:$E$8270,Sheet3!Q$4,Sheet4!$A$2:$A$8270,Sheet3!$B$1,Sheet4!$B$2:$B$8270,Sheet3!$A$3)","v":0},{"$f":"+SUMIFS(Sheet4!$DM$2:$DM$8270,Sheet4!$C$2:$C$8270,Sheet3!$B11,Sheet4!$D$2:$D$8270,Sheet3!R$3,Sheet4!$E$2:$E$8270,Sheet3!R$4,Sheet4!$A$2:$A$8270,Sheet3!$B$1,Sheet4!$B$2:$B$8270,Sheet3!$A$3)","v":0},{"$f":"+SUMIFS(Sheet4!$DM$2:$DM$8270,Sheet4!$C$2:$C$8270,Sheet3!$B11,Sheet4!$D$2:$D$8270,Sheet3!S$3,Sheet4!$E$2:$E$8270,Sheet3!S$4,Sheet4!$A$2:$A$8270,Sheet3!$B$1,Sheet4!$B$2:$B$8270,Sheet3!$A$3)","v":0},{"$f":"+SUMIFS(Sheet4!$DM$2:$DM$8270,Sheet4!$C$2:$C$8270,Sheet3!$B11,Sheet4!$D$2:$D$8270,Sheet3!T$3,Sheet4!$E$2:$E$8270,Sheet3!T$4,Sheet4!$A$2:$A$8270,Sheet3!$B$1,Sheet4!$B$2:$B$8270,Sheet3!$A$3)","v":0},{"$f":"+SUMIFS(Sheet4!$DM$2:$DM$8270,Sheet4!$C$2:$C$8270,Sheet3!$B11,Sheet4!$D$2:$D$8270,Sheet3!U$3,Sheet4!$E$2:$E$8270,Sheet3!U$4,Sheet4!$A$2:$A$8270,Sheet3!$B$1,Sheet4!$B$2:$B$8270,Sheet3!$A$3)","v":0},{"$f":"+SUMIFS(Sheet4!$DM$2:$DM$8270,Sheet4!$C$2:$C$8270,Sheet3!$B11,Sheet4!$D$2:$D$8270,Sheet3!V$3,Sheet4!$E$2:$E$8270,Sheet3!V$4,Sheet4!$A$2:$A$8270,Sheet3!$B$1,Sheet4!$B$2:$B$8270,Sheet3!$A$3)","v":0},{"$f":"+SUMIFS(Sheet4!$DM$2:$DM$8270,Sheet4!$C$2:$C$8270,Sheet3!$B11,Sheet4!$D$2:$D$8270,Sheet3!W$3,Sheet4!$E$2:$E$8270,Sheet3!W$4,Sheet4!$A$2:$A$8270,Sheet3!$B$1,Sheet4!$B$2:$B$8270,Sheet3!$A$3)","v":0},{"$f":"+SUMIFS(Sheet4!$DM$2:$DM$8270,Sheet4!$C$2:$C$8270,Sheet3!$B11,Sheet4!$D$2:$D$8270,Sheet3!X$3,Sheet4!$E$2:$E$8270,Sheet3!X$4,Sheet4!$A$2:$A$8270,Sheet3!$B$1,Sheet4!$B$2:$B$8270,Sheet3!$A$3)","v":0},{"$f":"+SUMIFS(Sheet4!$DM$2:$DM$8270,Sheet4!$C$2:$C$8270,Sheet3!$B11,Sheet4!$D$2:$D$8270,Sheet3!Y$3,Sheet4!$E$2:$E$8270,Sheet3!Y$4,Sheet4!$A$2:$A$8270,Sheet3!$B$1,Sheet4!$B$2:$B$8270,Sheet3!$A$3)","v":0},{"$f":"+SUMIFS(Sheet4!$DM$2:$DM$8270,Sheet4!$C$2:$C$8270,Sheet3!$B11,Sheet4!$D$2:$D$8270,Sheet3!Z$3,Sheet4!$E$2:$E$8270,Sheet3!Z$4,Sheet4!$A$2:$A$8270,Sheet3!$B$1,Sheet4!$B$2:$B$8270,Sheet3!$A$3)","v":0},{"$f":"+SUMIFS(Sheet4!$DM$2:$DM$8270,Sheet4!$C$2:$C$8270,Sheet3!$B11,Sheet4!$D$2:$D$8270,Sheet3!AA$3,Sheet4!$E$2:$E$8270,Sheet3!AA$4,Sheet4!$A$2:$A$8270,Sheet3!$B$1,Sheet4!$B$2:$B$8270,Sheet3!$A$3)","v":0},{"$f":"+SUMIFS(Sheet4!$DM$2:$DM$8270,Sheet4!$C$2:$C$8270,Sheet3!$B11,Sheet4!$D$2:$D$8270,Sheet3!AB$3,Sheet4!$E$2:$E$8270,Sheet3!AB$4,Sheet4!$A$2:$A$8270,Sheet3!$B$1,Sheet4!$B$2:$B$8270,Sheet3!$A$3)","v":0},{"$f":"+SUMIFS(Sheet4!$DM$2:$DM$8270,Sheet4!$C$2:$C$8270,Sheet3!$B11,Sheet4!$D$2:$D$8270,Sheet3!AC$3,Sheet4!$E$2:$E$8270,Sheet3!AC$4,Sheet4!$A$2:$A$8270,Sheet3!$B$1,Sheet4!$B$2:$B$8270,Sheet3!$A$3)","v":223},{"$f":"+SUMIFS(Sheet4!$DM$2:$DM$8270,Sheet4!$C$2:$C$8270,Sheet3!$B11,Sheet4!$D$2:$D$8270,Sheet3!AD$3,Sheet4!$E$2:$E$8270,Sheet3!AD$4,Sheet4!$A$2:$A$8270,Sheet3!$B$1,Sheet4!$B$2:$B$8270,Sheet3!$A$3)","v":14},{"$f":"+SUMIFS(Sheet4!$DM$2:$DM$8270,Sheet4!$C$2:$C$8270,Sheet3!$B11,Sheet4!$D$2:$D$8270,Sheet3!AE$3,Sheet4!$E$2:$E$8270,Sheet3!AE$4,Sheet4!$A$2:$A$8270,Sheet3!$B$1,Sheet4!$B$2:$B$8270,Sheet3!$A$3)","v":0},{"$f":"+SUMIFS(Sheet4!$DM$2:$DM$8270,Sheet4!$C$2:$C$8270,Sheet3!$B11,Sheet4!$D$2:$D$8270,Sheet3!AF$3,Sheet4!$E$2:$E$8270,Sheet3!AF$4,Sheet4!$A$2:$A$8270,Sheet3!$B$1,Sheet4!$B$2:$B$8270,Sheet3!$A$3)","v":0},{"$f":"+SUMIFS(Sheet4!$DM$2:$DM$8270,Sheet4!$C$2:$C$8270,Sheet3!$B11,Sheet4!$D$2:$D$8270,Sheet3!AG$3,Sheet4!$E$2:$E$8270,Sheet3!AG$4,Sheet4!$A$2:$A$8270,Sheet3!$B$1,Sheet4!$B$2:$B$8270,Sheet3!$A$3)","v":0},{"$f":"+SUMIFS(Sheet4!$DM$2:$DM$8270,Sheet4!$C$2:$C$8270,Sheet3!$B11,Sheet4!$D$2:$D$8270,Sheet3!AH$3,Sheet4!$E$2:$E$8270,Sheet3!AH$4,Sheet4!$A$2:$A$8270,Sheet3!$B$1,Sheet4!$B$2:$B$8270,Sheet3!$A$3)","v":62},{"$f":"+SUMIFS(Sheet4!$DM$2:$DM$8270,Sheet4!$C$2:$C$8270,Sheet3!$B11,Sheet4!$D$2:$D$8270,Sheet3!AI$3,Sheet4!$E$2:$E$8270,Sheet3!AI$4,Sheet4!$A$2:$A$8270,Sheet3!$B$1,Sheet4!$B$2:$B$8270,Sheet3!$A$3)","v":25},{"$f":"+SUMIFS(Sheet4!$DM$2:$DM$8270,Sheet4!$C$2:$C$8270,Sheet3!$B11,Sheet4!$D$2:$D$8270,Sheet3!AJ$3,Sheet4!$E$2:$E$8270,Sheet3!AJ$4,Sheet4!$A$2:$A$8270,Sheet3!$B$1,Sheet4!$B$2:$B$8270,Sheet3!$A$3)","v":0},{"$f":"+SUMIFS(Sheet4!$DM$2:$DM$8270,Sheet4!$C$2:$C$8270,Sheet3!$B11,Sheet4!$D$2:$D$8270,Sheet3!AK$3,Sheet4!$E$2:$E$8270,Sheet3!AK$4,Sheet4!$A$2:$A$8270,Sheet3!$B$1,Sheet4!$B$2:$B$8270,Sheet3!$A$3)","v":0},{"$f":"+SUMIFS(Sheet4!$DM$2:$DM$8270,Sheet4!$C$2:$C$8270,Sheet3!$B11,Sheet4!$D$2:$D$8270,Sheet3!AL$3,Sheet4!$E$2:$E$8270,Sheet3!AL$4,Sheet4!$A$2:$A$8270,Sheet3!$B$1,Sheet4!$B$2:$B$8270,Sheet3!$A$3)","v":0},{"$f":"+SUMIFS(Sheet4!$DM$2:$DM$8270,Sheet4!$C$2:$C$8270,Sheet3!$B11,Sheet4!$D$2:$D$8270,Sheet3!AM$3,Sheet4!$E$2:$E$8270,Sheet3!AM$4,Sheet4!$A$2:$A$8270,Sheet3!$B$1,Sheet4!$B$2:$B$8270,Sheet3!$A$3)","v":174},{"$f":"+SUMIFS(Sheet4!$DM$2:$DM$8270,Sheet4!$C$2:$C$8270,Sheet3!$B11,Sheet4!$D$2:$D$8270,Sheet3!AN$3,Sheet4!$E$2:$E$8270,Sheet3!AN$4,Sheet4!$A$2:$A$8270,Sheet3!$B$1,Sheet4!$B$2:$B$8270,Sheet3!$A$3)","v":37},{"$f":"+SUMIFS(Sheet4!$DM$2:$DM$8270,Sheet4!$C$2:$C$8270,Sheet3!$B11,Sheet4!$D$2:$D$8270,Sheet3!AO$3,Sheet4!$E$2:$E$8270,Sheet3!AO$4,Sheet4!$A$2:$A$8270,Sheet3!$B$1,Sheet4!$B$2:$B$8270,Sheet3!$A$3)","v":0},{"$f":"+SUMIFS(Sheet4!$DM$2:$DM$8270,Sheet4!$C$2:$C$8270,Sheet3!$B11,Sheet4!$D$2:$D$8270,Sheet3!AP$3,Sheet4!$E$2:$E$8270,Sheet3!AP$4,Sheet4!$A$2:$A$8270,Sheet3!$B$1,Sheet4!$B$2:$B$8270,Sheet3!$A$3)","v":0},{"$f":"+SUMIFS(Sheet4!$DM$2:$DM$8270,Sheet4!$C$2:$C$8270,Sheet3!$B11,Sheet4!$D$2:$D$8270,Sheet3!AQ$3,Sheet4!$E$2:$E$8270,Sheet3!AQ$4,Sheet4!$A$2:$A$8270,Sheet3!$B$1,Sheet4!$B$2:$B$8270,Sheet3!$A$3)","v":0},{"$f":"+SUMIFS(Sheet4!$DM$2:$DM$8270,Sheet4!$C$2:$C$8270,Sheet3!$B11,Sheet4!$D$2:$D$8270,Sheet3!AR$3,Sheet4!$E$2:$E$8270,Sheet3!AR$4,Sheet4!$A$2:$A$8270,Sheet3!$B$1,Sheet4!$B$2:$B$8270,Sheet3!$A$3)","v":0},{"$f":"+SUMIFS(Sheet4!$DM$2:$DM$8270,Sheet4!$C$2:$C$8270,Sheet3!$B11,Sheet4!$D$2:$D$8270,Sheet3!AS$3,Sheet4!$E$2:$E$8270,Sheet3!AS$4,Sheet4!$A$2:$A$8270,Sheet3!$B$1,Sheet4!$B$2:$B$8270,Sheet3!$A$3)","v":0},{"$f":"+SUMIFS(Sheet4!$DM$2:$DM$8270,Sheet4!$C$2:$C$8270,Sheet3!$B11,Sheet4!$D$2:$D$8270,Sheet3!AT$3,Sheet4!$E$2:$E$8270,Sheet3!AT$4,Sheet4!$A$2:$A$8270,Sheet3!$B$1,Sheet4!$B$2:$B$8270,Sheet3!$A$3)","v":0},{"$f":"+SUMIFS(Sheet4!$DM$2:$DM$8270,Sheet4!$C$2:$C$8270,Sheet3!$B11,Sheet4!$D$2:$D$8270,Sheet3!AU$3,Sheet4!$E$2:$E$8270,Sheet3!AU$4,Sheet4!$A$2:$A$8270,Sheet3!$B$1,Sheet4!$B$2:$B$8270,Sheet3!$A$3)","v":0},{"$f":"+SUMIFS(Sheet4!$DM$2:$DM$8270,Sheet4!$C$2:$C$8270,Sheet3!$B11,Sheet4!$D$2:$D$8270,Sheet3!AV$3,Sheet4!$E$2:$E$8270,Sheet3!AV$4,Sheet4!$A$2:$A$8270,Sheet3!$B$1,Sheet4!$B$2:$B$8270,Sheet3!$A$3)","v":0},{"$f":"+SUMIFS(Sheet4!$DM$2:$DM$8270,Sheet4!$C$2:$C$8270,Sheet3!$B11,Sheet4!$D$2:$D$8270,Sheet3!AW$3,Sheet4!$E$2:$E$8270,Sheet3!AW$4,Sheet4!$A$2:$A$8270,Sheet3!$B$1,Sheet4!$B$2:$B$8270,Sheet3!$A$3)","v":798},{"$f":"+SUMIFS(Sheet4!$DM$2:$DM$8270,Sheet4!$C$2:$C$8270,Sheet3!$B11,Sheet4!$D$2:$D$8270,Sheet3!AX$3,Sheet4!$E$2:$E$8270,Sheet3!AX$4,Sheet4!$A$2:$A$8270,Sheet3!$B$1,Sheet4!$B$2:$B$8270,Sheet3!$A$3)","v":50},{"$f":"+SUMIFS(Sheet4!$DM$2:$DM$8270,Sheet4!$C$2:$C$8270,Sheet3!$B11,Sheet4!$D$2:$D$8270,Sheet3!AY$3,Sheet4!$E$2:$E$8270,Sheet3!AY$4,Sheet4!$A$2:$A$8270,Sheet3!$B$1,Sheet4!$B$2:$B$8270,Sheet3!$A$3)","v":0},{"$f":"+SUMIFS(Sheet4!$DM$2:$DM$8270,Sheet4!$C$2:$C$8270,Sheet3!$B11,Sheet4!$D$2:$D$8270,Sheet3!AZ$3,Sheet4!$E$2:$E$8270,Sheet3!AZ$4,Sheet4!$A$2:$A$8270,Sheet3!$B$1,Sheet4!$B$2:$B$8270,Sheet3!$A$3)","v":0},{"$f":"+SUMIFS(Sheet4!$DM$2:$DM$8270,Sheet4!$C$2:$C$8270,Sheet3!$B11,Sheet4!$D$2:$D$8270,Sheet3!BA$3,Sheet4!$E$2:$E$8270,Sheet3!BA$4,Sheet4!$A$2:$A$8270,Sheet3!$B$1,Sheet4!$B$2:$B$8270,Sheet3!$A$3)","v":0},{"$f":"+SUMIFS(Sheet4!$DM$2:$DM$8270,Sheet4!$C$2:$C$8270,Sheet3!$B11,Sheet4!$D$2:$D$8270,Sheet3!BB$3,Sheet4!$E$2:$E$8270,Sheet3!BB$4,Sheet4!$A$2:$A$8270,Sheet3!$B$1,Sheet4!$B$2:$B$8270,Sheet3!$A$3)","v":126},{"$f":"+SUMIFS(Sheet4!$DM$2:$DM$8270,Sheet4!$C$2:$C$8270,Sheet3!$B11,Sheet4!$D$2:$D$8270,Sheet3!BC$3,Sheet4!$E$2:$E$8270,Sheet3!BC$4,Sheet4!$A$2:$A$8270,Sheet3!$B$1,Sheet4!$B$2:$B$8270,Sheet3!$A$3)","v":456},{"$f":"+SUMIFS(Sheet4!$DM$2:$DM$8270,Sheet4!$C$2:$C$8270,Sheet3!$B11,Sheet4!$D$2:$D$8270,Sheet3!BD$3,Sheet4!$E$2:$E$8270,Sheet3!BD$4,Sheet4!$A$2:$A$8270,Sheet3!$B$1,Sheet4!$B$2:$B$8270,Sheet3!$A$3)","v":26},{"$f":"+SUMIFS(Sheet4!$DM$2:$DM$8270,Sheet4!$C$2:$C$8270,Sheet3!$B11,Sheet4!$D$2:$D$8270,Sheet3!BE$3,Sheet4!$E$2:$E$8270,Sheet3!BE$4,Sheet4!$A$2:$A$8270,Sheet3!$B$1,Sheet4!$B$2:$B$8270,Sheet3!$A$3)","v":0},{"$f":"+SUMIFS(Sheet4!$DM$2:$DM$8270,Sheet4!$C$2:$C$8270,Sheet3!$B11,Sheet4!$D$2:$D$8270,Sheet3!BF$3,Sheet4!$E$2:$E$8270,Sheet3!BF$4,Sheet4!$A$2:$A$8270,Sheet3!$B$1,Sheet4!$B$2:$B$8270,Sheet3!$A$3)","v":0},{"$f":"+SUMIFS(Sheet4!$DM$2:$DM$8270,Sheet4!$C$2:$C$8270,Sheet3!$B11,Sheet4!$D$2:$D$8270,Sheet3!BG$3,Sheet4!$E$2:$E$8270,Sheet3!BG$4,Sheet4!$A$2:$A$8270,Sheet3!$B$1,Sheet4!$B$2:$B$8270,Sheet3!$A$3)","v":408},{"$f":"+SUMIFS(Sheet4!$DM$2:$DM$8270,Sheet4!$C$2:$C$8270,Sheet3!$B11,Sheet4!$D$2:$D$8270,Sheet3!BH$3,Sheet4!$E$2:$E$8270,Sheet3!BH$4,Sheet4!$A$2:$A$8270,Sheet3!$B$1,Sheet4!$B$2:$B$8270,Sheet3!$A$3)","v":124},{"$f":"+SUMIFS(Sheet4!$DM$2:$DM$8270,Sheet4!$C$2:$C$8270,Sheet3!$B11,Sheet4!$D$2:$D$8270,Sheet3!BI$3,Sheet4!$E$2:$E$8270,Sheet3!BI$4,Sheet4!$A$2:$A$8270,Sheet3!$B$1,Sheet4!$B$2:$B$8270,Sheet3!$A$3)","v":4},{"$f":"+SUMIFS(Sheet4!$DM$2:$DM$8270,Sheet4!$C$2:$C$8270,Sheet3!$B11,Sheet4!$D$2:$D$8270,Sheet3!BJ$3,Sheet4!$E$2:$E$8270,Sheet3!BJ$4,Sheet4!$A$2:$A$8270,Sheet3!$B$1,Sheet4!$B$2:$B$8270,Sheet3!$A$3)","v":0},{"$f":"+SUMIFS(Sheet4!$DM$2:$DM$8270,Sheet4!$C$2:$C$8270,Sheet3!$B11,Sheet4!$D$2:$D$8270,Sheet3!BK$3,Sheet4!$E$2:$E$8270,Sheet3!BK$4,Sheet4!$A$2:$A$8270,Sheet3!$B$1,Sheet4!$B$2:$B$8270,Sheet3!$A$3)","v":0},{"$f":"+SUMIFS(Sheet4!$DM$2:$DM$8270,Sheet4!$C$2:$C$8270,Sheet3!$B11,Sheet4!$D$2:$D$8270,Sheet3!BL$3,Sheet4!$E$2:$E$8270,Sheet3!BL$4,Sheet4!$A$2:$A$8270,Sheet3!$B$1,Sheet4!$B$2:$B$8270,Sheet3!$A$3)","v":74},{"$f":"+SUMIFS(Sheet4!$DM$2:$DM$8270,Sheet4!$C$2:$C$8270,Sheet3!$B11,Sheet4!$D$2:$D$8270,Sheet3!BM$3,Sheet4!$E$2:$E$8270,Sheet3!BM$4,Sheet4!$A$2:$A$8270,Sheet3!$B$1,Sheet4!$B$2:$B$8270,Sheet3!$A$3)","v":46},{"$f":"+SUMIFS(Sheet4!$DM$2:$DM$8270,Sheet4!$C$2:$C$8270,Sheet3!$B11,Sheet4!$D$2:$D$8270,Sheet3!BN$3,Sheet4!$E$2:$E$8270,Sheet3!BN$4,Sheet4!$A$2:$A$8270,Sheet3!$B$1,Sheet4!$B$2:$B$8270,Sheet3!$A$3)","v":0},{"$f":"+SUMIFS(Sheet4!$DM$2:$DM$8270,Sheet4!$C$2:$C$8270,Sheet3!$B11,Sheet4!$D$2:$D$8270,Sheet3!BO$3,Sheet4!$E$2:$E$8270,Sheet3!BO$4,Sheet4!$A$2:$A$8270,Sheet3!$B$1,Sheet4!$B$2:$B$8270,Sheet3!$A$3)","v":0},{"$f":"+SUMIFS(Sheet4!$DM$2:$DM$8270,Sheet4!$C$2:$C$8270,Sheet3!$B11,Sheet4!$D$2:$D$8270,Sheet3!BP$3,Sheet4!$E$2:$E$8270,Sheet3!BP$4,Sheet4!$A$2:$A$8270,Sheet3!$B$1,Sheet4!$B$2:$B$8270,Sheet3!$A$3)","v":0},{"$f":"+SUMIFS(Sheet4!$DM$2:$DM$8270,Sheet4!$C$2:$C$8270,Sheet3!$B11,Sheet4!$D$2:$D$8270,Sheet3!BQ$3,Sheet4!$E$2:$E$8270,Sheet3!BQ$4,Sheet4!$A$2:$A$8270,Sheet3!$B$1,Sheet4!$B$2:$B$8270,Sheet3!$A$3)","v":93},{"$f":"+SUMIFS(Sheet4!$DM$2:$DM$8270,Sheet4!$C$2:$C$8270,Sheet3!$B11,Sheet4!$D$2:$D$8270,Sheet3!BR$3,Sheet4!$E$2:$E$8270,Sheet3!BR$4,Sheet4!$A$2:$A$8270,Sheet3!$B$1,Sheet4!$B$2:$B$8270,Sheet3!$A$3)","v":53},{"$f":"+SUMIFS(Sheet4!$DM$2:$DM$8270,Sheet4!$C$2:$C$8270,Sheet3!$B11,Sheet4!$D$2:$D$8270,Sheet3!BS$3,Sheet4!$E$2:$E$8270,Sheet3!BS$4,Sheet4!$A$2:$A$8270,Sheet3!$B$1,Sheet4!$B$2:$B$8270,Sheet3!$A$3)","v":0},{"$f":"+SUMIFS(Sheet4!$DM$2:$DM$8270,Sheet4!$C$2:$C$8270,Sheet3!$B11,Sheet4!$D$2:$D$8270,Sheet3!BT$3,Sheet4!$E$2:$E$8270,Sheet3!BT$4,Sheet4!$A$2:$A$8270,Sheet3!$B$1,Sheet4!$B$2:$B$8270,Sheet3!$A$3)","v":0},{"$f":"+SUMIFS(Sheet4!$DM$2:$DM$8270,Sheet4!$C$2:$C$8270,Sheet3!$B11,Sheet4!$D$2:$D$8270,Sheet3!BU$3,Sheet4!$E$2:$E$8270,Sheet3!BU$4,Sheet4!$A$2:$A$8270,Sheet3!$B$1,Sheet4!$B$2:$B$8270,Sheet3!$A$3)","v":0},{"$f":"+SUMIFS(Sheet4!$DM$2:$DM$8270,Sheet4!$C$2:$C$8270,Sheet3!$B11,Sheet4!$D$2:$D$8270,Sheet3!BV$3,Sheet4!$E$2:$E$8270,Sheet3!BV$4,Sheet4!$A$2:$A$8270,Sheet3!$B$1,Sheet4!$B$2:$B$8270,Sheet3!$A$3)","v":374},{"$f":"+SUMIFS(Sheet4!$DM$2:$DM$8270,Sheet4!$C$2:$C$8270,Sheet3!$B11,Sheet4!$D$2:$D$8270,Sheet3!BW$3,Sheet4!$E$2:$E$8270,Sheet3!BW$4,Sheet4!$A$2:$A$8270,Sheet3!$B$1,Sheet4!$B$2:$B$8270,Sheet3!$A$3)","v":37},{"$f":"+SUMIFS(Sheet4!$DM$2:$DM$8270,Sheet4!$C$2:$C$8270,Sheet3!$B11,Sheet4!$D$2:$D$8270,Sheet3!BX$3,Sheet4!$E$2:$E$8270,Sheet3!BX$4,Sheet4!$A$2:$A$8270,Sheet3!$B$1,Sheet4!$B$2:$B$8270,Sheet3!$A$3)","v":0},{"$f":"+SUMIFS(Sheet4!$DM$2:$DM$8270,Sheet4!$C$2:$C$8270,Sheet3!$B11,Sheet4!$D$2:$D$8270,Sheet3!BY$3,Sheet4!$E$2:$E$8270,Sheet3!BY$4,Sheet4!$A$2:$A$8270,Sheet3!$B$1,Sheet4!$B$2:$B$8270,Sheet3!$A$3)","v":0},{"$f":"+SUMIFS(Sheet4!$DM$2:$DM$8270,Sheet4!$C$2:$C$8270,Sheet3!$B11,Sheet4!$D$2:$D$8270,Sheet3!BZ$3,Sheet4!$E$2:$E$8270,Sheet3!BZ$4,Sheet4!$A$2:$A$8270,Sheet3!$B$1,Sheet4!$B$2:$B$8270,Sheet3!$A$3)","v":0},{"$f":"+SUMIFS(Sheet4!$DM$2:$DM$8270,Sheet4!$C$2:$C$8270,Sheet3!$B11,Sheet4!$D$2:$D$8270,Sheet3!CA$3,Sheet4!$E$2:$E$8270,Sheet3!CA$4,Sheet4!$A$2:$A$8270,Sheet3!$B$1,Sheet4!$B$2:$B$8270,Sheet3!$A$3)","v":680},{"$f":"+SUMIFS(Sheet4!$DM$2:$DM$8270,Sheet4!$C$2:$C$8270,Sheet3!$B11,Sheet4!$D$2:$D$8270,Sheet3!CB$3,Sheet4!$E$2:$E$8270,Sheet3!CB$4,Sheet4!$A$2:$A$8270,Sheet3!$B$1,Sheet4!$B$2:$B$8270,Sheet3!$A$3)","v":168},{"$f":"+SUMIFS(Sheet4!$DM$2:$DM$8270,Sheet4!$C$2:$C$8270,Sheet3!$B11,Sheet4!$D$2:$D$8270,Sheet3!CC$3,Sheet4!$E$2:$E$8270,Sheet3!CC$4,Sheet4!$A$2:$A$8270,Sheet3!$B$1,Sheet4!$B$2:$B$8270,Sheet3!$A$3)","v":0},{"$f":"+SUMIFS(Sheet4!$DM$2:$DM$8270,Sheet4!$C$2:$C$8270,Sheet3!$B11,Sheet4!$D$2:$D$8270,Sheet3!CD$3,Sheet4!$E$2:$E$8270,Sheet3!CD$4,Sheet4!$A$2:$A$8270,Sheet3!$B$1,Sheet4!$B$2:$B$8270,Sheet3!$A$3)","v":0},{"$f":"+SUMIFS(Sheet4!$DM$2:$DM$8270,Sheet4!$C$2:$C$8270,Sheet3!$B11,Sheet4!$D$2:$D$8270,Sheet3!CE$3,Sheet4!$E$2:$E$8270,Sheet3!CE$4,Sheet4!$A$2:$A$8270,Sheet3!$B$1,Sheet4!$B$2:$B$8270,Sheet3!$A$3)","v":0},{"$f":"+SUMIFS(Sheet4!$DM$2:$DM$8270,Sheet4!$C$2:$C$8270,Sheet3!$B11,Sheet4!$D$2:$D$8270,Sheet3!CF$3,Sheet4!$E$2:$E$8270,Sheet3!CF$4,Sheet4!$A$2:$A$8270,Sheet3!$B$1,Sheet4!$B$2:$B$8270,Sheet3!$A$3)","v":0},{"$f":"+SUMIFS(Sheet4!$DM$2:$DM$8270,Sheet4!$C$2:$C$8270,Sheet3!$B11,Sheet4!$D$2:$D$8270,Sheet3!CG$3,Sheet4!$E$2:$E$8270,Sheet3!CG$4,Sheet4!$A$2:$A$8270,Sheet3!$B$1,Sheet4!$B$2:$B$8270,Sheet3!$A$3)","v":0},{"$f":"+SUMIFS(Sheet4!$DM$2:$DM$8270,Sheet4!$C$2:$C$8270,Sheet3!$B11,Sheet4!$D$2:$D$8270,Sheet3!CH$3,Sheet4!$E$2:$E$8270,Sheet3!CH$4,Sheet4!$A$2:$A$8270,Sheet3!$B$1,Sheet4!$B$2:$B$8270,Sheet3!$A$3)","v":0},{"$f":"+SUMIFS(Sheet4!$DM$2:$DM$8270,Sheet4!$C$2:$C$8270,Sheet3!$B11,Sheet4!$D$2:$D$8270,Sheet3!CI$3,Sheet4!$E$2:$E$8270,Sheet3!CI$4,Sheet4!$A$2:$A$8270,Sheet3!$B$1,Sheet4!$B$2:$B$8270,Sheet3!$A$3)","v":0},{"$f":"+SUMIFS(Sheet4!$DM$2:$DM$8270,Sheet4!$C$2:$C$8270,Sheet3!$B11,Sheet4!$D$2:$D$8270,Sheet3!CJ$3,Sheet4!$E$2:$E$8270,Sheet3!CJ$4,Sheet4!$A$2:$A$8270,Sheet3!$B$1,Sheet4!$B$2:$B$8270,Sheet3!$A$3)","v":0},{"$f":"+SUMIFS(Sheet4!$DM$2:$DM$8270,Sheet4!$C$2:$C$8270,Sheet3!$B11,Sheet4!$D$2:$D$8270,Sheet3!CK$3,Sheet4!$E$2:$E$8270,Sheet3!CK$4,Sheet4!$A$2:$A$8270,Sheet3!$B$1,Sheet4!$B$2:$B$8270,Sheet3!$A$3)","v":3},{"$f":"+SUMIFS(Sheet4!$DM$2:$DM$8270,Sheet4!$C$2:$C$8270,Sheet3!$B11,Sheet4!$D$2:$D$8270,Sheet3!CL$3,Sheet4!$E$2:$E$8270,Sheet3!CL$4,Sheet4!$A$2:$A$8270,Sheet3!$B$1,Sheet4!$B$2:$B$8270,Sheet3!$A$3)","v":0},{"$f":"+SUMIFS(Sheet4!$DM$2:$DM$8270,Sheet4!$C$2:$C$8270,Sheet3!$B11,Sheet4!$D$2:$D$8270,Sheet3!CM$3,Sheet4!$E$2:$E$8270,Sheet3!CM$4,Sheet4!$A$2:$A$8270,Sheet3!$B$1,Sheet4!$B$2:$B$8270,Sheet3!$A$3)","v":0},{"$f":"+SUMIFS(Sheet4!$DM$2:$DM$8270,Sheet4!$C$2:$C$8270,Sheet3!$B11,Sheet4!$D$2:$D$8270,Sheet3!CN$3,Sheet4!$E$2:$E$8270,Sheet3!CN$4,Sheet4!$A$2:$A$8270,Sheet3!$B$1,Sheet4!$B$2:$B$8270,Sheet3!$A$3)","v":0},{"$f":"+SUMIFS(Sheet4!$DM$2:$DM$8270,Sheet4!$C$2:$C$8270,Sheet3!$B11,Sheet4!$D$2:$D$8270,Sheet3!CO$3,Sheet4!$E$2:$E$8270,Sheet3!CO$4,Sheet4!$A$2:$A$8270,Sheet3!$B$1,Sheet4!$B$2:$B$8270,Sheet3!$A$3)","v":0},{"$f":"+IF(SUMIFS(Sheet4!$DN$2:$DN$8270,Sheet4!$C$2:$C$8270,Sheet3!$B11,Sheet4!$D$2:$D$8270,Sheet3!CP$3,Sheet4!$A$2:$A$8270,Sheet3!$B$1,Sheet4!$B$2:$B$8270,Sheet3!$A$3)<3,0,SUMIFS(Sheet4!$DN$2:$DN$8270,Sheet4!$C$2:$C$8270,Sheet3!$B11,Sheet4!$D$2:$D$8270,Sheet3!CP$3,Sheet4!$A$2:$A$8270,Sheet3!$B$1,Sheet4!$B$2:$B$8270,Sheet3!$A$3))","v":0},{"$f":"+IF(SUMIFS(Sheet4!$DN$2:$DN$8270,Sheet4!$C$2:$C$8270,Sheet3!$B11,Sheet4!$D$2:$D$8270,Sheet3!CQ$3,Sheet4!$A$2:$A$8270,Sheet3!$B$1,Sheet4!$B$2:$B$8270,Sheet3!$A$3)<3,0,SUMIFS(Sheet4!$DN$2:$DN$8270,Sheet4!$C$2:$C$8270,Sheet3!$B11,Sheet4!$D$2:$D$8270,Sheet3!CQ$3,Sheet4!$A$2:$A$8270,Sheet3!$B$1,Sheet4!$B$2:$B$8270,Sheet3!$A$3))","v":845},{"$f":"+IF(SUMIFS(Sheet4!$DN$2:$DN$8270,Sheet4!$C$2:$C$8270,Sheet3!$B11,Sheet4!$D$2:$D$8270,Sheet3!CR$3,Sheet4!$A$2:$A$8270,Sheet3!$B$1,Sheet4!$B$2:$B$8270,Sheet3!$A$3)<3,0,SUMIFS(Sheet4!$DN$2:$DN$8270,Sheet4!$C$2:$C$8270,Sheet3!$B11,Sheet4!$D$2:$D$8270,Sheet3!CR$3,Sheet4!$A$2:$A$8270,Sheet3!$B$1,Sheet4!$B$2:$B$8270,Sheet3!$A$3))","v":99},{"$f":"+IF(SUMIFS(Sheet4!$DN$2:$DN$8270,Sheet4!$C$2:$C$8270,Sheet3!$B11,Sheet4!$D$2:$D$8270,Sheet3!CS$3,Sheet4!$A$2:$A$8270,Sheet3!$B$1,Sheet4!$B$2:$B$8270,Sheet3!$A$3)<3,0,SUMIFS(Sheet4!$DN$2:$DN$8270,Sheet4!$C$2:$C$8270,Sheet3!$B11,Sheet4!$D$2:$D$8270,Sheet3!CS$3,Sheet4!$A$2:$A$8270,Sheet3!$B$1,Sheet4!$B$2:$B$8270,Sheet3!$A$3))","v":0},{"$f":"+IF(SUMIFS(Sheet4!$DN$2:$DN$8270,Sheet4!$C$2:$C$8270,Sheet3!$B11,Sheet4!$D$2:$D$8270,Sheet3!CT$3,Sheet4!$A$2:$A$8270,Sheet3!$B$1,Sheet4!$B$2:$B$8270,Sheet3!$A$3)<3,0,SUMIFS(Sheet4!$DN$2:$DN$8270,Sheet4!$C$2:$C$8270,Sheet3!$B11,Sheet4!$D$2:$D$8270,Sheet3!CT$3,Sheet4!$A$2:$A$8270,Sheet3!$B$1,Sheet4!$B$2:$B$8270,Sheet3!$A$3))","v":0},{"$f":"+IF(SUMIFS(Sheet4!$DN$2:$DN$8270,Sheet4!$C$2:$C$8270,Sheet3!$B11,Sheet4!$D$2:$D$8270,Sheet3!CU$3,Sheet4!$A$2:$A$8270,Sheet3!$B$1,Sheet4!$B$2:$B$8270,Sheet3!$A$3)<3,0,SUMIFS(Sheet4!$DN$2:$DN$8270,Sheet4!$C$2:$C$8270,Sheet3!$B11,Sheet4!$D$2:$D$8270,Sheet3!CU$3,Sheet4!$A$2:$A$8270,Sheet3!$B$1,Sheet4!$B$2:$B$8270,Sheet3!$A$3))","v":238},{"$f":"+IF(SUMIFS(Sheet4!$DN$2:$DN$8270,Sheet4!$C$2:$C$8270,Sheet3!$B11,Sheet4!$D$2:$D$8270,Sheet3!CV$3,Sheet4!$A$2:$A$8270,Sheet3!$B$1,Sheet4!$B$2:$B$8270,Sheet3!$A$3)<3,0,SUMIFS(Sheet4!$DN$2:$DN$8270,Sheet4!$C$2:$C$8270,Sheet3!$B11,Sheet4!$D$2:$D$8270,Sheet3!CV$3,Sheet4!$A$2:$A$8270,Sheet3!$B$1,Sheet4!$B$2:$B$8270,Sheet3!$A$3))","v":89},{"$f":"+IF(SUMIFS(Sheet4!$DN$2:$DN$8270,Sheet4!$C$2:$C$8270,Sheet3!$B11,Sheet4!$D$2:$D$8270,Sheet3!CW$3,Sheet4!$A$2:$A$8270,Sheet3!$B$1,Sheet4!$B$2:$B$8270,Sheet3!$A$3)<3,0,SUMIFS(Sheet4!$DN$2:$DN$8270,Sheet4!$C$2:$C$8270,Sheet3!$B11,Sheet4!$D$2:$D$8270,Sheet3!CW$3,Sheet4!$A$2:$A$8270,Sheet3!$B$1,Sheet4!$B$2:$B$8270,Sheet3!$A$3))","v":212},{"$f":"+IF(SUMIFS(Sheet4!$DN$2:$DN$8270,Sheet4!$C$2:$C$8270,Sheet3!$B11,Sheet4!$D$2:$D$8270,Sheet3!CX$3,Sheet4!$A$2:$A$8270,Sheet3!$B$1,Sheet4!$B$2:$B$8270,Sheet3!$A$3)<3,0,SUMIFS(Sheet4!$DN$2:$DN$8270,Sheet4!$C$2:$C$8270,Sheet3!$B11,Sheet4!$D$2:$D$8270,Sheet3!CX$3,Sheet4!$A$2:$A$8270,Sheet3!$B$1,Sheet4!$B$2:$B$8270,Sheet3!$A$3))","v":0},{"$f":"+IF(SUMIFS(Sheet4!$DN$2:$DN$8270,Sheet4!$C$2:$C$8270,Sheet3!$B11,Sheet4!$D$2:$D$8270,Sheet3!CY$3,Sheet4!$A$2:$A$8270,Sheet3!$B$1,Sheet4!$B$2:$B$8270,Sheet3!$A$3)<3,0,SUMIFS(Sheet4!$DN$2:$DN$8270,Sheet4!$C$2:$C$8270,Sheet3!$B11,Sheet4!$D$2:$D$8270,Sheet3!CY$3,Sheet4!$A$2:$A$8270,Sheet3!$B$1,Sheet4!$B$2:$B$8270,Sheet3!$A$3))","v":850},{"$f":"+IF(SUMIFS(Sheet4!$DN$2:$DN$8270,Sheet4!$C$2:$C$8270,Sheet3!$B11,Sheet4!$D$2:$D$8270,Sheet3!CZ$3,Sheet4!$A$2:$A$8270,Sheet3!$B$1,Sheet4!$B$2:$B$8270,Sheet3!$A$3)<3,0,SUMIFS(Sheet4!$DN$2:$DN$8270,Sheet4!$C$2:$C$8270,Sheet3!$B11,Sheet4!$D$2:$D$8270,Sheet3!CZ$3,Sheet4!$A$2:$A$8270,Sheet3!$B$1,Sheet4!$B$2:$B$8270,Sheet3!$A$3))","v":610},{"$f":"+IF(SUMIFS(Sheet4!$DN$2:$DN$8270,Sheet4!$C$2:$C$8270,Sheet3!$B11,Sheet4!$D$2:$D$8270,Sheet3!DA$3,Sheet4!$A$2:$A$8270,Sheet3!$B$1,Sheet4!$B$2:$B$8270,Sheet3!$A$3)<3,0,SUMIFS(Sheet4!$DN$2:$DN$8270,Sheet4!$C$2:$C$8270,Sheet3!$B11,Sheet4!$D$2:$D$8270,Sheet3!DA$3,Sheet4!$A$2:$A$8270,Sheet3!$B$1,Sheet4!$B$2:$B$8270,Sheet3!$A$3))","v":537},{"$f":"+IF(SUMIFS(Sheet4!$DN$2:$DN$8270,Sheet4!$C$2:$C$8270,Sheet3!$B11,Sheet4!$D$2:$D$8270,Sheet3!DB$3,Sheet4!$A$2:$A$8270,Sheet3!$B$1,Sheet4!$B$2:$B$8270,Sheet3!$A$3)<3,0,SUMIFS(Sheet4!$DN$2:$DN$8270,Sheet4!$C$2:$C$8270,Sheet3!$B11,Sheet4!$D$2:$D$8270,Sheet3!DB$3,Sheet4!$A$2:$A$8270,Sheet3!$B$1,Sheet4!$B$2:$B$8270,Sheet3!$A$3))","v":126},{"$f":"+IF(SUMIFS(Sheet4!$DN$2:$DN$8270,Sheet4!$C$2:$C$8270,Sheet3!$B11,Sheet4!$D$2:$D$8270,Sheet3!DC$3,Sheet4!$A$2:$A$8270,Sheet3!$B$1,Sheet4!$B$2:$B$8270,Sheet3!$A$3)<3,0,SUMIFS(Sheet4!$DN$2:$DN$8270,Sheet4!$C$2:$C$8270,Sheet3!$B11,Sheet4!$D$2:$D$8270,Sheet3!DC$3,Sheet4!$A$2:$A$8270,Sheet3!$B$1,Sheet4!$B$2:$B$8270,Sheet3!$A$3))","v":151},{"$f":"+IF(SUMIFS(Sheet4!$DN$2:$DN$8270,Sheet4!$C$2:$C$8270,Sheet3!$B11,Sheet4!$D$2:$D$8270,Sheet3!DD$3,Sheet4!$A$2:$A$8270,Sheet3!$B$1,Sheet4!$B$2:$B$8270,Sheet3!$A$3)<3,0,SUMIFS(Sheet4!$DN$2:$DN$8270,Sheet4!$C$2:$C$8270,Sheet3!$B11,Sheet4!$D$2:$D$8270,Sheet3!DD$3,Sheet4!$A$2:$A$8270,Sheet3!$B$1,Sheet4!$B$2:$B$8270,Sheet3!$A$3))","v":414},{"$f":"+IF(SUMIFS(Sheet4!$DN$2:$DN$8270,Sheet4!$C$2:$C$8270,Sheet3!$B11,Sheet4!$D$2:$D$8270,Sheet3!DE$3,Sheet4!$A$2:$A$8270,Sheet3!$B$1,Sheet4!$B$2:$B$8270,Sheet3!$A$3)<3,0,SUMIFS(Sheet4!$DN$2:$DN$8270,Sheet4!$C$2:$C$8270,Sheet3!$B11,Sheet4!$D$2:$D$8270,Sheet3!DE$3,Sheet4!$A$2:$A$8270,Sheet3!$B$1,Sheet4!$B$2:$B$8270,Sheet3!$A$3))","v":852},{"$f":"+IF(SUMIFS(Sheet4!$DN$2:$DN$8270,Sheet4!$C$2:$C$8270,Sheet3!$B11,Sheet4!$D$2:$D$8270,Sheet3!DF$3,Sheet4!$A$2:$A$8270,Sheet3!$B$1,Sheet4!$B$2:$B$8270,Sheet3!$A$3)<3,0,SUMIFS(Sheet4!$DN$2:$DN$8270,Sheet4!$C$2:$C$8270,Sheet3!$B11,Sheet4!$D$2:$D$8270,Sheet3!DF$3,Sheet4!$A$2:$A$8270,Sheet3!$B$1,Sheet4!$B$2:$B$8270,Sheet3!$A$3))","v":0},{"$f":"+IF(SUMIFS(Sheet4!$DN$2:$DN$8270,Sheet4!$C$2:$C$8270,Sheet3!$B11,Sheet4!$D$2:$D$8270,Sheet3!DG$3,Sheet4!$A$2:$A$8270,Sheet3!$B$1,Sheet4!$B$2:$B$8270,Sheet3!$A$3)<3,0,SUMIFS(Sheet4!$DN$2:$DN$8270,Sheet4!$C$2:$C$8270,Sheet3!$B11,Sheet4!$D$2:$D$8270,Sheet3!DG$3,Sheet4!$A$2:$A$8270,Sheet3!$B$1,Sheet4!$B$2:$B$8270,Sheet3!$A$3))","v":5},{"$f":"+IF(SUMIFS(Sheet4!$DN$2:$DN$8270,Sheet4!$C$2:$C$8270,Sheet3!$B11,Sheet4!$E$2:$E$8270,Sheet3!DH$4,Sheet4!$A$2:$A$8270,Sheet3!$B$1,Sheet4!$B$2:$B$8270,Sheet3!$A$3)<3,0,SUMIFS(Sheet4!$DN$2:$DN$8270,Sheet4!$C$2:$C$8270,Sheet3!$B11,Sheet4!$E$2:$E$8270,Sheet3!DH$4,Sheet4!$A$2:$A$8270,Sheet3!$B$1,Sheet4!$B$2:$B$8270,Sheet3!$A$3))","v":3941},{"$f":"+IF(SUMIFS(Sheet4!$DN$2:$DN$8270,Sheet4!$C$2:$C$8270,Sheet3!$B11,Sheet4!$E$2:$E$8270,Sheet3!DI$4,Sheet4!$A$2:$A$8270,Sheet3!$B$1,Sheet4!$B$2:$B$8270,Sheet3!$A$3)<3,0,SUMIFS(Sheet4!$DN$2:$DN$8270,Sheet4!$C$2:$C$8270,Sheet3!$B11,Sheet4!$E$2:$E$8270,Sheet3!DI$4,Sheet4!$A$2:$A$8270,Sheet3!$B$1,Sheet4!$B$2:$B$8270,Sheet3!$A$3))","v":1046},{"$f":"+IF(SUMIFS(Sheet4!$DN$2:$DN$8270,Sheet4!$C$2:$C$8270,Sheet3!$B11,Sheet4!$E$2:$E$8270,Sheet3!DJ$4,Sheet4!$A$2:$A$8270,Sheet3!$B$1,Sheet4!$B$2:$B$8270,Sheet3!$A$3)<3,0,SUMIFS(Sheet4!$DN$2:$DN$8270,Sheet4!$C$2:$C$8270,Sheet3!$B11,Sheet4!$E$2:$E$8270,Sheet3!DJ$4,Sheet4!$A$2:$A$8270,Sheet3!$B$1,Sheet4!$B$2:$B$8270,Sheet3!$A$3))","v":44},{"$f":"+IF(SUMIFS(Sheet4!$DN$2:$DN$8270,Sheet4!$C$2:$C$8270,Sheet3!$B11,Sheet4!$E$2:$E$8270,Sheet3!DK$4,Sheet4!$A$2:$A$8270,Sheet3!$B$1,Sheet4!$B$2:$B$8270,Sheet3!$A$3)<3,0,SUMIFS(Sheet4!$DN$2:$DN$8270,Sheet4!$C$2:$C$8270,Sheet3!$B11,Sheet4!$E$2:$E$8270,Sheet3!DK$4,Sheet4!$A$2:$A$8270,Sheet3!$B$1,Sheet4!$B$2:$B$8270,Sheet3!$A$3))","v":0},{"$f":"+IF(SUMIFS(Sheet4!$DN$2:$DN$8270,Sheet4!$C$2:$C$8270,Sheet3!$B11,Sheet4!$E$2:$E$8270,Sheet3!DL$4,Sheet4!$A$2:$A$8270,Sheet3!$B$1,Sheet4!$B$2:$B$8270,Sheet3!$A$3)<3,0,SUMIFS(Sheet4!$DN$2:$DN$8270,Sheet4!$C$2:$C$8270,Sheet3!$B11,Sheet4!$E$2:$E$8270,Sheet3!DL$4,Sheet4!$A$2:$A$8270,Sheet3!$B$1,Sheet4!$B$2:$B$8270,Sheet3!$A$3))","v":0}]
[1,"11B","Alto Tâmega",{"$f":"+SUMIFS(Sheet4!$DM$2:$DM$8270,Sheet4!$C$2:$C$8270,Sheet3!$B12,Sheet4!$D$2:$D$8270,Sheet3!D$3,Sheet4!$E$2:$E$8270,Sheet3!D$4,Sheet4!$A$2:$A$8270,Sheet3!$B$1,Sheet4!$B$2:$B$8270,Sheet3!$A$3)","v":17},{"$f":"+SUMIFS(Sheet4!$DM$2:$DM$8270,Sheet4!$C$2:$C$8270,Sheet3!$B12,Sheet4!$D$2:$D$8270,Sheet3!E$3,Sheet4!$E$2:$E$8270,Sheet3!E$4,Sheet4!$A$2:$A$8270,Sheet3!$B$1,Sheet4!$B$2:$B$8270,Sheet3!$A$3)","v":9},{"$f":"+SUMIFS(Sheet4!$DM$2:$DM$8270,Sheet4!$C$2:$C$8270,Sheet3!$B12,Sheet4!$D$2:$D$8270,Sheet3!F$3,Sheet4!$E$2:$E$8270,Sheet3!F$4,Sheet4!$A$2:$A$8270,Sheet3!$B$1,Sheet4!$B$2:$B$8270,Sheet3!$A$3)","v":0},{"$f":"+SUMIFS(Sheet4!$DM$2:$DM$8270,Sheet4!$C$2:$C$8270,Sheet3!$B12,Sheet4!$D$2:$D$8270,Sheet3!G$3,Sheet4!$E$2:$E$8270,Sheet3!G$4,Sheet4!$A$2:$A$8270,Sheet3!$B$1,Sheet4!$B$2:$B$8270,Sheet3!$A$3)","v":0},{"$f":"+SUMIFS(Sheet4!$DM$2:$DM$8270,Sheet4!$C$2:$C$8270,Sheet3!$B12,Sheet4!$D$2:$D$8270,Sheet3!H$3,Sheet4!$E$2:$E$8270,Sheet3!H$4,Sheet4!$A$2:$A$8270,Sheet3!$B$1,Sheet4!$B$2:$B$8270,Sheet3!$A$3)","v":0},{"$f":"+SUMIFS(Sheet4!$DM$2:$DM$8270,Sheet4!$C$2:$C$8270,Sheet3!$B12,Sheet4!$D$2:$D$8270,Sheet3!I$3,Sheet4!$E$2:$E$8270,Sheet3!I$4,Sheet4!$A$2:$A$8270,Sheet3!$B$1,Sheet4!$B$2:$B$8270,Sheet3!$A$3)","v":171},{"$f":"+SUMIFS(Sheet4!$DM$2:$DM$8270,Sheet4!$C$2:$C$8270,Sheet3!$B12,Sheet4!$D$2:$D$8270,Sheet3!J$3,Sheet4!$E$2:$E$8270,Sheet3!J$4,Sheet4!$A$2:$A$8270,Sheet3!$B$1,Sheet4!$B$2:$B$8270,Sheet3!$A$3)","v":35},{"$f":"+SUMIFS(Sheet4!$DM$2:$DM$8270,Sheet4!$C$2:$C$8270,Sheet3!$B12,Sheet4!$D$2:$D$8270,Sheet3!K$3,Sheet4!$E$2:$E$8270,Sheet3!K$4,Sheet4!$A$2:$A$8270,Sheet3!$B$1,Sheet4!$B$2:$B$8270,Sheet3!$A$3)","v":0},{"$f":"+SUMIFS(Sheet4!$DM$2:$DM$8270,Sheet4!$C$2:$C$8270,Sheet3!$B12,Sheet4!$D$2:$D$8270,Sheet3!L$3,Sheet4!$E$2:$E$8270,Sheet3!L$4,Sheet4!$A$2:$A$8270,Sheet3!$B$1,Sheet4!$B$2:$B$8270,Sheet3!$A$3)","v":0},{"$f":"+SUMIFS(Sheet4!$DM$2:$DM$8270,Sheet4!$C$2:$C$8270,Sheet3!$B12,Sheet4!$D$2:$D$8270,Sheet3!M$3,Sheet4!$E$2:$E$8270,Sheet3!M$4,Sheet4!$A$2:$A$8270,Sheet3!$B$1,Sheet4!$B$2:$B$8270,Sheet3!$A$3)","v":0},{"$f":"+SUMIFS(Sheet4!$DM$2:$DM$8270,Sheet4!$C$2:$C$8270,Sheet3!$B12,Sheet4!$D$2:$D$8270,Sheet3!N$3,Sheet4!$E$2:$E$8270,Sheet3!N$4,Sheet4!$A$2:$A$8270,Sheet3!$B$1,Sheet4!$B$2:$B$8270,Sheet3!$A$3)","v":523},{"$f":"+SUMIFS(Sheet4!$DM$2:$DM$8270,Sheet4!$C$2:$C$8270,Sheet3!$B12,Sheet4!$D$2:$D$8270,Sheet3!O$3,Sheet4!$E$2:$E$8270,Sheet3!O$4,Sheet4!$A$2:$A$8270,Sheet3!$B$1,Sheet4!$B$2:$B$8270,Sheet3!$A$3)","v":96},{"$f":"+SUMIFS(Sheet4!$DM$2:$DM$8270,Sheet4!$C$2:$C$8270,Sheet3!$B12,Sheet4!$D$2:$D$8270,Sheet3!P$3,Sheet4!$E$2:$E$8270,Sheet3!P$4,Sheet4!$A$2:$A$8270,Sheet3!$B$1,Sheet4!$B$2:$B$8270,Sheet3!$A$3)","v":3},{"$f":"+SUMIFS(Sheet4!$DM$2:$DM$8270,Sheet4!$C$2:$C$8270,Sheet3!$B12,Sheet4!$D$2:$D$8270,Sheet3!Q$3,Sheet4!$E$2:$E$8270,Sheet3!Q$4,Sheet4!$A$2:$A$8270,Sheet3!$B$1,Sheet4!$B$2:$B$8270,Sheet3!$A$3)","v":0},{"$f":"+SUMIFS(Sheet4!$DM$2:$DM$8270,Sheet4!$C$2:$C$8270,Sheet3!$B12,Sheet4!$D$2:$D$8270,Sheet3!R$3,Sheet4!$E$2:$E$8270,Sheet3!R$4,Sheet4!$A$2:$A$8270,Sheet3!$B$1,Sheet4!$B$2:$B$8270,Sheet3!$A$3)","v":0},{"$f":"+SUMIFS(Sheet4!$DM$2:$DM$8270,Sheet4!$C$2:$C$8270,Sheet3!$B12,Sheet4!$D$2:$D$8270,Sheet3!S$3,Sheet4!$E$2:$E$8270,Sheet3!S$4,Sheet4!$A$2:$A$8270,Sheet3!$B$1,Sheet4!$B$2:$B$8270,Sheet3!$A$3)","v":0},{"$f":"+SUMIFS(Sheet4!$DM$2:$DM$8270,Sheet4!$C$2:$C$8270,Sheet3!$B12,Sheet4!$D$2:$D$8270,Sheet3!T$3,Sheet4!$E$2:$E$8270,Sheet3!T$4,Sheet4!$A$2:$A$8270,Sheet3!$B$1,Sheet4!$B$2:$B$8270,Sheet3!$A$3)","v":0},{"$f":"+SUMIFS(Sheet4!$DM$2:$DM$8270,Sheet4!$C$2:$C$8270,Sheet3!$B12,Sheet4!$D$2:$D$8270,Sheet3!U$3,Sheet4!$E$2:$E$8270,Sheet3!U$4,Sheet4!$A$2:$A$8270,Sheet3!$B$1,Sheet4!$B$2:$B$8270,Sheet3!$A$3)","v":0},{"$f":"+SUMIFS(Sheet4!$DM$2:$DM$8270,Sheet4!$C$2:$C$8270,Sheet3!$B12,Sheet4!$D$2:$D$8270,Sheet3!V$3,Sheet4!$E$2:$E$8270,Sheet3!V$4,Sheet4!$A$2:$A$8270,Sheet3!$B$1,Sheet4!$B$2:$B$8270,Sheet3!$A$3)","v":0},{"$f":"+SUMIFS(Sheet4!$DM$2:$DM$8270,Sheet4!$C$2:$C$8270,Sheet3!$B12,Sheet4!$D$2:$D$8270,Sheet3!W$3,Sheet4!$E$2:$E$8270,Sheet3!W$4,Sheet4!$A$2:$A$8270,Sheet3!$B$1,Sheet4!$B$2:$B$8270,Sheet3!$A$3)","v":0},{"$f":"+SUMIFS(Sheet4!$DM$2:$DM$8270,Sheet4!$C$2:$C$8270,Sheet3!$B12,Sheet4!$D$2:$D$8270,Sheet3!X$3,Sheet4!$E$2:$E$8270,Sheet3!X$4,Sheet4!$A$2:$A$8270,Sheet3!$B$1,Sheet4!$B$2:$B$8270,Sheet3!$A$3)","v":0},{"$f":"+SUMIFS(Sheet4!$DM$2:$DM$8270,Sheet4!$C$2:$C$8270,Sheet3!$B12,Sheet4!$D$2:$D$8270,Sheet3!Y$3,Sheet4!$E$2:$E$8270,Sheet3!Y$4,Sheet4!$A$2:$A$8270,Sheet3!$B$1,Sheet4!$B$2:$B$8270,Sheet3!$A$3)","v":0},{"$f":"+SUMIFS(Sheet4!$DM$2:$DM$8270,Sheet4!$C$2:$C$8270,Sheet3!$B12,Sheet4!$D$2:$D$8270,Sheet3!Z$3,Sheet4!$E$2:$E$8270,Sheet3!Z$4,Sheet4!$A$2:$A$8270,Sheet3!$B$1,Sheet4!$B$2:$B$8270,Sheet3!$A$3)","v":0},{"$f":"+SUMIFS(Sheet4!$DM$2:$DM$8270,Sheet4!$C$2:$C$8270,Sheet3!$B12,Sheet4!$D$2:$D$8270,Sheet3!AA$3,Sheet4!$E$2:$E$8270,Sheet3!AA$4,Sheet4!$A$2:$A$8270,Sheet3!$B$1,Sheet4!$B$2:$B$8270,Sheet3!$A$3)","v":0},{"$f":"+SUMIFS(Sheet4!$DM$2:$DM$8270,Sheet4!$C$2:$C$8270,Sheet3!$B12,Sheet4!$D$2:$D$8270,Sheet3!AB$3,Sheet4!$E$2:$E$8270,Sheet3!AB$4,Sheet4!$A$2:$A$8270,Sheet3!$B$1,Sheet4!$B$2:$B$8270,Sheet3!$A$3)","v":0},{"$f":"+SUMIFS(Sheet4!$DM$2:$DM$8270,Sheet4!$C$2:$C$8270,Sheet3!$B12,Sheet4!$D$2:$D$8270,Sheet3!AC$3,Sheet4!$E$2:$E$8270,Sheet3!AC$4,Sheet4!$A$2:$A$8270,Sheet3!$B$1,Sheet4!$B$2:$B$8270,Sheet3!$A$3)","v":1153},{"$f":"+SUMIFS(Sheet4!$DM$2:$DM$8270,Sheet4!$C$2:$C$8270,Sheet3!$B12,Sheet4!$D$2:$D$8270,Sheet3!AD$3,Sheet4!$E$2:$E$8270,Sheet3!AD$4,Sheet4!$A$2:$A$8270,Sheet3!$B$1,Sheet4!$B$2:$B$8270,Sheet3!$A$3)","v":133},{"$f":"+SUMIFS(Sheet4!$DM$2:$DM$8270,Sheet4!$C$2:$C$8270,Sheet3!$B12,Sheet4!$D$2:$D$8270,Sheet3!AE$3,Sheet4!$E$2:$E$8270,Sheet3!AE$4,Sheet4!$A$2:$A$8270,Sheet3!$B$1,Sheet4!$B$2:$B$8270,Sheet3!$A$3)","v":0},{"$f":"+SUMIFS(Sheet4!$DM$2:$DM$8270,Sheet4!$C$2:$C$8270,Sheet3!$B12,Sheet4!$D$2:$D$8270,Sheet3!AF$3,Sheet4!$E$2:$E$8270,Sheet3!AF$4,Sheet4!$A$2:$A$8270,Sheet3!$B$1,Sheet4!$B$2:$B$8270,Sheet3!$A$3)","v":0},{"$f":"+SUMIFS(Sheet4!$DM$2:$DM$8270,Sheet4!$C$2:$C$8270,Sheet3!$B12,Sheet4!$D$2:$D$8270,Sheet3!AG$3,Sheet4!$E$2:$E$8270,Sheet3!AG$4,Sheet4!$A$2:$A$8270,Sheet3!$B$1,Sheet4!$B$2:$B$8270,Sheet3!$A$3)","v":0},{"$f":"+SUMIFS(Sheet4!$DM$2:$DM$8270,Sheet4!$C$2:$C$8270,Sheet3!$B12,Sheet4!$D$2:$D$8270,Sheet3!AH$3,Sheet4!$E$2:$E$8270,Sheet3!AH$4,Sheet4!$A$2:$A$8270,Sheet3!$B$1,Sheet4!$B$2:$B$8270,Sheet3!$A$3)","v":85},{"$f":"+SUMIFS(Sheet4!$DM$2:$DM$8270,Sheet4!$C$2:$C$8270,Sheet3!$B12,Sheet4!$D$2:$D$8270,Sheet3!AI$3,Sheet4!$E$2:$E$8270,Sheet3!AI$4,Sheet4!$A$2:$A$8270,Sheet3!$B$1,Sheet4!$B$2:$B$8270,Sheet3!$A$3)","v":23},{"$f":"+SUMIFS(Sheet4!$DM$2:$DM$8270,Sheet4!$C$2:$C$8270,Sheet3!$B12,Sheet4!$D$2:$D$8270,Sheet3!AJ$3,Sheet4!$E$2:$E$8270,Sheet3!AJ$4,Sheet4!$A$2:$A$8270,Sheet3!$B$1,Sheet4!$B$2:$B$8270,Sheet3!$A$3)","v":0},{"$f":"+SUMIFS(Sheet4!$DM$2:$DM$8270,Sheet4!$C$2:$C$8270,Sheet3!$B12,Sheet4!$D$2:$D$8270,Sheet3!AK$3,Sheet4!$E$2:$E$8270,Sheet3!AK$4,Sheet4!$A$2:$A$8270,Sheet3!$B$1,Sheet4!$B$2:$B$8270,Sheet3!$A$3)","v":0},{"$f":"+SUMIFS(Sheet4!$DM$2:$DM$8270,Sheet4!$C$2:$C$8270,Sheet3!$B12,Sheet4!$D$2:$D$8270,Sheet3!AL$3,Sheet4!$E$2:$E$8270,Sheet3!AL$4,Sheet4!$A$2:$A$8270,Sheet3!$B$1,Sheet4!$B$2:$B$8270,Sheet3!$A$3)","v":0},{"$f":"+SUMIFS(Sheet4!$DM$2:$DM$8270,Sheet4!$C$2:$C$8270,Sheet3!$B12,Sheet4!$D$2:$D$8270,Sheet3!AM$3,Sheet4!$E$2:$E$8270,Sheet3!AM$4,Sheet4!$A$2:$A$8270,Sheet3!$B$1,Sheet4!$B$2:$B$8270,Sheet3!$A$3)","v":899},{"$f":"+SUMIFS(Sheet4!$DM$2:$DM$8270,Sheet4!$C$2:$C$8270,Sheet3!$B12,Sheet4!$D$2:$D$8270,Sheet3!AN$3,Sheet4!$E$2:$E$8270,Sheet3!AN$4,Sheet4!$A$2:$A$8270,Sheet3!$B$1,Sheet4!$B$2:$B$8270,Sheet3!$A$3)","v":383},{"$f":"+SUMIFS(Sheet4!$DM$2:$DM$8270,Sheet4!$C$2:$C$8270,Sheet3!$B12,Sheet4!$D$2:$D$8270,Sheet3!AO$3,Sheet4!$E$2:$E$8270,Sheet3!AO$4,Sheet4!$A$2:$A$8270,Sheet3!$B$1,Sheet4!$B$2:$B$8270,Sheet3!$A$3)","v":17},{"$f":"+SUMIFS(Sheet4!$DM$2:$DM$8270,Sheet4!$C$2:$C$8270,Sheet3!$B12,Sheet4!$D$2:$D$8270,Sheet3!AP$3,Sheet4!$E$2:$E$8270,Sheet3!AP$4,Sheet4!$A$2:$A$8270,Sheet3!$B$1,Sheet4!$B$2:$B$8270,Sheet3!$A$3)","v":0},{"$f":"+SUMIFS(Sheet4!$DM$2:$DM$8270,Sheet4!$C$2:$C$8270,Sheet3!$B12,Sheet4!$D$2:$D$8270,Sheet3!AQ$3,Sheet4!$E$2:$E$8270,Sheet3!AQ$4,Sheet4!$A$2:$A$8270,Sheet3!$B$1,Sheet4!$B$2:$B$8270,Sheet3!$A$3)","v":0},{"$f":"+SUMIFS(Sheet4!$DM$2:$DM$8270,Sheet4!$C$2:$C$8270,Sheet3!$B12,Sheet4!$D$2:$D$8270,Sheet3!AR$3,Sheet4!$E$2:$E$8270,Sheet3!AR$4,Sheet4!$A$2:$A$8270,Sheet3!$B$1,Sheet4!$B$2:$B$8270,Sheet3!$A$3)","v":202},{"$f":"+SUMIFS(Sheet4!$DM$2:$DM$8270,Sheet4!$C$2:$C$8270,Sheet3!$B12,Sheet4!$D$2:$D$8270,Sheet3!AS$3,Sheet4!$E$2:$E$8270,Sheet3!AS$4,Sheet4!$A$2:$A$8270,Sheet3!$B$1,Sheet4!$B$2:$B$8270,Sheet3!$A$3)","v":32},{"$f":"+SUMIFS(Sheet4!$DM$2:$DM$8270,Sheet4!$C$2:$C$8270,Sheet3!$B12,Sheet4!$D$2:$D$8270,Sheet3!AT$3,Sheet4!$E$2:$E$8270,Sheet3!AT$4,Sheet4!$A$2:$A$8270,Sheet3!$B$1,Sheet4!$B$2:$B$8270,Sheet3!$A$3)","v":5},{"$f":"+SUMIFS(Sheet4!$DM$2:$DM$8270,Sheet4!$C$2:$C$8270,Sheet3!$B12,Sheet4!$D$2:$D$8270,Sheet3!AU$3,Sheet4!$E$2:$E$8270,Sheet3!AU$4,Sheet4!$A$2:$A$8270,Sheet3!$B$1,Sheet4!$B$2:$B$8270,Sheet3!$A$3)","v":0},{"$f":"+SUMIFS(Sheet4!$DM$2:$DM$8270,Sheet4!$C$2:$C$8270,Sheet3!$B12,Sheet4!$D$2:$D$8270,Sheet3!AV$3,Sheet4!$E$2:$E$8270,Sheet3!AV$4,Sheet4!$A$2:$A$8270,Sheet3!$B$1,Sheet4!$B$2:$B$8270,Sheet3!$A$3)","v":0},{"$f":"+SUMIFS(Sheet4!$DM$2:$DM$8270,Sheet4!$C$2:$C$8270,Sheet3!$B12,Sheet4!$D$2:$D$8270,Sheet3!AW$3,Sheet4!$E$2:$E$8270,Sheet3!AW$4,Sheet4!$A$2:$A$8270,Sheet3!$B$1,Sheet4!$B$2:$B$8270,Sheet3!$A$3)","v":3175},{"$f":"+SUMIFS(Sheet4!$DM$2:$DM$8270,Sheet4!$C$2:$C$8270,Sheet3!$B12,Sheet4!$D$2:$D$8270,Sheet3!AX$3,Sheet4!$E$2:$E$8270,Sheet3!AX$4,Sheet4!$A$2:$A$8270,Sheet3!$B$1,Sheet4!$B$2:$B$8270,Sheet3!$A$3)","v":979},{"$f":"+SUMIFS(Sheet4!$DM$2:$DM$8270,Sheet4!$C$2:$C$8270,Sheet3!$B12,Sheet4!$D$2:$D$8270,Sheet3!AY$3,Sheet4!$E$2:$E$8270,Sheet3!AY$4,Sheet4!$A$2:$A$8270,Sheet3!$B$1,Sheet4!$B$2:$B$8270,Sheet3!$A$3)","v":16},{"$f":"+SUMIFS(Sheet4!$DM$2:$DM$8270,Sheet4!$C$2:$C$8270,Sheet3!$B12,Sheet4!$D$2:$D$8270,Sheet3!AZ$3,Sheet4!$E$2:$E$8270,Sheet3!AZ$4,Sheet4!$A$2:$A$8270,Sheet3!$B$1,Sheet4!$B$2:$B$8270,Sheet3!$A$3)","v":0},{"$f":"+SUMIFS(Sheet4!$DM$2:$DM$8270,Sheet4!$C$2:$C$8270,Sheet3!$B12,Sheet4!$D$2:$D$8270,Sheet3!BA$3,Sheet4!$E$2:$E$8270,Sheet3!BA$4,Sheet4!$A$2:$A$8270,Sheet3!$B$1,Sheet4!$B$2:$B$8270,Sheet3!$A$3)","v":0},{"$f":"+SUMIFS(Sheet4!$DM$2:$DM$8270,Sheet4!$C$2:$C$8270,Sheet3!$B12,Sheet4!$D$2:$D$8270,Sheet3!BB$3,Sheet4!$E$2:$E$8270,Sheet3!BB$4,Sheet4!$A$2:$A$8270,Sheet3!$B$1,Sheet4!$B$2:$B$8270,Sheet3!$A$3)","v":12},{"$f":"+SUMIFS(Sheet4!$DM$2:$DM$8270,Sheet4!$C$2:$C$8270,Sheet3!$B12,Sheet4!$D$2:$D$8270,Sheet3!BC$3,Sheet4!$E$2:$E$8270,Sheet3!BC$4,Sheet4!$A$2:$A$8270,Sheet3!$B$1,Sheet4!$B$2:$B$8270,Sheet3!$A$3)","v":55},{"$f":"+SUMIFS(Sheet4!$DM$2:$DM$8270,Sheet4!$C$2:$C$8270,Sheet3!$B12,Sheet4!$D$2:$D$8270,Sheet3!BD$3,Sheet4!$E$2:$E$8270,Sheet3!BD$4,Sheet4!$A$2:$A$8270,Sheet3!$B$1,Sheet4!$B$2:$B$8270,Sheet3!$A$3)","v":11},{"$f":"+SUMIFS(Sheet4!$DM$2:$DM$8270,Sheet4!$C$2:$C$8270,Sheet3!$B12,Sheet4!$D$2:$D$8270,Sheet3!BE$3,Sheet4!$E$2:$E$8270,Sheet3!BE$4,Sheet4!$A$2:$A$8270,Sheet3!$B$1,Sheet4!$B$2:$B$8270,Sheet3!$A$3)","v":0},{"$f":"+SUMIFS(Sheet4!$DM$2:$DM$8270,Sheet4!$C$2:$C$8270,Sheet3!$B12,Sheet4!$D$2:$D$8270,Sheet3!BF$3,Sheet4!$E$2:$E$8270,Sheet3!BF$4,Sheet4!$A$2:$A$8270,Sheet3!$B$1,Sheet4!$B$2:$B$8270,Sheet3!$A$3)","v":0},{"$f":"+SUMIFS(Sheet4!$DM$2:$DM$8270,Sheet4!$C$2:$C$8270,Sheet3!$B12,Sheet4!$D$2:$D$8270,Sheet3!BG$3,Sheet4!$E$2:$E$8270,Sheet3!BG$4,Sheet4!$A$2:$A$8270,Sheet3!$B$1,Sheet4!$B$2:$B$8270,Sheet3!$A$3)","v":67},{"$f":"+SUMIFS(Sheet4!$DM$2:$DM$8270,Sheet4!$C$2:$C$8270,Sheet3!$B12,Sheet4!$D$2:$D$8270,Sheet3!BH$3,Sheet4!$E$2:$E$8270,Sheet3!BH$4,Sheet4!$A$2:$A$8270,Sheet3!$B$1,Sheet4!$B$2:$B$8270,Sheet3!$A$3)","v":113},{"$f":"+SUMIFS(Sheet4!$DM$2:$DM$8270,Sheet4!$C$2:$C$8270,Sheet3!$B12,Sheet4!$D$2:$D$8270,Sheet3!BI$3,Sheet4!$E$2:$E$8270,Sheet3!BI$4,Sheet4!$A$2:$A$8270,Sheet3!$B$1,Sheet4!$B$2:$B$8270,Sheet3!$A$3)","v":25},{"$f":"+SUMIFS(Sheet4!$DM$2:$DM$8270,Sheet4!$C$2:$C$8270,Sheet3!$B12,Sheet4!$D$2:$D$8270,Sheet3!BJ$3,Sheet4!$E$2:$E$8270,Sheet3!BJ$4,Sheet4!$A$2:$A$8270,Sheet3!$B$1,Sheet4!$B$2:$B$8270,Sheet3!$A$3)","v":0},{"$f":"+SUMIFS(Sheet4!$DM$2:$DM$8270,Sheet4!$C$2:$C$8270,Sheet3!$B12,Sheet4!$D$2:$D$8270,Sheet3!BK$3,Sheet4!$E$2:$E$8270,Sheet3!BK$4,Sheet4!$A$2:$A$8270,Sheet3!$B$1,Sheet4!$B$2:$B$8270,Sheet3!$A$3)","v":0},{"$f":"+SUMIFS(Sheet4!$DM$2:$DM$8270,Sheet4!$C$2:$C$8270,Sheet3!$B12,Sheet4!$D$2:$D$8270,Sheet3!BL$3,Sheet4!$E$2:$E$8270,Sheet3!BL$4,Sheet4!$A$2:$A$8270,Sheet3!$B$1,Sheet4!$B$2:$B$8270,Sheet3!$A$3)","v":163},{"$f":"+SUMIFS(Sheet4!$DM$2:$DM$8270,Sheet4!$C$2:$C$8270,Sheet3!$B12,Sheet4!$D$2:$D$8270,Sheet3!BM$3,Sheet4!$E$2:$E$8270,Sheet3!BM$4,Sheet4!$A$2:$A$8270,Sheet3!$B$1,Sheet4!$B$2:$B$8270,Sheet3!$A$3)","v":1000},{"$f":"+SUMIFS(Sheet4!$DM$2:$DM$8270,Sheet4!$C$2:$C$8270,Sheet3!$B12,Sheet4!$D$2:$D$8270,Sheet3!BN$3,Sheet4!$E$2:$E$8270,Sheet3!BN$4,Sheet4!$A$2:$A$8270,Sheet3!$B$1,Sheet4!$B$2:$B$8270,Sheet3!$A$3)","v":293},{"$f":"+SUMIFS(Sheet4!$DM$2:$DM$8270,Sheet4!$C$2:$C$8270,Sheet3!$B12,Sheet4!$D$2:$D$8270,Sheet3!BO$3,Sheet4!$E$2:$E$8270,Sheet3!BO$4,Sheet4!$A$2:$A$8270,Sheet3!$B$1,Sheet4!$B$2:$B$8270,Sheet3!$A$3)","v":8},{"$f":"+SUMIFS(Sheet4!$DM$2:$DM$8270,Sheet4!$C$2:$C$8270,Sheet3!$B12,Sheet4!$D$2:$D$8270,Sheet3!BP$3,Sheet4!$E$2:$E$8270,Sheet3!BP$4,Sheet4!$A$2:$A$8270,Sheet3!$B$1,Sheet4!$B$2:$B$8270,Sheet3!$A$3)","v":0},{"$f":"+SUMIFS(Sheet4!$DM$2:$DM$8270,Sheet4!$C$2:$C$8270,Sheet3!$B12,Sheet4!$D$2:$D$8270,Sheet3!BQ$3,Sheet4!$E$2:$E$8270,Sheet3!BQ$4,Sheet4!$A$2:$A$8270,Sheet3!$B$1,Sheet4!$B$2:$B$8270,Sheet3!$A$3)","v":536},{"$f":"+SUMIFS(Sheet4!$DM$2:$DM$8270,Sheet4!$C$2:$C$8270,Sheet3!$B12,Sheet4!$D$2:$D$8270,Sheet3!BR$3,Sheet4!$E$2:$E$8270,Sheet3!BR$4,Sheet4!$A$2:$A$8270,Sheet3!$B$1,Sheet4!$B$2:$B$8270,Sheet3!$A$3)","v":974},{"$f":"+SUMIFS(Sheet4!$DM$2:$DM$8270,Sheet4!$C$2:$C$8270,Sheet3!$B12,Sheet4!$D$2:$D$8270,Sheet3!BS$3,Sheet4!$E$2:$E$8270,Sheet3!BS$4,Sheet4!$A$2:$A$8270,Sheet3!$B$1,Sheet4!$B$2:$B$8270,Sheet3!$A$3)","v":147},{"$f":"+SUMIFS(Sheet4!$DM$2:$DM$8270,Sheet4!$C$2:$C$8270,Sheet3!$B12,Sheet4!$D$2:$D$8270,Sheet3!BT$3,Sheet4!$E$2:$E$8270,Sheet3!BT$4,Sheet4!$A$2:$A$8270,Sheet3!$B$1,Sheet4!$B$2:$B$8270,Sheet3!$A$3)","v":0},{"$f":"+SUMIFS(Sheet4!$DM$2:$DM$8270,Sheet4!$C$2:$C$8270,Sheet3!$B12,Sheet4!$D$2:$D$8270,Sheet3!BU$3,Sheet4!$E$2:$E$8270,Sheet3!BU$4,Sheet4!$A$2:$A$8270,Sheet3!$B$1,Sheet4!$B$2:$B$8270,Sheet3!$A$3)","v":0},{"$f":"+SUMIFS(Sheet4!$DM$2:$DM$8270,Sheet4!$C$2:$C$8270,Sheet3!$B12,Sheet4!$D$2:$D$8270,Sheet3!BV$3,Sheet4!$E$2:$E$8270,Sheet3!BV$4,Sheet4!$A$2:$A$8270,Sheet3!$B$1,Sheet4!$B$2:$B$8270,Sheet3!$A$3)","v":335},{"$f":"+SUMIFS(Sheet4!$DM$2:$DM$8270,Sheet4!$C$2:$C$8270,Sheet3!$B12,Sheet4!$D$2:$D$8270,Sheet3!BW$3,Sheet4!$E$2:$E$8270,Sheet3!BW$4,Sheet4!$A$2:$A$8270,Sheet3!$B$1,Sheet4!$B$2:$B$8270,Sheet3!$A$3)","v":411},{"$f":"+SUMIFS(Sheet4!$DM$2:$DM$8270,Sheet4!$C$2:$C$8270,Sheet3!$B12,Sheet4!$D$2:$D$8270,Sheet3!BX$3,Sheet4!$E$2:$E$8270,Sheet3!BX$4,Sheet4!$A$2:$A$8270,Sheet3!$B$1,Sheet4!$B$2:$B$8270,Sheet3!$A$3)","v":20},{"$f":"+SUMIFS(Sheet4!$DM$2:$DM$8270,Sheet4!$C$2:$C$8270,Sheet3!$B12,Sheet4!$D$2:$D$8270,Sheet3!BY$3,Sheet4!$E$2:$E$8270,Sheet3!BY$4,Sheet4!$A$2:$A$8270,Sheet3!$B$1,Sheet4!$B$2:$B$8270,Sheet3!$A$3)","v":0},{"$f":"+SUMIFS(Sheet4!$DM$2:$DM$8270,Sheet4!$C$2:$C$8270,Sheet3!$B12,Sheet4!$D$2:$D$8270,Sheet3!BZ$3,Sheet4!$E$2:$E$8270,Sheet3!BZ$4,Sheet4!$A$2:$A$8270,Sheet3!$B$1,Sheet4!$B$2:$B$8270,Sheet3!$A$3)","v":0},{"$f":"+SUMIFS(Sheet4!$DM$2:$DM$8270,Sheet4!$C$2:$C$8270,Sheet3!$B12,Sheet4!$D$2:$D$8270,Sheet3!CA$3,Sheet4!$E$2:$E$8270,Sheet3!CA$4,Sheet4!$A$2:$A$8270,Sheet3!$B$1,Sheet4!$B$2:$B$8270,Sheet3!$A$3)","v":373},{"$f":"+SUMIFS(Sheet4!$DM$2:$DM$8270,Sheet4!$C$2:$C$8270,Sheet3!$B12,Sheet4!$D$2:$D$8270,Sheet3!CB$3,Sheet4!$E$2:$E$8270,Sheet3!CB$4,Sheet4!$A$2:$A$8270,Sheet3!$B$1,Sheet4!$B$2:$B$8270,Sheet3!$A$3)","v":104},{"$f":"+SUMIFS(Sheet4!$DM$2:$DM$8270,Sheet4!$C$2:$C$8270,Sheet3!$B12,Sheet4!$D$2:$D$8270,Sheet3!CC$3,Sheet4!$E$2:$E$8270,Sheet3!CC$4,Sheet4!$A$2:$A$8270,Sheet3!$B$1,Sheet4!$B$2:$B$8270,Sheet3!$A$3)","v":3},{"$f":"+SUMIFS(Sheet4!$DM$2:$DM$8270,Sheet4!$C$2:$C$8270,Sheet3!$B12,Sheet4!$D$2:$D$8270,Sheet3!CD$3,Sheet4!$E$2:$E$8270,Sheet3!CD$4,Sheet4!$A$2:$A$8270,Sheet3!$B$1,Sheet4!$B$2:$B$8270,Sheet3!$A$3)","v":0},{"$f":"+SUMIFS(Sheet4!$DM$2:$DM$8270,Sheet4!$C$2:$C$8270,Sheet3!$B12,Sheet4!$D$2:$D$8270,Sheet3!CE$3,Sheet4!$E$2:$E$8270,Sheet3!CE$4,Sheet4!$A$2:$A$8270,Sheet3!$B$1,Sheet4!$B$2:$B$8270,Sheet3!$A$3)","v":0},{"$f":"+SUMIFS(Sheet4!$DM$2:$DM$8270,Sheet4!$C$2:$C$8270,Sheet3!$B12,Sheet4!$D$2:$D$8270,Sheet3!CF$3,Sheet4!$E$2:$E$8270,Sheet3!CF$4,Sheet4!$A$2:$A$8270,Sheet3!$B$1,Sheet4!$B$2:$B$8270,Sheet3!$A$3)","v":0},{"$f":"+SUMIFS(Sheet4!$DM$2:$DM$8270,Sheet4!$C$2:$C$8270,Sheet3!$B12,Sheet4!$D$2:$D$8270,Sheet3!CG$3,Sheet4!$E$2:$E$8270,Sheet3!CG$4,Sheet4!$A$2:$A$8270,Sheet3!$B$1,Sheet4!$B$2:$B$8270,Sheet3!$A$3)","v":0},{"$f":"+SUMIFS(Sheet4!$DM$2:$DM$8270,Sheet4!$C$2:$C$8270,Sheet3!$B12,Sheet4!$D$2:$D$8270,Sheet3!CH$3,Sheet4!$E$2:$E$8270,Sheet3!CH$4,Sheet4!$A$2:$A$8270,Sheet3!$B$1,Sheet4!$B$2:$B$8270,Sheet3!$A$3)","v":0},{"$f":"+SUMIFS(Sheet4!$DM$2:$DM$8270,Sheet4!$C$2:$C$8270,Sheet3!$B12,Sheet4!$D$2:$D$8270,Sheet3!CI$3,Sheet4!$E$2:$E$8270,Sheet3!CI$4,Sheet4!$A$2:$A$8270,Sheet3!$B$1,Sheet4!$B$2:$B$8270,Sheet3!$A$3)","v":0},{"$f":"+SUMIFS(Sheet4!$DM$2:$DM$8270,Sheet4!$C$2:$C$8270,Sheet3!$B12,Sheet4!$D$2:$D$8270,Sheet3!CJ$3,Sheet4!$E$2:$E$8270,Sheet3!CJ$4,Sheet4!$A$2:$A$8270,Sheet3!$B$1,Sheet4!$B$2:$B$8270,Sheet3!$A$3)","v":0},{"$f":"+SUMIFS(Sheet4!$DM$2:$DM$8270,Sheet4!$C$2:$C$8270,Sheet3!$B12,Sheet4!$D$2:$D$8270,Sheet3!CK$3,Sheet4!$E$2:$E$8270,Sheet3!CK$4,Sheet4!$A$2:$A$8270,Sheet3!$B$1,Sheet4!$B$2:$B$8270,Sheet3!$A$3)","v":49},{"$f":"+SUMIFS(Sheet4!$DM$2:$DM$8270,Sheet4!$C$2:$C$8270,Sheet3!$B12,Sheet4!$D$2:$D$8270,Sheet3!CL$3,Sheet4!$E$2:$E$8270,Sheet3!CL$4,Sheet4!$A$2:$A$8270,Sheet3!$B$1,Sheet4!$B$2:$B$8270,Sheet3!$A$3)","v":0},{"$f":"+SUMIFS(Sheet4!$DM$2:$DM$8270,Sheet4!$C$2:$C$8270,Sheet3!$B12,Sheet4!$D$2:$D$8270,Sheet3!CM$3,Sheet4!$E$2:$E$8270,Sheet3!CM$4,Sheet4!$A$2:$A$8270,Sheet3!$B$1,Sheet4!$B$2:$B$8270,Sheet3!$A$3)","v":0},{"$f":"+SUMIFS(Sheet4!$DM$2:$DM$8270,Sheet4!$C$2:$C$8270,Sheet3!$B12,Sheet4!$D$2:$D$8270,Sheet3!CN$3,Sheet4!$E$2:$E$8270,Sheet3!CN$4,Sheet4!$A$2:$A$8270,Sheet3!$B$1,Sheet4!$B$2:$B$8270,Sheet3!$A$3)","v":0},{"$f":"+SUMIFS(Sheet4!$DM$2:$DM$8270,Sheet4!$C$2:$C$8270,Sheet3!$B12,Sheet4!$D$2:$D$8270,Sheet3!CO$3,Sheet4!$E$2:$E$8270,Sheet3!CO$4,Sheet4!$A$2:$A$8270,Sheet3!$B$1,Sheet4!$B$2:$B$8270,Sheet3!$A$3)","v":0},{"$f":"+IF(SUMIFS(Sheet4!$DN$2:$DN$8270,Sheet4!$C$2:$C$8270,Sheet3!$B12,Sheet4!$D$2:$D$8270,Sheet3!CP$3,Sheet4!$A$2:$A$8270,Sheet3!$B$1,Sheet4!$B$2:$B$8270,Sheet3!$A$3)<3,0,SUMIFS(Sheet4!$DN$2:$DN$8270,Sheet4!$C$2:$C$8270,Sheet3!$B12,Sheet4!$D$2:$D$8270,Sheet3!CP$3,Sheet4!$A$2:$A$8270,Sheet3!$B$1,Sheet4!$B$2:$B$8270,Sheet3!$A$3))","v":31},{"$f":"+IF(SUMIFS(Sheet4!$DN$2:$DN$8270,Sheet4!$C$2:$C$8270,Sheet3!$B12,Sheet4!$D$2:$D$8270,Sheet3!CQ$3,Sheet4!$A$2:$A$8270,Sheet3!$B$1,Sheet4!$B$2:$B$8270,Sheet3!$A$3)<3,0,SUMIFS(Sheet4!$DN$2:$DN$8270,Sheet4!$C$2:$C$8270,Sheet3!$B12,Sheet4!$D$2:$D$8270,Sheet3!CQ$3,Sheet4!$A$2:$A$8270,Sheet3!$B$1,Sheet4!$B$2:$B$8270,Sheet3!$A$3))","v":208},{"$f":"+IF(SUMIFS(Sheet4!$DN$2:$DN$8270,Sheet4!$C$2:$C$8270,Sheet3!$B12,Sheet4!$D$2:$D$8270,Sheet3!CR$3,Sheet4!$A$2:$A$8270,Sheet3!$B$1,Sheet4!$B$2:$B$8270,Sheet3!$A$3)<3,0,SUMIFS(Sheet4!$DN$2:$DN$8270,Sheet4!$C$2:$C$8270,Sheet3!$B12,Sheet4!$D$2:$D$8270,Sheet3!CR$3,Sheet4!$A$2:$A$8270,Sheet3!$B$1,Sheet4!$B$2:$B$8270,Sheet3!$A$3))","v":622},{"$f":"+IF(SUMIFS(Sheet4!$DN$2:$DN$8270,Sheet4!$C$2:$C$8270,Sheet3!$B12,Sheet4!$D$2:$D$8270,Sheet3!CS$3,Sheet4!$A$2:$A$8270,Sheet3!$B$1,Sheet4!$B$2:$B$8270,Sheet3!$A$3)<3,0,SUMIFS(Sheet4!$DN$2:$DN$8270,Sheet4!$C$2:$C$8270,Sheet3!$B12,Sheet4!$D$2:$D$8270,Sheet3!CS$3,Sheet4!$A$2:$A$8270,Sheet3!$B$1,Sheet4!$B$2:$B$8270,Sheet3!$A$3))","v":0},{"$f":"+IF(SUMIFS(Sheet4!$DN$2:$DN$8270,Sheet4!$C$2:$C$8270,Sheet3!$B12,Sheet4!$D$2:$D$8270,Sheet3!CT$3,Sheet4!$A$2:$A$8270,Sheet3!$B$1,Sheet4!$B$2:$B$8270,Sheet3!$A$3)<3,0,SUMIFS(Sheet4!$DN$2:$DN$8270,Sheet4!$C$2:$C$8270,Sheet3!$B12,Sheet4!$D$2:$D$8270,Sheet3!CT$3,Sheet4!$A$2:$A$8270,Sheet3!$B$1,Sheet4!$B$2:$B$8270,Sheet3!$A$3))","v":3},{"$f":"+IF(SUMIFS(Sheet4!$DN$2:$DN$8270,Sheet4!$C$2:$C$8270,Sheet3!$B12,Sheet4!$D$2:$D$8270,Sheet3!CU$3,Sheet4!$A$2:$A$8270,Sheet3!$B$1,Sheet4!$B$2:$B$8270,Sheet3!$A$3)<3,0,SUMIFS(Sheet4!$DN$2:$DN$8270,Sheet4!$C$2:$C$8270,Sheet3!$B12,Sheet4!$D$2:$D$8270,Sheet3!CU$3,Sheet4!$A$2:$A$8270,Sheet3!$B$1,Sheet4!$B$2:$B$8270,Sheet3!$A$3))","v":1292},{"$f":"+IF(SUMIFS(Sheet4!$DN$2:$DN$8270,Sheet4!$C$2:$C$8270,Sheet3!$B12,Sheet4!$D$2:$D$8270,Sheet3!CV$3,Sheet4!$A$2:$A$8270,Sheet3!$B$1,Sheet4!$B$2:$B$8270,Sheet3!$A$3)<3,0,SUMIFS(Sheet4!$DN$2:$DN$8270,Sheet4!$C$2:$C$8270,Sheet3!$B12,Sheet4!$D$2:$D$8270,Sheet3!CV$3,Sheet4!$A$2:$A$8270,Sheet3!$B$1,Sheet4!$B$2:$B$8270,Sheet3!$A$3))","v":113},{"$f":"+IF(SUMIFS(Sheet4!$DN$2:$DN$8270,Sheet4!$C$2:$C$8270,Sheet3!$B12,Sheet4!$D$2:$D$8270,Sheet3!CW$3,Sheet4!$A$2:$A$8270,Sheet3!$B$1,Sheet4!$B$2:$B$8270,Sheet3!$A$3)<3,0,SUMIFS(Sheet4!$DN$2:$DN$8270,Sheet4!$C$2:$C$8270,Sheet3!$B12,Sheet4!$D$2:$D$8270,Sheet3!CW$3,Sheet4!$A$2:$A$8270,Sheet3!$B$1,Sheet4!$B$2:$B$8270,Sheet3!$A$3))","v":1303},{"$f":"+IF(SUMIFS(Sheet4!$DN$2:$DN$8270,Sheet4!$C$2:$C$8270,Sheet3!$B12,Sheet4!$D$2:$D$8270,Sheet3!CX$3,Sheet4!$A$2:$A$8270,Sheet3!$B$1,Sheet4!$B$2:$B$8270,Sheet3!$A$3)<3,0,SUMIFS(Sheet4!$DN$2:$DN$8270,Sheet4!$C$2:$C$8270,Sheet3!$B12,Sheet4!$D$2:$D$8270,Sheet3!CX$3,Sheet4!$A$2:$A$8270,Sheet3!$B$1,Sheet4!$B$2:$B$8270,Sheet3!$A$3))","v":239},{"$f":"+IF(SUMIFS(Sheet4!$DN$2:$DN$8270,Sheet4!$C$2:$C$8270,Sheet3!$B12,Sheet4!$D$2:$D$8270,Sheet3!CY$3,Sheet4!$A$2:$A$8270,Sheet3!$B$1,Sheet4!$B$2:$B$8270,Sheet3!$A$3)<3,0,SUMIFS(Sheet4!$DN$2:$DN$8270,Sheet4!$C$2:$C$8270,Sheet3!$B12,Sheet4!$D$2:$D$8270,Sheet3!CY$3,Sheet4!$A$2:$A$8270,Sheet3!$B$1,Sheet4!$B$2:$B$8270,Sheet3!$A$3))","v":4172},{"$f":"+IF(SUMIFS(Sheet4!$DN$2:$DN$8270,Sheet4!$C$2:$C$8270,Sheet3!$B12,Sheet4!$D$2:$D$8270,Sheet3!CZ$3,Sheet4!$A$2:$A$8270,Sheet3!$B$1,Sheet4!$B$2:$B$8270,Sheet3!$A$3)<3,0,SUMIFS(Sheet4!$DN$2:$DN$8270,Sheet4!$C$2:$C$8270,Sheet3!$B12,Sheet4!$D$2:$D$8270,Sheet3!CZ$3,Sheet4!$A$2:$A$8270,Sheet3!$B$1,Sheet4!$B$2:$B$8270,Sheet3!$A$3))","v":84},{"$f":"+IF(SUMIFS(Sheet4!$DN$2:$DN$8270,Sheet4!$C$2:$C$8270,Sheet3!$B12,Sheet4!$D$2:$D$8270,Sheet3!DA$3,Sheet4!$A$2:$A$8270,Sheet3!$B$1,Sheet4!$B$2:$B$8270,Sheet3!$A$3)<3,0,SUMIFS(Sheet4!$DN$2:$DN$8270,Sheet4!$C$2:$C$8270,Sheet3!$B12,Sheet4!$D$2:$D$8270,Sheet3!DA$3,Sheet4!$A$2:$A$8270,Sheet3!$B$1,Sheet4!$B$2:$B$8270,Sheet3!$A$3))","v":210},{"$f":"+IF(SUMIFS(Sheet4!$DN$2:$DN$8270,Sheet4!$C$2:$C$8270,Sheet3!$B12,Sheet4!$D$2:$D$8270,Sheet3!DB$3,Sheet4!$A$2:$A$8270,Sheet3!$B$1,Sheet4!$B$2:$B$8270,Sheet3!$A$3)<3,0,SUMIFS(Sheet4!$DN$2:$DN$8270,Sheet4!$C$2:$C$8270,Sheet3!$B12,Sheet4!$D$2:$D$8270,Sheet3!DB$3,Sheet4!$A$2:$A$8270,Sheet3!$B$1,Sheet4!$B$2:$B$8270,Sheet3!$A$3))","v":1465},{"$f":"+IF(SUMIFS(Sheet4!$DN$2:$DN$8270,Sheet4!$C$2:$C$8270,Sheet3!$B12,Sheet4!$D$2:$D$8270,Sheet3!DC$3,Sheet4!$A$2:$A$8270,Sheet3!$B$1,Sheet4!$B$2:$B$8270,Sheet3!$A$3)<3,0,SUMIFS(Sheet4!$DN$2:$DN$8270,Sheet4!$C$2:$C$8270,Sheet3!$B12,Sheet4!$D$2:$D$8270,Sheet3!DC$3,Sheet4!$A$2:$A$8270,Sheet3!$B$1,Sheet4!$B$2:$B$8270,Sheet3!$A$3))","v":1660},{"$f":"+IF(SUMIFS(Sheet4!$DN$2:$DN$8270,Sheet4!$C$2:$C$8270,Sheet3!$B12,Sheet4!$D$2:$D$8270,Sheet3!DD$3,Sheet4!$A$2:$A$8270,Sheet3!$B$1,Sheet4!$B$2:$B$8270,Sheet3!$A$3)<3,0,SUMIFS(Sheet4!$DN$2:$DN$8270,Sheet4!$C$2:$C$8270,Sheet3!$B12,Sheet4!$D$2:$D$8270,Sheet3!DD$3,Sheet4!$A$2:$A$8270,Sheet3!$B$1,Sheet4!$B$2:$B$8270,Sheet3!$A$3))","v":766},{"$f":"+IF(SUMIFS(Sheet4!$DN$2:$DN$8270,Sheet4!$C$2:$C$8270,Sheet3!$B12,Sheet4!$D$2:$D$8270,Sheet3!DE$3,Sheet4!$A$2:$A$8270,Sheet3!$B$1,Sheet4!$B$2:$B$8270,Sheet3!$A$3)<3,0,SUMIFS(Sheet4!$DN$2:$DN$8270,Sheet4!$C$2:$C$8270,Sheet3!$B12,Sheet4!$D$2:$D$8270,Sheet3!DE$3,Sheet4!$A$2:$A$8270,Sheet3!$B$1,Sheet4!$B$2:$B$8270,Sheet3!$A$3))","v":482},{"$f":"+IF(SUMIFS(Sheet4!$DN$2:$DN$8270,Sheet4!$C$2:$C$8270,Sheet3!$B12,Sheet4!$D$2:$D$8270,Sheet3!DF$3,Sheet4!$A$2:$A$8270,Sheet3!$B$1,Sheet4!$B$2:$B$8270,Sheet3!$A$3)<3,0,SUMIFS(Sheet4!$DN$2:$DN$8270,Sheet4!$C$2:$C$8270,Sheet3!$B12,Sheet4!$D$2:$D$8270,Sheet3!DF$3,Sheet4!$A$2:$A$8270,Sheet3!$B$1,Sheet4!$B$2:$B$8270,Sheet3!$A$3))","v":0},{"$f":"+IF(SUMIFS(Sheet4!$DN$2:$DN$8270,Sheet4!$C$2:$C$8270,Sheet3!$B12,Sheet4!$D$2:$D$8270,Sheet3!DG$3,Sheet4!$A$2:$A$8270,Sheet3!$B$1,Sheet4!$B$2:$B$8270,Sheet3!$A$3)<3,0,SUMIFS(Sheet4!$DN$2:$DN$8270,Sheet4!$C$2:$C$8270,Sheet3!$B12,Sheet4!$D$2:$D$8270,Sheet3!DG$3,Sheet4!$A$2:$A$8270,Sheet3!$B$1,Sheet4!$B$2:$B$8270,Sheet3!$A$3))","v":50},{"$f":"+IF(SUMIFS(Sheet4!$DN$2:$DN$8270,Sheet4!$C$2:$C$8270,Sheet3!$B12,Sheet4!$E$2:$E$8270,Sheet3!DH$4,Sheet4!$A$2:$A$8270,Sheet3!$B$1,Sheet4!$B$2:$B$8270,Sheet3!$A$3)<3,0,SUMIFS(Sheet4!$DN$2:$DN$8270,Sheet4!$C$2:$C$8270,Sheet3!$B12,Sheet4!$E$2:$E$8270,Sheet3!DH$4,Sheet4!$A$2:$A$8270,Sheet3!$B$1,Sheet4!$B$2:$B$8270,Sheet3!$A$3))","v":7773},{"$f":"+IF(SUMIFS(Sheet4!$DN$2:$DN$8270,Sheet4!$C$2:$C$8270,Sheet3!$B12,Sheet4!$E$2:$E$8270,Sheet3!DI$4,Sheet4!$A$2:$A$8270,Sheet3!$B$1,Sheet4!$B$2:$B$8270,Sheet3!$A$3)<3,0,SUMIFS(Sheet4!$DN$2:$DN$8270,Sheet4!$C$2:$C$8270,Sheet3!$B12,Sheet4!$E$2:$E$8270,Sheet3!DI$4,Sheet4!$A$2:$A$8270,Sheet3!$B$1,Sheet4!$B$2:$B$8270,Sheet3!$A$3))","v":4365},{"$f":"+IF(SUMIFS(Sheet4!$DN$2:$DN$8270,Sheet4!$C$2:$C$8270,Sheet3!$B12,Sheet4!$E$2:$E$8270,Sheet3!DJ$4,Sheet4!$A$2:$A$8270,Sheet3!$B$1,Sheet4!$B$2:$B$8270,Sheet3!$A$3)<3,0,SUMIFS(Sheet4!$DN$2:$DN$8270,Sheet4!$C$2:$C$8270,Sheet3!$B12,Sheet4!$E$2:$E$8270,Sheet3!DJ$4,Sheet4!$A$2:$A$8270,Sheet3!$B$1,Sheet4!$B$2:$B$8270,Sheet3!$A$3))","v":552},{"$f":"+IF(SUMIFS(Sheet4!$DN$2:$DN$8270,Sheet4!$C$2:$C$8270,Sheet3!$B12,Sheet4!$E$2:$E$8270,Sheet3!DK$4,Sheet4!$A$2:$A$8270,Sheet3!$B$1,Sheet4!$B$2:$B$8270,Sheet3!$A$3)<3,0,SUMIFS(Sheet4!$DN$2:$DN$8270,Sheet4!$C$2:$C$8270,Sheet3!$B12,Sheet4!$E$2:$E$8270,Sheet3!DK$4,Sheet4!$A$2:$A$8270,Sheet3!$B$1,Sheet4!$B$2:$B$8270,Sheet3!$A$3))","v":10},{"$f":"+IF(SUMIFS(Sheet4!$DN$2:$DN$8270,Sheet4!$C$2:$C$8270,Sheet3!$B12,Sheet4!$E$2:$E$8270,Sheet3!DL$4,Sheet4!$A$2:$A$8270,Sheet3!$B$1,Sheet4!$B$2:$B$8270,Sheet3!$A$3)<3,0,SUMIFS(Sheet4!$DN$2:$DN$8270,Sheet4!$C$2:$C$8270,Sheet3!$B12,Sheet4!$E$2:$E$8270,Sheet3!DL$4,Sheet4!$A$2:$A$8270,Sheet3!$B$1,Sheet4!$B$2:$B$8270,Sheet3!$A$3))","v":0}]
[1,"11C","Tâmega e Sousa",{"$f":"+SUMIFS(Sheet4!$DM$2:$DM$8270,Sheet4!$C$2:$C$8270,Sheet3!$B13,Sheet4!$D$2:$D$8270,Sheet3!D$3,Sheet4!$E$2:$E$8270,Sheet3!D$4,Sheet4!$A$2:$A$8270,Sheet3!$B$1,Sheet4!$B$2:$B$8270,Sheet3!$A$3)","v":0},{"$f":"+SUMIFS(Sheet4!$DM$2:$DM$8270,Sheet4!$C$2:$C$8270,Sheet3!$B13,Sheet4!$D$2:$D$8270,Sheet3!E$3,Sheet4!$E$2:$E$8270,Sheet3!E$4,Sheet4!$A$2:$A$8270,Sheet3!$B$1,Sheet4!$B$2:$B$8270,Sheet3!$A$3)","v":0},{"$f":"+SUMIFS(Sheet4!$DM$2:$DM$8270,Sheet4!$C$2:$C$8270,Sheet3!$B13,Sheet4!$D$2:$D$8270,Sheet3!F$3,Sheet4!$E$2:$E$8270,Sheet3!F$4,Sheet4!$A$2:$A$8270,Sheet3!$B$1,Sheet4!$B$2:$B$8270,Sheet3!$A$3)","v":0},{"$f":"+SUMIFS(Sheet4!$DM$2:$DM$8270,Sheet4!$C$2:$C$8270,Sheet3!$B13,Sheet4!$D$2:$D$8270,Sheet3!G$3,Sheet4!$E$2:$E$8270,Sheet3!G$4,Sheet4!$A$2:$A$8270,Sheet3!$B$1,Sheet4!$B$2:$B$8270,Sheet3!$A$3)","v":0},{"$f":"+SUMIFS(Sheet4!$DM$2:$DM$8270,Sheet4!$C$2:$C$8270,Sheet3!$B13,Sheet4!$D$2:$D$8270,Sheet3!H$3,Sheet4!$E$2:$E$8270,Sheet3!H$4,Sheet4!$A$2:$A$8270,Sheet3!$B$1,Sheet4!$B$2:$B$8270,Sheet3!$A$3)","v":0},{"$f":"+SUMIFS(Sheet4!$DM$2:$DM$8270,Sheet4!$C$2:$C$8270,Sheet3!$B13,Sheet4!$D$2:$D$8270,Sheet3!I$3,Sheet4!$E$2:$E$8270,Sheet3!I$4,Sheet4!$A$2:$A$8270,Sheet3!$B$1,Sheet4!$B$2:$B$8270,Sheet3!$A$3)","v":537},{"$f":"+SUMIFS(Sheet4!$DM$2:$DM$8270,Sheet4!$C$2:$C$8270,Sheet3!$B13,Sheet4!$D$2:$D$8270,Sheet3!J$3,Sheet4!$E$2:$E$8270,Sheet3!J$4,Sheet4!$A$2:$A$8270,Sheet3!$B$1,Sheet4!$B$2:$B$8270,Sheet3!$A$3)","v":16},{"$f":"+SUMIFS(Sheet4!$DM$2:$DM$8270,Sheet4!$C$2:$C$8270,Sheet3!$B13,Sheet4!$D$2:$D$8270,Sheet3!K$3,Sheet4!$E$2:$E$8270,Sheet3!K$4,Sheet4!$A$2:$A$8270,Sheet3!$B$1,Sheet4!$B$2:$B$8270,Sheet3!$A$3)","v":0},{"$f":"+SUMIFS(Sheet4!$DM$2:$DM$8270,Sheet4!$C$2:$C$8270,Sheet3!$B13,Sheet4!$D$2:$D$8270,Sheet3!L$3,Sheet4!$E$2:$E$8270,Sheet3!L$4,Sheet4!$A$2:$A$8270,Sheet3!$B$1,Sheet4!$B$2:$B$8270,Sheet3!$A$3)","v":0},{"$f":"+SUMIFS(Sheet4!$DM$2:$DM$8270,Sheet4!$C$2:$C$8270,Sheet3!$B13,Sheet4!$D$2:$D$8270,Sheet3!M$3,Sheet4!$E$2:$E$8270,Sheet3!M$4,Sheet4!$A$2:$A$8270,Sheet3!$B$1,Sheet4!$B$2:$B$8270,Sheet3!$A$3)","v":0},{"$f":"+SUMIFS(Sheet4!$DM$2:$DM$8270,Sheet4!$C$2:$C$8270,Sheet3!$B13,Sheet4!$D$2:$D$8270,Sheet3!N$3,Sheet4!$E$2:$E$8270,Sheet3!N$4,Sheet4!$A$2:$A$8270,Sheet3!$B$1,Sheet4!$B$2:$B$8270,Sheet3!$A$3)","v":48},{"$f":"+SUMIFS(Sheet4!$DM$2:$DM$8270,Sheet4!$C$2:$C$8270,Sheet3!$B13,Sheet4!$D$2:$D$8270,Sheet3!O$3,Sheet4!$E$2:$E$8270,Sheet3!O$4,Sheet4!$A$2:$A$8270,Sheet3!$B$1,Sheet4!$B$2:$B$8270,Sheet3!$A$3)","v":5},{"$f":"+SUMIFS(Sheet4!$DM$2:$DM$8270,Sheet4!$C$2:$C$8270,Sheet3!$B13,Sheet4!$D$2:$D$8270,Sheet3!P$3,Sheet4!$E$2:$E$8270,Sheet3!P$4,Sheet4!$A$2:$A$8270,Sheet3!$B$1,Sheet4!$B$2:$B$8270,Sheet3!$A$3)","v":0},{"$f":"+SUMIFS(Sheet4!$DM$2:$DM$8270,Sheet4!$C$2:$C$8270,Sheet3!$B13,Sheet4!$D$2:$D$8270,Sheet3!Q$3,Sheet4!$E$2:$E$8270,Sheet3!Q$4,Sheet4!$A$2:$A$8270,Sheet3!$B$1,Sheet4!$B$2:$B$8270,Sheet3!$A$3)","v":0},{"$f":"+SUMIFS(Sheet4!$DM$2:$DM$8270,Sheet4!$C$2:$C$8270,Sheet3!$B13,Sheet4!$D$2:$D$8270,Sheet3!R$3,Sheet4!$E$2:$E$8270,Sheet3!R$4,Sheet4!$A$2:$A$8270,Sheet3!$B$1,Sheet4!$B$2:$B$8270,Sheet3!$A$3)","v":0},{"$f":"+SUMIFS(Sheet4!$DM$2:$DM$8270,Sheet4!$C$2:$C$8270,Sheet3!$B13,Sheet4!$D$2:$D$8270,Sheet3!S$3,Sheet4!$E$2:$E$8270,Sheet3!S$4,Sheet4!$A$2:$A$8270,Sheet3!$B$1,Sheet4!$B$2:$B$8270,Sheet3!$A$3)","v":0},{"$f":"+SUMIFS(Sheet4!$DM$2:$DM$8270,Sheet4!$C$2:$C$8270,Sheet3!$B13,Sheet4!$D$2:$D$8270,Sheet3!T$3,Sheet4!$E$2:$E$8270,Sheet3!T$4,Sheet4!$A$2:$A$8270,Sheet3!$B$1,Sheet4!$B$2:$B$8270,Sheet3!$A$3)","v":0},{"$f":"+SUMIFS(Sheet4!$DM$2:$DM$8270,Sheet4!$C$2:$C$8270,Sheet3!$B13,Sheet4!$D$2:$D$8270,Sheet3!U$3,Sheet4!$E$2:$E$8270,Sheet3!U$4,Sheet4!$A$2:$A$8270,Sheet3!$B$1,Sheet4!$B$2:$B$8270,Sheet3!$A$3)","v":0},{"$f":"+SUMIFS(Sheet4!$DM$2:$DM$8270,Sheet4!$C$2:$C$8270,Sheet3!$B13,Sheet4!$D$2:$D$8270,Sheet3!V$3,Sheet4!$E$2:$E$8270,Sheet3!V$4,Sheet4!$A$2:$A$8270,Sheet3!$B$1,Sheet4!$B$2:$B$8270,Sheet3!$A$3)","v":0},{"$f":"+SUMIFS(Sheet4!$DM$2:$DM$8270,Sheet4!$C$2:$C$8270,Sheet3!$B13,Sheet4!$D$2:$D$8270,Sheet3!W$3,Sheet4!$E$2:$E$8270,Sheet3!W$4,Sheet4!$A$2:$A$8270,Sheet3!$B$1,Sheet4!$B$2:$B$8270,Sheet3!$A$3)","v":0},{"$f":"+SUMIFS(Sheet4!$DM$2:$DM$8270,Sheet4!$C$2:$C$8270,Sheet3!$B13,Sheet4!$D$2:$D$8270,Sheet3!X$3,Sheet4!$E$2:$E$8270,Sheet3!X$4,Sheet4!$A$2:$A$8270,Sheet3!$B$1,Sheet4!$B$2:$B$8270,Sheet3!$A$3)","v":0},{"$f":"+SUMIFS(Sheet4!$DM$2:$DM$8270,Sheet4!$C$2:$C$8270,Sheet3!$B13,Sheet4!$D$2:$D$8270,Sheet3!Y$3,Sheet4!$E$2:$E$8270,Sheet3!Y$4,Sheet4!$A$2:$A$8270,Sheet3!$B$1,Sheet4!$B$2:$B$8270,Sheet3!$A$3)","v":0},{"$f":"+SUMIFS(Sheet4!$DM$2:$DM$8270,Sheet4!$C$2:$C$8270,Sheet3!$B13,Sheet4!$D$2:$D$8270,Sheet3!Z$3,Sheet4!$E$2:$E$8270,Sheet3!Z$4,Sheet4!$A$2:$A$8270,Sheet3!$B$1,Sheet4!$B$2:$B$8270,Sheet3!$A$3)","v":0},{"$f":"+SUMIFS(Sheet4!$DM$2:$DM$8270,Sheet4!$C$2:$C$8270,Sheet3!$B13,Sheet4!$D$2:$D$8270,Sheet3!AA$3,Sheet4!$E$2:$E$8270,Sheet3!AA$4,Sheet4!$A$2:$A$8270,Sheet3!$B$1,Sheet4!$B$2:$B$8270,Sheet3!$A$3)","v":0},{"$f":"+SUMIFS(Sheet4!$DM$2:$DM$8270,Sheet4!$C$2:$C$8270,Sheet3!$B13,Sheet4!$D$2:$D$8270,Sheet3!AB$3,Sheet4!$E$2:$E$8270,Sheet3!AB$4,Sheet4!$A$2:$A$8270,Sheet3!$B$1,Sheet4!$B$2:$B$8270,Sheet3!$A$3)","v":0},{"$f":"+SUMIFS(Sheet4!$DM$2:$DM$8270,Sheet4!$C$2:$C$8270,Sheet3!$B13,Sheet4!$D$2:$D$8270,Sheet3!AC$3,Sheet4!$E$2:$E$8270,Sheet3!AC$4,Sheet4!$A$2:$A$8270,Sheet3!$B$1,Sheet4!$B$2:$B$8270,Sheet3!$A$3)","v":376},{"$f":"+SUMIFS(Sheet4!$DM$2:$DM$8270,Sheet4!$C$2:$C$8270,Sheet3!$B13,Sheet4!$D$2:$D$8270,Sheet3!AD$3,Sheet4!$E$2:$E$8270,Sheet3!AD$4,Sheet4!$A$2:$A$8270,Sheet3!$B$1,Sheet4!$B$2:$B$8270,Sheet3!$A$3)","v":6},{"$f":"+SUMIFS(Sheet4!$DM$2:$DM$8270,Sheet4!$C$2:$C$8270,Sheet3!$B13,Sheet4!$D$2:$D$8270,Sheet3!AE$3,Sheet4!$E$2:$E$8270,Sheet3!AE$4,Sheet4!$A$2:$A$8270,Sheet3!$B$1,Sheet4!$B$2:$B$8270,Sheet3!$A$3)","v":0},{"$f":"+SUMIFS(Sheet4!$DM$2:$DM$8270,Sheet4!$C$2:$C$8270,Sheet3!$B13,Sheet4!$D$2:$D$8270,Sheet3!AF$3,Sheet4!$E$2:$E$8270,Sheet3!AF$4,Sheet4!$A$2:$A$8270,Sheet3!$B$1,Sheet4!$B$2:$B$8270,Sheet3!$A$3)","v":0},{"$f":"+SUMIFS(Sheet4!$DM$2:$DM$8270,Sheet4!$C$2:$C$8270,Sheet3!$B13,Sheet4!$D$2:$D$8270,Sheet3!AG$3,Sheet4!$E$2:$E$8270,Sheet3!AG$4,Sheet4!$A$2:$A$8270,Sheet3!$B$1,Sheet4!$B$2:$B$8270,Sheet3!$A$3)","v":0},{"$f":"+SUMIFS(Sheet4!$DM$2:$DM$8270,Sheet4!$C$2:$C$8270,Sheet3!$B13,Sheet4!$D$2:$D$8270,Sheet3!AH$3,Sheet4!$E$2:$E$8270,Sheet3!AH$4,Sheet4!$A$2:$A$8270,Sheet3!$B$1,Sheet4!$B$2:$B$8270,Sheet3!$A$3)","v":558},{"$f":"+SUMIFS(Sheet4!$DM$2:$DM$8270,Sheet4!$C$2:$C$8270,Sheet3!$B13,Sheet4!$D$2:$D$8270,Sheet3!AI$3,Sheet4!$E$2:$E$8270,Sheet3!AI$4,Sheet4!$A$2:$A$8270,Sheet3!$B$1,Sheet4!$B$2:$B$8270,Sheet3!$A$3)","v":223},{"$f":"+SUMIFS(Sheet4!$DM$2:$DM$8270,Sheet4!$C$2:$C$8270,Sheet3!$B13,Sheet4!$D$2:$D$8270,Sheet3!AJ$3,Sheet4!$E$2:$E$8270,Sheet3!AJ$4,Sheet4!$A$2:$A$8270,Sheet3!$B$1,Sheet4!$B$2:$B$8270,Sheet3!$A$3)","v":25},{"$f":"+SUMIFS(Sheet4!$DM$2:$DM$8270,Sheet4!$C$2:$C$8270,Sheet3!$B13,Sheet4!$D$2:$D$8270,Sheet3!AK$3,Sheet4!$E$2:$E$8270,Sheet3!AK$4,Sheet4!$A$2:$A$8270,Sheet3!$B$1,Sheet4!$B$2:$B$8270,Sheet3!$A$3)","v":0},{"$f":"+SUMIFS(Sheet4!$DM$2:$DM$8270,Sheet4!$C$2:$C$8270,Sheet3!$B13,Sheet4!$D$2:$D$8270,Sheet3!AL$3,Sheet4!$E$2:$E$8270,Sheet3!AL$4,Sheet4!$A$2:$A$8270,Sheet3!$B$1,Sheet4!$B$2:$B$8270,Sheet3!$A$3)","v":0},{"$f":"+SUMIFS(Sheet4!$DM$2:$DM$8270,Sheet4!$C$2:$C$8270,Sheet3!$B13,Sheet4!$D$2:$D$8270,Sheet3!AM$3,Sheet4!$E$2:$E$8270,Sheet3!AM$4,Sheet4!$A$2:$A$8270,Sheet3!$B$1,Sheet4!$B$2:$B$8270,Sheet3!$A$3)","v":476},{"$f":"+SUMIFS(Sheet4!$DM$2:$DM$8270,Sheet4!$C$2:$C$8270,Sheet3!$B13,Sheet4!$D$2:$D$8270,Sheet3!AN$3,Sheet4!$E$2:$E$8270,Sheet3!AN$4,Sheet4!$A$2:$A$8270,Sheet3!$B$1,Sheet4!$B$2:$B$8270,Sheet3!$A$3)","v":144},{"$f":"+SUMIFS(Sheet4!$DM$2:$DM$8270,Sheet4!$C$2:$C$8270,Sheet3!$B13,Sheet4!$D$2:$D$8270,Sheet3!AO$3,Sheet4!$E$2:$E$8270,Sheet3!AO$4,Sheet4!$A$2:$A$8270,Sheet3!$B$1,Sheet4!$B$2:$B$8270,Sheet3!$A$3)","v":0},{"$f":"+SUMIFS(Sheet4!$DM$2:$DM$8270,Sheet4!$C$2:$C$8270,Sheet3!$B13,Sheet4!$D$2:$D$8270,Sheet3!AP$3,Sheet4!$E$2:$E$8270,Sheet3!AP$4,Sheet4!$A$2:$A$8270,Sheet3!$B$1,Sheet4!$B$2:$B$8270,Sheet3!$A$3)","v":0},{"$f":"+SUMIFS(Sheet4!$DM$2:$DM$8270,Sheet4!$C$2:$C$8270,Sheet3!$B13,Sheet4!$D$2:$D$8270,Sheet3!AQ$3,Sheet4!$E$2:$E$8270,Sheet3!AQ$4,Sheet4!$A$2:$A$8270,Sheet3!$B$1,Sheet4!$B$2:$B$8270,Sheet3!$A$3)","v":0},{"$f":"+SUMIFS(Sheet4!$DM$2:$DM$8270,Sheet4!$C$2:$C$8270,Sheet3!$B13,Sheet4!$D$2:$D$8270,Sheet3!AR$3,Sheet4!$E$2:$E$8270,Sheet3!AR$4,Sheet4!$A$2:$A$8270,Sheet3!$B$1,Sheet4!$B$2:$B$8270,Sheet3!$A$3)","v":5},{"$f":"+SUMIFS(Sheet4!$DM$2:$DM$8270,Sheet4!$C$2:$C$8270,Sheet3!$B13,Sheet4!$D$2:$D$8270,Sheet3!AS$3,Sheet4!$E$2:$E$8270,Sheet3!AS$4,Sheet4!$A$2:$A$8270,Sheet3!$B$1,Sheet4!$B$2:$B$8270,Sheet3!$A$3)","v":0},{"$f":"+SUMIFS(Sheet4!$DM$2:$DM$8270,Sheet4!$C$2:$C$8270,Sheet3!$B13,Sheet4!$D$2:$D$8270,Sheet3!AT$3,Sheet4!$E$2:$E$8270,Sheet3!AT$4,Sheet4!$A$2:$A$8270,Sheet3!$B$1,Sheet4!$B$2:$B$8270,Sheet3!$A$3)","v":0},{"$f":"+SUMIFS(Sheet4!$DM$2:$DM$8270,Sheet4!$C$2:$C$8270,Sheet3!$B13,Sheet4!$D$2:$D$8270,Sheet3!AU$3,Sheet4!$E$2:$E$8270,Sheet3!AU$4,Sheet4!$A$2:$A$8270,Sheet3!$B$1,Sheet4!$B$2:$B$8270,Sheet3!$A$3)","v":0},{"$f":"+SUMIFS(Sheet4!$DM$2:$DM$8270,Sheet4!$C$2:$C$8270,Sheet3!$B13,Sheet4!$D$2:$D$8270,Sheet3!AV$3,Sheet4!$E$2:$E$8270,Sheet3!AV$4,Sheet4!$A$2:$A$8270,Sheet3!$B$1,Sheet4!$B$2:$B$8270,Sheet3!$A$3)","v":0},{"$f":"+SUMIFS(Sheet4!$DM$2:$DM$8270,Sheet4!$C$2:$C$8270,Sheet3!$B13,Sheet4!$D$2:$D$8270,Sheet3!AW$3,Sheet4!$E$2:$E$8270,Sheet3!AW$4,Sheet4!$A$2:$A$8270,Sheet3!$B$1,Sheet4!$B$2:$B$8270,Sheet3!$A$3)","v":2737},{"$f":"+SUMIFS(Sheet4!$DM$2:$DM$8270,Sheet4!$C$2:$C$8270,Sheet3!$B13,Sheet4!$D$2:$D$8270,Sheet3!AX$3,Sheet4!$E$2:$E$8270,Sheet3!AX$4,Sheet4!$A$2:$A$8270,Sheet3!$B$1,Sheet4!$B$2:$B$8270,Sheet3!$A$3)","v":167},{"$f":"+SUMIFS(Sheet4!$DM$2:$DM$8270,Sheet4!$C$2:$C$8270,Sheet3!$B13,Sheet4!$D$2:$D$8270,Sheet3!AY$3,Sheet4!$E$2:$E$8270,Sheet3!AY$4,Sheet4!$A$2:$A$8270,Sheet3!$B$1,Sheet4!$B$2:$B$8270,Sheet3!$A$3)","v":3},{"$f":"+SUMIFS(Sheet4!$DM$2:$DM$8270,Sheet4!$C$2:$C$8270,Sheet3!$B13,Sheet4!$D$2:$D$8270,Sheet3!AZ$3,Sheet4!$E$2:$E$8270,Sheet3!AZ$4,Sheet4!$A$2:$A$8270,Sheet3!$B$1,Sheet4!$B$2:$B$8270,Sheet3!$A$3)","v":0},{"$f":"+SUMIFS(Sheet4!$DM$2:$DM$8270,Sheet4!$C$2:$C$8270,Sheet3!$B13,Sheet4!$D$2:$D$8270,Sheet3!BA$3,Sheet4!$E$2:$E$8270,Sheet3!BA$4,Sheet4!$A$2:$A$8270,Sheet3!$B$1,Sheet4!$B$2:$B$8270,Sheet3!$A$3)","v":0},{"$f":"+SUMIFS(Sheet4!$DM$2:$DM$8270,Sheet4!$C$2:$C$8270,Sheet3!$B13,Sheet4!$D$2:$D$8270,Sheet3!BB$3,Sheet4!$E$2:$E$8270,Sheet3!BB$4,Sheet4!$A$2:$A$8270,Sheet3!$B$1,Sheet4!$B$2:$B$8270,Sheet3!$A$3)","v":6},{"$f":"+SUMIFS(Sheet4!$DM$2:$DM$8270,Sheet4!$C$2:$C$8270,Sheet3!$B13,Sheet4!$D$2:$D$8270,Sheet3!BC$3,Sheet4!$E$2:$E$8270,Sheet3!BC$4,Sheet4!$A$2:$A$8270,Sheet3!$B$1,Sheet4!$B$2:$B$8270,Sheet3!$A$3)","v":20},{"$f":"+SUMIFS(Sheet4!$DM$2:$DM$8270,Sheet4!$C$2:$C$8270,Sheet3!$B13,Sheet4!$D$2:$D$8270,Sheet3!BD$3,Sheet4!$E$2:$E$8270,Sheet3!BD$4,Sheet4!$A$2:$A$8270,Sheet3!$B$1,Sheet4!$B$2:$B$8270,Sheet3!$A$3)","v":3},{"$f":"+SUMIFS(Sheet4!$DM$2:$DM$8270,Sheet4!$C$2:$C$8270,Sheet3!$B13,Sheet4!$D$2:$D$8270,Sheet3!BE$3,Sheet4!$E$2:$E$8270,Sheet3!BE$4,Sheet4!$A$2:$A$8270,Sheet3!$B$1,Sheet4!$B$2:$B$8270,Sheet3!$A$3)","v":0},{"$f":"+SUMIFS(Sheet4!$DM$2:$DM$8270,Sheet4!$C$2:$C$8270,Sheet3!$B13,Sheet4!$D$2:$D$8270,Sheet3!BF$3,Sheet4!$E$2:$E$8270,Sheet3!BF$4,Sheet4!$A$2:$A$8270,Sheet3!$B$1,Sheet4!$B$2:$B$8270,Sheet3!$A$3)","v":0},{"$f":"+SUMIFS(Sheet4!$DM$2:$DM$8270,Sheet4!$C$2:$C$8270,Sheet3!$B13,Sheet4!$D$2:$D$8270,Sheet3!BG$3,Sheet4!$E$2:$E$8270,Sheet3!BG$4,Sheet4!$A$2:$A$8270,Sheet3!$B$1,Sheet4!$B$2:$B$8270,Sheet3!$A$3)","v":326},{"$f":"+SUMIFS(Sheet4!$DM$2:$DM$8270,Sheet4!$C$2:$C$8270,Sheet3!$B13,Sheet4!$D$2:$D$8270,Sheet3!BH$3,Sheet4!$E$2:$E$8270,Sheet3!BH$4,Sheet4!$A$2:$A$8270,Sheet3!$B$1,Sheet4!$B$2:$B$8270,Sheet3!$A$3)","v":74},{"$f":"+SUMIFS(Sheet4!$DM$2:$DM$8270,Sheet4!$C$2:$C$8270,Sheet3!$B13,Sheet4!$D$2:$D$8270,Sheet3!BI$3,Sheet4!$E$2:$E$8270,Sheet3!BI$4,Sheet4!$A$2:$A$8270,Sheet3!$B$1,Sheet4!$B$2:$B$8270,Sheet3!$A$3)","v":3},{"$f":"+SUMIFS(Sheet4!$DM$2:$DM$8270,Sheet4!$C$2:$C$8270,Sheet3!$B13,Sheet4!$D$2:$D$8270,Sheet3!BJ$3,Sheet4!$E$2:$E$8270,Sheet3!BJ$4,Sheet4!$A$2:$A$8270,Sheet3!$B$1,Sheet4!$B$2:$B$8270,Sheet3!$A$3)","v":0},{"$f":"+SUMIFS(Sheet4!$DM$2:$DM$8270,Sheet4!$C$2:$C$8270,Sheet3!$B13,Sheet4!$D$2:$D$8270,Sheet3!BK$3,Sheet4!$E$2:$E$8270,Sheet3!BK$4,Sheet4!$A$2:$A$8270,Sheet3!$B$1,Sheet4!$B$2:$B$8270,Sheet3!$A$3)","v":0},{"$f":"+SUMIFS(Sheet4!$DM$2:$DM$8270,Sheet4!$C$2:$C$8270,Sheet3!$B13,Sheet4!$D$2:$D$8270,Sheet3!BL$3,Sheet4!$E$2:$E$8270,Sheet3!BL$4,Sheet4!$A$2:$A$8270,Sheet3!$B$1,Sheet4!$B$2:$B$8270,Sheet3!$A$3)","v":53},{"$f":"+SUMIFS(Sheet4!$DM$2:$DM$8270,Sheet4!$C$2:$C$8270,Sheet3!$B13,Sheet4!$D$2:$D$8270,Sheet3!BM$3,Sheet4!$E$2:$E$8270,Sheet3!BM$4,Sheet4!$A$2:$A$8270,Sheet3!$B$1,Sheet4!$B$2:$B$8270,Sheet3!$A$3)","v":42},{"$f":"+SUMIFS(Sheet4!$DM$2:$DM$8270,Sheet4!$C$2:$C$8270,Sheet3!$B13,Sheet4!$D$2:$D$8270,Sheet3!BN$3,Sheet4!$E$2:$E$8270,Sheet3!BN$4,Sheet4!$A$2:$A$8270,Sheet3!$B$1,Sheet4!$B$2:$B$8270,Sheet3!$A$3)","v":6},{"$f":"+SUMIFS(Sheet4!$DM$2:$DM$8270,Sheet4!$C$2:$C$8270,Sheet3!$B13,Sheet4!$D$2:$D$8270,Sheet3!BO$3,Sheet4!$E$2:$E$8270,Sheet3!BO$4,Sheet4!$A$2:$A$8270,Sheet3!$B$1,Sheet4!$B$2:$B$8270,Sheet3!$A$3)","v":0},{"$f":"+SUMIFS(Sheet4!$DM$2:$DM$8270,Sheet4!$C$2:$C$8270,Sheet3!$B13,Sheet4!$D$2:$D$8270,Sheet3!BP$3,Sheet4!$E$2:$E$8270,Sheet3!BP$4,Sheet4!$A$2:$A$8270,Sheet3!$B$1,Sheet4!$B$2:$B$8270,Sheet3!$A$3)","v":0},{"$f":"+SUMIFS(Sheet4!$DM$2:$DM$8270,Sheet4!$C$2:$C$8270,Sheet3!$B13,Sheet4!$D$2:$D$8270,Sheet3!BQ$3,Sheet4!$E$2:$E$8270,Sheet3!BQ$4,Sheet4!$A$2:$A$8270,Sheet3!$B$1,Sheet4!$B$2:$B$8270,Sheet3!$A$3)","v":244},{"$f":"+SUMIFS(Sheet4!$DM$2:$DM$8270,Sheet4!$C$2:$C$8270,Sheet3!$B13,Sheet4!$D$2:$D$8270,Sheet3!BR$3,Sheet4!$E$2:$E$8270,Sheet3!BR$4,Sheet4!$A$2:$A$8270,Sheet3!$B$1,Sheet4!$B$2:$B$8270,Sheet3!$A$3)","v":77},{"$f":"+SUMIFS(Sheet4!$DM$2:$DM$8270,Sheet4!$C$2:$C$8270,Sheet3!$B13,Sheet4!$D$2:$D$8270,Sheet3!BS$3,Sheet4!$E$2:$E$8270,Sheet3!BS$4,Sheet4!$A$2:$A$8270,Sheet3!$B$1,Sheet4!$B$2:$B$8270,Sheet3!$A$3)","v":17},{"$f":"+SUMIFS(Sheet4!$DM$2:$DM$8270,Sheet4!$C$2:$C$8270,Sheet3!$B13,Sheet4!$D$2:$D$8270,Sheet3!BT$3,Sheet4!$E$2:$E$8270,Sheet3!BT$4,Sheet4!$A$2:$A$8270,Sheet3!$B$1,Sheet4!$B$2:$B$8270,Sheet3!$A$3)","v":0},{"$f":"+SUMIFS(Sheet4!$DM$2:$DM$8270,Sheet4!$C$2:$C$8270,Sheet3!$B13,Sheet4!$D$2:$D$8270,Sheet3!BU$3,Sheet4!$E$2:$E$8270,Sheet3!BU$4,Sheet4!$A$2:$A$8270,Sheet3!$B$1,Sheet4!$B$2:$B$8270,Sheet3!$A$3)","v":0},{"$f":"+SUMIFS(Sheet4!$DM$2:$DM$8270,Sheet4!$C$2:$C$8270,Sheet3!$B13,Sheet4!$D$2:$D$8270,Sheet3!BV$3,Sheet4!$E$2:$E$8270,Sheet3!BV$4,Sheet4!$A$2:$A$8270,Sheet3!$B$1,Sheet4!$B$2:$B$8270,Sheet3!$A$3)","v":692},{"$f":"+SUMIFS(Sheet4!$DM$2:$DM$8270,Sheet4!$C$2:$C$8270,Sheet3!$B13,Sheet4!$D$2:$D$8270,Sheet3!BW$3,Sheet4!$E$2:$E$8270,Sheet3!BW$4,Sheet4!$A$2:$A$8270,Sheet3!$B$1,Sheet4!$B$2:$B$8270,Sheet3!$A$3)","v":67},{"$f":"+SUMIFS(Sheet4!$DM$2:$DM$8270,Sheet4!$C$2:$C$8270,Sheet3!$B13,Sheet4!$D$2:$D$8270,Sheet3!BX$3,Sheet4!$E$2:$E$8270,Sheet3!BX$4,Sheet4!$A$2:$A$8270,Sheet3!$B$1,Sheet4!$B$2:$B$8270,Sheet3!$A$3)","v":4},{"$f":"+SUMIFS(Sheet4!$DM$2:$DM$8270,Sheet4!$C$2:$C$8270,Sheet3!$B13,Sheet4!$D$2:$D$8270,Sheet3!BY$3,Sheet4!$E$2:$E$8270,Sheet3!BY$4,Sheet4!$A$2:$A$8270,Sheet3!$B$1,Sheet4!$B$2:$B$8270,Sheet3!$A$3)","v":0},{"$f":"+SUMIFS(Sheet4!$DM$2:$DM$8270,Sheet4!$C$2:$C$8270,Sheet3!$B13,Sheet4!$D$2:$D$8270,Sheet3!BZ$3,Sheet4!$E$2:$E$8270,Sheet3!BZ$4,Sheet4!$A$2:$A$8270,Sheet3!$B$1,Sheet4!$B$2:$B$8270,Sheet3!$A$3)","v":0},{"$f":"+SUMIFS(Sheet4!$DM$2:$DM$8270,Sheet4!$C$2:$C$8270,Sheet3!$B13,Sheet4!$D$2:$D$8270,Sheet3!CA$3,Sheet4!$E$2:$E$8270,Sheet3!CA$4,Sheet4!$A$2:$A$8270,Sheet3!$B$1,Sheet4!$B$2:$B$8270,Sheet3!$A$3)","v":268},{"$f":"+SUMIFS(Sheet4!$DM$2:$DM$8270,Sheet4!$C$2:$C$8270,Sheet3!$B13,Sheet4!$D$2:$D$8270,Sheet3!CB$3,Sheet4!$E$2:$E$8270,Sheet3!CB$4,Sheet4!$A$2:$A$8270,Sheet3!$B$1,Sheet4!$B$2:$B$8270,Sheet3!$A$3)","v":31},{"$f":"+SUMIFS(Sheet4!$DM$2:$DM$8270,Sheet4!$C$2:$C$8270,Sheet3!$B13,Sheet4!$D$2:$D$8270,Sheet3!CC$3,Sheet4!$E$2:$E$8270,Sheet3!CC$4,Sheet4!$A$2:$A$8270,Sheet3!$B$1,Sheet4!$B$2:$B$8270,Sheet3!$A$3)","v":0},{"$f":"+SUMIFS(Sheet4!$DM$2:$DM$8270,Sheet4!$C$2:$C$8270,Sheet3!$B13,Sheet4!$D$2:$D$8270,Sheet3!CD$3,Sheet4!$E$2:$E$8270,Sheet3!CD$4,Sheet4!$A$2:$A$8270,Sheet3!$B$1,Sheet4!$B$2:$B$8270,Sheet3!$A$3)","v":0},{"$f":"+SUMIFS(Sheet4!$DM$2:$DM$8270,Sheet4!$C$2:$C$8270,Sheet3!$B13,Sheet4!$D$2:$D$8270,Sheet3!CE$3,Sheet4!$E$2:$E$8270,Sheet3!CE$4,Sheet4!$A$2:$A$8270,Sheet3!$B$1,Sheet4!$B$2:$B$8270,Sheet3!$A$3)","v":0},{"$f":"+SUMIFS(Sheet4!$DM$2:$DM$8270,Sheet4!$C$2:$C$8270,Sheet3!$B13,Sheet4!$D$2:$D$8270,Sheet3!CF$3,Sheet4!$E$2:$E$8270,Sheet3!CF$4,Sheet4!$A$2:$A$8270,Sheet3!$B$1,Sheet4!$B$2:$B$8270,Sheet3!$A$3)","v":0},{"$f":"+SUMIFS(Sheet4!$DM$2:$DM$8270,Sheet4!$C$2:$C$8270,Sheet3!$B13,Sheet4!$D$2:$D$8270,Sheet3!CG$3,Sheet4!$E$2:$E$8270,Sheet3!CG$4,Sheet4!$A$2:$A$8270,Sheet3!$B$1,Sheet4!$B$2:$B$8270,Sheet3!$A$3)","v":0},{"$f":"+SUMIFS(Sheet4!$DM$2:$DM$8270,Sheet4!$C$2:$C$8270,Sheet3!$B13,Sheet4!$D$2:$D$8270,Sheet3!CH$3,Sheet4!$E$2:$E$8270,Sheet3!CH$4,Sheet4!$A$2:$A$8270,Sheet3!$B$1,Sheet4!$B$2:$B$8270,Sheet3!$A$3)","v":0},{"$f":"+SUMIFS(Sheet4!$DM$2:$DM$8270,Sheet4!$C$2:$C$8270,Sheet3!$B13,Sheet4!$D$2:$D$8270,Sheet3!CI$3,Sheet4!$E$2:$E$8270,Sheet3!CI$4,Sheet4!$A$2:$A$8270,Sheet3!$B$1,Sheet4!$B$2:$B$8270,Sheet3!$A$3)","v":0},{"$f":"+SUMIFS(Sheet4!$DM$2:$DM$8270,Sheet4!$C$2:$C$8270,Sheet3!$B13,Sheet4!$D$2:$D$8270,Sheet3!CJ$3,Sheet4!$E$2:$E$8270,Sheet3!CJ$4,Sheet4!$A$2:$A$8270,Sheet3!$B$1,Sheet4!$B$2:$B$8270,Sheet3!$A$3)","v":0},{"$f":"+SUMIFS(Sheet4!$DM$2:$DM$8270,Sheet4!$C$2:$C$8270,Sheet3!$B13,Sheet4!$D$2:$D$8270,Sheet3!CK$3,Sheet4!$E$2:$E$8270,Sheet3!CK$4,Sheet4!$A$2:$A$8270,Sheet3!$B$1,Sheet4!$B$2:$B$8270,Sheet3!$A$3)","v":0},{"$f":"+SUMIFS(Sheet4!$DM$2:$DM$8270,Sheet4!$C$2:$C$8270,Sheet3!$B13,Sheet4!$D$2:$D$8270,Sheet3!CL$3,Sheet4!$E$2:$E$8270,Sheet3!CL$4,Sheet4!$A$2:$A$8270,Sheet3!$B$1,Sheet4!$B$2:$B$8270,Sheet3!$A$3)","v":0},{"$f":"+SUMIFS(Sheet4!$DM$2:$DM$8270,Sheet4!$C$2:$C$8270,Sheet3!$B13,Sheet4!$D$2:$D$8270,Sheet3!CM$3,Sheet4!$E$2:$E$8270,Sheet3!CM$4,Sheet4!$A$2:$A$8270,Sheet3!$B$1,Sheet4!$B$2:$B$8270,Sheet3!$A$3)","v":0},{"$f":"+SUMIFS(Sheet4!$DM$2:$DM$8270,Sheet4!$C$2:$C$8270,Sheet3!$B13,Sheet4!$D$2:$D$8270,Sheet3!CN$3,Sheet4!$E$2:$E$8270,Sheet3!CN$4,Sheet4!$A$2:$A$8270,Sheet3!$B$1,Sheet4!$B$2:$B$8270,Sheet3!$A$3)","v":0},{"$f":"+SUMIFS(Sheet4!$DM$2:$DM$8270,Sheet4!$C$2:$C$8270,Sheet3!$B13,Sheet4!$D$2:$D$8270,Sheet3!CO$3,Sheet4!$E$2:$E$8270,Sheet3!CO$4,Sheet4!$A$2:$A$8270,Sheet3!$B$1,Sheet4!$B$2:$B$8270,Sheet3!$A$3)","v":0},{"$f":"+IF(SUMIFS(Sheet4!$DN$2:$DN$8270,Sheet4!$C$2:$C$8270,Sheet3!$B13,Sheet4!$D$2:$D$8270,Sheet3!CP$3,Sheet4!$A$2:$A$8270,Sheet3!$B$1,Sheet4!$B$2:$B$8270,Sheet3!$A$3)<3,0,SUMIFS(Sheet4!$DN$2:$DN$8270,Sheet4!$C$2:$C$8270,Sheet3!$B13,Sheet4!$D$2:$D$8270,Sheet3!CP$3,Sheet4!$A$2:$A$8270,Sheet3!$B$1,Sheet4!$B$2:$B$8270,Sheet3!$A$3))","v":6},{"$f":"+IF(SUMIFS(Sheet4!$DN$2:$DN$8270,Sheet4!$C$2:$C$8270,Sheet3!$B13,Sheet4!$D$2:$D$8270,Sheet3!CQ$3,Sheet4!$A$2:$A$8270,Sheet3!$B$1,Sheet4!$B$2:$B$8270,Sheet3!$A$3)<3,0,SUMIFS(Sheet4!$DN$2:$DN$8270,Sheet4!$C$2:$C$8270,Sheet3!$B13,Sheet4!$D$2:$D$8270,Sheet3!CQ$3,Sheet4!$A$2:$A$8270,Sheet3!$B$1,Sheet4!$B$2:$B$8270,Sheet3!$A$3))","v":553},{"$f":"+IF(SUMIFS(Sheet4!$DN$2:$DN$8270,Sheet4!$C$2:$C$8270,Sheet3!$B13,Sheet4!$D$2:$D$8270,Sheet3!CR$3,Sheet4!$A$2:$A$8270,Sheet3!$B$1,Sheet4!$B$2:$B$8270,Sheet3!$A$3)<3,0,SUMIFS(Sheet4!$DN$2:$DN$8270,Sheet4!$C$2:$C$8270,Sheet3!$B13,Sheet4!$D$2:$D$8270,Sheet3!CR$3,Sheet4!$A$2:$A$8270,Sheet3!$B$1,Sheet4!$B$2:$B$8270,Sheet3!$A$3))","v":53},{"$f":"+IF(SUMIFS(Sheet4!$DN$2:$DN$8270,Sheet4!$C$2:$C$8270,Sheet3!$B13,Sheet4!$D$2:$D$8270,Sheet3!CS$3,Sheet4!$A$2:$A$8270,Sheet3!$B$1,Sheet4!$B$2:$B$8270,Sheet3!$A$3)<3,0,SUMIFS(Sheet4!$DN$2:$DN$8270,Sheet4!$C$2:$C$8270,Sheet3!$B13,Sheet4!$D$2:$D$8270,Sheet3!CS$3,Sheet4!$A$2:$A$8270,Sheet3!$B$1,Sheet4!$B$2:$B$8270,Sheet3!$A$3))","v":0},{"$f":"+IF(SUMIFS(Sheet4!$DN$2:$DN$8270,Sheet4!$C$2:$C$8270,Sheet3!$B13,Sheet4!$D$2:$D$8270,Sheet3!CT$3,Sheet4!$A$2:$A$8270,Sheet3!$B$1,Sheet4!$B$2:$B$8270,Sheet3!$A$3)<3,0,SUMIFS(Sheet4!$DN$2:$DN$8270,Sheet4!$C$2:$C$8270,Sheet3!$B13,Sheet4!$D$2:$D$8270,Sheet3!CT$3,Sheet4!$A$2:$A$8270,Sheet3!$B$1,Sheet4!$B$2:$B$8270,Sheet3!$A$3))","v":0},{"$f":"+IF(SUMIFS(Sheet4!$DN$2:$DN$8270,Sheet4!$C$2:$C$8270,Sheet3!$B13,Sheet4!$D$2:$D$8270,Sheet3!CU$3,Sheet4!$A$2:$A$8270,Sheet3!$B$1,Sheet4!$B$2:$B$8270,Sheet3!$A$3)<3,0,SUMIFS(Sheet4!$DN$2:$DN$8270,Sheet4!$C$2:$C$8270,Sheet3!$B13,Sheet4!$D$2:$D$8270,Sheet3!CU$3,Sheet4!$A$2:$A$8270,Sheet3!$B$1,Sheet4!$B$2:$B$8270,Sheet3!$A$3))","v":385},{"$f":"+IF(SUMIFS(Sheet4!$DN$2:$DN$8270,Sheet4!$C$2:$C$8270,Sheet3!$B13,Sheet4!$D$2:$D$8270,Sheet3!CV$3,Sheet4!$A$2:$A$8270,Sheet3!$B$1,Sheet4!$B$2:$B$8270,Sheet3!$A$3)<3,0,SUMIFS(Sheet4!$DN$2:$DN$8270,Sheet4!$C$2:$C$8270,Sheet3!$B13,Sheet4!$D$2:$D$8270,Sheet3!CV$3,Sheet4!$A$2:$A$8270,Sheet3!$B$1,Sheet4!$B$2:$B$8270,Sheet3!$A$3))","v":808},{"$f":"+IF(SUMIFS(Sheet4!$DN$2:$DN$8270,Sheet4!$C$2:$C$8270,Sheet3!$B13,Sheet4!$D$2:$D$8270,Sheet3!CW$3,Sheet4!$A$2:$A$8270,Sheet3!$B$1,Sheet4!$B$2:$B$8270,Sheet3!$A$3)<3,0,SUMIFS(Sheet4!$DN$2:$DN$8270,Sheet4!$C$2:$C$8270,Sheet3!$B13,Sheet4!$D$2:$D$8270,Sheet3!CW$3,Sheet4!$A$2:$A$8270,Sheet3!$B$1,Sheet4!$B$2:$B$8270,Sheet3!$A$3))","v":622},{"$f":"+IF(SUMIFS(Sheet4!$DN$2:$DN$8270,Sheet4!$C$2:$C$8270,Sheet3!$B13,Sheet4!$D$2:$D$8270,Sheet3!CX$3,Sheet4!$A$2:$A$8270,Sheet3!$B$1,Sheet4!$B$2:$B$8270,Sheet3!$A$3)<3,0,SUMIFS(Sheet4!$DN$2:$DN$8270,Sheet4!$C$2:$C$8270,Sheet3!$B13,Sheet4!$D$2:$D$8270,Sheet3!CX$3,Sheet4!$A$2:$A$8270,Sheet3!$B$1,Sheet4!$B$2:$B$8270,Sheet3!$A$3))","v":8},{"$f":"+IF(SUMIFS(Sheet4!$DN$2:$DN$8270,Sheet4!$C$2:$C$8270,Sheet3!$B13,Sheet4!$D$2:$D$8270,Sheet3!CY$3,Sheet4!$A$2:$A$8270,Sheet3!$B$1,Sheet4!$B$2:$B$8270,Sheet3!$A$3)<3,0,SUMIFS(Sheet4!$DN$2:$DN$8270,Sheet4!$C$2:$C$8270,Sheet3!$B13,Sheet4!$D$2:$D$8270,Sheet3!CY$3,Sheet4!$A$2:$A$8270,Sheet3!$B$1,Sheet4!$B$2:$B$8270,Sheet3!$A$3))","v":2909},{"$f":"+IF(SUMIFS(Sheet4!$DN$2:$DN$8270,Sheet4!$C$2:$C$8270,Sheet3!$B13,Sheet4!$D$2:$D$8270,Sheet3!CZ$3,Sheet4!$A$2:$A$8270,Sheet3!$B$1,Sheet4!$B$2:$B$8270,Sheet3!$A$3)<3,0,SUMIFS(Sheet4!$DN$2:$DN$8270,Sheet4!$C$2:$C$8270,Sheet3!$B13,Sheet4!$D$2:$D$8270,Sheet3!CZ$3,Sheet4!$A$2:$A$8270,Sheet3!$B$1,Sheet4!$B$2:$B$8270,Sheet3!$A$3))","v":30},{"$f":"+IF(SUMIFS(Sheet4!$DN$2:$DN$8270,Sheet4!$C$2:$C$8270,Sheet3!$B13,Sheet4!$D$2:$D$8270,Sheet3!DA$3,Sheet4!$A$2:$A$8270,Sheet3!$B$1,Sheet4!$B$2:$B$8270,Sheet3!$A$3)<3,0,SUMIFS(Sheet4!$DN$2:$DN$8270,Sheet4!$C$2:$C$8270,Sheet3!$B13,Sheet4!$D$2:$D$8270,Sheet3!DA$3,Sheet4!$A$2:$A$8270,Sheet3!$B$1,Sheet4!$B$2:$B$8270,Sheet3!$A$3))","v":408},{"$f":"+IF(SUMIFS(Sheet4!$DN$2:$DN$8270,Sheet4!$C$2:$C$8270,Sheet3!$B13,Sheet4!$D$2:$D$8270,Sheet3!DB$3,Sheet4!$A$2:$A$8270,Sheet3!$B$1,Sheet4!$B$2:$B$8270,Sheet3!$A$3)<3,0,SUMIFS(Sheet4!$DN$2:$DN$8270,Sheet4!$C$2:$C$8270,Sheet3!$B13,Sheet4!$D$2:$D$8270,Sheet3!DB$3,Sheet4!$A$2:$A$8270,Sheet3!$B$1,Sheet4!$B$2:$B$8270,Sheet3!$A$3))","v":101},{"$f":"+IF(SUMIFS(Sheet4!$DN$2:$DN$8270,Sheet4!$C$2:$C$8270,Sheet3!$B13,Sheet4!$D$2:$D$8270,Sheet3!DC$3,Sheet4!$A$2:$A$8270,Sheet3!$B$1,Sheet4!$B$2:$B$8270,Sheet3!$A$3)<3,0,SUMIFS(Sheet4!$DN$2:$DN$8270,Sheet4!$C$2:$C$8270,Sheet3!$B13,Sheet4!$D$2:$D$8270,Sheet3!DC$3,Sheet4!$A$2:$A$8270,Sheet3!$B$1,Sheet4!$B$2:$B$8270,Sheet3!$A$3))","v":339},{"$f":"+IF(SUMIFS(Sheet4!$DN$2:$DN$8270,Sheet4!$C$2:$C$8270,Sheet3!$B13,Sheet4!$D$2:$D$8270,Sheet3!DD$3,Sheet4!$A$2:$A$8270,Sheet3!$B$1,Sheet4!$B$2:$B$8270,Sheet3!$A$3)<3,0,SUMIFS(Sheet4!$DN$2:$DN$8270,Sheet4!$C$2:$C$8270,Sheet3!$B13,Sheet4!$D$2:$D$8270,Sheet3!DD$3,Sheet4!$A$2:$A$8270,Sheet3!$B$1,Sheet4!$B$2:$B$8270,Sheet3!$A$3))","v":766},{"$f":"+IF(SUMIFS(Sheet4!$DN$2:$DN$8270,Sheet4!$C$2:$C$8270,Sheet3!$B13,Sheet4!$D$2:$D$8270,Sheet3!DE$3,Sheet4!$A$2:$A$8270,Sheet3!$B$1,Sheet4!$B$2:$B$8270,Sheet3!$A$3)<3,0,SUMIFS(Sheet4!$DN$2:$DN$8270,Sheet4!$C$2:$C$8270,Sheet3!$B13,Sheet4!$D$2:$D$8270,Sheet3!DE$3,Sheet4!$A$2:$A$8270,Sheet3!$B$1,Sheet4!$B$2:$B$8270,Sheet3!$A$3))","v":303},{"$f":"+IF(SUMIFS(Sheet4!$DN$2:$DN$8270,Sheet4!$C$2:$C$8270,Sheet3!$B13,Sheet4!$D$2:$D$8270,Sheet3!DF$3,Sheet4!$A$2:$A$8270,Sheet3!$B$1,Sheet4!$B$2:$B$8270,Sheet3!$A$3)<3,0,SUMIFS(Sheet4!$DN$2:$DN$8270,Sheet4!$C$2:$C$8270,Sheet3!$B13,Sheet4!$D$2:$D$8270,Sheet3!DF$3,Sheet4!$A$2:$A$8270,Sheet3!$B$1,Sheet4!$B$2:$B$8270,Sheet3!$A$3))","v":0},{"$f":"+IF(SUMIFS(Sheet4!$DN$2:$DN$8270,Sheet4!$C$2:$C$8270,Sheet3!$B13,Sheet4!$D$2:$D$8270,Sheet3!DG$3,Sheet4!$A$2:$A$8270,Sheet3!$B$1,Sheet4!$B$2:$B$8270,Sheet3!$A$3)<3,0,SUMIFS(Sheet4!$DN$2:$DN$8270,Sheet4!$C$2:$C$8270,Sheet3!$B13,Sheet4!$D$2:$D$8270,Sheet3!DG$3,Sheet4!$A$2:$A$8270,Sheet3!$B$1,Sheet4!$B$2:$B$8270,Sheet3!$A$3))","v":3},{"$f":"+IF(SUMIFS(Sheet4!$DN$2:$DN$8270,Sheet4!$C$2:$C$8270,Sheet3!$B13,Sheet4!$E$2:$E$8270,Sheet3!DH$4,Sheet4!$A$2:$A$8270,Sheet3!$B$1,Sheet4!$B$2:$B$8270,Sheet3!$A$3)<3,0,SUMIFS(Sheet4!$DN$2:$DN$8270,Sheet4!$C$2:$C$8270,Sheet3!$B13,Sheet4!$E$2:$E$8270,Sheet3!DH$4,Sheet4!$A$2:$A$8270,Sheet3!$B$1,Sheet4!$B$2:$B$8270,Sheet3!$A$3))","v":6342},{"$f":"+IF(SUMIFS(Sheet4!$DN$2:$DN$8270,Sheet4!$C$2:$C$8270,Sheet3!$B13,Sheet4!$E$2:$E$8270,Sheet3!DI$4,Sheet4!$A$2:$A$8270,Sheet3!$B$1,Sheet4!$B$2:$B$8270,Sheet3!$A$3)<3,0,SUMIFS(Sheet4!$DN$2:$DN$8270,Sheet4!$C$2:$C$8270,Sheet3!$B13,Sheet4!$E$2:$E$8270,Sheet3!DI$4,Sheet4!$A$2:$A$8270,Sheet3!$B$1,Sheet4!$B$2:$B$8270,Sheet3!$A$3))","v":886},{"$f":"+IF(SUMIFS(Sheet4!$DN$2:$DN$8270,Sheet4!$C$2:$C$8270,Sheet3!$B13,Sheet4!$E$2:$E$8270,Sheet3!DJ$4,Sheet4!$A$2:$A$8270,Sheet3!$B$1,Sheet4!$B$2:$B$8270,Sheet3!$A$3)<3,0,SUMIFS(Sheet4!$DN$2:$DN$8270,Sheet4!$C$2:$C$8270,Sheet3!$B13,Sheet4!$E$2:$E$8270,Sheet3!DJ$4,Sheet4!$A$2:$A$8270,Sheet3!$B$1,Sheet4!$B$2:$B$8270,Sheet3!$A$3))","v":66},{"$f":"+IF(SUMIFS(Sheet4!$DN$2:$DN$8270,Sheet4!$C$2:$C$8270,Sheet3!$B13,Sheet4!$E$2:$E$8270,Sheet3!DK$4,Sheet4!$A$2:$A$8270,Sheet3!$B$1,Sheet4!$B$2:$B$8270,Sheet3!$A$3)<3,0,SUMIFS(Sheet4!$DN$2:$DN$8270,Sheet4!$C$2:$C$8270,Sheet3!$B13,Sheet4!$E$2:$E$8270,Sheet3!DK$4,Sheet4!$A$2:$A$8270,Sheet3!$B$1,Sheet4!$B$2:$B$8270,Sheet3!$A$3))","v":0},{"$f":"+IF(SUMIFS(Sheet4!$DN$2:$DN$8270,Sheet4!$C$2:$C$8270,Sheet3!$B13,Sheet4!$E$2:$E$8270,Sheet3!DL$4,Sheet4!$A$2:$A$8270,Sheet3!$B$1,Sheet4!$B$2:$B$8270,Sheet3!$A$3)<3,0,SUMIFS(Sheet4!$DN$2:$DN$8270,Sheet4!$C$2:$C$8270,Sheet3!$B13,Sheet4!$E$2:$E$8270,Sheet3!DL$4,Sheet4!$A$2:$A$8270,Sheet3!$B$1,Sheet4!$B$2:$B$8270,Sheet3!$A$3))","v":0}]
[3,"11D","Douro",{"$f":"+SUMIFS(Sheet4!$DM$2:$DM$8270,Sheet4!$C$2:$C$8270,Sheet3!$B14,Sheet4!$D$2:$D$8270,Sheet3!D$3,Sheet4!$E$2:$E$8270,Sheet3!D$4,Sheet4!$A$2:$A$8270,Sheet3!$B$1,Sheet4!$B$2:$B$8270,Sheet3!$A$3)","v":22},{"$f":"+SUMIFS(Sheet4!$DM$2:$DM$8270,Sheet4!$C$2:$C$8270,Sheet3!$B14,Sheet4!$D$2:$D$8270,Sheet3!E$3,Sheet4!$E$2:$E$8270,Sheet3!E$4,Sheet4!$A$2:$A$8270,Sheet3!$B$1,Sheet4!$B$2:$B$8270,Sheet3!$A$3)","v":0},{"$f":"+SUMIFS(Sheet4!$DM$2:$DM$8270,Sheet4!$C$2:$C$8270,Sheet3!$B14,Sheet4!$D$2:$D$8270,Sheet3!F$3,Sheet4!$E$2:$E$8270,Sheet3!F$4,Sheet4!$A$2:$A$8270,Sheet3!$B$1,Sheet4!$B$2:$B$8270,Sheet3!$A$3)","v":0},{"$f":"+SUMIFS(Sheet4!$DM$2:$DM$8270,Sheet4!$C$2:$C$8270,Sheet3!$B14,Sheet4!$D$2:$D$8270,Sheet3!G$3,Sheet4!$E$2:$E$8270,Sheet3!G$4,Sheet4!$A$2:$A$8270,Sheet3!$B$1,Sheet4!$B$2:$B$8270,Sheet3!$A$3)","v":0},{"$f":"+SUMIFS(Sheet4!$DM$2:$DM$8270,Sheet4!$C$2:$C$8270,Sheet3!$B14,Sheet4!$D$2:$D$8270,Sheet3!H$3,Sheet4!$E$2:$E$8270,Sheet3!H$4,Sheet4!$A$2:$A$8270,Sheet3!$B$1,Sheet4!$B$2:$B$8270,Sheet3!$A$3)","v":0},{"$f":"+SUMIFS(Sheet4!$DM$2:$DM$8270,Sheet4!$C$2:$C$8270,Sheet3!$B14,Sheet4!$D$2:$D$8270,Sheet3!I$3,Sheet4!$E$2:$E$8270,Sheet3!I$4,Sheet4!$A$2:$A$8270,Sheet3!$B$1,Sheet4!$B$2:$B$8270,Sheet3!$A$3)","v":42},{"$f":"+SUMIFS(Sheet4!$DM$2:$DM$8270,Sheet4!$C$2:$C$8270,Sheet3!$B14,Sheet4!$D$2:$D$8270,Sheet3!J$3,Sheet4!$E$2:$E$8270,Sheet3!J$4,Sheet4!$A$2:$A$8270,Sheet3!$B$1,Sheet4!$B$2:$B$8270,Sheet3!$A$3)","v":0},{"$f":"+SUMIFS(Sheet4!$DM$2:$DM$8270,Sheet4!$C$2:$C$8270,Sheet3!$B14,Sheet4!$D$2:$D$8270,Sheet3!K$3,Sheet4!$E$2:$E$8270,Sheet3!K$4,Sheet4!$A$2:$A$8270,Sheet3!$B$1,Sheet4!$B$2:$B$8270,Sheet3!$A$3)","v":0},{"$f":"+SUMIFS(Sheet4!$DM$2:$DM$8270,Sheet4!$C$2:$C$8270,Sheet3!$B14,Sheet4!$D$2:$D$8270,Sheet3!L$3,Sheet4!$E$2:$E$8270,Sheet3!L$4,Sheet4!$A$2:$A$8270,Sheet3!$B$1,Sheet4!$B$2:$B$8270,Sheet3!$A$3)","v":0},{"$f":"+SUMIFS(Sheet4!$DM$2:$DM$8270,Sheet4!$C$2:$C$8270,Sheet3!$B14,Sheet4!$D$2:$D$8270,Sheet3!M$3,Sheet4!$E$2:$E$8270,Sheet3!M$4,Sheet4!$A$2:$A$8270,Sheet3!$B$1,Sheet4!$B$2:$B$8270,Sheet3!$A$3)","v":0},{"$f":"+SUMIFS(Sheet4!$DM$2:$DM$8270,Sheet4!$C$2:$C$8270,Sheet3!$B14,Sheet4!$D$2:$D$8270,Sheet3!N$3,Sheet4!$E$2:$E$8270,Sheet3!N$4,Sheet4!$A$2:$A$8270,Sheet3!$B$1,Sheet4!$B$2:$B$8270,Sheet3!$A$3)","v":130},{"$f":"+SUMIFS(Sheet4!$DM$2:$DM$8270,Sheet4!$C$2:$C$8270,Sheet3!$B14,Sheet4!$D$2:$D$8270,Sheet3!O$3,Sheet4!$E$2:$E$8270,Sheet3!O$4,Sheet4!$A$2:$A$8270,Sheet3!$B$1,Sheet4!$B$2:$B$8270,Sheet3!$A$3)","v":30},{"$f":"+SUMIFS(Sheet4!$DM$2:$DM$8270,Sheet4!$C$2:$C$8270,Sheet3!$B14,Sheet4!$D$2:$D$8270,Sheet3!P$3,Sheet4!$E$2:$E$8270,Sheet3!P$4,Sheet4!$A$2:$A$8270,Sheet3!$B$1,Sheet4!$B$2:$B$8270,Sheet3!$A$3)","v":0},{"$f":"+SUMIFS(Sheet4!$DM$2:$DM$8270,Sheet4!$C$2:$C$8270,Sheet3!$B14,Sheet4!$D$2:$D$8270,Sheet3!Q$3,Sheet4!$E$2:$E$8270,Sheet3!Q$4,Sheet4!$A$2:$A$8270,Sheet3!$B$1,Sheet4!$B$2:$B$8270,Sheet3!$A$3)","v":0},{"$f":"+SUMIFS(Sheet4!$DM$2:$DM$8270,Sheet4!$C$2:$C$8270,Sheet3!$B14,Sheet4!$D$2:$D$8270,Sheet3!R$3,Sheet4!$E$2:$E$8270,Sheet3!R$4,Sheet4!$A$2:$A$8270,Sheet3!$B$1,Sheet4!$B$2:$B$8270,Sheet3!$A$3)","v":0},{"$f":"+SUMIFS(Sheet4!$DM$2:$DM$8270,Sheet4!$C$2:$C$8270,Sheet3!$B14,Sheet4!$D$2:$D$8270,Sheet3!S$3,Sheet4!$E$2:$E$8270,Sheet3!S$4,Sheet4!$A$2:$A$8270,Sheet3!$B$1,Sheet4!$B$2:$B$8270,Sheet3!$A$3)","v":0},{"$f":"+SUMIFS(Sheet4!$DM$2:$DM$8270,Sheet4!$C$2:$C$8270,Sheet3!$B14,Sheet4!$D$2:$D$8270,Sheet3!T$3,Sheet4!$E$2:$E$8270,Sheet3!T$4,Sheet4!$A$2:$A$8270,Sheet3!$B$1,Sheet4!$B$2:$B$8270,Sheet3!$A$3)","v":0},{"$f":"+SUMIFS(Sheet4!$DM$2:$DM$8270,Sheet4!$C$2:$C$8270,Sheet3!$B14,Sheet4!$D$2:$D$8270,Sheet3!U$3,Sheet4!$E$2:$E$8270,Sheet3!U$4,Sheet4!$A$2:$A$8270,Sheet3!$B$1,Sheet4!$B$2:$B$8270,Sheet3!$A$3)","v":0},{"$f":"+SUMIFS(Sheet4!$DM$2:$DM$8270,Sheet4!$C$2:$C$8270,Sheet3!$B14,Sheet4!$D$2:$D$8270,Sheet3!V$3,Sheet4!$E$2:$E$8270,Sheet3!V$4,Sheet4!$A$2:$A$8270,Sheet3!$B$1,Sheet4!$B$2:$B$8270,Sheet3!$A$3)","v":0},{"$f":"+SUMIFS(Sheet4!$DM$2:$DM$8270,Sheet4!$C$2:$C$8270,Sheet3!$B14,Sheet4!$D$2:$D$8270,Sheet3!W$3,Sheet4!$E$2:$E$8270,Sheet3!W$4,Sheet4!$A$2:$A$8270,Sheet3!$B$1,Sheet4!$B$2:$B$8270,Sheet3!$A$3)","v":0},{"$f":"+SUMIFS(Sheet4!$DM$2:$DM$8270,Sheet4!$C$2:$C$8270,Sheet3!$B14,Sheet4!$D$2:$D$8270,Sheet3!X$3,Sheet4!$E$2:$E$8270,Sheet3!X$4,Sheet4!$A$2:$A$8270,Sheet3!$B$1,Sheet4!$B$2:$B$8270,Sheet3!$A$3)","v":0},{"$f":"+SUMIFS(Sheet4!$DM$2:$DM$8270,Sheet4!$C$2:$C$8270,Sheet3!$B14,Sheet4!$D$2:$D$8270,Sheet3!Y$3,Sheet4!$E$2:$E$8270,Sheet3!Y$4,Sheet4!$A$2:$A$8270,Sheet3!$B$1,Sheet4!$B$2:$B$8270,Sheet3!$A$3)","v":0},{"$f":"+SUMIFS(Sheet4!$DM$2:$DM$8270,Sheet4!$C$2:$C$8270,Sheet3!$B14,Sheet4!$D$2:$D$8270,Sheet3!Z$3,Sheet4!$E$2:$E$8270,Sheet3!Z$4,Sheet4!$A$2:$A$8270,Sheet3!$B$1,Sheet4!$B$2:$B$8270,Sheet3!$A$3)","v":0},{"$f":"+SUMIFS(Sheet4!$DM$2:$DM$8270,Sheet4!$C$2:$C$8270,Sheet3!$B14,Sheet4!$D$2:$D$8270,Sheet3!AA$3,Sheet4!$E$2:$E$8270,Sheet3!AA$4,Sheet4!$A$2:$A$8270,Sheet3!$B$1,Sheet4!$B$2:$B$8270,Sheet3!$A$3)","v":0},{"$f":"+SUMIFS(Sheet4!$DM$2:$DM$8270,Sheet4!$C$2:$C$8270,Sheet3!$B14,Sheet4!$D$2:$D$8270,Sheet3!AB$3,Sheet4!$E$2:$E$8270,Sheet3!AB$4,Sheet4!$A$2:$A$8270,Sheet3!$B$1,Sheet4!$B$2:$B$8270,Sheet3!$A$3)","v":0},{"$f":"+SUMIFS(Sheet4!$DM$2:$DM$8270,Sheet4!$C$2:$C$8270,Sheet3!$B14,Sheet4!$D$2:$D$8270,Sheet3!AC$3,Sheet4!$E$2:$E$8270,Sheet3!AC$4,Sheet4!$A$2:$A$8270,Sheet3!$B$1,Sheet4!$B$2:$B$8270,Sheet3!$A$3)","v":1508},{"$f":"+SUMIFS(Sheet4!$DM$2:$DM$8270,Sheet4!$C$2:$C$8270,Sheet3!$B14,Sheet4!$D$2:$D$8270,Sheet3!AD$3,Sheet4!$E$2:$E$8270,Sheet3!AD$4,Sheet4!$A$2:$A$8270,Sheet3!$B$1,Sheet4!$B$2:$B$8270,Sheet3!$A$3)","v":95},{"$f":"+SUMIFS(Sheet4!$DM$2:$DM$8270,Sheet4!$C$2:$C$8270,Sheet3!$B14,Sheet4!$D$2:$D$8270,Sheet3!AE$3,Sheet4!$E$2:$E$8270,Sheet3!AE$4,Sheet4!$A$2:$A$8270,Sheet3!$B$1,Sheet4!$B$2:$B$8270,Sheet3!$A$3)","v":0},{"$f":"+SUMIFS(Sheet4!$DM$2:$DM$8270,Sheet4!$C$2:$C$8270,Sheet3!$B14,Sheet4!$D$2:$D$8270,Sheet3!AF$3,Sheet4!$E$2:$E$8270,Sheet3!AF$4,Sheet4!$A$2:$A$8270,Sheet3!$B$1,Sheet4!$B$2:$B$8270,Sheet3!$A$3)","v":0},{"$f":"+SUMIFS(Sheet4!$DM$2:$DM$8270,Sheet4!$C$2:$C$8270,Sheet3!$B14,Sheet4!$D$2:$D$8270,Sheet3!AG$3,Sheet4!$E$2:$E$8270,Sheet3!AG$4,Sheet4!$A$2:$A$8270,Sheet3!$B$1,Sheet4!$B$2:$B$8270,Sheet3!$A$3)","v":0},{"$f":"+SUMIFS(Sheet4!$DM$2:$DM$8270,Sheet4!$C$2:$C$8270,Sheet3!$B14,Sheet4!$D$2:$D$8270,Sheet3!AH$3,Sheet4!$E$2:$E$8270,Sheet3!AH$4,Sheet4!$A$2:$A$8270,Sheet3!$B$1,Sheet4!$B$2:$B$8270,Sheet3!$A$3)","v":3771},{"$f":"+SUMIFS(Sheet4!$DM$2:$DM$8270,Sheet4!$C$2:$C$8270,Sheet3!$B14,Sheet4!$D$2:$D$8270,Sheet3!AI$3,Sheet4!$E$2:$E$8270,Sheet3!AI$4,Sheet4!$A$2:$A$8270,Sheet3!$B$1,Sheet4!$B$2:$B$8270,Sheet3!$A$3)","v":1685},{"$f":"+SUMIFS(Sheet4!$DM$2:$DM$8270,Sheet4!$C$2:$C$8270,Sheet3!$B14,Sheet4!$D$2:$D$8270,Sheet3!AJ$3,Sheet4!$E$2:$E$8270,Sheet3!AJ$4,Sheet4!$A$2:$A$8270,Sheet3!$B$1,Sheet4!$B$2:$B$8270,Sheet3!$A$3)","v":231},{"$f":"+SUMIFS(Sheet4!$DM$2:$DM$8270,Sheet4!$C$2:$C$8270,Sheet3!$B14,Sheet4!$D$2:$D$8270,Sheet3!AK$3,Sheet4!$E$2:$E$8270,Sheet3!AK$4,Sheet4!$A$2:$A$8270,Sheet3!$B$1,Sheet4!$B$2:$B$8270,Sheet3!$A$3)","v":8},{"$f":"+SUMIFS(Sheet4!$DM$2:$DM$8270,Sheet4!$C$2:$C$8270,Sheet3!$B14,Sheet4!$D$2:$D$8270,Sheet3!AL$3,Sheet4!$E$2:$E$8270,Sheet3!AL$4,Sheet4!$A$2:$A$8270,Sheet3!$B$1,Sheet4!$B$2:$B$8270,Sheet3!$A$3)","v":0},{"$f":"+SUMIFS(Sheet4!$DM$2:$DM$8270,Sheet4!$C$2:$C$8270,Sheet3!$B14,Sheet4!$D$2:$D$8270,Sheet3!AM$3,Sheet4!$E$2:$E$8270,Sheet3!AM$4,Sheet4!$A$2:$A$8270,Sheet3!$B$1,Sheet4!$B$2:$B$8270,Sheet3!$A$3)","v":824},{"$f":"+SUMIFS(Sheet4!$DM$2:$DM$8270,Sheet4!$C$2:$C$8270,Sheet3!$B14,Sheet4!$D$2:$D$8270,Sheet3!AN$3,Sheet4!$E$2:$E$8270,Sheet3!AN$4,Sheet4!$A$2:$A$8270,Sheet3!$B$1,Sheet4!$B$2:$B$8270,Sheet3!$A$3)","v":633},{"$f":"+SUMIFS(Sheet4!$DM$2:$DM$8270,Sheet4!$C$2:$C$8270,Sheet3!$B14,Sheet4!$D$2:$D$8270,Sheet3!AO$3,Sheet4!$E$2:$E$8270,Sheet3!AO$4,Sheet4!$A$2:$A$8270,Sheet3!$B$1,Sheet4!$B$2:$B$8270,Sheet3!$A$3)","v":60},{"$f":"+SUMIFS(Sheet4!$DM$2:$DM$8270,Sheet4!$C$2:$C$8270,Sheet3!$B14,Sheet4!$D$2:$D$8270,Sheet3!AP$3,Sheet4!$E$2:$E$8270,Sheet3!AP$4,Sheet4!$A$2:$A$8270,Sheet3!$B$1,Sheet4!$B$2:$B$8270,Sheet3!$A$3)","v":0},{"$f":"+SUMIFS(Sheet4!$DM$2:$DM$8270,Sheet4!$C$2:$C$8270,Sheet3!$B14,Sheet4!$D$2:$D$8270,Sheet3!AQ$3,Sheet4!$E$2:$E$8270,Sheet3!AQ$4,Sheet4!$A$2:$A$8270,Sheet3!$B$1,Sheet4!$B$2:$B$8270,Sheet3!$A$3)","v":0},{"$f":"+SUMIFS(Sheet4!$DM$2:$DM$8270,Sheet4!$C$2:$C$8270,Sheet3!$B14,Sheet4!$D$2:$D$8270,Sheet3!AR$3,Sheet4!$E$2:$E$8270,Sheet3!AR$4,Sheet4!$A$2:$A$8270,Sheet3!$B$1,Sheet4!$B$2:$B$8270,Sheet3!$A$3)","v":526},{"$f":"+SUMIFS(Sheet4!$DM$2:$DM$8270,Sheet4!$C$2:$C$8270,Sheet3!$B14,Sheet4!$D$2:$D$8270,Sheet3!AS$3,Sheet4!$E$2:$E$8270,Sheet3!AS$4,Sheet4!$A$2:$A$8270,Sheet3!$B$1,Sheet4!$B$2:$B$8270,Sheet3!$A$3)","v":52},{"$f":"+SUMIFS(Sheet4!$DM$2:$DM$8270,Sheet4!$C$2:$C$8270,Sheet3!$B14,Sheet4!$D$2:$D$8270,Sheet3!AT$3,Sheet4!$E$2:$E$8270,Sheet3!AT$4,Sheet4!$A$2:$A$8270,Sheet3!$B$1,Sheet4!$B$2:$B$8270,Sheet3!$A$3)","v":7},{"$f":"+SUMIFS(Sheet4!$DM$2:$DM$8270,Sheet4!$C$2:$C$8270,Sheet3!$B14,Sheet4!$D$2:$D$8270,Sheet3!AU$3,Sheet4!$E$2:$E$8270,Sheet3!AU$4,Sheet4!$A$2:$A$8270,Sheet3!$B$1,Sheet4!$B$2:$B$8270,Sheet3!$A$3)","v":0},{"$f":"+SUMIFS(Sheet4!$DM$2:$DM$8270,Sheet4!$C$2:$C$8270,Sheet3!$B14,Sheet4!$D$2:$D$8270,Sheet3!AV$3,Sheet4!$E$2:$E$8270,Sheet3!AV$4,Sheet4!$A$2:$A$8270,Sheet3!$B$1,Sheet4!$B$2:$B$8270,Sheet3!$A$3)","v":0},{"$f":"+SUMIFS(Sheet4!$DM$2:$DM$8270,Sheet4!$C$2:$C$8270,Sheet3!$B14,Sheet4!$D$2:$D$8270,Sheet3!AW$3,Sheet4!$E$2:$E$8270,Sheet3!AW$4,Sheet4!$A$2:$A$8270,Sheet3!$B$1,Sheet4!$B$2:$B$8270,Sheet3!$A$3)","v":6548},{"$f":"+SUMIFS(Sheet4!$DM$2:$DM$8270,Sheet4!$C$2:$C$8270,Sheet3!$B14,Sheet4!$D$2:$D$8270,Sheet3!AX$3,Sheet4!$E$2:$E$8270,Sheet3!AX$4,Sheet4!$A$2:$A$8270,Sheet3!$B$1,Sheet4!$B$2:$B$8270,Sheet3!$A$3)","v":1717},{"$f":"+SUMIFS(Sheet4!$DM$2:$DM$8270,Sheet4!$C$2:$C$8270,Sheet3!$B14,Sheet4!$D$2:$D$8270,Sheet3!AY$3,Sheet4!$E$2:$E$8270,Sheet3!AY$4,Sheet4!$A$2:$A$8270,Sheet3!$B$1,Sheet4!$B$2:$B$8270,Sheet3!$A$3)","v":129},{"$f":"+SUMIFS(Sheet4!$DM$2:$DM$8270,Sheet4!$C$2:$C$8270,Sheet3!$B14,Sheet4!$D$2:$D$8270,Sheet3!AZ$3,Sheet4!$E$2:$E$8270,Sheet3!AZ$4,Sheet4!$A$2:$A$8270,Sheet3!$B$1,Sheet4!$B$2:$B$8270,Sheet3!$A$3)","v":0},{"$f":"+SUMIFS(Sheet4!$DM$2:$DM$8270,Sheet4!$C$2:$C$8270,Sheet3!$B14,Sheet4!$D$2:$D$8270,Sheet3!BA$3,Sheet4!$E$2:$E$8270,Sheet3!BA$4,Sheet4!$A$2:$A$8270,Sheet3!$B$1,Sheet4!$B$2:$B$8270,Sheet3!$A$3)","v":0},{"$f":"+SUMIFS(Sheet4!$DM$2:$DM$8270,Sheet4!$C$2:$C$8270,Sheet3!$B14,Sheet4!$D$2:$D$8270,Sheet3!BB$3,Sheet4!$E$2:$E$8270,Sheet3!BB$4,Sheet4!$A$2:$A$8270,Sheet3!$B$1,Sheet4!$B$2:$B$8270,Sheet3!$A$3)","v":29},{"$f":"+SUMIFS(Sheet4!$DM$2:$DM$8270,Sheet4!$C$2:$C$8270,Sheet3!$B14,Sheet4!$D$2:$D$8270,Sheet3!BC$3,Sheet4!$E$2:$E$8270,Sheet3!BC$4,Sheet4!$A$2:$A$8270,Sheet3!$B$1,Sheet4!$B$2:$B$8270,Sheet3!$A$3)","v":49},{"$f":"+SUMIFS(Sheet4!$DM$2:$DM$8270,Sheet4!$C$2:$C$8270,Sheet3!$B14,Sheet4!$D$2:$D$8270,Sheet3!BD$3,Sheet4!$E$2:$E$8270,Sheet3!BD$4,Sheet4!$A$2:$A$8270,Sheet3!$B$1,Sheet4!$B$2:$B$8270,Sheet3!$A$3)","v":13},{"$f":"+SUMIFS(Sheet4!$DM$2:$DM$8270,Sheet4!$C$2:$C$8270,Sheet3!$B14,Sheet4!$D$2:$D$8270,Sheet3!BE$3,Sheet4!$E$2:$E$8270,Sheet3!BE$4,Sheet4!$A$2:$A$8270,Sheet3!$B$1,Sheet4!$B$2:$B$8270,Sheet3!$A$3)","v":0},{"$f":"+SUMIFS(Sheet4!$DM$2:$DM$8270,Sheet4!$C$2:$C$8270,Sheet3!$B14,Sheet4!$D$2:$D$8270,Sheet3!BF$3,Sheet4!$E$2:$E$8270,Sheet3!BF$4,Sheet4!$A$2:$A$8270,Sheet3!$B$1,Sheet4!$B$2:$B$8270,Sheet3!$A$3)","v":0},{"$f":"+SUMIFS(Sheet4!$DM$2:$DM$8270,Sheet4!$C$2:$C$8270,Sheet3!$B14,Sheet4!$D$2:$D$8270,Sheet3!BG$3,Sheet4!$E$2:$E$8270,Sheet3!BG$4,Sheet4!$A$2:$A$8270,Sheet3!$B$1,Sheet4!$B$2:$B$8270,Sheet3!$A$3)","v":35},{"$f":"+SUMIFS(Sheet4!$DM$2:$DM$8270,Sheet4!$C$2:$C$8270,Sheet3!$B14,Sheet4!$D$2:$D$8270,Sheet3!BH$3,Sheet4!$E$2:$E$8270,Sheet3!BH$4,Sheet4!$A$2:$A$8270,Sheet3!$B$1,Sheet4!$B$2:$B$8270,Sheet3!$A$3)","v":29},{"$f":"+SUMIFS(Sheet4!$DM$2:$DM$8270,Sheet4!$C$2:$C$8270,Sheet3!$B14,Sheet4!$D$2:$D$8270,Sheet3!BI$3,Sheet4!$E$2:$E$8270,Sheet3!BI$4,Sheet4!$A$2:$A$8270,Sheet3!$B$1,Sheet4!$B$2:$B$8270,Sheet3!$A$3)","v":5},{"$f":"+SUMIFS(Sheet4!$DM$2:$DM$8270,Sheet4!$C$2:$C$8270,Sheet3!$B14,Sheet4!$D$2:$D$8270,Sheet3!BJ$3,Sheet4!$E$2:$E$8270,Sheet3!BJ$4,Sheet4!$A$2:$A$8270,Sheet3!$B$1,Sheet4!$B$2:$B$8270,Sheet3!$A$3)","v":0},{"$f":"+SUMIFS(Sheet4!$DM$2:$DM$8270,Sheet4!$C$2:$C$8270,Sheet3!$B14,Sheet4!$D$2:$D$8270,Sheet3!BK$3,Sheet4!$E$2:$E$8270,Sheet3!BK$4,Sheet4!$A$2:$A$8270,Sheet3!$B$1,Sheet4!$B$2:$B$8270,Sheet3!$A$3)","v":0},{"$f":"+SUMIFS(Sheet4!$DM$2:$DM$8270,Sheet4!$C$2:$C$8270,Sheet3!$B14,Sheet4!$D$2:$D$8270,Sheet3!BL$3,Sheet4!$E$2:$E$8270,Sheet3!BL$4,Sheet4!$A$2:$A$8270,Sheet3!$B$1,Sheet4!$B$2:$B$8270,Sheet3!$A$3)","v":117},{"$f":"+SUMIFS(Sheet4!$DM$2:$DM$8270,Sheet4!$C$2:$C$8270,Sheet3!$B14,Sheet4!$D$2:$D$8270,Sheet3!BM$3,Sheet4!$E$2:$E$8270,Sheet3!BM$4,Sheet4!$A$2:$A$8270,Sheet3!$B$1,Sheet4!$B$2:$B$8270,Sheet3!$A$3)","v":180},{"$f":"+SUMIFS(Sheet4!$DM$2:$DM$8270,Sheet4!$C$2:$C$8270,Sheet3!$B14,Sheet4!$D$2:$D$8270,Sheet3!BN$3,Sheet4!$E$2:$E$8270,Sheet3!BN$4,Sheet4!$A$2:$A$8270,Sheet3!$B$1,Sheet4!$B$2:$B$8270,Sheet3!$A$3)","v":34},{"$f":"+SUMIFS(Sheet4!$DM$2:$DM$8270,Sheet4!$C$2:$C$8270,Sheet3!$B14,Sheet4!$D$2:$D$8270,Sheet3!BO$3,Sheet4!$E$2:$E$8270,Sheet3!BO$4,Sheet4!$A$2:$A$8270,Sheet3!$B$1,Sheet4!$B$2:$B$8270,Sheet3!$A$3)","v":0},{"$f":"+SUMIFS(Sheet4!$DM$2:$DM$8270,Sheet4!$C$2:$C$8270,Sheet3!$B14,Sheet4!$D$2:$D$8270,Sheet3!BP$3,Sheet4!$E$2:$E$8270,Sheet3!BP$4,Sheet4!$A$2:$A$8270,Sheet3!$B$1,Sheet4!$B$2:$B$8270,Sheet3!$A$3)","v":0},{"$f":"+SUMIFS(Sheet4!$DM$2:$DM$8270,Sheet4!$C$2:$C$8270,Sheet3!$B14,Sheet4!$D$2:$D$8270,Sheet3!BQ$3,Sheet4!$E$2:$E$8270,Sheet3!BQ$4,Sheet4!$A$2:$A$8270,Sheet3!$B$1,Sheet4!$B$2:$B$8270,Sheet3!$A$3)","v":363},{"$f":"+SUMIFS(Sheet4!$DM$2:$DM$8270,Sheet4!$C$2:$C$8270,Sheet3!$B14,Sheet4!$D$2:$D$8270,Sheet3!BR$3,Sheet4!$E$2:$E$8270,Sheet3!BR$4,Sheet4!$A$2:$A$8270,Sheet3!$B$1,Sheet4!$B$2:$B$8270,Sheet3!$A$3)","v":333},{"$f":"+SUMIFS(Sheet4!$DM$2:$DM$8270,Sheet4!$C$2:$C$8270,Sheet3!$B14,Sheet4!$D$2:$D$8270,Sheet3!BS$3,Sheet4!$E$2:$E$8270,Sheet3!BS$4,Sheet4!$A$2:$A$8270,Sheet3!$B$1,Sheet4!$B$2:$B$8270,Sheet3!$A$3)","v":51},{"$f":"+SUMIFS(Sheet4!$DM$2:$DM$8270,Sheet4!$C$2:$C$8270,Sheet3!$B14,Sheet4!$D$2:$D$8270,Sheet3!BT$3,Sheet4!$E$2:$E$8270,Sheet3!BT$4,Sheet4!$A$2:$A$8270,Sheet3!$B$1,Sheet4!$B$2:$B$8270,Sheet3!$A$3)","v":0},{"$f":"+SUMIFS(Sheet4!$DM$2:$DM$8270,Sheet4!$C$2:$C$8270,Sheet3!$B14,Sheet4!$D$2:$D$8270,Sheet3!BU$3,Sheet4!$E$2:$E$8270,Sheet3!BU$4,Sheet4!$A$2:$A$8270,Sheet3!$B$1,Sheet4!$B$2:$B$8270,Sheet3!$A$3)","v":0},{"$f":"+SUMIFS(Sheet4!$DM$2:$DM$8270,Sheet4!$C$2:$C$8270,Sheet3!$B14,Sheet4!$D$2:$D$8270,Sheet3!BV$3,Sheet4!$E$2:$E$8270,Sheet3!BV$4,Sheet4!$A$2:$A$8270,Sheet3!$B$1,Sheet4!$B$2:$B$8270,Sheet3!$A$3)","v":320},{"$f":"+SUMIFS(Sheet4!$DM$2:$DM$8270,Sheet4!$C$2:$C$8270,Sheet3!$B14,Sheet4!$D$2:$D$8270,Sheet3!BW$3,Sheet4!$E$2:$E$8270,Sheet3!BW$4,Sheet4!$A$2:$A$8270,Sheet3!$B$1,Sheet4!$B$2:$B$8270,Sheet3!$A$3)","v":134},{"$f":"+SUMIFS(Sheet4!$DM$2:$DM$8270,Sheet4!$C$2:$C$8270,Sheet3!$B14,Sheet4!$D$2:$D$8270,Sheet3!BX$3,Sheet4!$E$2:$E$8270,Sheet3!BX$4,Sheet4!$A$2:$A$8270,Sheet3!$B$1,Sheet4!$B$2:$B$8270,Sheet3!$A$3)","v":20},{"$f":"+SUMIFS(Sheet4!$DM$2:$DM$8270,Sheet4!$C$2:$C$8270,Sheet3!$B14,Sheet4!$D$2:$D$8270,Sheet3!BY$3,Sheet4!$E$2:$E$8270,Sheet3!BY$4,Sheet4!$A$2:$A$8270,Sheet3!$B$1,Sheet4!$B$2:$B$8270,Sheet3!$A$3)","v":0},{"$f":"+SUMIFS(Sheet4!$DM$2:$DM$8270,Sheet4!$C$2:$C$8270,Sheet3!$B14,Sheet4!$D$2:$D$8270,Sheet3!BZ$3,Sheet4!$E$2:$E$8270,Sheet3!BZ$4,Sheet4!$A$2:$A$8270,Sheet3!$B$1,Sheet4!$B$2:$B$8270,Sheet3!$A$3)","v":0},{"$f":"+SUMIFS(Sheet4!$DM$2:$DM$8270,Sheet4!$C$2:$C$8270,Sheet3!$B14,Sheet4!$D$2:$D$8270,Sheet3!CA$3,Sheet4!$E$2:$E$8270,Sheet3!CA$4,Sheet4!$A$2:$A$8270,Sheet3!$B$1,Sheet4!$B$2:$B$8270,Sheet3!$A$3)","v":72},{"$f":"+SUMIFS(Sheet4!$DM$2:$DM$8270,Sheet4!$C$2:$C$8270,Sheet3!$B14,Sheet4!$D$2:$D$8270,Sheet3!CB$3,Sheet4!$E$2:$E$8270,Sheet3!CB$4,Sheet4!$A$2:$A$8270,Sheet3!$B$1,Sheet4!$B$2:$B$8270,Sheet3!$A$3)","v":17},{"$f":"+SUMIFS(Sheet4!$DM$2:$DM$8270,Sheet4!$C$2:$C$8270,Sheet3!$B14,Sheet4!$D$2:$D$8270,Sheet3!CC$3,Sheet4!$E$2:$E$8270,Sheet3!CC$4,Sheet4!$A$2:$A$8270,Sheet3!$B$1,Sheet4!$B$2:$B$8270,Sheet3!$A$3)","v":5},{"$f":"+SUMIFS(Sheet4!$DM$2:$DM$8270,Sheet4!$C$2:$C$8270,Sheet3!$B14,Sheet4!$D$2:$D$8270,Sheet3!CD$3,Sheet4!$E$2:$E$8270,Sheet3!CD$4,Sheet4!$A$2:$A$8270,Sheet3!$B$1,Sheet4!$B$2:$B$8270,Sheet3!$A$3)","v":0},{"$f":"+SUMIFS(Sheet4!$DM$2:$DM$8270,Sheet4!$C$2:$C$8270,Sheet3!$B14,Sheet4!$D$2:$D$8270,Sheet3!CE$3,Sheet4!$E$2:$E$8270,Sheet3!CE$4,Sheet4!$A$2:$A$8270,Sheet3!$B$1,Sheet4!$B$2:$B$8270,Sheet3!$A$3)","v":0},{"$f":"+SUMIFS(Sheet4!$DM$2:$DM$8270,Sheet4!$C$2:$C$8270,Sheet3!$B14,Sheet4!$D$2:$D$8270,Sheet3!CF$3,Sheet4!$E$2:$E$8270,Sheet3!CF$4,Sheet4!$A$2:$A$8270,Sheet3!$B$1,Sheet4!$B$2:$B$8270,Sheet3!$A$3)","v":0},{"$f":"+SUMIFS(Sheet4!$DM$2:$DM$8270,Sheet4!$C$2:$C$8270,Sheet3!$B14,Sheet4!$D$2:$D$8270,Sheet3!CG$3,Sheet4!$E$2:$E$8270,Sheet3!CG$4,Sheet4!$A$2:$A$8270,Sheet3!$B$1,Sheet4!$B$2:$B$8270,Sheet3!$A$3)","v":0},{"$f":"+SUMIFS(Sheet4!$DM$2:$DM$8270,Sheet4!$C$2:$C$8270,Sheet3!$B14,Sheet4!$D$2:$D$8270,Sheet3!CH$3,Sheet4!$E$2:$E$8270,Sheet3!CH$4,Sheet4!$A$2:$A$8270,Sheet3!$B$1,Sheet4!$B$2:$B$8270,Sheet3!$A$3)","v":0},{"$f":"+SUMIFS(Sheet4!$DM$2:$DM$8270,Sheet4!$C$2:$C$8270,Sheet3!$B14,Sheet4!$D$2:$D$8270,Sheet3!CI$3,Sheet4!$E$2:$E$8270,Sheet3!CI$4,Sheet4!$A$2:$A$8270,Sheet3!$B$1,Sheet4!$B$2:$B$8270,Sheet3!$A$3)","v":0},{"$f":"+SUMIFS(Sheet4!$DM$2:$DM$8270,Sheet4!$C$2:$C$8270,Sheet3!$B14,Sheet4!$D$2:$D$8270,Sheet3!CJ$3,Sheet4!$E$2:$E$8270,Sheet3!CJ$4,Sheet4!$A$2:$A$8270,Sheet3!$B$1,Sheet4!$B$2:$B$8270,Sheet3!$A$3)","v":0},{"$f":"+SUMIFS(Sheet4!$DM$2:$DM$8270,Sheet4!$C$2:$C$8270,Sheet3!$B14,Sheet4!$D$2:$D$8270,Sheet3!CK$3,Sheet4!$E$2:$E$8270,Sheet3!CK$4,Sheet4!$A$2:$A$8270,Sheet3!$B$1,Sheet4!$B$2:$B$8270,Sheet3!$A$3)","v":49},{"$f":"+SUMIFS(Sheet4!$DM$2:$DM$8270,Sheet4!$C$2:$C$8270,Sheet3!$B14,Sheet4!$D$2:$D$8270,Sheet3!CL$3,Sheet4!$E$2:$E$8270,Sheet3!CL$4,Sheet4!$A$2:$A$8270,Sheet3!$B$1,Sheet4!$B$2:$B$8270,Sheet3!$A$3)","v":0},{"$f":"+SUMIFS(Sheet4!$DM$2:$DM$8270,Sheet4!$C$2:$C$8270,Sheet3!$B14,Sheet4!$D$2:$D$8270,Sheet3!CM$3,Sheet4!$E$2:$E$8270,Sheet3!CM$4,Sheet4!$A$2:$A$8270,Sheet3!$B$1,Sheet4!$B$2:$B$8270,Sheet3!$A$3)","v":0},{"$f":"+SUMIFS(Sheet4!$DM$2:$DM$8270,Sheet4!$C$2:$C$8270,Sheet3!$B14,Sheet4!$D$2:$D$8270,Sheet3!CN$3,Sheet4!$E$2:$E$8270,Sheet3!CN$4,Sheet4!$A$2:$A$8270,Sheet3!$B$1,Sheet4!$B$2:$B$8270,Sheet3!$A$3)","v":0},{"$f":"+SUMIFS(Sheet4!$DM$2:$DM$8270,Sheet4!$C$2:$C$8270,Sheet3!$B14,Sheet4!$D$2:$D$8270,Sheet3!CO$3,Sheet4!$E$2:$E$8270,Sheet3!CO$4,Sheet4!$A$2:$A$8270,Sheet3!$B$1,Sheet4!$B$2:$B$8270,Sheet3!$A$3)","v":0},{"$f":"+IF(SUMIFS(Sheet4!$DN$2:$DN$8270,Sheet4!$C$2:$C$8270,Sheet3!$B14,Sheet4!$D$2:$D$8270,Sheet3!CP$3,Sheet4!$A$2:$A$8270,Sheet3!$B$1,Sheet4!$B$2:$B$8270,Sheet3!$A$3)<3,0,SUMIFS(Sheet4!$DN$2:$DN$8270,Sheet4!$C$2:$C$8270,Sheet3!$B14,Sheet4!$D$2:$D$8270,Sheet3!CP$3,Sheet4!$A$2:$A$8270,Sheet3!$B$1,Sheet4!$B$2:$B$8270,Sheet3!$A$3))","v":24},{"$f":"+IF(SUMIFS(Sheet4!$DN$2:$DN$8270,Sheet4!$C$2:$C$8270,Sheet3!$B14,Sheet4!$D$2:$D$8270,Sheet3!CQ$3,Sheet4!$A$2:$A$8270,Sheet3!$B$1,Sheet4!$B$2:$B$8270,Sheet3!$A$3)<3,0,SUMIFS(Sheet4!$DN$2:$DN$8270,Sheet4!$C$2:$C$8270,Sheet3!$B14,Sheet4!$D$2:$D$8270,Sheet3!CQ$3,Sheet4!$A$2:$A$8270,Sheet3!$B$1,Sheet4!$B$2:$B$8270,Sheet3!$A$3))","v":44},{"$f":"+IF(SUMIFS(Sheet4!$DN$2:$DN$8270,Sheet4!$C$2:$C$8270,Sheet3!$B14,Sheet4!$D$2:$D$8270,Sheet3!CR$3,Sheet4!$A$2:$A$8270,Sheet3!$B$1,Sheet4!$B$2:$B$8270,Sheet3!$A$3)<3,0,SUMIFS(Sheet4!$DN$2:$DN$8270,Sheet4!$C$2:$C$8270,Sheet3!$B14,Sheet4!$D$2:$D$8270,Sheet3!CR$3,Sheet4!$A$2:$A$8270,Sheet3!$B$1,Sheet4!$B$2:$B$8270,Sheet3!$A$3))","v":163},{"$f":"+IF(SUMIFS(Sheet4!$DN$2:$DN$8270,Sheet4!$C$2:$C$8270,Sheet3!$B14,Sheet4!$D$2:$D$8270,Sheet3!CS$3,Sheet4!$A$2:$A$8270,Sheet3!$B$1,Sheet4!$B$2:$B$8270,Sheet3!$A$3)<3,0,SUMIFS(Sheet4!$DN$2:$DN$8270,Sheet4!$C$2:$C$8270,Sheet3!$B14,Sheet4!$D$2:$D$8270,Sheet3!CS$3,Sheet4!$A$2:$A$8270,Sheet3!$B$1,Sheet4!$B$2:$B$8270,Sheet3!$A$3))","v":0},{"$f":"+IF(SUMIFS(Sheet4!$DN$2:$DN$8270,Sheet4!$C$2:$C$8270,Sheet3!$B14,Sheet4!$D$2:$D$8270,Sheet3!CT$3,Sheet4!$A$2:$A$8270,Sheet3!$B$1,Sheet4!$B$2:$B$8270,Sheet3!$A$3)<3,0,SUMIFS(Sheet4!$DN$2:$DN$8270,Sheet4!$C$2:$C$8270,Sheet3!$B14,Sheet4!$D$2:$D$8270,Sheet3!CT$3,Sheet4!$A$2:$A$8270,Sheet3!$B$1,Sheet4!$B$2:$B$8270,Sheet3!$A$3))","v":0},{"$f":"+IF(SUMIFS(Sheet4!$DN$2:$DN$8270,Sheet4!$C$2:$C$8270,Sheet3!$B14,Sheet4!$D$2:$D$8270,Sheet3!CU$3,Sheet4!$A$2:$A$8270,Sheet3!$B$1,Sheet4!$B$2:$B$8270,Sheet3!$A$3)<3,0,SUMIFS(Sheet4!$DN$2:$DN$8270,Sheet4!$C$2:$C$8270,Sheet3!$B14,Sheet4!$D$2:$D$8270,Sheet3!CU$3,Sheet4!$A$2:$A$8270,Sheet3!$B$1,Sheet4!$B$2:$B$8270,Sheet3!$A$3))","v":1606},{"$f":"+IF(SUMIFS(Sheet4!$DN$2:$DN$8270,Sheet4!$C$2:$C$8270,Sheet3!$B14,Sheet4!$D$2:$D$8270,Sheet3!CV$3,Sheet4!$A$2:$A$8270,Sheet3!$B$1,Sheet4!$B$2:$B$8270,Sheet3!$A$3)<3,0,SUMIFS(Sheet4!$DN$2:$DN$8270,Sheet4!$C$2:$C$8270,Sheet3!$B14,Sheet4!$D$2:$D$8270,Sheet3!CV$3,Sheet4!$A$2:$A$8270,Sheet3!$B$1,Sheet4!$B$2:$B$8270,Sheet3!$A$3))","v":5696},{"$f":"+IF(SUMIFS(Sheet4!$DN$2:$DN$8270,Sheet4!$C$2:$C$8270,Sheet3!$B14,Sheet4!$D$2:$D$8270,Sheet3!CW$3,Sheet4!$A$2:$A$8270,Sheet3!$B$1,Sheet4!$B$2:$B$8270,Sheet3!$A$3)<3,0,SUMIFS(Sheet4!$DN$2:$DN$8270,Sheet4!$C$2:$C$8270,Sheet3!$B14,Sheet4!$D$2:$D$8270,Sheet3!CW$3,Sheet4!$A$2:$A$8270,Sheet3!$B$1,Sheet4!$B$2:$B$8270,Sheet3!$A$3))","v":1519},{"$f":"+IF(SUMIFS(Sheet4!$DN$2:$DN$8270,Sheet4!$C$2:$C$8270,Sheet3!$B14,Sheet4!$D$2:$D$8270,Sheet3!CX$3,Sheet4!$A$2:$A$8270,Sheet3!$B$1,Sheet4!$B$2:$B$8270,Sheet3!$A$3)<3,0,SUMIFS(Sheet4!$DN$2:$DN$8270,Sheet4!$C$2:$C$8270,Sheet3!$B14,Sheet4!$D$2:$D$8270,Sheet3!CX$3,Sheet4!$A$2:$A$8270,Sheet3!$B$1,Sheet4!$B$2:$B$8270,Sheet3!$A$3))","v":585},{"$f":"+IF(SUMIFS(Sheet4!$DN$2:$DN$8270,Sheet4!$C$2:$C$8270,Sheet3!$B14,Sheet4!$D$2:$D$8270,Sheet3!CY$3,Sheet4!$A$2:$A$8270,Sheet3!$B$1,Sheet4!$B$2:$B$8270,Sheet3!$A$3)<3,0,SUMIFS(Sheet4!$DN$2:$DN$8270,Sheet4!$C$2:$C$8270,Sheet3!$B14,Sheet4!$D$2:$D$8270,Sheet3!CY$3,Sheet4!$A$2:$A$8270,Sheet3!$B$1,Sheet4!$B$2:$B$8270,Sheet3!$A$3))","v":8396},{"$f":"+IF(SUMIFS(Sheet4!$DN$2:$DN$8270,Sheet4!$C$2:$C$8270,Sheet3!$B14,Sheet4!$D$2:$D$8270,Sheet3!CZ$3,Sheet4!$A$2:$A$8270,Sheet3!$B$1,Sheet4!$B$2:$B$8270,Sheet3!$A$3)<3,0,SUMIFS(Sheet4!$DN$2:$DN$8270,Sheet4!$C$2:$C$8270,Sheet3!$B14,Sheet4!$D$2:$D$8270,Sheet3!CZ$3,Sheet4!$A$2:$A$8270,Sheet3!$B$1,Sheet4!$B$2:$B$8270,Sheet3!$A$3))","v":93},{"$f":"+IF(SUMIFS(Sheet4!$DN$2:$DN$8270,Sheet4!$C$2:$C$8270,Sheet3!$B14,Sheet4!$D$2:$D$8270,Sheet3!DA$3,Sheet4!$A$2:$A$8270,Sheet3!$B$1,Sheet4!$B$2:$B$8270,Sheet3!$A$3)<3,0,SUMIFS(Sheet4!$DN$2:$DN$8270,Sheet4!$C$2:$C$8270,Sheet3!$B14,Sheet4!$D$2:$D$8270,Sheet3!DA$3,Sheet4!$A$2:$A$8270,Sheet3!$B$1,Sheet4!$B$2:$B$8270,Sheet3!$A$3))","v":72},{"$f":"+IF(SUMIFS(Sheet4!$DN$2:$DN$8270,Sheet4!$C$2:$C$8270,Sheet3!$B14,Sheet4!$D$2:$D$8270,Sheet3!DB$3,Sheet4!$A$2:$A$8270,Sheet3!$B$1,Sheet4!$B$2:$B$8270,Sheet3!$A$3)<3,0,SUMIFS(Sheet4!$DN$2:$DN$8270,Sheet4!$C$2:$C$8270,Sheet3!$B14,Sheet4!$D$2:$D$8270,Sheet3!DB$3,Sheet4!$A$2:$A$8270,Sheet3!$B$1,Sheet4!$B$2:$B$8270,Sheet3!$A$3))","v":333},{"$f":"+IF(SUMIFS(Sheet4!$DN$2:$DN$8270,Sheet4!$C$2:$C$8270,Sheet3!$B14,Sheet4!$D$2:$D$8270,Sheet3!DC$3,Sheet4!$A$2:$A$8270,Sheet3!$B$1,Sheet4!$B$2:$B$8270,Sheet3!$A$3)<3,0,SUMIFS(Sheet4!$DN$2:$DN$8270,Sheet4!$C$2:$C$8270,Sheet3!$B14,Sheet4!$D$2:$D$8270,Sheet3!DC$3,Sheet4!$A$2:$A$8270,Sheet3!$B$1,Sheet4!$B$2:$B$8270,Sheet3!$A$3))","v":749},{"$f":"+IF(SUMIFS(Sheet4!$DN$2:$DN$8270,Sheet4!$C$2:$C$8270,Sheet3!$B14,Sheet4!$D$2:$D$8270,Sheet3!DD$3,Sheet4!$A$2:$A$8270,Sheet3!$B$1,Sheet4!$B$2:$B$8270,Sheet3!$A$3)<3,0,SUMIFS(Sheet4!$DN$2:$DN$8270,Sheet4!$C$2:$C$8270,Sheet3!$B14,Sheet4!$D$2:$D$8270,Sheet3!DD$3,Sheet4!$A$2:$A$8270,Sheet3!$B$1,Sheet4!$B$2:$B$8270,Sheet3!$A$3))","v":474},{"$f":"+IF(SUMIFS(Sheet4!$DN$2:$DN$8270,Sheet4!$C$2:$C$8270,Sheet3!$B14,Sheet4!$D$2:$D$8270,Sheet3!DE$3,Sheet4!$A$2:$A$8270,Sheet3!$B$1,Sheet4!$B$2:$B$8270,Sheet3!$A$3)<3,0,SUMIFS(Sheet4!$DN$2:$DN$8270,Sheet4!$C$2:$C$8270,Sheet3!$B14,Sheet4!$D$2:$D$8270,Sheet3!DE$3,Sheet4!$A$2:$A$8270,Sheet3!$B$1,Sheet4!$B$2:$B$8270,Sheet3!$A$3))","v":95},{"$f":"+IF(SUMIFS(Sheet4!$DN$2:$DN$8270,Sheet4!$C$2:$C$8270,Sheet3!$B14,Sheet4!$D$2:$D$8270,Sheet3!DF$3,Sheet4!$A$2:$A$8270,Sheet3!$B$1,Sheet4!$B$2:$B$8270,Sheet3!$A$3)<3,0,SUMIFS(Sheet4!$DN$2:$DN$8270,Sheet4!$C$2:$C$8270,Sheet3!$B14,Sheet4!$D$2:$D$8270,Sheet3!DF$3,Sheet4!$A$2:$A$8270,Sheet3!$B$1,Sheet4!$B$2:$B$8270,Sheet3!$A$3))","v":0},{"$f":"+IF(SUMIFS(Sheet4!$DN$2:$DN$8270,Sheet4!$C$2:$C$8270,Sheet3!$B14,Sheet4!$D$2:$D$8270,Sheet3!DG$3,Sheet4!$A$2:$A$8270,Sheet3!$B$1,Sheet4!$B$2:$B$8270,Sheet3!$A$3)<3,0,SUMIFS(Sheet4!$DN$2:$DN$8270,Sheet4!$C$2:$C$8270,Sheet3!$B14,Sheet4!$D$2:$D$8270,Sheet3!DG$3,Sheet4!$A$2:$A$8270,Sheet3!$B$1,Sheet4!$B$2:$B$8270,Sheet3!$A$3))","v":50},{"$f":"+IF(SUMIFS(Sheet4!$DN$2:$DN$8270,Sheet4!$C$2:$C$8270,Sheet3!$B14,Sheet4!$E$2:$E$8270,Sheet3!DH$4,Sheet4!$A$2:$A$8270,Sheet3!$B$1,Sheet4!$B$2:$B$8270,Sheet3!$A$3)<3,0,SUMIFS(Sheet4!$DN$2:$DN$8270,Sheet4!$C$2:$C$8270,Sheet3!$B14,Sheet4!$E$2:$E$8270,Sheet3!DH$4,Sheet4!$A$2:$A$8270,Sheet3!$B$1,Sheet4!$B$2:$B$8270,Sheet3!$A$3))","v":14359},{"$f":"+IF(SUMIFS(Sheet4!$DN$2:$DN$8270,Sheet4!$C$2:$C$8270,Sheet3!$B14,Sheet4!$E$2:$E$8270,Sheet3!DI$4,Sheet4!$A$2:$A$8270,Sheet3!$B$1,Sheet4!$B$2:$B$8270,Sheet3!$A$3)<3,0,SUMIFS(Sheet4!$DN$2:$DN$8270,Sheet4!$C$2:$C$8270,Sheet3!$B14,Sheet4!$E$2:$E$8270,Sheet3!DI$4,Sheet4!$A$2:$A$8270,Sheet3!$B$1,Sheet4!$B$2:$B$8270,Sheet3!$A$3))","v":4968},{"$f":"+IF(SUMIFS(Sheet4!$DN$2:$DN$8270,Sheet4!$C$2:$C$8270,Sheet3!$B14,Sheet4!$E$2:$E$8270,Sheet3!DJ$4,Sheet4!$A$2:$A$8270,Sheet3!$B$1,Sheet4!$B$2:$B$8270,Sheet3!$A$3)<3,0,SUMIFS(Sheet4!$DN$2:$DN$8270,Sheet4!$C$2:$C$8270,Sheet3!$B14,Sheet4!$E$2:$E$8270,Sheet3!DJ$4,Sheet4!$A$2:$A$8270,Sheet3!$B$1,Sheet4!$B$2:$B$8270,Sheet3!$A$3))","v":564},{"$f":"+IF(SUMIFS(Sheet4!$DN$2:$DN$8270,Sheet4!$C$2:$C$8270,Sheet3!$B14,Sheet4!$E$2:$E$8270,Sheet3!DK$4,Sheet4!$A$2:$A$8270,Sheet3!$B$1,Sheet4!$B$2:$B$8270,Sheet3!$A$3)<3,0,SUMIFS(Sheet4!$DN$2:$DN$8270,Sheet4!$C$2:$C$8270,Sheet3!$B14,Sheet4!$E$2:$E$8270,Sheet3!DK$4,Sheet4!$A$2:$A$8270,Sheet3!$B$1,Sheet4!$B$2:$B$8270,Sheet3!$A$3))","v":9},{"$f":"+IF(SUMIFS(Sheet4!$DN$2:$DN$8270,Sheet4!$C$2:$C$8270,Sheet3!$B14,Sheet4!$E$2:$E$8270,Sheet3!DL$4,Sheet4!$A$2:$A$8270,Sheet3!$B$1,Sheet4!$B$2:$B$8270,Sheet3!$A$3)<3,0,SUMIFS(Sheet4!$DN$2:$DN$8270,Sheet4!$C$2:$C$8270,Sheet3!$B14,Sheet4!$E$2:$E$8270,Sheet3!DL$4,Sheet4!$A$2:$A$8270,Sheet3!$B$1,Sheet4!$B$2:$B$8270,Sheet3!$A$3))","v":0}]
[3,"11E","Terras de Trás-os-Montes",{"$f":"+SUMIFS(Sheet4!$DM$2:$DM$8270,Sheet4!$C$2:$C$8270,Sheet3!$B15,Sheet4!$D$2:$D$8270,Sheet3!D$3,Sheet4!$E$2:$E$8270,Sheet3!D$4,Sheet4!$A$2:$A$8270,Sheet3!$B$1,Sheet4!$B$2:$B$8270,Sheet3!$A$3)","v":27},{"$f":"+SUMIFS(Sheet4!$DM$2:$DM$8270,Sheet4!$C$2:$C$8270,Sheet3!$B15,Sheet4!$D$2:$D$8270,Sheet3!E$3,Sheet4!$E$2:$E$8270,Sheet3!E$4,Sheet4!$A$2:$A$8270,Sheet3!$B$1,Sheet4!$B$2:$B$8270,Sheet3!$A$3)","v":16},{"$f":"+SUMIFS(Sheet4!$DM$2:$DM$8270,Sheet4!$C$2:$C$8270,Sheet3!$B15,Sheet4!$D$2:$D$8270,Sheet3!F$3,Sheet4!$E$2:$E$8270,Sheet3!F$4,Sheet4!$A$2:$A$8270,Sheet3!$B$1,Sheet4!$B$2:$B$8270,Sheet3!$A$3)","v":5},{"$f":"+SUMIFS(Sheet4!$DM$2:$DM$8270,Sheet4!$C$2:$C$8270,Sheet3!$B15,Sheet4!$D$2:$D$8270,Sheet3!G$3,Sheet4!$E$2:$E$8270,Sheet3!G$4,Sheet4!$A$2:$A$8270,Sheet3!$B$1,Sheet4!$B$2:$B$8270,Sheet3!$A$3)","v":0},{"$f":"+SUMIFS(Sheet4!$DM$2:$DM$8270,Sheet4!$C$2:$C$8270,Sheet3!$B15,Sheet4!$D$2:$D$8270,Sheet3!H$3,Sheet4!$E$2:$E$8270,Sheet3!H$4,Sheet4!$A$2:$A$8270,Sheet3!$B$1,Sheet4!$B$2:$B$8270,Sheet3!$A$3)","v":0},{"$f":"+SUMIFS(Sheet4!$DM$2:$DM$8270,Sheet4!$C$2:$C$8270,Sheet3!$B15,Sheet4!$D$2:$D$8270,Sheet3!I$3,Sheet4!$E$2:$E$8270,Sheet3!I$4,Sheet4!$A$2:$A$8270,Sheet3!$B$1,Sheet4!$B$2:$B$8270,Sheet3!$A$3)","v":3},{"$f":"+SUMIFS(Sheet4!$DM$2:$DM$8270,Sheet4!$C$2:$C$8270,Sheet3!$B15,Sheet4!$D$2:$D$8270,Sheet3!J$3,Sheet4!$E$2:$E$8270,Sheet3!J$4,Sheet4!$A$2:$A$8270,Sheet3!$B$1,Sheet4!$B$2:$B$8270,Sheet3!$A$3)","v":0},{"$f":"+SUMIFS(Sheet4!$DM$2:$DM$8270,Sheet4!$C$2:$C$8270,Sheet3!$B15,Sheet4!$D$2:$D$8270,Sheet3!K$3,Sheet4!$E$2:$E$8270,Sheet3!K$4,Sheet4!$A$2:$A$8270,Sheet3!$B$1,Sheet4!$B$2:$B$8270,Sheet3!$A$3)","v":0},{"$f":"+SUMIFS(Sheet4!$DM$2:$DM$8270,Sheet4!$C$2:$C$8270,Sheet3!$B15,Sheet4!$D$2:$D$8270,Sheet3!L$3,Sheet4!$E$2:$E$8270,Sheet3!L$4,Sheet4!$A$2:$A$8270,Sheet3!$B$1,Sheet4!$B$2:$B$8270,Sheet3!$A$3)","v":0},{"$f":"+SUMIFS(Sheet4!$DM$2:$DM$8270,Sheet4!$C$2:$C$8270,Sheet3!$B15,Sheet4!$D$2:$D$8270,Sheet3!M$3,Sheet4!$E$2:$E$8270,Sheet3!M$4,Sheet4!$A$2:$A$8270,Sheet3!$B$1,Sheet4!$B$2:$B$8270,Sheet3!$A$3)","v":0},{"$f":"+SUMIFS(Sheet4!$DM$2:$DM$8270,Sheet4!$C$2:$C$8270,Sheet3!$B15,Sheet4!$D$2:$D$8270,Sheet3!N$3,Sheet4!$E$2:$E$8270,Sheet3!N$4,Sheet4!$A$2:$A$8270,Sheet3!$B$1,Sheet4!$B$2:$B$8270,Sheet3!$A$3)","v":260},{"$f":"+SUMIFS(Sheet4!$DM$2:$DM$8270,Sheet4!$C$2:$C$8270,Sheet3!$B15,Sheet4!$D$2:$D$8270,Sheet3!O$3,Sheet4!$E$2:$E$8270,Sheet3!O$4,Sheet4!$A$2:$A$8270,Sheet3!$B$1,Sheet4!$B$2:$B$8270,Sheet3!$A$3)","v":313},{"$f":"+SUMIFS(Sheet4!$DM$2:$DM$8270,Sheet4!$C$2:$C$8270,Sheet3!$B15,Sheet4!$D$2:$D$8270,Sheet3!P$3,Sheet4!$E$2:$E$8270,Sheet3!P$4,Sheet4!$A$2:$A$8270,Sheet3!$B$1,Sheet4!$B$2:$B$8270,Sheet3!$A$3)","v":38},{"$f":"+SUMIFS(Sheet4!$DM$2:$DM$8270,Sheet4!$C$2:$C$8270,Sheet3!$B15,Sheet4!$D$2:$D$8270,Sheet3!Q$3,Sheet4!$E$2:$E$8270,Sheet3!Q$4,Sheet4!$A$2:$A$8270,Sheet3!$B$1,Sheet4!$B$2:$B$8270,Sheet3!$A$3)","v":0},{"$f":"+SUMIFS(Sheet4!$DM$2:$DM$8270,Sheet4!$C$2:$C$8270,Sheet3!$B15,Sheet4!$D$2:$D$8270,Sheet3!R$3,Sheet4!$E$2:$E$8270,Sheet3!R$4,Sheet4!$A$2:$A$8270,Sheet3!$B$1,Sheet4!$B$2:$B$8270,Sheet3!$A$3)","v":0},{"$f":"+SUMIFS(Sheet4!$DM$2:$DM$8270,Sheet4!$C$2:$C$8270,Sheet3!$B15,Sheet4!$D$2:$D$8270,Sheet3!S$3,Sheet4!$E$2:$E$8270,Sheet3!S$4,Sheet4!$A$2:$A$8270,Sheet3!$B$1,Sheet4!$B$2:$B$8270,Sheet3!$A$3)","v":0},{"$f":"+SUMIFS(Sheet4!$DM$2:$DM$8270,Sheet4!$C$2:$C$8270,Sheet3!$B15,Sheet4!$D$2:$D$8270,Sheet3!T$3,Sheet4!$E$2:$E$8270,Sheet3!T$4,Sheet4!$A$2:$A$8270,Sheet3!$B$1,Sheet4!$B$2:$B$8270,Sheet3!$A$3)","v":0},{"$f":"+SUMIFS(Sheet4!$DM$2:$DM$8270,Sheet4!$C$2:$C$8270,Sheet3!$B15,Sheet4!$D$2:$D$8270,Sheet3!U$3,Sheet4!$E$2:$E$8270,Sheet3!U$4,Sheet4!$A$2:$A$8270,Sheet3!$B$1,Sheet4!$B$2:$B$8270,Sheet3!$A$3)","v":0},{"$f":"+SUMIFS(Sheet4!$DM$2:$DM$8270,Sheet4!$C$2:$C$8270,Sheet3!$B15,Sheet4!$D$2:$D$8270,Sheet3!V$3,Sheet4!$E$2:$E$8270,Sheet3!V$4,Sheet4!$A$2:$A$8270,Sheet3!$B$1,Sheet4!$B$2:$B$8270,Sheet3!$A$3)","v":0},{"$f":"+SUMIFS(Sheet4!$DM$2:$DM$8270,Sheet4!$C$2:$C$8270,Sheet3!$B15,Sheet4!$D$2:$D$8270,Sheet3!W$3,Sheet4!$E$2:$E$8270,Sheet3!W$4,Sheet4!$A$2:$A$8270,Sheet3!$B$1,Sheet4!$B$2:$B$8270,Sheet3!$A$3)","v":0},{"$f":"+SUMIFS(Sheet4!$DM$2:$DM$8270,Sheet4!$C$2:$C$8270,Sheet3!$B15,Sheet4!$D$2:$D$8270,Sheet3!X$3,Sheet4!$E$2:$E$8270,Sheet3!X$4,Sheet4!$A$2:$A$8270,Sheet3!$B$1,Sheet4!$B$2:$B$8270,Sheet3!$A$3)","v":3},{"$f":"+SUMIFS(Sheet4!$DM$2:$DM$8270,Sheet4!$C$2:$C$8270,Sheet3!$B15,Sheet4!$D$2:$D$8270,Sheet3!Y$3,Sheet4!$E$2:$E$8270,Sheet3!Y$4,Sheet4!$A$2:$A$8270,Sheet3!$B$1,Sheet4!$B$2:$B$8270,Sheet3!$A$3)","v":4},{"$f":"+SUMIFS(Sheet4!$DM$2:$DM$8270,Sheet4!$C$2:$C$8270,Sheet3!$B15,Sheet4!$D$2:$D$8270,Sheet3!Z$3,Sheet4!$E$2:$E$8270,Sheet3!Z$4,Sheet4!$A$2:$A$8270,Sheet3!$B$1,Sheet4!$B$2:$B$8270,Sheet3!$A$3)","v":0},{"$f":"+SUMIFS(Sheet4!$DM$2:$DM$8270,Sheet4!$C$2:$C$8270,Sheet3!$B15,Sheet4!$D$2:$D$8270,Sheet3!AA$3,Sheet4!$E$2:$E$8270,Sheet3!AA$4,Sheet4!$A$2:$A$8270,Sheet3!$B$1,Sheet4!$B$2:$B$8270,Sheet3!$A$3)","v":0},{"$f":"+SUMIFS(Sheet4!$DM$2:$DM$8270,Sheet4!$C$2:$C$8270,Sheet3!$B15,Sheet4!$D$2:$D$8270,Sheet3!AB$3,Sheet4!$E$2:$E$8270,Sheet3!AB$4,Sheet4!$A$2:$A$8270,Sheet3!$B$1,Sheet4!$B$2:$B$8270,Sheet3!$A$3)","v":0},{"$f":"+SUMIFS(Sheet4!$DM$2:$DM$8270,Sheet4!$C$2:$C$8270,Sheet3!$B15,Sheet4!$D$2:$D$8270,Sheet3!AC$3,Sheet4!$E$2:$E$8270,Sheet3!AC$4,Sheet4!$A$2:$A$8270,Sheet3!$B$1,Sheet4!$B$2:$B$8270,Sheet3!$A$3)","v":3167},{"$f":"+SUMIFS(Sheet4!$DM$2:$DM$8270,Sheet4!$C$2:$C$8270,Sheet3!$B15,Sheet4!$D$2:$D$8270,Sheet3!AD$3,Sheet4!$E$2:$E$8270,Sheet3!AD$4,Sheet4!$A$2:$A$8270,Sheet3!$B$1,Sheet4!$B$2:$B$8270,Sheet3!$A$3)","v":1627},{"$f":"+SUMIFS(Sheet4!$DM$2:$DM$8270,Sheet4!$C$2:$C$8270,Sheet3!$B15,Sheet4!$D$2:$D$8270,Sheet3!AE$3,Sheet4!$E$2:$E$8270,Sheet3!AE$4,Sheet4!$A$2:$A$8270,Sheet3!$B$1,Sheet4!$B$2:$B$8270,Sheet3!$A$3)","v":117},{"$f":"+SUMIFS(Sheet4!$DM$2:$DM$8270,Sheet4!$C$2:$C$8270,Sheet3!$B15,Sheet4!$D$2:$D$8270,Sheet3!AF$3,Sheet4!$E$2:$E$8270,Sheet3!AF$4,Sheet4!$A$2:$A$8270,Sheet3!$B$1,Sheet4!$B$2:$B$8270,Sheet3!$A$3)","v":0},{"$f":"+SUMIFS(Sheet4!$DM$2:$DM$8270,Sheet4!$C$2:$C$8270,Sheet3!$B15,Sheet4!$D$2:$D$8270,Sheet3!AG$3,Sheet4!$E$2:$E$8270,Sheet3!AG$4,Sheet4!$A$2:$A$8270,Sheet3!$B$1,Sheet4!$B$2:$B$8270,Sheet3!$A$3)","v":0},{"$f":"+SUMIFS(Sheet4!$DM$2:$DM$8270,Sheet4!$C$2:$C$8270,Sheet3!$B15,Sheet4!$D$2:$D$8270,Sheet3!AH$3,Sheet4!$E$2:$E$8270,Sheet3!AH$4,Sheet4!$A$2:$A$8270,Sheet3!$B$1,Sheet4!$B$2:$B$8270,Sheet3!$A$3)","v":99},{"$f":"+SUMIFS(Sheet4!$DM$2:$DM$8270,Sheet4!$C$2:$C$8270,Sheet3!$B15,Sheet4!$D$2:$D$8270,Sheet3!AI$3,Sheet4!$E$2:$E$8270,Sheet3!AI$4,Sheet4!$A$2:$A$8270,Sheet3!$B$1,Sheet4!$B$2:$B$8270,Sheet3!$A$3)","v":69},{"$f":"+SUMIFS(Sheet4!$DM$2:$DM$8270,Sheet4!$C$2:$C$8270,Sheet3!$B15,Sheet4!$D$2:$D$8270,Sheet3!AJ$3,Sheet4!$E$2:$E$8270,Sheet3!AJ$4,Sheet4!$A$2:$A$8270,Sheet3!$B$1,Sheet4!$B$2:$B$8270,Sheet3!$A$3)","v":7},{"$f":"+SUMIFS(Sheet4!$DM$2:$DM$8270,Sheet4!$C$2:$C$8270,Sheet3!$B15,Sheet4!$D$2:$D$8270,Sheet3!AK$3,Sheet4!$E$2:$E$8270,Sheet3!AK$4,Sheet4!$A$2:$A$8270,Sheet3!$B$1,Sheet4!$B$2:$B$8270,Sheet3!$A$3)","v":0},{"$f":"+SUMIFS(Sheet4!$DM$2:$DM$8270,Sheet4!$C$2:$C$8270,Sheet3!$B15,Sheet4!$D$2:$D$8270,Sheet3!AL$3,Sheet4!$E$2:$E$8270,Sheet3!AL$4,Sheet4!$A$2:$A$8270,Sheet3!$B$1,Sheet4!$B$2:$B$8270,Sheet3!$A$3)","v":0},{"$f":"+SUMIFS(Sheet4!$DM$2:$DM$8270,Sheet4!$C$2:$C$8270,Sheet3!$B15,Sheet4!$D$2:$D$8270,Sheet3!AM$3,Sheet4!$E$2:$E$8270,Sheet3!AM$4,Sheet4!$A$2:$A$8270,Sheet3!$B$1,Sheet4!$B$2:$B$8270,Sheet3!$A$3)","v":1082},{"$f":"+SUMIFS(Sheet4!$DM$2:$DM$8270,Sheet4!$C$2:$C$8270,Sheet3!$B15,Sheet4!$D$2:$D$8270,Sheet3!AN$3,Sheet4!$E$2:$E$8270,Sheet3!AN$4,Sheet4!$A$2:$A$8270,Sheet3!$B$1,Sheet4!$B$2:$B$8270,Sheet3!$A$3)","v":969},{"$f":"+SUMIFS(Sheet4!$DM$2:$DM$8270,Sheet4!$C$2:$C$8270,Sheet3!$B15,Sheet4!$D$2:$D$8270,Sheet3!AO$3,Sheet4!$E$2:$E$8270,Sheet3!AO$4,Sheet4!$A$2:$A$8270,Sheet3!$B$1,Sheet4!$B$2:$B$8270,Sheet3!$A$3)","v":90},{"$f":"+SUMIFS(Sheet4!$DM$2:$DM$8270,Sheet4!$C$2:$C$8270,Sheet3!$B15,Sheet4!$D$2:$D$8270,Sheet3!AP$3,Sheet4!$E$2:$E$8270,Sheet3!AP$4,Sheet4!$A$2:$A$8270,Sheet3!$B$1,Sheet4!$B$2:$B$8270,Sheet3!$A$3)","v":0},{"$f":"+SUMIFS(Sheet4!$DM$2:$DM$8270,Sheet4!$C$2:$C$8270,Sheet3!$B15,Sheet4!$D$2:$D$8270,Sheet3!AQ$3,Sheet4!$E$2:$E$8270,Sheet3!AQ$4,Sheet4!$A$2:$A$8270,Sheet3!$B$1,Sheet4!$B$2:$B$8270,Sheet3!$A$3)","v":0},{"$f":"+SUMIFS(Sheet4!$DM$2:$DM$8270,Sheet4!$C$2:$C$8270,Sheet3!$B15,Sheet4!$D$2:$D$8270,Sheet3!AR$3,Sheet4!$E$2:$E$8270,Sheet3!AR$4,Sheet4!$A$2:$A$8270,Sheet3!$B$1,Sheet4!$B$2:$B$8270,Sheet3!$A$3)","v":1584},{"$f":"+SUMIFS(Sheet4!$DM$2:$DM$8270,Sheet4!$C$2:$C$8270,Sheet3!$B15,Sheet4!$D$2:$D$8270,Sheet3!AS$3,Sheet4!$E$2:$E$8270,Sheet3!AS$4,Sheet4!$A$2:$A$8270,Sheet3!$B$1,Sheet4!$B$2:$B$8270,Sheet3!$A$3)","v":402},{"$f":"+SUMIFS(Sheet4!$DM$2:$DM$8270,Sheet4!$C$2:$C$8270,Sheet3!$B15,Sheet4!$D$2:$D$8270,Sheet3!AT$3,Sheet4!$E$2:$E$8270,Sheet3!AT$4,Sheet4!$A$2:$A$8270,Sheet3!$B$1,Sheet4!$B$2:$B$8270,Sheet3!$A$3)","v":71},{"$f":"+SUMIFS(Sheet4!$DM$2:$DM$8270,Sheet4!$C$2:$C$8270,Sheet3!$B15,Sheet4!$D$2:$D$8270,Sheet3!AU$3,Sheet4!$E$2:$E$8270,Sheet3!AU$4,Sheet4!$A$2:$A$8270,Sheet3!$B$1,Sheet4!$B$2:$B$8270,Sheet3!$A$3)","v":0},{"$f":"+SUMIFS(Sheet4!$DM$2:$DM$8270,Sheet4!$C$2:$C$8270,Sheet3!$B15,Sheet4!$D$2:$D$8270,Sheet3!AV$3,Sheet4!$E$2:$E$8270,Sheet3!AV$4,Sheet4!$A$2:$A$8270,Sheet3!$B$1,Sheet4!$B$2:$B$8270,Sheet3!$A$3)","v":0},{"$f":"+SUMIFS(Sheet4!$DM$2:$DM$8270,Sheet4!$C$2:$C$8270,Sheet3!$B15,Sheet4!$D$2:$D$8270,Sheet3!AW$3,Sheet4!$E$2:$E$8270,Sheet3!AW$4,Sheet4!$A$2:$A$8270,Sheet3!$B$1,Sheet4!$B$2:$B$8270,Sheet3!$A$3)","v":5364},{"$f":"+SUMIFS(Sheet4!$DM$2:$DM$8270,Sheet4!$C$2:$C$8270,Sheet3!$B15,Sheet4!$D$2:$D$8270,Sheet3!AX$3,Sheet4!$E$2:$E$8270,Sheet3!AX$4,Sheet4!$A$2:$A$8270,Sheet3!$B$1,Sheet4!$B$2:$B$8270,Sheet3!$A$3)","v":4845},{"$f":"+SUMIFS(Sheet4!$DM$2:$DM$8270,Sheet4!$C$2:$C$8270,Sheet3!$B15,Sheet4!$D$2:$D$8270,Sheet3!AY$3,Sheet4!$E$2:$E$8270,Sheet3!AY$4,Sheet4!$A$2:$A$8270,Sheet3!$B$1,Sheet4!$B$2:$B$8270,Sheet3!$A$3)","v":488},{"$f":"+SUMIFS(Sheet4!$DM$2:$DM$8270,Sheet4!$C$2:$C$8270,Sheet3!$B15,Sheet4!$D$2:$D$8270,Sheet3!AZ$3,Sheet4!$E$2:$E$8270,Sheet3!AZ$4,Sheet4!$A$2:$A$8270,Sheet3!$B$1,Sheet4!$B$2:$B$8270,Sheet3!$A$3)","v":0},{"$f":"+SUMIFS(Sheet4!$DM$2:$DM$8270,Sheet4!$C$2:$C$8270,Sheet3!$B15,Sheet4!$D$2:$D$8270,Sheet3!BA$3,Sheet4!$E$2:$E$8270,Sheet3!BA$4,Sheet4!$A$2:$A$8270,Sheet3!$B$1,Sheet4!$B$2:$B$8270,Sheet3!$A$3)","v":0},{"$f":"+SUMIFS(Sheet4!$DM$2:$DM$8270,Sheet4!$C$2:$C$8270,Sheet3!$B15,Sheet4!$D$2:$D$8270,Sheet3!BB$3,Sheet4!$E$2:$E$8270,Sheet3!BB$4,Sheet4!$A$2:$A$8270,Sheet3!$B$1,Sheet4!$B$2:$B$8270,Sheet3!$A$3)","v":0},{"$f":"+SUMIFS(Sheet4!$DM$2:$DM$8270,Sheet4!$C$2:$C$8270,Sheet3!$B15,Sheet4!$D$2:$D$8270,Sheet3!BC$3,Sheet4!$E$2:$E$8270,Sheet3!BC$4,Sheet4!$A$2:$A$8270,Sheet3!$B$1,Sheet4!$B$2:$B$8270,Sheet3!$A$3)","v":0},{"$f":"+SUMIFS(Sheet4!$DM$2:$DM$8270,Sheet4!$C$2:$C$8270,Sheet3!$B15,Sheet4!$D$2:$D$8270,Sheet3!BD$3,Sheet4!$E$2:$E$8270,Sheet3!BD$4,Sheet4!$A$2:$A$8270,Sheet3!$B$1,Sheet4!$B$2:$B$8270,Sheet3!$A$3)","v":22},{"$f":"+SUMIFS(Sheet4!$DM$2:$DM$8270,Sheet4!$C$2:$C$8270,Sheet3!$B15,Sheet4!$D$2:$D$8270,Sheet3!BE$3,Sheet4!$E$2:$E$8270,Sheet3!BE$4,Sheet4!$A$2:$A$8270,Sheet3!$B$1,Sheet4!$B$2:$B$8270,Sheet3!$A$3)","v":0},{"$f":"+SUMIFS(Sheet4!$DM$2:$DM$8270,Sheet4!$C$2:$C$8270,Sheet3!$B15,Sheet4!$D$2:$D$8270,Sheet3!BF$3,Sheet4!$E$2:$E$8270,Sheet3!BF$4,Sheet4!$A$2:$A$8270,Sheet3!$B$1,Sheet4!$B$2:$B$8270,Sheet3!$A$3)","v":0},{"$f":"+SUMIFS(Sheet4!$DM$2:$DM$8270,Sheet4!$C$2:$C$8270,Sheet3!$B15,Sheet4!$D$2:$D$8270,Sheet3!BG$3,Sheet4!$E$2:$E$8270,Sheet3!BG$4,Sheet4!$A$2:$A$8270,Sheet3!$B$1,Sheet4!$B$2:$B$8270,Sheet3!$A$3)","v":32},{"$f":"+SUMIFS(Sheet4!$DM$2:$DM$8270,Sheet4!$C$2:$C$8270,Sheet3!$B15,Sheet4!$D$2:$D$8270,Sheet3!BH$3,Sheet4!$E$2:$E$8270,Sheet3!BH$4,Sheet4!$A$2:$A$8270,Sheet3!$B$1,Sheet4!$B$2:$B$8270,Sheet3!$A$3)","v":66},{"$f":"+SUMIFS(Sheet4!$DM$2:$DM$8270,Sheet4!$C$2:$C$8270,Sheet3!$B15,Sheet4!$D$2:$D$8270,Sheet3!BI$3,Sheet4!$E$2:$E$8270,Sheet3!BI$4,Sheet4!$A$2:$A$8270,Sheet3!$B$1,Sheet4!$B$2:$B$8270,Sheet3!$A$3)","v":65},{"$f":"+SUMIFS(Sheet4!$DM$2:$DM$8270,Sheet4!$C$2:$C$8270,Sheet3!$B15,Sheet4!$D$2:$D$8270,Sheet3!BJ$3,Sheet4!$E$2:$E$8270,Sheet3!BJ$4,Sheet4!$A$2:$A$8270,Sheet3!$B$1,Sheet4!$B$2:$B$8270,Sheet3!$A$3)","v":0},{"$f":"+SUMIFS(Sheet4!$DM$2:$DM$8270,Sheet4!$C$2:$C$8270,Sheet3!$B15,Sheet4!$D$2:$D$8270,Sheet3!BK$3,Sheet4!$E$2:$E$8270,Sheet3!BK$4,Sheet4!$A$2:$A$8270,Sheet3!$B$1,Sheet4!$B$2:$B$8270,Sheet3!$A$3)","v":0},{"$f":"+SUMIFS(Sheet4!$DM$2:$DM$8270,Sheet4!$C$2:$C$8270,Sheet3!$B15,Sheet4!$D$2:$D$8270,Sheet3!BL$3,Sheet4!$E$2:$E$8270,Sheet3!BL$4,Sheet4!$A$2:$A$8270,Sheet3!$B$1,Sheet4!$B$2:$B$8270,Sheet3!$A$3)","v":3},{"$f":"+SUMIFS(Sheet4!$DM$2:$DM$8270,Sheet4!$C$2:$C$8270,Sheet3!$B15,Sheet4!$D$2:$D$8270,Sheet3!BM$3,Sheet4!$E$2:$E$8270,Sheet3!BM$4,Sheet4!$A$2:$A$8270,Sheet3!$B$1,Sheet4!$B$2:$B$8270,Sheet3!$A$3)","v":50},{"$f":"+SUMIFS(Sheet4!$DM$2:$DM$8270,Sheet4!$C$2:$C$8270,Sheet3!$B15,Sheet4!$D$2:$D$8270,Sheet3!BN$3,Sheet4!$E$2:$E$8270,Sheet3!BN$4,Sheet4!$A$2:$A$8270,Sheet3!$B$1,Sheet4!$B$2:$B$8270,Sheet3!$A$3)","v":74},{"$f":"+SUMIFS(Sheet4!$DM$2:$DM$8270,Sheet4!$C$2:$C$8270,Sheet3!$B15,Sheet4!$D$2:$D$8270,Sheet3!BO$3,Sheet4!$E$2:$E$8270,Sheet3!BO$4,Sheet4!$A$2:$A$8270,Sheet3!$B$1,Sheet4!$B$2:$B$8270,Sheet3!$A$3)","v":0},{"$f":"+SUMIFS(Sheet4!$DM$2:$DM$8270,Sheet4!$C$2:$C$8270,Sheet3!$B15,Sheet4!$D$2:$D$8270,Sheet3!BP$3,Sheet4!$E$2:$E$8270,Sheet3!BP$4,Sheet4!$A$2:$A$8270,Sheet3!$B$1,Sheet4!$B$2:$B$8270,Sheet3!$A$3)","v":0},{"$f":"+SUMIFS(Sheet4!$DM$2:$DM$8270,Sheet4!$C$2:$C$8270,Sheet3!$B15,Sheet4!$D$2:$D$8270,Sheet3!BQ$3,Sheet4!$E$2:$E$8270,Sheet3!BQ$4,Sheet4!$A$2:$A$8270,Sheet3!$B$1,Sheet4!$B$2:$B$8270,Sheet3!$A$3)","v":222},{"$f":"+SUMIFS(Sheet4!$DM$2:$DM$8270,Sheet4!$C$2:$C$8270,Sheet3!$B15,Sheet4!$D$2:$D$8270,Sheet3!BR$3,Sheet4!$E$2:$E$8270,Sheet3!BR$4,Sheet4!$A$2:$A$8270,Sheet3!$B$1,Sheet4!$B$2:$B$8270,Sheet3!$A$3)","v":358},{"$f":"+SUMIFS(Sheet4!$DM$2:$DM$8270,Sheet4!$C$2:$C$8270,Sheet3!$B15,Sheet4!$D$2:$D$8270,Sheet3!BS$3,Sheet4!$E$2:$E$8270,Sheet3!BS$4,Sheet4!$A$2:$A$8270,Sheet3!$B$1,Sheet4!$B$2:$B$8270,Sheet3!$A$3)","v":151},{"$f":"+SUMIFS(Sheet4!$DM$2:$DM$8270,Sheet4!$C$2:$C$8270,Sheet3!$B15,Sheet4!$D$2:$D$8270,Sheet3!BT$3,Sheet4!$E$2:$E$8270,Sheet3!BT$4,Sheet4!$A$2:$A$8270,Sheet3!$B$1,Sheet4!$B$2:$B$8270,Sheet3!$A$3)","v":0},{"$f":"+SUMIFS(Sheet4!$DM$2:$DM$8270,Sheet4!$C$2:$C$8270,Sheet3!$B15,Sheet4!$D$2:$D$8270,Sheet3!BU$3,Sheet4!$E$2:$E$8270,Sheet3!BU$4,Sheet4!$A$2:$A$8270,Sheet3!$B$1,Sheet4!$B$2:$B$8270,Sheet3!$A$3)","v":0},{"$f":"+SUMIFS(Sheet4!$DM$2:$DM$8270,Sheet4!$C$2:$C$8270,Sheet3!$B15,Sheet4!$D$2:$D$8270,Sheet3!BV$3,Sheet4!$E$2:$E$8270,Sheet3!BV$4,Sheet4!$A$2:$A$8270,Sheet3!$B$1,Sheet4!$B$2:$B$8270,Sheet3!$A$3)","v":134},{"$f":"+SUMIFS(Sheet4!$DM$2:$DM$8270,Sheet4!$C$2:$C$8270,Sheet3!$B15,Sheet4!$D$2:$D$8270,Sheet3!BW$3,Sheet4!$E$2:$E$8270,Sheet3!BW$4,Sheet4!$A$2:$A$8270,Sheet3!$B$1,Sheet4!$B$2:$B$8270,Sheet3!$A$3)","v":569},{"$f":"+SUMIFS(Sheet4!$DM$2:$DM$8270,Sheet4!$C$2:$C$8270,Sheet3!$B15,Sheet4!$D$2:$D$8270,Sheet3!BX$3,Sheet4!$E$2:$E$8270,Sheet3!BX$4,Sheet4!$A$2:$A$8270,Sheet3!$B$1,Sheet4!$B$2:$B$8270,Sheet3!$A$3)","v":367},{"$f":"+SUMIFS(Sheet4!$DM$2:$DM$8270,Sheet4!$C$2:$C$8270,Sheet3!$B15,Sheet4!$D$2:$D$8270,Sheet3!BY$3,Sheet4!$E$2:$E$8270,Sheet3!BY$4,Sheet4!$A$2:$A$8270,Sheet3!$B$1,Sheet4!$B$2:$B$8270,Sheet3!$A$3)","v":0},{"$f":"+SUMIFS(Sheet4!$DM$2:$DM$8270,Sheet4!$C$2:$C$8270,Sheet3!$B15,Sheet4!$D$2:$D$8270,Sheet3!BZ$3,Sheet4!$E$2:$E$8270,Sheet3!BZ$4,Sheet4!$A$2:$A$8270,Sheet3!$B$1,Sheet4!$B$2:$B$8270,Sheet3!$A$3)","v":0},{"$f":"+SUMIFS(Sheet4!$DM$2:$DM$8270,Sheet4!$C$2:$C$8270,Sheet3!$B15,Sheet4!$D$2:$D$8270,Sheet3!CA$3,Sheet4!$E$2:$E$8270,Sheet3!CA$4,Sheet4!$A$2:$A$8270,Sheet3!$B$1,Sheet4!$B$2:$B$8270,Sheet3!$A$3)","v":134},{"$f":"+SUMIFS(Sheet4!$DM$2:$DM$8270,Sheet4!$C$2:$C$8270,Sheet3!$B15,Sheet4!$D$2:$D$8270,Sheet3!CB$3,Sheet4!$E$2:$E$8270,Sheet3!CB$4,Sheet4!$A$2:$A$8270,Sheet3!$B$1,Sheet4!$B$2:$B$8270,Sheet3!$A$3)","v":107},{"$f":"+SUMIFS(Sheet4!$DM$2:$DM$8270,Sheet4!$C$2:$C$8270,Sheet3!$B15,Sheet4!$D$2:$D$8270,Sheet3!CC$3,Sheet4!$E$2:$E$8270,Sheet3!CC$4,Sheet4!$A$2:$A$8270,Sheet3!$B$1,Sheet4!$B$2:$B$8270,Sheet3!$A$3)","v":14},{"$f":"+SUMIFS(Sheet4!$DM$2:$DM$8270,Sheet4!$C$2:$C$8270,Sheet3!$B15,Sheet4!$D$2:$D$8270,Sheet3!CD$3,Sheet4!$E$2:$E$8270,Sheet3!CD$4,Sheet4!$A$2:$A$8270,Sheet3!$B$1,Sheet4!$B$2:$B$8270,Sheet3!$A$3)","v":0},{"$f":"+SUMIFS(Sheet4!$DM$2:$DM$8270,Sheet4!$C$2:$C$8270,Sheet3!$B15,Sheet4!$D$2:$D$8270,Sheet3!CE$3,Sheet4!$E$2:$E$8270,Sheet3!CE$4,Sheet4!$A$2:$A$8270,Sheet3!$B$1,Sheet4!$B$2:$B$8270,Sheet3!$A$3)","v":0},{"$f":"+SUMIFS(Sheet4!$DM$2:$DM$8270,Sheet4!$C$2:$C$8270,Sheet3!$B15,Sheet4!$D$2:$D$8270,Sheet3!CF$3,Sheet4!$E$2:$E$8270,Sheet3!CF$4,Sheet4!$A$2:$A$8270,Sheet3!$B$1,Sheet4!$B$2:$B$8270,Sheet3!$A$3)","v":0},{"$f":"+SUMIFS(Sheet4!$DM$2:$DM$8270,Sheet4!$C$2:$C$8270,Sheet3!$B15,Sheet4!$D$2:$D$8270,Sheet3!CG$3,Sheet4!$E$2:$E$8270,Sheet3!CG$4,Sheet4!$A$2:$A$8270,Sheet3!$B$1,Sheet4!$B$2:$B$8270,Sheet3!$A$3)","v":0},{"$f":"+SUMIFS(Sheet4!$DM$2:$DM$8270,Sheet4!$C$2:$C$8270,Sheet3!$B15,Sheet4!$D$2:$D$8270,Sheet3!CH$3,Sheet4!$E$2:$E$8270,Sheet3!CH$4,Sheet4!$A$2:$A$8270,Sheet3!$B$1,Sheet4!$B$2:$B$8270,Sheet3!$A$3)","v":0},{"$f":"+SUMIFS(Sheet4!$DM$2:$DM$8270,Sheet4!$C$2:$C$8270,Sheet3!$B15,Sheet4!$D$2:$D$8270,Sheet3!CI$3,Sheet4!$E$2:$E$8270,Sheet3!CI$4,Sheet4!$A$2:$A$8270,Sheet3!$B$1,Sheet4!$B$2:$B$8270,Sheet3!$A$3)","v":0},{"$f":"+SUMIFS(Sheet4!$DM$2:$DM$8270,Sheet4!$C$2:$C$8270,Sheet3!$B15,Sheet4!$D$2:$D$8270,Sheet3!CJ$3,Sheet4!$E$2:$E$8270,Sheet3!CJ$4,Sheet4!$A$2:$A$8270,Sheet3!$B$1,Sheet4!$B$2:$B$8270,Sheet3!$A$3)","v":0},{"$f":"+SUMIFS(Sheet4!$DM$2:$DM$8270,Sheet4!$C$2:$C$8270,Sheet3!$B15,Sheet4!$D$2:$D$8270,Sheet3!CK$3,Sheet4!$E$2:$E$8270,Sheet3!CK$4,Sheet4!$A$2:$A$8270,Sheet3!$B$1,Sheet4!$B$2:$B$8270,Sheet3!$A$3)","v":0},{"$f":"+SUMIFS(Sheet4!$DM$2:$DM$8270,Sheet4!$C$2:$C$8270,Sheet3!$B15,Sheet4!$D$2:$D$8270,Sheet3!CL$3,Sheet4!$E$2:$E$8270,Sheet3!CL$4,Sheet4!$A$2:$A$8270,Sheet3!$B$1,Sheet4!$B$2:$B$8270,Sheet3!$A$3)","v":0},{"$f":"+SUMIFS(Sheet4!$DM$2:$DM$8270,Sheet4!$C$2:$C$8270,Sheet3!$B15,Sheet4!$D$2:$D$8270,Sheet3!CM$3,Sheet4!$E$2:$E$8270,Sheet3!CM$4,Sheet4!$A$2:$A$8270,Sheet3!$B$1,Sheet4!$B$2:$B$8270,Sheet3!$A$3)","v":0},{"$f":"+SUMIFS(Sheet4!$DM$2:$DM$8270,Sheet4!$C$2:$C$8270,Sheet3!$B15,Sheet4!$D$2:$D$8270,Sheet3!CN$3,Sheet4!$E$2:$E$8270,Sheet3!CN$4,Sheet4!$A$2:$A$8270,Sheet3!$B$1,Sheet4!$B$2:$B$8270,Sheet3!$A$3)","v":0},{"$f":"+SUMIFS(Sheet4!$DM$2:$DM$8270,Sheet4!$C$2:$C$8270,Sheet3!$B15,Sheet4!$D$2:$D$8270,Sheet3!CO$3,Sheet4!$E$2:$E$8270,Sheet3!CO$4,Sheet4!$A$2:$A$8270,Sheet3!$B$1,Sheet4!$B$2:$B$8270,Sheet3!$A$3)","v":0},{"$f":"+IF(SUMIFS(Sheet4!$DN$2:$DN$8270,Sheet4!$C$2:$C$8270,Sheet3!$B15,Sheet4!$D$2:$D$8270,Sheet3!CP$3,Sheet4!$A$2:$A$8270,Sheet3!$B$1,Sheet4!$B$2:$B$8270,Sheet3!$A$3)<3,0,SUMIFS(Sheet4!$DN$2:$DN$8270,Sheet4!$C$2:$C$8270,Sheet3!$B15,Sheet4!$D$2:$D$8270,Sheet3!CP$3,Sheet4!$A$2:$A$8270,Sheet3!$B$1,Sheet4!$B$2:$B$8270,Sheet3!$A$3))","v":51},{"$f":"+IF(SUMIFS(Sheet4!$DN$2:$DN$8270,Sheet4!$C$2:$C$8270,Sheet3!$B15,Sheet4!$D$2:$D$8270,Sheet3!CQ$3,Sheet4!$A$2:$A$8270,Sheet3!$B$1,Sheet4!$B$2:$B$8270,Sheet3!$A$3)<3,0,SUMIFS(Sheet4!$DN$2:$DN$8270,Sheet4!$C$2:$C$8270,Sheet3!$B15,Sheet4!$D$2:$D$8270,Sheet3!CQ$3,Sheet4!$A$2:$A$8270,Sheet3!$B$1,Sheet4!$B$2:$B$8270,Sheet3!$A$3))","v":5},{"$f":"+IF(SUMIFS(Sheet4!$DN$2:$DN$8270,Sheet4!$C$2:$C$8270,Sheet3!$B15,Sheet4!$D$2:$D$8270,Sheet3!CR$3,Sheet4!$A$2:$A$8270,Sheet3!$B$1,Sheet4!$B$2:$B$8270,Sheet3!$A$3)<3,0,SUMIFS(Sheet4!$DN$2:$DN$8270,Sheet4!$C$2:$C$8270,Sheet3!$B15,Sheet4!$D$2:$D$8270,Sheet3!CR$3,Sheet4!$A$2:$A$8270,Sheet3!$B$1,Sheet4!$B$2:$B$8270,Sheet3!$A$3))","v":613},{"$f":"+IF(SUMIFS(Sheet4!$DN$2:$DN$8270,Sheet4!$C$2:$C$8270,Sheet3!$B15,Sheet4!$D$2:$D$8270,Sheet3!CS$3,Sheet4!$A$2:$A$8270,Sheet3!$B$1,Sheet4!$B$2:$B$8270,Sheet3!$A$3)<3,0,SUMIFS(Sheet4!$DN$2:$DN$8270,Sheet4!$C$2:$C$8270,Sheet3!$B15,Sheet4!$D$2:$D$8270,Sheet3!CS$3,Sheet4!$A$2:$A$8270,Sheet3!$B$1,Sheet4!$B$2:$B$8270,Sheet3!$A$3))","v":0},{"$f":"+IF(SUMIFS(Sheet4!$DN$2:$DN$8270,Sheet4!$C$2:$C$8270,Sheet3!$B15,Sheet4!$D$2:$D$8270,Sheet3!CT$3,Sheet4!$A$2:$A$8270,Sheet3!$B$1,Sheet4!$B$2:$B$8270,Sheet3!$A$3)<3,0,SUMIFS(Sheet4!$DN$2:$DN$8270,Sheet4!$C$2:$C$8270,Sheet3!$B15,Sheet4!$D$2:$D$8270,Sheet3!CT$3,Sheet4!$A$2:$A$8270,Sheet3!$B$1,Sheet4!$B$2:$B$8270,Sheet3!$A$3))","v":10},{"$f":"+IF(SUMIFS(Sheet4!$DN$2:$DN$8270,Sheet4!$C$2:$C$8270,Sheet3!$B15,Sheet4!$D$2:$D$8270,Sheet3!CU$3,Sheet4!$A$2:$A$8270,Sheet3!$B$1,Sheet4!$B$2:$B$8270,Sheet3!$A$3)<3,0,SUMIFS(Sheet4!$DN$2:$DN$8270,Sheet4!$C$2:$C$8270,Sheet3!$B15,Sheet4!$D$2:$D$8270,Sheet3!CU$3,Sheet4!$A$2:$A$8270,Sheet3!$B$1,Sheet4!$B$2:$B$8270,Sheet3!$A$3))","v":4914},{"$f":"+IF(SUMIFS(Sheet4!$DN$2:$DN$8270,Sheet4!$C$2:$C$8270,Sheet3!$B15,Sheet4!$D$2:$D$8270,Sheet3!CV$3,Sheet4!$A$2:$A$8270,Sheet3!$B$1,Sheet4!$B$2:$B$8270,Sheet3!$A$3)<3,0,SUMIFS(Sheet4!$DN$2:$DN$8270,Sheet4!$C$2:$C$8270,Sheet3!$B15,Sheet4!$D$2:$D$8270,Sheet3!CV$3,Sheet4!$A$2:$A$8270,Sheet3!$B$1,Sheet4!$B$2:$B$8270,Sheet3!$A$3))","v":177},{"$f":"+IF(SUMIFS(Sheet4!$DN$2:$DN$8270,Sheet4!$C$2:$C$8270,Sheet3!$B15,Sheet4!$D$2:$D$8270,Sheet3!CW$3,Sheet4!$A$2:$A$8270,Sheet3!$B$1,Sheet4!$B$2:$B$8270,Sheet3!$A$3)<3,0,SUMIFS(Sheet4!$DN$2:$DN$8270,Sheet4!$C$2:$C$8270,Sheet3!$B15,Sheet4!$D$2:$D$8270,Sheet3!CW$3,Sheet4!$A$2:$A$8270,Sheet3!$B$1,Sheet4!$B$2:$B$8270,Sheet3!$A$3))","v":2144},{"$f":"+IF(SUMIFS(Sheet4!$DN$2:$DN$8270,Sheet4!$C$2:$C$8270,Sheet3!$B15,Sheet4!$D$2:$D$8270,Sheet3!CX$3,Sheet4!$A$2:$A$8270,Sheet3!$B$1,Sheet4!$B$2:$B$8270,Sheet3!$A$3)<3,0,SUMIFS(Sheet4!$DN$2:$DN$8270,Sheet4!$C$2:$C$8270,Sheet3!$B15,Sheet4!$D$2:$D$8270,Sheet3!CX$3,Sheet4!$A$2:$A$8270,Sheet3!$B$1,Sheet4!$B$2:$B$8270,Sheet3!$A$3))","v":2061},{"$f":"+IF(SUMIFS(Sheet4!$DN$2:$DN$8270,Sheet4!$C$2:$C$8270,Sheet3!$B15,Sheet4!$D$2:$D$8270,Sheet3!CY$3,Sheet4!$A$2:$A$8270,Sheet3!$B$1,Sheet4!$B$2:$B$8270,Sheet3!$A$3)<3,0,SUMIFS(Sheet4!$DN$2:$DN$8270,Sheet4!$C$2:$C$8270,Sheet3!$B15,Sheet4!$D$2:$D$8270,Sheet3!CY$3,Sheet4!$A$2:$A$8270,Sheet3!$B$1,Sheet4!$B$2:$B$8270,Sheet3!$A$3))","v":10701},{"$f":"+IF(SUMIFS(Sheet4!$DN$2:$DN$8270,Sheet4!$C$2:$C$8270,Sheet3!$B15,Sheet4!$D$2:$D$8270,Sheet3!CZ$3,Sheet4!$A$2:$A$8270,Sheet3!$B$1,Sheet4!$B$2:$B$8270,Sheet3!$A$3)<3,0,SUMIFS(Sheet4!$DN$2:$DN$8270,Sheet4!$C$2:$C$8270,Sheet3!$B15,Sheet4!$D$2:$D$8270,Sheet3!CZ$3,Sheet4!$A$2:$A$8270,Sheet3!$B$1,Sheet4!$B$2:$B$8270,Sheet3!$A$3))","v":27},{"$f":"+IF(SUMIFS(Sheet4!$DN$2:$DN$8270,Sheet4!$C$2:$C$8270,Sheet3!$B15,Sheet4!$D$2:$D$8270,Sheet3!DA$3,Sheet4!$A$2:$A$8270,Sheet3!$B$1,Sheet4!$B$2:$B$8270,Sheet3!$A$3)<3,0,SUMIFS(Sheet4!$DN$2:$DN$8270,Sheet4!$C$2:$C$8270,Sheet3!$B15,Sheet4!$D$2:$D$8270,Sheet3!DA$3,Sheet4!$A$2:$A$8270,Sheet3!$B$1,Sheet4!$B$2:$B$8270,Sheet3!$A$3))","v":167},{"$f":"+IF(SUMIFS(Sheet4!$DN$2:$DN$8270,Sheet4!$C$2:$C$8270,Sheet3!$B15,Sheet4!$D$2:$D$8270,Sheet3!DB$3,Sheet4!$A$2:$A$8270,Sheet3!$B$1,Sheet4!$B$2:$B$8270,Sheet3!$A$3)<3,0,SUMIFS(Sheet4!$DN$2:$DN$8270,Sheet4!$C$2:$C$8270,Sheet3!$B15,Sheet4!$D$2:$D$8270,Sheet3!DB$3,Sheet4!$A$2:$A$8270,Sheet3!$B$1,Sheet4!$B$2:$B$8270,Sheet3!$A$3))","v":138},{"$f":"+IF(SUMIFS(Sheet4!$DN$2:$DN$8270,Sheet4!$C$2:$C$8270,Sheet3!$B15,Sheet4!$D$2:$D$8270,Sheet3!DC$3,Sheet4!$A$2:$A$8270,Sheet3!$B$1,Sheet4!$B$2:$B$8270,Sheet3!$A$3)<3,0,SUMIFS(Sheet4!$DN$2:$DN$8270,Sheet4!$C$2:$C$8270,Sheet3!$B15,Sheet4!$D$2:$D$8270,Sheet3!DC$3,Sheet4!$A$2:$A$8270,Sheet3!$B$1,Sheet4!$B$2:$B$8270,Sheet3!$A$3))","v":732},{"$f":"+IF(SUMIFS(Sheet4!$DN$2:$DN$8270,Sheet4!$C$2:$C$8270,Sheet3!$B15,Sheet4!$D$2:$D$8270,Sheet3!DD$3,Sheet4!$A$2:$A$8270,Sheet3!$B$1,Sheet4!$B$2:$B$8270,Sheet3!$A$3)<3,0,SUMIFS(Sheet4!$DN$2:$DN$8270,Sheet4!$C$2:$C$8270,Sheet3!$B15,Sheet4!$D$2:$D$8270,Sheet3!DD$3,Sheet4!$A$2:$A$8270,Sheet3!$B$1,Sheet4!$B$2:$B$8270,Sheet3!$A$3))","v":1072},{"$f":"+IF(SUMIFS(Sheet4!$DN$2:$DN$8270,Sheet4!$C$2:$C$8270,Sheet3!$B15,Sheet4!$D$2:$D$8270,Sheet3!DE$3,Sheet4!$A$2:$A$8270,Sheet3!$B$1,Sheet4!$B$2:$B$8270,Sheet3!$A$3)<3,0,SUMIFS(Sheet4!$DN$2:$DN$8270,Sheet4!$C$2:$C$8270,Sheet3!$B15,Sheet4!$D$2:$D$8270,Sheet3!DE$3,Sheet4!$A$2:$A$8270,Sheet3!$B$1,Sheet4!$B$2:$B$8270,Sheet3!$A$3))","v":258},{"$f":"+IF(SUMIFS(Sheet4!$DN$2:$DN$8270,Sheet4!$C$2:$C$8270,Sheet3!$B15,Sheet4!$D$2:$D$8270,Sheet3!DF$3,Sheet4!$A$2:$A$8270,Sheet3!$B$1,Sheet4!$B$2:$B$8270,Sheet3!$A$3)<3,0,SUMIFS(Sheet4!$DN$2:$DN$8270,Sheet4!$C$2:$C$8270,Sheet3!$B15,Sheet4!$D$2:$D$8270,Sheet3!DF$3,Sheet4!$A$2:$A$8270,Sheet3!$B$1,Sheet4!$B$2:$B$8270,Sheet3!$A$3))","v":0},{"$f":"+IF(SUMIFS(Sheet4!$DN$2:$DN$8270,Sheet4!$C$2:$C$8270,Sheet3!$B15,Sheet4!$D$2:$D$8270,Sheet3!DG$3,Sheet4!$A$2:$A$8270,Sheet3!$B$1,Sheet4!$B$2:$B$8270,Sheet3!$A$3)<3,0,SUMIFS(Sheet4!$DN$2:$DN$8270,Sheet4!$C$2:$C$8270,Sheet3!$B15,Sheet4!$D$2:$D$8270,Sheet3!DG$3,Sheet4!$A$2:$A$8270,Sheet3!$B$1,Sheet4!$B$2:$B$8270,Sheet3!$A$3))","v":6},{"$f":"+IF(SUMIFS(Sheet4!$DN$2:$DN$8270,Sheet4!$C$2:$C$8270,Sheet3!$B15,Sheet4!$E$2:$E$8270,Sheet3!DH$4,Sheet4!$A$2:$A$8270,Sheet3!$B$1,Sheet4!$B$2:$B$8270,Sheet3!$A$3)<3,0,SUMIFS(Sheet4!$DN$2:$DN$8270,Sheet4!$C$2:$C$8270,Sheet3!$B15,Sheet4!$E$2:$E$8270,Sheet3!DH$4,Sheet4!$A$2:$A$8270,Sheet3!$B$1,Sheet4!$B$2:$B$8270,Sheet3!$A$3))","v":12133},{"$f":"+IF(SUMIFS(Sheet4!$DN$2:$DN$8270,Sheet4!$C$2:$C$8270,Sheet3!$B15,Sheet4!$E$2:$E$8270,Sheet3!DI$4,Sheet4!$A$2:$A$8270,Sheet3!$B$1,Sheet4!$B$2:$B$8270,Sheet3!$A$3)<3,0,SUMIFS(Sheet4!$DN$2:$DN$8270,Sheet4!$C$2:$C$8270,Sheet3!$B15,Sheet4!$E$2:$E$8270,Sheet3!DI$4,Sheet4!$A$2:$A$8270,Sheet3!$B$1,Sheet4!$B$2:$B$8270,Sheet3!$A$3))","v":9408},{"$f":"+IF(SUMIFS(Sheet4!$DN$2:$DN$8270,Sheet4!$C$2:$C$8270,Sheet3!$B15,Sheet4!$E$2:$E$8270,Sheet3!DJ$4,Sheet4!$A$2:$A$8270,Sheet3!$B$1,Sheet4!$B$2:$B$8270,Sheet3!$A$3)<3,0,SUMIFS(Sheet4!$DN$2:$DN$8270,Sheet4!$C$2:$C$8270,Sheet3!$B15,Sheet4!$E$2:$E$8270,Sheet3!DJ$4,Sheet4!$A$2:$A$8270,Sheet3!$B$1,Sheet4!$B$2:$B$8270,Sheet3!$A$3))","v":1523},{"$f":"+IF(SUMIFS(Sheet4!$DN$2:$DN$8270,Sheet4!$C$2:$C$8270,Sheet3!$B15,Sheet4!$E$2:$E$8270,Sheet3!DK$4,Sheet4!$A$2:$A$8270,Sheet3!$B$1,Sheet4!$B$2:$B$8270,Sheet3!$A$3)<3,0,SUMIFS(Sheet4!$DN$2:$DN$8270,Sheet4!$C$2:$C$8270,Sheet3!$B15,Sheet4!$E$2:$E$8270,Sheet3!DK$4,Sheet4!$A$2:$A$8270,Sheet3!$B$1,Sheet4!$B$2:$B$8270,Sheet3!$A$3))","v":11},{"$f":"+IF(SUMIFS(Sheet4!$DN$2:$DN$8270,Sheet4!$C$2:$C$8270,Sheet3!$B15,Sheet4!$E$2:$E$8270,Sheet3!DL$4,Sheet4!$A$2:$A$8270,Sheet3!$B$1,Sheet4!$B$2:$B$8270,Sheet3!$A$3)<3,0,SUMIFS(Sheet4!$DN$2:$DN$8270,Sheet4!$C$2:$C$8270,Sheet3!$B15,Sheet4!$E$2:$E$8270,Sheet3!DL$4,Sheet4!$A$2:$A$8270,Sheet3!$B$1,Sheet4!$B$2:$B$8270,Sheet3!$A$3))","v":0}]
[3,"16B","Oeste",{"$f":"+SUMIFS(Sheet4!$DM$2:$DM$8270,Sheet4!$C$2:$C$8270,Sheet3!$B16,Sheet4!$D$2:$D$8270,Sheet3!D$3,Sheet4!$E$2:$E$8270,Sheet3!D$4,Sheet4!$A$2:$A$8270,Sheet3!$B$1,Sheet4!$B$2:$B$8270,Sheet3!$A$3)","v":18},{"$f":"+SUMIFS(Sheet4!$DM$2:$DM$8270,Sheet4!$C$2:$C$8270,Sheet3!$B16,Sheet4!$D$2:$D$8270,Sheet3!E$3,Sheet4!$E$2:$E$8270,Sheet3!E$4,Sheet4!$A$2:$A$8270,Sheet3!$B$1,Sheet4!$B$2:$B$8270,Sheet3!$A$3)","v":6},{"$f":"+SUMIFS(Sheet4!$DM$2:$DM$8270,Sheet4!$C$2:$C$8270,Sheet3!$B16,Sheet4!$D$2:$D$8270,Sheet3!F$3,Sheet4!$E$2:$E$8270,Sheet3!F$4,Sheet4!$A$2:$A$8270,Sheet3!$B$1,Sheet4!$B$2:$B$8270,Sheet3!$A$3)","v":5},{"$f":"+SUMIFS(Sheet4!$DM$2:$DM$8270,Sheet4!$C$2:$C$8270,Sheet3!$B16,Sheet4!$D$2:$D$8270,Sheet3!G$3,Sheet4!$E$2:$E$8270,Sheet3!G$4,Sheet4!$A$2:$A$8270,Sheet3!$B$1,Sheet4!$B$2:$B$8270,Sheet3!$A$3)","v":0},{"$f":"+SUMIFS(Sheet4!$DM$2:$DM$8270,Sheet4!$C$2:$C$8270,Sheet3!$B16,Sheet4!$D$2:$D$8270,Sheet3!H$3,Sheet4!$E$2:$E$8270,Sheet3!H$4,Sheet4!$A$2:$A$8270,Sheet3!$B$1,Sheet4!$B$2:$B$8270,Sheet3!$A$3)","v":0},{"$f":"+SUMIFS(Sheet4!$DM$2:$DM$8270,Sheet4!$C$2:$C$8270,Sheet3!$B16,Sheet4!$D$2:$D$8270,Sheet3!I$3,Sheet4!$E$2:$E$8270,Sheet3!I$4,Sheet4!$A$2:$A$8270,Sheet3!$B$1,Sheet4!$B$2:$B$8270,Sheet3!$A$3)","v":0},{"$f":"+SUMIFS(Sheet4!$DM$2:$DM$8270,Sheet4!$C$2:$C$8270,Sheet3!$B16,Sheet4!$D$2:$D$8270,Sheet3!J$3,Sheet4!$E$2:$E$8270,Sheet3!J$4,Sheet4!$A$2:$A$8270,Sheet3!$B$1,Sheet4!$B$2:$B$8270,Sheet3!$A$3)","v":0},{"$f":"+SUMIFS(Sheet4!$DM$2:$DM$8270,Sheet4!$C$2:$C$8270,Sheet3!$B16,Sheet4!$D$2:$D$8270,Sheet3!K$3,Sheet4!$E$2:$E$8270,Sheet3!K$4,Sheet4!$A$2:$A$8270,Sheet3!$B$1,Sheet4!$B$2:$B$8270,Sheet3!$A$3)","v":0},{"$f":"+SUMIFS(Sheet4!$DM$2:$DM$8270,Sheet4!$C$2:$C$8270,Sheet3!$B16,Sheet4!$D$2:$D$8270,Sheet3!L$3,Sheet4!$E$2:$E$8270,Sheet3!L$4,Sheet4!$A$2:$A$8270,Sheet3!$B$1,Sheet4!$B$2:$B$8270,Sheet3!$A$3)","v":0},{"$f":"+SUMIFS(Sheet4!$DM$2:$DM$8270,Sheet4!$C$2:$C$8270,Sheet3!$B16,Sheet4!$D$2:$D$8270,Sheet3!M$3,Sheet4!$E$2:$E$8270,Sheet3!M$4,Sheet4!$A$2:$A$8270,Sheet3!$B$1,Sheet4!$B$2:$B$8270,Sheet3!$A$3)","v":0},{"$f":"+SUMIFS(Sheet4!$DM$2:$DM$8270,Sheet4!$C$2:$C$8270,Sheet3!$B16,Sheet4!$D$2:$D$8270,Sheet3!N$3,Sheet4!$E$2:$E$8270,Sheet3!N$4,Sheet4!$A$2:$A$8270,Sheet3!$B$1,Sheet4!$B$2:$B$8270,Sheet3!$A$3)","v":42},{"$f":"+SUMIFS(Sheet4!$DM$2:$DM$8270,Sheet4!$C$2:$C$8270,Sheet3!$B16,Sheet4!$D$2:$D$8270,Sheet3!O$3,Sheet4!$E$2:$E$8270,Sheet3!O$4,Sheet4!$A$2:$A$8270,Sheet3!$B$1,Sheet4!$B$2:$B$8270,Sheet3!$A$3)","v":27},{"$f":"+SUMIFS(Sheet4!$DM$2:$DM$8270,Sheet4!$C$2:$C$8270,Sheet3!$B16,Sheet4!$D$2:$D$8270,Sheet3!P$3,Sheet4!$E$2:$E$8270,Sheet3!P$4,Sheet4!$A$2:$A$8270,Sheet3!$B$1,Sheet4!$B$2:$B$8270,Sheet3!$A$3)","v":6},{"$f":"+SUMIFS(Sheet4!$DM$2:$DM$8270,Sheet4!$C$2:$C$8270,Sheet3!$B16,Sheet4!$D$2:$D$8270,Sheet3!Q$3,Sheet4!$E$2:$E$8270,Sheet3!Q$4,Sheet4!$A$2:$A$8270,Sheet3!$B$1,Sheet4!$B$2:$B$8270,Sheet3!$A$3)","v":0},{"$f":"+SUMIFS(Sheet4!$DM$2:$DM$8270,Sheet4!$C$2:$C$8270,Sheet3!$B16,Sheet4!$D$2:$D$8270,Sheet3!R$3,Sheet4!$E$2:$E$8270,Sheet3!R$4,Sheet4!$A$2:$A$8270,Sheet3!$B$1,Sheet4!$B$2:$B$8270,Sheet3!$A$3)","v":0},{"$f":"+SUMIFS(Sheet4!$DM$2:$DM$8270,Sheet4!$C$2:$C$8270,Sheet3!$B16,Sheet4!$D$2:$D$8270,Sheet3!S$3,Sheet4!$E$2:$E$8270,Sheet3!S$4,Sheet4!$A$2:$A$8270,Sheet3!$B$1,Sheet4!$B$2:$B$8270,Sheet3!$A$3)","v":0},{"$f":"+SUMIFS(Sheet4!$DM$2:$DM$8270,Sheet4!$C$2:$C$8270,Sheet3!$B16,Sheet4!$D$2:$D$8270,Sheet3!T$3,Sheet4!$E$2:$E$8270,Sheet3!T$4,Sheet4!$A$2:$A$8270,Sheet3!$B$1,Sheet4!$B$2:$B$8270,Sheet3!$A$3)","v":0},{"$f":"+SUMIFS(Sheet4!$DM$2:$DM$8270,Sheet4!$C$2:$C$8270,Sheet3!$B16,Sheet4!$D$2:$D$8270,Sheet3!U$3,Sheet4!$E$2:$E$8270,Sheet3!U$4,Sheet4!$A$2:$A$8270,Sheet3!$B$1,Sheet4!$B$2:$B$8270,Sheet3!$A$3)","v":0},{"$f":"+SUMIFS(Sheet4!$DM$2:$DM$8270,Sheet4!$C$2:$C$8270,Sheet3!$B16,Sheet4!$D$2:$D$8270,Sheet3!V$3,Sheet4!$E$2:$E$8270,Sheet3!V$4,Sheet4!$A$2:$A$8270,Sheet3!$B$1,Sheet4!$B$2:$B$8270,Sheet3!$A$3)","v":0},{"$f":"+SUMIFS(Sheet4!$DM$2:$DM$8270,Sheet4!$C$2:$C$8270,Sheet3!$B16,Sheet4!$D$2:$D$8270,Sheet3!W$3,Sheet4!$E$2:$E$8270,Sheet3!W$4,Sheet4!$A$2:$A$8270,Sheet3!$B$1,Sheet4!$B$2:$B$8270,Sheet3!$A$3)","v":0},{"$f":"+SUMIFS(Sheet4!$DM$2:$DM$8270,Sheet4!$C$2:$C$8270,Sheet3!$B16,Sheet4!$D$2:$D$8270,Sheet3!X$3,Sheet4!$E$2:$E$8270,Sheet3!X$4,Sheet4!$A$2:$A$8270,Sheet3!$B$1,Sheet4!$B$2:$B$8270,Sheet3!$A$3)","v":0},{"$f":"+SUMIFS(Sheet4!$DM$2:$DM$8270,Sheet4!$C$2:$C$8270,Sheet3!$B16,Sheet4!$D$2:$D$8270,Sheet3!Y$3,Sheet4!$E$2:$E$8270,Sheet3!Y$4,Sheet4!$A$2:$A$8270,Sheet3!$B$1,Sheet4!$B$2:$B$8270,Sheet3!$A$3)","v":0},{"$f":"+SUMIFS(Sheet4!$DM$2:$DM$8270,Sheet4!$C$2:$C$8270,Sheet3!$B16,Sheet4!$D$2:$D$8270,Sheet3!Z$3,Sheet4!$E$2:$E$8270,Sheet3!Z$4,Sheet4!$A$2:$A$8270,Sheet3!$B$1,Sheet4!$B$2:$B$8270,Sheet3!$A$3)","v":0},{"$f":"+SUMIFS(Sheet4!$DM$2:$DM$8270,Sheet4!$C$2:$C$8270,Sheet3!$B16,Sheet4!$D$2:$D$8270,Sheet3!AA$3,Sheet4!$E$2:$E$8270,Sheet3!AA$4,Sheet4!$A$2:$A$8270,Sheet3!$B$1,Sheet4!$B$2:$B$8270,Sheet3!$A$3)","v":0},{"$f":"+SUMIFS(Sheet4!$DM$2:$DM$8270,Sheet4!$C$2:$C$8270,Sheet3!$B16,Sheet4!$D$2:$D$8270,Sheet3!AB$3,Sheet4!$E$2:$E$8270,Sheet3!AB$4,Sheet4!$A$2:$A$8270,Sheet3!$B$1,Sheet4!$B$2:$B$8270,Sheet3!$A$3)","v":0},{"$f":"+SUMIFS(Sheet4!$DM$2:$DM$8270,Sheet4!$C$2:$C$8270,Sheet3!$B16,Sheet4!$D$2:$D$8270,Sheet3!AC$3,Sheet4!$E$2:$E$8270,Sheet3!AC$4,Sheet4!$A$2:$A$8270,Sheet3!$B$1,Sheet4!$B$2:$B$8270,Sheet3!$A$3)","v":89},{"$f":"+SUMIFS(Sheet4!$DM$2:$DM$8270,Sheet4!$C$2:$C$8270,Sheet3!$B16,Sheet4!$D$2:$D$8270,Sheet3!AD$3,Sheet4!$E$2:$E$8270,Sheet3!AD$4,Sheet4!$A$2:$A$8270,Sheet3!$B$1,Sheet4!$B$2:$B$8270,Sheet3!$A$3)","v":87},{"$f":"+SUMIFS(Sheet4!$DM$2:$DM$8270,Sheet4!$C$2:$C$8270,Sheet3!$B16,Sheet4!$D$2:$D$8270,Sheet3!AE$3,Sheet4!$E$2:$E$8270,Sheet3!AE$4,Sheet4!$A$2:$A$8270,Sheet3!$B$1,Sheet4!$B$2:$B$8270,Sheet3!$A$3)","v":7},{"$f":"+SUMIFS(Sheet4!$DM$2:$DM$8270,Sheet4!$C$2:$C$8270,Sheet3!$B16,Sheet4!$D$2:$D$8270,Sheet3!AF$3,Sheet4!$E$2:$E$8270,Sheet3!AF$4,Sheet4!$A$2:$A$8270,Sheet3!$B$1,Sheet4!$B$2:$B$8270,Sheet3!$A$3)","v":0},{"$f":"+SUMIFS(Sheet4!$DM$2:$DM$8270,Sheet4!$C$2:$C$8270,Sheet3!$B16,Sheet4!$D$2:$D$8270,Sheet3!AG$3,Sheet4!$E$2:$E$8270,Sheet3!AG$4,Sheet4!$A$2:$A$8270,Sheet3!$B$1,Sheet4!$B$2:$B$8270,Sheet3!$A$3)","v":0},{"$f":"+SUMIFS(Sheet4!$DM$2:$DM$8270,Sheet4!$C$2:$C$8270,Sheet3!$B16,Sheet4!$D$2:$D$8270,Sheet3!AH$3,Sheet4!$E$2:$E$8270,Sheet3!AH$4,Sheet4!$A$2:$A$8270,Sheet3!$B$1,Sheet4!$B$2:$B$8270,Sheet3!$A$3)","v":43},{"$f":"+SUMIFS(Sheet4!$DM$2:$DM$8270,Sheet4!$C$2:$C$8270,Sheet3!$B16,Sheet4!$D$2:$D$8270,Sheet3!AI$3,Sheet4!$E$2:$E$8270,Sheet3!AI$4,Sheet4!$A$2:$A$8270,Sheet3!$B$1,Sheet4!$B$2:$B$8270,Sheet3!$A$3)","v":120},{"$f":"+SUMIFS(Sheet4!$DM$2:$DM$8270,Sheet4!$C$2:$C$8270,Sheet3!$B16,Sheet4!$D$2:$D$8270,Sheet3!AJ$3,Sheet4!$E$2:$E$8270,Sheet3!AJ$4,Sheet4!$A$2:$A$8270,Sheet3!$B$1,Sheet4!$B$2:$B$8270,Sheet3!$A$3)","v":60},{"$f":"+SUMIFS(Sheet4!$DM$2:$DM$8270,Sheet4!$C$2:$C$8270,Sheet3!$B16,Sheet4!$D$2:$D$8270,Sheet3!AK$3,Sheet4!$E$2:$E$8270,Sheet3!AK$4,Sheet4!$A$2:$A$8270,Sheet3!$B$1,Sheet4!$B$2:$B$8270,Sheet3!$A$3)","v":0},{"$f":"+SUMIFS(Sheet4!$DM$2:$DM$8270,Sheet4!$C$2:$C$8270,Sheet3!$B16,Sheet4!$D$2:$D$8270,Sheet3!AL$3,Sheet4!$E$2:$E$8270,Sheet3!AL$4,Sheet4!$A$2:$A$8270,Sheet3!$B$1,Sheet4!$B$2:$B$8270,Sheet3!$A$3)","v":0},{"$f":"+SUMIFS(Sheet4!$DM$2:$DM$8270,Sheet4!$C$2:$C$8270,Sheet3!$B16,Sheet4!$D$2:$D$8270,Sheet3!AM$3,Sheet4!$E$2:$E$8270,Sheet3!AM$4,Sheet4!$A$2:$A$8270,Sheet3!$B$1,Sheet4!$B$2:$B$8270,Sheet3!$A$3)","v":174},{"$f":"+SUMIFS(Sheet4!$DM$2:$DM$8270,Sheet4!$C$2:$C$8270,Sheet3!$B16,Sheet4!$D$2:$D$8270,Sheet3!AN$3,Sheet4!$E$2:$E$8270,Sheet3!AN$4,Sheet4!$A$2:$A$8270,Sheet3!$B$1,Sheet4!$B$2:$B$8270,Sheet3!$A$3)","v":388},{"$f":"+SUMIFS(Sheet4!$DM$2:$DM$8270,Sheet4!$C$2:$C$8270,Sheet3!$B16,Sheet4!$D$2:$D$8270,Sheet3!AO$3,Sheet4!$E$2:$E$8270,Sheet3!AO$4,Sheet4!$A$2:$A$8270,Sheet3!$B$1,Sheet4!$B$2:$B$8270,Sheet3!$A$3)","v":90},{"$f":"+SUMIFS(Sheet4!$DM$2:$DM$8270,Sheet4!$C$2:$C$8270,Sheet3!$B16,Sheet4!$D$2:$D$8270,Sheet3!AP$3,Sheet4!$E$2:$E$8270,Sheet3!AP$4,Sheet4!$A$2:$A$8270,Sheet3!$B$1,Sheet4!$B$2:$B$8270,Sheet3!$A$3)","v":0},{"$f":"+SUMIFS(Sheet4!$DM$2:$DM$8270,Sheet4!$C$2:$C$8270,Sheet3!$B16,Sheet4!$D$2:$D$8270,Sheet3!AQ$3,Sheet4!$E$2:$E$8270,Sheet3!AQ$4,Sheet4!$A$2:$A$8270,Sheet3!$B$1,Sheet4!$B$2:$B$8270,Sheet3!$A$3)","v":0},{"$f":"+SUMIFS(Sheet4!$DM$2:$DM$8270,Sheet4!$C$2:$C$8270,Sheet3!$B16,Sheet4!$D$2:$D$8270,Sheet3!AR$3,Sheet4!$E$2:$E$8270,Sheet3!AR$4,Sheet4!$A$2:$A$8270,Sheet3!$B$1,Sheet4!$B$2:$B$8270,Sheet3!$A$3)","v":0},{"$f":"+SUMIFS(Sheet4!$DM$2:$DM$8270,Sheet4!$C$2:$C$8270,Sheet3!$B16,Sheet4!$D$2:$D$8270,Sheet3!AS$3,Sheet4!$E$2:$E$8270,Sheet3!AS$4,Sheet4!$A$2:$A$8270,Sheet3!$B$1,Sheet4!$B$2:$B$8270,Sheet3!$A$3)","v":0},{"$f":"+SUMIFS(Sheet4!$DM$2:$DM$8270,Sheet4!$C$2:$C$8270,Sheet3!$B16,Sheet4!$D$2:$D$8270,Sheet3!AT$3,Sheet4!$E$2:$E$8270,Sheet3!AT$4,Sheet4!$A$2:$A$8270,Sheet3!$B$1,Sheet4!$B$2:$B$8270,Sheet3!$A$3)","v":0},{"$f":"+SUMIFS(Sheet4!$DM$2:$DM$8270,Sheet4!$C$2:$C$8270,Sheet3!$B16,Sheet4!$D$2:$D$8270,Sheet3!AU$3,Sheet4!$E$2:$E$8270,Sheet3!AU$4,Sheet4!$A$2:$A$8270,Sheet3!$B$1,Sheet4!$B$2:$B$8270,Sheet3!$A$3)","v":0},{"$f":"+SUMIFS(Sheet4!$DM$2:$DM$8270,Sheet4!$C$2:$C$8270,Sheet3!$B16,Sheet4!$D$2:$D$8270,Sheet3!AV$3,Sheet4!$E$2:$E$8270,Sheet3!AV$4,Sheet4!$A$2:$A$8270,Sheet3!$B$1,Sheet4!$B$2:$B$8270,Sheet3!$A$3)","v":0},{"$f":"+SUMIFS(Sheet4!$DM$2:$DM$8270,Sheet4!$C$2:$C$8270,Sheet3!$B16,Sheet4!$D$2:$D$8270,Sheet3!AW$3,Sheet4!$E$2:$E$8270,Sheet3!AW$4,Sheet4!$A$2:$A$8270,Sheet3!$B$1,Sheet4!$B$2:$B$8270,Sheet3!$A$3)","v":125},{"$f":"+SUMIFS(Sheet4!$DM$2:$DM$8270,Sheet4!$C$2:$C$8270,Sheet3!$B16,Sheet4!$D$2:$D$8270,Sheet3!AX$3,Sheet4!$E$2:$E$8270,Sheet3!AX$4,Sheet4!$A$2:$A$8270,Sheet3!$B$1,Sheet4!$B$2:$B$8270,Sheet3!$A$3)","v":98},{"$f":"+SUMIFS(Sheet4!$DM$2:$DM$8270,Sheet4!$C$2:$C$8270,Sheet3!$B16,Sheet4!$D$2:$D$8270,Sheet3!AY$3,Sheet4!$E$2:$E$8270,Sheet3!AY$4,Sheet4!$A$2:$A$8270,Sheet3!$B$1,Sheet4!$B$2:$B$8270,Sheet3!$A$3)","v":27},{"$f":"+SUMIFS(Sheet4!$DM$2:$DM$8270,Sheet4!$C$2:$C$8270,Sheet3!$B16,Sheet4!$D$2:$D$8270,Sheet3!AZ$3,Sheet4!$E$2:$E$8270,Sheet3!AZ$4,Sheet4!$A$2:$A$8270,Sheet3!$B$1,Sheet4!$B$2:$B$8270,Sheet3!$A$3)","v":0},{"$f":"+SUMIFS(Sheet4!$DM$2:$DM$8270,Sheet4!$C$2:$C$8270,Sheet3!$B16,Sheet4!$D$2:$D$8270,Sheet3!BA$3,Sheet4!$E$2:$E$8270,Sheet3!BA$4,Sheet4!$A$2:$A$8270,Sheet3!$B$1,Sheet4!$B$2:$B$8270,Sheet3!$A$3)","v":0},{"$f":"+SUMIFS(Sheet4!$DM$2:$DM$8270,Sheet4!$C$2:$C$8270,Sheet3!$B16,Sheet4!$D$2:$D$8270,Sheet3!BB$3,Sheet4!$E$2:$E$8270,Sheet3!BB$4,Sheet4!$A$2:$A$8270,Sheet3!$B$1,Sheet4!$B$2:$B$8270,Sheet3!$A$3)","v":0},{"$f":"+SUMIFS(Sheet4!$DM$2:$DM$8270,Sheet4!$C$2:$C$8270,Sheet3!$B16,Sheet4!$D$2:$D$8270,Sheet3!BC$3,Sheet4!$E$2:$E$8270,Sheet3!BC$4,Sheet4!$A$2:$A$8270,Sheet3!$B$1,Sheet4!$B$2:$B$8270,Sheet3!$A$3)","v":7},{"$f":"+SUMIFS(Sheet4!$DM$2:$DM$8270,Sheet4!$C$2:$C$8270,Sheet3!$B16,Sheet4!$D$2:$D$8270,Sheet3!BD$3,Sheet4!$E$2:$E$8270,Sheet3!BD$4,Sheet4!$A$2:$A$8270,Sheet3!$B$1,Sheet4!$B$2:$B$8270,Sheet3!$A$3)","v":0},{"$f":"+SUMIFS(Sheet4!$DM$2:$DM$8270,Sheet4!$C$2:$C$8270,Sheet3!$B16,Sheet4!$D$2:$D$8270,Sheet3!BE$3,Sheet4!$E$2:$E$8270,Sheet3!BE$4,Sheet4!$A$2:$A$8270,Sheet3!$B$1,Sheet4!$B$2:$B$8270,Sheet3!$A$3)","v":0},{"$f":"+SUMIFS(Sheet4!$DM$2:$DM$8270,Sheet4!$C$2:$C$8270,Sheet3!$B16,Sheet4!$D$2:$D$8270,Sheet3!BF$3,Sheet4!$E$2:$E$8270,Sheet3!BF$4,Sheet4!$A$2:$A$8270,Sheet3!$B$1,Sheet4!$B$2:$B$8270,Sheet3!$A$3)","v":0},{"$f":"+SUMIFS(Sheet4!$DM$2:$DM$8270,Sheet4!$C$2:$C$8270,Sheet3!$B16,Sheet4!$D$2:$D$8270,Sheet3!BG$3,Sheet4!$E$2:$E$8270,Sheet3!BG$4,Sheet4!$A$2:$A$8270,Sheet3!$B$1,Sheet4!$B$2:$B$8270,Sheet3!$A$3)","v":86},{"$f":"+SUMIFS(Sheet4!$DM$2:$DM$8270,Sheet4!$C$2:$C$8270,Sheet3!$B16,Sheet4!$D$2:$D$8270,Sheet3!BH$3,Sheet4!$E$2:$E$8270,Sheet3!BH$4,Sheet4!$A$2:$A$8270,Sheet3!$B$1,Sheet4!$B$2:$B$8270,Sheet3!$A$3)","v":38},{"$f":"+SUMIFS(Sheet4!$DM$2:$DM$8270,Sheet4!$C$2:$C$8270,Sheet3!$B16,Sheet4!$D$2:$D$8270,Sheet3!BI$3,Sheet4!$E$2:$E$8270,Sheet3!BI$4,Sheet4!$A$2:$A$8270,Sheet3!$B$1,Sheet4!$B$2:$B$8270,Sheet3!$A$3)","v":9},{"$f":"+SUMIFS(Sheet4!$DM$2:$DM$8270,Sheet4!$C$2:$C$8270,Sheet3!$B16,Sheet4!$D$2:$D$8270,Sheet3!BJ$3,Sheet4!$E$2:$E$8270,Sheet3!BJ$4,Sheet4!$A$2:$A$8270,Sheet3!$B$1,Sheet4!$B$2:$B$8270,Sheet3!$A$3)","v":0},{"$f":"+SUMIFS(Sheet4!$DM$2:$DM$8270,Sheet4!$C$2:$C$8270,Sheet3!$B16,Sheet4!$D$2:$D$8270,Sheet3!BK$3,Sheet4!$E$2:$E$8270,Sheet3!BK$4,Sheet4!$A$2:$A$8270,Sheet3!$B$1,Sheet4!$B$2:$B$8270,Sheet3!$A$3)","v":0},{"$f":"+SUMIFS(Sheet4!$DM$2:$DM$8270,Sheet4!$C$2:$C$8270,Sheet3!$B16,Sheet4!$D$2:$D$8270,Sheet3!BL$3,Sheet4!$E$2:$E$8270,Sheet3!BL$4,Sheet4!$A$2:$A$8270,Sheet3!$B$1,Sheet4!$B$2:$B$8270,Sheet3!$A$3)","v":6},{"$f":"+SUMIFS(Sheet4!$DM$2:$DM$8270,Sheet4!$C$2:$C$8270,Sheet3!$B16,Sheet4!$D$2:$D$8270,Sheet3!BM$3,Sheet4!$E$2:$E$8270,Sheet3!BM$4,Sheet4!$A$2:$A$8270,Sheet3!$B$1,Sheet4!$B$2:$B$8270,Sheet3!$A$3)","v":5},{"$f":"+SUMIFS(Sheet4!$DM$2:$DM$8270,Sheet4!$C$2:$C$8270,Sheet3!$B16,Sheet4!$D$2:$D$8270,Sheet3!BN$3,Sheet4!$E$2:$E$8270,Sheet3!BN$4,Sheet4!$A$2:$A$8270,Sheet3!$B$1,Sheet4!$B$2:$B$8270,Sheet3!$A$3)","v":5},{"$f":"+SUMIFS(Sheet4!$DM$2:$DM$8270,Sheet4!$C$2:$C$8270,Sheet3!$B16,Sheet4!$D$2:$D$8270,Sheet3!BO$3,Sheet4!$E$2:$E$8270,Sheet3!BO$4,Sheet4!$A$2:$A$8270,Sheet3!$B$1,Sheet4!$B$2:$B$8270,Sheet3!$A$3)","v":0},{"$f":"+SUMIFS(Sheet4!$DM$2:$DM$8270,Sheet4!$C$2:$C$8270,Sheet3!$B16,Sheet4!$D$2:$D$8270,Sheet3!BP$3,Sheet4!$E$2:$E$8270,Sheet3!BP$4,Sheet4!$A$2:$A$8270,Sheet3!$B$1,Sheet4!$B$2:$B$8270,Sheet3!$A$3)","v":0},{"$f":"+SUMIFS(Sheet4!$DM$2:$DM$8270,Sheet4!$C$2:$C$8270,Sheet3!$B16,Sheet4!$D$2:$D$8270,Sheet3!BQ$3,Sheet4!$E$2:$E$8270,Sheet3!BQ$4,Sheet4!$A$2:$A$8270,Sheet3!$B$1,Sheet4!$B$2:$B$8270,Sheet3!$A$3)","v":368},{"$f":"+SUMIFS(Sheet4!$DM$2:$DM$8270,Sheet4!$C$2:$C$8270,Sheet3!$B16,Sheet4!$D$2:$D$8270,Sheet3!BR$3,Sheet4!$E$2:$E$8270,Sheet3!BR$4,Sheet4!$A$2:$A$8270,Sheet3!$B$1,Sheet4!$B$2:$B$8270,Sheet3!$A$3)","v":38},{"$f":"+SUMIFS(Sheet4!$DM$2:$DM$8270,Sheet4!$C$2:$C$8270,Sheet3!$B16,Sheet4!$D$2:$D$8270,Sheet3!BS$3,Sheet4!$E$2:$E$8270,Sheet3!BS$4,Sheet4!$A$2:$A$8270,Sheet3!$B$1,Sheet4!$B$2:$B$8270,Sheet3!$A$3)","v":0},{"$f":"+SUMIFS(Sheet4!$DM$2:$DM$8270,Sheet4!$C$2:$C$8270,Sheet3!$B16,Sheet4!$D$2:$D$8270,Sheet3!BT$3,Sheet4!$E$2:$E$8270,Sheet3!BT$4,Sheet4!$A$2:$A$8270,Sheet3!$B$1,Sheet4!$B$2:$B$8270,Sheet3!$A$3)","v":0},{"$f":"+SUMIFS(Sheet4!$DM$2:$DM$8270,Sheet4!$C$2:$C$8270,Sheet3!$B16,Sheet4!$D$2:$D$8270,Sheet3!BU$3,Sheet4!$E$2:$E$8270,Sheet3!BU$4,Sheet4!$A$2:$A$8270,Sheet3!$B$1,Sheet4!$B$2:$B$8270,Sheet3!$A$3)","v":0},{"$f":"+SUMIFS(Sheet4!$DM$2:$DM$8270,Sheet4!$C$2:$C$8270,Sheet3!$B16,Sheet4!$D$2:$D$8270,Sheet3!BV$3,Sheet4!$E$2:$E$8270,Sheet3!BV$4,Sheet4!$A$2:$A$8270,Sheet3!$B$1,Sheet4!$B$2:$B$8270,Sheet3!$A$3)","v":63},{"$f":"+SUMIFS(Sheet4!$DM$2:$DM$8270,Sheet4!$C$2:$C$8270,Sheet3!$B16,Sheet4!$D$2:$D$8270,Sheet3!BW$3,Sheet4!$E$2:$E$8270,Sheet3!BW$4,Sheet4!$A$2:$A$8270,Sheet3!$B$1,Sheet4!$B$2:$B$8270,Sheet3!$A$3)","v":34},{"$f":"+SUMIFS(Sheet4!$DM$2:$DM$8270,Sheet4!$C$2:$C$8270,Sheet3!$B16,Sheet4!$D$2:$D$8270,Sheet3!BX$3,Sheet4!$E$2:$E$8270,Sheet3!BX$4,Sheet4!$A$2:$A$8270,Sheet3!$B$1,Sheet4!$B$2:$B$8270,Sheet3!$A$3)","v":3},{"$f":"+SUMIFS(Sheet4!$DM$2:$DM$8270,Sheet4!$C$2:$C$8270,Sheet3!$B16,Sheet4!$D$2:$D$8270,Sheet3!BY$3,Sheet4!$E$2:$E$8270,Sheet3!BY$4,Sheet4!$A$2:$A$8270,Sheet3!$B$1,Sheet4!$B$2:$B$8270,Sheet3!$A$3)","v":0},{"$f":"+SUMIFS(Sheet4!$DM$2:$DM$8270,Sheet4!$C$2:$C$8270,Sheet3!$B16,Sheet4!$D$2:$D$8270,Sheet3!BZ$3,Sheet4!$E$2:$E$8270,Sheet3!BZ$4,Sheet4!$A$2:$A$8270,Sheet3!$B$1,Sheet4!$B$2:$B$8270,Sheet3!$A$3)","v":0},{"$f":"+SUMIFS(Sheet4!$DM$2:$DM$8270,Sheet4!$C$2:$C$8270,Sheet3!$B16,Sheet4!$D$2:$D$8270,Sheet3!CA$3,Sheet4!$E$2:$E$8270,Sheet3!CA$4,Sheet4!$A$2:$A$8270,Sheet3!$B$1,Sheet4!$B$2:$B$8270,Sheet3!$A$3)","v":141},{"$f":"+SUMIFS(Sheet4!$DM$2:$DM$8270,Sheet4!$C$2:$C$8270,Sheet3!$B16,Sheet4!$D$2:$D$8270,Sheet3!CB$3,Sheet4!$E$2:$E$8270,Sheet3!CB$4,Sheet4!$A$2:$A$8270,Sheet3!$B$1,Sheet4!$B$2:$B$8270,Sheet3!$A$3)","v":47},{"$f":"+SUMIFS(Sheet4!$DM$2:$DM$8270,Sheet4!$C$2:$C$8270,Sheet3!$B16,Sheet4!$D$2:$D$8270,Sheet3!CC$3,Sheet4!$E$2:$E$8270,Sheet3!CC$4,Sheet4!$A$2:$A$8270,Sheet3!$B$1,Sheet4!$B$2:$B$8270,Sheet3!$A$3)","v":11},{"$f":"+SUMIFS(Sheet4!$DM$2:$DM$8270,Sheet4!$C$2:$C$8270,Sheet3!$B16,Sheet4!$D$2:$D$8270,Sheet3!CD$3,Sheet4!$E$2:$E$8270,Sheet3!CD$4,Sheet4!$A$2:$A$8270,Sheet3!$B$1,Sheet4!$B$2:$B$8270,Sheet3!$A$3)","v":0},{"$f":"+SUMIFS(Sheet4!$DM$2:$DM$8270,Sheet4!$C$2:$C$8270,Sheet3!$B16,Sheet4!$D$2:$D$8270,Sheet3!CE$3,Sheet4!$E$2:$E$8270,Sheet3!CE$4,Sheet4!$A$2:$A$8270,Sheet3!$B$1,Sheet4!$B$2:$B$8270,Sheet3!$A$3)","v":0},{"$f":"+SUMIFS(Sheet4!$DM$2:$DM$8270,Sheet4!$C$2:$C$8270,Sheet3!$B16,Sheet4!$D$2:$D$8270,Sheet3!CF$3,Sheet4!$E$2:$E$8270,Sheet3!CF$4,Sheet4!$A$2:$A$8270,Sheet3!$B$1,Sheet4!$B$2:$B$8270,Sheet3!$A$3)","v":0},{"$f":"+SUMIFS(Sheet4!$DM$2:$DM$8270,Sheet4!$C$2:$C$8270,Sheet3!$B16,Sheet4!$D$2:$D$8270,Sheet3!CG$3,Sheet4!$E$2:$E$8270,Sheet3!CG$4,Sheet4!$A$2:$A$8270,Sheet3!$B$1,Sheet4!$B$2:$B$8270,Sheet3!$A$3)","v":0},{"$f":"+SUMIFS(Sheet4!$DM$2:$DM$8270,Sheet4!$C$2:$C$8270,Sheet3!$B16,Sheet4!$D$2:$D$8270,Sheet3!CH$3,Sheet4!$E$2:$E$8270,Sheet3!CH$4,Sheet4!$A$2:$A$8270,Sheet3!$B$1,Sheet4!$B$2:$B$8270,Sheet3!$A$3)","v":0},{"$f":"+SUMIFS(Sheet4!$DM$2:$DM$8270,Sheet4!$C$2:$C$8270,Sheet3!$B16,Sheet4!$D$2:$D$8270,Sheet3!CI$3,Sheet4!$E$2:$E$8270,Sheet3!CI$4,Sheet4!$A$2:$A$8270,Sheet3!$B$1,Sheet4!$B$2:$B$8270,Sheet3!$A$3)","v":0},{"$f":"+SUMIFS(Sheet4!$DM$2:$DM$8270,Sheet4!$C$2:$C$8270,Sheet3!$B16,Sheet4!$D$2:$D$8270,Sheet3!CJ$3,Sheet4!$E$2:$E$8270,Sheet3!CJ$4,Sheet4!$A$2:$A$8270,Sheet3!$B$1,Sheet4!$B$2:$B$8270,Sheet3!$A$3)","v":0},{"$f":"+SUMIFS(Sheet4!$DM$2:$DM$8270,Sheet4!$C$2:$C$8270,Sheet3!$B16,Sheet4!$D$2:$D$8270,Sheet3!CK$3,Sheet4!$E$2:$E$8270,Sheet3!CK$4,Sheet4!$A$2:$A$8270,Sheet3!$B$1,Sheet4!$B$2:$B$8270,Sheet3!$A$3)","v":17},{"$f":"+SUMIFS(Sheet4!$DM$2:$DM$8270,Sheet4!$C$2:$C$8270,Sheet3!$B16,Sheet4!$D$2:$D$8270,Sheet3!CL$3,Sheet4!$E$2:$E$8270,Sheet3!CL$4,Sheet4!$A$2:$A$8270,Sheet3!$B$1,Sheet4!$B$2:$B$8270,Sheet3!$A$3)","v":7},{"$f":"+SUMIFS(Sheet4!$DM$2:$DM$8270,Sheet4!$C$2:$C$8270,Sheet3!$B16,Sheet4!$D$2:$D$8270,Sheet3!CM$3,Sheet4!$E$2:$E$8270,Sheet3!CM$4,Sheet4!$A$2:$A$8270,Sheet3!$B$1,Sheet4!$B$2:$B$8270,Sheet3!$A$3)","v":0},{"$f":"+SUMIFS(Sheet4!$DM$2:$DM$8270,Sheet4!$C$2:$C$8270,Sheet3!$B16,Sheet4!$D$2:$D$8270,Sheet3!CN$3,Sheet4!$E$2:$E$8270,Sheet3!CN$4,Sheet4!$A$2:$A$8270,Sheet3!$B$1,Sheet4!$B$2:$B$8270,Sheet3!$A$3)","v":0},{"$f":"+SUMIFS(Sheet4!$DM$2:$DM$8270,Sheet4!$C$2:$C$8270,Sheet3!$B16,Sheet4!$D$2:$D$8270,Sheet3!CO$3,Sheet4!$E$2:$E$8270,Sheet3!CO$4,Sheet4!$A$2:$A$8270,Sheet3!$B$1,Sheet4!$B$2:$B$8270,Sheet3!$A$3)","v":0},{"$f":"+IF(SUMIFS(Sheet4!$DN$2:$DN$8270,Sheet4!$C$2:$C$8270,Sheet3!$B16,Sheet4!$D$2:$D$8270,Sheet3!CP$3,Sheet4!$A$2:$A$8270,Sheet3!$B$1,Sheet4!$B$2:$B$8270,Sheet3!$A$3)<3,0,SUMIFS(Sheet4!$DN$2:$DN$8270,Sheet4!$C$2:$C$8270,Sheet3!$B16,Sheet4!$D$2:$D$8270,Sheet3!CP$3,Sheet4!$A$2:$A$8270,Sheet3!$B$1,Sheet4!$B$2:$B$8270,Sheet3!$A$3))","v":32},{"$f":"+IF(SUMIFS(Sheet4!$DN$2:$DN$8270,Sheet4!$C$2:$C$8270,Sheet3!$B16,Sheet4!$D$2:$D$8270,Sheet3!CQ$3,Sheet4!$A$2:$A$8270,Sheet3!$B$1,Sheet4!$B$2:$B$8270,Sheet3!$A$3)<3,0,SUMIFS(Sheet4!$DN$2:$DN$8270,Sheet4!$C$2:$C$8270,Sheet3!$B16,Sheet4!$D$2:$D$8270,Sheet3!CQ$3,Sheet4!$A$2:$A$8270,Sheet3!$B$1,Sheet4!$B$2:$B$8270,Sheet3!$A$3))","v":4},{"$f":"+IF(SUMIFS(Sheet4!$DN$2:$DN$8270,Sheet4!$C$2:$C$8270,Sheet3!$B16,Sheet4!$D$2:$D$8270,Sheet3!CR$3,Sheet4!$A$2:$A$8270,Sheet3!$B$1,Sheet4!$B$2:$B$8270,Sheet3!$A$3)<3,0,SUMIFS(Sheet4!$DN$2:$DN$8270,Sheet4!$C$2:$C$8270,Sheet3!$B16,Sheet4!$D$2:$D$8270,Sheet3!CR$3,Sheet4!$A$2:$A$8270,Sheet3!$B$1,Sheet4!$B$2:$B$8270,Sheet3!$A$3))","v":80},{"$f":"+IF(SUMIFS(Sheet4!$DN$2:$DN$8270,Sheet4!$C$2:$C$8270,Sheet3!$B16,Sheet4!$D$2:$D$8270,Sheet3!CS$3,Sheet4!$A$2:$A$8270,Sheet3!$B$1,Sheet4!$B$2:$B$8270,Sheet3!$A$3)<3,0,SUMIFS(Sheet4!$DN$2:$DN$8270,Sheet4!$C$2:$C$8270,Sheet3!$B16,Sheet4!$D$2:$D$8270,Sheet3!CS$3,Sheet4!$A$2:$A$8270,Sheet3!$B$1,Sheet4!$B$2:$B$8270,Sheet3!$A$3))","v":0},{"$f":"+IF(SUMIFS(Sheet4!$DN$2:$DN$8270,Sheet4!$C$2:$C$8270,Sheet3!$B16,Sheet4!$D$2:$D$8270,Sheet3!CT$3,Sheet4!$A$2:$A$8270,Sheet3!$B$1,Sheet4!$B$2:$B$8270,Sheet3!$A$3)<3,0,SUMIFS(Sheet4!$DN$2:$DN$8270,Sheet4!$C$2:$C$8270,Sheet3!$B16,Sheet4!$D$2:$D$8270,Sheet3!CT$3,Sheet4!$A$2:$A$8270,Sheet3!$B$1,Sheet4!$B$2:$B$8270,Sheet3!$A$3))","v":4},{"$f":"+IF(SUMIFS(Sheet4!$DN$2:$DN$8270,Sheet4!$C$2:$C$8270,Sheet3!$B16,Sheet4!$D$2:$D$8270,Sheet3!CU$3,Sheet4!$A$2:$A$8270,Sheet3!$B$1,Sheet4!$B$2:$B$8270,Sheet3!$A$3)<3,0,SUMIFS(Sheet4!$DN$2:$DN$8270,Sheet4!$C$2:$C$8270,Sheet3!$B16,Sheet4!$D$2:$D$8270,Sheet3!CU$3,Sheet4!$A$2:$A$8270,Sheet3!$B$1,Sheet4!$B$2:$B$8270,Sheet3!$A$3))","v":184},{"$f":"+IF(SUMIFS(Sheet4!$DN$2:$DN$8270,Sheet4!$C$2:$C$8270,Sheet3!$B16,Sheet4!$D$2:$D$8270,Sheet3!CV$3,Sheet4!$A$2:$A$8270,Sheet3!$B$1,Sheet4!$B$2:$B$8270,Sheet3!$A$3)<3,0,SUMIFS(Sheet4!$DN$2:$DN$8270,Sheet4!$C$2:$C$8270,Sheet3!$B16,Sheet4!$D$2:$D$8270,Sheet3!CV$3,Sheet4!$A$2:$A$8270,Sheet3!$B$1,Sheet4!$B$2:$B$8270,Sheet3!$A$3))","v":225},{"$f":"+IF(SUMIFS(Sheet4!$DN$2:$DN$8270,Sheet4!$C$2:$C$8270,Sheet3!$B16,Sheet4!$D$2:$D$8270,Sheet3!CW$3,Sheet4!$A$2:$A$8270,Sheet3!$B$1,Sheet4!$B$2:$B$8270,Sheet3!$A$3)<3,0,SUMIFS(Sheet4!$DN$2:$DN$8270,Sheet4!$C$2:$C$8270,Sheet3!$B16,Sheet4!$D$2:$D$8270,Sheet3!CW$3,Sheet4!$A$2:$A$8270,Sheet3!$B$1,Sheet4!$B$2:$B$8270,Sheet3!$A$3))","v":655},{"$f":"+IF(SUMIFS(Sheet4!$DN$2:$DN$8270,Sheet4!$C$2:$C$8270,Sheet3!$B16,Sheet4!$D$2:$D$8270,Sheet3!CX$3,Sheet4!$A$2:$A$8270,Sheet3!$B$1,Sheet4!$B$2:$B$8270,Sheet3!$A$3)<3,0,SUMIFS(Sheet4!$DN$2:$DN$8270,Sheet4!$C$2:$C$8270,Sheet3!$B16,Sheet4!$D$2:$D$8270,Sheet3!CX$3,Sheet4!$A$2:$A$8270,Sheet3!$B$1,Sheet4!$B$2:$B$8270,Sheet3!$A$3))","v":0},{"$f":"+IF(SUMIFS(Sheet4!$DN$2:$DN$8270,Sheet4!$C$2:$C$8270,Sheet3!$B16,Sheet4!$D$2:$D$8270,Sheet3!CY$3,Sheet4!$A$2:$A$8270,Sheet3!$B$1,Sheet4!$B$2:$B$8270,Sheet3!$A$3)<3,0,SUMIFS(Sheet4!$DN$2:$DN$8270,Sheet4!$C$2:$C$8270,Sheet3!$B16,Sheet4!$D$2:$D$8270,Sheet3!CY$3,Sheet4!$A$2:$A$8270,Sheet3!$B$1,Sheet4!$B$2:$B$8270,Sheet3!$A$3))","v":253},{"$f":"+IF(SUMIFS(Sheet4!$DN$2:$DN$8270,Sheet4!$C$2:$C$8270,Sheet3!$B16,Sheet4!$D$2:$D$8270,Sheet3!CZ$3,Sheet4!$A$2:$A$8270,Sheet3!$B$1,Sheet4!$B$2:$B$8270,Sheet3!$A$3)<3,0,SUMIFS(Sheet4!$DN$2:$DN$8270,Sheet4!$C$2:$C$8270,Sheet3!$B16,Sheet4!$D$2:$D$8270,Sheet3!CZ$3,Sheet4!$A$2:$A$8270,Sheet3!$B$1,Sheet4!$B$2:$B$8270,Sheet3!$A$3))","v":11},{"$f":"+IF(SUMIFS(Sheet4!$DN$2:$DN$8270,Sheet4!$C$2:$C$8270,Sheet3!$B16,Sheet4!$D$2:$D$8270,Sheet3!DA$3,Sheet4!$A$2:$A$8270,Sheet3!$B$1,Sheet4!$B$2:$B$8270,Sheet3!$A$3)<3,0,SUMIFS(Sheet4!$DN$2:$DN$8270,Sheet4!$C$2:$C$8270,Sheet3!$B16,Sheet4!$D$2:$D$8270,Sheet3!DA$3,Sheet4!$A$2:$A$8270,Sheet3!$B$1,Sheet4!$B$2:$B$8270,Sheet3!$A$3))","v":134},{"$f":"+IF(SUMIFS(Sheet4!$DN$2:$DN$8270,Sheet4!$C$2:$C$8270,Sheet3!$B16,Sheet4!$D$2:$D$8270,Sheet3!DB$3,Sheet4!$A$2:$A$8270,Sheet3!$B$1,Sheet4!$B$2:$B$8270,Sheet3!$A$3)<3,0,SUMIFS(Sheet4!$DN$2:$DN$8270,Sheet4!$C$2:$C$8270,Sheet3!$B16,Sheet4!$D$2:$D$8270,Sheet3!DB$3,Sheet4!$A$2:$A$8270,Sheet3!$B$1,Sheet4!$B$2:$B$8270,Sheet3!$A$3))","v":18},{"$f":"+IF(SUMIFS(Sheet4!$DN$2:$DN$8270,Sheet4!$C$2:$C$8270,Sheet3!$B16,Sheet4!$D$2:$D$8270,Sheet3!DC$3,Sheet4!$A$2:$A$8270,Sheet3!$B$1,Sheet4!$B$2:$B$8270,Sheet3!$A$3)<3,0,SUMIFS(Sheet4!$DN$2:$DN$8270,Sheet4!$C$2:$C$8270,Sheet3!$B16,Sheet4!$D$2:$D$8270,Sheet3!DC$3,Sheet4!$A$2:$A$8270,Sheet3!$B$1,Sheet4!$B$2:$B$8270,Sheet3!$A$3))","v":410},{"$f":"+IF(SUMIFS(Sheet4!$DN$2:$DN$8270,Sheet4!$C$2:$C$8270,Sheet3!$B16,Sheet4!$D$2:$D$8270,Sheet3!DD$3,Sheet4!$A$2:$A$8270,Sheet3!$B$1,Sheet4!$B$2:$B$8270,Sheet3!$A$3)<3,0,SUMIFS(Sheet4!$DN$2:$DN$8270,Sheet4!$C$2:$C$8270,Sheet3!$B16,Sheet4!$D$2:$D$8270,Sheet3!DD$3,Sheet4!$A$2:$A$8270,Sheet3!$B$1,Sheet4!$B$2:$B$8270,Sheet3!$A$3))","v":106},{"$f":"+IF(SUMIFS(Sheet4!$DN$2:$DN$8270,Sheet4!$C$2:$C$8270,Sheet3!$B16,Sheet4!$D$2:$D$8270,Sheet3!DE$3,Sheet4!$A$2:$A$8270,Sheet3!$B$1,Sheet4!$B$2:$B$8270,Sheet3!$A$3)<3,0,SUMIFS(Sheet4!$DN$2:$DN$8270,Sheet4!$C$2:$C$8270,Sheet3!$B16,Sheet4!$D$2:$D$8270,Sheet3!DE$3,Sheet4!$A$2:$A$8270,Sheet3!$B$1,Sheet4!$B$2:$B$8270,Sheet3!$A$3))","v":199},{"$f":"+IF(SUMIFS(Sheet4!$DN$2:$DN$8270,Sheet4!$C$2:$C$8270,Sheet3!$B16,Sheet4!$D$2:$D$8270,Sheet3!DF$3,Sheet4!$A$2:$A$8270,Sheet3!$B$1,Sheet4!$B$2:$B$8270,Sheet3!$A$3)<3,0,SUMIFS(Sheet4!$DN$2:$DN$8270,Sheet4!$C$2:$C$8270,Sheet3!$B16,Sheet4!$D$2:$D$8270,Sheet3!DF$3,Sheet4!$A$2:$A$8270,Sheet3!$B$1,Sheet4!$B$2:$B$8270,Sheet3!$A$3))","v":0},{"$f":"+IF(SUMIFS(Sheet4!$DN$2:$DN$8270,Sheet4!$C$2:$C$8270,Sheet3!$B16,Sheet4!$D$2:$D$8270,Sheet3!DG$3,Sheet4!$A$2:$A$8270,Sheet3!$B$1,Sheet4!$B$2:$B$8270,Sheet3!$A$3)<3,0,SUMIFS(Sheet4!$DN$2:$DN$8270,Sheet4!$C$2:$C$8270,Sheet3!$B16,Sheet4!$D$2:$D$8270,Sheet3!DG$3,Sheet4!$A$2:$A$8270,Sheet3!$B$1,Sheet4!$B$2:$B$8270,Sheet3!$A$3))","v":26},{"$f":"+IF(SUMIFS(Sheet4!$DN$2:$DN$8270,Sheet4!$C$2:$C$8270,Sheet3!$B16,Sheet4!$E$2:$E$8270,Sheet3!DH$4,Sheet4!$A$2:$A$8270,Sheet3!$B$1,Sheet4!$B$2:$B$8270,Sheet3!$A$3)<3,0,SUMIFS(Sheet4!$DN$2:$DN$8270,Sheet4!$C$2:$C$8270,Sheet3!$B16,Sheet4!$E$2:$E$8270,Sheet3!DH$4,Sheet4!$A$2:$A$8270,Sheet3!$B$1,Sheet4!$B$2:$B$8270,Sheet3!$A$3))","v":1187},{"$f":"+IF(SUMIFS(Sheet4!$DN$2:$DN$8270,Sheet4!$C$2:$C$8270,Sheet3!$B16,Sheet4!$E$2:$E$8270,Sheet3!DI$4,Sheet4!$A$2:$A$8270,Sheet3!$B$1,Sheet4!$B$2:$B$8270,Sheet3!$A$3)<3,0,SUMIFS(Sheet4!$DN$2:$DN$8270,Sheet4!$C$2:$C$8270,Sheet3!$B16,Sheet4!$E$2:$E$8270,Sheet3!DI$4,Sheet4!$A$2:$A$8270,Sheet3!$B$1,Sheet4!$B$2:$B$8270,Sheet3!$A$3))","v":918},{"$f":"+IF(SUMIFS(Sheet4!$DN$2:$DN$8270,Sheet4!$C$2:$C$8270,Sheet3!$B16,Sheet4!$E$2:$E$8270,Sheet3!DJ$4,Sheet4!$A$2:$A$8270,Sheet3!$B$1,Sheet4!$B$2:$B$8270,Sheet3!$A$3)<3,0,SUMIFS(Sheet4!$DN$2:$DN$8270,Sheet4!$C$2:$C$8270,Sheet3!$B16,Sheet4!$E$2:$E$8270,Sheet3!DJ$4,Sheet4!$A$2:$A$8270,Sheet3!$B$1,Sheet4!$B$2:$B$8270,Sheet3!$A$3))","v":234},{"$f":"+IF(SUMIFS(Sheet4!$DN$2:$DN$8270,Sheet4!$C$2:$C$8270,Sheet3!$B16,Sheet4!$E$2:$E$8270,Sheet3!DK$4,Sheet4!$A$2:$A$8270,Sheet3!$B$1,Sheet4!$B$2:$B$8270,Sheet3!$A$3)<3,0,SUMIFS(Sheet4!$DN$2:$DN$8270,Sheet4!$C$2:$C$8270,Sheet3!$B16,Sheet4!$E$2:$E$8270,Sheet3!DK$4,Sheet4!$A$2:$A$8270,Sheet3!$B$1,Sheet4!$B$2:$B$8270,Sheet3!$A$3))","v":7},{"$f":"+IF(SUMIFS(Sheet4!$DN$2:$DN$8270,Sheet4!$C$2:$C$8270,Sheet3!$B16,Sheet4!$E$2:$E$8270,Sheet3!DL$4,Sheet4!$A$2:$A$8270,Sheet3!$B$1,Sheet4!$B$2:$B$8270,Sheet3!$A$3)<3,0,SUMIFS(Sheet4!$DN$2:$DN$8270,Sheet4!$C$2:$C$8270,Sheet3!$B16,Sheet4!$E$2:$E$8270,Sheet3!DL$4,Sheet4!$A$2:$A$8270,Sheet3!$B$1,Sheet4!$B$2:$B$8270,Sheet3!$A$3))","v":0}]
[3,"16D","Região de Aveiro",{"$f":"+SUMIFS(Sheet4!$DM$2:$DM$8270,Sheet4!$C$2:$C$8270,Sheet3!$B17,Sheet4!$D$2:$D$8270,Sheet3!D$3,Sheet4!$E$2:$E$8270,Sheet3!D$4,Sheet4!$A$2:$A$8270,Sheet3!$B$1,Sheet4!$B$2:$B$8270,Sheet3!$A$3)","v":10},{"$f":"+SUMIFS(Sheet4!$DM$2:$DM$8270,Sheet4!$C$2:$C$8270,Sheet3!$B17,Sheet4!$D$2:$D$8270,Sheet3!E$3,Sheet4!$E$2:$E$8270,Sheet3!E$4,Sheet4!$A$2:$A$8270,Sheet3!$B$1,Sheet4!$B$2:$B$8270,Sheet3!$A$3)","v":0},{"$f":"+SUMIFS(Sheet4!$DM$2:$DM$8270,Sheet4!$C$2:$C$8270,Sheet3!$B17,Sheet4!$D$2:$D$8270,Sheet3!F$3,Sheet4!$E$2:$E$8270,Sheet3!F$4,Sheet4!$A$2:$A$8270,Sheet3!$B$1,Sheet4!$B$2:$B$8270,Sheet3!$A$3)","v":0},{"$f":"+SUMIFS(Sheet4!$DM$2:$DM$8270,Sheet4!$C$2:$C$8270,Sheet3!$B17,Sheet4!$D$2:$D$8270,Sheet3!G$3,Sheet4!$E$2:$E$8270,Sheet3!G$4,Sheet4!$A$2:$A$8270,Sheet3!$B$1,Sheet4!$B$2:$B$8270,Sheet3!$A$3)","v":0},{"$f":"+SUMIFS(Sheet4!$DM$2:$DM$8270,Sheet4!$C$2:$C$8270,Sheet3!$B17,Sheet4!$D$2:$D$8270,Sheet3!H$3,Sheet4!$E$2:$E$8270,Sheet3!H$4,Sheet4!$A$2:$A$8270,Sheet3!$B$1,Sheet4!$B$2:$B$8270,Sheet3!$A$3)","v":0},{"$f":"+SUMIFS(Sheet4!$DM$2:$DM$8270,Sheet4!$C$2:$C$8270,Sheet3!$B17,Sheet4!$D$2:$D$8270,Sheet3!I$3,Sheet4!$E$2:$E$8270,Sheet3!I$4,Sheet4!$A$2:$A$8270,Sheet3!$B$1,Sheet4!$B$2:$B$8270,Sheet3!$A$3)","v":904},{"$f":"+SUMIFS(Sheet4!$DM$2:$DM$8270,Sheet4!$C$2:$C$8270,Sheet3!$B17,Sheet4!$D$2:$D$8270,Sheet3!J$3,Sheet4!$E$2:$E$8270,Sheet3!J$4,Sheet4!$A$2:$A$8270,Sheet3!$B$1,Sheet4!$B$2:$B$8270,Sheet3!$A$3)","v":51},{"$f":"+SUMIFS(Sheet4!$DM$2:$DM$8270,Sheet4!$C$2:$C$8270,Sheet3!$B17,Sheet4!$D$2:$D$8270,Sheet3!K$3,Sheet4!$E$2:$E$8270,Sheet3!K$4,Sheet4!$A$2:$A$8270,Sheet3!$B$1,Sheet4!$B$2:$B$8270,Sheet3!$A$3)","v":9},{"$f":"+SUMIFS(Sheet4!$DM$2:$DM$8270,Sheet4!$C$2:$C$8270,Sheet3!$B17,Sheet4!$D$2:$D$8270,Sheet3!L$3,Sheet4!$E$2:$E$8270,Sheet3!L$4,Sheet4!$A$2:$A$8270,Sheet3!$B$1,Sheet4!$B$2:$B$8270,Sheet3!$A$3)","v":0},{"$f":"+SUMIFS(Sheet4!$DM$2:$DM$8270,Sheet4!$C$2:$C$8270,Sheet3!$B17,Sheet4!$D$2:$D$8270,Sheet3!M$3,Sheet4!$E$2:$E$8270,Sheet3!M$4,Sheet4!$A$2:$A$8270,Sheet3!$B$1,Sheet4!$B$2:$B$8270,Sheet3!$A$3)","v":0},{"$f":"+SUMIFS(Sheet4!$DM$2:$DM$8270,Sheet4!$C$2:$C$8270,Sheet3!$B17,Sheet4!$D$2:$D$8270,Sheet3!N$3,Sheet4!$E$2:$E$8270,Sheet3!N$4,Sheet4!$A$2:$A$8270,Sheet3!$B$1,Sheet4!$B$2:$B$8270,Sheet3!$A$3)","v":567},{"$f":"+SUMIFS(Sheet4!$DM$2:$DM$8270,Sheet4!$C$2:$C$8270,Sheet3!$B17,Sheet4!$D$2:$D$8270,Sheet3!O$3,Sheet4!$E$2:$E$8270,Sheet3!O$4,Sheet4!$A$2:$A$8270,Sheet3!$B$1,Sheet4!$B$2:$B$8270,Sheet3!$A$3)","v":44},{"$f":"+SUMIFS(Sheet4!$DM$2:$DM$8270,Sheet4!$C$2:$C$8270,Sheet3!$B17,Sheet4!$D$2:$D$8270,Sheet3!P$3,Sheet4!$E$2:$E$8270,Sheet3!P$4,Sheet4!$A$2:$A$8270,Sheet3!$B$1,Sheet4!$B$2:$B$8270,Sheet3!$A$3)","v":0},{"$f":"+SUMIFS(Sheet4!$DM$2:$DM$8270,Sheet4!$C$2:$C$8270,Sheet3!$B17,Sheet4!$D$2:$D$8270,Sheet3!Q$3,Sheet4!$E$2:$E$8270,Sheet3!Q$4,Sheet4!$A$2:$A$8270,Sheet3!$B$1,Sheet4!$B$2:$B$8270,Sheet3!$A$3)","v":0},{"$f":"+SUMIFS(Sheet4!$DM$2:$DM$8270,Sheet4!$C$2:$C$8270,Sheet3!$B17,Sheet4!$D$2:$D$8270,Sheet3!R$3,Sheet4!$E$2:$E$8270,Sheet3!R$4,Sheet4!$A$2:$A$8270,Sheet3!$B$1,Sheet4!$B$2:$B$8270,Sheet3!$A$3)","v":0},{"$f":"+SUMIFS(Sheet4!$DM$2:$DM$8270,Sheet4!$C$2:$C$8270,Sheet3!$B17,Sheet4!$D$2:$D$8270,Sheet3!S$3,Sheet4!$E$2:$E$8270,Sheet3!S$4,Sheet4!$A$2:$A$8270,Sheet3!$B$1,Sheet4!$B$2:$B$8270,Sheet3!$A$3)","v":0},{"$f":"+SUMIFS(Sheet4!$DM$2:$DM$8270,Sheet4!$C$2:$C$8270,Sheet3!$B17,Sheet4!$D$2:$D$8270,Sheet3!T$3,Sheet4!$E$2:$E$8270,Sheet3!T$4,Sheet4!$A$2:$A$8270,Sheet3!$B$1,Sheet4!$B$2:$B$8270,Sheet3!$A$3)","v":0},{"$f":"+SUMIFS(Sheet4!$DM$2:$DM$8270,Sheet4!$C$2:$C$8270,Sheet3!$B17,Sheet4!$D$2:$D$8270,Sheet3!U$3,Sheet4!$E$2:$E$8270,Sheet3!U$4,Sheet4!$A$2:$A$8270,Sheet3!$B$1,Sheet4!$B$2:$B$8270,Sheet3!$A$3)","v":4},{"$f":"+SUMIFS(Sheet4!$DM$2:$DM$8270,Sheet4!$C$2:$C$8270,Sheet3!$B17,Sheet4!$D$2:$D$8270,Sheet3!V$3,Sheet4!$E$2:$E$8270,Sheet3!V$4,Sheet4!$A$2:$A$8270,Sheet3!$B$1,Sheet4!$B$2:$B$8270,Sheet3!$A$3)","v":0},{"$f":"+SUMIFS(Sheet4!$DM$2:$DM$8270,Sheet4!$C$2:$C$8270,Sheet3!$B17,Sheet4!$D$2:$D$8270,Sheet3!W$3,Sheet4!$E$2:$E$8270,Sheet3!W$4,Sheet4!$A$2:$A$8270,Sheet3!$B$1,Sheet4!$B$2:$B$8270,Sheet3!$A$3)","v":0},{"$f":"+SUMIFS(Sheet4!$DM$2:$DM$8270,Sheet4!$C$2:$C$8270,Sheet3!$B17,Sheet4!$D$2:$D$8270,Sheet3!X$3,Sheet4!$E$2:$E$8270,Sheet3!X$4,Sheet4!$A$2:$A$8270,Sheet3!$B$1,Sheet4!$B$2:$B$8270,Sheet3!$A$3)","v":0},{"$f":"+SUMIFS(Sheet4!$DM$2:$DM$8270,Sheet4!$C$2:$C$8270,Sheet3!$B17,Sheet4!$D$2:$D$8270,Sheet3!Y$3,Sheet4!$E$2:$E$8270,Sheet3!Y$4,Sheet4!$A$2:$A$8270,Sheet3!$B$1,Sheet4!$B$2:$B$8270,Sheet3!$A$3)","v":0},{"$f":"+SUMIFS(Sheet4!$DM$2:$DM$8270,Sheet4!$C$2:$C$8270,Sheet3!$B17,Sheet4!$D$2:$D$8270,Sheet3!Z$3,Sheet4!$E$2:$E$8270,Sheet3!Z$4,Sheet4!$A$2:$A$8270,Sheet3!$B$1,Sheet4!$B$2:$B$8270,Sheet3!$A$3)","v":0},{"$f":"+SUMIFS(Sheet4!$DM$2:$DM$8270,Sheet4!$C$2:$C$8270,Sheet3!$B17,Sheet4!$D$2:$D$8270,Sheet3!AA$3,Sheet4!$E$2:$E$8270,Sheet3!AA$4,Sheet4!$A$2:$A$8270,Sheet3!$B$1,Sheet4!$B$2:$B$8270,Sheet3!$A$3)","v":0},{"$f":"+SUMIFS(Sheet4!$DM$2:$DM$8270,Sheet4!$C$2:$C$8270,Sheet3!$B17,Sheet4!$D$2:$D$8270,Sheet3!AB$3,Sheet4!$E$2:$E$8270,Sheet3!AB$4,Sheet4!$A$2:$A$8270,Sheet3!$B$1,Sheet4!$B$2:$B$8270,Sheet3!$A$3)","v":0},{"$f":"+SUMIFS(Sheet4!$DM$2:$DM$8270,Sheet4!$C$2:$C$8270,Sheet3!$B17,Sheet4!$D$2:$D$8270,Sheet3!AC$3,Sheet4!$E$2:$E$8270,Sheet3!AC$4,Sheet4!$A$2:$A$8270,Sheet3!$B$1,Sheet4!$B$2:$B$8270,Sheet3!$A$3)","v":217},{"$f":"+SUMIFS(Sheet4!$DM$2:$DM$8270,Sheet4!$C$2:$C$8270,Sheet3!$B17,Sheet4!$D$2:$D$8270,Sheet3!AD$3,Sheet4!$E$2:$E$8270,Sheet3!AD$4,Sheet4!$A$2:$A$8270,Sheet3!$B$1,Sheet4!$B$2:$B$8270,Sheet3!$A$3)","v":13},{"$f":"+SUMIFS(Sheet4!$DM$2:$DM$8270,Sheet4!$C$2:$C$8270,Sheet3!$B17,Sheet4!$D$2:$D$8270,Sheet3!AE$3,Sheet4!$E$2:$E$8270,Sheet3!AE$4,Sheet4!$A$2:$A$8270,Sheet3!$B$1,Sheet4!$B$2:$B$8270,Sheet3!$A$3)","v":0},{"$f":"+SUMIFS(Sheet4!$DM$2:$DM$8270,Sheet4!$C$2:$C$8270,Sheet3!$B17,Sheet4!$D$2:$D$8270,Sheet3!AF$3,Sheet4!$E$2:$E$8270,Sheet3!AF$4,Sheet4!$A$2:$A$8270,Sheet3!$B$1,Sheet4!$B$2:$B$8270,Sheet3!$A$3)","v":0},{"$f":"+SUMIFS(Sheet4!$DM$2:$DM$8270,Sheet4!$C$2:$C$8270,Sheet3!$B17,Sheet4!$D$2:$D$8270,Sheet3!AG$3,Sheet4!$E$2:$E$8270,Sheet3!AG$4,Sheet4!$A$2:$A$8270,Sheet3!$B$1,Sheet4!$B$2:$B$8270,Sheet3!$A$3)","v":0},{"$f":"+SUMIFS(Sheet4!$DM$2:$DM$8270,Sheet4!$C$2:$C$8270,Sheet3!$B17,Sheet4!$D$2:$D$8270,Sheet3!AH$3,Sheet4!$E$2:$E$8270,Sheet3!AH$4,Sheet4!$A$2:$A$8270,Sheet3!$B$1,Sheet4!$B$2:$B$8270,Sheet3!$A$3)","v":35},{"$f":"+SUMIFS(Sheet4!$DM$2:$DM$8270,Sheet4!$C$2:$C$8270,Sheet3!$B17,Sheet4!$D$2:$D$8270,Sheet3!AI$3,Sheet4!$E$2:$E$8270,Sheet3!AI$4,Sheet4!$A$2:$A$8270,Sheet3!$B$1,Sheet4!$B$2:$B$8270,Sheet3!$A$3)","v":20},{"$f":"+SUMIFS(Sheet4!$DM$2:$DM$8270,Sheet4!$C$2:$C$8270,Sheet3!$B17,Sheet4!$D$2:$D$8270,Sheet3!AJ$3,Sheet4!$E$2:$E$8270,Sheet3!AJ$4,Sheet4!$A$2:$A$8270,Sheet3!$B$1,Sheet4!$B$2:$B$8270,Sheet3!$A$3)","v":5},{"$f":"+SUMIFS(Sheet4!$DM$2:$DM$8270,Sheet4!$C$2:$C$8270,Sheet3!$B17,Sheet4!$D$2:$D$8270,Sheet3!AK$3,Sheet4!$E$2:$E$8270,Sheet3!AK$4,Sheet4!$A$2:$A$8270,Sheet3!$B$1,Sheet4!$B$2:$B$8270,Sheet3!$A$3)","v":0},{"$f":"+SUMIFS(Sheet4!$DM$2:$DM$8270,Sheet4!$C$2:$C$8270,Sheet3!$B17,Sheet4!$D$2:$D$8270,Sheet3!AL$3,Sheet4!$E$2:$E$8270,Sheet3!AL$4,Sheet4!$A$2:$A$8270,Sheet3!$B$1,Sheet4!$B$2:$B$8270,Sheet3!$A$3)","v":0},{"$f":"+SUMIFS(Sheet4!$DM$2:$DM$8270,Sheet4!$C$2:$C$8270,Sheet3!$B17,Sheet4!$D$2:$D$8270,Sheet3!AM$3,Sheet4!$E$2:$E$8270,Sheet3!AM$4,Sheet4!$A$2:$A$8270,Sheet3!$B$1,Sheet4!$B$2:$B$8270,Sheet3!$A$3)","v":189},{"$f":"+SUMIFS(Sheet4!$DM$2:$DM$8270,Sheet4!$C$2:$C$8270,Sheet3!$B17,Sheet4!$D$2:$D$8270,Sheet3!AN$3,Sheet4!$E$2:$E$8270,Sheet3!AN$4,Sheet4!$A$2:$A$8270,Sheet3!$B$1,Sheet4!$B$2:$B$8270,Sheet3!$A$3)","v":15},{"$f":"+SUMIFS(Sheet4!$DM$2:$DM$8270,Sheet4!$C$2:$C$8270,Sheet3!$B17,Sheet4!$D$2:$D$8270,Sheet3!AO$3,Sheet4!$E$2:$E$8270,Sheet3!AO$4,Sheet4!$A$2:$A$8270,Sheet3!$B$1,Sheet4!$B$2:$B$8270,Sheet3!$A$3)","v":0},{"$f":"+SUMIFS(Sheet4!$DM$2:$DM$8270,Sheet4!$C$2:$C$8270,Sheet3!$B17,Sheet4!$D$2:$D$8270,Sheet3!AP$3,Sheet4!$E$2:$E$8270,Sheet3!AP$4,Sheet4!$A$2:$A$8270,Sheet3!$B$1,Sheet4!$B$2:$B$8270,Sheet3!$A$3)","v":0},{"$f":"+SUMIFS(Sheet4!$DM$2:$DM$8270,Sheet4!$C$2:$C$8270,Sheet3!$B17,Sheet4!$D$2:$D$8270,Sheet3!AQ$3,Sheet4!$E$2:$E$8270,Sheet3!AQ$4,Sheet4!$A$2:$A$8270,Sheet3!$B$1,Sheet4!$B$2:$B$8270,Sheet3!$A$3)","v":0},{"$f":"+SUMIFS(Sheet4!$DM$2:$DM$8270,Sheet4!$C$2:$C$8270,Sheet3!$B17,Sheet4!$D$2:$D$8270,Sheet3!AR$3,Sheet4!$E$2:$E$8270,Sheet3!AR$4,Sheet4!$A$2:$A$8270,Sheet3!$B$1,Sheet4!$B$2:$B$8270,Sheet3!$A$3)","v":0},{"$f":"+SUMIFS(Sheet4!$DM$2:$DM$8270,Sheet4!$C$2:$C$8270,Sheet3!$B17,Sheet4!$D$2:$D$8270,Sheet3!AS$3,Sheet4!$E$2:$E$8270,Sheet3!AS$4,Sheet4!$A$2:$A$8270,Sheet3!$B$1,Sheet4!$B$2:$B$8270,Sheet3!$A$3)","v":0},{"$f":"+SUMIFS(Sheet4!$DM$2:$DM$8270,Sheet4!$C$2:$C$8270,Sheet3!$B17,Sheet4!$D$2:$D$8270,Sheet3!AT$3,Sheet4!$E$2:$E$8270,Sheet3!AT$4,Sheet4!$A$2:$A$8270,Sheet3!$B$1,Sheet4!$B$2:$B$8270,Sheet3!$A$3)","v":0},{"$f":"+SUMIFS(Sheet4!$DM$2:$DM$8270,Sheet4!$C$2:$C$8270,Sheet3!$B17,Sheet4!$D$2:$D$8270,Sheet3!AU$3,Sheet4!$E$2:$E$8270,Sheet3!AU$4,Sheet4!$A$2:$A$8270,Sheet3!$B$1,Sheet4!$B$2:$B$8270,Sheet3!$A$3)","v":0},{"$f":"+SUMIFS(Sheet4!$DM$2:$DM$8270,Sheet4!$C$2:$C$8270,Sheet3!$B17,Sheet4!$D$2:$D$8270,Sheet3!AV$3,Sheet4!$E$2:$E$8270,Sheet3!AV$4,Sheet4!$A$2:$A$8270,Sheet3!$B$1,Sheet4!$B$2:$B$8270,Sheet3!$A$3)","v":0},{"$f":"+SUMIFS(Sheet4!$DM$2:$DM$8270,Sheet4!$C$2:$C$8270,Sheet3!$B17,Sheet4!$D$2:$D$8270,Sheet3!AW$3,Sheet4!$E$2:$E$8270,Sheet3!AW$4,Sheet4!$A$2:$A$8270,Sheet3!$B$1,Sheet4!$B$2:$B$8270,Sheet3!$A$3)","v":800},{"$f":"+SUMIFS(Sheet4!$DM$2:$DM$8270,Sheet4!$C$2:$C$8270,Sheet3!$B17,Sheet4!$D$2:$D$8270,Sheet3!AX$3,Sheet4!$E$2:$E$8270,Sheet3!AX$4,Sheet4!$A$2:$A$8270,Sheet3!$B$1,Sheet4!$B$2:$B$8270,Sheet3!$A$3)","v":50},{"$f":"+SUMIFS(Sheet4!$DM$2:$DM$8270,Sheet4!$C$2:$C$8270,Sheet3!$B17,Sheet4!$D$2:$D$8270,Sheet3!AY$3,Sheet4!$E$2:$E$8270,Sheet3!AY$4,Sheet4!$A$2:$A$8270,Sheet3!$B$1,Sheet4!$B$2:$B$8270,Sheet3!$A$3)","v":4},{"$f":"+SUMIFS(Sheet4!$DM$2:$DM$8270,Sheet4!$C$2:$C$8270,Sheet3!$B17,Sheet4!$D$2:$D$8270,Sheet3!AZ$3,Sheet4!$E$2:$E$8270,Sheet3!AZ$4,Sheet4!$A$2:$A$8270,Sheet3!$B$1,Sheet4!$B$2:$B$8270,Sheet3!$A$3)","v":0},{"$f":"+SUMIFS(Sheet4!$DM$2:$DM$8270,Sheet4!$C$2:$C$8270,Sheet3!$B17,Sheet4!$D$2:$D$8270,Sheet3!BA$3,Sheet4!$E$2:$E$8270,Sheet3!BA$4,Sheet4!$A$2:$A$8270,Sheet3!$B$1,Sheet4!$B$2:$B$8270,Sheet3!$A$3)","v":0},{"$f":"+SUMIFS(Sheet4!$DM$2:$DM$8270,Sheet4!$C$2:$C$8270,Sheet3!$B17,Sheet4!$D$2:$D$8270,Sheet3!BB$3,Sheet4!$E$2:$E$8270,Sheet3!BB$4,Sheet4!$A$2:$A$8270,Sheet3!$B$1,Sheet4!$B$2:$B$8270,Sheet3!$A$3)","v":63},{"$f":"+SUMIFS(Sheet4!$DM$2:$DM$8270,Sheet4!$C$2:$C$8270,Sheet3!$B17,Sheet4!$D$2:$D$8270,Sheet3!BC$3,Sheet4!$E$2:$E$8270,Sheet3!BC$4,Sheet4!$A$2:$A$8270,Sheet3!$B$1,Sheet4!$B$2:$B$8270,Sheet3!$A$3)","v":142},{"$f":"+SUMIFS(Sheet4!$DM$2:$DM$8270,Sheet4!$C$2:$C$8270,Sheet3!$B17,Sheet4!$D$2:$D$8270,Sheet3!BD$3,Sheet4!$E$2:$E$8270,Sheet3!BD$4,Sheet4!$A$2:$A$8270,Sheet3!$B$1,Sheet4!$B$2:$B$8270,Sheet3!$A$3)","v":18},{"$f":"+SUMIFS(Sheet4!$DM$2:$DM$8270,Sheet4!$C$2:$C$8270,Sheet3!$B17,Sheet4!$D$2:$D$8270,Sheet3!BE$3,Sheet4!$E$2:$E$8270,Sheet3!BE$4,Sheet4!$A$2:$A$8270,Sheet3!$B$1,Sheet4!$B$2:$B$8270,Sheet3!$A$3)","v":0},{"$f":"+SUMIFS(Sheet4!$DM$2:$DM$8270,Sheet4!$C$2:$C$8270,Sheet3!$B17,Sheet4!$D$2:$D$8270,Sheet3!BF$3,Sheet4!$E$2:$E$8270,Sheet3!BF$4,Sheet4!$A$2:$A$8270,Sheet3!$B$1,Sheet4!$B$2:$B$8270,Sheet3!$A$3)","v":0},{"$f":"+SUMIFS(Sheet4!$DM$2:$DM$8270,Sheet4!$C$2:$C$8270,Sheet3!$B17,Sheet4!$D$2:$D$8270,Sheet3!BG$3,Sheet4!$E$2:$E$8270,Sheet3!BG$4,Sheet4!$A$2:$A$8270,Sheet3!$B$1,Sheet4!$B$2:$B$8270,Sheet3!$A$3)","v":193},{"$f":"+SUMIFS(Sheet4!$DM$2:$DM$8270,Sheet4!$C$2:$C$8270,Sheet3!$B17,Sheet4!$D$2:$D$8270,Sheet3!BH$3,Sheet4!$E$2:$E$8270,Sheet3!BH$4,Sheet4!$A$2:$A$8270,Sheet3!$B$1,Sheet4!$B$2:$B$8270,Sheet3!$A$3)","v":61},{"$f":"+SUMIFS(Sheet4!$DM$2:$DM$8270,Sheet4!$C$2:$C$8270,Sheet3!$B17,Sheet4!$D$2:$D$8270,Sheet3!BI$3,Sheet4!$E$2:$E$8270,Sheet3!BI$4,Sheet4!$A$2:$A$8270,Sheet3!$B$1,Sheet4!$B$2:$B$8270,Sheet3!$A$3)","v":7},{"$f":"+SUMIFS(Sheet4!$DM$2:$DM$8270,Sheet4!$C$2:$C$8270,Sheet3!$B17,Sheet4!$D$2:$D$8270,Sheet3!BJ$3,Sheet4!$E$2:$E$8270,Sheet3!BJ$4,Sheet4!$A$2:$A$8270,Sheet3!$B$1,Sheet4!$B$2:$B$8270,Sheet3!$A$3)","v":0},{"$f":"+SUMIFS(Sheet4!$DM$2:$DM$8270,Sheet4!$C$2:$C$8270,Sheet3!$B17,Sheet4!$D$2:$D$8270,Sheet3!BK$3,Sheet4!$E$2:$E$8270,Sheet3!BK$4,Sheet4!$A$2:$A$8270,Sheet3!$B$1,Sheet4!$B$2:$B$8270,Sheet3!$A$3)","v":0},{"$f":"+SUMIFS(Sheet4!$DM$2:$DM$8270,Sheet4!$C$2:$C$8270,Sheet3!$B17,Sheet4!$D$2:$D$8270,Sheet3!BL$3,Sheet4!$E$2:$E$8270,Sheet3!BL$4,Sheet4!$A$2:$A$8270,Sheet3!$B$1,Sheet4!$B$2:$B$8270,Sheet3!$A$3)","v":36},{"$f":"+SUMIFS(Sheet4!$DM$2:$DM$8270,Sheet4!$C$2:$C$8270,Sheet3!$B17,Sheet4!$D$2:$D$8270,Sheet3!BM$3,Sheet4!$E$2:$E$8270,Sheet3!BM$4,Sheet4!$A$2:$A$8270,Sheet3!$B$1,Sheet4!$B$2:$B$8270,Sheet3!$A$3)","v":21},{"$f":"+SUMIFS(Sheet4!$DM$2:$DM$8270,Sheet4!$C$2:$C$8270,Sheet3!$B17,Sheet4!$D$2:$D$8270,Sheet3!BN$3,Sheet4!$E$2:$E$8270,Sheet3!BN$4,Sheet4!$A$2:$A$8270,Sheet3!$B$1,Sheet4!$B$2:$B$8270,Sheet3!$A$3)","v":0},{"$f":"+SUMIFS(Sheet4!$DM$2:$DM$8270,Sheet4!$C$2:$C$8270,Sheet3!$B17,Sheet4!$D$2:$D$8270,Sheet3!BO$3,Sheet4!$E$2:$E$8270,Sheet3!BO$4,Sheet4!$A$2:$A$8270,Sheet3!$B$1,Sheet4!$B$2:$B$8270,Sheet3!$A$3)","v":0},{"$f":"+SUMIFS(Sheet4!$DM$2:$DM$8270,Sheet4!$C$2:$C$8270,Sheet3!$B17,Sheet4!$D$2:$D$8270,Sheet3!BP$3,Sheet4!$E$2:$E$8270,Sheet3!BP$4,Sheet4!$A$2:$A$8270,Sheet3!$B$1,Sheet4!$B$2:$B$8270,Sheet3!$A$3)","v":0},{"$f":"+SUMIFS(Sheet4!$DM$2:$DM$8270,Sheet4!$C$2:$C$8270,Sheet3!$B17,Sheet4!$D$2:$D$8270,Sheet3!BQ$3,Sheet4!$E$2:$E$8270,Sheet3!BQ$4,Sheet4!$A$2:$A$8270,Sheet3!$B$1,Sheet4!$B$2:$B$8270,Sheet3!$A$3)","v":58},{"$f":"+SUMIFS(Sheet4!$DM$2:$DM$8270,Sheet4!$C$2:$C$8270,Sheet3!$B17,Sheet4!$D$2:$D$8270,Sheet3!BR$3,Sheet4!$E$2:$E$8270,Sheet3!BR$4,Sheet4!$A$2:$A$8270,Sheet3!$B$1,Sheet4!$B$2:$B$8270,Sheet3!$A$3)","v":9},{"$f":"+SUMIFS(Sheet4!$DM$2:$DM$8270,Sheet4!$C$2:$C$8270,Sheet3!$B17,Sheet4!$D$2:$D$8270,Sheet3!BS$3,Sheet4!$E$2:$E$8270,Sheet3!BS$4,Sheet4!$A$2:$A$8270,Sheet3!$B$1,Sheet4!$B$2:$B$8270,Sheet3!$A$3)","v":0},{"$f":"+SUMIFS(Sheet4!$DM$2:$DM$8270,Sheet4!$C$2:$C$8270,Sheet3!$B17,Sheet4!$D$2:$D$8270,Sheet3!BT$3,Sheet4!$E$2:$E$8270,Sheet3!BT$4,Sheet4!$A$2:$A$8270,Sheet3!$B$1,Sheet4!$B$2:$B$8270,Sheet3!$A$3)","v":0},{"$f":"+SUMIFS(Sheet4!$DM$2:$DM$8270,Sheet4!$C$2:$C$8270,Sheet3!$B17,Sheet4!$D$2:$D$8270,Sheet3!BU$3,Sheet4!$E$2:$E$8270,Sheet3!BU$4,Sheet4!$A$2:$A$8270,Sheet3!$B$1,Sheet4!$B$2:$B$8270,Sheet3!$A$3)","v":0},{"$f":"+SUMIFS(Sheet4!$DM$2:$DM$8270,Sheet4!$C$2:$C$8270,Sheet3!$B17,Sheet4!$D$2:$D$8270,Sheet3!BV$3,Sheet4!$E$2:$E$8270,Sheet3!BV$4,Sheet4!$A$2:$A$8270,Sheet3!$B$1,Sheet4!$B$2:$B$8270,Sheet3!$A$3)","v":329},{"$f":"+SUMIFS(Sheet4!$DM$2:$DM$8270,Sheet4!$C$2:$C$8270,Sheet3!$B17,Sheet4!$D$2:$D$8270,Sheet3!BW$3,Sheet4!$E$2:$E$8270,Sheet3!BW$4,Sheet4!$A$2:$A$8270,Sheet3!$B$1,Sheet4!$B$2:$B$8270,Sheet3!$A$3)","v":36},{"$f":"+SUMIFS(Sheet4!$DM$2:$DM$8270,Sheet4!$C$2:$C$8270,Sheet3!$B17,Sheet4!$D$2:$D$8270,Sheet3!BX$3,Sheet4!$E$2:$E$8270,Sheet3!BX$4,Sheet4!$A$2:$A$8270,Sheet3!$B$1,Sheet4!$B$2:$B$8270,Sheet3!$A$3)","v":0},{"$f":"+SUMIFS(Sheet4!$DM$2:$DM$8270,Sheet4!$C$2:$C$8270,Sheet3!$B17,Sheet4!$D$2:$D$8270,Sheet3!BY$3,Sheet4!$E$2:$E$8270,Sheet3!BY$4,Sheet4!$A$2:$A$8270,Sheet3!$B$1,Sheet4!$B$2:$B$8270,Sheet3!$A$3)","v":0},{"$f":"+SUMIFS(Sheet4!$DM$2:$DM$8270,Sheet4!$C$2:$C$8270,Sheet3!$B17,Sheet4!$D$2:$D$8270,Sheet3!BZ$3,Sheet4!$E$2:$E$8270,Sheet3!BZ$4,Sheet4!$A$2:$A$8270,Sheet3!$B$1,Sheet4!$B$2:$B$8270,Sheet3!$A$3)","v":0},{"$f":"+SUMIFS(Sheet4!$DM$2:$DM$8270,Sheet4!$C$2:$C$8270,Sheet3!$B17,Sheet4!$D$2:$D$8270,Sheet3!CA$3,Sheet4!$E$2:$E$8270,Sheet3!CA$4,Sheet4!$A$2:$A$8270,Sheet3!$B$1,Sheet4!$B$2:$B$8270,Sheet3!$A$3)","v":387},{"$f":"+SUMIFS(Sheet4!$DM$2:$DM$8270,Sheet4!$C$2:$C$8270,Sheet3!$B17,Sheet4!$D$2:$D$8270,Sheet3!CB$3,Sheet4!$E$2:$E$8270,Sheet3!CB$4,Sheet4!$A$2:$A$8270,Sheet3!$B$1,Sheet4!$B$2:$B$8270,Sheet3!$A$3)","v":73},{"$f":"+SUMIFS(Sheet4!$DM$2:$DM$8270,Sheet4!$C$2:$C$8270,Sheet3!$B17,Sheet4!$D$2:$D$8270,Sheet3!CC$3,Sheet4!$E$2:$E$8270,Sheet3!CC$4,Sheet4!$A$2:$A$8270,Sheet3!$B$1,Sheet4!$B$2:$B$8270,Sheet3!$A$3)","v":3},{"$f":"+SUMIFS(Sheet4!$DM$2:$DM$8270,Sheet4!$C$2:$C$8270,Sheet3!$B17,Sheet4!$D$2:$D$8270,Sheet3!CD$3,Sheet4!$E$2:$E$8270,Sheet3!CD$4,Sheet4!$A$2:$A$8270,Sheet3!$B$1,Sheet4!$B$2:$B$8270,Sheet3!$A$3)","v":0},{"$f":"+SUMIFS(Sheet4!$DM$2:$DM$8270,Sheet4!$C$2:$C$8270,Sheet3!$B17,Sheet4!$D$2:$D$8270,Sheet3!CE$3,Sheet4!$E$2:$E$8270,Sheet3!CE$4,Sheet4!$A$2:$A$8270,Sheet3!$B$1,Sheet4!$B$2:$B$8270,Sheet3!$A$3)","v":0},{"$f":"+SUMIFS(Sheet4!$DM$2:$DM$8270,Sheet4!$C$2:$C$8270,Sheet3!$B17,Sheet4!$D$2:$D$8270,Sheet3!CF$3,Sheet4!$E$2:$E$8270,Sheet3!CF$4,Sheet4!$A$2:$A$8270,Sheet3!$B$1,Sheet4!$B$2:$B$8270,Sheet3!$A$3)","v":0},{"$f":"+SUMIFS(Sheet4!$DM$2:$DM$8270,Sheet4!$C$2:$C$8270,Sheet3!$B17,Sheet4!$D$2:$D$8270,Sheet3!CG$3,Sheet4!$E$2:$E$8270,Sheet3!CG$4,Sheet4!$A$2:$A$8270,Sheet3!$B$1,Sheet4!$B$2:$B$8270,Sheet3!$A$3)","v":0},{"$f":"+SUMIFS(Sheet4!$DM$2:$DM$8270,Sheet4!$C$2:$C$8270,Sheet3!$B17,Sheet4!$D$2:$D$8270,Sheet3!CH$3,Sheet4!$E$2:$E$8270,Sheet3!CH$4,Sheet4!$A$2:$A$8270,Sheet3!$B$1,Sheet4!$B$2:$B$8270,Sheet3!$A$3)","v":0},{"$f":"+SUMIFS(Sheet4!$DM$2:$DM$8270,Sheet4!$C$2:$C$8270,Sheet3!$B17,Sheet4!$D$2:$D$8270,Sheet3!CI$3,Sheet4!$E$2:$E$8270,Sheet3!CI$4,Sheet4!$A$2:$A$8270,Sheet3!$B$1,Sheet4!$B$2:$B$8270,Sheet3!$A$3)","v":0},{"$f":"+SUMIFS(Sheet4!$DM$2:$DM$8270,Sheet4!$C$2:$C$8270,Sheet3!$B17,Sheet4!$D$2:$D$8270,Sheet3!CJ$3,Sheet4!$E$2:$E$8270,Sheet3!CJ$4,Sheet4!$A$2:$A$8270,Sheet3!$B$1,Sheet4!$B$2:$B$8270,Sheet3!$A$3)","v":0},{"$f":"+SUMIFS(Sheet4!$DM$2:$DM$8270,Sheet4!$C$2:$C$8270,Sheet3!$B17,Sheet4!$D$2:$D$8270,Sheet3!CK$3,Sheet4!$E$2:$E$8270,Sheet3!CK$4,Sheet4!$A$2:$A$8270,Sheet3!$B$1,Sheet4!$B$2:$B$8270,Sheet3!$A$3)","v":33},{"$f":"+SUMIFS(Sheet4!$DM$2:$DM$8270,Sheet4!$C$2:$C$8270,Sheet3!$B17,Sheet4!$D$2:$D$8270,Sheet3!CL$3,Sheet4!$E$2:$E$8270,Sheet3!CL$4,Sheet4!$A$2:$A$8270,Sheet3!$B$1,Sheet4!$B$2:$B$8270,Sheet3!$A$3)","v":4},{"$f":"+SUMIFS(Sheet4!$DM$2:$DM$8270,Sheet4!$C$2:$C$8270,Sheet3!$B17,Sheet4!$D$2:$D$8270,Sheet3!CM$3,Sheet4!$E$2:$E$8270,Sheet3!CM$4,Sheet4!$A$2:$A$8270,Sheet3!$B$1,Sheet4!$B$2:$B$8270,Sheet3!$A$3)","v":0},{"$f":"+SUMIFS(Sheet4!$DM$2:$DM$8270,Sheet4!$C$2:$C$8270,Sheet3!$B17,Sheet4!$D$2:$D$8270,Sheet3!CN$3,Sheet4!$E$2:$E$8270,Sheet3!CN$4,Sheet4!$A$2:$A$8270,Sheet3!$B$1,Sheet4!$B$2:$B$8270,Sheet3!$A$3)","v":0},{"$f":"+SUMIFS(Sheet4!$DM$2:$DM$8270,Sheet4!$C$2:$C$8270,Sheet3!$B17,Sheet4!$D$2:$D$8270,Sheet3!CO$3,Sheet4!$E$2:$E$8270,Sheet3!CO$4,Sheet4!$A$2:$A$8270,Sheet3!$B$1,Sheet4!$B$2:$B$8270,Sheet3!$A$3)","v":0},{"$f":"+IF(SUMIFS(Sheet4!$DN$2:$DN$8270,Sheet4!$C$2:$C$8270,Sheet3!$B17,Sheet4!$D$2:$D$8270,Sheet3!CP$3,Sheet4!$A$2:$A$8270,Sheet3!$B$1,Sheet4!$B$2:$B$8270,Sheet3!$A$3)<3,0,SUMIFS(Sheet4!$DN$2:$DN$8270,Sheet4!$C$2:$C$8270,Sheet3!$B17,Sheet4!$D$2:$D$8270,Sheet3!CP$3,Sheet4!$A$2:$A$8270,Sheet3!$B$1,Sheet4!$B$2:$B$8270,Sheet3!$A$3))","v":11},{"$f":"+IF(SUMIFS(Sheet4!$DN$2:$DN$8270,Sheet4!$C$2:$C$8270,Sheet3!$B17,Sheet4!$D$2:$D$8270,Sheet3!CQ$3,Sheet4!$A$2:$A$8270,Sheet3!$B$1,Sheet4!$B$2:$B$8270,Sheet3!$A$3)<3,0,SUMIFS(Sheet4!$DN$2:$DN$8270,Sheet4!$C$2:$C$8270,Sheet3!$B17,Sheet4!$D$2:$D$8270,Sheet3!CQ$3,Sheet4!$A$2:$A$8270,Sheet3!$B$1,Sheet4!$B$2:$B$8270,Sheet3!$A$3))","v":965},{"$f":"+IF(SUMIFS(Sheet4!$DN$2:$DN$8270,Sheet4!$C$2:$C$8270,Sheet3!$B17,Sheet4!$D$2:$D$8270,Sheet3!CR$3,Sheet4!$A$2:$A$8270,Sheet3!$B$1,Sheet4!$B$2:$B$8270,Sheet3!$A$3)<3,0,SUMIFS(Sheet4!$DN$2:$DN$8270,Sheet4!$C$2:$C$8270,Sheet3!$B17,Sheet4!$D$2:$D$8270,Sheet3!CR$3,Sheet4!$A$2:$A$8270,Sheet3!$B$1,Sheet4!$B$2:$B$8270,Sheet3!$A$3))","v":612},{"$f":"+IF(SUMIFS(Sheet4!$DN$2:$DN$8270,Sheet4!$C$2:$C$8270,Sheet3!$B17,Sheet4!$D$2:$D$8270,Sheet3!CS$3,Sheet4!$A$2:$A$8270,Sheet3!$B$1,Sheet4!$B$2:$B$8270,Sheet3!$A$3)<3,0,SUMIFS(Sheet4!$DN$2:$DN$8270,Sheet4!$C$2:$C$8270,Sheet3!$B17,Sheet4!$D$2:$D$8270,Sheet3!CS$3,Sheet4!$A$2:$A$8270,Sheet3!$B$1,Sheet4!$B$2:$B$8270,Sheet3!$A$3))","v":7},{"$f":"+IF(SUMIFS(Sheet4!$DN$2:$DN$8270,Sheet4!$C$2:$C$8270,Sheet3!$B17,Sheet4!$D$2:$D$8270,Sheet3!CT$3,Sheet4!$A$2:$A$8270,Sheet3!$B$1,Sheet4!$B$2:$B$8270,Sheet3!$A$3)<3,0,SUMIFS(Sheet4!$DN$2:$DN$8270,Sheet4!$C$2:$C$8270,Sheet3!$B17,Sheet4!$D$2:$D$8270,Sheet3!CT$3,Sheet4!$A$2:$A$8270,Sheet3!$B$1,Sheet4!$B$2:$B$8270,Sheet3!$A$3))","v":0},{"$f":"+IF(SUMIFS(Sheet4!$DN$2:$DN$8270,Sheet4!$C$2:$C$8270,Sheet3!$B17,Sheet4!$D$2:$D$8270,Sheet3!CU$3,Sheet4!$A$2:$A$8270,Sheet3!$B$1,Sheet4!$B$2:$B$8270,Sheet3!$A$3)<3,0,SUMIFS(Sheet4!$DN$2:$DN$8270,Sheet4!$C$2:$C$8270,Sheet3!$B17,Sheet4!$D$2:$D$8270,Sheet3!CU$3,Sheet4!$A$2:$A$8270,Sheet3!$B$1,Sheet4!$B$2:$B$8270,Sheet3!$A$3))","v":238},{"$f":"+IF(SUMIFS(Sheet4!$DN$2:$DN$8270,Sheet4!$C$2:$C$8270,Sheet3!$B17,Sheet4!$D$2:$D$8270,Sheet3!CV$3,Sheet4!$A$2:$A$8270,Sheet3!$B$1,Sheet4!$B$2:$B$8270,Sheet3!$A$3)<3,0,SUMIFS(Sheet4!$DN$2:$DN$8270,Sheet4!$C$2:$C$8270,Sheet3!$B17,Sheet4!$D$2:$D$8270,Sheet3!CV$3,Sheet4!$A$2:$A$8270,Sheet3!$B$1,Sheet4!$B$2:$B$8270,Sheet3!$A$3))","v":62},{"$f":"+IF(SUMIFS(Sheet4!$DN$2:$DN$8270,Sheet4!$C$2:$C$8270,Sheet3!$B17,Sheet4!$D$2:$D$8270,Sheet3!CW$3,Sheet4!$A$2:$A$8270,Sheet3!$B$1,Sheet4!$B$2:$B$8270,Sheet3!$A$3)<3,0,SUMIFS(Sheet4!$DN$2:$DN$8270,Sheet4!$C$2:$C$8270,Sheet3!$B17,Sheet4!$D$2:$D$8270,Sheet3!CW$3,Sheet4!$A$2:$A$8270,Sheet3!$B$1,Sheet4!$B$2:$B$8270,Sheet3!$A$3))","v":206},{"$f":"+IF(SUMIFS(Sheet4!$DN$2:$DN$8270,Sheet4!$C$2:$C$8270,Sheet3!$B17,Sheet4!$D$2:$D$8270,Sheet3!CX$3,Sheet4!$A$2:$A$8270,Sheet3!$B$1,Sheet4!$B$2:$B$8270,Sheet3!$A$3)<3,0,SUMIFS(Sheet4!$DN$2:$DN$8270,Sheet4!$C$2:$C$8270,Sheet3!$B17,Sheet4!$D$2:$D$8270,Sheet3!CX$3,Sheet4!$A$2:$A$8270,Sheet3!$B$1,Sheet4!$B$2:$B$8270,Sheet3!$A$3))","v":0},{"$f":"+IF(SUMIFS(Sheet4!$DN$2:$DN$8270,Sheet4!$C$2:$C$8270,Sheet3!$B17,Sheet4!$D$2:$D$8270,Sheet3!CY$3,Sheet4!$A$2:$A$8270,Sheet3!$B$1,Sheet4!$B$2:$B$8270,Sheet3!$A$3)<3,0,SUMIFS(Sheet4!$DN$2:$DN$8270,Sheet4!$C$2:$C$8270,Sheet3!$B17,Sheet4!$D$2:$D$8270,Sheet3!CY$3,Sheet4!$A$2:$A$8270,Sheet3!$B$1,Sheet4!$B$2:$B$8270,Sheet3!$A$3))","v":855},{"$f":"+IF(SUMIFS(Sheet4!$DN$2:$DN$8270,Sheet4!$C$2:$C$8270,Sheet3!$B17,Sheet4!$D$2:$D$8270,Sheet3!CZ$3,Sheet4!$A$2:$A$8270,Sheet3!$B$1,Sheet4!$B$2:$B$8270,Sheet3!$A$3)<3,0,SUMIFS(Sheet4!$DN$2:$DN$8270,Sheet4!$C$2:$C$8270,Sheet3!$B17,Sheet4!$D$2:$D$8270,Sheet3!CZ$3,Sheet4!$A$2:$A$8270,Sheet3!$B$1,Sheet4!$B$2:$B$8270,Sheet3!$A$3))","v":224},{"$f":"+IF(SUMIFS(Sheet4!$DN$2:$DN$8270,Sheet4!$C$2:$C$8270,Sheet3!$B17,Sheet4!$D$2:$D$8270,Sheet3!DA$3,Sheet4!$A$2:$A$8270,Sheet3!$B$1,Sheet4!$B$2:$B$8270,Sheet3!$A$3)<3,0,SUMIFS(Sheet4!$DN$2:$DN$8270,Sheet4!$C$2:$C$8270,Sheet3!$B17,Sheet4!$D$2:$D$8270,Sheet3!DA$3,Sheet4!$A$2:$A$8270,Sheet3!$B$1,Sheet4!$B$2:$B$8270,Sheet3!$A$3))","v":263},{"$f":"+IF(SUMIFS(Sheet4!$DN$2:$DN$8270,Sheet4!$C$2:$C$8270,Sheet3!$B17,Sheet4!$D$2:$D$8270,Sheet3!DB$3,Sheet4!$A$2:$A$8270,Sheet3!$B$1,Sheet4!$B$2:$B$8270,Sheet3!$A$3)<3,0,SUMIFS(Sheet4!$DN$2:$DN$8270,Sheet4!$C$2:$C$8270,Sheet3!$B17,Sheet4!$D$2:$D$8270,Sheet3!DB$3,Sheet4!$A$2:$A$8270,Sheet3!$B$1,Sheet4!$B$2:$B$8270,Sheet3!$A$3))","v":57},{"$f":"+IF(SUMIFS(Sheet4!$DN$2:$DN$8270,Sheet4!$C$2:$C$8270,Sheet3!$B17,Sheet4!$D$2:$D$8270,Sheet3!DC$3,Sheet4!$A$2:$A$8270,Sheet3!$B$1,Sheet4!$B$2:$B$8270,Sheet3!$A$3)<3,0,SUMIFS(Sheet4!$DN$2:$DN$8270,Sheet4!$C$2:$C$8270,Sheet3!$B17,Sheet4!$D$2:$D$8270,Sheet3!DC$3,Sheet4!$A$2:$A$8270,Sheet3!$B$1,Sheet4!$B$2:$B$8270,Sheet3!$A$3))","v":69},{"$f":"+IF(SUMIFS(Sheet4!$DN$2:$DN$8270,Sheet4!$C$2:$C$8270,Sheet3!$B17,Sheet4!$D$2:$D$8270,Sheet3!DD$3,Sheet4!$A$2:$A$8270,Sheet3!$B$1,Sheet4!$B$2:$B$8270,Sheet3!$A$3)<3,0,SUMIFS(Sheet4!$DN$2:$DN$8270,Sheet4!$C$2:$C$8270,Sheet3!$B17,Sheet4!$D$2:$D$8270,Sheet3!DD$3,Sheet4!$A$2:$A$8270,Sheet3!$B$1,Sheet4!$B$2:$B$8270,Sheet3!$A$3))","v":365},{"$f":"+IF(SUMIFS(Sheet4!$DN$2:$DN$8270,Sheet4!$C$2:$C$8270,Sheet3!$B17,Sheet4!$D$2:$D$8270,Sheet3!DE$3,Sheet4!$A$2:$A$8270,Sheet3!$B$1,Sheet4!$B$2:$B$8270,Sheet3!$A$3)<3,0,SUMIFS(Sheet4!$DN$2:$DN$8270,Sheet4!$C$2:$C$8270,Sheet3!$B17,Sheet4!$D$2:$D$8270,Sheet3!DE$3,Sheet4!$A$2:$A$8270,Sheet3!$B$1,Sheet4!$B$2:$B$8270,Sheet3!$A$3))","v":464},{"$f":"+IF(SUMIFS(Sheet4!$DN$2:$DN$8270,Sheet4!$C$2:$C$8270,Sheet3!$B17,Sheet4!$D$2:$D$8270,Sheet3!DF$3,Sheet4!$A$2:$A$8270,Sheet3!$B$1,Sheet4!$B$2:$B$8270,Sheet3!$A$3)<3,0,SUMIFS(Sheet4!$DN$2:$DN$8270,Sheet4!$C$2:$C$8270,Sheet3!$B17,Sheet4!$D$2:$D$8270,Sheet3!DF$3,Sheet4!$A$2:$A$8270,Sheet3!$B$1,Sheet4!$B$2:$B$8270,Sheet3!$A$3))","v":0},{"$f":"+IF(SUMIFS(Sheet4!$DN$2:$DN$8270,Sheet4!$C$2:$C$8270,Sheet3!$B17,Sheet4!$D$2:$D$8270,Sheet3!DG$3,Sheet4!$A$2:$A$8270,Sheet3!$B$1,Sheet4!$B$2:$B$8270,Sheet3!$A$3)<3,0,SUMIFS(Sheet4!$DN$2:$DN$8270,Sheet4!$C$2:$C$8270,Sheet3!$B17,Sheet4!$D$2:$D$8270,Sheet3!DG$3,Sheet4!$A$2:$A$8270,Sheet3!$B$1,Sheet4!$B$2:$B$8270,Sheet3!$A$3))","v":38},{"$f":"+IF(SUMIFS(Sheet4!$DN$2:$DN$8270,Sheet4!$C$2:$C$8270,Sheet3!$B17,Sheet4!$E$2:$E$8270,Sheet3!DH$4,Sheet4!$A$2:$A$8270,Sheet3!$B$1,Sheet4!$B$2:$B$8270,Sheet3!$A$3)<3,0,SUMIFS(Sheet4!$DN$2:$DN$8270,Sheet4!$C$2:$C$8270,Sheet3!$B17,Sheet4!$E$2:$E$8270,Sheet3!DH$4,Sheet4!$A$2:$A$8270,Sheet3!$B$1,Sheet4!$B$2:$B$8270,Sheet3!$A$3))","v":3828},{"$f":"+IF(SUMIFS(Sheet4!$DN$2:$DN$8270,Sheet4!$C$2:$C$8270,Sheet3!$B17,Sheet4!$E$2:$E$8270,Sheet3!DI$4,Sheet4!$A$2:$A$8270,Sheet3!$B$1,Sheet4!$B$2:$B$8270,Sheet3!$A$3)<3,0,SUMIFS(Sheet4!$DN$2:$DN$8270,Sheet4!$C$2:$C$8270,Sheet3!$B17,Sheet4!$E$2:$E$8270,Sheet3!DI$4,Sheet4!$A$2:$A$8270,Sheet3!$B$1,Sheet4!$B$2:$B$8270,Sheet3!$A$3))","v":552},{"$f":"+IF(SUMIFS(Sheet4!$DN$2:$DN$8270,Sheet4!$C$2:$C$8270,Sheet3!$B17,Sheet4!$E$2:$E$8270,Sheet3!DJ$4,Sheet4!$A$2:$A$8270,Sheet3!$B$1,Sheet4!$B$2:$B$8270,Sheet3!$A$3)<3,0,SUMIFS(Sheet4!$DN$2:$DN$8270,Sheet4!$C$2:$C$8270,Sheet3!$B17,Sheet4!$E$2:$E$8270,Sheet3!DJ$4,Sheet4!$A$2:$A$8270,Sheet3!$B$1,Sheet4!$B$2:$B$8270,Sheet3!$A$3))","v":57},{"$f":"+IF(SUMIFS(Sheet4!$DN$2:$DN$8270,Sheet4!$C$2:$C$8270,Sheet3!$B17,Sheet4!$E$2:$E$8270,Sheet3!DK$4,Sheet4!$A$2:$A$8270,Sheet3!$B$1,Sheet4!$B$2:$B$8270,Sheet3!$A$3)<3,0,SUMIFS(Sheet4!$DN$2:$DN$8270,Sheet4!$C$2:$C$8270,Sheet3!$B17,Sheet4!$E$2:$E$8270,Sheet3!DK$4,Sheet4!$A$2:$A$8270,Sheet3!$B$1,Sheet4!$B$2:$B$8270,Sheet3!$A$3))","v":0},{"$f":"+IF(SUMIFS(Sheet4!$DN$2:$DN$8270,Sheet4!$C$2:$C$8270,Sheet3!$B17,Sheet4!$E$2:$E$8270,Sheet3!DL$4,Sheet4!$A$2:$A$8270,Sheet3!$B$1,Sheet4!$B$2:$B$8270,Sheet3!$A$3)<3,0,SUMIFS(Sheet4!$DN$2:$DN$8270,Sheet4!$C$2:$C$8270,Sheet3!$B17,Sheet4!$E$2:$E$8270,Sheet3!DL$4,Sheet4!$A$2:$A$8270,Sheet3!$B$1,Sheet4!$B$2:$B$8270,Sheet3!$A$3))","v":0}]
[3,"16E","Região de Coimbra",{"$f":"+SUMIFS(Sheet4!$DM$2:$DM$8270,Sheet4!$C$2:$C$8270,Sheet3!$B18,Sheet4!$D$2:$D$8270,Sheet3!D$3,Sheet4!$E$2:$E$8270,Sheet3!D$4,Sheet4!$A$2:$A$8270,Sheet3!$B$1,Sheet4!$B$2:$B$8270,Sheet3!$A$3)","v":35},{"$f":"+SUMIFS(Sheet4!$DM$2:$DM$8270,Sheet4!$C$2:$C$8270,Sheet3!$B18,Sheet4!$D$2:$D$8270,Sheet3!E$3,Sheet4!$E$2:$E$8270,Sheet3!E$4,Sheet4!$A$2:$A$8270,Sheet3!$B$1,Sheet4!$B$2:$B$8270,Sheet3!$A$3)","v":0},{"$f":"+SUMIFS(Sheet4!$DM$2:$DM$8270,Sheet4!$C$2:$C$8270,Sheet3!$B18,Sheet4!$D$2:$D$8270,Sheet3!F$3,Sheet4!$E$2:$E$8270,Sheet3!F$4,Sheet4!$A$2:$A$8270,Sheet3!$B$1,Sheet4!$B$2:$B$8270,Sheet3!$A$3)","v":0},{"$f":"+SUMIFS(Sheet4!$DM$2:$DM$8270,Sheet4!$C$2:$C$8270,Sheet3!$B18,Sheet4!$D$2:$D$8270,Sheet3!G$3,Sheet4!$E$2:$E$8270,Sheet3!G$4,Sheet4!$A$2:$A$8270,Sheet3!$B$1,Sheet4!$B$2:$B$8270,Sheet3!$A$3)","v":0},{"$f":"+SUMIFS(Sheet4!$DM$2:$DM$8270,Sheet4!$C$2:$C$8270,Sheet3!$B18,Sheet4!$D$2:$D$8270,Sheet3!H$3,Sheet4!$E$2:$E$8270,Sheet3!H$4,Sheet4!$A$2:$A$8270,Sheet3!$B$1,Sheet4!$B$2:$B$8270,Sheet3!$A$3)","v":0},{"$f":"+SUMIFS(Sheet4!$DM$2:$DM$8270,Sheet4!$C$2:$C$8270,Sheet3!$B18,Sheet4!$D$2:$D$8270,Sheet3!I$3,Sheet4!$E$2:$E$8270,Sheet3!I$4,Sheet4!$A$2:$A$8270,Sheet3!$B$1,Sheet4!$B$2:$B$8270,Sheet3!$A$3)","v":788},{"$f":"+SUMIFS(Sheet4!$DM$2:$DM$8270,Sheet4!$C$2:$C$8270,Sheet3!$B18,Sheet4!$D$2:$D$8270,Sheet3!J$3,Sheet4!$E$2:$E$8270,Sheet3!J$4,Sheet4!$A$2:$A$8270,Sheet3!$B$1,Sheet4!$B$2:$B$8270,Sheet3!$A$3)","v":209},{"$f":"+SUMIFS(Sheet4!$DM$2:$DM$8270,Sheet4!$C$2:$C$8270,Sheet3!$B18,Sheet4!$D$2:$D$8270,Sheet3!K$3,Sheet4!$E$2:$E$8270,Sheet3!K$4,Sheet4!$A$2:$A$8270,Sheet3!$B$1,Sheet4!$B$2:$B$8270,Sheet3!$A$3)","v":53},{"$f":"+SUMIFS(Sheet4!$DM$2:$DM$8270,Sheet4!$C$2:$C$8270,Sheet3!$B18,Sheet4!$D$2:$D$8270,Sheet3!L$3,Sheet4!$E$2:$E$8270,Sheet3!L$4,Sheet4!$A$2:$A$8270,Sheet3!$B$1,Sheet4!$B$2:$B$8270,Sheet3!$A$3)","v":0},{"$f":"+SUMIFS(Sheet4!$DM$2:$DM$8270,Sheet4!$C$2:$C$8270,Sheet3!$B18,Sheet4!$D$2:$D$8270,Sheet3!M$3,Sheet4!$E$2:$E$8270,Sheet3!M$4,Sheet4!$A$2:$A$8270,Sheet3!$B$1,Sheet4!$B$2:$B$8270,Sheet3!$A$3)","v":0},{"$f":"+SUMIFS(Sheet4!$DM$2:$DM$8270,Sheet4!$C$2:$C$8270,Sheet3!$B18,Sheet4!$D$2:$D$8270,Sheet3!N$3,Sheet4!$E$2:$E$8270,Sheet3!N$4,Sheet4!$A$2:$A$8270,Sheet3!$B$1,Sheet4!$B$2:$B$8270,Sheet3!$A$3)","v":341},{"$f":"+SUMIFS(Sheet4!$DM$2:$DM$8270,Sheet4!$C$2:$C$8270,Sheet3!$B18,Sheet4!$D$2:$D$8270,Sheet3!O$3,Sheet4!$E$2:$E$8270,Sheet3!O$4,Sheet4!$A$2:$A$8270,Sheet3!$B$1,Sheet4!$B$2:$B$8270,Sheet3!$A$3)","v":13},{"$f":"+SUMIFS(Sheet4!$DM$2:$DM$8270,Sheet4!$C$2:$C$8270,Sheet3!$B18,Sheet4!$D$2:$D$8270,Sheet3!P$3,Sheet4!$E$2:$E$8270,Sheet3!P$4,Sheet4!$A$2:$A$8270,Sheet3!$B$1,Sheet4!$B$2:$B$8270,Sheet3!$A$3)","v":4},{"$f":"+SUMIFS(Sheet4!$DM$2:$DM$8270,Sheet4!$C$2:$C$8270,Sheet3!$B18,Sheet4!$D$2:$D$8270,Sheet3!Q$3,Sheet4!$E$2:$E$8270,Sheet3!Q$4,Sheet4!$A$2:$A$8270,Sheet3!$B$1,Sheet4!$B$2:$B$8270,Sheet3!$A$3)","v":0},{"$f":"+SUMIFS(Sheet4!$DM$2:$DM$8270,Sheet4!$C$2:$C$8270,Sheet3!$B18,Sheet4!$D$2:$D$8270,Sheet3!R$3,Sheet4!$E$2:$E$8270,Sheet3!R$4,Sheet4!$A$2:$A$8270,Sheet3!$B$1,Sheet4!$B$2:$B$8270,Sheet3!$A$3)","v":0},{"$f":"+SUMIFS(Sheet4!$DM$2:$DM$8270,Sheet4!$C$2:$C$8270,Sheet3!$B18,Sheet4!$D$2:$D$8270,Sheet3!S$3,Sheet4!$E$2:$E$8270,Sheet3!S$4,Sheet4!$A$2:$A$8270,Sheet3!$B$1,Sheet4!$B$2:$B$8270,Sheet3!$A$3)","v":126},{"$f":"+SUMIFS(Sheet4!$DM$2:$DM$8270,Sheet4!$C$2:$C$8270,Sheet3!$B18,Sheet4!$D$2:$D$8270,Sheet3!T$3,Sheet4!$E$2:$E$8270,Sheet3!T$4,Sheet4!$A$2:$A$8270,Sheet3!$B$1,Sheet4!$B$2:$B$8270,Sheet3!$A$3)","v":119},{"$f":"+SUMIFS(Sheet4!$DM$2:$DM$8270,Sheet4!$C$2:$C$8270,Sheet3!$B18,Sheet4!$D$2:$D$8270,Sheet3!U$3,Sheet4!$E$2:$E$8270,Sheet3!U$4,Sheet4!$A$2:$A$8270,Sheet3!$B$1,Sheet4!$B$2:$B$8270,Sheet3!$A$3)","v":48},{"$f":"+SUMIFS(Sheet4!$DM$2:$DM$8270,Sheet4!$C$2:$C$8270,Sheet3!$B18,Sheet4!$D$2:$D$8270,Sheet3!V$3,Sheet4!$E$2:$E$8270,Sheet3!V$4,Sheet4!$A$2:$A$8270,Sheet3!$B$1,Sheet4!$B$2:$B$8270,Sheet3!$A$3)","v":0},{"$f":"+SUMIFS(Sheet4!$DM$2:$DM$8270,Sheet4!$C$2:$C$8270,Sheet3!$B18,Sheet4!$D$2:$D$8270,Sheet3!W$3,Sheet4!$E$2:$E$8270,Sheet3!W$4,Sheet4!$A$2:$A$8270,Sheet3!$B$1,Sheet4!$B$2:$B$8270,Sheet3!$A$3)","v":0},{"$f":"+SUMIFS(Sheet4!$DM$2:$DM$8270,Sheet4!$C$2:$C$8270,Sheet3!$B18,Sheet4!$D$2:$D$8270,Sheet3!X$3,Sheet4!$E$2:$E$8270,Sheet3!X$4,Sheet4!$A$2:$A$8270,Sheet3!$B$1,Sheet4!$B$2:$B$8270,Sheet3!$A$3)","v":3},{"$f":"+SUMIFS(Sheet4!$DM$2:$DM$8270,Sheet4!$C$2:$C$8270,Sheet3!$B18,Sheet4!$D$2:$D$8270,Sheet3!Y$3,Sheet4!$E$2:$E$8270,Sheet3!Y$4,Sheet4!$A$2:$A$8270,Sheet3!$B$1,Sheet4!$B$2:$B$8270,Sheet3!$A$3)","v":0},{"$f":"+SUMIFS(Sheet4!$DM$2:$DM$8270,Sheet4!$C$2:$C$8270,Sheet3!$B18,Sheet4!$D$2:$D$8270,Sheet3!Z$3,Sheet4!$E$2:$E$8270,Sheet3!Z$4,Sheet4!$A$2:$A$8270,Sheet3!$B$1,Sheet4!$B$2:$B$8270,Sheet3!$A$3)","v":0},{"$f":"+SUMIFS(Sheet4!$DM$2:$DM$8270,Sheet4!$C$2:$C$8270,Sheet3!$B18,Sheet4!$D$2:$D$8270,Sheet3!AA$3,Sheet4!$E$2:$E$8270,Sheet3!AA$4,Sheet4!$A$2:$A$8270,Sheet3!$B$1,Sheet4!$B$2:$B$8270,Sheet3!$A$3)","v":0},{"$f":"+SUMIFS(Sheet4!$DM$2:$DM$8270,Sheet4!$C$2:$C$8270,Sheet3!$B18,Sheet4!$D$2:$D$8270,Sheet3!AB$3,Sheet4!$E$2:$E$8270,Sheet3!AB$4,Sheet4!$A$2:$A$8270,Sheet3!$B$1,Sheet4!$B$2:$B$8270,Sheet3!$A$3)","v":0},{"$f":"+SUMIFS(Sheet4!$DM$2:$DM$8270,Sheet4!$C$2:$C$8270,Sheet3!$B18,Sheet4!$D$2:$D$8270,Sheet3!AC$3,Sheet4!$E$2:$E$8270,Sheet3!AC$4,Sheet4!$A$2:$A$8270,Sheet3!$B$1,Sheet4!$B$2:$B$8270,Sheet3!$A$3)","v":624},{"$f":"+SUMIFS(Sheet4!$DM$2:$DM$8270,Sheet4!$C$2:$C$8270,Sheet3!$B18,Sheet4!$D$2:$D$8270,Sheet3!AD$3,Sheet4!$E$2:$E$8270,Sheet3!AD$4,Sheet4!$A$2:$A$8270,Sheet3!$B$1,Sheet4!$B$2:$B$8270,Sheet3!$A$3)","v":37},{"$f":"+SUMIFS(Sheet4!$DM$2:$DM$8270,Sheet4!$C$2:$C$8270,Sheet3!$B18,Sheet4!$D$2:$D$8270,Sheet3!AE$3,Sheet4!$E$2:$E$8270,Sheet3!AE$4,Sheet4!$A$2:$A$8270,Sheet3!$B$1,Sheet4!$B$2:$B$8270,Sheet3!$A$3)","v":7},{"$f":"+SUMIFS(Sheet4!$DM$2:$DM$8270,Sheet4!$C$2:$C$8270,Sheet3!$B18,Sheet4!$D$2:$D$8270,Sheet3!AF$3,Sheet4!$E$2:$E$8270,Sheet3!AF$4,Sheet4!$A$2:$A$8270,Sheet3!$B$1,Sheet4!$B$2:$B$8270,Sheet3!$A$3)","v":0},{"$f":"+SUMIFS(Sheet4!$DM$2:$DM$8270,Sheet4!$C$2:$C$8270,Sheet3!$B18,Sheet4!$D$2:$D$8270,Sheet3!AG$3,Sheet4!$E$2:$E$8270,Sheet3!AG$4,Sheet4!$A$2:$A$8270,Sheet3!$B$1,Sheet4!$B$2:$B$8270,Sheet3!$A$3)","v":0},{"$f":"+SUMIFS(Sheet4!$DM$2:$DM$8270,Sheet4!$C$2:$C$8270,Sheet3!$B18,Sheet4!$D$2:$D$8270,Sheet3!AH$3,Sheet4!$E$2:$E$8270,Sheet3!AH$4,Sheet4!$A$2:$A$8270,Sheet3!$B$1,Sheet4!$B$2:$B$8270,Sheet3!$A$3)","v":77},{"$f":"+SUMIFS(Sheet4!$DM$2:$DM$8270,Sheet4!$C$2:$C$8270,Sheet3!$B18,Sheet4!$D$2:$D$8270,Sheet3!AI$3,Sheet4!$E$2:$E$8270,Sheet3!AI$4,Sheet4!$A$2:$A$8270,Sheet3!$B$1,Sheet4!$B$2:$B$8270,Sheet3!$A$3)","v":34},{"$f":"+SUMIFS(Sheet4!$DM$2:$DM$8270,Sheet4!$C$2:$C$8270,Sheet3!$B18,Sheet4!$D$2:$D$8270,Sheet3!AJ$3,Sheet4!$E$2:$E$8270,Sheet3!AJ$4,Sheet4!$A$2:$A$8270,Sheet3!$B$1,Sheet4!$B$2:$B$8270,Sheet3!$A$3)","v":0},{"$f":"+SUMIFS(Sheet4!$DM$2:$DM$8270,Sheet4!$C$2:$C$8270,Sheet3!$B18,Sheet4!$D$2:$D$8270,Sheet3!AK$3,Sheet4!$E$2:$E$8270,Sheet3!AK$4,Sheet4!$A$2:$A$8270,Sheet3!$B$1,Sheet4!$B$2:$B$8270,Sheet3!$A$3)","v":0},{"$f":"+SUMIFS(Sheet4!$DM$2:$DM$8270,Sheet4!$C$2:$C$8270,Sheet3!$B18,Sheet4!$D$2:$D$8270,Sheet3!AL$3,Sheet4!$E$2:$E$8270,Sheet3!AL$4,Sheet4!$A$2:$A$8270,Sheet3!$B$1,Sheet4!$B$2:$B$8270,Sheet3!$A$3)","v":0},{"$f":"+SUMIFS(Sheet4!$DM$2:$DM$8270,Sheet4!$C$2:$C$8270,Sheet3!$B18,Sheet4!$D$2:$D$8270,Sheet3!AM$3,Sheet4!$E$2:$E$8270,Sheet3!AM$4,Sheet4!$A$2:$A$8270,Sheet3!$B$1,Sheet4!$B$2:$B$8270,Sheet3!$A$3)","v":197},{"$f":"+SUMIFS(Sheet4!$DM$2:$DM$8270,Sheet4!$C$2:$C$8270,Sheet3!$B18,Sheet4!$D$2:$D$8270,Sheet3!AN$3,Sheet4!$E$2:$E$8270,Sheet3!AN$4,Sheet4!$A$2:$A$8270,Sheet3!$B$1,Sheet4!$B$2:$B$8270,Sheet3!$A$3)","v":57},{"$f":"+SUMIFS(Sheet4!$DM$2:$DM$8270,Sheet4!$C$2:$C$8270,Sheet3!$B18,Sheet4!$D$2:$D$8270,Sheet3!AO$3,Sheet4!$E$2:$E$8270,Sheet3!AO$4,Sheet4!$A$2:$A$8270,Sheet3!$B$1,Sheet4!$B$2:$B$8270,Sheet3!$A$3)","v":3},{"$f":"+SUMIFS(Sheet4!$DM$2:$DM$8270,Sheet4!$C$2:$C$8270,Sheet3!$B18,Sheet4!$D$2:$D$8270,Sheet3!AP$3,Sheet4!$E$2:$E$8270,Sheet3!AP$4,Sheet4!$A$2:$A$8270,Sheet3!$B$1,Sheet4!$B$2:$B$8270,Sheet3!$A$3)","v":0},{"$f":"+SUMIFS(Sheet4!$DM$2:$DM$8270,Sheet4!$C$2:$C$8270,Sheet3!$B18,Sheet4!$D$2:$D$8270,Sheet3!AQ$3,Sheet4!$E$2:$E$8270,Sheet3!AQ$4,Sheet4!$A$2:$A$8270,Sheet3!$B$1,Sheet4!$B$2:$B$8270,Sheet3!$A$3)","v":0},{"$f":"+SUMIFS(Sheet4!$DM$2:$DM$8270,Sheet4!$C$2:$C$8270,Sheet3!$B18,Sheet4!$D$2:$D$8270,Sheet3!AR$3,Sheet4!$E$2:$E$8270,Sheet3!AR$4,Sheet4!$A$2:$A$8270,Sheet3!$B$1,Sheet4!$B$2:$B$8270,Sheet3!$A$3)","v":122},{"$f":"+SUMIFS(Sheet4!$DM$2:$DM$8270,Sheet4!$C$2:$C$8270,Sheet3!$B18,Sheet4!$D$2:$D$8270,Sheet3!AS$3,Sheet4!$E$2:$E$8270,Sheet3!AS$4,Sheet4!$A$2:$A$8270,Sheet3!$B$1,Sheet4!$B$2:$B$8270,Sheet3!$A$3)","v":0},{"$f":"+SUMIFS(Sheet4!$DM$2:$DM$8270,Sheet4!$C$2:$C$8270,Sheet3!$B18,Sheet4!$D$2:$D$8270,Sheet3!AT$3,Sheet4!$E$2:$E$8270,Sheet3!AT$4,Sheet4!$A$2:$A$8270,Sheet3!$B$1,Sheet4!$B$2:$B$8270,Sheet3!$A$3)","v":0},{"$f":"+SUMIFS(Sheet4!$DM$2:$DM$8270,Sheet4!$C$2:$C$8270,Sheet3!$B18,Sheet4!$D$2:$D$8270,Sheet3!AU$3,Sheet4!$E$2:$E$8270,Sheet3!AU$4,Sheet4!$A$2:$A$8270,Sheet3!$B$1,Sheet4!$B$2:$B$8270,Sheet3!$A$3)","v":0},{"$f":"+SUMIFS(Sheet4!$DM$2:$DM$8270,Sheet4!$C$2:$C$8270,Sheet3!$B18,Sheet4!$D$2:$D$8270,Sheet3!AV$3,Sheet4!$E$2:$E$8270,Sheet3!AV$4,Sheet4!$A$2:$A$8270,Sheet3!$B$1,Sheet4!$B$2:$B$8270,Sheet3!$A$3)","v":0},{"$f":"+SUMIFS(Sheet4!$DM$2:$DM$8270,Sheet4!$C$2:$C$8270,Sheet3!$B18,Sheet4!$D$2:$D$8270,Sheet3!AW$3,Sheet4!$E$2:$E$8270,Sheet3!AW$4,Sheet4!$A$2:$A$8270,Sheet3!$B$1,Sheet4!$B$2:$B$8270,Sheet3!$A$3)","v":1839},{"$f":"+SUMIFS(Sheet4!$DM$2:$DM$8270,Sheet4!$C$2:$C$8270,Sheet3!$B18,Sheet4!$D$2:$D$8270,Sheet3!AX$3,Sheet4!$E$2:$E$8270,Sheet3!AX$4,Sheet4!$A$2:$A$8270,Sheet3!$B$1,Sheet4!$B$2:$B$8270,Sheet3!$A$3)","v":147},{"$f":"+SUMIFS(Sheet4!$DM$2:$DM$8270,Sheet4!$C$2:$C$8270,Sheet3!$B18,Sheet4!$D$2:$D$8270,Sheet3!AY$3,Sheet4!$E$2:$E$8270,Sheet3!AY$4,Sheet4!$A$2:$A$8270,Sheet3!$B$1,Sheet4!$B$2:$B$8270,Sheet3!$A$3)","v":16},{"$f":"+SUMIFS(Sheet4!$DM$2:$DM$8270,Sheet4!$C$2:$C$8270,Sheet3!$B18,Sheet4!$D$2:$D$8270,Sheet3!AZ$3,Sheet4!$E$2:$E$8270,Sheet3!AZ$4,Sheet4!$A$2:$A$8270,Sheet3!$B$1,Sheet4!$B$2:$B$8270,Sheet3!$A$3)","v":0},{"$f":"+SUMIFS(Sheet4!$DM$2:$DM$8270,Sheet4!$C$2:$C$8270,Sheet3!$B18,Sheet4!$D$2:$D$8270,Sheet3!BA$3,Sheet4!$E$2:$E$8270,Sheet3!BA$4,Sheet4!$A$2:$A$8270,Sheet3!$B$1,Sheet4!$B$2:$B$8270,Sheet3!$A$3)","v":0},{"$f":"+SUMIFS(Sheet4!$DM$2:$DM$8270,Sheet4!$C$2:$C$8270,Sheet3!$B18,Sheet4!$D$2:$D$8270,Sheet3!BB$3,Sheet4!$E$2:$E$8270,Sheet3!BB$4,Sheet4!$A$2:$A$8270,Sheet3!$B$1,Sheet4!$B$2:$B$8270,Sheet3!$A$3)","v":71},{"$f":"+SUMIFS(Sheet4!$DM$2:$DM$8270,Sheet4!$C$2:$C$8270,Sheet3!$B18,Sheet4!$D$2:$D$8270,Sheet3!BC$3,Sheet4!$E$2:$E$8270,Sheet3!BC$4,Sheet4!$A$2:$A$8270,Sheet3!$B$1,Sheet4!$B$2:$B$8270,Sheet3!$A$3)","v":61},{"$f":"+SUMIFS(Sheet4!$DM$2:$DM$8270,Sheet4!$C$2:$C$8270,Sheet3!$B18,Sheet4!$D$2:$D$8270,Sheet3!BD$3,Sheet4!$E$2:$E$8270,Sheet3!BD$4,Sheet4!$A$2:$A$8270,Sheet3!$B$1,Sheet4!$B$2:$B$8270,Sheet3!$A$3)","v":4},{"$f":"+SUMIFS(Sheet4!$DM$2:$DM$8270,Sheet4!$C$2:$C$8270,Sheet3!$B18,Sheet4!$D$2:$D$8270,Sheet3!BE$3,Sheet4!$E$2:$E$8270,Sheet3!BE$4,Sheet4!$A$2:$A$8270,Sheet3!$B$1,Sheet4!$B$2:$B$8270,Sheet3!$A$3)","v":0},{"$f":"+SUMIFS(Sheet4!$DM$2:$DM$8270,Sheet4!$C$2:$C$8270,Sheet3!$B18,Sheet4!$D$2:$D$8270,Sheet3!BF$3,Sheet4!$E$2:$E$8270,Sheet3!BF$4,Sheet4!$A$2:$A$8270,Sheet3!$B$1,Sheet4!$B$2:$B$8270,Sheet3!$A$3)","v":0},{"$f":"+SUMIFS(Sheet4!$DM$2:$DM$8270,Sheet4!$C$2:$C$8270,Sheet3!$B18,Sheet4!$D$2:$D$8270,Sheet3!BG$3,Sheet4!$E$2:$E$8270,Sheet3!BG$4,Sheet4!$A$2:$A$8270,Sheet3!$B$1,Sheet4!$B$2:$B$8270,Sheet3!$A$3)","v":136},{"$f":"+SUMIFS(Sheet4!$DM$2:$DM$8270,Sheet4!$C$2:$C$8270,Sheet3!$B18,Sheet4!$D$2:$D$8270,Sheet3!BH$3,Sheet4!$E$2:$E$8270,Sheet3!BH$4,Sheet4!$A$2:$A$8270,Sheet3!$B$1,Sheet4!$B$2:$B$8270,Sheet3!$A$3)","v":32},{"$f":"+SUMIFS(Sheet4!$DM$2:$DM$8270,Sheet4!$C$2:$C$8270,Sheet3!$B18,Sheet4!$D$2:$D$8270,Sheet3!BI$3,Sheet4!$E$2:$E$8270,Sheet3!BI$4,Sheet4!$A$2:$A$8270,Sheet3!$B$1,Sheet4!$B$2:$B$8270,Sheet3!$A$3)","v":6},{"$f":"+SUMIFS(Sheet4!$DM$2:$DM$8270,Sheet4!$C$2:$C$8270,Sheet3!$B18,Sheet4!$D$2:$D$8270,Sheet3!BJ$3,Sheet4!$E$2:$E$8270,Sheet3!BJ$4,Sheet4!$A$2:$A$8270,Sheet3!$B$1,Sheet4!$B$2:$B$8270,Sheet3!$A$3)","v":0},{"$f":"+SUMIFS(Sheet4!$DM$2:$DM$8270,Sheet4!$C$2:$C$8270,Sheet3!$B18,Sheet4!$D$2:$D$8270,Sheet3!BK$3,Sheet4!$E$2:$E$8270,Sheet3!BK$4,Sheet4!$A$2:$A$8270,Sheet3!$B$1,Sheet4!$B$2:$B$8270,Sheet3!$A$3)","v":0},{"$f":"+SUMIFS(Sheet4!$DM$2:$DM$8270,Sheet4!$C$2:$C$8270,Sheet3!$B18,Sheet4!$D$2:$D$8270,Sheet3!BL$3,Sheet4!$E$2:$E$8270,Sheet3!BL$4,Sheet4!$A$2:$A$8270,Sheet3!$B$1,Sheet4!$B$2:$B$8270,Sheet3!$A$3)","v":20},{"$f":"+SUMIFS(Sheet4!$DM$2:$DM$8270,Sheet4!$C$2:$C$8270,Sheet3!$B18,Sheet4!$D$2:$D$8270,Sheet3!BM$3,Sheet4!$E$2:$E$8270,Sheet3!BM$4,Sheet4!$A$2:$A$8270,Sheet3!$B$1,Sheet4!$B$2:$B$8270,Sheet3!$A$3)","v":8},{"$f":"+SUMIFS(Sheet4!$DM$2:$DM$8270,Sheet4!$C$2:$C$8270,Sheet3!$B18,Sheet4!$D$2:$D$8270,Sheet3!BN$3,Sheet4!$E$2:$E$8270,Sheet3!BN$4,Sheet4!$A$2:$A$8270,Sheet3!$B$1,Sheet4!$B$2:$B$8270,Sheet3!$A$3)","v":0},{"$f":"+SUMIFS(Sheet4!$DM$2:$DM$8270,Sheet4!$C$2:$C$8270,Sheet3!$B18,Sheet4!$D$2:$D$8270,Sheet3!BO$3,Sheet4!$E$2:$E$8270,Sheet3!BO$4,Sheet4!$A$2:$A$8270,Sheet3!$B$1,Sheet4!$B$2:$B$8270,Sheet3!$A$3)","v":0},{"$f":"+SUMIFS(Sheet4!$DM$2:$DM$8270,Sheet4!$C$2:$C$8270,Sheet3!$B18,Sheet4!$D$2:$D$8270,Sheet3!BP$3,Sheet4!$E$2:$E$8270,Sheet3!BP$4,Sheet4!$A$2:$A$8270,Sheet3!$B$1,Sheet4!$B$2:$B$8270,Sheet3!$A$3)","v":0},{"$f":"+SUMIFS(Sheet4!$DM$2:$DM$8270,Sheet4!$C$2:$C$8270,Sheet3!$B18,Sheet4!$D$2:$D$8270,Sheet3!BQ$3,Sheet4!$E$2:$E$8270,Sheet3!BQ$4,Sheet4!$A$2:$A$8270,Sheet3!$B$1,Sheet4!$B$2:$B$8270,Sheet3!$A$3)","v":399},{"$f":"+SUMIFS(Sheet4!$DM$2:$DM$8270,Sheet4!$C$2:$C$8270,Sheet3!$B18,Sheet4!$D$2:$D$8270,Sheet3!BR$3,Sheet4!$E$2:$E$8270,Sheet3!BR$4,Sheet4!$A$2:$A$8270,Sheet3!$B$1,Sheet4!$B$2:$B$8270,Sheet3!$A$3)","v":87},{"$f":"+SUMIFS(Sheet4!$DM$2:$DM$8270,Sheet4!$C$2:$C$8270,Sheet3!$B18,Sheet4!$D$2:$D$8270,Sheet3!BS$3,Sheet4!$E$2:$E$8270,Sheet3!BS$4,Sheet4!$A$2:$A$8270,Sheet3!$B$1,Sheet4!$B$2:$B$8270,Sheet3!$A$3)","v":9},{"$f":"+SUMIFS(Sheet4!$DM$2:$DM$8270,Sheet4!$C$2:$C$8270,Sheet3!$B18,Sheet4!$D$2:$D$8270,Sheet3!BT$3,Sheet4!$E$2:$E$8270,Sheet3!BT$4,Sheet4!$A$2:$A$8270,Sheet3!$B$1,Sheet4!$B$2:$B$8270,Sheet3!$A$3)","v":0},{"$f":"+SUMIFS(Sheet4!$DM$2:$DM$8270,Sheet4!$C$2:$C$8270,Sheet3!$B18,Sheet4!$D$2:$D$8270,Sheet3!BU$3,Sheet4!$E$2:$E$8270,Sheet3!BU$4,Sheet4!$A$2:$A$8270,Sheet3!$B$1,Sheet4!$B$2:$B$8270,Sheet3!$A$3)","v":0},{"$f":"+SUMIFS(Sheet4!$DM$2:$DM$8270,Sheet4!$C$2:$C$8270,Sheet3!$B18,Sheet4!$D$2:$D$8270,Sheet3!BV$3,Sheet4!$E$2:$E$8270,Sheet3!BV$4,Sheet4!$A$2:$A$8270,Sheet3!$B$1,Sheet4!$B$2:$B$8270,Sheet3!$A$3)","v":464},{"$f":"+SUMIFS(Sheet4!$DM$2:$DM$8270,Sheet4!$C$2:$C$8270,Sheet3!$B18,Sheet4!$D$2:$D$8270,Sheet3!BW$3,Sheet4!$E$2:$E$8270,Sheet3!BW$4,Sheet4!$A$2:$A$8270,Sheet3!$B$1,Sheet4!$B$2:$B$8270,Sheet3!$A$3)","v":60},{"$f":"+SUMIFS(Sheet4!$DM$2:$DM$8270,Sheet4!$C$2:$C$8270,Sheet3!$B18,Sheet4!$D$2:$D$8270,Sheet3!BX$3,Sheet4!$E$2:$E$8270,Sheet3!BX$4,Sheet4!$A$2:$A$8270,Sheet3!$B$1,Sheet4!$B$2:$B$8270,Sheet3!$A$3)","v":3},{"$f":"+SUMIFS(Sheet4!$DM$2:$DM$8270,Sheet4!$C$2:$C$8270,Sheet3!$B18,Sheet4!$D$2:$D$8270,Sheet3!BY$3,Sheet4!$E$2:$E$8270,Sheet3!BY$4,Sheet4!$A$2:$A$8270,Sheet3!$B$1,Sheet4!$B$2:$B$8270,Sheet3!$A$3)","v":0},{"$f":"+SUMIFS(Sheet4!$DM$2:$DM$8270,Sheet4!$C$2:$C$8270,Sheet3!$B18,Sheet4!$D$2:$D$8270,Sheet3!BZ$3,Sheet4!$E$2:$E$8270,Sheet3!BZ$4,Sheet4!$A$2:$A$8270,Sheet3!$B$1,Sheet4!$B$2:$B$8270,Sheet3!$A$3)","v":0},{"$f":"+SUMIFS(Sheet4!$DM$2:$DM$8270,Sheet4!$C$2:$C$8270,Sheet3!$B18,Sheet4!$D$2:$D$8270,Sheet3!CA$3,Sheet4!$E$2:$E$8270,Sheet3!CA$4,Sheet4!$A$2:$A$8270,Sheet3!$B$1,Sheet4!$B$2:$B$8270,Sheet3!$A$3)","v":425},{"$f":"+SUMIFS(Sheet4!$DM$2:$DM$8270,Sheet4!$C$2:$C$8270,Sheet3!$B18,Sheet4!$D$2:$D$8270,Sheet3!CB$3,Sheet4!$E$2:$E$8270,Sheet3!CB$4,Sheet4!$A$2:$A$8270,Sheet3!$B$1,Sheet4!$B$2:$B$8270,Sheet3!$A$3)","v":41},{"$f":"+SUMIFS(Sheet4!$DM$2:$DM$8270,Sheet4!$C$2:$C$8270,Sheet3!$B18,Sheet4!$D$2:$D$8270,Sheet3!CC$3,Sheet4!$E$2:$E$8270,Sheet3!CC$4,Sheet4!$A$2:$A$8270,Sheet3!$B$1,Sheet4!$B$2:$B$8270,Sheet3!$A$3)","v":4},{"$f":"+SUMIFS(Sheet4!$DM$2:$DM$8270,Sheet4!$C$2:$C$8270,Sheet3!$B18,Sheet4!$D$2:$D$8270,Sheet3!CD$3,Sheet4!$E$2:$E$8270,Sheet3!CD$4,Sheet4!$A$2:$A$8270,Sheet3!$B$1,Sheet4!$B$2:$B$8270,Sheet3!$A$3)","v":0},{"$f":"+SUMIFS(Sheet4!$DM$2:$DM$8270,Sheet4!$C$2:$C$8270,Sheet3!$B18,Sheet4!$D$2:$D$8270,Sheet3!CE$3,Sheet4!$E$2:$E$8270,Sheet3!CE$4,Sheet4!$A$2:$A$8270,Sheet3!$B$1,Sheet4!$B$2:$B$8270,Sheet3!$A$3)","v":0},{"$f":"+SUMIFS(Sheet4!$DM$2:$DM$8270,Sheet4!$C$2:$C$8270,Sheet3!$B18,Sheet4!$D$2:$D$8270,Sheet3!CF$3,Sheet4!$E$2:$E$8270,Sheet3!CF$4,Sheet4!$A$2:$A$8270,Sheet3!$B$1,Sheet4!$B$2:$B$8270,Sheet3!$A$3)","v":0},{"$f":"+SUMIFS(Sheet4!$DM$2:$DM$8270,Sheet4!$C$2:$C$8270,Sheet3!$B18,Sheet4!$D$2:$D$8270,Sheet3!CG$3,Sheet4!$E$2:$E$8270,Sheet3!CG$4,Sheet4!$A$2:$A$8270,Sheet3!$B$1,Sheet4!$B$2:$B$8270,Sheet3!$A$3)","v":0},{"$f":"+SUMIFS(Sheet4!$DM$2:$DM$8270,Sheet4!$C$2:$C$8270,Sheet3!$B18,Sheet4!$D$2:$D$8270,Sheet3!CH$3,Sheet4!$E$2:$E$8270,Sheet3!CH$4,Sheet4!$A$2:$A$8270,Sheet3!$B$1,Sheet4!$B$2:$B$8270,Sheet3!$A$3)","v":0},{"$f":"+SUMIFS(Sheet4!$DM$2:$DM$8270,Sheet4!$C$2:$C$8270,Sheet3!$B18,Sheet4!$D$2:$D$8270,Sheet3!CI$3,Sheet4!$E$2:$E$8270,Sheet3!CI$4,Sheet4!$A$2:$A$8270,Sheet3!$B$1,Sheet4!$B$2:$B$8270,Sheet3!$A$3)","v":0},{"$f":"+SUMIFS(Sheet4!$DM$2:$DM$8270,Sheet4!$C$2:$C$8270,Sheet3!$B18,Sheet4!$D$2:$D$8270,Sheet3!CJ$3,Sheet4!$E$2:$E$8270,Sheet3!CJ$4,Sheet4!$A$2:$A$8270,Sheet3!$B$1,Sheet4!$B$2:$B$8270,Sheet3!$A$3)","v":0},{"$f":"+SUMIFS(Sheet4!$DM$2:$DM$8270,Sheet4!$C$2:$C$8270,Sheet3!$B18,Sheet4!$D$2:$D$8270,Sheet3!CK$3,Sheet4!$E$2:$E$8270,Sheet3!CK$4,Sheet4!$A$2:$A$8270,Sheet3!$B$1,Sheet4!$B$2:$B$8270,Sheet3!$A$3)","v":32},{"$f":"+SUMIFS(Sheet4!$DM$2:$DM$8270,Sheet4!$C$2:$C$8270,Sheet3!$B18,Sheet4!$D$2:$D$8270,Sheet3!CL$3,Sheet4!$E$2:$E$8270,Sheet3!CL$4,Sheet4!$A$2:$A$8270,Sheet3!$B$1,Sheet4!$B$2:$B$8270,Sheet3!$A$3)","v":0},{"$f":"+SUMIFS(Sheet4!$DM$2:$DM$8270,Sheet4!$C$2:$C$8270,Sheet3!$B18,Sheet4!$D$2:$D$8270,Sheet3!CM$3,Sheet4!$E$2:$E$8270,Sheet3!CM$4,Sheet4!$A$2:$A$8270,Sheet3!$B$1,Sheet4!$B$2:$B$8270,Sheet3!$A$3)","v":0},{"$f":"+SUMIFS(Sheet4!$DM$2:$DM$8270,Sheet4!$C$2:$C$8270,Sheet3!$B18,Sheet4!$D$2:$D$8270,Sheet3!CN$3,Sheet4!$E$2:$E$8270,Sheet3!CN$4,Sheet4!$A$2:$A$8270,Sheet3!$B$1,Sheet4!$B$2:$B$8270,Sheet3!$A$3)","v":0},{"$f":"+SUMIFS(Sheet4!$DM$2:$DM$8270,Sheet4!$C$2:$C$8270,Sheet3!$B18,Sheet4!$D$2:$D$8270,Sheet3!CO$3,Sheet4!$E$2:$E$8270,Sheet3!CO$4,Sheet4!$A$2:$A$8270,Sheet3!$B$1,Sheet4!$B$2:$B$8270,Sheet3!$A$3)","v":0},{"$f":"+IF(SUMIFS(Sheet4!$DN$2:$DN$8270,Sheet4!$C$2:$C$8270,Sheet3!$B18,Sheet4!$D$2:$D$8270,Sheet3!CP$3,Sheet4!$A$2:$A$8270,Sheet3!$B$1,Sheet4!$B$2:$B$8270,Sheet3!$A$3)<3,0,SUMIFS(Sheet4!$DN$2:$DN$8270,Sheet4!$C$2:$C$8270,Sheet3!$B18,Sheet4!$D$2:$D$8270,Sheet3!CP$3,Sheet4!$A$2:$A$8270,Sheet3!$B$1,Sheet4!$B$2:$B$8270,Sheet3!$A$3))","v":37},{"$f":"+IF(SUMIFS(Sheet4!$DN$2:$DN$8270,Sheet4!$C$2:$C$8270,Sheet3!$B18,Sheet4!$D$2:$D$8270,Sheet3!CQ$3,Sheet4!$A$2:$A$8270,Sheet3!$B$1,Sheet4!$B$2:$B$8270,Sheet3!$A$3)<3,0,SUMIFS(Sheet4!$DN$2:$DN$8270,Sheet4!$C$2:$C$8270,Sheet3!$B18,Sheet4!$D$2:$D$8270,Sheet3!CQ$3,Sheet4!$A$2:$A$8270,Sheet3!$B$1,Sheet4!$B$2:$B$8270,Sheet3!$A$3))","v":1057},{"$f":"+IF(SUMIFS(Sheet4!$DN$2:$DN$8270,Sheet4!$C$2:$C$8270,Sheet3!$B18,Sheet4!$D$2:$D$8270,Sheet3!CR$3,Sheet4!$A$2:$A$8270,Sheet3!$B$1,Sheet4!$B$2:$B$8270,Sheet3!$A$3)<3,0,SUMIFS(Sheet4!$DN$2:$DN$8270,Sheet4!$C$2:$C$8270,Sheet3!$B18,Sheet4!$D$2:$D$8270,Sheet3!CR$3,Sheet4!$A$2:$A$8270,Sheet3!$B$1,Sheet4!$B$2:$B$8270,Sheet3!$A$3))","v":361},{"$f":"+IF(SUMIFS(Sheet4!$DN$2:$DN$8270,Sheet4!$C$2:$C$8270,Sheet3!$B18,Sheet4!$D$2:$D$8270,Sheet3!CS$3,Sheet4!$A$2:$A$8270,Sheet3!$B$1,Sheet4!$B$2:$B$8270,Sheet3!$A$3)<3,0,SUMIFS(Sheet4!$DN$2:$DN$8270,Sheet4!$C$2:$C$8270,Sheet3!$B18,Sheet4!$D$2:$D$8270,Sheet3!CS$3,Sheet4!$A$2:$A$8270,Sheet3!$B$1,Sheet4!$B$2:$B$8270,Sheet3!$A$3))","v":296},{"$f":"+IF(SUMIFS(Sheet4!$DN$2:$DN$8270,Sheet4!$C$2:$C$8270,Sheet3!$B18,Sheet4!$D$2:$D$8270,Sheet3!CT$3,Sheet4!$A$2:$A$8270,Sheet3!$B$1,Sheet4!$B$2:$B$8270,Sheet3!$A$3)<3,0,SUMIFS(Sheet4!$DN$2:$DN$8270,Sheet4!$C$2:$C$8270,Sheet3!$B18,Sheet4!$D$2:$D$8270,Sheet3!CT$3,Sheet4!$A$2:$A$8270,Sheet3!$B$1,Sheet4!$B$2:$B$8270,Sheet3!$A$3))","v":5},{"$f":"+IF(SUMIFS(Sheet4!$DN$2:$DN$8270,Sheet4!$C$2:$C$8270,Sheet3!$B18,Sheet4!$D$2:$D$8270,Sheet3!CU$3,Sheet4!$A$2:$A$8270,Sheet3!$B$1,Sheet4!$B$2:$B$8270,Sheet3!$A$3)<3,0,SUMIFS(Sheet4!$DN$2:$DN$8270,Sheet4!$C$2:$C$8270,Sheet3!$B18,Sheet4!$D$2:$D$8270,Sheet3!CU$3,Sheet4!$A$2:$A$8270,Sheet3!$B$1,Sheet4!$B$2:$B$8270,Sheet3!$A$3))","v":669},{"$f":"+IF(SUMIFS(Sheet4!$DN$2:$DN$8270,Sheet4!$C$2:$C$8270,Sheet3!$B18,Sheet4!$D$2:$D$8270,Sheet3!CV$3,Sheet4!$A$2:$A$8270,Sheet3!$B$1,Sheet4!$B$2:$B$8270,Sheet3!$A$3)<3,0,SUMIFS(Sheet4!$DN$2:$DN$8270,Sheet4!$C$2:$C$8270,Sheet3!$B18,Sheet4!$D$2:$D$8270,Sheet3!CV$3,Sheet4!$A$2:$A$8270,Sheet3!$B$1,Sheet4!$B$2:$B$8270,Sheet3!$A$3))","v":112},{"$f":"+IF(SUMIFS(Sheet4!$DN$2:$DN$8270,Sheet4!$C$2:$C$8270,Sheet3!$B18,Sheet4!$D$2:$D$8270,Sheet3!CW$3,Sheet4!$A$2:$A$8270,Sheet3!$B$1,Sheet4!$B$2:$B$8270,Sheet3!$A$3)<3,0,SUMIFS(Sheet4!$DN$2:$DN$8270,Sheet4!$C$2:$C$8270,Sheet3!$B18,Sheet4!$D$2:$D$8270,Sheet3!CW$3,Sheet4!$A$2:$A$8270,Sheet3!$B$1,Sheet4!$B$2:$B$8270,Sheet3!$A$3))","v":257},{"$f":"+IF(SUMIFS(Sheet4!$DN$2:$DN$8270,Sheet4!$C$2:$C$8270,Sheet3!$B18,Sheet4!$D$2:$D$8270,Sheet3!CX$3,Sheet4!$A$2:$A$8270,Sheet3!$B$1,Sheet4!$B$2:$B$8270,Sheet3!$A$3)<3,0,SUMIFS(Sheet4!$DN$2:$DN$8270,Sheet4!$C$2:$C$8270,Sheet3!$B18,Sheet4!$D$2:$D$8270,Sheet3!CX$3,Sheet4!$A$2:$A$8270,Sheet3!$B$1,Sheet4!$B$2:$B$8270,Sheet3!$A$3))","v":124},{"$f":"+IF(SUMIFS(Sheet4!$DN$2:$DN$8270,Sheet4!$C$2:$C$8270,Sheet3!$B18,Sheet4!$D$2:$D$8270,Sheet3!CY$3,Sheet4!$A$2:$A$8270,Sheet3!$B$1,Sheet4!$B$2:$B$8270,Sheet3!$A$3)<3,0,SUMIFS(Sheet4!$DN$2:$DN$8270,Sheet4!$C$2:$C$8270,Sheet3!$B18,Sheet4!$D$2:$D$8270,Sheet3!CY$3,Sheet4!$A$2:$A$8270,Sheet3!$B$1,Sheet4!$B$2:$B$8270,Sheet3!$A$3))","v":2003},{"$f":"+IF(SUMIFS(Sheet4!$DN$2:$DN$8270,Sheet4!$C$2:$C$8270,Sheet3!$B18,Sheet4!$D$2:$D$8270,Sheet3!CZ$3,Sheet4!$A$2:$A$8270,Sheet3!$B$1,Sheet4!$B$2:$B$8270,Sheet3!$A$3)<3,0,SUMIFS(Sheet4!$DN$2:$DN$8270,Sheet4!$C$2:$C$8270,Sheet3!$B18,Sheet4!$D$2:$D$8270,Sheet3!CZ$3,Sheet4!$A$2:$A$8270,Sheet3!$B$1,Sheet4!$B$2:$B$8270,Sheet3!$A$3))","v":136},{"$f":"+IF(SUMIFS(Sheet4!$DN$2:$DN$8270,Sheet4!$C$2:$C$8270,Sheet3!$B18,Sheet4!$D$2:$D$8270,Sheet3!DA$3,Sheet4!$A$2:$A$8270,Sheet3!$B$1,Sheet4!$B$2:$B$8270,Sheet3!$A$3)<3,0,SUMIFS(Sheet4!$DN$2:$DN$8270,Sheet4!$C$2:$C$8270,Sheet3!$B18,Sheet4!$D$2:$D$8270,Sheet3!DA$3,Sheet4!$A$2:$A$8270,Sheet3!$B$1,Sheet4!$B$2:$B$8270,Sheet3!$A$3))","v":175},{"$f":"+IF(SUMIFS(Sheet4!$DN$2:$DN$8270,Sheet4!$C$2:$C$8270,Sheet3!$B18,Sheet4!$D$2:$D$8270,Sheet3!DB$3,Sheet4!$A$2:$A$8270,Sheet3!$B$1,Sheet4!$B$2:$B$8270,Sheet3!$A$3)<3,0,SUMIFS(Sheet4!$DN$2:$DN$8270,Sheet4!$C$2:$C$8270,Sheet3!$B18,Sheet4!$D$2:$D$8270,Sheet3!DB$3,Sheet4!$A$2:$A$8270,Sheet3!$B$1,Sheet4!$B$2:$B$8270,Sheet3!$A$3))","v":34},{"$f":"+IF(SUMIFS(Sheet4!$DN$2:$DN$8270,Sheet4!$C$2:$C$8270,Sheet3!$B18,Sheet4!$D$2:$D$8270,Sheet3!DC$3,Sheet4!$A$2:$A$8270,Sheet3!$B$1,Sheet4!$B$2:$B$8270,Sheet3!$A$3)<3,0,SUMIFS(Sheet4!$DN$2:$DN$8270,Sheet4!$C$2:$C$8270,Sheet3!$B18,Sheet4!$D$2:$D$8270,Sheet3!DC$3,Sheet4!$A$2:$A$8270,Sheet3!$B$1,Sheet4!$B$2:$B$8270,Sheet3!$A$3))","v":499},{"$f":"+IF(SUMIFS(Sheet4!$DN$2:$DN$8270,Sheet4!$C$2:$C$8270,Sheet3!$B18,Sheet4!$D$2:$D$8270,Sheet3!DD$3,Sheet4!$A$2:$A$8270,Sheet3!$B$1,Sheet4!$B$2:$B$8270,Sheet3!$A$3)<3,0,SUMIFS(Sheet4!$DN$2:$DN$8270,Sheet4!$C$2:$C$8270,Sheet3!$B18,Sheet4!$D$2:$D$8270,Sheet3!DD$3,Sheet4!$A$2:$A$8270,Sheet3!$B$1,Sheet4!$B$2:$B$8270,Sheet3!$A$3))","v":530},{"$f":"+IF(SUMIFS(Sheet4!$DN$2:$DN$8270,Sheet4!$C$2:$C$8270,Sheet3!$B18,Sheet4!$D$2:$D$8270,Sheet3!DE$3,Sheet4!$A$2:$A$8270,Sheet3!$B$1,Sheet4!$B$2:$B$8270,Sheet3!$A$3)<3,0,SUMIFS(Sheet4!$DN$2:$DN$8270,Sheet4!$C$2:$C$8270,Sheet3!$B18,Sheet4!$D$2:$D$8270,Sheet3!DE$3,Sheet4!$A$2:$A$8270,Sheet3!$B$1,Sheet4!$B$2:$B$8270,Sheet3!$A$3))","v":474},{"$f":"+IF(SUMIFS(Sheet4!$DN$2:$DN$8270,Sheet4!$C$2:$C$8270,Sheet3!$B18,Sheet4!$D$2:$D$8270,Sheet3!DF$3,Sheet4!$A$2:$A$8270,Sheet3!$B$1,Sheet4!$B$2:$B$8270,Sheet3!$A$3)<3,0,SUMIFS(Sheet4!$DN$2:$DN$8270,Sheet4!$C$2:$C$8270,Sheet3!$B18,Sheet4!$D$2:$D$8270,Sheet3!DF$3,Sheet4!$A$2:$A$8270,Sheet3!$B$1,Sheet4!$B$2:$B$8270,Sheet3!$A$3))","v":0},{"$f":"+IF(SUMIFS(Sheet4!$DN$2:$DN$8270,Sheet4!$C$2:$C$8270,Sheet3!$B18,Sheet4!$D$2:$D$8270,Sheet3!DG$3,Sheet4!$A$2:$A$8270,Sheet3!$B$1,Sheet4!$B$2:$B$8270,Sheet3!$A$3)<3,0,SUMIFS(Sheet4!$DN$2:$DN$8270,Sheet4!$C$2:$C$8270,Sheet3!$B18,Sheet4!$D$2:$D$8270,Sheet3!DG$3,Sheet4!$A$2:$A$8270,Sheet3!$B$1,Sheet4!$B$2:$B$8270,Sheet3!$A$3))","v":33},{"$f":"+IF(SUMIFS(Sheet4!$DN$2:$DN$8270,Sheet4!$C$2:$C$8270,Sheet3!$B18,Sheet4!$E$2:$E$8270,Sheet3!DH$4,Sheet4!$A$2:$A$8270,Sheet3!$B$1,Sheet4!$B$2:$B$8270,Sheet3!$A$3)<3,0,SUMIFS(Sheet4!$DN$2:$DN$8270,Sheet4!$C$2:$C$8270,Sheet3!$B18,Sheet4!$E$2:$E$8270,Sheet3!DH$4,Sheet4!$A$2:$A$8270,Sheet3!$B$1,Sheet4!$B$2:$B$8270,Sheet3!$A$3))","v":5708},{"$f":"+IF(SUMIFS(Sheet4!$DN$2:$DN$8270,Sheet4!$C$2:$C$8270,Sheet3!$B18,Sheet4!$E$2:$E$8270,Sheet3!DI$4,Sheet4!$A$2:$A$8270,Sheet3!$B$1,Sheet4!$B$2:$B$8270,Sheet3!$A$3)<3,0,SUMIFS(Sheet4!$DN$2:$DN$8270,Sheet4!$C$2:$C$8270,Sheet3!$B18,Sheet4!$E$2:$E$8270,Sheet3!DI$4,Sheet4!$A$2:$A$8270,Sheet3!$B$1,Sheet4!$B$2:$B$8270,Sheet3!$A$3))","v":928},{"$f":"+IF(SUMIFS(Sheet4!$DN$2:$DN$8270,Sheet4!$C$2:$C$8270,Sheet3!$B18,Sheet4!$E$2:$E$8270,Sheet3!DJ$4,Sheet4!$A$2:$A$8270,Sheet3!$B$1,Sheet4!$B$2:$B$8270,Sheet3!$A$3)<3,0,SUMIFS(Sheet4!$DN$2:$DN$8270,Sheet4!$C$2:$C$8270,Sheet3!$B18,Sheet4!$E$2:$E$8270,Sheet3!DJ$4,Sheet4!$A$2:$A$8270,Sheet3!$B$1,Sheet4!$B$2:$B$8270,Sheet3!$A$3))","v":164},{"$f":"+IF(SUMIFS(Sheet4!$DN$2:$DN$8270,Sheet4!$C$2:$C$8270,Sheet3!$B18,Sheet4!$E$2:$E$8270,Sheet3!DK$4,Sheet4!$A$2:$A$8270,Sheet3!$B$1,Sheet4!$B$2:$B$8270,Sheet3!$A$3)<3,0,SUMIFS(Sheet4!$DN$2:$DN$8270,Sheet4!$C$2:$C$8270,Sheet3!$B18,Sheet4!$E$2:$E$8270,Sheet3!DK$4,Sheet4!$A$2:$A$8270,Sheet3!$B$1,Sheet4!$B$2:$B$8270,Sheet3!$A$3))","v":0},{"$f":"+IF(SUMIFS(Sheet4!$DN$2:$DN$8270,Sheet4!$C$2:$C$8270,Sheet3!$B18,Sheet4!$E$2:$E$8270,Sheet3!DL$4,Sheet4!$A$2:$A$8270,Sheet3!$B$1,Sheet4!$B$2:$B$8270,Sheet3!$A$3)<3,0,SUMIFS(Sheet4!$DN$2:$DN$8270,Sheet4!$C$2:$C$8270,Sheet3!$B18,Sheet4!$E$2:$E$8270,Sheet3!DL$4,Sheet4!$A$2:$A$8270,Sheet3!$B$1,Sheet4!$B$2:$B$8270,Sheet3!$A$3))","v":0}]
[2,"16F","Região de Leiria",{"$f":"+SUMIFS(Sheet4!$DM$2:$DM$8270,Sheet4!$C$2:$C$8270,Sheet3!$B19,Sheet4!$D$2:$D$8270,Sheet3!D$3,Sheet4!$E$2:$E$8270,Sheet3!D$4,Sheet4!$A$2:$A$8270,Sheet3!$B$1,Sheet4!$B$2:$B$8270,Sheet3!$A$3)","v":20},{"$f":"+SUMIFS(Sheet4!$DM$2:$DM$8270,Sheet4!$C$2:$C$8270,Sheet3!$B19,Sheet4!$D$2:$D$8270,Sheet3!E$3,Sheet4!$E$2:$E$8270,Sheet3!E$4,Sheet4!$A$2:$A$8270,Sheet3!$B$1,Sheet4!$B$2:$B$8270,Sheet3!$A$3)","v":0},{"$f":"+SUMIFS(Sheet4!$DM$2:$DM$8270,Sheet4!$C$2:$C$8270,Sheet3!$B19,Sheet4!$D$2:$D$8270,Sheet3!F$3,Sheet4!$E$2:$E$8270,Sheet3!F$4,Sheet4!$A$2:$A$8270,Sheet3!$B$1,Sheet4!$B$2:$B$8270,Sheet3!$A$3)","v":0},{"$f":"+SUMIFS(Sheet4!$DM$2:$DM$8270,Sheet4!$C$2:$C$8270,Sheet3!$B19,Sheet4!$D$2:$D$8270,Sheet3!G$3,Sheet4!$E$2:$E$8270,Sheet3!G$4,Sheet4!$A$2:$A$8270,Sheet3!$B$1,Sheet4!$B$2:$B$8270,Sheet3!$A$3)","v":0},{"$f":"+SUMIFS(Sheet4!$DM$2:$DM$8270,Sheet4!$C$2:$C$8270,Sheet3!$B19,Sheet4!$D$2:$D$8270,Sheet3!H$3,Sheet4!$E$2:$E$8270,Sheet3!H$4,Sheet4!$A$2:$A$8270,Sheet3!$B$1,Sheet4!$B$2:$B$8270,Sheet3!$A$3)","v":0},{"$f":"+SUMIFS(Sheet4!$DM$2:$DM$8270,Sheet4!$C$2:$C$8270,Sheet3!$B19,Sheet4!$D$2:$D$8270,Sheet3!I$3,Sheet4!$E$2:$E$8270,Sheet3!I$4,Sheet4!$A$2:$A$8270,Sheet3!$B$1,Sheet4!$B$2:$B$8270,Sheet3!$A$3)","v":129},{"$f":"+SUMIFS(Sheet4!$DM$2:$DM$8270,Sheet4!$C$2:$C$8270,Sheet3!$B19,Sheet4!$D$2:$D$8270,Sheet3!J$3,Sheet4!$E$2:$E$8270,Sheet3!J$4,Sheet4!$A$2:$A$8270,Sheet3!$B$1,Sheet4!$B$2:$B$8270,Sheet3!$A$3)","v":16},{"$f":"+SUMIFS(Sheet4!$DM$2:$DM$8270,Sheet4!$C$2:$C$8270,Sheet3!$B19,Sheet4!$D$2:$D$8270,Sheet3!K$3,Sheet4!$E$2:$E$8270,Sheet3!K$4,Sheet4!$A$2:$A$8270,Sheet3!$B$1,Sheet4!$B$2:$B$8270,Sheet3!$A$3)","v":4},{"$f":"+SUMIFS(Sheet4!$DM$2:$DM$8270,Sheet4!$C$2:$C$8270,Sheet3!$B19,Sheet4!$D$2:$D$8270,Sheet3!L$3,Sheet4!$E$2:$E$8270,Sheet3!L$4,Sheet4!$A$2:$A$8270,Sheet3!$B$1,Sheet4!$B$2:$B$8270,Sheet3!$A$3)","v":0},{"$f":"+SUMIFS(Sheet4!$DM$2:$DM$8270,Sheet4!$C$2:$C$8270,Sheet3!$B19,Sheet4!$D$2:$D$8270,Sheet3!M$3,Sheet4!$E$2:$E$8270,Sheet3!M$4,Sheet4!$A$2:$A$8270,Sheet3!$B$1,Sheet4!$B$2:$B$8270,Sheet3!$A$3)","v":0},{"$f":"+SUMIFS(Sheet4!$DM$2:$DM$8270,Sheet4!$C$2:$C$8270,Sheet3!$B19,Sheet4!$D$2:$D$8270,Sheet3!N$3,Sheet4!$E$2:$E$8270,Sheet3!N$4,Sheet4!$A$2:$A$8270,Sheet3!$B$1,Sheet4!$B$2:$B$8270,Sheet3!$A$3)","v":109},{"$f":"+SUMIFS(Sheet4!$DM$2:$DM$8270,Sheet4!$C$2:$C$8270,Sheet3!$B19,Sheet4!$D$2:$D$8270,Sheet3!O$3,Sheet4!$E$2:$E$8270,Sheet3!O$4,Sheet4!$A$2:$A$8270,Sheet3!$B$1,Sheet4!$B$2:$B$8270,Sheet3!$A$3)","v":6},{"$f":"+SUMIFS(Sheet4!$DM$2:$DM$8270,Sheet4!$C$2:$C$8270,Sheet3!$B19,Sheet4!$D$2:$D$8270,Sheet3!P$3,Sheet4!$E$2:$E$8270,Sheet3!P$4,Sheet4!$A$2:$A$8270,Sheet3!$B$1,Sheet4!$B$2:$B$8270,Sheet3!$A$3)","v":0},{"$f":"+SUMIFS(Sheet4!$DM$2:$DM$8270,Sheet4!$C$2:$C$8270,Sheet3!$B19,Sheet4!$D$2:$D$8270,Sheet3!Q$3,Sheet4!$E$2:$E$8270,Sheet3!Q$4,Sheet4!$A$2:$A$8270,Sheet3!$B$1,Sheet4!$B$2:$B$8270,Sheet3!$A$3)","v":0},{"$f":"+SUMIFS(Sheet4!$DM$2:$DM$8270,Sheet4!$C$2:$C$8270,Sheet3!$B19,Sheet4!$D$2:$D$8270,Sheet3!R$3,Sheet4!$E$2:$E$8270,Sheet3!R$4,Sheet4!$A$2:$A$8270,Sheet3!$B$1,Sheet4!$B$2:$B$8270,Sheet3!$A$3)","v":0},{"$f":"+SUMIFS(Sheet4!$DM$2:$DM$8270,Sheet4!$C$2:$C$8270,Sheet3!$B19,Sheet4!$D$2:$D$8270,Sheet3!S$3,Sheet4!$E$2:$E$8270,Sheet3!S$4,Sheet4!$A$2:$A$8270,Sheet3!$B$1,Sheet4!$B$2:$B$8270,Sheet3!$A$3)","v":9},{"$f":"+SUMIFS(Sheet4!$DM$2:$DM$8270,Sheet4!$C$2:$C$8270,Sheet3!$B19,Sheet4!$D$2:$D$8270,Sheet3!T$3,Sheet4!$E$2:$E$8270,Sheet3!T$4,Sheet4!$A$2:$A$8270,Sheet3!$B$1,Sheet4!$B$2:$B$8270,Sheet3!$A$3)","v":10},{"$f":"+SUMIFS(Sheet4!$DM$2:$DM$8270,Sheet4!$C$2:$C$8270,Sheet3!$B19,Sheet4!$D$2:$D$8270,Sheet3!U$3,Sheet4!$E$2:$E$8270,Sheet3!U$4,Sheet4!$A$2:$A$8270,Sheet3!$B$1,Sheet4!$B$2:$B$8270,Sheet3!$A$3)","v":3},{"$f":"+SUMIFS(Sheet4!$DM$2:$DM$8270,Sheet4!$C$2:$C$8270,Sheet3!$B19,Sheet4!$D$2:$D$8270,Sheet3!V$3,Sheet4!$E$2:$E$8270,Sheet3!V$4,Sheet4!$A$2:$A$8270,Sheet3!$B$1,Sheet4!$B$2:$B$8270,Sheet3!$A$3)","v":0},{"$f":"+SUMIFS(Sheet4!$DM$2:$DM$8270,Sheet4!$C$2:$C$8270,Sheet3!$B19,Sheet4!$D$2:$D$8270,Sheet3!W$3,Sheet4!$E$2:$E$8270,Sheet3!W$4,Sheet4!$A$2:$A$8270,Sheet3!$B$1,Sheet4!$B$2:$B$8270,Sheet3!$A$3)","v":0},{"$f":"+SUMIFS(Sheet4!$DM$2:$DM$8270,Sheet4!$C$2:$C$8270,Sheet3!$B19,Sheet4!$D$2:$D$8270,Sheet3!X$3,Sheet4!$E$2:$E$8270,Sheet3!X$4,Sheet4!$A$2:$A$8270,Sheet3!$B$1,Sheet4!$B$2:$B$8270,Sheet3!$A$3)","v":0},{"$f":"+SUMIFS(Sheet4!$DM$2:$DM$8270,Sheet4!$C$2:$C$8270,Sheet3!$B19,Sheet4!$D$2:$D$8270,Sheet3!Y$3,Sheet4!$E$2:$E$8270,Sheet3!Y$4,Sheet4!$A$2:$A$8270,Sheet3!$B$1,Sheet4!$B$2:$B$8270,Sheet3!$A$3)","v":0},{"$f":"+SUMIFS(Sheet4!$DM$2:$DM$8270,Sheet4!$C$2:$C$8270,Sheet3!$B19,Sheet4!$D$2:$D$8270,Sheet3!Z$3,Sheet4!$E$2:$E$8270,Sheet3!Z$4,Sheet4!$A$2:$A$8270,Sheet3!$B$1,Sheet4!$B$2:$B$8270,Sheet3!$A$3)","v":0},{"$f":"+SUMIFS(Sheet4!$DM$2:$DM$8270,Sheet4!$C$2:$C$8270,Sheet3!$B19,Sheet4!$D$2:$D$8270,Sheet3!AA$3,Sheet4!$E$2:$E$8270,Sheet3!AA$4,Sheet4!$A$2:$A$8270,Sheet3!$B$1,Sheet4!$B$2:$B$8270,Sheet3!$A$3)","v":0},{"$f":"+SUMIFS(Sheet4!$DM$2:$DM$8270,Sheet4!$C$2:$C$8270,Sheet3!$B19,Sheet4!$D$2:$D$8270,Sheet3!AB$3,Sheet4!$E$2:$E$8270,Sheet3!AB$4,Sheet4!$A$2:$A$8270,Sheet3!$B$1,Sheet4!$B$2:$B$8270,Sheet3!$A$3)","v":0},{"$f":"+SUMIFS(Sheet4!$DM$2:$DM$8270,Sheet4!$C$2:$C$8270,Sheet3!$B19,Sheet4!$D$2:$D$8270,Sheet3!AC$3,Sheet4!$E$2:$E$8270,Sheet3!AC$4,Sheet4!$A$2:$A$8270,Sheet3!$B$1,Sheet4!$B$2:$B$8270,Sheet3!$A$3)","v":398},{"$f":"+SUMIFS(Sheet4!$DM$2:$DM$8270,Sheet4!$C$2:$C$8270,Sheet3!$B19,Sheet4!$D$2:$D$8270,Sheet3!AD$3,Sheet4!$E$2:$E$8270,Sheet3!AD$4,Sheet4!$A$2:$A$8270,Sheet3!$B$1,Sheet4!$B$2:$B$8270,Sheet3!$A$3)","v":16},{"$f":"+SUMIFS(Sheet4!$DM$2:$DM$8270,Sheet4!$C$2:$C$8270,Sheet3!$B19,Sheet4!$D$2:$D$8270,Sheet3!AE$3,Sheet4!$E$2:$E$8270,Sheet3!AE$4,Sheet4!$A$2:$A$8270,Sheet3!$B$1,Sheet4!$B$2:$B$8270,Sheet3!$A$3)","v":4},{"$f":"+SUMIFS(Sheet4!$DM$2:$DM$8270,Sheet4!$C$2:$C$8270,Sheet3!$B19,Sheet4!$D$2:$D$8270,Sheet3!AF$3,Sheet4!$E$2:$E$8270,Sheet3!AF$4,Sheet4!$A$2:$A$8270,Sheet3!$B$1,Sheet4!$B$2:$B$8270,Sheet3!$A$3)","v":0},{"$f":"+SUMIFS(Sheet4!$DM$2:$DM$8270,Sheet4!$C$2:$C$8270,Sheet3!$B19,Sheet4!$D$2:$D$8270,Sheet3!AG$3,Sheet4!$E$2:$E$8270,Sheet3!AG$4,Sheet4!$A$2:$A$8270,Sheet3!$B$1,Sheet4!$B$2:$B$8270,Sheet3!$A$3)","v":0},{"$f":"+SUMIFS(Sheet4!$DM$2:$DM$8270,Sheet4!$C$2:$C$8270,Sheet3!$B19,Sheet4!$D$2:$D$8270,Sheet3!AH$3,Sheet4!$E$2:$E$8270,Sheet3!AH$4,Sheet4!$A$2:$A$8270,Sheet3!$B$1,Sheet4!$B$2:$B$8270,Sheet3!$A$3)","v":7},{"$f":"+SUMIFS(Sheet4!$DM$2:$DM$8270,Sheet4!$C$2:$C$8270,Sheet3!$B19,Sheet4!$D$2:$D$8270,Sheet3!AI$3,Sheet4!$E$2:$E$8270,Sheet3!AI$4,Sheet4!$A$2:$A$8270,Sheet3!$B$1,Sheet4!$B$2:$B$8270,Sheet3!$A$3)","v":3},{"$f":"+SUMIFS(Sheet4!$DM$2:$DM$8270,Sheet4!$C$2:$C$8270,Sheet3!$B19,Sheet4!$D$2:$D$8270,Sheet3!AJ$3,Sheet4!$E$2:$E$8270,Sheet3!AJ$4,Sheet4!$A$2:$A$8270,Sheet3!$B$1,Sheet4!$B$2:$B$8270,Sheet3!$A$3)","v":0},{"$f":"+SUMIFS(Sheet4!$DM$2:$DM$8270,Sheet4!$C$2:$C$8270,Sheet3!$B19,Sheet4!$D$2:$D$8270,Sheet3!AK$3,Sheet4!$E$2:$E$8270,Sheet3!AK$4,Sheet4!$A$2:$A$8270,Sheet3!$B$1,Sheet4!$B$2:$B$8270,Sheet3!$A$3)","v":0},{"$f":"+SUMIFS(Sheet4!$DM$2:$DM$8270,Sheet4!$C$2:$C$8270,Sheet3!$B19,Sheet4!$D$2:$D$8270,Sheet3!AL$3,Sheet4!$E$2:$E$8270,Sheet3!AL$4,Sheet4!$A$2:$A$8270,Sheet3!$B$1,Sheet4!$B$2:$B$8270,Sheet3!$A$3)","v":0},{"$f":"+SUMIFS(Sheet4!$DM$2:$DM$8270,Sheet4!$C$2:$C$8270,Sheet3!$B19,Sheet4!$D$2:$D$8270,Sheet3!AM$3,Sheet4!$E$2:$E$8270,Sheet3!AM$4,Sheet4!$A$2:$A$8270,Sheet3!$B$1,Sheet4!$B$2:$B$8270,Sheet3!$A$3)","v":81},{"$f":"+SUMIFS(Sheet4!$DM$2:$DM$8270,Sheet4!$C$2:$C$8270,Sheet3!$B19,Sheet4!$D$2:$D$8270,Sheet3!AN$3,Sheet4!$E$2:$E$8270,Sheet3!AN$4,Sheet4!$A$2:$A$8270,Sheet3!$B$1,Sheet4!$B$2:$B$8270,Sheet3!$A$3)","v":30},{"$f":"+SUMIFS(Sheet4!$DM$2:$DM$8270,Sheet4!$C$2:$C$8270,Sheet3!$B19,Sheet4!$D$2:$D$8270,Sheet3!AO$3,Sheet4!$E$2:$E$8270,Sheet3!AO$4,Sheet4!$A$2:$A$8270,Sheet3!$B$1,Sheet4!$B$2:$B$8270,Sheet3!$A$3)","v":3},{"$f":"+SUMIFS(Sheet4!$DM$2:$DM$8270,Sheet4!$C$2:$C$8270,Sheet3!$B19,Sheet4!$D$2:$D$8270,Sheet3!AP$3,Sheet4!$E$2:$E$8270,Sheet3!AP$4,Sheet4!$A$2:$A$8270,Sheet3!$B$1,Sheet4!$B$2:$B$8270,Sheet3!$A$3)","v":0},{"$f":"+SUMIFS(Sheet4!$DM$2:$DM$8270,Sheet4!$C$2:$C$8270,Sheet3!$B19,Sheet4!$D$2:$D$8270,Sheet3!AQ$3,Sheet4!$E$2:$E$8270,Sheet3!AQ$4,Sheet4!$A$2:$A$8270,Sheet3!$B$1,Sheet4!$B$2:$B$8270,Sheet3!$A$3)","v":0},{"$f":"+SUMIFS(Sheet4!$DM$2:$DM$8270,Sheet4!$C$2:$C$8270,Sheet3!$B19,Sheet4!$D$2:$D$8270,Sheet3!AR$3,Sheet4!$E$2:$E$8270,Sheet3!AR$4,Sheet4!$A$2:$A$8270,Sheet3!$B$1,Sheet4!$B$2:$B$8270,Sheet3!$A$3)","v":232},{"$f":"+SUMIFS(Sheet4!$DM$2:$DM$8270,Sheet4!$C$2:$C$8270,Sheet3!$B19,Sheet4!$D$2:$D$8270,Sheet3!AS$3,Sheet4!$E$2:$E$8270,Sheet3!AS$4,Sheet4!$A$2:$A$8270,Sheet3!$B$1,Sheet4!$B$2:$B$8270,Sheet3!$A$3)","v":11},{"$f":"+SUMIFS(Sheet4!$DM$2:$DM$8270,Sheet4!$C$2:$C$8270,Sheet3!$B19,Sheet4!$D$2:$D$8270,Sheet3!AT$3,Sheet4!$E$2:$E$8270,Sheet3!AT$4,Sheet4!$A$2:$A$8270,Sheet3!$B$1,Sheet4!$B$2:$B$8270,Sheet3!$A$3)","v":3},{"$f":"+SUMIFS(Sheet4!$DM$2:$DM$8270,Sheet4!$C$2:$C$8270,Sheet3!$B19,Sheet4!$D$2:$D$8270,Sheet3!AU$3,Sheet4!$E$2:$E$8270,Sheet3!AU$4,Sheet4!$A$2:$A$8270,Sheet3!$B$1,Sheet4!$B$2:$B$8270,Sheet3!$A$3)","v":0},{"$f":"+SUMIFS(Sheet4!$DM$2:$DM$8270,Sheet4!$C$2:$C$8270,Sheet3!$B19,Sheet4!$D$2:$D$8270,Sheet3!AV$3,Sheet4!$E$2:$E$8270,Sheet3!AV$4,Sheet4!$A$2:$A$8270,Sheet3!$B$1,Sheet4!$B$2:$B$8270,Sheet3!$A$3)","v":0},{"$f":"+SUMIFS(Sheet4!$DM$2:$DM$8270,Sheet4!$C$2:$C$8270,Sheet3!$B19,Sheet4!$D$2:$D$8270,Sheet3!AW$3,Sheet4!$E$2:$E$8270,Sheet3!AW$4,Sheet4!$A$2:$A$8270,Sheet3!$B$1,Sheet4!$B$2:$B$8270,Sheet3!$A$3)","v":938},{"$f":"+SUMIFS(Sheet4!$DM$2:$DM$8270,Sheet4!$C$2:$C$8270,Sheet3!$B19,Sheet4!$D$2:$D$8270,Sheet3!AX$3,Sheet4!$E$2:$E$8270,Sheet3!AX$4,Sheet4!$A$2:$A$8270,Sheet3!$B$1,Sheet4!$B$2:$B$8270,Sheet3!$A$3)","v":46},{"$f":"+SUMIFS(Sheet4!$DM$2:$DM$8270,Sheet4!$C$2:$C$8270,Sheet3!$B19,Sheet4!$D$2:$D$8270,Sheet3!AY$3,Sheet4!$E$2:$E$8270,Sheet3!AY$4,Sheet4!$A$2:$A$8270,Sheet3!$B$1,Sheet4!$B$2:$B$8270,Sheet3!$A$3)","v":0},{"$f":"+SUMIFS(Sheet4!$DM$2:$DM$8270,Sheet4!$C$2:$C$8270,Sheet3!$B19,Sheet4!$D$2:$D$8270,Sheet3!AZ$3,Sheet4!$E$2:$E$8270,Sheet3!AZ$4,Sheet4!$A$2:$A$8270,Sheet3!$B$1,Sheet4!$B$2:$B$8270,Sheet3!$A$3)","v":0},{"$f":"+SUMIFS(Sheet4!$DM$2:$DM$8270,Sheet4!$C$2:$C$8270,Sheet3!$B19,Sheet4!$D$2:$D$8270,Sheet3!BA$3,Sheet4!$E$2:$E$8270,Sheet3!BA$4,Sheet4!$A$2:$A$8270,Sheet3!$B$1,Sheet4!$B$2:$B$8270,Sheet3!$A$3)","v":0},{"$f":"+SUMIFS(Sheet4!$DM$2:$DM$8270,Sheet4!$C$2:$C$8270,Sheet3!$B19,Sheet4!$D$2:$D$8270,Sheet3!BB$3,Sheet4!$E$2:$E$8270,Sheet3!BB$4,Sheet4!$A$2:$A$8270,Sheet3!$B$1,Sheet4!$B$2:$B$8270,Sheet3!$A$3)","v":0},{"$f":"+SUMIFS(Sheet4!$DM$2:$DM$8270,Sheet4!$C$2:$C$8270,Sheet3!$B19,Sheet4!$D$2:$D$8270,Sheet3!BC$3,Sheet4!$E$2:$E$8270,Sheet3!BC$4,Sheet4!$A$2:$A$8270,Sheet3!$B$1,Sheet4!$B$2:$B$8270,Sheet3!$A$3)","v":10},{"$f":"+SUMIFS(Sheet4!$DM$2:$DM$8270,Sheet4!$C$2:$C$8270,Sheet3!$B19,Sheet4!$D$2:$D$8270,Sheet3!BD$3,Sheet4!$E$2:$E$8270,Sheet3!BD$4,Sheet4!$A$2:$A$8270,Sheet3!$B$1,Sheet4!$B$2:$B$8270,Sheet3!$A$3)","v":3},{"$f":"+SUMIFS(Sheet4!$DM$2:$DM$8270,Sheet4!$C$2:$C$8270,Sheet3!$B19,Sheet4!$D$2:$D$8270,Sheet3!BE$3,Sheet4!$E$2:$E$8270,Sheet3!BE$4,Sheet4!$A$2:$A$8270,Sheet3!$B$1,Sheet4!$B$2:$B$8270,Sheet3!$A$3)","v":0},{"$f":"+SUMIFS(Sheet4!$DM$2:$DM$8270,Sheet4!$C$2:$C$8270,Sheet3!$B19,Sheet4!$D$2:$D$8270,Sheet3!BF$3,Sheet4!$E$2:$E$8270,Sheet3!BF$4,Sheet4!$A$2:$A$8270,Sheet3!$B$1,Sheet4!$B$2:$B$8270,Sheet3!$A$3)","v":0},{"$f":"+SUMIFS(Sheet4!$DM$2:$DM$8270,Sheet4!$C$2:$C$8270,Sheet3!$B19,Sheet4!$D$2:$D$8270,Sheet3!BG$3,Sheet4!$E$2:$E$8270,Sheet3!BG$4,Sheet4!$A$2:$A$8270,Sheet3!$B$1,Sheet4!$B$2:$B$8270,Sheet3!$A$3)","v":102},{"$f":"+SUMIFS(Sheet4!$DM$2:$DM$8270,Sheet4!$C$2:$C$8270,Sheet3!$B19,Sheet4!$D$2:$D$8270,Sheet3!BH$3,Sheet4!$E$2:$E$8270,Sheet3!BH$4,Sheet4!$A$2:$A$8270,Sheet3!$B$1,Sheet4!$B$2:$B$8270,Sheet3!$A$3)","v":46},{"$f":"+SUMIFS(Sheet4!$DM$2:$DM$8270,Sheet4!$C$2:$C$8270,Sheet3!$B19,Sheet4!$D$2:$D$8270,Sheet3!BI$3,Sheet4!$E$2:$E$8270,Sheet3!BI$4,Sheet4!$A$2:$A$8270,Sheet3!$B$1,Sheet4!$B$2:$B$8270,Sheet3!$A$3)","v":7},{"$f":"+SUMIFS(Sheet4!$DM$2:$DM$8270,Sheet4!$C$2:$C$8270,Sheet3!$B19,Sheet4!$D$2:$D$8270,Sheet3!BJ$3,Sheet4!$E$2:$E$8270,Sheet3!BJ$4,Sheet4!$A$2:$A$8270,Sheet3!$B$1,Sheet4!$B$2:$B$8270,Sheet3!$A$3)","v":0},{"$f":"+SUMIFS(Sheet4!$DM$2:$DM$8270,Sheet4!$C$2:$C$8270,Sheet3!$B19,Sheet4!$D$2:$D$8270,Sheet3!BK$3,Sheet4!$E$2:$E$8270,Sheet3!BK$4,Sheet4!$A$2:$A$8270,Sheet3!$B$1,Sheet4!$B$2:$B$8270,Sheet3!$A$3)","v":0},{"$f":"+SUMIFS(Sheet4!$DM$2:$DM$8270,Sheet4!$C$2:$C$8270,Sheet3!$B19,Sheet4!$D$2:$D$8270,Sheet3!BL$3,Sheet4!$E$2:$E$8270,Sheet3!BL$4,Sheet4!$A$2:$A$8270,Sheet3!$B$1,Sheet4!$B$2:$B$8270,Sheet3!$A$3)","v":3},{"$f":"+SUMIFS(Sheet4!$DM$2:$DM$8270,Sheet4!$C$2:$C$8270,Sheet3!$B19,Sheet4!$D$2:$D$8270,Sheet3!BM$3,Sheet4!$E$2:$E$8270,Sheet3!BM$4,Sheet4!$A$2:$A$8270,Sheet3!$B$1,Sheet4!$B$2:$B$8270,Sheet3!$A$3)","v":8},{"$f":"+SUMIFS(Sheet4!$DM$2:$DM$8270,Sheet4!$C$2:$C$8270,Sheet3!$B19,Sheet4!$D$2:$D$8270,Sheet3!BN$3,Sheet4!$E$2:$E$8270,Sheet3!BN$4,Sheet4!$A$2:$A$8270,Sheet3!$B$1,Sheet4!$B$2:$B$8270,Sheet3!$A$3)","v":7},{"$f":"+SUMIFS(Sheet4!$DM$2:$DM$8270,Sheet4!$C$2:$C$8270,Sheet3!$B19,Sheet4!$D$2:$D$8270,Sheet3!BO$3,Sheet4!$E$2:$E$8270,Sheet3!BO$4,Sheet4!$A$2:$A$8270,Sheet3!$B$1,Sheet4!$B$2:$B$8270,Sheet3!$A$3)","v":0},{"$f":"+SUMIFS(Sheet4!$DM$2:$DM$8270,Sheet4!$C$2:$C$8270,Sheet3!$B19,Sheet4!$D$2:$D$8270,Sheet3!BP$3,Sheet4!$E$2:$E$8270,Sheet3!BP$4,Sheet4!$A$2:$A$8270,Sheet3!$B$1,Sheet4!$B$2:$B$8270,Sheet3!$A$3)","v":0},{"$f":"+SUMIFS(Sheet4!$DM$2:$DM$8270,Sheet4!$C$2:$C$8270,Sheet3!$B19,Sheet4!$D$2:$D$8270,Sheet3!BQ$3,Sheet4!$E$2:$E$8270,Sheet3!BQ$4,Sheet4!$A$2:$A$8270,Sheet3!$B$1,Sheet4!$B$2:$B$8270,Sheet3!$A$3)","v":324},{"$f":"+SUMIFS(Sheet4!$DM$2:$DM$8270,Sheet4!$C$2:$C$8270,Sheet3!$B19,Sheet4!$D$2:$D$8270,Sheet3!BR$3,Sheet4!$E$2:$E$8270,Sheet3!BR$4,Sheet4!$A$2:$A$8270,Sheet3!$B$1,Sheet4!$B$2:$B$8270,Sheet3!$A$3)","v":48},{"$f":"+SUMIFS(Sheet4!$DM$2:$DM$8270,Sheet4!$C$2:$C$8270,Sheet3!$B19,Sheet4!$D$2:$D$8270,Sheet3!BS$3,Sheet4!$E$2:$E$8270,Sheet3!BS$4,Sheet4!$A$2:$A$8270,Sheet3!$B$1,Sheet4!$B$2:$B$8270,Sheet3!$A$3)","v":13},{"$f":"+SUMIFS(Sheet4!$DM$2:$DM$8270,Sheet4!$C$2:$C$8270,Sheet3!$B19,Sheet4!$D$2:$D$8270,Sheet3!BT$3,Sheet4!$E$2:$E$8270,Sheet3!BT$4,Sheet4!$A$2:$A$8270,Sheet3!$B$1,Sheet4!$B$2:$B$8270,Sheet3!$A$3)","v":0},{"$f":"+SUMIFS(Sheet4!$DM$2:$DM$8270,Sheet4!$C$2:$C$8270,Sheet3!$B19,Sheet4!$D$2:$D$8270,Sheet3!BU$3,Sheet4!$E$2:$E$8270,Sheet3!BU$4,Sheet4!$A$2:$A$8270,Sheet3!$B$1,Sheet4!$B$2:$B$8270,Sheet3!$A$3)","v":0},{"$f":"+SUMIFS(Sheet4!$DM$2:$DM$8270,Sheet4!$C$2:$C$8270,Sheet3!$B19,Sheet4!$D$2:$D$8270,Sheet3!BV$3,Sheet4!$E$2:$E$8270,Sheet3!BV$4,Sheet4!$A$2:$A$8270,Sheet3!$B$1,Sheet4!$B$2:$B$8270,Sheet3!$A$3)","v":300},{"$f":"+SUMIFS(Sheet4!$DM$2:$DM$8270,Sheet4!$C$2:$C$8270,Sheet3!$B19,Sheet4!$D$2:$D$8270,Sheet3!BW$3,Sheet4!$E$2:$E$8270,Sheet3!BW$4,Sheet4!$A$2:$A$8270,Sheet3!$B$1,Sheet4!$B$2:$B$8270,Sheet3!$A$3)","v":54},{"$f":"+SUMIFS(Sheet4!$DM$2:$DM$8270,Sheet4!$C$2:$C$8270,Sheet3!$B19,Sheet4!$D$2:$D$8270,Sheet3!BX$3,Sheet4!$E$2:$E$8270,Sheet3!BX$4,Sheet4!$A$2:$A$8270,Sheet3!$B$1,Sheet4!$B$2:$B$8270,Sheet3!$A$3)","v":7},{"$f":"+SUMIFS(Sheet4!$DM$2:$DM$8270,Sheet4!$C$2:$C$8270,Sheet3!$B19,Sheet4!$D$2:$D$8270,Sheet3!BY$3,Sheet4!$E$2:$E$8270,Sheet3!BY$4,Sheet4!$A$2:$A$8270,Sheet3!$B$1,Sheet4!$B$2:$B$8270,Sheet3!$A$3)","v":0},{"$f":"+SUMIFS(Sheet4!$DM$2:$DM$8270,Sheet4!$C$2:$C$8270,Sheet3!$B19,Sheet4!$D$2:$D$8270,Sheet3!BZ$3,Sheet4!$E$2:$E$8270,Sheet3!BZ$4,Sheet4!$A$2:$A$8270,Sheet3!$B$1,Sheet4!$B$2:$B$8270,Sheet3!$A$3)","v":0},{"$f":"+SUMIFS(Sheet4!$DM$2:$DM$8270,Sheet4!$C$2:$C$8270,Sheet3!$B19,Sheet4!$D$2:$D$8270,Sheet3!CA$3,Sheet4!$E$2:$E$8270,Sheet3!CA$4,Sheet4!$A$2:$A$8270,Sheet3!$B$1,Sheet4!$B$2:$B$8270,Sheet3!$A$3)","v":111},{"$f":"+SUMIFS(Sheet4!$DM$2:$DM$8270,Sheet4!$C$2:$C$8270,Sheet3!$B19,Sheet4!$D$2:$D$8270,Sheet3!CB$3,Sheet4!$E$2:$E$8270,Sheet3!CB$4,Sheet4!$A$2:$A$8270,Sheet3!$B$1,Sheet4!$B$2:$B$8270,Sheet3!$A$3)","v":10},{"$f":"+SUMIFS(Sheet4!$DM$2:$DM$8270,Sheet4!$C$2:$C$8270,Sheet3!$B19,Sheet4!$D$2:$D$8270,Sheet3!CC$3,Sheet4!$E$2:$E$8270,Sheet3!CC$4,Sheet4!$A$2:$A$8270,Sheet3!$B$1,Sheet4!$B$2:$B$8270,Sheet3!$A$3)","v":0},{"$f":"+SUMIFS(Sheet4!$DM$2:$DM$8270,Sheet4!$C$2:$C$8270,Sheet3!$B19,Sheet4!$D$2:$D$8270,Sheet3!CD$3,Sheet4!$E$2:$E$8270,Sheet3!CD$4,Sheet4!$A$2:$A$8270,Sheet3!$B$1,Sheet4!$B$2:$B$8270,Sheet3!$A$3)","v":0},{"$f":"+SUMIFS(Sheet4!$DM$2:$DM$8270,Sheet4!$C$2:$C$8270,Sheet3!$B19,Sheet4!$D$2:$D$8270,Sheet3!CE$3,Sheet4!$E$2:$E$8270,Sheet3!CE$4,Sheet4!$A$2:$A$8270,Sheet3!$B$1,Sheet4!$B$2:$B$8270,Sheet3!$A$3)","v":0},{"$f":"+SUMIFS(Sheet4!$DM$2:$DM$8270,Sheet4!$C$2:$C$8270,Sheet3!$B19,Sheet4!$D$2:$D$8270,Sheet3!CF$3,Sheet4!$E$2:$E$8270,Sheet3!CF$4,Sheet4!$A$2:$A$8270,Sheet3!$B$1,Sheet4!$B$2:$B$8270,Sheet3!$A$3)","v":0},{"$f":"+SUMIFS(Sheet4!$DM$2:$DM$8270,Sheet4!$C$2:$C$8270,Sheet3!$B19,Sheet4!$D$2:$D$8270,Sheet3!CG$3,Sheet4!$E$2:$E$8270,Sheet3!CG$4,Sheet4!$A$2:$A$8270,Sheet3!$B$1,Sheet4!$B$2:$B$8270,Sheet3!$A$3)","v":0},{"$f":"+SUMIFS(Sheet4!$DM$2:$DM$8270,Sheet4!$C$2:$C$8270,Sheet3!$B19,Sheet4!$D$2:$D$8270,Sheet3!CH$3,Sheet4!$E$2:$E$8270,Sheet3!CH$4,Sheet4!$A$2:$A$8270,Sheet3!$B$1,Sheet4!$B$2:$B$8270,Sheet3!$A$3)","v":0},{"$f":"+SUMIFS(Sheet4!$DM$2:$DM$8270,Sheet4!$C$2:$C$8270,Sheet3!$B19,Sheet4!$D$2:$D$8270,Sheet3!CI$3,Sheet4!$E$2:$E$8270,Sheet3!CI$4,Sheet4!$A$2:$A$8270,Sheet3!$B$1,Sheet4!$B$2:$B$8270,Sheet3!$A$3)","v":0},{"$f":"+SUMIFS(Sheet4!$DM$2:$DM$8270,Sheet4!$C$2:$C$8270,Sheet3!$B19,Sheet4!$D$2:$D$8270,Sheet3!CJ$3,Sheet4!$E$2:$E$8270,Sheet3!CJ$4,Sheet4!$A$2:$A$8270,Sheet3!$B$1,Sheet4!$B$2:$B$8270,Sheet3!$A$3)","v":0},{"$f":"+SUMIFS(Sheet4!$DM$2:$DM$8270,Sheet4!$C$2:$C$8270,Sheet3!$B19,Sheet4!$D$2:$D$8270,Sheet3!CK$3,Sheet4!$E$2:$E$8270,Sheet3!CK$4,Sheet4!$A$2:$A$8270,Sheet3!$B$1,Sheet4!$B$2:$B$8270,Sheet3!$A$3)","v":0},{"$f":"+SUMIFS(Sheet4!$DM$2:$DM$8270,Sheet4!$C$2:$C$8270,Sheet3!$B19,Sheet4!$D$2:$D$8270,Sheet3!CL$3,Sheet4!$E$2:$E$8270,Sheet3!CL$4,Sheet4!$A$2:$A$8270,Sheet3!$B$1,Sheet4!$B$2:$B$8270,Sheet3!$A$3)","v":0},{"$f":"+SUMIFS(Sheet4!$DM$2:$DM$8270,Sheet4!$C$2:$C$8270,Sheet3!$B19,Sheet4!$D$2:$D$8270,Sheet3!CM$3,Sheet4!$E$2:$E$8270,Sheet3!CM$4,Sheet4!$A$2:$A$8270,Sheet3!$B$1,Sheet4!$B$2:$B$8270,Sheet3!$A$3)","v":0},{"$f":"+SUMIFS(Sheet4!$DM$2:$DM$8270,Sheet4!$C$2:$C$8270,Sheet3!$B19,Sheet4!$D$2:$D$8270,Sheet3!CN$3,Sheet4!$E$2:$E$8270,Sheet3!CN$4,Sheet4!$A$2:$A$8270,Sheet3!$B$1,Sheet4!$B$2:$B$8270,Sheet3!$A$3)","v":0},{"$f":"+SUMIFS(Sheet4!$DM$2:$DM$8270,Sheet4!$C$2:$C$8270,Sheet3!$B19,Sheet4!$D$2:$D$8270,Sheet3!CO$3,Sheet4!$E$2:$E$8270,Sheet3!CO$4,Sheet4!$A$2:$A$8270,Sheet3!$B$1,Sheet4!$B$2:$B$8270,Sheet3!$A$3)","v":0},{"$f":"+IF(SUMIFS(Sheet4!$DN$2:$DN$8270,Sheet4!$C$2:$C$8270,Sheet3!$B19,Sheet4!$D$2:$D$8270,Sheet3!CP$3,Sheet4!$A$2:$A$8270,Sheet3!$B$1,Sheet4!$B$2:$B$8270,Sheet3!$A$3)<3,0,SUMIFS(Sheet4!$DN$2:$DN$8270,Sheet4!$C$2:$C$8270,Sheet3!$B19,Sheet4!$D$2:$D$8270,Sheet3!CP$3,Sheet4!$A$2:$A$8270,Sheet3!$B$1,Sheet4!$B$2:$B$8270,Sheet3!$A$3))","v":24},{"$f":"+IF(SUMIFS(Sheet4!$DN$2:$DN$8270,Sheet4!$C$2:$C$8270,Sheet3!$B19,Sheet4!$D$2:$D$8270,Sheet3!CQ$3,Sheet4!$A$2:$A$8270,Sheet3!$B$1,Sheet4!$B$2:$B$8270,Sheet3!$A$3)<3,0,SUMIFS(Sheet4!$DN$2:$DN$8270,Sheet4!$C$2:$C$8270,Sheet3!$B19,Sheet4!$D$2:$D$8270,Sheet3!CQ$3,Sheet4!$A$2:$A$8270,Sheet3!$B$1,Sheet4!$B$2:$B$8270,Sheet3!$A$3))","v":151},{"$f":"+IF(SUMIFS(Sheet4!$DN$2:$DN$8270,Sheet4!$C$2:$C$8270,Sheet3!$B19,Sheet4!$D$2:$D$8270,Sheet3!CR$3,Sheet4!$A$2:$A$8270,Sheet3!$B$1,Sheet4!$B$2:$B$8270,Sheet3!$A$3)<3,0,SUMIFS(Sheet4!$DN$2:$DN$8270,Sheet4!$C$2:$C$8270,Sheet3!$B19,Sheet4!$D$2:$D$8270,Sheet3!CR$3,Sheet4!$A$2:$A$8270,Sheet3!$B$1,Sheet4!$B$2:$B$8270,Sheet3!$A$3))","v":117},{"$f":"+IF(SUMIFS(Sheet4!$DN$2:$DN$8270,Sheet4!$C$2:$C$8270,Sheet3!$B19,Sheet4!$D$2:$D$8270,Sheet3!CS$3,Sheet4!$A$2:$A$8270,Sheet3!$B$1,Sheet4!$B$2:$B$8270,Sheet3!$A$3)<3,0,SUMIFS(Sheet4!$DN$2:$DN$8270,Sheet4!$C$2:$C$8270,Sheet3!$B19,Sheet4!$D$2:$D$8270,Sheet3!CS$3,Sheet4!$A$2:$A$8270,Sheet3!$B$1,Sheet4!$B$2:$B$8270,Sheet3!$A$3))","v":24},{"$f":"+IF(SUMIFS(Sheet4!$DN$2:$DN$8270,Sheet4!$C$2:$C$8270,Sheet3!$B19,Sheet4!$D$2:$D$8270,Sheet3!CT$3,Sheet4!$A$2:$A$8270,Sheet3!$B$1,Sheet4!$B$2:$B$8270,Sheet3!$A$3)<3,0,SUMIFS(Sheet4!$DN$2:$DN$8270,Sheet4!$C$2:$C$8270,Sheet3!$B19,Sheet4!$D$2:$D$8270,Sheet3!CT$3,Sheet4!$A$2:$A$8270,Sheet3!$B$1,Sheet4!$B$2:$B$8270,Sheet3!$A$3))","v":0},{"$f":"+IF(SUMIFS(Sheet4!$DN$2:$DN$8270,Sheet4!$C$2:$C$8270,Sheet3!$B19,Sheet4!$D$2:$D$8270,Sheet3!CU$3,Sheet4!$A$2:$A$8270,Sheet3!$B$1,Sheet4!$B$2:$B$8270,Sheet3!$A$3)<3,0,SUMIFS(Sheet4!$DN$2:$DN$8270,Sheet4!$C$2:$C$8270,Sheet3!$B19,Sheet4!$D$2:$D$8270,Sheet3!CU$3,Sheet4!$A$2:$A$8270,Sheet3!$B$1,Sheet4!$B$2:$B$8270,Sheet3!$A$3))","v":419},{"$f":"+IF(SUMIFS(Sheet4!$DN$2:$DN$8270,Sheet4!$C$2:$C$8270,Sheet3!$B19,Sheet4!$D$2:$D$8270,Sheet3!CV$3,Sheet4!$A$2:$A$8270,Sheet3!$B$1,Sheet4!$B$2:$B$8270,Sheet3!$A$3)<3,0,SUMIFS(Sheet4!$DN$2:$DN$8270,Sheet4!$C$2:$C$8270,Sheet3!$B19,Sheet4!$D$2:$D$8270,Sheet3!CV$3,Sheet4!$A$2:$A$8270,Sheet3!$B$1,Sheet4!$B$2:$B$8270,Sheet3!$A$3))","v":12},{"$f":"+IF(SUMIFS(Sheet4!$DN$2:$DN$8270,Sheet4!$C$2:$C$8270,Sheet3!$B19,Sheet4!$D$2:$D$8270,Sheet3!CW$3,Sheet4!$A$2:$A$8270,Sheet3!$B$1,Sheet4!$B$2:$B$8270,Sheet3!$A$3)<3,0,SUMIFS(Sheet4!$DN$2:$DN$8270,Sheet4!$C$2:$C$8270,Sheet3!$B19,Sheet4!$D$2:$D$8270,Sheet3!CW$3,Sheet4!$A$2:$A$8270,Sheet3!$B$1,Sheet4!$B$2:$B$8270,Sheet3!$A$3))","v":116},{"$f":"+IF(SUMIFS(Sheet4!$DN$2:$DN$8270,Sheet4!$C$2:$C$8270,Sheet3!$B19,Sheet4!$D$2:$D$8270,Sheet3!CX$3,Sheet4!$A$2:$A$8270,Sheet3!$B$1,Sheet4!$B$2:$B$8270,Sheet3!$A$3)<3,0,SUMIFS(Sheet4!$DN$2:$DN$8270,Sheet4!$C$2:$C$8270,Sheet3!$B19,Sheet4!$D$2:$D$8270,Sheet3!CX$3,Sheet4!$A$2:$A$8270,Sheet3!$B$1,Sheet4!$B$2:$B$8270,Sheet3!$A$3))","v":248},{"$f":"+IF(SUMIFS(Sheet4!$DN$2:$DN$8270,Sheet4!$C$2:$C$8270,Sheet3!$B19,Sheet4!$D$2:$D$8270,Sheet3!CY$3,Sheet4!$A$2:$A$8270,Sheet3!$B$1,Sheet4!$B$2:$B$8270,Sheet3!$A$3)<3,0,SUMIFS(Sheet4!$DN$2:$DN$8270,Sheet4!$C$2:$C$8270,Sheet3!$B19,Sheet4!$D$2:$D$8270,Sheet3!CY$3,Sheet4!$A$2:$A$8270,Sheet3!$B$1,Sheet4!$B$2:$B$8270,Sheet3!$A$3))","v":988},{"$f":"+IF(SUMIFS(Sheet4!$DN$2:$DN$8270,Sheet4!$C$2:$C$8270,Sheet3!$B19,Sheet4!$D$2:$D$8270,Sheet3!CZ$3,Sheet4!$A$2:$A$8270,Sheet3!$B$1,Sheet4!$B$2:$B$8270,Sheet3!$A$3)<3,0,SUMIFS(Sheet4!$DN$2:$DN$8270,Sheet4!$C$2:$C$8270,Sheet3!$B19,Sheet4!$D$2:$D$8270,Sheet3!CZ$3,Sheet4!$A$2:$A$8270,Sheet3!$B$1,Sheet4!$B$2:$B$8270,Sheet3!$A$3))","v":17},{"$f":"+IF(SUMIFS(Sheet4!$DN$2:$DN$8270,Sheet4!$C$2:$C$8270,Sheet3!$B19,Sheet4!$D$2:$D$8270,Sheet3!DA$3,Sheet4!$A$2:$A$8270,Sheet3!$B$1,Sheet4!$B$2:$B$8270,Sheet3!$A$3)<3,0,SUMIFS(Sheet4!$DN$2:$DN$8270,Sheet4!$C$2:$C$8270,Sheet3!$B19,Sheet4!$D$2:$D$8270,Sheet3!DA$3,Sheet4!$A$2:$A$8270,Sheet3!$B$1,Sheet4!$B$2:$B$8270,Sheet3!$A$3))","v":155},{"$f":"+IF(SUMIFS(Sheet4!$DN$2:$DN$8270,Sheet4!$C$2:$C$8270,Sheet3!$B19,Sheet4!$D$2:$D$8270,Sheet3!DB$3,Sheet4!$A$2:$A$8270,Sheet3!$B$1,Sheet4!$B$2:$B$8270,Sheet3!$A$3)<3,0,SUMIFS(Sheet4!$DN$2:$DN$8270,Sheet4!$C$2:$C$8270,Sheet3!$B19,Sheet4!$D$2:$D$8270,Sheet3!DB$3,Sheet4!$A$2:$A$8270,Sheet3!$B$1,Sheet4!$B$2:$B$8270,Sheet3!$A$3))","v":19},{"$f":"+IF(SUMIFS(Sheet4!$DN$2:$DN$8270,Sheet4!$C$2:$C$8270,Sheet3!$B19,Sheet4!$D$2:$D$8270,Sheet3!DC$3,Sheet4!$A$2:$A$8270,Sheet3!$B$1,Sheet4!$B$2:$B$8270,Sheet3!$A$3)<3,0,SUMIFS(Sheet4!$DN$2:$DN$8270,Sheet4!$C$2:$C$8270,Sheet3!$B19,Sheet4!$D$2:$D$8270,Sheet3!DC$3,Sheet4!$A$2:$A$8270,Sheet3!$B$1,Sheet4!$B$2:$B$8270,Sheet3!$A$3))","v":386},{"$f":"+IF(SUMIFS(Sheet4!$DN$2:$DN$8270,Sheet4!$C$2:$C$8270,Sheet3!$B19,Sheet4!$D$2:$D$8270,Sheet3!DD$3,Sheet4!$A$2:$A$8270,Sheet3!$B$1,Sheet4!$B$2:$B$8270,Sheet3!$A$3)<3,0,SUMIFS(Sheet4!$DN$2:$DN$8270,Sheet4!$C$2:$C$8270,Sheet3!$B19,Sheet4!$D$2:$D$8270,Sheet3!DD$3,Sheet4!$A$2:$A$8270,Sheet3!$B$1,Sheet4!$B$2:$B$8270,Sheet3!$A$3))","v":361},{"$f":"+IF(SUMIFS(Sheet4!$DN$2:$DN$8270,Sheet4!$C$2:$C$8270,Sheet3!$B19,Sheet4!$D$2:$D$8270,Sheet3!DE$3,Sheet4!$A$2:$A$8270,Sheet3!$B$1,Sheet4!$B$2:$B$8270,Sheet3!$A$3)<3,0,SUMIFS(Sheet4!$DN$2:$DN$8270,Sheet4!$C$2:$C$8270,Sheet3!$B19,Sheet4!$D$2:$D$8270,Sheet3!DE$3,Sheet4!$A$2:$A$8270,Sheet3!$B$1,Sheet4!$B$2:$B$8270,Sheet3!$A$3))","v":124},{"$f":"+IF(SUMIFS(Sheet4!$DN$2:$DN$8270,Sheet4!$C$2:$C$8270,Sheet3!$B19,Sheet4!$D$2:$D$8270,Sheet3!DF$3,Sheet4!$A$2:$A$8270,Sheet3!$B$1,Sheet4!$B$2:$B$8270,Sheet3!$A$3)<3,0,SUMIFS(Sheet4!$DN$2:$DN$8270,Sheet4!$C$2:$C$8270,Sheet3!$B19,Sheet4!$D$2:$D$8270,Sheet3!DF$3,Sheet4!$A$2:$A$8270,Sheet3!$B$1,Sheet4!$B$2:$B$8270,Sheet3!$A$3))","v":0},{"$f":"+IF(SUMIFS(Sheet4!$DN$2:$DN$8270,Sheet4!$C$2:$C$8270,Sheet3!$B19,Sheet4!$D$2:$D$8270,Sheet3!DG$3,Sheet4!$A$2:$A$8270,Sheet3!$B$1,Sheet4!$B$2:$B$8270,Sheet3!$A$3)<3,0,SUMIFS(Sheet4!$DN$2:$DN$8270,Sheet4!$C$2:$C$8270,Sheet3!$B19,Sheet4!$D$2:$D$8270,Sheet3!DG$3,Sheet4!$A$2:$A$8270,Sheet3!$B$1,Sheet4!$B$2:$B$8270,Sheet3!$A$3))","v":0},{"$f":"+IF(SUMIFS(Sheet4!$DN$2:$DN$8270,Sheet4!$C$2:$C$8270,Sheet3!$B19,Sheet4!$E$2:$E$8270,Sheet3!DH$4,Sheet4!$A$2:$A$8270,Sheet3!$B$1,Sheet4!$B$2:$B$8270,Sheet3!$A$3)<3,0,SUMIFS(Sheet4!$DN$2:$DN$8270,Sheet4!$C$2:$C$8270,Sheet3!$B19,Sheet4!$E$2:$E$8270,Sheet3!DH$4,Sheet4!$A$2:$A$8270,Sheet3!$B$1,Sheet4!$B$2:$B$8270,Sheet3!$A$3))","v":2776},{"$f":"+IF(SUMIFS(Sheet4!$DN$2:$DN$8270,Sheet4!$C$2:$C$8270,Sheet3!$B19,Sheet4!$E$2:$E$8270,Sheet3!DI$4,Sheet4!$A$2:$A$8270,Sheet3!$B$1,Sheet4!$B$2:$B$8270,Sheet3!$A$3)<3,0,SUMIFS(Sheet4!$DN$2:$DN$8270,Sheet4!$C$2:$C$8270,Sheet3!$B19,Sheet4!$E$2:$E$8270,Sheet3!DI$4,Sheet4!$A$2:$A$8270,Sheet3!$B$1,Sheet4!$B$2:$B$8270,Sheet3!$A$3))","v":327},{"$f":"+IF(SUMIFS(Sheet4!$DN$2:$DN$8270,Sheet4!$C$2:$C$8270,Sheet3!$B19,Sheet4!$E$2:$E$8270,Sheet3!DJ$4,Sheet4!$A$2:$A$8270,Sheet3!$B$1,Sheet4!$B$2:$B$8270,Sheet3!$A$3)<3,0,SUMIFS(Sheet4!$DN$2:$DN$8270,Sheet4!$C$2:$C$8270,Sheet3!$B19,Sheet4!$E$2:$E$8270,Sheet3!DJ$4,Sheet4!$A$2:$A$8270,Sheet3!$B$1,Sheet4!$B$2:$B$8270,Sheet3!$A$3))","v":59},{"$f":"+IF(SUMIFS(Sheet4!$DN$2:$DN$8270,Sheet4!$C$2:$C$8270,Sheet3!$B19,Sheet4!$E$2:$E$8270,Sheet3!DK$4,Sheet4!$A$2:$A$8270,Sheet3!$B$1,Sheet4!$B$2:$B$8270,Sheet3!$A$3)<3,0,SUMIFS(Sheet4!$DN$2:$DN$8270,Sheet4!$C$2:$C$8270,Sheet3!$B19,Sheet4!$E$2:$E$8270,Sheet3!DK$4,Sheet4!$A$2:$A$8270,Sheet3!$B$1,Sheet4!$B$2:$B$8270,Sheet3!$A$3))","v":0},{"$f":"+IF(SUMIFS(Sheet4!$DN$2:$DN$8270,Sheet4!$C$2:$C$8270,Sheet3!$B19,Sheet4!$E$2:$E$8270,Sheet3!DL$4,Sheet4!$A$2:$A$8270,Sheet3!$B$1,Sheet4!$B$2:$B$8270,Sheet3!$A$3)<3,0,SUMIFS(Sheet4!$DN$2:$DN$8270,Sheet4!$C$2:$C$8270,Sheet3!$B19,Sheet4!$E$2:$E$8270,Sheet3!DL$4,Sheet4!$A$2:$A$8270,Sheet3!$B$1,Sheet4!$B$2:$B$8270,Sheet3!$A$3))","v":0}]
[2,"16G","Viseu Dão Lafões",{"$f":"+SUMIFS(Sheet4!$DM$2:$DM$8270,Sheet4!$C$2:$C$8270,Sheet3!$B20,Sheet4!$D$2:$D$8270,Sheet3!D$3,Sheet4!$E$2:$E$8270,Sheet3!D$4,Sheet4!$A$2:$A$8270,Sheet3!$B$1,Sheet4!$B$2:$B$8270,Sheet3!$A$3)","v":15},{"$f":"+SUMIFS(Sheet4!$DM$2:$DM$8270,Sheet4!$C$2:$C$8270,Sheet3!$B20,Sheet4!$D$2:$D$8270,Sheet3!E$3,Sheet4!$E$2:$E$8270,Sheet3!E$4,Sheet4!$A$2:$A$8270,Sheet3!$B$1,Sheet4!$B$2:$B$8270,Sheet3!$A$3)","v":3},{"$f":"+SUMIFS(Sheet4!$DM$2:$DM$8270,Sheet4!$C$2:$C$8270,Sheet3!$B20,Sheet4!$D$2:$D$8270,Sheet3!F$3,Sheet4!$E$2:$E$8270,Sheet3!F$4,Sheet4!$A$2:$A$8270,Sheet3!$B$1,Sheet4!$B$2:$B$8270,Sheet3!$A$3)","v":0},{"$f":"+SUMIFS(Sheet4!$DM$2:$DM$8270,Sheet4!$C$2:$C$8270,Sheet3!$B20,Sheet4!$D$2:$D$8270,Sheet3!G$3,Sheet4!$E$2:$E$8270,Sheet3!G$4,Sheet4!$A$2:$A$8270,Sheet3!$B$1,Sheet4!$B$2:$B$8270,Sheet3!$A$3)","v":0},{"$f":"+SUMIFS(Sheet4!$DM$2:$DM$8270,Sheet4!$C$2:$C$8270,Sheet3!$B20,Sheet4!$D$2:$D$8270,Sheet3!H$3,Sheet4!$E$2:$E$8270,Sheet3!H$4,Sheet4!$A$2:$A$8270,Sheet3!$B$1,Sheet4!$B$2:$B$8270,Sheet3!$A$3)","v":0},{"$f":"+SUMIFS(Sheet4!$DM$2:$DM$8270,Sheet4!$C$2:$C$8270,Sheet3!$B20,Sheet4!$D$2:$D$8270,Sheet3!I$3,Sheet4!$E$2:$E$8270,Sheet3!I$4,Sheet4!$A$2:$A$8270,Sheet3!$B$1,Sheet4!$B$2:$B$8270,Sheet3!$A$3)","v":399},{"$f":"+SUMIFS(Sheet4!$DM$2:$DM$8270,Sheet4!$C$2:$C$8270,Sheet3!$B20,Sheet4!$D$2:$D$8270,Sheet3!J$3,Sheet4!$E$2:$E$8270,Sheet3!J$4,Sheet4!$A$2:$A$8270,Sheet3!$B$1,Sheet4!$B$2:$B$8270,Sheet3!$A$3)","v":3},{"$f":"+SUMIFS(Sheet4!$DM$2:$DM$8270,Sheet4!$C$2:$C$8270,Sheet3!$B20,Sheet4!$D$2:$D$8270,Sheet3!K$3,Sheet4!$E$2:$E$8270,Sheet3!K$4,Sheet4!$A$2:$A$8270,Sheet3!$B$1,Sheet4!$B$2:$B$8270,Sheet3!$A$3)","v":0},{"$f":"+SUMIFS(Sheet4!$DM$2:$DM$8270,Sheet4!$C$2:$C$8270,Sheet3!$B20,Sheet4!$D$2:$D$8270,Sheet3!L$3,Sheet4!$E$2:$E$8270,Sheet3!L$4,Sheet4!$A$2:$A$8270,Sheet3!$B$1,Sheet4!$B$2:$B$8270,Sheet3!$A$3)","v":0},{"$f":"+SUMIFS(Sheet4!$DM$2:$DM$8270,Sheet4!$C$2:$C$8270,Sheet3!$B20,Sheet4!$D$2:$D$8270,Sheet3!M$3,Sheet4!$E$2:$E$8270,Sheet3!M$4,Sheet4!$A$2:$A$8270,Sheet3!$B$1,Sheet4!$B$2:$B$8270,Sheet3!$A$3)","v":0},{"$f":"+SUMIFS(Sheet4!$DM$2:$DM$8270,Sheet4!$C$2:$C$8270,Sheet3!$B20,Sheet4!$D$2:$D$8270,Sheet3!N$3,Sheet4!$E$2:$E$8270,Sheet3!N$4,Sheet4!$A$2:$A$8270,Sheet3!$B$1,Sheet4!$B$2:$B$8270,Sheet3!$A$3)","v":274},{"$f":"+SUMIFS(Sheet4!$DM$2:$DM$8270,Sheet4!$C$2:$C$8270,Sheet3!$B20,Sheet4!$D$2:$D$8270,Sheet3!O$3,Sheet4!$E$2:$E$8270,Sheet3!O$4,Sheet4!$A$2:$A$8270,Sheet3!$B$1,Sheet4!$B$2:$B$8270,Sheet3!$A$3)","v":20},{"$f":"+SUMIFS(Sheet4!$DM$2:$DM$8270,Sheet4!$C$2:$C$8270,Sheet3!$B20,Sheet4!$D$2:$D$8270,Sheet3!P$3,Sheet4!$E$2:$E$8270,Sheet3!P$4,Sheet4!$A$2:$A$8270,Sheet3!$B$1,Sheet4!$B$2:$B$8270,Sheet3!$A$3)","v":0},{"$f":"+SUMIFS(Sheet4!$DM$2:$DM$8270,Sheet4!$C$2:$C$8270,Sheet3!$B20,Sheet4!$D$2:$D$8270,Sheet3!Q$3,Sheet4!$E$2:$E$8270,Sheet3!Q$4,Sheet4!$A$2:$A$8270,Sheet3!$B$1,Sheet4!$B$2:$B$8270,Sheet3!$A$3)","v":0},{"$f":"+SUMIFS(Sheet4!$DM$2:$DM$8270,Sheet4!$C$2:$C$8270,Sheet3!$B20,Sheet4!$D$2:$D$8270,Sheet3!R$3,Sheet4!$E$2:$E$8270,Sheet3!R$4,Sheet4!$A$2:$A$8270,Sheet3!$B$1,Sheet4!$B$2:$B$8270,Sheet3!$A$3)","v":0},{"$f":"+SUMIFS(Sheet4!$DM$2:$DM$8270,Sheet4!$C$2:$C$8270,Sheet3!$B20,Sheet4!$D$2:$D$8270,Sheet3!S$3,Sheet4!$E$2:$E$8270,Sheet3!S$4,Sheet4!$A$2:$A$8270,Sheet3!$B$1,Sheet4!$B$2:$B$8270,Sheet3!$A$3)","v":0},{"$f":"+SUMIFS(Sheet4!$DM$2:$DM$8270,Sheet4!$C$2:$C$8270,Sheet3!$B20,Sheet4!$D$2:$D$8270,Sheet3!T$3,Sheet4!$E$2:$E$8270,Sheet3!T$4,Sheet4!$A$2:$A$8270,Sheet3!$B$1,Sheet4!$B$2:$B$8270,Sheet3!$A$3)","v":0},{"$f":"+SUMIFS(Sheet4!$DM$2:$DM$8270,Sheet4!$C$2:$C$8270,Sheet3!$B20,Sheet4!$D$2:$D$8270,Sheet3!U$3,Sheet4!$E$2:$E$8270,Sheet3!U$4,Sheet4!$A$2:$A$8270,Sheet3!$B$1,Sheet4!$B$2:$B$8270,Sheet3!$A$3)","v":0},{"$f":"+SUMIFS(Sheet4!$DM$2:$DM$8270,Sheet4!$C$2:$C$8270,Sheet3!$B20,Sheet4!$D$2:$D$8270,Sheet3!V$3,Sheet4!$E$2:$E$8270,Sheet3!V$4,Sheet4!$A$2:$A$8270,Sheet3!$B$1,Sheet4!$B$2:$B$8270,Sheet3!$A$3)","v":0},{"$f":"+SUMIFS(Sheet4!$DM$2:$DM$8270,Sheet4!$C$2:$C$8270,Sheet3!$B20,Sheet4!$D$2:$D$8270,Sheet3!W$3,Sheet4!$E$2:$E$8270,Sheet3!W$4,Sheet4!$A$2:$A$8270,Sheet3!$B$1,Sheet4!$B$2:$B$8270,Sheet3!$A$3)","v":0},{"$f":"+SUMIFS(Sheet4!$DM$2:$DM$8270,Sheet4!$C$2:$C$8270,Sheet3!$B20,Sheet4!$D$2:$D$8270,Sheet3!X$3,Sheet4!$E$2:$E$8270,Sheet3!X$4,Sheet4!$A$2:$A$8270,Sheet3!$B$1,Sheet4!$B$2:$B$8270,Sheet3!$A$3)","v":0},{"$f":"+SUMIFS(Sheet4!$DM$2:$DM$8270,Sheet4!$C$2:$C$8270,Sheet3!$B20,Sheet4!$D$2:$D$8270,Sheet3!Y$3,Sheet4!$E$2:$E$8270,Sheet3!Y$4,Sheet4!$A$2:$A$8270,Sheet3!$B$1,Sheet4!$B$2:$B$8270,Sheet3!$A$3)","v":0},{"$f":"+SUMIFS(Sheet4!$DM$2:$DM$8270,Sheet4!$C$2:$C$8270,Sheet3!$B20,Sheet4!$D$2:$D$8270,Sheet3!Z$3,Sheet4!$E$2:$E$8270,Sheet3!Z$4,Sheet4!$A$2:$A$8270,Sheet3!$B$1,Sheet4!$B$2:$B$8270,Sheet3!$A$3)","v":0},{"$f":"+SUMIFS(Sheet4!$DM$2:$DM$8270,Sheet4!$C$2:$C$8270,Sheet3!$B20,Sheet4!$D$2:$D$8270,Sheet3!AA$3,Sheet4!$E$2:$E$8270,Sheet3!AA$4,Sheet4!$A$2:$A$8270,Sheet3!$B$1,Sheet4!$B$2:$B$8270,Sheet3!$A$3)","v":0},{"$f":"+SUMIFS(Sheet4!$DM$2:$DM$8270,Sheet4!$C$2:$C$8270,Sheet3!$B20,Sheet4!$D$2:$D$8270,Sheet3!AB$3,Sheet4!$E$2:$E$8270,Sheet3!AB$4,Sheet4!$A$2:$A$8270,Sheet3!$B$1,Sheet4!$B$2:$B$8270,Sheet3!$A$3)","v":0},{"$f":"+SUMIFS(Sheet4!$DM$2:$DM$8270,Sheet4!$C$2:$C$8270,Sheet3!$B20,Sheet4!$D$2:$D$8270,Sheet3!AC$3,Sheet4!$E$2:$E$8270,Sheet3!AC$4,Sheet4!$A$2:$A$8270,Sheet3!$B$1,Sheet4!$B$2:$B$8270,Sheet3!$A$3)","v":788},{"$f":"+SUMIFS(Sheet4!$DM$2:$DM$8270,Sheet4!$C$2:$C$8270,Sheet3!$B20,Sheet4!$D$2:$D$8270,Sheet3!AD$3,Sheet4!$E$2:$E$8270,Sheet3!AD$4,Sheet4!$A$2:$A$8270,Sheet3!$B$1,Sheet4!$B$2:$B$8270,Sheet3!$A$3)","v":13},{"$f":"+SUMIFS(Sheet4!$DM$2:$DM$8270,Sheet4!$C$2:$C$8270,Sheet3!$B20,Sheet4!$D$2:$D$8270,Sheet3!AE$3,Sheet4!$E$2:$E$8270,Sheet3!AE$4,Sheet4!$A$2:$A$8270,Sheet3!$B$1,Sheet4!$B$2:$B$8270,Sheet3!$A$3)","v":0},{"$f":"+SUMIFS(Sheet4!$DM$2:$DM$8270,Sheet4!$C$2:$C$8270,Sheet3!$B20,Sheet4!$D$2:$D$8270,Sheet3!AF$3,Sheet4!$E$2:$E$8270,Sheet3!AF$4,Sheet4!$A$2:$A$8270,Sheet3!$B$1,Sheet4!$B$2:$B$8270,Sheet3!$A$3)","v":0},{"$f":"+SUMIFS(Sheet4!$DM$2:$DM$8270,Sheet4!$C$2:$C$8270,Sheet3!$B20,Sheet4!$D$2:$D$8270,Sheet3!AG$3,Sheet4!$E$2:$E$8270,Sheet3!AG$4,Sheet4!$A$2:$A$8270,Sheet3!$B$1,Sheet4!$B$2:$B$8270,Sheet3!$A$3)","v":0},{"$f":"+SUMIFS(Sheet4!$DM$2:$DM$8270,Sheet4!$C$2:$C$8270,Sheet3!$B20,Sheet4!$D$2:$D$8270,Sheet3!AH$3,Sheet4!$E$2:$E$8270,Sheet3!AH$4,Sheet4!$A$2:$A$8270,Sheet3!$B$1,Sheet4!$B$2:$B$8270,Sheet3!$A$3)","v":257},{"$f":"+SUMIFS(Sheet4!$DM$2:$DM$8270,Sheet4!$C$2:$C$8270,Sheet3!$B20,Sheet4!$D$2:$D$8270,Sheet3!AI$3,Sheet4!$E$2:$E$8270,Sheet3!AI$4,Sheet4!$A$2:$A$8270,Sheet3!$B$1,Sheet4!$B$2:$B$8270,Sheet3!$A$3)","v":122},{"$f":"+SUMIFS(Sheet4!$DM$2:$DM$8270,Sheet4!$C$2:$C$8270,Sheet3!$B20,Sheet4!$D$2:$D$8270,Sheet3!AJ$3,Sheet4!$E$2:$E$8270,Sheet3!AJ$4,Sheet4!$A$2:$A$8270,Sheet3!$B$1,Sheet4!$B$2:$B$8270,Sheet3!$A$3)","v":14},{"$f":"+SUMIFS(Sheet4!$DM$2:$DM$8270,Sheet4!$C$2:$C$8270,Sheet3!$B20,Sheet4!$D$2:$D$8270,Sheet3!AK$3,Sheet4!$E$2:$E$8270,Sheet3!AK$4,Sheet4!$A$2:$A$8270,Sheet3!$B$1,Sheet4!$B$2:$B$8270,Sheet3!$A$3)","v":0},{"$f":"+SUMIFS(Sheet4!$DM$2:$DM$8270,Sheet4!$C$2:$C$8270,Sheet3!$B20,Sheet4!$D$2:$D$8270,Sheet3!AL$3,Sheet4!$E$2:$E$8270,Sheet3!AL$4,Sheet4!$A$2:$A$8270,Sheet3!$B$1,Sheet4!$B$2:$B$8270,Sheet3!$A$3)","v":0},{"$f":"+SUMIFS(Sheet4!$DM$2:$DM$8270,Sheet4!$C$2:$C$8270,Sheet3!$B20,Sheet4!$D$2:$D$8270,Sheet3!AM$3,Sheet4!$E$2:$E$8270,Sheet3!AM$4,Sheet4!$A$2:$A$8270,Sheet3!$B$1,Sheet4!$B$2:$B$8270,Sheet3!$A$3)","v":391},{"$f":"+SUMIFS(Sheet4!$DM$2:$DM$8270,Sheet4!$C$2:$C$8270,Sheet3!$B20,Sheet4!$D$2:$D$8270,Sheet3!AN$3,Sheet4!$E$2:$E$8270,Sheet3!AN$4,Sheet4!$A$2:$A$8270,Sheet3!$B$1,Sheet4!$B$2:$B$8270,Sheet3!$A$3)","v":65},{"$f":"+SUMIFS(Sheet4!$DM$2:$DM$8270,Sheet4!$C$2:$C$8270,Sheet3!$B20,Sheet4!$D$2:$D$8270,Sheet3!AO$3,Sheet4!$E$2:$E$8270,Sheet3!AO$4,Sheet4!$A$2:$A$8270,Sheet3!$B$1,Sheet4!$B$2:$B$8270,Sheet3!$A$3)","v":5},{"$f":"+SUMIFS(Sheet4!$DM$2:$DM$8270,Sheet4!$C$2:$C$8270,Sheet3!$B20,Sheet4!$D$2:$D$8270,Sheet3!AP$3,Sheet4!$E$2:$E$8270,Sheet3!AP$4,Sheet4!$A$2:$A$8270,Sheet3!$B$1,Sheet4!$B$2:$B$8270,Sheet3!$A$3)","v":0},{"$f":"+SUMIFS(Sheet4!$DM$2:$DM$8270,Sheet4!$C$2:$C$8270,Sheet3!$B20,Sheet4!$D$2:$D$8270,Sheet3!AQ$3,Sheet4!$E$2:$E$8270,Sheet3!AQ$4,Sheet4!$A$2:$A$8270,Sheet3!$B$1,Sheet4!$B$2:$B$8270,Sheet3!$A$3)","v":0},{"$f":"+SUMIFS(Sheet4!$DM$2:$DM$8270,Sheet4!$C$2:$C$8270,Sheet3!$B20,Sheet4!$D$2:$D$8270,Sheet3!AR$3,Sheet4!$E$2:$E$8270,Sheet3!AR$4,Sheet4!$A$2:$A$8270,Sheet3!$B$1,Sheet4!$B$2:$B$8270,Sheet3!$A$3)","v":51},{"$f":"+SUMIFS(Sheet4!$DM$2:$DM$8270,Sheet4!$C$2:$C$8270,Sheet3!$B20,Sheet4!$D$2:$D$8270,Sheet3!AS$3,Sheet4!$E$2:$E$8270,Sheet3!AS$4,Sheet4!$A$2:$A$8270,Sheet3!$B$1,Sheet4!$B$2:$B$8270,Sheet3!$A$3)","v":0},{"$f":"+SUMIFS(Sheet4!$DM$2:$DM$8270,Sheet4!$C$2:$C$8270,Sheet3!$B20,Sheet4!$D$2:$D$8270,Sheet3!AT$3,Sheet4!$E$2:$E$8270,Sheet3!AT$4,Sheet4!$A$2:$A$8270,Sheet3!$B$1,Sheet4!$B$2:$B$8270,Sheet3!$A$3)","v":0},{"$f":"+SUMIFS(Sheet4!$DM$2:$DM$8270,Sheet4!$C$2:$C$8270,Sheet3!$B20,Sheet4!$D$2:$D$8270,Sheet3!AU$3,Sheet4!$E$2:$E$8270,Sheet3!AU$4,Sheet4!$A$2:$A$8270,Sheet3!$B$1,Sheet4!$B$2:$B$8270,Sheet3!$A$3)","v":0},{"$f":"+SUMIFS(Sheet4!$DM$2:$DM$8270,Sheet4!$C$2:$C$8270,Sheet3!$B20,Sheet4!$D$2:$D$8270,Sheet3!AV$3,Sheet4!$E$2:$E$8270,Sheet3!AV$4,Sheet4!$A$2:$A$8270,Sheet3!$B$1,Sheet4!$B$2:$B$8270,Sheet3!$A$3)","v":0},{"$f":"+SUMIFS(Sheet4!$DM$2:$DM$8270,Sheet4!$C$2:$C$8270,Sheet3!$B20,Sheet4!$D$2:$D$8270,Sheet3!AW$3,Sheet4!$E$2:$E$8270,Sheet3!AW$4,Sheet4!$A$2:$A$8270,Sheet3!$B$1,Sheet4!$B$2:$B$8270,Sheet3!$A$3)","v":2704},{"$f":"+SUMIFS(Sheet4!$DM$2:$DM$8270,Sheet4!$C$2:$C$8270,Sheet3!$B20,Sheet4!$D$2:$D$8270,Sheet3!AX$3,Sheet4!$E$2:$E$8270,Sheet3!AX$4,Sheet4!$A$2:$A$8270,Sheet3!$B$1,Sheet4!$B$2:$B$8270,Sheet3!$A$3)","v":157},{"$f":"+SUMIFS(Sheet4!$DM$2:$DM$8270,Sheet4!$C$2:$C$8270,Sheet3!$B20,Sheet4!$D$2:$D$8270,Sheet3!AY$3,Sheet4!$E$2:$E$8270,Sheet3!AY$4,Sheet4!$A$2:$A$8270,Sheet3!$B$1,Sheet4!$B$2:$B$8270,Sheet3!$A$3)","v":6},{"$f":"+SUMIFS(Sheet4!$DM$2:$DM$8270,Sheet4!$C$2:$C$8270,Sheet3!$B20,Sheet4!$D$2:$D$8270,Sheet3!AZ$3,Sheet4!$E$2:$E$8270,Sheet3!AZ$4,Sheet4!$A$2:$A$8270,Sheet3!$B$1,Sheet4!$B$2:$B$8270,Sheet3!$A$3)","v":0},{"$f":"+SUMIFS(Sheet4!$DM$2:$DM$8270,Sheet4!$C$2:$C$8270,Sheet3!$B20,Sheet4!$D$2:$D$8270,Sheet3!BA$3,Sheet4!$E$2:$E$8270,Sheet3!BA$4,Sheet4!$A$2:$A$8270,Sheet3!$B$1,Sheet4!$B$2:$B$8270,Sheet3!$A$3)","v":0},{"$f":"+SUMIFS(Sheet4!$DM$2:$DM$8270,Sheet4!$C$2:$C$8270,Sheet3!$B20,Sheet4!$D$2:$D$8270,Sheet3!BB$3,Sheet4!$E$2:$E$8270,Sheet3!BB$4,Sheet4!$A$2:$A$8270,Sheet3!$B$1,Sheet4!$B$2:$B$8270,Sheet3!$A$3)","v":42},{"$f":"+SUMIFS(Sheet4!$DM$2:$DM$8270,Sheet4!$C$2:$C$8270,Sheet3!$B20,Sheet4!$D$2:$D$8270,Sheet3!BC$3,Sheet4!$E$2:$E$8270,Sheet3!BC$4,Sheet4!$A$2:$A$8270,Sheet3!$B$1,Sheet4!$B$2:$B$8270,Sheet3!$A$3)","v":25},{"$f":"+SUMIFS(Sheet4!$DM$2:$DM$8270,Sheet4!$C$2:$C$8270,Sheet3!$B20,Sheet4!$D$2:$D$8270,Sheet3!BD$3,Sheet4!$E$2:$E$8270,Sheet3!BD$4,Sheet4!$A$2:$A$8270,Sheet3!$B$1,Sheet4!$B$2:$B$8270,Sheet3!$A$3)","v":0},{"$f":"+SUMIFS(Sheet4!$DM$2:$DM$8270,Sheet4!$C$2:$C$8270,Sheet3!$B20,Sheet4!$D$2:$D$8270,Sheet3!BE$3,Sheet4!$E$2:$E$8270,Sheet3!BE$4,Sheet4!$A$2:$A$8270,Sheet3!$B$1,Sheet4!$B$2:$B$8270,Sheet3!$A$3)","v":0},{"$f":"+SUMIFS(Sheet4!$DM$2:$DM$8270,Sheet4!$C$2:$C$8270,Sheet3!$B20,Sheet4!$D$2:$D$8270,Sheet3!BF$3,Sheet4!$E$2:$E$8270,Sheet3!BF$4,Sheet4!$A$2:$A$8270,Sheet3!$B$1,Sheet4!$B$2:$B$8270,Sheet3!$A$3)","v":0},{"$f":"+SUMIFS(Sheet4!$DM$2:$DM$8270,Sheet4!$C$2:$C$8270,Sheet3!$B20,Sheet4!$D$2:$D$8270,Sheet3!BG$3,Sheet4!$E$2:$E$8270,Sheet3!BG$4,Sheet4!$A$2:$A$8270,Sheet3!$B$1,Sheet4!$B$2:$B$8270,Sheet3!$A$3)","v":117},{"$f":"+SUMIFS(Sheet4!$DM$2:$DM$8270,Sheet4!$C$2:$C$8270,Sheet3!$B20,Sheet4!$D$2:$D$8270,Sheet3!BH$3,Sheet4!$E$2:$E$8270,Sheet3!BH$4,Sheet4!$A$2:$A$8270,Sheet3!$B$1,Sheet4!$B$2:$B$8270,Sheet3!$A$3)","v":48},{"$f":"+SUMIFS(Sheet4!$DM$2:$DM$8270,Sheet4!$C$2:$C$8270,Sheet3!$B20,Sheet4!$D$2:$D$8270,Sheet3!BI$3,Sheet4!$E$2:$E$8270,Sheet3!BI$4,Sheet4!$A$2:$A$8270,Sheet3!$B$1,Sheet4!$B$2:$B$8270,Sheet3!$A$3)","v":5},{"$f":"+SUMIFS(Sheet4!$DM$2:$DM$8270,Sheet4!$C$2:$C$8270,Sheet3!$B20,Sheet4!$D$2:$D$8270,Sheet3!BJ$3,Sheet4!$E$2:$E$8270,Sheet3!BJ$4,Sheet4!$A$2:$A$8270,Sheet3!$B$1,Sheet4!$B$2:$B$8270,Sheet3!$A$3)","v":0},{"$f":"+SUMIFS(Sheet4!$DM$2:$DM$8270,Sheet4!$C$2:$C$8270,Sheet3!$B20,Sheet4!$D$2:$D$8270,Sheet3!BK$3,Sheet4!$E$2:$E$8270,Sheet3!BK$4,Sheet4!$A$2:$A$8270,Sheet3!$B$1,Sheet4!$B$2:$B$8270,Sheet3!$A$3)","v":0},{"$f":"+SUMIFS(Sheet4!$DM$2:$DM$8270,Sheet4!$C$2:$C$8270,Sheet3!$B20,Sheet4!$D$2:$D$8270,Sheet3!BL$3,Sheet4!$E$2:$E$8270,Sheet3!BL$4,Sheet4!$A$2:$A$8270,Sheet3!$B$1,Sheet4!$B$2:$B$8270,Sheet3!$A$3)","v":54},{"$f":"+SUMIFS(Sheet4!$DM$2:$DM$8270,Sheet4!$C$2:$C$8270,Sheet3!$B20,Sheet4!$D$2:$D$8270,Sheet3!BM$3,Sheet4!$E$2:$E$8270,Sheet3!BM$4,Sheet4!$A$2:$A$8270,Sheet3!$B$1,Sheet4!$B$2:$B$8270,Sheet3!$A$3)","v":88},{"$f":"+SUMIFS(Sheet4!$DM$2:$DM$8270,Sheet4!$C$2:$C$8270,Sheet3!$B20,Sheet4!$D$2:$D$8270,Sheet3!BN$3,Sheet4!$E$2:$E$8270,Sheet3!BN$4,Sheet4!$A$2:$A$8270,Sheet3!$B$1,Sheet4!$B$2:$B$8270,Sheet3!$A$3)","v":10},{"$f":"+SUMIFS(Sheet4!$DM$2:$DM$8270,Sheet4!$C$2:$C$8270,Sheet3!$B20,Sheet4!$D$2:$D$8270,Sheet3!BO$3,Sheet4!$E$2:$E$8270,Sheet3!BO$4,Sheet4!$A$2:$A$8270,Sheet3!$B$1,Sheet4!$B$2:$B$8270,Sheet3!$A$3)","v":0},{"$f":"+SUMIFS(Sheet4!$DM$2:$DM$8270,Sheet4!$C$2:$C$8270,Sheet3!$B20,Sheet4!$D$2:$D$8270,Sheet3!BP$3,Sheet4!$E$2:$E$8270,Sheet3!BP$4,Sheet4!$A$2:$A$8270,Sheet3!$B$1,Sheet4!$B$2:$B$8270,Sheet3!$A$3)","v":0},{"$f":"+SUMIFS(Sheet4!$DM$2:$DM$8270,Sheet4!$C$2:$C$8270,Sheet3!$B20,Sheet4!$D$2:$D$8270,Sheet3!BQ$3,Sheet4!$E$2:$E$8270,Sheet3!BQ$4,Sheet4!$A$2:$A$8270,Sheet3!$B$1,Sheet4!$B$2:$B$8270,Sheet3!$A$3)","v":680},{"$f":"+SUMIFS(Sheet4!$DM$2:$DM$8270,Sheet4!$C$2:$C$8270,Sheet3!$B20,Sheet4!$D$2:$D$8270,Sheet3!BR$3,Sheet4!$E$2:$E$8270,Sheet3!BR$4,Sheet4!$A$2:$A$8270,Sheet3!$B$1,Sheet4!$B$2:$B$8270,Sheet3!$A$3)","v":194},{"$f":"+SUMIFS(Sheet4!$DM$2:$DM$8270,Sheet4!$C$2:$C$8270,Sheet3!$B20,Sheet4!$D$2:$D$8270,Sheet3!BS$3,Sheet4!$E$2:$E$8270,Sheet3!BS$4,Sheet4!$A$2:$A$8270,Sheet3!$B$1,Sheet4!$B$2:$B$8270,Sheet3!$A$3)","v":23},{"$f":"+SUMIFS(Sheet4!$DM$2:$DM$8270,Sheet4!$C$2:$C$8270,Sheet3!$B20,Sheet4!$D$2:$D$8270,Sheet3!BT$3,Sheet4!$E$2:$E$8270,Sheet3!BT$4,Sheet4!$A$2:$A$8270,Sheet3!$B$1,Sheet4!$B$2:$B$8270,Sheet3!$A$3)","v":0},{"$f":"+SUMIFS(Sheet4!$DM$2:$DM$8270,Sheet4!$C$2:$C$8270,Sheet3!$B20,Sheet4!$D$2:$D$8270,Sheet3!BU$3,Sheet4!$E$2:$E$8270,Sheet3!BU$4,Sheet4!$A$2:$A$8270,Sheet3!$B$1,Sheet4!$B$2:$B$8270,Sheet3!$A$3)","v":0},{"$f":"+SUMIFS(Sheet4!$DM$2:$DM$8270,Sheet4!$C$2:$C$8270,Sheet3!$B20,Sheet4!$D$2:$D$8270,Sheet3!BV$3,Sheet4!$E$2:$E$8270,Sheet3!BV$4,Sheet4!$A$2:$A$8270,Sheet3!$B$1,Sheet4!$B$2:$B$8270,Sheet3!$A$3)","v":1057},{"$f":"+SUMIFS(Sheet4!$DM$2:$DM$8270,Sheet4!$C$2:$C$8270,Sheet3!$B20,Sheet4!$D$2:$D$8270,Sheet3!BW$3,Sheet4!$E$2:$E$8270,Sheet3!BW$4,Sheet4!$A$2:$A$8270,Sheet3!$B$1,Sheet4!$B$2:$B$8270,Sheet3!$A$3)","v":115},{"$f":"+SUMIFS(Sheet4!$DM$2:$DM$8270,Sheet4!$C$2:$C$8270,Sheet3!$B20,Sheet4!$D$2:$D$8270,Sheet3!BX$3,Sheet4!$E$2:$E$8270,Sheet3!BX$4,Sheet4!$A$2:$A$8270,Sheet3!$B$1,Sheet4!$B$2:$B$8270,Sheet3!$A$3)","v":6},{"$f":"+SUMIFS(Sheet4!$DM$2:$DM$8270,Sheet4!$C$2:$C$8270,Sheet3!$B20,Sheet4!$D$2:$D$8270,Sheet3!BY$3,Sheet4!$E$2:$E$8270,Sheet3!BY$4,Sheet4!$A$2:$A$8270,Sheet3!$B$1,Sheet4!$B$2:$B$8270,Sheet3!$A$3)","v":0},{"$f":"+SUMIFS(Sheet4!$DM$2:$DM$8270,Sheet4!$C$2:$C$8270,Sheet3!$B20,Sheet4!$D$2:$D$8270,Sheet3!BZ$3,Sheet4!$E$2:$E$8270,Sheet3!BZ$4,Sheet4!$A$2:$A$8270,Sheet3!$B$1,Sheet4!$B$2:$B$8270,Sheet3!$A$3)","v":0},{"$f":"+SUMIFS(Sheet4!$DM$2:$DM$8270,Sheet4!$C$2:$C$8270,Sheet3!$B20,Sheet4!$D$2:$D$8270,Sheet3!CA$3,Sheet4!$E$2:$E$8270,Sheet3!CA$4,Sheet4!$A$2:$A$8270,Sheet3!$B$1,Sheet4!$B$2:$B$8270,Sheet3!$A$3)","v":132},{"$f":"+SUMIFS(Sheet4!$DM$2:$DM$8270,Sheet4!$C$2:$C$8270,Sheet3!$B20,Sheet4!$D$2:$D$8270,Sheet3!CB$3,Sheet4!$E$2:$E$8270,Sheet3!CB$4,Sheet4!$A$2:$A$8270,Sheet3!$B$1,Sheet4!$B$2:$B$8270,Sheet3!$A$3)","v":7},{"$f":"+SUMIFS(Sheet4!$DM$2:$DM$8270,Sheet4!$C$2:$C$8270,Sheet3!$B20,Sheet4!$D$2:$D$8270,Sheet3!CC$3,Sheet4!$E$2:$E$8270,Sheet3!CC$4,Sheet4!$A$2:$A$8270,Sheet3!$B$1,Sheet4!$B$2:$B$8270,Sheet3!$A$3)","v":0},{"$f":"+SUMIFS(Sheet4!$DM$2:$DM$8270,Sheet4!$C$2:$C$8270,Sheet3!$B20,Sheet4!$D$2:$D$8270,Sheet3!CD$3,Sheet4!$E$2:$E$8270,Sheet3!CD$4,Sheet4!$A$2:$A$8270,Sheet3!$B$1,Sheet4!$B$2:$B$8270,Sheet3!$A$3)","v":0},{"$f":"+SUMIFS(Sheet4!$DM$2:$DM$8270,Sheet4!$C$2:$C$8270,Sheet3!$B20,Sheet4!$D$2:$D$8270,Sheet3!CE$3,Sheet4!$E$2:$E$8270,Sheet3!CE$4,Sheet4!$A$2:$A$8270,Sheet3!$B$1,Sheet4!$B$2:$B$8270,Sheet3!$A$3)","v":0},{"$f":"+SUMIFS(Sheet4!$DM$2:$DM$8270,Sheet4!$C$2:$C$8270,Sheet3!$B20,Sheet4!$D$2:$D$8270,Sheet3!CF$3,Sheet4!$E$2:$E$8270,Sheet3!CF$4,Sheet4!$A$2:$A$8270,Sheet3!$B$1,Sheet4!$B$2:$B$8270,Sheet3!$A$3)","v":0},{"$f":"+SUMIFS(Sheet4!$DM$2:$DM$8270,Sheet4!$C$2:$C$8270,Sheet3!$B20,Sheet4!$D$2:$D$8270,Sheet3!CG$3,Sheet4!$E$2:$E$8270,Sheet3!CG$4,Sheet4!$A$2:$A$8270,Sheet3!$B$1,Sheet4!$B$2:$B$8270,Sheet3!$A$3)","v":0},{"$f":"+SUMIFS(Sheet4!$DM$2:$DM$8270,Sheet4!$C$2:$C$8270,Sheet3!$B20,Sheet4!$D$2:$D$8270,Sheet3!CH$3,Sheet4!$E$2:$E$8270,Sheet3!CH$4,Sheet4!$A$2:$A$8270,Sheet3!$B$1,Sheet4!$B$2:$B$8270,Sheet3!$A$3)","v":0},{"$f":"+SUMIFS(Sheet4!$DM$2:$DM$8270,Sheet4!$C$2:$C$8270,Sheet3!$B20,Sheet4!$D$2:$D$8270,Sheet3!CI$3,Sheet4!$E$2:$E$8270,Sheet3!CI$4,Sheet4!$A$2:$A$8270,Sheet3!$B$1,Sheet4!$B$2:$B$8270,Sheet3!$A$3)","v":0},{"$f":"+SUMIFS(Sheet4!$DM$2:$DM$8270,Sheet4!$C$2:$C$8270,Sheet3!$B20,Sheet4!$D$2:$D$8270,Sheet3!CJ$3,Sheet4!$E$2:$E$8270,Sheet3!CJ$4,Sheet4!$A$2:$A$8270,Sheet3!$B$1,Sheet4!$B$2:$B$8270,Sheet3!$A$3)","v":0},{"$f":"+SUMIFS(Sheet4!$DM$2:$DM$8270,Sheet4!$C$2:$C$8270,Sheet3!$B20,Sheet4!$D$2:$D$8270,Sheet3!CK$3,Sheet4!$E$2:$E$8270,Sheet3!CK$4,Sheet4!$A$2:$A$8270,Sheet3!$B$1,Sheet4!$B$2:$B$8270,Sheet3!$A$3)","v":44},{"$f":"+SUMIFS(Sheet4!$DM$2:$DM$8270,Sheet4!$C$2:$C$8270,Sheet3!$B20,Sheet4!$D$2:$D$8270,Sheet3!CL$3,Sheet4!$E$2:$E$8270,Sheet3!CL$4,Sheet4!$A$2:$A$8270,Sheet3!$B$1,Sheet4!$B$2:$B$8270,Sheet3!$A$3)","v":0},{"$f":"+SUMIFS(Sheet4!$DM$2:$DM$8270,Sheet4!$C$2:$C$8270,Sheet3!$B20,Sheet4!$D$2:$D$8270,Sheet3!CM$3,Sheet4!$E$2:$E$8270,Sheet3!CM$4,Sheet4!$A$2:$A$8270,Sheet3!$B$1,Sheet4!$B$2:$B$8270,Sheet3!$A$3)","v":0},{"$f":"+SUMIFS(Sheet4!$DM$2:$DM$8270,Sheet4!$C$2:$C$8270,Sheet3!$B20,Sheet4!$D$2:$D$8270,Sheet3!CN$3,Sheet4!$E$2:$E$8270,Sheet3!CN$4,Sheet4!$A$2:$A$8270,Sheet3!$B$1,Sheet4!$B$2:$B$8270,Sheet3!$A$3)","v":0},{"$f":"+SUMIFS(Sheet4!$DM$2:$DM$8270,Sheet4!$C$2:$C$8270,Sheet3!$B20,Sheet4!$D$2:$D$8270,Sheet3!CO$3,Sheet4!$E$2:$E$8270,Sheet3!CO$4,Sheet4!$A$2:$A$8270,Sheet3!$B$1,Sheet4!$B$2:$B$8270,Sheet3!$A$3)","v":0},{"$f":"+IF(SUMIFS(Sheet4!$DN$2:$DN$8270,Sheet4!$C$2:$C$8270,Sheet3!$B20,Sheet4!$D$2:$D$8270,Sheet3!CP$3,Sheet4!$A$2:$A$8270,Sheet3!$B$1,Sheet4!$B$2:$B$8270,Sheet3!$A$3)<3,0,SUMIFS(Sheet4!$DN$2:$DN$8270,Sheet4!$C$2:$C$8270,Sheet3!$B20,Sheet4!$D$2:$D$8270,Sheet3!CP$3,Sheet4!$A$2:$A$8270,Sheet3!$B$1,Sheet4!$B$2:$B$8270,Sheet3!$A$3))","v":20},{"$f":"+IF(SUMIFS(Sheet4!$DN$2:$DN$8270,Sheet4!$C$2:$C$8270,Sheet3!$B20,Sheet4!$D$2:$D$8270,Sheet3!CQ$3,Sheet4!$A$2:$A$8270,Sheet3!$B$1,Sheet4!$B$2:$B$8270,Sheet3!$A$3)<3,0,SUMIFS(Sheet4!$DN$2:$DN$8270,Sheet4!$C$2:$C$8270,Sheet3!$B20,Sheet4!$D$2:$D$8270,Sheet3!CQ$3,Sheet4!$A$2:$A$8270,Sheet3!$B$1,Sheet4!$B$2:$B$8270,Sheet3!$A$3))","v":404},{"$f":"+IF(SUMIFS(Sheet4!$DN$2:$DN$8270,Sheet4!$C$2:$C$8270,Sheet3!$B20,Sheet4!$D$2:$D$8270,Sheet3!CR$3,Sheet4!$A$2:$A$8270,Sheet3!$B$1,Sheet4!$B$2:$B$8270,Sheet3!$A$3)<3,0,SUMIFS(Sheet4!$DN$2:$DN$8270,Sheet4!$C$2:$C$8270,Sheet3!$B20,Sheet4!$D$2:$D$8270,Sheet3!CR$3,Sheet4!$A$2:$A$8270,Sheet3!$B$1,Sheet4!$B$2:$B$8270,Sheet3!$A$3))","v":295},{"$f":"+IF(SUMIFS(Sheet4!$DN$2:$DN$8270,Sheet4!$C$2:$C$8270,Sheet3!$B20,Sheet4!$D$2:$D$8270,Sheet3!CS$3,Sheet4!$A$2:$A$8270,Sheet3!$B$1,Sheet4!$B$2:$B$8270,Sheet3!$A$3)<3,0,SUMIFS(Sheet4!$DN$2:$DN$8270,Sheet4!$C$2:$C$8270,Sheet3!$B20,Sheet4!$D$2:$D$8270,Sheet3!CS$3,Sheet4!$A$2:$A$8270,Sheet3!$B$1,Sheet4!$B$2:$B$8270,Sheet3!$A$3))","v":0},{"$f":"+IF(SUMIFS(Sheet4!$DN$2:$DN$8270,Sheet4!$C$2:$C$8270,Sheet3!$B20,Sheet4!$D$2:$D$8270,Sheet3!CT$3,Sheet4!$A$2:$A$8270,Sheet3!$B$1,Sheet4!$B$2:$B$8270,Sheet3!$A$3)<3,0,SUMIFS(Sheet4!$DN$2:$DN$8270,Sheet4!$C$2:$C$8270,Sheet3!$B20,Sheet4!$D$2:$D$8270,Sheet3!CT$3,Sheet4!$A$2:$A$8270,Sheet3!$B$1,Sheet4!$B$2:$B$8270,Sheet3!$A$3))","v":0},{"$f":"+IF(SUMIFS(Sheet4!$DN$2:$DN$8270,Sheet4!$C$2:$C$8270,Sheet3!$B20,Sheet4!$D$2:$D$8270,Sheet3!CU$3,Sheet4!$A$2:$A$8270,Sheet3!$B$1,Sheet4!$B$2:$B$8270,Sheet3!$A$3)<3,0,SUMIFS(Sheet4!$DN$2:$DN$8270,Sheet4!$C$2:$C$8270,Sheet3!$B20,Sheet4!$D$2:$D$8270,Sheet3!CU$3,Sheet4!$A$2:$A$8270,Sheet3!$B$1,Sheet4!$B$2:$B$8270,Sheet3!$A$3))","v":805},{"$f":"+IF(SUMIFS(Sheet4!$DN$2:$DN$8270,Sheet4!$C$2:$C$8270,Sheet3!$B20,Sheet4!$D$2:$D$8270,Sheet3!CV$3,Sheet4!$A$2:$A$8270,Sheet3!$B$1,Sheet4!$B$2:$B$8270,Sheet3!$A$3)<3,0,SUMIFS(Sheet4!$DN$2:$DN$8270,Sheet4!$C$2:$C$8270,Sheet3!$B20,Sheet4!$D$2:$D$8270,Sheet3!CV$3,Sheet4!$A$2:$A$8270,Sheet3!$B$1,Sheet4!$B$2:$B$8270,Sheet3!$A$3))","v":394},{"$f":"+IF(SUMIFS(Sheet4!$DN$2:$DN$8270,Sheet4!$C$2:$C$8270,Sheet3!$B20,Sheet4!$D$2:$D$8270,Sheet3!CW$3,Sheet4!$A$2:$A$8270,Sheet3!$B$1,Sheet4!$B$2:$B$8270,Sheet3!$A$3)<3,0,SUMIFS(Sheet4!$DN$2:$DN$8270,Sheet4!$C$2:$C$8270,Sheet3!$B20,Sheet4!$D$2:$D$8270,Sheet3!CW$3,Sheet4!$A$2:$A$8270,Sheet3!$B$1,Sheet4!$B$2:$B$8270,Sheet3!$A$3))","v":461},{"$f":"+IF(SUMIFS(Sheet4!$DN$2:$DN$8270,Sheet4!$C$2:$C$8270,Sheet3!$B20,Sheet4!$D$2:$D$8270,Sheet3!CX$3,Sheet4!$A$2:$A$8270,Sheet3!$B$1,Sheet4!$B$2:$B$8270,Sheet3!$A$3)<3,0,SUMIFS(Sheet4!$DN$2:$DN$8270,Sheet4!$C$2:$C$8270,Sheet3!$B20,Sheet4!$D$2:$D$8270,Sheet3!CX$3,Sheet4!$A$2:$A$8270,Sheet3!$B$1,Sheet4!$B$2:$B$8270,Sheet3!$A$3))","v":54},{"$f":"+IF(SUMIFS(Sheet4!$DN$2:$DN$8270,Sheet4!$C$2:$C$8270,Sheet3!$B20,Sheet4!$D$2:$D$8270,Sheet3!CY$3,Sheet4!$A$2:$A$8270,Sheet3!$B$1,Sheet4!$B$2:$B$8270,Sheet3!$A$3)<3,0,SUMIFS(Sheet4!$DN$2:$DN$8270,Sheet4!$C$2:$C$8270,Sheet3!$B20,Sheet4!$D$2:$D$8270,Sheet3!CY$3,Sheet4!$A$2:$A$8270,Sheet3!$B$1,Sheet4!$B$2:$B$8270,Sheet3!$A$3))","v":2868},{"$f":"+IF(SUMIFS(Sheet4!$DN$2:$DN$8270,Sheet4!$C$2:$C$8270,Sheet3!$B20,Sheet4!$D$2:$D$8270,Sheet3!CZ$3,Sheet4!$A$2:$A$8270,Sheet3!$B$1,Sheet4!$B$2:$B$8270,Sheet3!$A$3)<3,0,SUMIFS(Sheet4!$DN$2:$DN$8270,Sheet4!$C$2:$C$8270,Sheet3!$B20,Sheet4!$D$2:$D$8270,Sheet3!CZ$3,Sheet4!$A$2:$A$8270,Sheet3!$B$1,Sheet4!$B$2:$B$8270,Sheet3!$A$3))","v":72},{"$f":"+IF(SUMIFS(Sheet4!$DN$2:$DN$8270,Sheet4!$C$2:$C$8270,Sheet3!$B20,Sheet4!$D$2:$D$8270,Sheet3!DA$3,Sheet4!$A$2:$A$8270,Sheet3!$B$1,Sheet4!$B$2:$B$8270,Sheet3!$A$3)<3,0,SUMIFS(Sheet4!$DN$2:$DN$8270,Sheet4!$C$2:$C$8270,Sheet3!$B20,Sheet4!$D$2:$D$8270,Sheet3!DA$3,Sheet4!$A$2:$A$8270,Sheet3!$B$1,Sheet4!$B$2:$B$8270,Sheet3!$A$3))","v":173},{"$f":"+IF(SUMIFS(Sheet4!$DN$2:$DN$8270,Sheet4!$C$2:$C$8270,Sheet3!$B20,Sheet4!$D$2:$D$8270,Sheet3!DB$3,Sheet4!$A$2:$A$8270,Sheet3!$B$1,Sheet4!$B$2:$B$8270,Sheet3!$A$3)<3,0,SUMIFS(Sheet4!$DN$2:$DN$8270,Sheet4!$C$2:$C$8270,Sheet3!$B20,Sheet4!$D$2:$D$8270,Sheet3!DB$3,Sheet4!$A$2:$A$8270,Sheet3!$B$1,Sheet4!$B$2:$B$8270,Sheet3!$A$3))","v":154},{"$f":"+IF(SUMIFS(Sheet4!$DN$2:$DN$8270,Sheet4!$C$2:$C$8270,Sheet3!$B20,Sheet4!$D$2:$D$8270,Sheet3!DC$3,Sheet4!$A$2:$A$8270,Sheet3!$B$1,Sheet4!$B$2:$B$8270,Sheet3!$A$3)<3,0,SUMIFS(Sheet4!$DN$2:$DN$8270,Sheet4!$C$2:$C$8270,Sheet3!$B20,Sheet4!$D$2:$D$8270,Sheet3!DC$3,Sheet4!$A$2:$A$8270,Sheet3!$B$1,Sheet4!$B$2:$B$8270,Sheet3!$A$3))","v":899},{"$f":"+IF(SUMIFS(Sheet4!$DN$2:$DN$8270,Sheet4!$C$2:$C$8270,Sheet3!$B20,Sheet4!$D$2:$D$8270,Sheet3!DD$3,Sheet4!$A$2:$A$8270,Sheet3!$B$1,Sheet4!$B$2:$B$8270,Sheet3!$A$3)<3,0,SUMIFS(Sheet4!$DN$2:$DN$8270,Sheet4!$C$2:$C$8270,Sheet3!$B20,Sheet4!$D$2:$D$8270,Sheet3!DD$3,Sheet4!$A$2:$A$8270,Sheet3!$B$1,Sheet4!$B$2:$B$8270,Sheet3!$A$3))","v":1179},{"$f":"+IF(SUMIFS(Sheet4!$DN$2:$DN$8270,Sheet4!$C$2:$C$8270,Sheet3!$B20,Sheet4!$D$2:$D$8270,Sheet3!DE$3,Sheet4!$A$2:$A$8270,Sheet3!$B$1,Sheet4!$B$2:$B$8270,Sheet3!$A$3)<3,0,SUMIFS(Sheet4!$DN$2:$DN$8270,Sheet4!$C$2:$C$8270,Sheet3!$B20,Sheet4!$D$2:$D$8270,Sheet3!DE$3,Sheet4!$A$2:$A$8270,Sheet3!$B$1,Sheet4!$B$2:$B$8270,Sheet3!$A$3))","v":139},{"$f":"+IF(SUMIFS(Sheet4!$DN$2:$DN$8270,Sheet4!$C$2:$C$8270,Sheet3!$B20,Sheet4!$D$2:$D$8270,Sheet3!DF$3,Sheet4!$A$2:$A$8270,Sheet3!$B$1,Sheet4!$B$2:$B$8270,Sheet3!$A$3)<3,0,SUMIFS(Sheet4!$DN$2:$DN$8270,Sheet4!$C$2:$C$8270,Sheet3!$B20,Sheet4!$D$2:$D$8270,Sheet3!DF$3,Sheet4!$A$2:$A$8270,Sheet3!$B$1,Sheet4!$B$2:$B$8270,Sheet3!$A$3))","v":0},{"$f":"+IF(SUMIFS(Sheet4!$DN$2:$DN$8270,Sheet4!$C$2:$C$8270,Sheet3!$B20,Sheet4!$D$2:$D$8270,Sheet3!DG$3,Sheet4!$A$2:$A$8270,Sheet3!$B$1,Sheet4!$B$2:$B$8270,Sheet3!$A$3)<3,0,SUMIFS(Sheet4!$DN$2:$DN$8270,Sheet4!$C$2:$C$8270,Sheet3!$B20,Sheet4!$D$2:$D$8270,Sheet3!DG$3,Sheet4!$A$2:$A$8270,Sheet3!$B$1,Sheet4!$B$2:$B$8270,Sheet3!$A$3))","v":44},{"$f":"+IF(SUMIFS(Sheet4!$DN$2:$DN$8270,Sheet4!$C$2:$C$8270,Sheet3!$B20,Sheet4!$E$2:$E$8270,Sheet3!DH$4,Sheet4!$A$2:$A$8270,Sheet3!$B$1,Sheet4!$B$2:$B$8270,Sheet3!$A$3)<3,0,SUMIFS(Sheet4!$DN$2:$DN$8270,Sheet4!$C$2:$C$8270,Sheet3!$B20,Sheet4!$E$2:$E$8270,Sheet3!DH$4,Sheet4!$A$2:$A$8270,Sheet3!$B$1,Sheet4!$B$2:$B$8270,Sheet3!$A$3))","v":7013},{"$f":"+IF(SUMIFS(Sheet4!$DN$2:$DN$8270,Sheet4!$C$2:$C$8270,Sheet3!$B20,Sheet4!$E$2:$E$8270,Sheet3!DI$4,Sheet4!$A$2:$A$8270,Sheet3!$B$1,Sheet4!$B$2:$B$8270,Sheet3!$A$3)<3,0,SUMIFS(Sheet4!$DN$2:$DN$8270,Sheet4!$C$2:$C$8270,Sheet3!$B20,Sheet4!$E$2:$E$8270,Sheet3!DI$4,Sheet4!$A$2:$A$8270,Sheet3!$B$1,Sheet4!$B$2:$B$8270,Sheet3!$A$3))","v":873},{"$f":"+IF(SUMIFS(Sheet4!$DN$2:$DN$8270,Sheet4!$C$2:$C$8270,Sheet3!$B20,Sheet4!$E$2:$E$8270,Sheet3!DJ$4,Sheet4!$A$2:$A$8270,Sheet3!$B$1,Sheet4!$B$2:$B$8270,Sheet3!$A$3)<3,0,SUMIFS(Sheet4!$DN$2:$DN$8270,Sheet4!$C$2:$C$8270,Sheet3!$B20,Sheet4!$E$2:$E$8270,Sheet3!DJ$4,Sheet4!$A$2:$A$8270,Sheet3!$B$1,Sheet4!$B$2:$B$8270,Sheet3!$A$3))","v":76},{"$f":"+IF(SUMIFS(Sheet4!$DN$2:$DN$8270,Sheet4!$C$2:$C$8270,Sheet3!$B20,Sheet4!$E$2:$E$8270,Sheet3!DK$4,Sheet4!$A$2:$A$8270,Sheet3!$B$1,Sheet4!$B$2:$B$8270,Sheet3!$A$3)<3,0,SUMIFS(Sheet4!$DN$2:$DN$8270,Sheet4!$C$2:$C$8270,Sheet3!$B20,Sheet4!$E$2:$E$8270,Sheet3!DK$4,Sheet4!$A$2:$A$8270,Sheet3!$B$1,Sheet4!$B$2:$B$8270,Sheet3!$A$3))","v":0},{"$f":"+IF(SUMIFS(Sheet4!$DN$2:$DN$8270,Sheet4!$C$2:$C$8270,Sheet3!$B20,Sheet4!$E$2:$E$8270,Sheet3!DL$4,Sheet4!$A$2:$A$8270,Sheet3!$B$1,Sheet4!$B$2:$B$8270,Sheet3!$A$3)<3,0,SUMIFS(Sheet4!$DN$2:$DN$8270,Sheet4!$C$2:$C$8270,Sheet3!$B20,Sheet4!$E$2:$E$8270,Sheet3!DL$4,Sheet4!$A$2:$A$8270,Sheet3!$B$1,Sheet4!$B$2:$B$8270,Sheet3!$A$3))","v":0}]
[4,"16H","Beira Baixa",{"$f":"+SUMIFS(Sheet4!$DM$2:$DM$8270,Sheet4!$C$2:$C$8270,Sheet3!$B21,Sheet4!$D$2:$D$8270,Sheet3!D$3,Sheet4!$E$2:$E$8270,Sheet3!D$4,Sheet4!$A$2:$A$8270,Sheet3!$B$1,Sheet4!$B$2:$B$8270,Sheet3!$A$3)","v":3},{"$f":"+SUMIFS(Sheet4!$DM$2:$DM$8270,Sheet4!$C$2:$C$8270,Sheet3!$B21,Sheet4!$D$2:$D$8270,Sheet3!E$3,Sheet4!$E$2:$E$8270,Sheet3!E$4,Sheet4!$A$2:$A$8270,Sheet3!$B$1,Sheet4!$B$2:$B$8270,Sheet3!$A$3)","v":0},{"$f":"+SUMIFS(Sheet4!$DM$2:$DM$8270,Sheet4!$C$2:$C$8270,Sheet3!$B21,Sheet4!$D$2:$D$8270,Sheet3!F$3,Sheet4!$E$2:$E$8270,Sheet3!F$4,Sheet4!$A$2:$A$8270,Sheet3!$B$1,Sheet4!$B$2:$B$8270,Sheet3!$A$3)","v":0},{"$f":"+SUMIFS(Sheet4!$DM$2:$DM$8270,Sheet4!$C$2:$C$8270,Sheet3!$B21,Sheet4!$D$2:$D$8270,Sheet3!G$3,Sheet4!$E$2:$E$8270,Sheet3!G$4,Sheet4!$A$2:$A$8270,Sheet3!$B$1,Sheet4!$B$2:$B$8270,Sheet3!$A$3)","v":0},{"$f":"+SUMIFS(Sheet4!$DM$2:$DM$8270,Sheet4!$C$2:$C$8270,Sheet3!$B21,Sheet4!$D$2:$D$8270,Sheet3!H$3,Sheet4!$E$2:$E$8270,Sheet3!H$4,Sheet4!$A$2:$A$8270,Sheet3!$B$1,Sheet4!$B$2:$B$8270,Sheet3!$A$3)","v":0},{"$f":"+SUMIFS(Sheet4!$DM$2:$DM$8270,Sheet4!$C$2:$C$8270,Sheet3!$B21,Sheet4!$D$2:$D$8270,Sheet3!I$3,Sheet4!$E$2:$E$8270,Sheet3!I$4,Sheet4!$A$2:$A$8270,Sheet3!$B$1,Sheet4!$B$2:$B$8270,Sheet3!$A$3)","v":5},{"$f":"+SUMIFS(Sheet4!$DM$2:$DM$8270,Sheet4!$C$2:$C$8270,Sheet3!$B21,Sheet4!$D$2:$D$8270,Sheet3!J$3,Sheet4!$E$2:$E$8270,Sheet3!J$4,Sheet4!$A$2:$A$8270,Sheet3!$B$1,Sheet4!$B$2:$B$8270,Sheet3!$A$3)","v":4},{"$f":"+SUMIFS(Sheet4!$DM$2:$DM$8270,Sheet4!$C$2:$C$8270,Sheet3!$B21,Sheet4!$D$2:$D$8270,Sheet3!K$3,Sheet4!$E$2:$E$8270,Sheet3!K$4,Sheet4!$A$2:$A$8270,Sheet3!$B$1,Sheet4!$B$2:$B$8270,Sheet3!$A$3)","v":0},{"$f":"+SUMIFS(Sheet4!$DM$2:$DM$8270,Sheet4!$C$2:$C$8270,Sheet3!$B21,Sheet4!$D$2:$D$8270,Sheet3!L$3,Sheet4!$E$2:$E$8270,Sheet3!L$4,Sheet4!$A$2:$A$8270,Sheet3!$B$1,Sheet4!$B$2:$B$8270,Sheet3!$A$3)","v":0},{"$f":"+SUMIFS(Sheet4!$DM$2:$DM$8270,Sheet4!$C$2:$C$8270,Sheet3!$B21,Sheet4!$D$2:$D$8270,Sheet3!M$3,Sheet4!$E$2:$E$8270,Sheet3!M$4,Sheet4!$A$2:$A$8270,Sheet3!$B$1,Sheet4!$B$2:$B$8270,Sheet3!$A$3)","v":0},{"$f":"+SUMIFS(Sheet4!$DM$2:$DM$8270,Sheet4!$C$2:$C$8270,Sheet3!$B21,Sheet4!$D$2:$D$8270,Sheet3!N$3,Sheet4!$E$2:$E$8270,Sheet3!N$4,Sheet4!$A$2:$A$8270,Sheet3!$B$1,Sheet4!$B$2:$B$8270,Sheet3!$A$3)","v":64},{"$f":"+SUMIFS(Sheet4!$DM$2:$DM$8270,Sheet4!$C$2:$C$8270,Sheet3!$B21,Sheet4!$D$2:$D$8270,Sheet3!O$3,Sheet4!$E$2:$E$8270,Sheet3!O$4,Sheet4!$A$2:$A$8270,Sheet3!$B$1,Sheet4!$B$2:$B$8270,Sheet3!$A$3)","v":79},{"$f":"+SUMIFS(Sheet4!$DM$2:$DM$8270,Sheet4!$C$2:$C$8270,Sheet3!$B21,Sheet4!$D$2:$D$8270,Sheet3!P$3,Sheet4!$E$2:$E$8270,Sheet3!P$4,Sheet4!$A$2:$A$8270,Sheet3!$B$1,Sheet4!$B$2:$B$8270,Sheet3!$A$3)","v":19},{"$f":"+SUMIFS(Sheet4!$DM$2:$DM$8270,Sheet4!$C$2:$C$8270,Sheet3!$B21,Sheet4!$D$2:$D$8270,Sheet3!Q$3,Sheet4!$E$2:$E$8270,Sheet3!Q$4,Sheet4!$A$2:$A$8270,Sheet3!$B$1,Sheet4!$B$2:$B$8270,Sheet3!$A$3)","v":0},{"$f":"+SUMIFS(Sheet4!$DM$2:$DM$8270,Sheet4!$C$2:$C$8270,Sheet3!$B21,Sheet4!$D$2:$D$8270,Sheet3!R$3,Sheet4!$E$2:$E$8270,Sheet3!R$4,Sheet4!$A$2:$A$8270,Sheet3!$B$1,Sheet4!$B$2:$B$8270,Sheet3!$A$3)","v":0},{"$f":"+SUMIFS(Sheet4!$DM$2:$DM$8270,Sheet4!$C$2:$C$8270,Sheet3!$B21,Sheet4!$D$2:$D$8270,Sheet3!S$3,Sheet4!$E$2:$E$8270,Sheet3!S$4,Sheet4!$A$2:$A$8270,Sheet3!$B$1,Sheet4!$B$2:$B$8270,Sheet3!$A$3)","v":0},{"$f":"+SUMIFS(Sheet4!$DM$2:$DM$8270,Sheet4!$C$2:$C$8270,Sheet3!$B21,Sheet4!$D$2:$D$8270,Sheet3!T$3,Sheet4!$E$2:$E$8270,Sheet3!T$4,Sheet4!$A$2:$A$8270,Sheet3!$B$1,Sheet4!$B$2:$B$8270,Sheet3!$A$3)","v":0},{"$f":"+SUMIFS(Sheet4!$DM$2:$DM$8270,Sheet4!$C$2:$C$8270,Sheet3!$B21,Sheet4!$D$2:$D$8270,Sheet3!U$3,Sheet4!$E$2:$E$8270,Sheet3!U$4,Sheet4!$A$2:$A$8270,Sheet3!$B$1,Sheet4!$B$2:$B$8270,Sheet3!$A$3)","v":0},{"$f":"+SUMIFS(Sheet4!$DM$2:$DM$8270,Sheet4!$C$2:$C$8270,Sheet3!$B21,Sheet4!$D$2:$D$8270,Sheet3!V$3,Sheet4!$E$2:$E$8270,Sheet3!V$4,Sheet4!$A$2:$A$8270,Sheet3!$B$1,Sheet4!$B$2:$B$8270,Sheet3!$A$3)","v":0},{"$f":"+SUMIFS(Sheet4!$DM$2:$DM$8270,Sheet4!$C$2:$C$8270,Sheet3!$B21,Sheet4!$D$2:$D$8270,Sheet3!W$3,Sheet4!$E$2:$E$8270,Sheet3!W$4,Sheet4!$A$2:$A$8270,Sheet3!$B$1,Sheet4!$B$2:$B$8270,Sheet3!$A$3)","v":0},{"$f":"+SUMIFS(Sheet4!$DM$2:$DM$8270,Sheet4!$C$2:$C$8270,Sheet3!$B21,Sheet4!$D$2:$D$8270,Sheet3!X$3,Sheet4!$E$2:$E$8270,Sheet3!X$4,Sheet4!$A$2:$A$8270,Sheet3!$B$1,Sheet4!$B$2:$B$8270,Sheet3!$A$3)","v":0},{"$f":"+SUMIFS(Sheet4!$DM$2:$DM$8270,Sheet4!$C$2:$C$8270,Sheet3!$B21,Sheet4!$D$2:$D$8270,Sheet3!Y$3,Sheet4!$E$2:$E$8270,Sheet3!Y$4,Sheet4!$A$2:$A$8270,Sheet3!$B$1,Sheet4!$B$2:$B$8270,Sheet3!$A$3)","v":0},{"$f":"+SUMIFS(Sheet4!$DM$2:$DM$8270,Sheet4!$C$2:$C$8270,Sheet3!$B21,Sheet4!$D$2:$D$8270,Sheet3!Z$3,Sheet4!$E$2:$E$8270,Sheet3!Z$4,Sheet4!$A$2:$A$8270,Sheet3!$B$1,Sheet4!$B$2:$B$8270,Sheet3!$A$3)","v":0},{"$f":"+SUMIFS(Sheet4!$DM$2:$DM$8270,Sheet4!$C$2:$C$8270,Sheet3!$B21,Sheet4!$D$2:$D$8270,Sheet3!AA$3,Sheet4!$E$2:$E$8270,Sheet3!AA$4,Sheet4!$A$2:$A$8270,Sheet3!$B$1,Sheet4!$B$2:$B$8270,Sheet3!$A$3)","v":0},{"$f":"+SUMIFS(Sheet4!$DM$2:$DM$8270,Sheet4!$C$2:$C$8270,Sheet3!$B21,Sheet4!$D$2:$D$8270,Sheet3!AB$3,Sheet4!$E$2:$E$8270,Sheet3!AB$4,Sheet4!$A$2:$A$8270,Sheet3!$B$1,Sheet4!$B$2:$B$8270,Sheet3!$A$3)","v":0},{"$f":"+SUMIFS(Sheet4!$DM$2:$DM$8270,Sheet4!$C$2:$C$8270,Sheet3!$B21,Sheet4!$D$2:$D$8270,Sheet3!AC$3,Sheet4!$E$2:$E$8270,Sheet3!AC$4,Sheet4!$A$2:$A$8270,Sheet3!$B$1,Sheet4!$B$2:$B$8270,Sheet3!$A$3)","v":275},{"$f":"+SUMIFS(Sheet4!$DM$2:$DM$8270,Sheet4!$C$2:$C$8270,Sheet3!$B21,Sheet4!$D$2:$D$8270,Sheet3!AD$3,Sheet4!$E$2:$E$8270,Sheet3!AD$4,Sheet4!$A$2:$A$8270,Sheet3!$B$1,Sheet4!$B$2:$B$8270,Sheet3!$A$3)","v":28},{"$f":"+SUMIFS(Sheet4!$DM$2:$DM$8270,Sheet4!$C$2:$C$8270,Sheet3!$B21,Sheet4!$D$2:$D$8270,Sheet3!AE$3,Sheet4!$E$2:$E$8270,Sheet3!AE$4,Sheet4!$A$2:$A$8270,Sheet3!$B$1,Sheet4!$B$2:$B$8270,Sheet3!$A$3)","v":6},{"$f":"+SUMIFS(Sheet4!$DM$2:$DM$8270,Sheet4!$C$2:$C$8270,Sheet3!$B21,Sheet4!$D$2:$D$8270,Sheet3!AF$3,Sheet4!$E$2:$E$8270,Sheet3!AF$4,Sheet4!$A$2:$A$8270,Sheet3!$B$1,Sheet4!$B$2:$B$8270,Sheet3!$A$3)","v":0},{"$f":"+SUMIFS(Sheet4!$DM$2:$DM$8270,Sheet4!$C$2:$C$8270,Sheet3!$B21,Sheet4!$D$2:$D$8270,Sheet3!AG$3,Sheet4!$E$2:$E$8270,Sheet3!AG$4,Sheet4!$A$2:$A$8270,Sheet3!$B$1,Sheet4!$B$2:$B$8270,Sheet3!$A$3)","v":0},{"$f":"+SUMIFS(Sheet4!$DM$2:$DM$8270,Sheet4!$C$2:$C$8270,Sheet3!$B21,Sheet4!$D$2:$D$8270,Sheet3!AH$3,Sheet4!$E$2:$E$8270,Sheet3!AH$4,Sheet4!$A$2:$A$8270,Sheet3!$B$1,Sheet4!$B$2:$B$8270,Sheet3!$A$3)","v":0},{"$f":"+SUMIFS(Sheet4!$DM$2:$DM$8270,Sheet4!$C$2:$C$8270,Sheet3!$B21,Sheet4!$D$2:$D$8270,Sheet3!AI$3,Sheet4!$E$2:$E$8270,Sheet3!AI$4,Sheet4!$A$2:$A$8270,Sheet3!$B$1,Sheet4!$B$2:$B$8270,Sheet3!$A$3)","v":0},{"$f":"+SUMIFS(Sheet4!$DM$2:$DM$8270,Sheet4!$C$2:$C$8270,Sheet3!$B21,Sheet4!$D$2:$D$8270,Sheet3!AJ$3,Sheet4!$E$2:$E$8270,Sheet3!AJ$4,Sheet4!$A$2:$A$8270,Sheet3!$B$1,Sheet4!$B$2:$B$8270,Sheet3!$A$3)","v":0},{"$f":"+SUMIFS(Sheet4!$DM$2:$DM$8270,Sheet4!$C$2:$C$8270,Sheet3!$B21,Sheet4!$D$2:$D$8270,Sheet3!AK$3,Sheet4!$E$2:$E$8270,Sheet3!AK$4,Sheet4!$A$2:$A$8270,Sheet3!$B$1,Sheet4!$B$2:$B$8270,Sheet3!$A$3)","v":0},{"$f":"+SUMIFS(Sheet4!$DM$2:$DM$8270,Sheet4!$C$2:$C$8270,Sheet3!$B21,Sheet4!$D$2:$D$8270,Sheet3!AL$3,Sheet4!$E$2:$E$8270,Sheet3!AL$4,Sheet4!$A$2:$A$8270,Sheet3!$B$1,Sheet4!$B$2:$B$8270,Sheet3!$A$3)","v":0},{"$f":"+SUMIFS(Sheet4!$DM$2:$DM$8270,Sheet4!$C$2:$C$8270,Sheet3!$B21,Sheet4!$D$2:$D$8270,Sheet3!AM$3,Sheet4!$E$2:$E$8270,Sheet3!AM$4,Sheet4!$A$2:$A$8270,Sheet3!$B$1,Sheet4!$B$2:$B$8270,Sheet3!$A$3)","v":216},{"$f":"+SUMIFS(Sheet4!$DM$2:$DM$8270,Sheet4!$C$2:$C$8270,Sheet3!$B21,Sheet4!$D$2:$D$8270,Sheet3!AN$3,Sheet4!$E$2:$E$8270,Sheet3!AN$4,Sheet4!$A$2:$A$8270,Sheet3!$B$1,Sheet4!$B$2:$B$8270,Sheet3!$A$3)","v":64},{"$f":"+SUMIFS(Sheet4!$DM$2:$DM$8270,Sheet4!$C$2:$C$8270,Sheet3!$B21,Sheet4!$D$2:$D$8270,Sheet3!AO$3,Sheet4!$E$2:$E$8270,Sheet3!AO$4,Sheet4!$A$2:$A$8270,Sheet3!$B$1,Sheet4!$B$2:$B$8270,Sheet3!$A$3)","v":25},{"$f":"+SUMIFS(Sheet4!$DM$2:$DM$8270,Sheet4!$C$2:$C$8270,Sheet3!$B21,Sheet4!$D$2:$D$8270,Sheet3!AP$3,Sheet4!$E$2:$E$8270,Sheet3!AP$4,Sheet4!$A$2:$A$8270,Sheet3!$B$1,Sheet4!$B$2:$B$8270,Sheet3!$A$3)","v":0},{"$f":"+SUMIFS(Sheet4!$DM$2:$DM$8270,Sheet4!$C$2:$C$8270,Sheet3!$B21,Sheet4!$D$2:$D$8270,Sheet3!AQ$3,Sheet4!$E$2:$E$8270,Sheet3!AQ$4,Sheet4!$A$2:$A$8270,Sheet3!$B$1,Sheet4!$B$2:$B$8270,Sheet3!$A$3)","v":0},{"$f":"+SUMIFS(Sheet4!$DM$2:$DM$8270,Sheet4!$C$2:$C$8270,Sheet3!$B21,Sheet4!$D$2:$D$8270,Sheet3!AR$3,Sheet4!$E$2:$E$8270,Sheet3!AR$4,Sheet4!$A$2:$A$8270,Sheet3!$B$1,Sheet4!$B$2:$B$8270,Sheet3!$A$3)","v":526},{"$f":"+SUMIFS(Sheet4!$DM$2:$DM$8270,Sheet4!$C$2:$C$8270,Sheet3!$B21,Sheet4!$D$2:$D$8270,Sheet3!AS$3,Sheet4!$E$2:$E$8270,Sheet3!AS$4,Sheet4!$A$2:$A$8270,Sheet3!$B$1,Sheet4!$B$2:$B$8270,Sheet3!$A$3)","v":112},{"$f":"+SUMIFS(Sheet4!$DM$2:$DM$8270,Sheet4!$C$2:$C$8270,Sheet3!$B21,Sheet4!$D$2:$D$8270,Sheet3!AT$3,Sheet4!$E$2:$E$8270,Sheet3!AT$4,Sheet4!$A$2:$A$8270,Sheet3!$B$1,Sheet4!$B$2:$B$8270,Sheet3!$A$3)","v":22},{"$f":"+SUMIFS(Sheet4!$DM$2:$DM$8270,Sheet4!$C$2:$C$8270,Sheet3!$B21,Sheet4!$D$2:$D$8270,Sheet3!AU$3,Sheet4!$E$2:$E$8270,Sheet3!AU$4,Sheet4!$A$2:$A$8270,Sheet3!$B$1,Sheet4!$B$2:$B$8270,Sheet3!$A$3)","v":0},{"$f":"+SUMIFS(Sheet4!$DM$2:$DM$8270,Sheet4!$C$2:$C$8270,Sheet3!$B21,Sheet4!$D$2:$D$8270,Sheet3!AV$3,Sheet4!$E$2:$E$8270,Sheet3!AV$4,Sheet4!$A$2:$A$8270,Sheet3!$B$1,Sheet4!$B$2:$B$8270,Sheet3!$A$3)","v":0},{"$f":"+SUMIFS(Sheet4!$DM$2:$DM$8270,Sheet4!$C$2:$C$8270,Sheet3!$B21,Sheet4!$D$2:$D$8270,Sheet3!AW$3,Sheet4!$E$2:$E$8270,Sheet3!AW$4,Sheet4!$A$2:$A$8270,Sheet3!$B$1,Sheet4!$B$2:$B$8270,Sheet3!$A$3)","v":914},{"$f":"+SUMIFS(Sheet4!$DM$2:$DM$8270,Sheet4!$C$2:$C$8270,Sheet3!$B21,Sheet4!$D$2:$D$8270,Sheet3!AX$3,Sheet4!$E$2:$E$8270,Sheet3!AX$4,Sheet4!$A$2:$A$8270,Sheet3!$B$1,Sheet4!$B$2:$B$8270,Sheet3!$A$3)","v":345},{"$f":"+SUMIFS(Sheet4!$DM$2:$DM$8270,Sheet4!$C$2:$C$8270,Sheet3!$B21,Sheet4!$D$2:$D$8270,Sheet3!AY$3,Sheet4!$E$2:$E$8270,Sheet3!AY$4,Sheet4!$A$2:$A$8270,Sheet3!$B$1,Sheet4!$B$2:$B$8270,Sheet3!$A$3)","v":69},{"$f":"+SUMIFS(Sheet4!$DM$2:$DM$8270,Sheet4!$C$2:$C$8270,Sheet3!$B21,Sheet4!$D$2:$D$8270,Sheet3!AZ$3,Sheet4!$E$2:$E$8270,Sheet3!AZ$4,Sheet4!$A$2:$A$8270,Sheet3!$B$1,Sheet4!$B$2:$B$8270,Sheet3!$A$3)","v":3},{"$f":"+SUMIFS(Sheet4!$DM$2:$DM$8270,Sheet4!$C$2:$C$8270,Sheet3!$B21,Sheet4!$D$2:$D$8270,Sheet3!BA$3,Sheet4!$E$2:$E$8270,Sheet3!BA$4,Sheet4!$A$2:$A$8270,Sheet3!$B$1,Sheet4!$B$2:$B$8270,Sheet3!$A$3)","v":0},{"$f":"+SUMIFS(Sheet4!$DM$2:$DM$8270,Sheet4!$C$2:$C$8270,Sheet3!$B21,Sheet4!$D$2:$D$8270,Sheet3!BB$3,Sheet4!$E$2:$E$8270,Sheet3!BB$4,Sheet4!$A$2:$A$8270,Sheet3!$B$1,Sheet4!$B$2:$B$8270,Sheet3!$A$3)","v":0},{"$f":"+SUMIFS(Sheet4!$DM$2:$DM$8270,Sheet4!$C$2:$C$8270,Sheet3!$B21,Sheet4!$D$2:$D$8270,Sheet3!BC$3,Sheet4!$E$2:$E$8270,Sheet3!BC$4,Sheet4!$A$2:$A$8270,Sheet3!$B$1,Sheet4!$B$2:$B$8270,Sheet3!$A$3)","v":0},{"$f":"+SUMIFS(Sheet4!$DM$2:$DM$8270,Sheet4!$C$2:$C$8270,Sheet3!$B21,Sheet4!$D$2:$D$8270,Sheet3!BD$3,Sheet4!$E$2:$E$8270,Sheet3!BD$4,Sheet4!$A$2:$A$8270,Sheet3!$B$1,Sheet4!$B$2:$B$8270,Sheet3!$A$3)","v":0},{"$f":"+SUMIFS(Sheet4!$DM$2:$DM$8270,Sheet4!$C$2:$C$8270,Sheet3!$B21,Sheet4!$D$2:$D$8270,Sheet3!BE$3,Sheet4!$E$2:$E$8270,Sheet3!BE$4,Sheet4!$A$2:$A$8270,Sheet3!$B$1,Sheet4!$B$2:$B$8270,Sheet3!$A$3)","v":0},{"$f":"+SUMIFS(Sheet4!$DM$2:$DM$8270,Sheet4!$C$2:$C$8270,Sheet3!$B21,Sheet4!$D$2:$D$8270,Sheet3!BF$3,Sheet4!$E$2:$E$8270,Sheet3!BF$4,Sheet4!$A$2:$A$8270,Sheet3!$B$1,Sheet4!$B$2:$B$8270,Sheet3!$A$3)","v":0},{"$f":"+SUMIFS(Sheet4!$DM$2:$DM$8270,Sheet4!$C$2:$C$8270,Sheet3!$B21,Sheet4!$D$2:$D$8270,Sheet3!BG$3,Sheet4!$E$2:$E$8270,Sheet3!BG$4,Sheet4!$A$2:$A$8270,Sheet3!$B$1,Sheet4!$B$2:$B$8270,Sheet3!$A$3)","v":9},{"$f":"+SUMIFS(Sheet4!$DM$2:$DM$8270,Sheet4!$C$2:$C$8270,Sheet3!$B21,Sheet4!$D$2:$D$8270,Sheet3!BH$3,Sheet4!$E$2:$E$8270,Sheet3!BH$4,Sheet4!$A$2:$A$8270,Sheet3!$B$1,Sheet4!$B$2:$B$8270,Sheet3!$A$3)","v":18},{"$f":"+SUMIFS(Sheet4!$DM$2:$DM$8270,Sheet4!$C$2:$C$8270,Sheet3!$B21,Sheet4!$D$2:$D$8270,Sheet3!BI$3,Sheet4!$E$2:$E$8270,Sheet3!BI$4,Sheet4!$A$2:$A$8270,Sheet3!$B$1,Sheet4!$B$2:$B$8270,Sheet3!$A$3)","v":21},{"$f":"+SUMIFS(Sheet4!$DM$2:$DM$8270,Sheet4!$C$2:$C$8270,Sheet3!$B21,Sheet4!$D$2:$D$8270,Sheet3!BJ$3,Sheet4!$E$2:$E$8270,Sheet3!BJ$4,Sheet4!$A$2:$A$8270,Sheet3!$B$1,Sheet4!$B$2:$B$8270,Sheet3!$A$3)","v":3},{"$f":"+SUMIFS(Sheet4!$DM$2:$DM$8270,Sheet4!$C$2:$C$8270,Sheet3!$B21,Sheet4!$D$2:$D$8270,Sheet3!BK$3,Sheet4!$E$2:$E$8270,Sheet3!BK$4,Sheet4!$A$2:$A$8270,Sheet3!$B$1,Sheet4!$B$2:$B$8270,Sheet3!$A$3)","v":0},{"$f":"+SUMIFS(Sheet4!$DM$2:$DM$8270,Sheet4!$C$2:$C$8270,Sheet3!$B21,Sheet4!$D$2:$D$8270,Sheet3!BL$3,Sheet4!$E$2:$E$8270,Sheet3!BL$4,Sheet4!$A$2:$A$8270,Sheet3!$B$1,Sheet4!$B$2:$B$8270,Sheet3!$A$3)","v":0},{"$f":"+SUMIFS(Sheet4!$DM$2:$DM$8270,Sheet4!$C$2:$C$8270,Sheet3!$B21,Sheet4!$D$2:$D$8270,Sheet3!BM$3,Sheet4!$E$2:$E$8270,Sheet3!BM$4,Sheet4!$A$2:$A$8270,Sheet3!$B$1,Sheet4!$B$2:$B$8270,Sheet3!$A$3)","v":11},{"$f":"+SUMIFS(Sheet4!$DM$2:$DM$8270,Sheet4!$C$2:$C$8270,Sheet3!$B21,Sheet4!$D$2:$D$8270,Sheet3!BN$3,Sheet4!$E$2:$E$8270,Sheet3!BN$4,Sheet4!$A$2:$A$8270,Sheet3!$B$1,Sheet4!$B$2:$B$8270,Sheet3!$A$3)","v":77},{"$f":"+SUMIFS(Sheet4!$DM$2:$DM$8270,Sheet4!$C$2:$C$8270,Sheet3!$B21,Sheet4!$D$2:$D$8270,Sheet3!BO$3,Sheet4!$E$2:$E$8270,Sheet3!BO$4,Sheet4!$A$2:$A$8270,Sheet3!$B$1,Sheet4!$B$2:$B$8270,Sheet3!$A$3)","v":60},{"$f":"+SUMIFS(Sheet4!$DM$2:$DM$8270,Sheet4!$C$2:$C$8270,Sheet3!$B21,Sheet4!$D$2:$D$8270,Sheet3!BP$3,Sheet4!$E$2:$E$8270,Sheet3!BP$4,Sheet4!$A$2:$A$8270,Sheet3!$B$1,Sheet4!$B$2:$B$8270,Sheet3!$A$3)","v":0},{"$f":"+SUMIFS(Sheet4!$DM$2:$DM$8270,Sheet4!$C$2:$C$8270,Sheet3!$B21,Sheet4!$D$2:$D$8270,Sheet3!BQ$3,Sheet4!$E$2:$E$8270,Sheet3!BQ$4,Sheet4!$A$2:$A$8270,Sheet3!$B$1,Sheet4!$B$2:$B$8270,Sheet3!$A$3)","v":327},{"$f":"+SUMIFS(Sheet4!$DM$2:$DM$8270,Sheet4!$C$2:$C$8270,Sheet3!$B21,Sheet4!$D$2:$D$8270,Sheet3!BR$3,Sheet4!$E$2:$E$8270,Sheet3!BR$4,Sheet4!$A$2:$A$8270,Sheet3!$B$1,Sheet4!$B$2:$B$8270,Sheet3!$A$3)","v":282},{"$f":"+SUMIFS(Sheet4!$DM$2:$DM$8270,Sheet4!$C$2:$C$8270,Sheet3!$B21,Sheet4!$D$2:$D$8270,Sheet3!BS$3,Sheet4!$E$2:$E$8270,Sheet3!BS$4,Sheet4!$A$2:$A$8270,Sheet3!$B$1,Sheet4!$B$2:$B$8270,Sheet3!$A$3)","v":239},{"$f":"+SUMIFS(Sheet4!$DM$2:$DM$8270,Sheet4!$C$2:$C$8270,Sheet3!$B21,Sheet4!$D$2:$D$8270,Sheet3!BT$3,Sheet4!$E$2:$E$8270,Sheet3!BT$4,Sheet4!$A$2:$A$8270,Sheet3!$B$1,Sheet4!$B$2:$B$8270,Sheet3!$A$3)","v":52},{"$f":"+SUMIFS(Sheet4!$DM$2:$DM$8270,Sheet4!$C$2:$C$8270,Sheet3!$B21,Sheet4!$D$2:$D$8270,Sheet3!BU$3,Sheet4!$E$2:$E$8270,Sheet3!BU$4,Sheet4!$A$2:$A$8270,Sheet3!$B$1,Sheet4!$B$2:$B$8270,Sheet3!$A$3)","v":5},{"$f":"+SUMIFS(Sheet4!$DM$2:$DM$8270,Sheet4!$C$2:$C$8270,Sheet3!$B21,Sheet4!$D$2:$D$8270,Sheet3!BV$3,Sheet4!$E$2:$E$8270,Sheet3!BV$4,Sheet4!$A$2:$A$8270,Sheet3!$B$1,Sheet4!$B$2:$B$8270,Sheet3!$A$3)","v":126},{"$f":"+SUMIFS(Sheet4!$DM$2:$DM$8270,Sheet4!$C$2:$C$8270,Sheet3!$B21,Sheet4!$D$2:$D$8270,Sheet3!BW$3,Sheet4!$E$2:$E$8270,Sheet3!BW$4,Sheet4!$A$2:$A$8270,Sheet3!$B$1,Sheet4!$B$2:$B$8270,Sheet3!$A$3)","v":98},{"$f":"+SUMIFS(Sheet4!$DM$2:$DM$8270,Sheet4!$C$2:$C$8270,Sheet3!$B21,Sheet4!$D$2:$D$8270,Sheet3!BX$3,Sheet4!$E$2:$E$8270,Sheet3!BX$4,Sheet4!$A$2:$A$8270,Sheet3!$B$1,Sheet4!$B$2:$B$8270,Sheet3!$A$3)","v":22},{"$f":"+SUMIFS(Sheet4!$DM$2:$DM$8270,Sheet4!$C$2:$C$8270,Sheet3!$B21,Sheet4!$D$2:$D$8270,Sheet3!BY$3,Sheet4!$E$2:$E$8270,Sheet3!BY$4,Sheet4!$A$2:$A$8270,Sheet3!$B$1,Sheet4!$B$2:$B$8270,Sheet3!$A$3)","v":9},{"$f":"+SUMIFS(Sheet4!$DM$2:$DM$8270,Sheet4!$C$2:$C$8270,Sheet3!$B21,Sheet4!$D$2:$D$8270,Sheet3!BZ$3,Sheet4!$E$2:$E$8270,Sheet3!BZ$4,Sheet4!$A$2:$A$8270,Sheet3!$B$1,Sheet4!$B$2:$B$8270,Sheet3!$A$3)","v":0},{"$f":"+SUMIFS(Sheet4!$DM$2:$DM$8270,Sheet4!$C$2:$C$8270,Sheet3!$B21,Sheet4!$D$2:$D$8270,Sheet3!CA$3,Sheet4!$E$2:$E$8270,Sheet3!CA$4,Sheet4!$A$2:$A$8270,Sheet3!$B$1,Sheet4!$B$2:$B$8270,Sheet3!$A$3)","v":91},{"$f":"+SUMIFS(Sheet4!$DM$2:$DM$8270,Sheet4!$C$2:$C$8270,Sheet3!$B21,Sheet4!$D$2:$D$8270,Sheet3!CB$3,Sheet4!$E$2:$E$8270,Sheet3!CB$4,Sheet4!$A$2:$A$8270,Sheet3!$B$1,Sheet4!$B$2:$B$8270,Sheet3!$A$3)","v":139},{"$f":"+SUMIFS(Sheet4!$DM$2:$DM$8270,Sheet4!$C$2:$C$8270,Sheet3!$B21,Sheet4!$D$2:$D$8270,Sheet3!CC$3,Sheet4!$E$2:$E$8270,Sheet3!CC$4,Sheet4!$A$2:$A$8270,Sheet3!$B$1,Sheet4!$B$2:$B$8270,Sheet3!$A$3)","v":135},{"$f":"+SUMIFS(Sheet4!$DM$2:$DM$8270,Sheet4!$C$2:$C$8270,Sheet3!$B21,Sheet4!$D$2:$D$8270,Sheet3!CD$3,Sheet4!$E$2:$E$8270,Sheet3!CD$4,Sheet4!$A$2:$A$8270,Sheet3!$B$1,Sheet4!$B$2:$B$8270,Sheet3!$A$3)","v":20},{"$f":"+SUMIFS(Sheet4!$DM$2:$DM$8270,Sheet4!$C$2:$C$8270,Sheet3!$B21,Sheet4!$D$2:$D$8270,Sheet3!CE$3,Sheet4!$E$2:$E$8270,Sheet3!CE$4,Sheet4!$A$2:$A$8270,Sheet3!$B$1,Sheet4!$B$2:$B$8270,Sheet3!$A$3)","v":0},{"$f":"+SUMIFS(Sheet4!$DM$2:$DM$8270,Sheet4!$C$2:$C$8270,Sheet3!$B21,Sheet4!$D$2:$D$8270,Sheet3!CF$3,Sheet4!$E$2:$E$8270,Sheet3!CF$4,Sheet4!$A$2:$A$8270,Sheet3!$B$1,Sheet4!$B$2:$B$8270,Sheet3!$A$3)","v":0},{"$f":"+SUMIFS(Sheet4!$DM$2:$DM$8270,Sheet4!$C$2:$C$8270,Sheet3!$B21,Sheet4!$D$2:$D$8270,Sheet3!CG$3,Sheet4!$E$2:$E$8270,Sheet3!CG$4,Sheet4!$A$2:$A$8270,Sheet3!$B$1,Sheet4!$B$2:$B$8270,Sheet3!$A$3)","v":0},{"$f":"+SUMIFS(Sheet4!$DM$2:$DM$8270,Sheet4!$C$2:$C$8270,Sheet3!$B21,Sheet4!$D$2:$D$8270,Sheet3!CH$3,Sheet4!$E$2:$E$8270,Sheet3!CH$4,Sheet4!$A$2:$A$8270,Sheet3!$B$1,Sheet4!$B$2:$B$8270,Sheet3!$A$3)","v":0},{"$f":"+SUMIFS(Sheet4!$DM$2:$DM$8270,Sheet4!$C$2:$C$8270,Sheet3!$B21,Sheet4!$D$2:$D$8270,Sheet3!CI$3,Sheet4!$E$2:$E$8270,Sheet3!CI$4,Sheet4!$A$2:$A$8270,Sheet3!$B$1,Sheet4!$B$2:$B$8270,Sheet3!$A$3)","v":0},{"$f":"+SUMIFS(Sheet4!$DM$2:$DM$8270,Sheet4!$C$2:$C$8270,Sheet3!$B21,Sheet4!$D$2:$D$8270,Sheet3!CJ$3,Sheet4!$E$2:$E$8270,Sheet3!CJ$4,Sheet4!$A$2:$A$8270,Sheet3!$B$1,Sheet4!$B$2:$B$8270,Sheet3!$A$3)","v":0},{"$f":"+SUMIFS(Sheet4!$DM$2:$DM$8270,Sheet4!$C$2:$C$8270,Sheet3!$B21,Sheet4!$D$2:$D$8270,Sheet3!CK$3,Sheet4!$E$2:$E$8270,Sheet3!CK$4,Sheet4!$A$2:$A$8270,Sheet3!$B$1,Sheet4!$B$2:$B$8270,Sheet3!$A$3)","v":0},{"$f":"+SUMIFS(Sheet4!$DM$2:$DM$8270,Sheet4!$C$2:$C$8270,Sheet3!$B21,Sheet4!$D$2:$D$8270,Sheet3!CL$3,Sheet4!$E$2:$E$8270,Sheet3!CL$4,Sheet4!$A$2:$A$8270,Sheet3!$B$1,Sheet4!$B$2:$B$8270,Sheet3!$A$3)","v":0},{"$f":"+SUMIFS(Sheet4!$DM$2:$DM$8270,Sheet4!$C$2:$C$8270,Sheet3!$B21,Sheet4!$D$2:$D$8270,Sheet3!CM$3,Sheet4!$E$2:$E$8270,Sheet3!CM$4,Sheet4!$A$2:$A$8270,Sheet3!$B$1,Sheet4!$B$2:$B$8270,Sheet3!$A$3)","v":0},{"$f":"+SUMIFS(Sheet4!$DM$2:$DM$8270,Sheet4!$C$2:$C$8270,Sheet3!$B21,Sheet4!$D$2:$D$8270,Sheet3!CN$3,Sheet4!$E$2:$E$8270,Sheet3!CN$4,Sheet4!$A$2:$A$8270,Sheet3!$B$1,Sheet4!$B$2:$B$8270,Sheet3!$A$3)","v":0},{"$f":"+SUMIFS(Sheet4!$DM$2:$DM$8270,Sheet4!$C$2:$C$8270,Sheet3!$B21,Sheet4!$D$2:$D$8270,Sheet3!CO$3,Sheet4!$E$2:$E$8270,Sheet3!CO$4,Sheet4!$A$2:$A$8270,Sheet3!$B$1,Sheet4!$B$2:$B$8270,Sheet3!$A$3)","v":0},{"$f":"+IF(SUMIFS(Sheet4!$DN$2:$DN$8270,Sheet4!$C$2:$C$8270,Sheet3!$B21,Sheet4!$D$2:$D$8270,Sheet3!CP$3,Sheet4!$A$2:$A$8270,Sheet3!$B$1,Sheet4!$B$2:$B$8270,Sheet3!$A$3)<3,0,SUMIFS(Sheet4!$DN$2:$DN$8270,Sheet4!$C$2:$C$8270,Sheet3!$B21,Sheet4!$D$2:$D$8270,Sheet3!CP$3,Sheet4!$A$2:$A$8270,Sheet3!$B$1,Sheet4!$B$2:$B$8270,Sheet3!$A$3))","v":11},{"$f":"+IF(SUMIFS(Sheet4!$DN$2:$DN$8270,Sheet4!$C$2:$C$8270,Sheet3!$B21,Sheet4!$D$2:$D$8270,Sheet3!CQ$3,Sheet4!$A$2:$A$8270,Sheet3!$B$1,Sheet4!$B$2:$B$8270,Sheet3!$A$3)<3,0,SUMIFS(Sheet4!$DN$2:$DN$8270,Sheet4!$C$2:$C$8270,Sheet3!$B21,Sheet4!$D$2:$D$8270,Sheet3!CQ$3,Sheet4!$A$2:$A$8270,Sheet3!$B$1,Sheet4!$B$2:$B$8270,Sheet3!$A$3))","v":10},{"$f":"+IF(SUMIFS(Sheet4!$DN$2:$DN$8270,Sheet4!$C$2:$C$8270,Sheet3!$B21,Sheet4!$D$2:$D$8270,Sheet3!CR$3,Sheet4!$A$2:$A$8270,Sheet3!$B$1,Sheet4!$B$2:$B$8270,Sheet3!$A$3)<3,0,SUMIFS(Sheet4!$DN$2:$DN$8270,Sheet4!$C$2:$C$8270,Sheet3!$B21,Sheet4!$D$2:$D$8270,Sheet3!CR$3,Sheet4!$A$2:$A$8270,Sheet3!$B$1,Sheet4!$B$2:$B$8270,Sheet3!$A$3))","v":165},{"$f":"+IF(SUMIFS(Sheet4!$DN$2:$DN$8270,Sheet4!$C$2:$C$8270,Sheet3!$B21,Sheet4!$D$2:$D$8270,Sheet3!CS$3,Sheet4!$A$2:$A$8270,Sheet3!$B$1,Sheet4!$B$2:$B$8270,Sheet3!$A$3)<3,0,SUMIFS(Sheet4!$DN$2:$DN$8270,Sheet4!$C$2:$C$8270,Sheet3!$B21,Sheet4!$D$2:$D$8270,Sheet3!CS$3,Sheet4!$A$2:$A$8270,Sheet3!$B$1,Sheet4!$B$2:$B$8270,Sheet3!$A$3))","v":0},{"$f":"+IF(SUMIFS(Sheet4!$DN$2:$DN$8270,Sheet4!$C$2:$C$8270,Sheet3!$B21,Sheet4!$D$2:$D$8270,Sheet3!CT$3,Sheet4!$A$2:$A$8270,Sheet3!$B$1,Sheet4!$B$2:$B$8270,Sheet3!$A$3)<3,0,SUMIFS(Sheet4!$DN$2:$DN$8270,Sheet4!$C$2:$C$8270,Sheet3!$B21,Sheet4!$D$2:$D$8270,Sheet3!CT$3,Sheet4!$A$2:$A$8270,Sheet3!$B$1,Sheet4!$B$2:$B$8270,Sheet3!$A$3))","v":0},{"$f":"+IF(SUMIFS(Sheet4!$DN$2:$DN$8270,Sheet4!$C$2:$C$8270,Sheet3!$B21,Sheet4!$D$2:$D$8270,Sheet3!CU$3,Sheet4!$A$2:$A$8270,Sheet3!$B$1,Sheet4!$B$2:$B$8270,Sheet3!$A$3)<3,0,SUMIFS(Sheet4!$DN$2:$DN$8270,Sheet4!$C$2:$C$8270,Sheet3!$B21,Sheet4!$D$2:$D$8270,Sheet3!CU$3,Sheet4!$A$2:$A$8270,Sheet3!$B$1,Sheet4!$B$2:$B$8270,Sheet3!$A$3))","v":311},{"$f":"+IF(SUMIFS(Sheet4!$DN$2:$DN$8270,Sheet4!$C$2:$C$8270,Sheet3!$B21,Sheet4!$D$2:$D$8270,Sheet3!CV$3,Sheet4!$A$2:$A$8270,Sheet3!$B$1,Sheet4!$B$2:$B$8270,Sheet3!$A$3)<3,0,SUMIFS(Sheet4!$DN$2:$DN$8270,Sheet4!$C$2:$C$8270,Sheet3!$B21,Sheet4!$D$2:$D$8270,Sheet3!CV$3,Sheet4!$A$2:$A$8270,Sheet3!$B$1,Sheet4!$B$2:$B$8270,Sheet3!$A$3))","v":11},{"$f":"+IF(SUMIFS(Sheet4!$DN$2:$DN$8270,Sheet4!$C$2:$C$8270,Sheet3!$B21,Sheet4!$D$2:$D$8270,Sheet3!CW$3,Sheet4!$A$2:$A$8270,Sheet3!$B$1,Sheet4!$B$2:$B$8270,Sheet3!$A$3)<3,0,SUMIFS(Sheet4!$DN$2:$DN$8270,Sheet4!$C$2:$C$8270,Sheet3!$B21,Sheet4!$D$2:$D$8270,Sheet3!CW$3,Sheet4!$A$2:$A$8270,Sheet3!$B$1,Sheet4!$B$2:$B$8270,Sheet3!$A$3))","v":311},{"$f":"+IF(SUMIFS(Sheet4!$DN$2:$DN$8270,Sheet4!$C$2:$C$8270,Sheet3!$B21,Sheet4!$D$2:$D$8270,Sheet3!CX$3,Sheet4!$A$2:$A$8270,Sheet3!$B$1,Sheet4!$B$2:$B$8270,Sheet3!$A$3)<3,0,SUMIFS(Sheet4!$DN$2:$DN$8270,Sheet4!$C$2:$C$8270,Sheet3!$B21,Sheet4!$D$2:$D$8270,Sheet3!CX$3,Sheet4!$A$2:$A$8270,Sheet3!$B$1,Sheet4!$B$2:$B$8270,Sheet3!$A$3))","v":661},{"$f":"+IF(SUMIFS(Sheet4!$DN$2:$DN$8270,Sheet4!$C$2:$C$8270,Sheet3!$B21,Sheet4!$D$2:$D$8270,Sheet3!CY$3,Sheet4!$A$2:$A$8270,Sheet3!$B$1,Sheet4!$B$2:$B$8270,Sheet3!$A$3)<3,0,SUMIFS(Sheet4!$DN$2:$DN$8270,Sheet4!$C$2:$C$8270,Sheet3!$B21,Sheet4!$D$2:$D$8270,Sheet3!CY$3,Sheet4!$A$2:$A$8270,Sheet3!$B$1,Sheet4!$B$2:$B$8270,Sheet3!$A$3))","v":1333},{"$f":"+IF(SUMIFS(Sheet4!$DN$2:$DN$8270,Sheet4!$C$2:$C$8270,Sheet3!$B21,Sheet4!$D$2:$D$8270,Sheet3!CZ$3,Sheet4!$A$2:$A$8270,Sheet3!$B$1,Sheet4!$B$2:$B$8270,Sheet3!$A$3)<3,0,SUMIFS(Sheet4!$DN$2:$DN$8270,Sheet4!$C$2:$C$8270,Sheet3!$B21,Sheet4!$D$2:$D$8270,Sheet3!CZ$3,Sheet4!$A$2:$A$8270,Sheet3!$B$1,Sheet4!$B$2:$B$8270,Sheet3!$A$3))","v":3},{"$f":"+IF(SUMIFS(Sheet4!$DN$2:$DN$8270,Sheet4!$C$2:$C$8270,Sheet3!$B21,Sheet4!$D$2:$D$8270,Sheet3!DA$3,Sheet4!$A$2:$A$8270,Sheet3!$B$1,Sheet4!$B$2:$B$8270,Sheet3!$A$3)<3,0,SUMIFS(Sheet4!$DN$2:$DN$8270,Sheet4!$C$2:$C$8270,Sheet3!$B21,Sheet4!$D$2:$D$8270,Sheet3!DA$3,Sheet4!$A$2:$A$8270,Sheet3!$B$1,Sheet4!$B$2:$B$8270,Sheet3!$A$3))","v":52},{"$f":"+IF(SUMIFS(Sheet4!$DN$2:$DN$8270,Sheet4!$C$2:$C$8270,Sheet3!$B21,Sheet4!$D$2:$D$8270,Sheet3!DB$3,Sheet4!$A$2:$A$8270,Sheet3!$B$1,Sheet4!$B$2:$B$8270,Sheet3!$A$3)<3,0,SUMIFS(Sheet4!$DN$2:$DN$8270,Sheet4!$C$2:$C$8270,Sheet3!$B21,Sheet4!$D$2:$D$8270,Sheet3!DB$3,Sheet4!$A$2:$A$8270,Sheet3!$B$1,Sheet4!$B$2:$B$8270,Sheet3!$A$3))","v":155},{"$f":"+IF(SUMIFS(Sheet4!$DN$2:$DN$8270,Sheet4!$C$2:$C$8270,Sheet3!$B21,Sheet4!$D$2:$D$8270,Sheet3!DC$3,Sheet4!$A$2:$A$8270,Sheet3!$B$1,Sheet4!$B$2:$B$8270,Sheet3!$A$3)<3,0,SUMIFS(Sheet4!$DN$2:$DN$8270,Sheet4!$C$2:$C$8270,Sheet3!$B21,Sheet4!$D$2:$D$8270,Sheet3!DC$3,Sheet4!$A$2:$A$8270,Sheet3!$B$1,Sheet4!$B$2:$B$8270,Sheet3!$A$3))","v":907},{"$f":"+IF(SUMIFS(Sheet4!$DN$2:$DN$8270,Sheet4!$C$2:$C$8270,Sheet3!$B21,Sheet4!$D$2:$D$8270,Sheet3!DD$3,Sheet4!$A$2:$A$8270,Sheet3!$B$1,Sheet4!$B$2:$B$8270,Sheet3!$A$3)<3,0,SUMIFS(Sheet4!$DN$2:$DN$8270,Sheet4!$C$2:$C$8270,Sheet3!$B21,Sheet4!$D$2:$D$8270,Sheet3!DD$3,Sheet4!$A$2:$A$8270,Sheet3!$B$1,Sheet4!$B$2:$B$8270,Sheet3!$A$3))","v":257},{"$f":"+IF(SUMIFS(Sheet4!$DN$2:$DN$8270,Sheet4!$C$2:$C$8270,Sheet3!$B21,Sheet4!$D$2:$D$8270,Sheet3!DE$3,Sheet4!$A$2:$A$8270,Sheet3!$B$1,Sheet4!$B$2:$B$8270,Sheet3!$A$3)<3,0,SUMIFS(Sheet4!$DN$2:$DN$8270,Sheet4!$C$2:$C$8270,Sheet3!$B21,Sheet4!$D$2:$D$8270,Sheet3!DE$3,Sheet4!$A$2:$A$8270,Sheet3!$B$1,Sheet4!$B$2:$B$8270,Sheet3!$A$3))","v":389},{"$f":"+IF(SUMIFS(Sheet4!$DN$2:$DN$8270,Sheet4!$C$2:$C$8270,Sheet3!$B21,Sheet4!$D$2:$D$8270,Sheet3!DF$3,Sheet4!$A$2:$A$8270,Sheet3!$B$1,Sheet4!$B$2:$B$8270,Sheet3!$A$3)<3,0,SUMIFS(Sheet4!$DN$2:$DN$8270,Sheet4!$C$2:$C$8270,Sheet3!$B21,Sheet4!$D$2:$D$8270,Sheet3!DF$3,Sheet4!$A$2:$A$8270,Sheet3!$B$1,Sheet4!$B$2:$B$8270,Sheet3!$A$3))","v":0},{"$f":"+IF(SUMIFS(Sheet4!$DN$2:$DN$8270,Sheet4!$C$2:$C$8270,Sheet3!$B21,Sheet4!$D$2:$D$8270,Sheet3!DG$3,Sheet4!$A$2:$A$8270,Sheet3!$B$1,Sheet4!$B$2:$B$8270,Sheet3!$A$3)<3,0,SUMIFS(Sheet4!$DN$2:$DN$8270,Sheet4!$C$2:$C$8270,Sheet3!$B21,Sheet4!$D$2:$D$8270,Sheet3!DG$3,Sheet4!$A$2:$A$8270,Sheet3!$B$1,Sheet4!$B$2:$B$8270,Sheet3!$A$3))","v":0},{"$f":"+IF(SUMIFS(Sheet4!$DN$2:$DN$8270,Sheet4!$C$2:$C$8270,Sheet3!$B21,Sheet4!$E$2:$E$8270,Sheet3!DH$4,Sheet4!$A$2:$A$8270,Sheet3!$B$1,Sheet4!$B$2:$B$8270,Sheet3!$A$3)<3,0,SUMIFS(Sheet4!$DN$2:$DN$8270,Sheet4!$C$2:$C$8270,Sheet3!$B21,Sheet4!$E$2:$E$8270,Sheet3!DH$4,Sheet4!$A$2:$A$8270,Sheet3!$B$1,Sheet4!$B$2:$B$8270,Sheet3!$A$3))","v":2565},{"$f":"+IF(SUMIFS(Sheet4!$DN$2:$DN$8270,Sheet4!$C$2:$C$8270,Sheet3!$B21,Sheet4!$E$2:$E$8270,Sheet3!DI$4,Sheet4!$A$2:$A$8270,Sheet3!$B$1,Sheet4!$B$2:$B$8270,Sheet3!$A$3)<3,0,SUMIFS(Sheet4!$DN$2:$DN$8270,Sheet4!$C$2:$C$8270,Sheet3!$B21,Sheet4!$E$2:$E$8270,Sheet3!DI$4,Sheet4!$A$2:$A$8270,Sheet3!$B$1,Sheet4!$B$2:$B$8270,Sheet3!$A$3))","v":1193},{"$f":"+IF(SUMIFS(Sheet4!$DN$2:$DN$8270,Sheet4!$C$2:$C$8270,Sheet3!$B21,Sheet4!$E$2:$E$8270,Sheet3!DJ$4,Sheet4!$A$2:$A$8270,Sheet3!$B$1,Sheet4!$B$2:$B$8270,Sheet3!$A$3)<3,0,SUMIFS(Sheet4!$DN$2:$DN$8270,Sheet4!$C$2:$C$8270,Sheet3!$B21,Sheet4!$E$2:$E$8270,Sheet3!DJ$4,Sheet4!$A$2:$A$8270,Sheet3!$B$1,Sheet4!$B$2:$B$8270,Sheet3!$A$3))","v":651},{"$f":"+IF(SUMIFS(Sheet4!$DN$2:$DN$8270,Sheet4!$C$2:$C$8270,Sheet3!$B21,Sheet4!$E$2:$E$8270,Sheet3!DK$4,Sheet4!$A$2:$A$8270,Sheet3!$B$1,Sheet4!$B$2:$B$8270,Sheet3!$A$3)<3,0,SUMIFS(Sheet4!$DN$2:$DN$8270,Sheet4!$C$2:$C$8270,Sheet3!$B21,Sheet4!$E$2:$E$8270,Sheet3!DK$4,Sheet4!$A$2:$A$8270,Sheet3!$B$1,Sheet4!$B$2:$B$8270,Sheet3!$A$3))","v":157},{"$f":"+IF(SUMIFS(Sheet4!$DN$2:$DN$8270,Sheet4!$C$2:$C$8270,Sheet3!$B21,Sheet4!$E$2:$E$8270,Sheet3!DL$4,Sheet4!$A$2:$A$8270,Sheet3!$B$1,Sheet4!$B$2:$B$8270,Sheet3!$A$3)<3,0,SUMIFS(Sheet4!$DN$2:$DN$8270,Sheet4!$C$2:$C$8270,Sheet3!$B21,Sheet4!$E$2:$E$8270,Sheet3!DL$4,Sheet4!$A$2:$A$8270,Sheet3!$B$1,Sheet4!$B$2:$B$8270,Sheet3!$A$3))","v":11}]
[4,"16I","Médio Tejo",{"$f":"+SUMIFS(Sheet4!$DM$2:$DM$8270,Sheet4!$C$2:$C$8270,Sheet3!$B22,Sheet4!$D$2:$D$8270,Sheet3!D$3,Sheet4!$E$2:$E$8270,Sheet3!D$4,Sheet4!$A$2:$A$8270,Sheet3!$B$1,Sheet4!$B$2:$B$8270,Sheet3!$A$3)","v":3},{"$f":"+SUMIFS(Sheet4!$DM$2:$DM$8270,Sheet4!$C$2:$C$8270,Sheet3!$B22,Sheet4!$D$2:$D$8270,Sheet3!E$3,Sheet4!$E$2:$E$8270,Sheet3!E$4,Sheet4!$A$2:$A$8270,Sheet3!$B$1,Sheet4!$B$2:$B$8270,Sheet3!$A$3)","v":4},{"$f":"+SUMIFS(Sheet4!$DM$2:$DM$8270,Sheet4!$C$2:$C$8270,Sheet3!$B22,Sheet4!$D$2:$D$8270,Sheet3!F$3,Sheet4!$E$2:$E$8270,Sheet3!F$4,Sheet4!$A$2:$A$8270,Sheet3!$B$1,Sheet4!$B$2:$B$8270,Sheet3!$A$3)","v":0},{"$f":"+SUMIFS(Sheet4!$DM$2:$DM$8270,Sheet4!$C$2:$C$8270,Sheet3!$B22,Sheet4!$D$2:$D$8270,Sheet3!G$3,Sheet4!$E$2:$E$8270,Sheet3!G$4,Sheet4!$A$2:$A$8270,Sheet3!$B$1,Sheet4!$B$2:$B$8270,Sheet3!$A$3)","v":0},{"$f":"+SUMIFS(Sheet4!$DM$2:$DM$8270,Sheet4!$C$2:$C$8270,Sheet3!$B22,Sheet4!$D$2:$D$8270,Sheet3!H$3,Sheet4!$E$2:$E$8270,Sheet3!H$4,Sheet4!$A$2:$A$8270,Sheet3!$B$1,Sheet4!$B$2:$B$8270,Sheet3!$A$3)","v":0},{"$f":"+SUMIFS(Sheet4!$DM$2:$DM$8270,Sheet4!$C$2:$C$8270,Sheet3!$B22,Sheet4!$D$2:$D$8270,Sheet3!I$3,Sheet4!$E$2:$E$8270,Sheet3!I$4,Sheet4!$A$2:$A$8270,Sheet3!$B$1,Sheet4!$B$2:$B$8270,Sheet3!$A$3)","v":25},{"$f":"+SUMIFS(Sheet4!$DM$2:$DM$8270,Sheet4!$C$2:$C$8270,Sheet3!$B22,Sheet4!$D$2:$D$8270,Sheet3!J$3,Sheet4!$E$2:$E$8270,Sheet3!J$4,Sheet4!$A$2:$A$8270,Sheet3!$B$1,Sheet4!$B$2:$B$8270,Sheet3!$A$3)","v":10},{"$f":"+SUMIFS(Sheet4!$DM$2:$DM$8270,Sheet4!$C$2:$C$8270,Sheet3!$B22,Sheet4!$D$2:$D$8270,Sheet3!K$3,Sheet4!$E$2:$E$8270,Sheet3!K$4,Sheet4!$A$2:$A$8270,Sheet3!$B$1,Sheet4!$B$2:$B$8270,Sheet3!$A$3)","v":20},{"$f":"+SUMIFS(Sheet4!$DM$2:$DM$8270,Sheet4!$C$2:$C$8270,Sheet3!$B22,Sheet4!$D$2:$D$8270,Sheet3!L$3,Sheet4!$E$2:$E$8270,Sheet3!L$4,Sheet4!$A$2:$A$8270,Sheet3!$B$1,Sheet4!$B$2:$B$8270,Sheet3!$A$3)","v":0},{"$f":"+SUMIFS(Sheet4!$DM$2:$DM$8270,Sheet4!$C$2:$C$8270,Sheet3!$B22,Sheet4!$D$2:$D$8270,Sheet3!M$3,Sheet4!$E$2:$E$8270,Sheet3!M$4,Sheet4!$A$2:$A$8270,Sheet3!$B$1,Sheet4!$B$2:$B$8270,Sheet3!$A$3)","v":0},{"$f":"+SUMIFS(Sheet4!$DM$2:$DM$8270,Sheet4!$C$2:$C$8270,Sheet3!$B22,Sheet4!$D$2:$D$8270,Sheet3!N$3,Sheet4!$E$2:$E$8270,Sheet3!N$4,Sheet4!$A$2:$A$8270,Sheet3!$B$1,Sheet4!$B$2:$B$8270,Sheet3!$A$3)","v":34},{"$f":"+SUMIFS(Sheet4!$DM$2:$DM$8270,Sheet4!$C$2:$C$8270,Sheet3!$B22,Sheet4!$D$2:$D$8270,Sheet3!O$3,Sheet4!$E$2:$E$8270,Sheet3!O$4,Sheet4!$A$2:$A$8270,Sheet3!$B$1,Sheet4!$B$2:$B$8270,Sheet3!$A$3)","v":19},{"$f":"+SUMIFS(Sheet4!$DM$2:$DM$8270,Sheet4!$C$2:$C$8270,Sheet3!$B22,Sheet4!$D$2:$D$8270,Sheet3!P$3,Sheet4!$E$2:$E$8270,Sheet3!P$4,Sheet4!$A$2:$A$8270,Sheet3!$B$1,Sheet4!$B$2:$B$8270,Sheet3!$A$3)","v":11},{"$f":"+SUMIFS(Sheet4!$DM$2:$DM$8270,Sheet4!$C$2:$C$8270,Sheet3!$B22,Sheet4!$D$2:$D$8270,Sheet3!Q$3,Sheet4!$E$2:$E$8270,Sheet3!Q$4,Sheet4!$A$2:$A$8270,Sheet3!$B$1,Sheet4!$B$2:$B$8270,Sheet3!$A$3)","v":0},{"$f":"+SUMIFS(Sheet4!$DM$2:$DM$8270,Sheet4!$C$2:$C$8270,Sheet3!$B22,Sheet4!$D$2:$D$8270,Sheet3!R$3,Sheet4!$E$2:$E$8270,Sheet3!R$4,Sheet4!$A$2:$A$8270,Sheet3!$B$1,Sheet4!$B$2:$B$8270,Sheet3!$A$3)","v":0},{"$f":"+SUMIFS(Sheet4!$DM$2:$DM$8270,Sheet4!$C$2:$C$8270,Sheet3!$B22,Sheet4!$D$2:$D$8270,Sheet3!S$3,Sheet4!$E$2:$E$8270,Sheet3!S$4,Sheet4!$A$2:$A$8270,Sheet3!$B$1,Sheet4!$B$2:$B$8270,Sheet3!$A$3)","v":0},{"$f":"+SUMIFS(Sheet4!$DM$2:$DM$8270,Sheet4!$C$2:$C$8270,Sheet3!$B22,Sheet4!$D$2:$D$8270,Sheet3!T$3,Sheet4!$E$2:$E$8270,Sheet3!T$4,Sheet4!$A$2:$A$8270,Sheet3!$B$1,Sheet4!$B$2:$B$8270,Sheet3!$A$3)","v":0},{"$f":"+SUMIFS(Sheet4!$DM$2:$DM$8270,Sheet4!$C$2:$C$8270,Sheet3!$B22,Sheet4!$D$2:$D$8270,Sheet3!U$3,Sheet4!$E$2:$E$8270,Sheet3!U$4,Sheet4!$A$2:$A$8270,Sheet3!$B$1,Sheet4!$B$2:$B$8270,Sheet3!$A$3)","v":0},{"$f":"+SUMIFS(Sheet4!$DM$2:$DM$8270,Sheet4!$C$2:$C$8270,Sheet3!$B22,Sheet4!$D$2:$D$8270,Sheet3!V$3,Sheet4!$E$2:$E$8270,Sheet3!V$4,Sheet4!$A$2:$A$8270,Sheet3!$B$1,Sheet4!$B$2:$B$8270,Sheet3!$A$3)","v":0},{"$f":"+SUMIFS(Sheet4!$DM$2:$DM$8270,Sheet4!$C$2:$C$8270,Sheet3!$B22,Sheet4!$D$2:$D$8270,Sheet3!W$3,Sheet4!$E$2:$E$8270,Sheet3!W$4,Sheet4!$A$2:$A$8270,Sheet3!$B$1,Sheet4!$B$2:$B$8270,Sheet3!$A$3)","v":0},{"$f":"+SUMIFS(Sheet4!$DM$2:$DM$8270,Sheet4!$C$2:$C$8270,Sheet3!$B22,Sheet4!$D$2:$D$8270,Sheet3!X$3,Sheet4!$E$2:$E$8270,Sheet3!X$4,Sheet4!$A$2:$A$8270,Sheet3!$B$1,Sheet4!$B$2:$B$8270,Sheet3!$A$3)","v":0},{"$f":"+SUMIFS(Sheet4!$DM$2:$DM$8270,Sheet4!$C$2:$C$8270,Sheet3!$B22,Sheet4!$D$2:$D$8270,Sheet3!Y$3,Sheet4!$E$2:$E$8270,Sheet3!Y$4,Sheet4!$A$2:$A$8270,Sheet3!$B$1,Sheet4!$B$2:$B$8270,Sheet3!$A$3)","v":3},{"$f":"+SUMIFS(Sheet4!$DM$2:$DM$8270,Sheet4!$C$2:$C$8270,Sheet3!$B22,Sheet4!$D$2:$D$8270,Sheet3!Z$3,Sheet4!$E$2:$E$8270,Sheet3!Z$4,Sheet4!$A$2:$A$8270,Sheet3!$B$1,Sheet4!$B$2:$B$8270,Sheet3!$A$3)","v":0},{"$f":"+SUMIFS(Sheet4!$DM$2:$DM$8270,Sheet4!$C$2:$C$8270,Sheet3!$B22,Sheet4!$D$2:$D$8270,Sheet3!AA$3,Sheet4!$E$2:$E$8270,Sheet3!AA$4,Sheet4!$A$2:$A$8270,Sheet3!$B$1,Sheet4!$B$2:$B$8270,Sheet3!$A$3)","v":0},{"$f":"+SUMIFS(Sheet4!$DM$2:$DM$8270,Sheet4!$C$2:$C$8270,Sheet3!$B22,Sheet4!$D$2:$D$8270,Sheet3!AB$3,Sheet4!$E$2:$E$8270,Sheet3!AB$4,Sheet4!$A$2:$A$8270,Sheet3!$B$1,Sheet4!$B$2:$B$8270,Sheet3!$A$3)","v":0},{"$f":"+SUMIFS(Sheet4!$DM$2:$DM$8270,Sheet4!$C$2:$C$8270,Sheet3!$B22,Sheet4!$D$2:$D$8270,Sheet3!AC$3,Sheet4!$E$2:$E$8270,Sheet3!AC$4,Sheet4!$A$2:$A$8270,Sheet3!$B$1,Sheet4!$B$2:$B$8270,Sheet3!$A$3)","v":274},{"$f":"+SUMIFS(Sheet4!$DM$2:$DM$8270,Sheet4!$C$2:$C$8270,Sheet3!$B22,Sheet4!$D$2:$D$8270,Sheet3!AD$3,Sheet4!$E$2:$E$8270,Sheet3!AD$4,Sheet4!$A$2:$A$8270,Sheet3!$B$1,Sheet4!$B$2:$B$8270,Sheet3!$A$3)","v":10},{"$f":"+SUMIFS(Sheet4!$DM$2:$DM$8270,Sheet4!$C$2:$C$8270,Sheet3!$B22,Sheet4!$D$2:$D$8270,Sheet3!AE$3,Sheet4!$E$2:$E$8270,Sheet3!AE$4,Sheet4!$A$2:$A$8270,Sheet3!$B$1,Sheet4!$B$2:$B$8270,Sheet3!$A$3)","v":0},{"$f":"+SUMIFS(Sheet4!$DM$2:$DM$8270,Sheet4!$C$2:$C$8270,Sheet3!$B22,Sheet4!$D$2:$D$8270,Sheet3!AF$3,Sheet4!$E$2:$E$8270,Sheet3!AF$4,Sheet4!$A$2:$A$8270,Sheet3!$B$1,Sheet4!$B$2:$B$8270,Sheet3!$A$3)","v":0},{"$f":"+SUMIFS(Sheet4!$DM$2:$DM$8270,Sheet4!$C$2:$C$8270,Sheet3!$B22,Sheet4!$D$2:$D$8270,Sheet3!AG$3,Sheet4!$E$2:$E$8270,Sheet3!AG$4,Sheet4!$A$2:$A$8270,Sheet3!$B$1,Sheet4!$B$2:$B$8270,Sheet3!$A$3)","v":0},{"$f":"+SUMIFS(Sheet4!$DM$2:$DM$8270,Sheet4!$C$2:$C$8270,Sheet3!$B22,Sheet4!$D$2:$D$8270,Sheet3!AH$3,Sheet4!$E$2:$E$8270,Sheet3!AH$4,Sheet4!$A$2:$A$8270,Sheet3!$B$1,Sheet4!$B$2:$B$8270,Sheet3!$A$3)","v":40},{"$f":"+SUMIFS(Sheet4!$DM$2:$DM$8270,Sheet4!$C$2:$C$8270,Sheet3!$B22,Sheet4!$D$2:$D$8270,Sheet3!AI$3,Sheet4!$E$2:$E$8270,Sheet3!AI$4,Sheet4!$A$2:$A$8270,Sheet3!$B$1,Sheet4!$B$2:$B$8270,Sheet3!$A$3)","v":11},{"$f":"+SUMIFS(Sheet4!$DM$2:$DM$8270,Sheet4!$C$2:$C$8270,Sheet3!$B22,Sheet4!$D$2:$D$8270,Sheet3!AJ$3,Sheet4!$E$2:$E$8270,Sheet3!AJ$4,Sheet4!$A$2:$A$8270,Sheet3!$B$1,Sheet4!$B$2:$B$8270,Sheet3!$A$3)","v":4},{"$f":"+SUMIFS(Sheet4!$DM$2:$DM$8270,Sheet4!$C$2:$C$8270,Sheet3!$B22,Sheet4!$D$2:$D$8270,Sheet3!AK$3,Sheet4!$E$2:$E$8270,Sheet3!AK$4,Sheet4!$A$2:$A$8270,Sheet3!$B$1,Sheet4!$B$2:$B$8270,Sheet3!$A$3)","v":0},{"$f":"+SUMIFS(Sheet4!$DM$2:$DM$8270,Sheet4!$C$2:$C$8270,Sheet3!$B22,Sheet4!$D$2:$D$8270,Sheet3!AL$3,Sheet4!$E$2:$E$8270,Sheet3!AL$4,Sheet4!$A$2:$A$8270,Sheet3!$B$1,Sheet4!$B$2:$B$8270,Sheet3!$A$3)","v":0},{"$f":"+SUMIFS(Sheet4!$DM$2:$DM$8270,Sheet4!$C$2:$C$8270,Sheet3!$B22,Sheet4!$D$2:$D$8270,Sheet3!AM$3,Sheet4!$E$2:$E$8270,Sheet3!AM$4,Sheet4!$A$2:$A$8270,Sheet3!$B$1,Sheet4!$B$2:$B$8270,Sheet3!$A$3)","v":205},{"$f":"+SUMIFS(Sheet4!$DM$2:$DM$8270,Sheet4!$C$2:$C$8270,Sheet3!$B22,Sheet4!$D$2:$D$8270,Sheet3!AN$3,Sheet4!$E$2:$E$8270,Sheet3!AN$4,Sheet4!$A$2:$A$8270,Sheet3!$B$1,Sheet4!$B$2:$B$8270,Sheet3!$A$3)","v":77},{"$f":"+SUMIFS(Sheet4!$DM$2:$DM$8270,Sheet4!$C$2:$C$8270,Sheet3!$B22,Sheet4!$D$2:$D$8270,Sheet3!AO$3,Sheet4!$E$2:$E$8270,Sheet3!AO$4,Sheet4!$A$2:$A$8270,Sheet3!$B$1,Sheet4!$B$2:$B$8270,Sheet3!$A$3)","v":17},{"$f":"+SUMIFS(Sheet4!$DM$2:$DM$8270,Sheet4!$C$2:$C$8270,Sheet3!$B22,Sheet4!$D$2:$D$8270,Sheet3!AP$3,Sheet4!$E$2:$E$8270,Sheet3!AP$4,Sheet4!$A$2:$A$8270,Sheet3!$B$1,Sheet4!$B$2:$B$8270,Sheet3!$A$3)","v":0},{"$f":"+SUMIFS(Sheet4!$DM$2:$DM$8270,Sheet4!$C$2:$C$8270,Sheet3!$B22,Sheet4!$D$2:$D$8270,Sheet3!AQ$3,Sheet4!$E$2:$E$8270,Sheet3!AQ$4,Sheet4!$A$2:$A$8270,Sheet3!$B$1,Sheet4!$B$2:$B$8270,Sheet3!$A$3)","v":0},{"$f":"+SUMIFS(Sheet4!$DM$2:$DM$8270,Sheet4!$C$2:$C$8270,Sheet3!$B22,Sheet4!$D$2:$D$8270,Sheet3!AR$3,Sheet4!$E$2:$E$8270,Sheet3!AR$4,Sheet4!$A$2:$A$8270,Sheet3!$B$1,Sheet4!$B$2:$B$8270,Sheet3!$A$3)","v":567},{"$f":"+SUMIFS(Sheet4!$DM$2:$DM$8270,Sheet4!$C$2:$C$8270,Sheet3!$B22,Sheet4!$D$2:$D$8270,Sheet3!AS$3,Sheet4!$E$2:$E$8270,Sheet3!AS$4,Sheet4!$A$2:$A$8270,Sheet3!$B$1,Sheet4!$B$2:$B$8270,Sheet3!$A$3)","v":64},{"$f":"+SUMIFS(Sheet4!$DM$2:$DM$8270,Sheet4!$C$2:$C$8270,Sheet3!$B22,Sheet4!$D$2:$D$8270,Sheet3!AT$3,Sheet4!$E$2:$E$8270,Sheet3!AT$4,Sheet4!$A$2:$A$8270,Sheet3!$B$1,Sheet4!$B$2:$B$8270,Sheet3!$A$3)","v":12},{"$f":"+SUMIFS(Sheet4!$DM$2:$DM$8270,Sheet4!$C$2:$C$8270,Sheet3!$B22,Sheet4!$D$2:$D$8270,Sheet3!AU$3,Sheet4!$E$2:$E$8270,Sheet3!AU$4,Sheet4!$A$2:$A$8270,Sheet3!$B$1,Sheet4!$B$2:$B$8270,Sheet3!$A$3)","v":0},{"$f":"+SUMIFS(Sheet4!$DM$2:$DM$8270,Sheet4!$C$2:$C$8270,Sheet3!$B22,Sheet4!$D$2:$D$8270,Sheet3!AV$3,Sheet4!$E$2:$E$8270,Sheet3!AV$4,Sheet4!$A$2:$A$8270,Sheet3!$B$1,Sheet4!$B$2:$B$8270,Sheet3!$A$3)","v":0},{"$f":"+SUMIFS(Sheet4!$DM$2:$DM$8270,Sheet4!$C$2:$C$8270,Sheet3!$B22,Sheet4!$D$2:$D$8270,Sheet3!AW$3,Sheet4!$E$2:$E$8270,Sheet3!AW$4,Sheet4!$A$2:$A$8270,Sheet3!$B$1,Sheet4!$B$2:$B$8270,Sheet3!$A$3)","v":1316},{"$f":"+SUMIFS(Sheet4!$DM$2:$DM$8270,Sheet4!$C$2:$C$8270,Sheet3!$B22,Sheet4!$D$2:$D$8270,Sheet3!AX$3,Sheet4!$E$2:$E$8270,Sheet3!AX$4,Sheet4!$A$2:$A$8270,Sheet3!$B$1,Sheet4!$B$2:$B$8270,Sheet3!$A$3)","v":235},{"$f":"+SUMIFS(Sheet4!$DM$2:$DM$8270,Sheet4!$C$2:$C$8270,Sheet3!$B22,Sheet4!$D$2:$D$8270,Sheet3!AY$3,Sheet4!$E$2:$E$8270,Sheet3!AY$4,Sheet4!$A$2:$A$8270,Sheet3!$B$1,Sheet4!$B$2:$B$8270,Sheet3!$A$3)","v":22},{"$f":"+SUMIFS(Sheet4!$DM$2:$DM$8270,Sheet4!$C$2:$C$8270,Sheet3!$B22,Sheet4!$D$2:$D$8270,Sheet3!AZ$3,Sheet4!$E$2:$E$8270,Sheet3!AZ$4,Sheet4!$A$2:$A$8270,Sheet3!$B$1,Sheet4!$B$2:$B$8270,Sheet3!$A$3)","v":5},{"$f":"+SUMIFS(Sheet4!$DM$2:$DM$8270,Sheet4!$C$2:$C$8270,Sheet3!$B22,Sheet4!$D$2:$D$8270,Sheet3!BA$3,Sheet4!$E$2:$E$8270,Sheet3!BA$4,Sheet4!$A$2:$A$8270,Sheet3!$B$1,Sheet4!$B$2:$B$8270,Sheet3!$A$3)","v":0},{"$f":"+SUMIFS(Sheet4!$DM$2:$DM$8270,Sheet4!$C$2:$C$8270,Sheet3!$B22,Sheet4!$D$2:$D$8270,Sheet3!BB$3,Sheet4!$E$2:$E$8270,Sheet3!BB$4,Sheet4!$A$2:$A$8270,Sheet3!$B$1,Sheet4!$B$2:$B$8270,Sheet3!$A$3)","v":0},{"$f":"+SUMIFS(Sheet4!$DM$2:$DM$8270,Sheet4!$C$2:$C$8270,Sheet3!$B22,Sheet4!$D$2:$D$8270,Sheet3!BC$3,Sheet4!$E$2:$E$8270,Sheet3!BC$4,Sheet4!$A$2:$A$8270,Sheet3!$B$1,Sheet4!$B$2:$B$8270,Sheet3!$A$3)","v":7},{"$f":"+SUMIFS(Sheet4!$DM$2:$DM$8270,Sheet4!$C$2:$C$8270,Sheet3!$B22,Sheet4!$D$2:$D$8270,Sheet3!BD$3,Sheet4!$E$2:$E$8270,Sheet3!BD$4,Sheet4!$A$2:$A$8270,Sheet3!$B$1,Sheet4!$B$2:$B$8270,Sheet3!$A$3)","v":0},{"$f":"+SUMIFS(Sheet4!$DM$2:$DM$8270,Sheet4!$C$2:$C$8270,Sheet3!$B22,Sheet4!$D$2:$D$8270,Sheet3!BE$3,Sheet4!$E$2:$E$8270,Sheet3!BE$4,Sheet4!$A$2:$A$8270,Sheet3!$B$1,Sheet4!$B$2:$B$8270,Sheet3!$A$3)","v":0},{"$f":"+SUMIFS(Sheet4!$DM$2:$DM$8270,Sheet4!$C$2:$C$8270,Sheet3!$B22,Sheet4!$D$2:$D$8270,Sheet3!BF$3,Sheet4!$E$2:$E$8270,Sheet3!BF$4,Sheet4!$A$2:$A$8270,Sheet3!$B$1,Sheet4!$B$2:$B$8270,Sheet3!$A$3)","v":0},{"$f":"+SUMIFS(Sheet4!$DM$2:$DM$8270,Sheet4!$C$2:$C$8270,Sheet3!$B22,Sheet4!$D$2:$D$8270,Sheet3!BG$3,Sheet4!$E$2:$E$8270,Sheet3!BG$4,Sheet4!$A$2:$A$8270,Sheet3!$B$1,Sheet4!$B$2:$B$8270,Sheet3!$A$3)","v":43},{"$f":"+SUMIFS(Sheet4!$DM$2:$DM$8270,Sheet4!$C$2:$C$8270,Sheet3!$B22,Sheet4!$D$2:$D$8270,Sheet3!BH$3,Sheet4!$E$2:$E$8270,Sheet3!BH$4,Sheet4!$A$2:$A$8270,Sheet3!$B$1,Sheet4!$B$2:$B$8270,Sheet3!$A$3)","v":45},{"$f":"+SUMIFS(Sheet4!$DM$2:$DM$8270,Sheet4!$C$2:$C$8270,Sheet3!$B22,Sheet4!$D$2:$D$8270,Sheet3!BI$3,Sheet4!$E$2:$E$8270,Sheet3!BI$4,Sheet4!$A$2:$A$8270,Sheet3!$B$1,Sheet4!$B$2:$B$8270,Sheet3!$A$3)","v":10},{"$f":"+SUMIFS(Sheet4!$DM$2:$DM$8270,Sheet4!$C$2:$C$8270,Sheet3!$B22,Sheet4!$D$2:$D$8270,Sheet3!BJ$3,Sheet4!$E$2:$E$8270,Sheet3!BJ$4,Sheet4!$A$2:$A$8270,Sheet3!$B$1,Sheet4!$B$2:$B$8270,Sheet3!$A$3)","v":0},{"$f":"+SUMIFS(Sheet4!$DM$2:$DM$8270,Sheet4!$C$2:$C$8270,Sheet3!$B22,Sheet4!$D$2:$D$8270,Sheet3!BK$3,Sheet4!$E$2:$E$8270,Sheet3!BK$4,Sheet4!$A$2:$A$8270,Sheet3!$B$1,Sheet4!$B$2:$B$8270,Sheet3!$A$3)","v":0},{"$f":"+SUMIFS(Sheet4!$DM$2:$DM$8270,Sheet4!$C$2:$C$8270,Sheet3!$B22,Sheet4!$D$2:$D$8270,Sheet3!BL$3,Sheet4!$E$2:$E$8270,Sheet3!BL$4,Sheet4!$A$2:$A$8270,Sheet3!$B$1,Sheet4!$B$2:$B$8270,Sheet3!$A$3)","v":0},{"$f":"+SUMIFS(Sheet4!$DM$2:$DM$8270,Sheet4!$C$2:$C$8270,Sheet3!$B22,Sheet4!$D$2:$D$8270,Sheet3!BM$3,Sheet4!$E$2:$E$8270,Sheet3!BM$4,Sheet4!$A$2:$A$8270,Sheet3!$B$1,Sheet4!$B$2:$B$8270,Sheet3!$A$3)","v":4},{"$f":"+SUMIFS(Sheet4!$DM$2:$DM$8270,Sheet4!$C$2:$C$8270,Sheet3!$B22,Sheet4!$D$2:$D$8270,Sheet3!BN$3,Sheet4!$E$2:$E$8270,Sheet3!BN$4,Sheet4!$A$2:$A$8270,Sheet3!$B$1,Sheet4!$B$2:$B$8270,Sheet3!$A$3)","v":6},{"$f":"+SUMIFS(Sheet4!$DM$2:$DM$8270,Sheet4!$C$2:$C$8270,Sheet3!$B22,Sheet4!$D$2:$D$8270,Sheet3!BO$3,Sheet4!$E$2:$E$8270,Sheet3!BO$4,Sheet4!$A$2:$A$8270,Sheet3!$B$1,Sheet4!$B$2:$B$8270,Sheet3!$A$3)","v":0},{"$f":"+SUMIFS(Sheet4!$DM$2:$DM$8270,Sheet4!$C$2:$C$8270,Sheet3!$B22,Sheet4!$D$2:$D$8270,Sheet3!BP$3,Sheet4!$E$2:$E$8270,Sheet3!BP$4,Sheet4!$A$2:$A$8270,Sheet3!$B$1,Sheet4!$B$2:$B$8270,Sheet3!$A$3)","v":0},{"$f":"+SUMIFS(Sheet4!$DM$2:$DM$8270,Sheet4!$C$2:$C$8270,Sheet3!$B22,Sheet4!$D$2:$D$8270,Sheet3!BQ$3,Sheet4!$E$2:$E$8270,Sheet3!BQ$4,Sheet4!$A$2:$A$8270,Sheet3!$B$1,Sheet4!$B$2:$B$8270,Sheet3!$A$3)","v":317},{"$f":"+SUMIFS(Sheet4!$DM$2:$DM$8270,Sheet4!$C$2:$C$8270,Sheet3!$B22,Sheet4!$D$2:$D$8270,Sheet3!BR$3,Sheet4!$E$2:$E$8270,Sheet3!BR$4,Sheet4!$A$2:$A$8270,Sheet3!$B$1,Sheet4!$B$2:$B$8270,Sheet3!$A$3)","v":60},{"$f":"+SUMIFS(Sheet4!$DM$2:$DM$8270,Sheet4!$C$2:$C$8270,Sheet3!$B22,Sheet4!$D$2:$D$8270,Sheet3!BS$3,Sheet4!$E$2:$E$8270,Sheet3!BS$4,Sheet4!$A$2:$A$8270,Sheet3!$B$1,Sheet4!$B$2:$B$8270,Sheet3!$A$3)","v":23},{"$f":"+SUMIFS(Sheet4!$DM$2:$DM$8270,Sheet4!$C$2:$C$8270,Sheet3!$B22,Sheet4!$D$2:$D$8270,Sheet3!BT$3,Sheet4!$E$2:$E$8270,Sheet3!BT$4,Sheet4!$A$2:$A$8270,Sheet3!$B$1,Sheet4!$B$2:$B$8270,Sheet3!$A$3)","v":0},{"$f":"+SUMIFS(Sheet4!$DM$2:$DM$8270,Sheet4!$C$2:$C$8270,Sheet3!$B22,Sheet4!$D$2:$D$8270,Sheet3!BU$3,Sheet4!$E$2:$E$8270,Sheet3!BU$4,Sheet4!$A$2:$A$8270,Sheet3!$B$1,Sheet4!$B$2:$B$8270,Sheet3!$A$3)","v":0},{"$f":"+SUMIFS(Sheet4!$DM$2:$DM$8270,Sheet4!$C$2:$C$8270,Sheet3!$B22,Sheet4!$D$2:$D$8270,Sheet3!BV$3,Sheet4!$E$2:$E$8270,Sheet3!BV$4,Sheet4!$A$2:$A$8270,Sheet3!$B$1,Sheet4!$B$2:$B$8270,Sheet3!$A$3)","v":233},{"$f":"+SUMIFS(Sheet4!$DM$2:$DM$8270,Sheet4!$C$2:$C$8270,Sheet3!$B22,Sheet4!$D$2:$D$8270,Sheet3!BW$3,Sheet4!$E$2:$E$8270,Sheet3!BW$4,Sheet4!$A$2:$A$8270,Sheet3!$B$1,Sheet4!$B$2:$B$8270,Sheet3!$A$3)","v":66},{"$f":"+SUMIFS(Sheet4!$DM$2:$DM$8270,Sheet4!$C$2:$C$8270,Sheet3!$B22,Sheet4!$D$2:$D$8270,Sheet3!BX$3,Sheet4!$E$2:$E$8270,Sheet3!BX$4,Sheet4!$A$2:$A$8270,Sheet3!$B$1,Sheet4!$B$2:$B$8270,Sheet3!$A$3)","v":15},{"$f":"+SUMIFS(Sheet4!$DM$2:$DM$8270,Sheet4!$C$2:$C$8270,Sheet3!$B22,Sheet4!$D$2:$D$8270,Sheet3!BY$3,Sheet4!$E$2:$E$8270,Sheet3!BY$4,Sheet4!$A$2:$A$8270,Sheet3!$B$1,Sheet4!$B$2:$B$8270,Sheet3!$A$3)","v":5},{"$f":"+SUMIFS(Sheet4!$DM$2:$DM$8270,Sheet4!$C$2:$C$8270,Sheet3!$B22,Sheet4!$D$2:$D$8270,Sheet3!BZ$3,Sheet4!$E$2:$E$8270,Sheet3!BZ$4,Sheet4!$A$2:$A$8270,Sheet3!$B$1,Sheet4!$B$2:$B$8270,Sheet3!$A$3)","v":0},{"$f":"+SUMIFS(Sheet4!$DM$2:$DM$8270,Sheet4!$C$2:$C$8270,Sheet3!$B22,Sheet4!$D$2:$D$8270,Sheet3!CA$3,Sheet4!$E$2:$E$8270,Sheet3!CA$4,Sheet4!$A$2:$A$8270,Sheet3!$B$1,Sheet4!$B$2:$B$8270,Sheet3!$A$3)","v":86},{"$f":"+SUMIFS(Sheet4!$DM$2:$DM$8270,Sheet4!$C$2:$C$8270,Sheet3!$B22,Sheet4!$D$2:$D$8270,Sheet3!CB$3,Sheet4!$E$2:$E$8270,Sheet3!CB$4,Sheet4!$A$2:$A$8270,Sheet3!$B$1,Sheet4!$B$2:$B$8270,Sheet3!$A$3)","v":52},{"$f":"+SUMIFS(Sheet4!$DM$2:$DM$8270,Sheet4!$C$2:$C$8270,Sheet3!$B22,Sheet4!$D$2:$D$8270,Sheet3!CC$3,Sheet4!$E$2:$E$8270,Sheet3!CC$4,Sheet4!$A$2:$A$8270,Sheet3!$B$1,Sheet4!$B$2:$B$8270,Sheet3!$A$3)","v":42},{"$f":"+SUMIFS(Sheet4!$DM$2:$DM$8270,Sheet4!$C$2:$C$8270,Sheet3!$B22,Sheet4!$D$2:$D$8270,Sheet3!CD$3,Sheet4!$E$2:$E$8270,Sheet3!CD$4,Sheet4!$A$2:$A$8270,Sheet3!$B$1,Sheet4!$B$2:$B$8270,Sheet3!$A$3)","v":4},{"$f":"+SUMIFS(Sheet4!$DM$2:$DM$8270,Sheet4!$C$2:$C$8270,Sheet3!$B22,Sheet4!$D$2:$D$8270,Sheet3!CE$3,Sheet4!$E$2:$E$8270,Sheet3!CE$4,Sheet4!$A$2:$A$8270,Sheet3!$B$1,Sheet4!$B$2:$B$8270,Sheet3!$A$3)","v":0},{"$f":"+SUMIFS(Sheet4!$DM$2:$DM$8270,Sheet4!$C$2:$C$8270,Sheet3!$B22,Sheet4!$D$2:$D$8270,Sheet3!CF$3,Sheet4!$E$2:$E$8270,Sheet3!CF$4,Sheet4!$A$2:$A$8270,Sheet3!$B$1,Sheet4!$B$2:$B$8270,Sheet3!$A$3)","v":0},{"$f":"+SUMIFS(Sheet4!$DM$2:$DM$8270,Sheet4!$C$2:$C$8270,Sheet3!$B22,Sheet4!$D$2:$D$8270,Sheet3!CG$3,Sheet4!$E$2:$E$8270,Sheet3!CG$4,Sheet4!$A$2:$A$8270,Sheet3!$B$1,Sheet4!$B$2:$B$8270,Sheet3!$A$3)","v":0},{"$f":"+SUMIFS(Sheet4!$DM$2:$DM$8270,Sheet4!$C$2:$C$8270,Sheet3!$B22,Sheet4!$D$2:$D$8270,Sheet3!CH$3,Sheet4!$E$2:$E$8270,Sheet3!CH$4,Sheet4!$A$2:$A$8270,Sheet3!$B$1,Sheet4!$B$2:$B$8270,Sheet3!$A$3)","v":0},{"$f":"+SUMIFS(Sheet4!$DM$2:$DM$8270,Sheet4!$C$2:$C$8270,Sheet3!$B22,Sheet4!$D$2:$D$8270,Sheet3!CI$3,Sheet4!$E$2:$E$8270,Sheet3!CI$4,Sheet4!$A$2:$A$8270,Sheet3!$B$1,Sheet4!$B$2:$B$8270,Sheet3!$A$3)","v":0},{"$f":"+SUMIFS(Sheet4!$DM$2:$DM$8270,Sheet4!$C$2:$C$8270,Sheet3!$B22,Sheet4!$D$2:$D$8270,Sheet3!CJ$3,Sheet4!$E$2:$E$8270,Sheet3!CJ$4,Sheet4!$A$2:$A$8270,Sheet3!$B$1,Sheet4!$B$2:$B$8270,Sheet3!$A$3)","v":0},{"$f":"+SUMIFS(Sheet4!$DM$2:$DM$8270,Sheet4!$C$2:$C$8270,Sheet3!$B22,Sheet4!$D$2:$D$8270,Sheet3!CK$3,Sheet4!$E$2:$E$8270,Sheet3!CK$4,Sheet4!$A$2:$A$8270,Sheet3!$B$1,Sheet4!$B$2:$B$8270,Sheet3!$A$3)","v":0},{"$f":"+SUMIFS(Sheet4!$DM$2:$DM$8270,Sheet4!$C$2:$C$8270,Sheet3!$B22,Sheet4!$D$2:$D$8270,Sheet3!CL$3,Sheet4!$E$2:$E$8270,Sheet3!CL$4,Sheet4!$A$2:$A$8270,Sheet3!$B$1,Sheet4!$B$2:$B$8270,Sheet3!$A$3)","v":0},{"$f":"+SUMIFS(Sheet4!$DM$2:$DM$8270,Sheet4!$C$2:$C$8270,Sheet3!$B22,Sheet4!$D$2:$D$8270,Sheet3!CM$3,Sheet4!$E$2:$E$8270,Sheet3!CM$4,Sheet4!$A$2:$A$8270,Sheet3!$B$1,Sheet4!$B$2:$B$8270,Sheet3!$A$3)","v":0},{"$f":"+SUMIFS(Sheet4!$DM$2:$DM$8270,Sheet4!$C$2:$C$8270,Sheet3!$B22,Sheet4!$D$2:$D$8270,Sheet3!CN$3,Sheet4!$E$2:$E$8270,Sheet3!CN$4,Sheet4!$A$2:$A$8270,Sheet3!$B$1,Sheet4!$B$2:$B$8270,Sheet3!$A$3)","v":0},{"$f":"+SUMIFS(Sheet4!$DM$2:$DM$8270,Sheet4!$C$2:$C$8270,Sheet3!$B22,Sheet4!$D$2:$D$8270,Sheet3!CO$3,Sheet4!$E$2:$E$8270,Sheet3!CO$4,Sheet4!$A$2:$A$8270,Sheet3!$B$1,Sheet4!$B$2:$B$8270,Sheet3!$A$3)","v":0},{"$f":"+IF(SUMIFS(Sheet4!$DN$2:$DN$8270,Sheet4!$C$2:$C$8270,Sheet3!$B22,Sheet4!$D$2:$D$8270,Sheet3!CP$3,Sheet4!$A$2:$A$8270,Sheet3!$B$1,Sheet4!$B$2:$B$8270,Sheet3!$A$3)<3,0,SUMIFS(Sheet4!$DN$2:$DN$8270,Sheet4!$C$2:$C$8270,Sheet3!$B22,Sheet4!$D$2:$D$8270,Sheet3!CP$3,Sheet4!$A$2:$A$8270,Sheet3!$B$1,Sheet4!$B$2:$B$8270,Sheet3!$A$3))","v":11},{"$f":"+IF(SUMIFS(Sheet4!$DN$2:$DN$8270,Sheet4!$C$2:$C$8270,Sheet3!$B22,Sheet4!$D$2:$D$8270,Sheet3!CQ$3,Sheet4!$A$2:$A$8270,Sheet3!$B$1,Sheet4!$B$2:$B$8270,Sheet3!$A$3)<3,0,SUMIFS(Sheet4!$DN$2:$DN$8270,Sheet4!$C$2:$C$8270,Sheet3!$B22,Sheet4!$D$2:$D$8270,Sheet3!CQ$3,Sheet4!$A$2:$A$8270,Sheet3!$B$1,Sheet4!$B$2:$B$8270,Sheet3!$A$3))","v":59},{"$f":"+IF(SUMIFS(Sheet4!$DN$2:$DN$8270,Sheet4!$C$2:$C$8270,Sheet3!$B22,Sheet4!$D$2:$D$8270,Sheet3!CR$3,Sheet4!$A$2:$A$8270,Sheet3!$B$1,Sheet4!$B$2:$B$8270,Sheet3!$A$3)<3,0,SUMIFS(Sheet4!$DN$2:$DN$8270,Sheet4!$C$2:$C$8270,Sheet3!$B22,Sheet4!$D$2:$D$8270,Sheet3!CR$3,Sheet4!$A$2:$A$8270,Sheet3!$B$1,Sheet4!$B$2:$B$8270,Sheet3!$A$3))","v":66},{"$f":"+IF(SUMIFS(Sheet4!$DN$2:$DN$8270,Sheet4!$C$2:$C$8270,Sheet3!$B22,Sheet4!$D$2:$D$8270,Sheet3!CS$3,Sheet4!$A$2:$A$8270,Sheet3!$B$1,Sheet4!$B$2:$B$8270,Sheet3!$A$3)<3,0,SUMIFS(Sheet4!$DN$2:$DN$8270,Sheet4!$C$2:$C$8270,Sheet3!$B22,Sheet4!$D$2:$D$8270,Sheet3!CS$3,Sheet4!$A$2:$A$8270,Sheet3!$B$1,Sheet4!$B$2:$B$8270,Sheet3!$A$3))","v":0},{"$f":"+IF(SUMIFS(Sheet4!$DN$2:$DN$8270,Sheet4!$C$2:$C$8270,Sheet3!$B22,Sheet4!$D$2:$D$8270,Sheet3!CT$3,Sheet4!$A$2:$A$8270,Sheet3!$B$1,Sheet4!$B$2:$B$8270,Sheet3!$A$3)<3,0,SUMIFS(Sheet4!$DN$2:$DN$8270,Sheet4!$C$2:$C$8270,Sheet3!$B22,Sheet4!$D$2:$D$8270,Sheet3!CT$3,Sheet4!$A$2:$A$8270,Sheet3!$B$1,Sheet4!$B$2:$B$8270,Sheet3!$A$3))","v":3},{"$f":"+IF(SUMIFS(Sheet4!$DN$2:$DN$8270,Sheet4!$C$2:$C$8270,Sheet3!$B22,Sheet4!$D$2:$D$8270,Sheet3!CU$3,Sheet4!$A$2:$A$8270,Sheet3!$B$1,Sheet4!$B$2:$B$8270,Sheet3!$A$3)<3,0,SUMIFS(Sheet4!$DN$2:$DN$8270,Sheet4!$C$2:$C$8270,Sheet3!$B22,Sheet4!$D$2:$D$8270,Sheet3!CU$3,Sheet4!$A$2:$A$8270,Sheet3!$B$1,Sheet4!$B$2:$B$8270,Sheet3!$A$3))","v":289},{"$f":"+IF(SUMIFS(Sheet4!$DN$2:$DN$8270,Sheet4!$C$2:$C$8270,Sheet3!$B22,Sheet4!$D$2:$D$8270,Sheet3!CV$3,Sheet4!$A$2:$A$8270,Sheet3!$B$1,Sheet4!$B$2:$B$8270,Sheet3!$A$3)<3,0,SUMIFS(Sheet4!$DN$2:$DN$8270,Sheet4!$C$2:$C$8270,Sheet3!$B22,Sheet4!$D$2:$D$8270,Sheet3!CV$3,Sheet4!$A$2:$A$8270,Sheet3!$B$1,Sheet4!$B$2:$B$8270,Sheet3!$A$3))","v":57},{"$f":"+IF(SUMIFS(Sheet4!$DN$2:$DN$8270,Sheet4!$C$2:$C$8270,Sheet3!$B22,Sheet4!$D$2:$D$8270,Sheet3!CW$3,Sheet4!$A$2:$A$8270,Sheet3!$B$1,Sheet4!$B$2:$B$8270,Sheet3!$A$3)<3,0,SUMIFS(Sheet4!$DN$2:$DN$8270,Sheet4!$C$2:$C$8270,Sheet3!$B22,Sheet4!$D$2:$D$8270,Sheet3!CW$3,Sheet4!$A$2:$A$8270,Sheet3!$B$1,Sheet4!$B$2:$B$8270,Sheet3!$A$3))","v":299},{"$f":"+IF(SUMIFS(Sheet4!$DN$2:$DN$8270,Sheet4!$C$2:$C$8270,Sheet3!$B22,Sheet4!$D$2:$D$8270,Sheet3!CX$3,Sheet4!$A$2:$A$8270,Sheet3!$B$1,Sheet4!$B$2:$B$8270,Sheet3!$A$3)<3,0,SUMIFS(Sheet4!$DN$2:$DN$8270,Sheet4!$C$2:$C$8270,Sheet3!$B22,Sheet4!$D$2:$D$8270,Sheet3!CX$3,Sheet4!$A$2:$A$8270,Sheet3!$B$1,Sheet4!$B$2:$B$8270,Sheet3!$A$3))","v":645},{"$f":"+IF(SUMIFS(Sheet4!$DN$2:$DN$8270,Sheet4!$C$2:$C$8270,Sheet3!$B22,Sheet4!$D$2:$D$8270,Sheet3!CY$3,Sheet4!$A$2:$A$8270,Sheet3!$B$1,Sheet4!$B$2:$B$8270,Sheet3!$A$3)<3,0,SUMIFS(Sheet4!$DN$2:$DN$8270,Sheet4!$C$2:$C$8270,Sheet3!$B22,Sheet4!$D$2:$D$8270,Sheet3!CY$3,Sheet4!$A$2:$A$8270,Sheet3!$B$1,Sheet4!$B$2:$B$8270,Sheet3!$A$3))","v":1583},{"$f":"+IF(SUMIFS(Sheet4!$DN$2:$DN$8270,Sheet4!$C$2:$C$8270,Sheet3!$B22,Sheet4!$D$2:$D$8270,Sheet3!CZ$3,Sheet4!$A$2:$A$8270,Sheet3!$B$1,Sheet4!$B$2:$B$8270,Sheet3!$A$3)<3,0,SUMIFS(Sheet4!$DN$2:$DN$8270,Sheet4!$C$2:$C$8270,Sheet3!$B22,Sheet4!$D$2:$D$8270,Sheet3!CZ$3,Sheet4!$A$2:$A$8270,Sheet3!$B$1,Sheet4!$B$2:$B$8270,Sheet3!$A$3))","v":11},{"$f":"+IF(SUMIFS(Sheet4!$DN$2:$DN$8270,Sheet4!$C$2:$C$8270,Sheet3!$B22,Sheet4!$D$2:$D$8270,Sheet3!DA$3,Sheet4!$A$2:$A$8270,Sheet3!$B$1,Sheet4!$B$2:$B$8270,Sheet3!$A$3)<3,0,SUMIFS(Sheet4!$DN$2:$DN$8270,Sheet4!$C$2:$C$8270,Sheet3!$B22,Sheet4!$D$2:$D$8270,Sheet3!DA$3,Sheet4!$A$2:$A$8270,Sheet3!$B$1,Sheet4!$B$2:$B$8270,Sheet3!$A$3))","v":101},{"$f":"+IF(SUMIFS(Sheet4!$DN$2:$DN$8270,Sheet4!$C$2:$C$8270,Sheet3!$B22,Sheet4!$D$2:$D$8270,Sheet3!DB$3,Sheet4!$A$2:$A$8270,Sheet3!$B$1,Sheet4!$B$2:$B$8270,Sheet3!$A$3)<3,0,SUMIFS(Sheet4!$DN$2:$DN$8270,Sheet4!$C$2:$C$8270,Sheet3!$B22,Sheet4!$D$2:$D$8270,Sheet3!DB$3,Sheet4!$A$2:$A$8270,Sheet3!$B$1,Sheet4!$B$2:$B$8270,Sheet3!$A$3))","v":14},{"$f":"+IF(SUMIFS(Sheet4!$DN$2:$DN$8270,Sheet4!$C$2:$C$8270,Sheet3!$B22,Sheet4!$D$2:$D$8270,Sheet3!DC$3,Sheet4!$A$2:$A$8270,Sheet3!$B$1,Sheet4!$B$2:$B$8270,Sheet3!$A$3)<3,0,SUMIFS(Sheet4!$DN$2:$DN$8270,Sheet4!$C$2:$C$8270,Sheet3!$B22,Sheet4!$D$2:$D$8270,Sheet3!DC$3,Sheet4!$A$2:$A$8270,Sheet3!$B$1,Sheet4!$B$2:$B$8270,Sheet3!$A$3))","v":402},{"$f":"+IF(SUMIFS(Sheet4!$DN$2:$DN$8270,Sheet4!$C$2:$C$8270,Sheet3!$B22,Sheet4!$D$2:$D$8270,Sheet3!DD$3,Sheet4!$A$2:$A$8270,Sheet3!$B$1,Sheet4!$B$2:$B$8270,Sheet3!$A$3)<3,0,SUMIFS(Sheet4!$DN$2:$DN$8270,Sheet4!$C$2:$C$8270,Sheet3!$B22,Sheet4!$D$2:$D$8270,Sheet3!DD$3,Sheet4!$A$2:$A$8270,Sheet3!$B$1,Sheet4!$B$2:$B$8270,Sheet3!$A$3))","v":322},{"$f":"+IF(SUMIFS(Sheet4!$DN$2:$DN$8270,Sheet4!$C$2:$C$8270,Sheet3!$B22,Sheet4!$D$2:$D$8270,Sheet3!DE$3,Sheet4!$A$2:$A$8270,Sheet3!$B$1,Sheet4!$B$2:$B$8270,Sheet3!$A$3)<3,0,SUMIFS(Sheet4!$DN$2:$DN$8270,Sheet4!$C$2:$C$8270,Sheet3!$B22,Sheet4!$D$2:$D$8270,Sheet3!DE$3,Sheet4!$A$2:$A$8270,Sheet3!$B$1,Sheet4!$B$2:$B$8270,Sheet3!$A$3))","v":186},{"$f":"+IF(SUMIFS(Sheet4!$DN$2:$DN$8270,Sheet4!$C$2:$C$8270,Sheet3!$B22,Sheet4!$D$2:$D$8270,Sheet3!DF$3,Sheet4!$A$2:$A$8270,Sheet3!$B$1,Sheet4!$B$2:$B$8270,Sheet3!$A$3)<3,0,SUMIFS(Sheet4!$DN$2:$DN$8270,Sheet4!$C$2:$C$8270,Sheet3!$B22,Sheet4!$D$2:$D$8270,Sheet3!DF$3,Sheet4!$A$2:$A$8270,Sheet3!$B$1,Sheet4!$B$2:$B$8270,Sheet3!$A$3))","v":0},{"$f":"+IF(SUMIFS(Sheet4!$DN$2:$DN$8270,Sheet4!$C$2:$C$8270,Sheet3!$B22,Sheet4!$D$2:$D$8270,Sheet3!DG$3,Sheet4!$A$2:$A$8270,Sheet3!$B$1,Sheet4!$B$2:$B$8270,Sheet3!$A$3)<3,0,SUMIFS(Sheet4!$DN$2:$DN$8270,Sheet4!$C$2:$C$8270,Sheet3!$B22,Sheet4!$D$2:$D$8270,Sheet3!DG$3,Sheet4!$A$2:$A$8270,Sheet3!$B$1,Sheet4!$B$2:$B$8270,Sheet3!$A$3))","v":0},{"$f":"+IF(SUMIFS(Sheet4!$DN$2:$DN$8270,Sheet4!$C$2:$C$8270,Sheet3!$B22,Sheet4!$E$2:$E$8270,Sheet3!DH$4,Sheet4!$A$2:$A$8270,Sheet3!$B$1,Sheet4!$B$2:$B$8270,Sheet3!$A$3)<3,0,SUMIFS(Sheet4!$DN$2:$DN$8270,Sheet4!$C$2:$C$8270,Sheet3!$B22,Sheet4!$E$2:$E$8270,Sheet3!DH$4,Sheet4!$A$2:$A$8270,Sheet3!$B$1,Sheet4!$B$2:$B$8270,Sheet3!$A$3))","v":3152},{"$f":"+IF(SUMIFS(Sheet4!$DN$2:$DN$8270,Sheet4!$C$2:$C$8270,Sheet3!$B22,Sheet4!$E$2:$E$8270,Sheet3!DI$4,Sheet4!$A$2:$A$8270,Sheet3!$B$1,Sheet4!$B$2:$B$8270,Sheet3!$A$3)<3,0,SUMIFS(Sheet4!$DN$2:$DN$8270,Sheet4!$C$2:$C$8270,Sheet3!$B22,Sheet4!$E$2:$E$8270,Sheet3!DI$4,Sheet4!$A$2:$A$8270,Sheet3!$B$1,Sheet4!$B$2:$B$8270,Sheet3!$A$3))","v":680},{"$f":"+IF(SUMIFS(Sheet4!$DN$2:$DN$8270,Sheet4!$C$2:$C$8270,Sheet3!$B22,Sheet4!$E$2:$E$8270,Sheet3!DJ$4,Sheet4!$A$2:$A$8270,Sheet3!$B$1,Sheet4!$B$2:$B$8270,Sheet3!$A$3)<3,0,SUMIFS(Sheet4!$DN$2:$DN$8270,Sheet4!$C$2:$C$8270,Sheet3!$B22,Sheet4!$E$2:$E$8270,Sheet3!DJ$4,Sheet4!$A$2:$A$8270,Sheet3!$B$1,Sheet4!$B$2:$B$8270,Sheet3!$A$3))","v":195},{"$f":"+IF(SUMIFS(Sheet4!$DN$2:$DN$8270,Sheet4!$C$2:$C$8270,Sheet3!$B22,Sheet4!$E$2:$E$8270,Sheet3!DK$4,Sheet4!$A$2:$A$8270,Sheet3!$B$1,Sheet4!$B$2:$B$8270,Sheet3!$A$3)<3,0,SUMIFS(Sheet4!$DN$2:$DN$8270,Sheet4!$C$2:$C$8270,Sheet3!$B22,Sheet4!$E$2:$E$8270,Sheet3!DK$4,Sheet4!$A$2:$A$8270,Sheet3!$B$1,Sheet4!$B$2:$B$8270,Sheet3!$A$3))","v":20},{"$f":"+IF(SUMIFS(Sheet4!$DN$2:$DN$8270,Sheet4!$C$2:$C$8270,Sheet3!$B22,Sheet4!$E$2:$E$8270,Sheet3!DL$4,Sheet4!$A$2:$A$8270,Sheet3!$B$1,Sheet4!$B$2:$B$8270,Sheet3!$A$3)<3,0,SUMIFS(Sheet4!$DN$2:$DN$8270,Sheet4!$C$2:$C$8270,Sheet3!$B22,Sheet4!$E$2:$E$8270,Sheet3!DL$4,Sheet4!$A$2:$A$8270,Sheet3!$B$1,Sheet4!$B$2:$B$8270,Sheet3!$A$3))","v":0}]
[4,"16J","Beiras e Serra da Estrela",{"$f":"+SUMIFS(Sheet4!$DM$2:$DM$8270,Sheet4!$C$2:$C$8270,Sheet3!$B23,Sheet4!$D$2:$D$8270,Sheet3!D$3,Sheet4!$E$2:$E$8270,Sheet3!D$4,Sheet4!$A$2:$A$8270,Sheet3!$B$1,Sheet4!$B$2:$B$8270,Sheet3!$A$3)","v":16},{"$f":"+SUMIFS(Sheet4!$DM$2:$DM$8270,Sheet4!$C$2:$C$8270,Sheet3!$B23,Sheet4!$D$2:$D$8270,Sheet3!E$3,Sheet4!$E$2:$E$8270,Sheet3!E$4,Sheet4!$A$2:$A$8270,Sheet3!$B$1,Sheet4!$B$2:$B$8270,Sheet3!$A$3)","v":8},{"$f":"+SUMIFS(Sheet4!$DM$2:$DM$8270,Sheet4!$C$2:$C$8270,Sheet3!$B23,Sheet4!$D$2:$D$8270,Sheet3!F$3,Sheet4!$E$2:$E$8270,Sheet3!F$4,Sheet4!$A$2:$A$8270,Sheet3!$B$1,Sheet4!$B$2:$B$8270,Sheet3!$A$3)","v":3},{"$f":"+SUMIFS(Sheet4!$DM$2:$DM$8270,Sheet4!$C$2:$C$8270,Sheet3!$B23,Sheet4!$D$2:$D$8270,Sheet3!G$3,Sheet4!$E$2:$E$8270,Sheet3!G$4,Sheet4!$A$2:$A$8270,Sheet3!$B$1,Sheet4!$B$2:$B$8270,Sheet3!$A$3)","v":0},{"$f":"+SUMIFS(Sheet4!$DM$2:$DM$8270,Sheet4!$C$2:$C$8270,Sheet3!$B23,Sheet4!$D$2:$D$8270,Sheet3!H$3,Sheet4!$E$2:$E$8270,Sheet3!H$4,Sheet4!$A$2:$A$8270,Sheet3!$B$1,Sheet4!$B$2:$B$8270,Sheet3!$A$3)","v":0},{"$f":"+SUMIFS(Sheet4!$DM$2:$DM$8270,Sheet4!$C$2:$C$8270,Sheet3!$B23,Sheet4!$D$2:$D$8270,Sheet3!I$3,Sheet4!$E$2:$E$8270,Sheet3!I$4,Sheet4!$A$2:$A$8270,Sheet3!$B$1,Sheet4!$B$2:$B$8270,Sheet3!$A$3)","v":54},{"$f":"+SUMIFS(Sheet4!$DM$2:$DM$8270,Sheet4!$C$2:$C$8270,Sheet3!$B23,Sheet4!$D$2:$D$8270,Sheet3!J$3,Sheet4!$E$2:$E$8270,Sheet3!J$4,Sheet4!$A$2:$A$8270,Sheet3!$B$1,Sheet4!$B$2:$B$8270,Sheet3!$A$3)","v":20},{"$f":"+SUMIFS(Sheet4!$DM$2:$DM$8270,Sheet4!$C$2:$C$8270,Sheet3!$B23,Sheet4!$D$2:$D$8270,Sheet3!K$3,Sheet4!$E$2:$E$8270,Sheet3!K$4,Sheet4!$A$2:$A$8270,Sheet3!$B$1,Sheet4!$B$2:$B$8270,Sheet3!$A$3)","v":5},{"$f":"+SUMIFS(Sheet4!$DM$2:$DM$8270,Sheet4!$C$2:$C$8270,Sheet3!$B23,Sheet4!$D$2:$D$8270,Sheet3!L$3,Sheet4!$E$2:$E$8270,Sheet3!L$4,Sheet4!$A$2:$A$8270,Sheet3!$B$1,Sheet4!$B$2:$B$8270,Sheet3!$A$3)","v":0},{"$f":"+SUMIFS(Sheet4!$DM$2:$DM$8270,Sheet4!$C$2:$C$8270,Sheet3!$B23,Sheet4!$D$2:$D$8270,Sheet3!M$3,Sheet4!$E$2:$E$8270,Sheet3!M$4,Sheet4!$A$2:$A$8270,Sheet3!$B$1,Sheet4!$B$2:$B$8270,Sheet3!$A$3)","v":0},{"$f":"+SUMIFS(Sheet4!$DM$2:$DM$8270,Sheet4!$C$2:$C$8270,Sheet3!$B23,Sheet4!$D$2:$D$8270,Sheet3!N$3,Sheet4!$E$2:$E$8270,Sheet3!N$4,Sheet4!$A$2:$A$8270,Sheet3!$B$1,Sheet4!$B$2:$B$8270,Sheet3!$A$3)","v":486},{"$f":"+SUMIFS(Sheet4!$DM$2:$DM$8270,Sheet4!$C$2:$C$8270,Sheet3!$B23,Sheet4!$D$2:$D$8270,Sheet3!O$3,Sheet4!$E$2:$E$8270,Sheet3!O$4,Sheet4!$A$2:$A$8270,Sheet3!$B$1,Sheet4!$B$2:$B$8270,Sheet3!$A$3)","v":321},{"$f":"+SUMIFS(Sheet4!$DM$2:$DM$8270,Sheet4!$C$2:$C$8270,Sheet3!$B23,Sheet4!$D$2:$D$8270,Sheet3!P$3,Sheet4!$E$2:$E$8270,Sheet3!P$4,Sheet4!$A$2:$A$8270,Sheet3!$B$1,Sheet4!$B$2:$B$8270,Sheet3!$A$3)","v":53},{"$f":"+SUMIFS(Sheet4!$DM$2:$DM$8270,Sheet4!$C$2:$C$8270,Sheet3!$B23,Sheet4!$D$2:$D$8270,Sheet3!Q$3,Sheet4!$E$2:$E$8270,Sheet3!Q$4,Sheet4!$A$2:$A$8270,Sheet3!$B$1,Sheet4!$B$2:$B$8270,Sheet3!$A$3)","v":0},{"$f":"+SUMIFS(Sheet4!$DM$2:$DM$8270,Sheet4!$C$2:$C$8270,Sheet3!$B23,Sheet4!$D$2:$D$8270,Sheet3!R$3,Sheet4!$E$2:$E$8270,Sheet3!R$4,Sheet4!$A$2:$A$8270,Sheet3!$B$1,Sheet4!$B$2:$B$8270,Sheet3!$A$3)","v":0},{"$f":"+SUMIFS(Sheet4!$DM$2:$DM$8270,Sheet4!$C$2:$C$8270,Sheet3!$B23,Sheet4!$D$2:$D$8270,Sheet3!S$3,Sheet4!$E$2:$E$8270,Sheet3!S$4,Sheet4!$A$2:$A$8270,Sheet3!$B$1,Sheet4!$B$2:$B$8270,Sheet3!$A$3)","v":0},{"$f":"+SUMIFS(Sheet4!$DM$2:$DM$8270,Sheet4!$C$2:$C$8270,Sheet3!$B23,Sheet4!$D$2:$D$8270,Sheet3!T$3,Sheet4!$E$2:$E$8270,Sheet3!T$4,Sheet4!$A$2:$A$8270,Sheet3!$B$1,Sheet4!$B$2:$B$8270,Sheet3!$A$3)","v":0},{"$f":"+SUMIFS(Sheet4!$DM$2:$DM$8270,Sheet4!$C$2:$C$8270,Sheet3!$B23,Sheet4!$D$2:$D$8270,Sheet3!U$3,Sheet4!$E$2:$E$8270,Sheet3!U$4,Sheet4!$A$2:$A$8270,Sheet3!$B$1,Sheet4!$B$2:$B$8270,Sheet3!$A$3)","v":0},{"$f":"+SUMIFS(Sheet4!$DM$2:$DM$8270,Sheet4!$C$2:$C$8270,Sheet3!$B23,Sheet4!$D$2:$D$8270,Sheet3!V$3,Sheet4!$E$2:$E$8270,Sheet3!V$4,Sheet4!$A$2:$A$8270,Sheet3!$B$1,Sheet4!$B$2:$B$8270,Sheet3!$A$3)","v":0},{"$f":"+SUMIFS(Sheet4!$DM$2:$DM$8270,Sheet4!$C$2:$C$8270,Sheet3!$B23,Sheet4!$D$2:$D$8270,Sheet3!W$3,Sheet4!$E$2:$E$8270,Sheet3!W$4,Sheet4!$A$2:$A$8270,Sheet3!$B$1,Sheet4!$B$2:$B$8270,Sheet3!$A$3)","v":0},{"$f":"+SUMIFS(Sheet4!$DM$2:$DM$8270,Sheet4!$C$2:$C$8270,Sheet3!$B23,Sheet4!$D$2:$D$8270,Sheet3!X$3,Sheet4!$E$2:$E$8270,Sheet3!X$4,Sheet4!$A$2:$A$8270,Sheet3!$B$1,Sheet4!$B$2:$B$8270,Sheet3!$A$3)","v":0},{"$f":"+SUMIFS(Sheet4!$DM$2:$DM$8270,Sheet4!$C$2:$C$8270,Sheet3!$B23,Sheet4!$D$2:$D$8270,Sheet3!Y$3,Sheet4!$E$2:$E$8270,Sheet3!Y$4,Sheet4!$A$2:$A$8270,Sheet3!$B$1,Sheet4!$B$2:$B$8270,Sheet3!$A$3)","v":0},{"$f":"+SUMIFS(Sheet4!$DM$2:$DM$8270,Sheet4!$C$2:$C$8270,Sheet3!$B23,Sheet4!$D$2:$D$8270,Sheet3!Z$3,Sheet4!$E$2:$E$8270,Sheet3!Z$4,Sheet4!$A$2:$A$8270,Sheet3!$B$1,Sheet4!$B$2:$B$8270,Sheet3!$A$3)","v":0},{"$f":"+SUMIFS(Sheet4!$DM$2:$DM$8270,Sheet4!$C$2:$C$8270,Sheet3!$B23,Sheet4!$D$2:$D$8270,Sheet3!AA$3,Sheet4!$E$2:$E$8270,Sheet3!AA$4,Sheet4!$A$2:$A$8270,Sheet3!$B$1,Sheet4!$B$2:$B$8270,Sheet3!$A$3)","v":0},{"$f":"+SUMIFS(Sheet4!$DM$2:$DM$8270,Sheet4!$C$2:$C$8270,Sheet3!$B23,Sheet4!$D$2:$D$8270,Sheet3!AB$3,Sheet4!$E$2:$E$8270,Sheet3!AB$4,Sheet4!$A$2:$A$8270,Sheet3!$B$1,Sheet4!$B$2:$B$8270,Sheet3!$A$3)","v":0},{"$f":"+SUMIFS(Sheet4!$DM$2:$DM$8270,Sheet4!$C$2:$C$8270,Sheet3!$B23,Sheet4!$D$2:$D$8270,Sheet3!AC$3,Sheet4!$E$2:$E$8270,Sheet3!AC$4,Sheet4!$A$2:$A$8270,Sheet3!$B$1,Sheet4!$B$2:$B$8270,Sheet3!$A$3)","v":1499},{"$f":"+SUMIFS(Sheet4!$DM$2:$DM$8270,Sheet4!$C$2:$C$8270,Sheet3!$B23,Sheet4!$D$2:$D$8270,Sheet3!AD$3,Sheet4!$E$2:$E$8270,Sheet3!AD$4,Sheet4!$A$2:$A$8270,Sheet3!$B$1,Sheet4!$B$2:$B$8270,Sheet3!$A$3)","v":193},{"$f":"+SUMIFS(Sheet4!$DM$2:$DM$8270,Sheet4!$C$2:$C$8270,Sheet3!$B23,Sheet4!$D$2:$D$8270,Sheet3!AE$3,Sheet4!$E$2:$E$8270,Sheet3!AE$4,Sheet4!$A$2:$A$8270,Sheet3!$B$1,Sheet4!$B$2:$B$8270,Sheet3!$A$3)","v":10},{"$f":"+SUMIFS(Sheet4!$DM$2:$DM$8270,Sheet4!$C$2:$C$8270,Sheet3!$B23,Sheet4!$D$2:$D$8270,Sheet3!AF$3,Sheet4!$E$2:$E$8270,Sheet3!AF$4,Sheet4!$A$2:$A$8270,Sheet3!$B$1,Sheet4!$B$2:$B$8270,Sheet3!$A$3)","v":0},{"$f":"+SUMIFS(Sheet4!$DM$2:$DM$8270,Sheet4!$C$2:$C$8270,Sheet3!$B23,Sheet4!$D$2:$D$8270,Sheet3!AG$3,Sheet4!$E$2:$E$8270,Sheet3!AG$4,Sheet4!$A$2:$A$8270,Sheet3!$B$1,Sheet4!$B$2:$B$8270,Sheet3!$A$3)","v":0},{"$f":"+SUMIFS(Sheet4!$DM$2:$DM$8270,Sheet4!$C$2:$C$8270,Sheet3!$B23,Sheet4!$D$2:$D$8270,Sheet3!AH$3,Sheet4!$E$2:$E$8270,Sheet3!AH$4,Sheet4!$A$2:$A$8270,Sheet3!$B$1,Sheet4!$B$2:$B$8270,Sheet3!$A$3)","v":282},{"$f":"+SUMIFS(Sheet4!$DM$2:$DM$8270,Sheet4!$C$2:$C$8270,Sheet3!$B23,Sheet4!$D$2:$D$8270,Sheet3!AI$3,Sheet4!$E$2:$E$8270,Sheet3!AI$4,Sheet4!$A$2:$A$8270,Sheet3!$B$1,Sheet4!$B$2:$B$8270,Sheet3!$A$3)","v":176},{"$f":"+SUMIFS(Sheet4!$DM$2:$DM$8270,Sheet4!$C$2:$C$8270,Sheet3!$B23,Sheet4!$D$2:$D$8270,Sheet3!AJ$3,Sheet4!$E$2:$E$8270,Sheet3!AJ$4,Sheet4!$A$2:$A$8270,Sheet3!$B$1,Sheet4!$B$2:$B$8270,Sheet3!$A$3)","v":41},{"$f":"+SUMIFS(Sheet4!$DM$2:$DM$8270,Sheet4!$C$2:$C$8270,Sheet3!$B23,Sheet4!$D$2:$D$8270,Sheet3!AK$3,Sheet4!$E$2:$E$8270,Sheet3!AK$4,Sheet4!$A$2:$A$8270,Sheet3!$B$1,Sheet4!$B$2:$B$8270,Sheet3!$A$3)","v":0},{"$f":"+SUMIFS(Sheet4!$DM$2:$DM$8270,Sheet4!$C$2:$C$8270,Sheet3!$B23,Sheet4!$D$2:$D$8270,Sheet3!AL$3,Sheet4!$E$2:$E$8270,Sheet3!AL$4,Sheet4!$A$2:$A$8270,Sheet3!$B$1,Sheet4!$B$2:$B$8270,Sheet3!$A$3)","v":0},{"$f":"+SUMIFS(Sheet4!$DM$2:$DM$8270,Sheet4!$C$2:$C$8270,Sheet3!$B23,Sheet4!$D$2:$D$8270,Sheet3!AM$3,Sheet4!$E$2:$E$8270,Sheet3!AM$4,Sheet4!$A$2:$A$8270,Sheet3!$B$1,Sheet4!$B$2:$B$8270,Sheet3!$A$3)","v":718},{"$f":"+SUMIFS(Sheet4!$DM$2:$DM$8270,Sheet4!$C$2:$C$8270,Sheet3!$B23,Sheet4!$D$2:$D$8270,Sheet3!AN$3,Sheet4!$E$2:$E$8270,Sheet3!AN$4,Sheet4!$A$2:$A$8270,Sheet3!$B$1,Sheet4!$B$2:$B$8270,Sheet3!$A$3)","v":455},{"$f":"+SUMIFS(Sheet4!$DM$2:$DM$8270,Sheet4!$C$2:$C$8270,Sheet3!$B23,Sheet4!$D$2:$D$8270,Sheet3!AO$3,Sheet4!$E$2:$E$8270,Sheet3!AO$4,Sheet4!$A$2:$A$8270,Sheet3!$B$1,Sheet4!$B$2:$B$8270,Sheet3!$A$3)","v":94},{"$f":"+SUMIFS(Sheet4!$DM$2:$DM$8270,Sheet4!$C$2:$C$8270,Sheet3!$B23,Sheet4!$D$2:$D$8270,Sheet3!AP$3,Sheet4!$E$2:$E$8270,Sheet3!AP$4,Sheet4!$A$2:$A$8270,Sheet3!$B$1,Sheet4!$B$2:$B$8270,Sheet3!$A$3)","v":0},{"$f":"+SUMIFS(Sheet4!$DM$2:$DM$8270,Sheet4!$C$2:$C$8270,Sheet3!$B23,Sheet4!$D$2:$D$8270,Sheet3!AQ$3,Sheet4!$E$2:$E$8270,Sheet3!AQ$4,Sheet4!$A$2:$A$8270,Sheet3!$B$1,Sheet4!$B$2:$B$8270,Sheet3!$A$3)","v":0},{"$f":"+SUMIFS(Sheet4!$DM$2:$DM$8270,Sheet4!$C$2:$C$8270,Sheet3!$B23,Sheet4!$D$2:$D$8270,Sheet3!AR$3,Sheet4!$E$2:$E$8270,Sheet3!AR$4,Sheet4!$A$2:$A$8270,Sheet3!$B$1,Sheet4!$B$2:$B$8270,Sheet3!$A$3)","v":529},{"$f":"+SUMIFS(Sheet4!$DM$2:$DM$8270,Sheet4!$C$2:$C$8270,Sheet3!$B23,Sheet4!$D$2:$D$8270,Sheet3!AS$3,Sheet4!$E$2:$E$8270,Sheet3!AS$4,Sheet4!$A$2:$A$8270,Sheet3!$B$1,Sheet4!$B$2:$B$8270,Sheet3!$A$3)","v":51},{"$f":"+SUMIFS(Sheet4!$DM$2:$DM$8270,Sheet4!$C$2:$C$8270,Sheet3!$B23,Sheet4!$D$2:$D$8270,Sheet3!AT$3,Sheet4!$E$2:$E$8270,Sheet3!AT$4,Sheet4!$A$2:$A$8270,Sheet3!$B$1,Sheet4!$B$2:$B$8270,Sheet3!$A$3)","v":10},{"$f":"+SUMIFS(Sheet4!$DM$2:$DM$8270,Sheet4!$C$2:$C$8270,Sheet3!$B23,Sheet4!$D$2:$D$8270,Sheet3!AU$3,Sheet4!$E$2:$E$8270,Sheet3!AU$4,Sheet4!$A$2:$A$8270,Sheet3!$B$1,Sheet4!$B$2:$B$8270,Sheet3!$A$3)","v":0},{"$f":"+SUMIFS(Sheet4!$DM$2:$DM$8270,Sheet4!$C$2:$C$8270,Sheet3!$B23,Sheet4!$D$2:$D$8270,Sheet3!AV$3,Sheet4!$E$2:$E$8270,Sheet3!AV$4,Sheet4!$A$2:$A$8270,Sheet3!$B$1,Sheet4!$B$2:$B$8270,Sheet3!$A$3)","v":0},{"$f":"+SUMIFS(Sheet4!$DM$2:$DM$8270,Sheet4!$C$2:$C$8270,Sheet3!$B23,Sheet4!$D$2:$D$8270,Sheet3!AW$3,Sheet4!$E$2:$E$8270,Sheet3!AW$4,Sheet4!$A$2:$A$8270,Sheet3!$B$1,Sheet4!$B$2:$B$8270,Sheet3!$A$3)","v":3827},{"$f":"+SUMIFS(Sheet4!$DM$2:$DM$8270,Sheet4!$C$2:$C$8270,Sheet3!$B23,Sheet4!$D$2:$D$8270,Sheet3!AX$3,Sheet4!$E$2:$E$8270,Sheet3!AX$4,Sheet4!$A$2:$A$8270,Sheet3!$B$1,Sheet4!$B$2:$B$8270,Sheet3!$A$3)","v":1570},{"$f":"+SUMIFS(Sheet4!$DM$2:$DM$8270,Sheet4!$C$2:$C$8270,Sheet3!$B23,Sheet4!$D$2:$D$8270,Sheet3!AY$3,Sheet4!$E$2:$E$8270,Sheet3!AY$4,Sheet4!$A$2:$A$8270,Sheet3!$B$1,Sheet4!$B$2:$B$8270,Sheet3!$A$3)","v":124},{"$f":"+SUMIFS(Sheet4!$DM$2:$DM$8270,Sheet4!$C$2:$C$8270,Sheet3!$B23,Sheet4!$D$2:$D$8270,Sheet3!AZ$3,Sheet4!$E$2:$E$8270,Sheet3!AZ$4,Sheet4!$A$2:$A$8270,Sheet3!$B$1,Sheet4!$B$2:$B$8270,Sheet3!$A$3)","v":0},{"$f":"+SUMIFS(Sheet4!$DM$2:$DM$8270,Sheet4!$C$2:$C$8270,Sheet3!$B23,Sheet4!$D$2:$D$8270,Sheet3!BA$3,Sheet4!$E$2:$E$8270,Sheet3!BA$4,Sheet4!$A$2:$A$8270,Sheet3!$B$1,Sheet4!$B$2:$B$8270,Sheet3!$A$3)","v":0},{"$f":"+SUMIFS(Sheet4!$DM$2:$DM$8270,Sheet4!$C$2:$C$8270,Sheet3!$B23,Sheet4!$D$2:$D$8270,Sheet3!BB$3,Sheet4!$E$2:$E$8270,Sheet3!BB$4,Sheet4!$A$2:$A$8270,Sheet3!$B$1,Sheet4!$B$2:$B$8270,Sheet3!$A$3)","v":5},{"$f":"+SUMIFS(Sheet4!$DM$2:$DM$8270,Sheet4!$C$2:$C$8270,Sheet3!$B23,Sheet4!$D$2:$D$8270,Sheet3!BC$3,Sheet4!$E$2:$E$8270,Sheet3!BC$4,Sheet4!$A$2:$A$8270,Sheet3!$B$1,Sheet4!$B$2:$B$8270,Sheet3!$A$3)","v":23},{"$f":"+SUMIFS(Sheet4!$DM$2:$DM$8270,Sheet4!$C$2:$C$8270,Sheet3!$B23,Sheet4!$D$2:$D$8270,Sheet3!BD$3,Sheet4!$E$2:$E$8270,Sheet3!BD$4,Sheet4!$A$2:$A$8270,Sheet3!$B$1,Sheet4!$B$2:$B$8270,Sheet3!$A$3)","v":26},{"$f":"+SUMIFS(Sheet4!$DM$2:$DM$8270,Sheet4!$C$2:$C$8270,Sheet3!$B23,Sheet4!$D$2:$D$8270,Sheet3!BE$3,Sheet4!$E$2:$E$8270,Sheet3!BE$4,Sheet4!$A$2:$A$8270,Sheet3!$B$1,Sheet4!$B$2:$B$8270,Sheet3!$A$3)","v":0},{"$f":"+SUMIFS(Sheet4!$DM$2:$DM$8270,Sheet4!$C$2:$C$8270,Sheet3!$B23,Sheet4!$D$2:$D$8270,Sheet3!BF$3,Sheet4!$E$2:$E$8270,Sheet3!BF$4,Sheet4!$A$2:$A$8270,Sheet3!$B$1,Sheet4!$B$2:$B$8270,Sheet3!$A$3)","v":0},{"$f":"+SUMIFS(Sheet4!$DM$2:$DM$8270,Sheet4!$C$2:$C$8270,Sheet3!$B23,Sheet4!$D$2:$D$8270,Sheet3!BG$3,Sheet4!$E$2:$E$8270,Sheet3!BG$4,Sheet4!$A$2:$A$8270,Sheet3!$B$1,Sheet4!$B$2:$B$8270,Sheet3!$A$3)","v":36},{"$f":"+SUMIFS(Sheet4!$DM$2:$DM$8270,Sheet4!$C$2:$C$8270,Sheet3!$B23,Sheet4!$D$2:$D$8270,Sheet3!BH$3,Sheet4!$E$2:$E$8270,Sheet3!BH$4,Sheet4!$A$2:$A$8270,Sheet3!$B$1,Sheet4!$B$2:$B$8270,Sheet3!$A$3)","v":155},{"$f":"+SUMIFS(Sheet4!$DM$2:$DM$8270,Sheet4!$C$2:$C$8270,Sheet3!$B23,Sheet4!$D$2:$D$8270,Sheet3!BI$3,Sheet4!$E$2:$E$8270,Sheet3!BI$4,Sheet4!$A$2:$A$8270,Sheet3!$B$1,Sheet4!$B$2:$B$8270,Sheet3!$A$3)","v":159},{"$f":"+SUMIFS(Sheet4!$DM$2:$DM$8270,Sheet4!$C$2:$C$8270,Sheet3!$B23,Sheet4!$D$2:$D$8270,Sheet3!BJ$3,Sheet4!$E$2:$E$8270,Sheet3!BJ$4,Sheet4!$A$2:$A$8270,Sheet3!$B$1,Sheet4!$B$2:$B$8270,Sheet3!$A$3)","v":0},{"$f":"+SUMIFS(Sheet4!$DM$2:$DM$8270,Sheet4!$C$2:$C$8270,Sheet3!$B23,Sheet4!$D$2:$D$8270,Sheet3!BK$3,Sheet4!$E$2:$E$8270,Sheet3!BK$4,Sheet4!$A$2:$A$8270,Sheet3!$B$1,Sheet4!$B$2:$B$8270,Sheet3!$A$3)","v":0},{"$f":"+SUMIFS(Sheet4!$DM$2:$DM$8270,Sheet4!$C$2:$C$8270,Sheet3!$B23,Sheet4!$D$2:$D$8270,Sheet3!BL$3,Sheet4!$E$2:$E$8270,Sheet3!BL$4,Sheet4!$A$2:$A$8270,Sheet3!$B$1,Sheet4!$B$2:$B$8270,Sheet3!$A$3)","v":3},{"$f":"+SUMIFS(Sheet4!$DM$2:$DM$8270,Sheet4!$C$2:$C$8270,Sheet3!$B23,Sheet4!$D$2:$D$8270,Sheet3!BM$3,Sheet4!$E$2:$E$8270,Sheet3!BM$4,Sheet4!$A$2:$A$8270,Sheet3!$B$1,Sheet4!$B$2:$B$8270,Sheet3!$A$3)","v":137},{"$f":"+SUMIFS(Sheet4!$DM$2:$DM$8270,Sheet4!$C$2:$C$8270,Sheet3!$B23,Sheet4!$D$2:$D$8270,Sheet3!BN$3,Sheet4!$E$2:$E$8270,Sheet3!BN$4,Sheet4!$A$2:$A$8270,Sheet3!$B$1,Sheet4!$B$2:$B$8270,Sheet3!$A$3)","v":373},{"$f":"+SUMIFS(Sheet4!$DM$2:$DM$8270,Sheet4!$C$2:$C$8270,Sheet3!$B23,Sheet4!$D$2:$D$8270,Sheet3!BO$3,Sheet4!$E$2:$E$8270,Sheet3!BO$4,Sheet4!$A$2:$A$8270,Sheet3!$B$1,Sheet4!$B$2:$B$8270,Sheet3!$A$3)","v":13},{"$f":"+SUMIFS(Sheet4!$DM$2:$DM$8270,Sheet4!$C$2:$C$8270,Sheet3!$B23,Sheet4!$D$2:$D$8270,Sheet3!BP$3,Sheet4!$E$2:$E$8270,Sheet3!BP$4,Sheet4!$A$2:$A$8270,Sheet3!$B$1,Sheet4!$B$2:$B$8270,Sheet3!$A$3)","v":0},{"$f":"+SUMIFS(Sheet4!$DM$2:$DM$8270,Sheet4!$C$2:$C$8270,Sheet3!$B23,Sheet4!$D$2:$D$8270,Sheet3!BQ$3,Sheet4!$E$2:$E$8270,Sheet3!BQ$4,Sheet4!$A$2:$A$8270,Sheet3!$B$1,Sheet4!$B$2:$B$8270,Sheet3!$A$3)","v":648},{"$f":"+SUMIFS(Sheet4!$DM$2:$DM$8270,Sheet4!$C$2:$C$8270,Sheet3!$B23,Sheet4!$D$2:$D$8270,Sheet3!BR$3,Sheet4!$E$2:$E$8270,Sheet3!BR$4,Sheet4!$A$2:$A$8270,Sheet3!$B$1,Sheet4!$B$2:$B$8270,Sheet3!$A$3)","v":956},{"$f":"+SUMIFS(Sheet4!$DM$2:$DM$8270,Sheet4!$C$2:$C$8270,Sheet3!$B23,Sheet4!$D$2:$D$8270,Sheet3!BS$3,Sheet4!$E$2:$E$8270,Sheet3!BS$4,Sheet4!$A$2:$A$8270,Sheet3!$B$1,Sheet4!$B$2:$B$8270,Sheet3!$A$3)","v":432},{"$f":"+SUMIFS(Sheet4!$DM$2:$DM$8270,Sheet4!$C$2:$C$8270,Sheet3!$B23,Sheet4!$D$2:$D$8270,Sheet3!BT$3,Sheet4!$E$2:$E$8270,Sheet3!BT$4,Sheet4!$A$2:$A$8270,Sheet3!$B$1,Sheet4!$B$2:$B$8270,Sheet3!$A$3)","v":8},{"$f":"+SUMIFS(Sheet4!$DM$2:$DM$8270,Sheet4!$C$2:$C$8270,Sheet3!$B23,Sheet4!$D$2:$D$8270,Sheet3!BU$3,Sheet4!$E$2:$E$8270,Sheet3!BU$4,Sheet4!$A$2:$A$8270,Sheet3!$B$1,Sheet4!$B$2:$B$8270,Sheet3!$A$3)","v":0},{"$f":"+SUMIFS(Sheet4!$DM$2:$DM$8270,Sheet4!$C$2:$C$8270,Sheet3!$B23,Sheet4!$D$2:$D$8270,Sheet3!BV$3,Sheet4!$E$2:$E$8270,Sheet3!BV$4,Sheet4!$A$2:$A$8270,Sheet3!$B$1,Sheet4!$B$2:$B$8270,Sheet3!$A$3)","v":362},{"$f":"+SUMIFS(Sheet4!$DM$2:$DM$8270,Sheet4!$C$2:$C$8270,Sheet3!$B23,Sheet4!$D$2:$D$8270,Sheet3!BW$3,Sheet4!$E$2:$E$8270,Sheet3!BW$4,Sheet4!$A$2:$A$8270,Sheet3!$B$1,Sheet4!$B$2:$B$8270,Sheet3!$A$3)","v":468},{"$f":"+SUMIFS(Sheet4!$DM$2:$DM$8270,Sheet4!$C$2:$C$8270,Sheet3!$B23,Sheet4!$D$2:$D$8270,Sheet3!BX$3,Sheet4!$E$2:$E$8270,Sheet3!BX$4,Sheet4!$A$2:$A$8270,Sheet3!$B$1,Sheet4!$B$2:$B$8270,Sheet3!$A$3)","v":130},{"$f":"+SUMIFS(Sheet4!$DM$2:$DM$8270,Sheet4!$C$2:$C$8270,Sheet3!$B23,Sheet4!$D$2:$D$8270,Sheet3!BY$3,Sheet4!$E$2:$E$8270,Sheet3!BY$4,Sheet4!$A$2:$A$8270,Sheet3!$B$1,Sheet4!$B$2:$B$8270,Sheet3!$A$3)","v":3},{"$f":"+SUMIFS(Sheet4!$DM$2:$DM$8270,Sheet4!$C$2:$C$8270,Sheet3!$B23,Sheet4!$D$2:$D$8270,Sheet3!BZ$3,Sheet4!$E$2:$E$8270,Sheet3!BZ$4,Sheet4!$A$2:$A$8270,Sheet3!$B$1,Sheet4!$B$2:$B$8270,Sheet3!$A$3)","v":0},{"$f":"+SUMIFS(Sheet4!$DM$2:$DM$8270,Sheet4!$C$2:$C$8270,Sheet3!$B23,Sheet4!$D$2:$D$8270,Sheet3!CA$3,Sheet4!$E$2:$E$8270,Sheet3!CA$4,Sheet4!$A$2:$A$8270,Sheet3!$B$1,Sheet4!$B$2:$B$8270,Sheet3!$A$3)","v":185},{"$f":"+SUMIFS(Sheet4!$DM$2:$DM$8270,Sheet4!$C$2:$C$8270,Sheet3!$B23,Sheet4!$D$2:$D$8270,Sheet3!CB$3,Sheet4!$E$2:$E$8270,Sheet3!CB$4,Sheet4!$A$2:$A$8270,Sheet3!$B$1,Sheet4!$B$2:$B$8270,Sheet3!$A$3)","v":162},{"$f":"+SUMIFS(Sheet4!$DM$2:$DM$8270,Sheet4!$C$2:$C$8270,Sheet3!$B23,Sheet4!$D$2:$D$8270,Sheet3!CC$3,Sheet4!$E$2:$E$8270,Sheet3!CC$4,Sheet4!$A$2:$A$8270,Sheet3!$B$1,Sheet4!$B$2:$B$8270,Sheet3!$A$3)","v":41},{"$f":"+SUMIFS(Sheet4!$DM$2:$DM$8270,Sheet4!$C$2:$C$8270,Sheet3!$B23,Sheet4!$D$2:$D$8270,Sheet3!CD$3,Sheet4!$E$2:$E$8270,Sheet3!CD$4,Sheet4!$A$2:$A$8270,Sheet3!$B$1,Sheet4!$B$2:$B$8270,Sheet3!$A$3)","v":0},{"$f":"+SUMIFS(Sheet4!$DM$2:$DM$8270,Sheet4!$C$2:$C$8270,Sheet3!$B23,Sheet4!$D$2:$D$8270,Sheet3!CE$3,Sheet4!$E$2:$E$8270,Sheet3!CE$4,Sheet4!$A$2:$A$8270,Sheet3!$B$1,Sheet4!$B$2:$B$8270,Sheet3!$A$3)","v":0},{"$f":"+SUMIFS(Sheet4!$DM$2:$DM$8270,Sheet4!$C$2:$C$8270,Sheet3!$B23,Sheet4!$D$2:$D$8270,Sheet3!CF$3,Sheet4!$E$2:$E$8270,Sheet3!CF$4,Sheet4!$A$2:$A$8270,Sheet3!$B$1,Sheet4!$B$2:$B$8270,Sheet3!$A$3)","v":0},{"$f":"+SUMIFS(Sheet4!$DM$2:$DM$8270,Sheet4!$C$2:$C$8270,Sheet3!$B23,Sheet4!$D$2:$D$8270,Sheet3!CG$3,Sheet4!$E$2:$E$8270,Sheet3!CG$4,Sheet4!$A$2:$A$8270,Sheet3!$B$1,Sheet4!$B$2:$B$8270,Sheet3!$A$3)","v":0},{"$f":"+SUMIFS(Sheet4!$DM$2:$DM$8270,Sheet4!$C$2:$C$8270,Sheet3!$B23,Sheet4!$D$2:$D$8270,Sheet3!CH$3,Sheet4!$E$2:$E$8270,Sheet3!CH$4,Sheet4!$A$2:$A$8270,Sheet3!$B$1,Sheet4!$B$2:$B$8270,Sheet3!$A$3)","v":0},{"$f":"+SUMIFS(Sheet4!$DM$2:$DM$8270,Sheet4!$C$2:$C$8270,Sheet3!$B23,Sheet4!$D$2:$D$8270,Sheet3!CI$3,Sheet4!$E$2:$E$8270,Sheet3!CI$4,Sheet4!$A$2:$A$8270,Sheet3!$B$1,Sheet4!$B$2:$B$8270,Sheet3!$A$3)","v":0},{"$f":"+SUMIFS(Sheet4!$DM$2:$DM$8270,Sheet4!$C$2:$C$8270,Sheet3!$B23,Sheet4!$D$2:$D$8270,Sheet3!CJ$3,Sheet4!$E$2:$E$8270,Sheet3!CJ$4,Sheet4!$A$2:$A$8270,Sheet3!$B$1,Sheet4!$B$2:$B$8270,Sheet3!$A$3)","v":0},{"$f":"+SUMIFS(Sheet4!$DM$2:$DM$8270,Sheet4!$C$2:$C$8270,Sheet3!$B23,Sheet4!$D$2:$D$8270,Sheet3!CK$3,Sheet4!$E$2:$E$8270,Sheet3!CK$4,Sheet4!$A$2:$A$8270,Sheet3!$B$1,Sheet4!$B$2:$B$8270,Sheet3!$A$3)","v":7},{"$f":"+SUMIFS(Sheet4!$DM$2:$DM$8270,Sheet4!$C$2:$C$8270,Sheet3!$B23,Sheet4!$D$2:$D$8270,Sheet3!CL$3,Sheet4!$E$2:$E$8270,Sheet3!CL$4,Sheet4!$A$2:$A$8270,Sheet3!$B$1,Sheet4!$B$2:$B$8270,Sheet3!$A$3)","v":0},{"$f":"+SUMIFS(Sheet4!$DM$2:$DM$8270,Sheet4!$C$2:$C$8270,Sheet3!$B23,Sheet4!$D$2:$D$8270,Sheet3!CM$3,Sheet4!$E$2:$E$8270,Sheet3!CM$4,Sheet4!$A$2:$A$8270,Sheet3!$B$1,Sheet4!$B$2:$B$8270,Sheet3!$A$3)","v":0},{"$f":"+SUMIFS(Sheet4!$DM$2:$DM$8270,Sheet4!$C$2:$C$8270,Sheet3!$B23,Sheet4!$D$2:$D$8270,Sheet3!CN$3,Sheet4!$E$2:$E$8270,Sheet3!CN$4,Sheet4!$A$2:$A$8270,Sheet3!$B$1,Sheet4!$B$2:$B$8270,Sheet3!$A$3)","v":0},{"$f":"+SUMIFS(Sheet4!$DM$2:$DM$8270,Sheet4!$C$2:$C$8270,Sheet3!$B23,Sheet4!$D$2:$D$8270,Sheet3!CO$3,Sheet4!$E$2:$E$8270,Sheet3!CO$4,Sheet4!$A$2:$A$8270,Sheet3!$B$1,Sheet4!$B$2:$B$8270,Sheet3!$A$3)","v":0},{"$f":"+IF(SUMIFS(Sheet4!$DN$2:$DN$8270,Sheet4!$C$2:$C$8270,Sheet3!$B23,Sheet4!$D$2:$D$8270,Sheet3!CP$3,Sheet4!$A$2:$A$8270,Sheet3!$B$1,Sheet4!$B$2:$B$8270,Sheet3!$A$3)<3,0,SUMIFS(Sheet4!$DN$2:$DN$8270,Sheet4!$C$2:$C$8270,Sheet3!$B23,Sheet4!$D$2:$D$8270,Sheet3!CP$3,Sheet4!$A$2:$A$8270,Sheet3!$B$1,Sheet4!$B$2:$B$8270,Sheet3!$A$3))","v":32},{"$f":"+IF(SUMIFS(Sheet4!$DN$2:$DN$8270,Sheet4!$C$2:$C$8270,Sheet3!$B23,Sheet4!$D$2:$D$8270,Sheet3!CQ$3,Sheet4!$A$2:$A$8270,Sheet3!$B$1,Sheet4!$B$2:$B$8270,Sheet3!$A$3)<3,0,SUMIFS(Sheet4!$DN$2:$DN$8270,Sheet4!$C$2:$C$8270,Sheet3!$B23,Sheet4!$D$2:$D$8270,Sheet3!CQ$3,Sheet4!$A$2:$A$8270,Sheet3!$B$1,Sheet4!$B$2:$B$8270,Sheet3!$A$3))","v":80},{"$f":"+IF(SUMIFS(Sheet4!$DN$2:$DN$8270,Sheet4!$C$2:$C$8270,Sheet3!$B23,Sheet4!$D$2:$D$8270,Sheet3!CR$3,Sheet4!$A$2:$A$8270,Sheet3!$B$1,Sheet4!$B$2:$B$8270,Sheet3!$A$3)<3,0,SUMIFS(Sheet4!$DN$2:$DN$8270,Sheet4!$C$2:$C$8270,Sheet3!$B23,Sheet4!$D$2:$D$8270,Sheet3!CR$3,Sheet4!$A$2:$A$8270,Sheet3!$B$1,Sheet4!$B$2:$B$8270,Sheet3!$A$3))","v":861},{"$f":"+IF(SUMIFS(Sheet4!$DN$2:$DN$8270,Sheet4!$C$2:$C$8270,Sheet3!$B23,Sheet4!$D$2:$D$8270,Sheet3!CS$3,Sheet4!$A$2:$A$8270,Sheet3!$B$1,Sheet4!$B$2:$B$8270,Sheet3!$A$3)<3,0,SUMIFS(Sheet4!$DN$2:$DN$8270,Sheet4!$C$2:$C$8270,Sheet3!$B23,Sheet4!$D$2:$D$8270,Sheet3!CS$3,Sheet4!$A$2:$A$8270,Sheet3!$B$1,Sheet4!$B$2:$B$8270,Sheet3!$A$3))","v":0},{"$f":"+IF(SUMIFS(Sheet4!$DN$2:$DN$8270,Sheet4!$C$2:$C$8270,Sheet3!$B23,Sheet4!$D$2:$D$8270,Sheet3!CT$3,Sheet4!$A$2:$A$8270,Sheet3!$B$1,Sheet4!$B$2:$B$8270,Sheet3!$A$3)<3,0,SUMIFS(Sheet4!$DN$2:$DN$8270,Sheet4!$C$2:$C$8270,Sheet3!$B23,Sheet4!$D$2:$D$8270,Sheet3!CT$3,Sheet4!$A$2:$A$8270,Sheet3!$B$1,Sheet4!$B$2:$B$8270,Sheet3!$A$3))","v":3},{"$f":"+IF(SUMIFS(Sheet4!$DN$2:$DN$8270,Sheet4!$C$2:$C$8270,Sheet3!$B23,Sheet4!$D$2:$D$8270,Sheet3!CU$3,Sheet4!$A$2:$A$8270,Sheet3!$B$1,Sheet4!$B$2:$B$8270,Sheet3!$A$3)<3,0,SUMIFS(Sheet4!$DN$2:$DN$8270,Sheet4!$C$2:$C$8270,Sheet3!$B23,Sheet4!$D$2:$D$8270,Sheet3!CU$3,Sheet4!$A$2:$A$8270,Sheet3!$B$1,Sheet4!$B$2:$B$8270,Sheet3!$A$3))","v":1704},{"$f":"+IF(SUMIFS(Sheet4!$DN$2:$DN$8270,Sheet4!$C$2:$C$8270,Sheet3!$B23,Sheet4!$D$2:$D$8270,Sheet3!CV$3,Sheet4!$A$2:$A$8270,Sheet3!$B$1,Sheet4!$B$2:$B$8270,Sheet3!$A$3)<3,0,SUMIFS(Sheet4!$DN$2:$DN$8270,Sheet4!$C$2:$C$8270,Sheet3!$B23,Sheet4!$D$2:$D$8270,Sheet3!CV$3,Sheet4!$A$2:$A$8270,Sheet3!$B$1,Sheet4!$B$2:$B$8270,Sheet3!$A$3))","v":499},{"$f":"+IF(SUMIFS(Sheet4!$DN$2:$DN$8270,Sheet4!$C$2:$C$8270,Sheet3!$B23,Sheet4!$D$2:$D$8270,Sheet3!CW$3,Sheet4!$A$2:$A$8270,Sheet3!$B$1,Sheet4!$B$2:$B$8270,Sheet3!$A$3)<3,0,SUMIFS(Sheet4!$DN$2:$DN$8270,Sheet4!$C$2:$C$8270,Sheet3!$B23,Sheet4!$D$2:$D$8270,Sheet3!CW$3,Sheet4!$A$2:$A$8270,Sheet3!$B$1,Sheet4!$B$2:$B$8270,Sheet3!$A$3))","v":1273},{"$f":"+IF(SUMIFS(Sheet4!$DN$2:$DN$8270,Sheet4!$C$2:$C$8270,Sheet3!$B23,Sheet4!$D$2:$D$8270,Sheet3!CX$3,Sheet4!$A$2:$A$8270,Sheet3!$B$1,Sheet4!$B$2:$B$8270,Sheet3!$A$3)<3,0,SUMIFS(Sheet4!$DN$2:$DN$8270,Sheet4!$C$2:$C$8270,Sheet3!$B23,Sheet4!$D$2:$D$8270,Sheet3!CX$3,Sheet4!$A$2:$A$8270,Sheet3!$B$1,Sheet4!$B$2:$B$8270,Sheet3!$A$3))","v":591},{"$f":"+IF(SUMIFS(Sheet4!$DN$2:$DN$8270,Sheet4!$C$2:$C$8270,Sheet3!$B23,Sheet4!$D$2:$D$8270,Sheet3!CY$3,Sheet4!$A$2:$A$8270,Sheet3!$B$1,Sheet4!$B$2:$B$8270,Sheet3!$A$3)<3,0,SUMIFS(Sheet4!$DN$2:$DN$8270,Sheet4!$C$2:$C$8270,Sheet3!$B23,Sheet4!$D$2:$D$8270,Sheet3!CY$3,Sheet4!$A$2:$A$8270,Sheet3!$B$1,Sheet4!$B$2:$B$8270,Sheet3!$A$3))","v":5525},{"$f":"+IF(SUMIFS(Sheet4!$DN$2:$DN$8270,Sheet4!$C$2:$C$8270,Sheet3!$B23,Sheet4!$D$2:$D$8270,Sheet3!CZ$3,Sheet4!$A$2:$A$8270,Sheet3!$B$1,Sheet4!$B$2:$B$8270,Sheet3!$A$3)<3,0,SUMIFS(Sheet4!$DN$2:$DN$8270,Sheet4!$C$2:$C$8270,Sheet3!$B23,Sheet4!$D$2:$D$8270,Sheet3!CZ$3,Sheet4!$A$2:$A$8270,Sheet3!$B$1,Sheet4!$B$2:$B$8270,Sheet3!$A$3))","v":59},{"$f":"+IF(SUMIFS(Sheet4!$DN$2:$DN$8270,Sheet4!$C$2:$C$8270,Sheet3!$B23,Sheet4!$D$2:$D$8270,Sheet3!DA$3,Sheet4!$A$2:$A$8270,Sheet3!$B$1,Sheet4!$B$2:$B$8270,Sheet3!$A$3)<3,0,SUMIFS(Sheet4!$DN$2:$DN$8270,Sheet4!$C$2:$C$8270,Sheet3!$B23,Sheet4!$D$2:$D$8270,Sheet3!DA$3,Sheet4!$A$2:$A$8270,Sheet3!$B$1,Sheet4!$B$2:$B$8270,Sheet3!$A$3))","v":352},{"$f":"+IF(SUMIFS(Sheet4!$DN$2:$DN$8270,Sheet4!$C$2:$C$8270,Sheet3!$B23,Sheet4!$D$2:$D$8270,Sheet3!DB$3,Sheet4!$A$2:$A$8270,Sheet3!$B$1,Sheet4!$B$2:$B$8270,Sheet3!$A$3)<3,0,SUMIFS(Sheet4!$DN$2:$DN$8270,Sheet4!$C$2:$C$8270,Sheet3!$B23,Sheet4!$D$2:$D$8270,Sheet3!DB$3,Sheet4!$A$2:$A$8270,Sheet3!$B$1,Sheet4!$B$2:$B$8270,Sheet3!$A$3))","v":532},{"$f":"+IF(SUMIFS(Sheet4!$DN$2:$DN$8270,Sheet4!$C$2:$C$8270,Sheet3!$B23,Sheet4!$D$2:$D$8270,Sheet3!DC$3,Sheet4!$A$2:$A$8270,Sheet3!$B$1,Sheet4!$B$2:$B$8270,Sheet3!$A$3)<3,0,SUMIFS(Sheet4!$DN$2:$DN$8270,Sheet4!$C$2:$C$8270,Sheet3!$B23,Sheet4!$D$2:$D$8270,Sheet3!DC$3,Sheet4!$A$2:$A$8270,Sheet3!$B$1,Sheet4!$B$2:$B$8270,Sheet3!$A$3))","v":2045},{"$f":"+IF(SUMIFS(Sheet4!$DN$2:$DN$8270,Sheet4!$C$2:$C$8270,Sheet3!$B23,Sheet4!$D$2:$D$8270,Sheet3!DD$3,Sheet4!$A$2:$A$8270,Sheet3!$B$1,Sheet4!$B$2:$B$8270,Sheet3!$A$3)<3,0,SUMIFS(Sheet4!$DN$2:$DN$8270,Sheet4!$C$2:$C$8270,Sheet3!$B23,Sheet4!$D$2:$D$8270,Sheet3!DD$3,Sheet4!$A$2:$A$8270,Sheet3!$B$1,Sheet4!$B$2:$B$8270,Sheet3!$A$3))","v":963},{"$f":"+IF(SUMIFS(Sheet4!$DN$2:$DN$8270,Sheet4!$C$2:$C$8270,Sheet3!$B23,Sheet4!$D$2:$D$8270,Sheet3!DE$3,Sheet4!$A$2:$A$8270,Sheet3!$B$1,Sheet4!$B$2:$B$8270,Sheet3!$A$3)<3,0,SUMIFS(Sheet4!$DN$2:$DN$8270,Sheet4!$C$2:$C$8270,Sheet3!$B23,Sheet4!$D$2:$D$8270,Sheet3!DE$3,Sheet4!$A$2:$A$8270,Sheet3!$B$1,Sheet4!$B$2:$B$8270,Sheet3!$A$3))","v":389},{"$f":"+IF(SUMIFS(Sheet4!$DN$2:$DN$8270,Sheet4!$C$2:$C$8270,Sheet3!$B23,Sheet4!$D$2:$D$8270,Sheet3!DF$3,Sheet4!$A$2:$A$8270,Sheet3!$B$1,Sheet4!$B$2:$B$8270,Sheet3!$A$3)<3,0,SUMIFS(Sheet4!$DN$2:$DN$8270,Sheet4!$C$2:$C$8270,Sheet3!$B23,Sheet4!$D$2:$D$8270,Sheet3!DF$3,Sheet4!$A$2:$A$8270,Sheet3!$B$1,Sheet4!$B$2:$B$8270,Sheet3!$A$3))","v":0},{"$f":"+IF(SUMIFS(Sheet4!$DN$2:$DN$8270,Sheet4!$C$2:$C$8270,Sheet3!$B23,Sheet4!$D$2:$D$8270,Sheet3!DG$3,Sheet4!$A$2:$A$8270,Sheet3!$B$1,Sheet4!$B$2:$B$8270,Sheet3!$A$3)<3,0,SUMIFS(Sheet4!$DN$2:$DN$8270,Sheet4!$C$2:$C$8270,Sheet3!$B23,Sheet4!$D$2:$D$8270,Sheet3!DG$3,Sheet4!$A$2:$A$8270,Sheet3!$B$1,Sheet4!$B$2:$B$8270,Sheet3!$A$3))","v":10},{"$f":"+IF(SUMIFS(Sheet4!$DN$2:$DN$8270,Sheet4!$C$2:$C$8270,Sheet3!$B23,Sheet4!$E$2:$E$8270,Sheet3!DH$4,Sheet4!$A$2:$A$8270,Sheet3!$B$1,Sheet4!$B$2:$B$8270,Sheet3!$A$3)<3,0,SUMIFS(Sheet4!$DN$2:$DN$8270,Sheet4!$C$2:$C$8270,Sheet3!$B23,Sheet4!$E$2:$E$8270,Sheet3!DH$4,Sheet4!$A$2:$A$8270,Sheet3!$B$1,Sheet4!$B$2:$B$8270,Sheet3!$A$3))","v":8674},{"$f":"+IF(SUMIFS(Sheet4!$DN$2:$DN$8270,Sheet4!$C$2:$C$8270,Sheet3!$B23,Sheet4!$E$2:$E$8270,Sheet3!DI$4,Sheet4!$A$2:$A$8270,Sheet3!$B$1,Sheet4!$B$2:$B$8270,Sheet3!$A$3)<3,0,SUMIFS(Sheet4!$DN$2:$DN$8270,Sheet4!$C$2:$C$8270,Sheet3!$B23,Sheet4!$E$2:$E$8270,Sheet3!DI$4,Sheet4!$A$2:$A$8270,Sheet3!$B$1,Sheet4!$B$2:$B$8270,Sheet3!$A$3))","v":4706},{"$f":"+IF(SUMIFS(Sheet4!$DN$2:$DN$8270,Sheet4!$C$2:$C$8270,Sheet3!$B23,Sheet4!$E$2:$E$8270,Sheet3!DJ$4,Sheet4!$A$2:$A$8270,Sheet3!$B$1,Sheet4!$B$2:$B$8270,Sheet3!$A$3)<3,0,SUMIFS(Sheet4!$DN$2:$DN$8270,Sheet4!$C$2:$C$8270,Sheet3!$B23,Sheet4!$E$2:$E$8270,Sheet3!DJ$4,Sheet4!$A$2:$A$8270,Sheet3!$B$1,Sheet4!$B$2:$B$8270,Sheet3!$A$3))","v":1509},{"$f":"+IF(SUMIFS(Sheet4!$DN$2:$DN$8270,Sheet4!$C$2:$C$8270,Sheet3!$B23,Sheet4!$E$2:$E$8270,Sheet3!DK$4,Sheet4!$A$2:$A$8270,Sheet3!$B$1,Sheet4!$B$2:$B$8270,Sheet3!$A$3)<3,0,SUMIFS(Sheet4!$DN$2:$DN$8270,Sheet4!$C$2:$C$8270,Sheet3!$B23,Sheet4!$E$2:$E$8270,Sheet3!DK$4,Sheet4!$A$2:$A$8270,Sheet3!$B$1,Sheet4!$B$2:$B$8270,Sheet3!$A$3))","v":29},{"$f":"+IF(SUMIFS(Sheet4!$DN$2:$DN$8270,Sheet4!$C$2:$C$8270,Sheet3!$B23,Sheet4!$E$2:$E$8270,Sheet3!DL$4,Sheet4!$A$2:$A$8270,Sheet3!$B$1,Sheet4!$B$2:$B$8270,Sheet3!$A$3)<3,0,SUMIFS(Sheet4!$DN$2:$DN$8270,Sheet4!$C$2:$C$8270,Sheet3!$B23,Sheet4!$E$2:$E$8270,Sheet3!DL$4,Sheet4!$A$2:$A$8270,Sheet3!$B$1,Sheet4!$B$2:$B$8270,Sheet3!$A$3))","v":0}]
[4,"170","Área Metropolitana de Lisboa",{"$f":"+SUMIFS(Sheet4!$DM$2:$DM$8270,Sheet4!$C$2:$C$8270,Sheet3!$B24,Sheet4!$D$2:$D$8270,Sheet3!D$3,Sheet4!$E$2:$E$8270,Sheet3!D$4,Sheet4!$A$2:$A$8270,Sheet3!$B$1,Sheet4!$B$2:$B$8270,Sheet3!$A$3)","v":3},{"$f":"+SUMIFS(Sheet4!$DM$2:$DM$8270,Sheet4!$C$2:$C$8270,Sheet3!$B24,Sheet4!$D$2:$D$8270,Sheet3!E$3,Sheet4!$E$2:$E$8270,Sheet3!E$4,Sheet4!$A$2:$A$8270,Sheet3!$B$1,Sheet4!$B$2:$B$8270,Sheet3!$A$3)","v":0},{"$f":"+SUMIFS(Sheet4!$DM$2:$DM$8270,Sheet4!$C$2:$C$8270,Sheet3!$B24,Sheet4!$D$2:$D$8270,Sheet3!F$3,Sheet4!$E$2:$E$8270,Sheet3!F$4,Sheet4!$A$2:$A$8270,Sheet3!$B$1,Sheet4!$B$2:$B$8270,Sheet3!$A$3)","v":3},{"$f":"+SUMIFS(Sheet4!$DM$2:$DM$8270,Sheet4!$C$2:$C$8270,Sheet3!$B24,Sheet4!$D$2:$D$8270,Sheet3!G$3,Sheet4!$E$2:$E$8270,Sheet3!G$4,Sheet4!$A$2:$A$8270,Sheet3!$B$1,Sheet4!$B$2:$B$8270,Sheet3!$A$3)","v":0},{"$f":"+SUMIFS(Sheet4!$DM$2:$DM$8270,Sheet4!$C$2:$C$8270,Sheet3!$B24,Sheet4!$D$2:$D$8270,Sheet3!H$3,Sheet4!$E$2:$E$8270,Sheet3!H$4,Sheet4!$A$2:$A$8270,Sheet3!$B$1,Sheet4!$B$2:$B$8270,Sheet3!$A$3)","v":0},{"$f":"+SUMIFS(Sheet4!$DM$2:$DM$8270,Sheet4!$C$2:$C$8270,Sheet3!$B24,Sheet4!$D$2:$D$8270,Sheet3!I$3,Sheet4!$E$2:$E$8270,Sheet3!I$4,Sheet4!$A$2:$A$8270,Sheet3!$B$1,Sheet4!$B$2:$B$8270,Sheet3!$A$3)","v":3},{"$f":"+SUMIFS(Sheet4!$DM$2:$DM$8270,Sheet4!$C$2:$C$8270,Sheet3!$B24,Sheet4!$D$2:$D$8270,Sheet3!J$3,Sheet4!$E$2:$E$8270,Sheet3!J$4,Sheet4!$A$2:$A$8270,Sheet3!$B$1,Sheet4!$B$2:$B$8270,Sheet3!$A$3)","v":27},{"$f":"+SUMIFS(Sheet4!$DM$2:$DM$8270,Sheet4!$C$2:$C$8270,Sheet3!$B24,Sheet4!$D$2:$D$8270,Sheet3!K$3,Sheet4!$E$2:$E$8270,Sheet3!K$4,Sheet4!$A$2:$A$8270,Sheet3!$B$1,Sheet4!$B$2:$B$8270,Sheet3!$A$3)","v":22},{"$f":"+SUMIFS(Sheet4!$DM$2:$DM$8270,Sheet4!$C$2:$C$8270,Sheet3!$B24,Sheet4!$D$2:$D$8270,Sheet3!L$3,Sheet4!$E$2:$E$8270,Sheet3!L$4,Sheet4!$A$2:$A$8270,Sheet3!$B$1,Sheet4!$B$2:$B$8270,Sheet3!$A$3)","v":0},{"$f":"+SUMIFS(Sheet4!$DM$2:$DM$8270,Sheet4!$C$2:$C$8270,Sheet3!$B24,Sheet4!$D$2:$D$8270,Sheet3!M$3,Sheet4!$E$2:$E$8270,Sheet3!M$4,Sheet4!$A$2:$A$8270,Sheet3!$B$1,Sheet4!$B$2:$B$8270,Sheet3!$A$3)","v":0},{"$f":"+SUMIFS(Sheet4!$DM$2:$DM$8270,Sheet4!$C$2:$C$8270,Sheet3!$B24,Sheet4!$D$2:$D$8270,Sheet3!N$3,Sheet4!$E$2:$E$8270,Sheet3!N$4,Sheet4!$A$2:$A$8270,Sheet3!$B$1,Sheet4!$B$2:$B$8270,Sheet3!$A$3)","v":18},{"$f":"+SUMIFS(Sheet4!$DM$2:$DM$8270,Sheet4!$C$2:$C$8270,Sheet3!$B24,Sheet4!$D$2:$D$8270,Sheet3!O$3,Sheet4!$E$2:$E$8270,Sheet3!O$4,Sheet4!$A$2:$A$8270,Sheet3!$B$1,Sheet4!$B$2:$B$8270,Sheet3!$A$3)","v":21},{"$f":"+SUMIFS(Sheet4!$DM$2:$DM$8270,Sheet4!$C$2:$C$8270,Sheet3!$B24,Sheet4!$D$2:$D$8270,Sheet3!P$3,Sheet4!$E$2:$E$8270,Sheet3!P$4,Sheet4!$A$2:$A$8270,Sheet3!$B$1,Sheet4!$B$2:$B$8270,Sheet3!$A$3)","v":12},{"$f":"+SUMIFS(Sheet4!$DM$2:$DM$8270,Sheet4!$C$2:$C$8270,Sheet3!$B24,Sheet4!$D$2:$D$8270,Sheet3!Q$3,Sheet4!$E$2:$E$8270,Sheet3!Q$4,Sheet4!$A$2:$A$8270,Sheet3!$B$1,Sheet4!$B$2:$B$8270,Sheet3!$A$3)","v":0},{"$f":"+SUMIFS(Sheet4!$DM$2:$DM$8270,Sheet4!$C$2:$C$8270,Sheet3!$B24,Sheet4!$D$2:$D$8270,Sheet3!R$3,Sheet4!$E$2:$E$8270,Sheet3!R$4,Sheet4!$A$2:$A$8270,Sheet3!$B$1,Sheet4!$B$2:$B$8270,Sheet3!$A$3)","v":0},{"$f":"+SUMIFS(Sheet4!$DM$2:$DM$8270,Sheet4!$C$2:$C$8270,Sheet3!$B24,Sheet4!$D$2:$D$8270,Sheet3!S$3,Sheet4!$E$2:$E$8270,Sheet3!S$4,Sheet4!$A$2:$A$8270,Sheet3!$B$1,Sheet4!$B$2:$B$8270,Sheet3!$A$3)","v":0},{"$f":"+SUMIFS(Sheet4!$DM$2:$DM$8270,Sheet4!$C$2:$C$8270,Sheet3!$B24,Sheet4!$D$2:$D$8270,Sheet3!T$3,Sheet4!$E$2:$E$8270,Sheet3!T$4,Sheet4!$A$2:$A$8270,Sheet3!$B$1,Sheet4!$B$2:$B$8270,Sheet3!$A$3)","v":5},{"$f":"+SUMIFS(Sheet4!$DM$2:$DM$8270,Sheet4!$C$2:$C$8270,Sheet3!$B24,Sheet4!$D$2:$D$8270,Sheet3!U$3,Sheet4!$E$2:$E$8270,Sheet3!U$4,Sheet4!$A$2:$A$8270,Sheet3!$B$1,Sheet4!$B$2:$B$8270,Sheet3!$A$3)","v":48},{"$f":"+SUMIFS(Sheet4!$DM$2:$DM$8270,Sheet4!$C$2:$C$8270,Sheet3!$B24,Sheet4!$D$2:$D$8270,Sheet3!V$3,Sheet4!$E$2:$E$8270,Sheet3!V$4,Sheet4!$A$2:$A$8270,Sheet3!$B$1,Sheet4!$B$2:$B$8270,Sheet3!$A$3)","v":6},{"$f":"+SUMIFS(Sheet4!$DM$2:$DM$8270,Sheet4!$C$2:$C$8270,Sheet3!$B24,Sheet4!$D$2:$D$8270,Sheet3!W$3,Sheet4!$E$2:$E$8270,Sheet3!W$4,Sheet4!$A$2:$A$8270,Sheet3!$B$1,Sheet4!$B$2:$B$8270,Sheet3!$A$3)","v":0},{"$f":"+SUMIFS(Sheet4!$DM$2:$DM$8270,Sheet4!$C$2:$C$8270,Sheet3!$B24,Sheet4!$D$2:$D$8270,Sheet3!X$3,Sheet4!$E$2:$E$8270,Sheet3!X$4,Sheet4!$A$2:$A$8270,Sheet3!$B$1,Sheet4!$B$2:$B$8270,Sheet3!$A$3)","v":0},{"$f":"+SUMIFS(Sheet4!$DM$2:$DM$8270,Sheet4!$C$2:$C$8270,Sheet3!$B24,Sheet4!$D$2:$D$8270,Sheet3!Y$3,Sheet4!$E$2:$E$8270,Sheet3!Y$4,Sheet4!$A$2:$A$8270,Sheet3!$B$1,Sheet4!$B$2:$B$8270,Sheet3!$A$3)","v":0},{"$f":"+SUMIFS(Sheet4!$DM$2:$DM$8270,Sheet4!$C$2:$C$8270,Sheet3!$B24,Sheet4!$D$2:$D$8270,Sheet3!Z$3,Sheet4!$E$2:$E$8270,Sheet3!Z$4,Sheet4!$A$2:$A$8270,Sheet3!$B$1,Sheet4!$B$2:$B$8270,Sheet3!$A$3)","v":0},{"$f":"+SUMIFS(Sheet4!$DM$2:$DM$8270,Sheet4!$C$2:$C$8270,Sheet3!$B24,Sheet4!$D$2:$D$8270,Sheet3!AA$3,Sheet4!$E$2:$E$8270,Sheet3!AA$4,Sheet4!$A$2:$A$8270,Sheet3!$B$1,Sheet4!$B$2:$B$8270,Sheet3!$A$3)","v":0},{"$f":"+SUMIFS(Sheet4!$DM$2:$DM$8270,Sheet4!$C$2:$C$8270,Sheet3!$B24,Sheet4!$D$2:$D$8270,Sheet3!AB$3,Sheet4!$E$2:$E$8270,Sheet3!AB$4,Sheet4!$A$2:$A$8270,Sheet3!$B$1,Sheet4!$B$2:$B$8270,Sheet3!$A$3)","v":0},{"$f":"+SUMIFS(Sheet4!$DM$2:$DM$8270,Sheet4!$C$2:$C$8270,Sheet3!$B24,Sheet4!$D$2:$D$8270,Sheet3!AC$3,Sheet4!$E$2:$E$8270,Sheet3!AC$4,Sheet4!$A$2:$A$8270,Sheet3!$B$1,Sheet4!$B$2:$B$8270,Sheet3!$A$3)","v":39},{"$f":"+SUMIFS(Sheet4!$DM$2:$DM$8270,Sheet4!$C$2:$C$8270,Sheet3!$B24,Sheet4!$D$2:$D$8270,Sheet3!AD$3,Sheet4!$E$2:$E$8270,Sheet3!AD$4,Sheet4!$A$2:$A$8270,Sheet3!$B$1,Sheet4!$B$2:$B$8270,Sheet3!$A$3)","v":32},{"$f":"+SUMIFS(Sheet4!$DM$2:$DM$8270,Sheet4!$C$2:$C$8270,Sheet3!$B24,Sheet4!$D$2:$D$8270,Sheet3!AE$3,Sheet4!$E$2:$E$8270,Sheet3!AE$4,Sheet4!$A$2:$A$8270,Sheet3!$B$1,Sheet4!$B$2:$B$8270,Sheet3!$A$3)","v":9},{"$f":"+SUMIFS(Sheet4!$DM$2:$DM$8270,Sheet4!$C$2:$C$8270,Sheet3!$B24,Sheet4!$D$2:$D$8270,Sheet3!AF$3,Sheet4!$E$2:$E$8270,Sheet3!AF$4,Sheet4!$A$2:$A$8270,Sheet3!$B$1,Sheet4!$B$2:$B$8270,Sheet3!$A$3)","v":0},{"$f":"+SUMIFS(Sheet4!$DM$2:$DM$8270,Sheet4!$C$2:$C$8270,Sheet3!$B24,Sheet4!$D$2:$D$8270,Sheet3!AG$3,Sheet4!$E$2:$E$8270,Sheet3!AG$4,Sheet4!$A$2:$A$8270,Sheet3!$B$1,Sheet4!$B$2:$B$8270,Sheet3!$A$3)","v":0},{"$f":"+SUMIFS(Sheet4!$DM$2:$DM$8270,Sheet4!$C$2:$C$8270,Sheet3!$B24,Sheet4!$D$2:$D$8270,Sheet3!AH$3,Sheet4!$E$2:$E$8270,Sheet3!AH$4,Sheet4!$A$2:$A$8270,Sheet3!$B$1,Sheet4!$B$2:$B$8270,Sheet3!$A$3)","v":28},{"$f":"+SUMIFS(Sheet4!$DM$2:$DM$8270,Sheet4!$C$2:$C$8270,Sheet3!$B24,Sheet4!$D$2:$D$8270,Sheet3!AI$3,Sheet4!$E$2:$E$8270,Sheet3!AI$4,Sheet4!$A$2:$A$8270,Sheet3!$B$1,Sheet4!$B$2:$B$8270,Sheet3!$A$3)","v":80},{"$f":"+SUMIFS(Sheet4!$DM$2:$DM$8270,Sheet4!$C$2:$C$8270,Sheet3!$B24,Sheet4!$D$2:$D$8270,Sheet3!AJ$3,Sheet4!$E$2:$E$8270,Sheet3!AJ$4,Sheet4!$A$2:$A$8270,Sheet3!$B$1,Sheet4!$B$2:$B$8270,Sheet3!$A$3)","v":42},{"$f":"+SUMIFS(Sheet4!$DM$2:$DM$8270,Sheet4!$C$2:$C$8270,Sheet3!$B24,Sheet4!$D$2:$D$8270,Sheet3!AK$3,Sheet4!$E$2:$E$8270,Sheet3!AK$4,Sheet4!$A$2:$A$8270,Sheet3!$B$1,Sheet4!$B$2:$B$8270,Sheet3!$A$3)","v":3},{"$f":"+SUMIFS(Sheet4!$DM$2:$DM$8270,Sheet4!$C$2:$C$8270,Sheet3!$B24,Sheet4!$D$2:$D$8270,Sheet3!AL$3,Sheet4!$E$2:$E$8270,Sheet3!AL$4,Sheet4!$A$2:$A$8270,Sheet3!$B$1,Sheet4!$B$2:$B$8270,Sheet3!$A$3)","v":0},{"$f":"+SUMIFS(Sheet4!$DM$2:$DM$8270,Sheet4!$C$2:$C$8270,Sheet3!$B24,Sheet4!$D$2:$D$8270,Sheet3!AM$3,Sheet4!$E$2:$E$8270,Sheet3!AM$4,Sheet4!$A$2:$A$8270,Sheet3!$B$1,Sheet4!$B$2:$B$8270,Sheet3!$A$3)","v":37},{"$f":"+SUMIFS(Sheet4!$DM$2:$DM$8270,Sheet4!$C$2:$C$8270,Sheet3!$B24,Sheet4!$D$2:$D$8270,Sheet3!AN$3,Sheet4!$E$2:$E$8270,Sheet3!AN$4,Sheet4!$A$2:$A$8270,Sheet3!$B$1,Sheet4!$B$2:$B$8270,Sheet3!$A$3)","v":35},{"$f":"+SUMIFS(Sheet4!$DM$2:$DM$8270,Sheet4!$C$2:$C$8270,Sheet3!$B24,Sheet4!$D$2:$D$8270,Sheet3!AO$3,Sheet4!$E$2:$E$8270,Sheet3!AO$4,Sheet4!$A$2:$A$8270,Sheet3!$B$1,Sheet4!$B$2:$B$8270,Sheet3!$A$3)","v":17},{"$f":"+SUMIFS(Sheet4!$DM$2:$DM$8270,Sheet4!$C$2:$C$8270,Sheet3!$B24,Sheet4!$D$2:$D$8270,Sheet3!AP$3,Sheet4!$E$2:$E$8270,Sheet3!AP$4,Sheet4!$A$2:$A$8270,Sheet3!$B$1,Sheet4!$B$2:$B$8270,Sheet3!$A$3)","v":0},{"$f":"+SUMIFS(Sheet4!$DM$2:$DM$8270,Sheet4!$C$2:$C$8270,Sheet3!$B24,Sheet4!$D$2:$D$8270,Sheet3!AQ$3,Sheet4!$E$2:$E$8270,Sheet3!AQ$4,Sheet4!$A$2:$A$8270,Sheet3!$B$1,Sheet4!$B$2:$B$8270,Sheet3!$A$3)","v":0},{"$f":"+SUMIFS(Sheet4!$DM$2:$DM$8270,Sheet4!$C$2:$C$8270,Sheet3!$B24,Sheet4!$D$2:$D$8270,Sheet3!AR$3,Sheet4!$E$2:$E$8270,Sheet3!AR$4,Sheet4!$A$2:$A$8270,Sheet3!$B$1,Sheet4!$B$2:$B$8270,Sheet3!$A$3)","v":0},{"$f":"+SUMIFS(Sheet4!$DM$2:$DM$8270,Sheet4!$C$2:$C$8270,Sheet3!$B24,Sheet4!$D$2:$D$8270,Sheet3!AS$3,Sheet4!$E$2:$E$8270,Sheet3!AS$4,Sheet4!$A$2:$A$8270,Sheet3!$B$1,Sheet4!$B$2:$B$8270,Sheet3!$A$3)","v":0},{"$f":"+SUMIFS(Sheet4!$DM$2:$DM$8270,Sheet4!$C$2:$C$8270,Sheet3!$B24,Sheet4!$D$2:$D$8270,Sheet3!AT$3,Sheet4!$E$2:$E$8270,Sheet3!AT$4,Sheet4!$A$2:$A$8270,Sheet3!$B$1,Sheet4!$B$2:$B$8270,Sheet3!$A$3)","v":3},{"$f":"+SUMIFS(Sheet4!$DM$2:$DM$8270,Sheet4!$C$2:$C$8270,Sheet3!$B24,Sheet4!$D$2:$D$8270,Sheet3!AU$3,Sheet4!$E$2:$E$8270,Sheet3!AU$4,Sheet4!$A$2:$A$8270,Sheet3!$B$1,Sheet4!$B$2:$B$8270,Sheet3!$A$3)","v":0},{"$f":"+SUMIFS(Sheet4!$DM$2:$DM$8270,Sheet4!$C$2:$C$8270,Sheet3!$B24,Sheet4!$D$2:$D$8270,Sheet3!AV$3,Sheet4!$E$2:$E$8270,Sheet3!AV$4,Sheet4!$A$2:$A$8270,Sheet3!$B$1,Sheet4!$B$2:$B$8270,Sheet3!$A$3)","v":0},{"$f":"+SUMIFS(Sheet4!$DM$2:$DM$8270,Sheet4!$C$2:$C$8270,Sheet3!$B24,Sheet4!$D$2:$D$8270,Sheet3!AW$3,Sheet4!$E$2:$E$8270,Sheet3!AW$4,Sheet4!$A$2:$A$8270,Sheet3!$B$1,Sheet4!$B$2:$B$8270,Sheet3!$A$3)","v":45},{"$f":"+SUMIFS(Sheet4!$DM$2:$DM$8270,Sheet4!$C$2:$C$8270,Sheet3!$B24,Sheet4!$D$2:$D$8270,Sheet3!AX$3,Sheet4!$E$2:$E$8270,Sheet3!AX$4,Sheet4!$A$2:$A$8270,Sheet3!$B$1,Sheet4!$B$2:$B$8270,Sheet3!$A$3)","v":50},{"$f":"+SUMIFS(Sheet4!$DM$2:$DM$8270,Sheet4!$C$2:$C$8270,Sheet3!$B24,Sheet4!$D$2:$D$8270,Sheet3!AY$3,Sheet4!$E$2:$E$8270,Sheet3!AY$4,Sheet4!$A$2:$A$8270,Sheet3!$B$1,Sheet4!$B$2:$B$8270,Sheet3!$A$3)","v":29},{"$f":"+SUMIFS(Sheet4!$DM$2:$DM$8270,Sheet4!$C$2:$C$8270,Sheet3!$B24,Sheet4!$D$2:$D$8270,Sheet3!AZ$3,Sheet4!$E$2:$E$8270,Sheet3!AZ$4,Sheet4!$A$2:$A$8270,Sheet3!$B$1,Sheet4!$B$2:$B$8270,Sheet3!$A$3)","v":3},{"$f":"+SUMIFS(Sheet4!$DM$2:$DM$8270,Sheet4!$C$2:$C$8270,Sheet3!$B24,Sheet4!$D$2:$D$8270,Sheet3!BA$3,Sheet4!$E$2:$E$8270,Sheet3!BA$4,Sheet4!$A$2:$A$8270,Sheet3!$B$1,Sheet4!$B$2:$B$8270,Sheet3!$A$3)","v":0},{"$f":"+SUMIFS(Sheet4!$DM$2:$DM$8270,Sheet4!$C$2:$C$8270,Sheet3!$B24,Sheet4!$D$2:$D$8270,Sheet3!BB$3,Sheet4!$E$2:$E$8270,Sheet3!BB$4,Sheet4!$A$2:$A$8270,Sheet3!$B$1,Sheet4!$B$2:$B$8270,Sheet3!$A$3)","v":3},{"$f":"+SUMIFS(Sheet4!$DM$2:$DM$8270,Sheet4!$C$2:$C$8270,Sheet3!$B24,Sheet4!$D$2:$D$8270,Sheet3!BC$3,Sheet4!$E$2:$E$8270,Sheet3!BC$4,Sheet4!$A$2:$A$8270,Sheet3!$B$1,Sheet4!$B$2:$B$8270,Sheet3!$A$3)","v":13},{"$f":"+SUMIFS(Sheet4!$DM$2:$DM$8270,Sheet4!$C$2:$C$8270,Sheet3!$B24,Sheet4!$D$2:$D$8270,Sheet3!BD$3,Sheet4!$E$2:$E$8270,Sheet3!BD$4,Sheet4!$A$2:$A$8270,Sheet3!$B$1,Sheet4!$B$2:$B$8270,Sheet3!$A$3)","v":8},{"$f":"+SUMIFS(Sheet4!$DM$2:$DM$8270,Sheet4!$C$2:$C$8270,Sheet3!$B24,Sheet4!$D$2:$D$8270,Sheet3!BE$3,Sheet4!$E$2:$E$8270,Sheet3!BE$4,Sheet4!$A$2:$A$8270,Sheet3!$B$1,Sheet4!$B$2:$B$8270,Sheet3!$A$3)","v":0},{"$f":"+SUMIFS(Sheet4!$DM$2:$DM$8270,Sheet4!$C$2:$C$8270,Sheet3!$B24,Sheet4!$D$2:$D$8270,Sheet3!BF$3,Sheet4!$E$2:$E$8270,Sheet3!BF$4,Sheet4!$A$2:$A$8270,Sheet3!$B$1,Sheet4!$B$2:$B$8270,Sheet3!$A$3)","v":0},{"$f":"+SUMIFS(Sheet4!$DM$2:$DM$8270,Sheet4!$C$2:$C$8270,Sheet3!$B24,Sheet4!$D$2:$D$8270,Sheet3!BG$3,Sheet4!$E$2:$E$8270,Sheet3!BG$4,Sheet4!$A$2:$A$8270,Sheet3!$B$1,Sheet4!$B$2:$B$8270,Sheet3!$A$3)","v":64},{"$f":"+SUMIFS(Sheet4!$DM$2:$DM$8270,Sheet4!$C$2:$C$8270,Sheet3!$B24,Sheet4!$D$2:$D$8270,Sheet3!BH$3,Sheet4!$E$2:$E$8270,Sheet3!BH$4,Sheet4!$A$2:$A$8270,Sheet3!$B$1,Sheet4!$B$2:$B$8270,Sheet3!$A$3)","v":43},{"$f":"+SUMIFS(Sheet4!$DM$2:$DM$8270,Sheet4!$C$2:$C$8270,Sheet3!$B24,Sheet4!$D$2:$D$8270,Sheet3!BI$3,Sheet4!$E$2:$E$8270,Sheet3!BI$4,Sheet4!$A$2:$A$8270,Sheet3!$B$1,Sheet4!$B$2:$B$8270,Sheet3!$A$3)","v":22},{"$f":"+SUMIFS(Sheet4!$DM$2:$DM$8270,Sheet4!$C$2:$C$8270,Sheet3!$B24,Sheet4!$D$2:$D$8270,Sheet3!BJ$3,Sheet4!$E$2:$E$8270,Sheet3!BJ$4,Sheet4!$A$2:$A$8270,Sheet3!$B$1,Sheet4!$B$2:$B$8270,Sheet3!$A$3)","v":4},{"$f":"+SUMIFS(Sheet4!$DM$2:$DM$8270,Sheet4!$C$2:$C$8270,Sheet3!$B24,Sheet4!$D$2:$D$8270,Sheet3!BK$3,Sheet4!$E$2:$E$8270,Sheet3!BK$4,Sheet4!$A$2:$A$8270,Sheet3!$B$1,Sheet4!$B$2:$B$8270,Sheet3!$A$3)","v":0},{"$f":"+SUMIFS(Sheet4!$DM$2:$DM$8270,Sheet4!$C$2:$C$8270,Sheet3!$B24,Sheet4!$D$2:$D$8270,Sheet3!BL$3,Sheet4!$E$2:$E$8270,Sheet3!BL$4,Sheet4!$A$2:$A$8270,Sheet3!$B$1,Sheet4!$B$2:$B$8270,Sheet3!$A$3)","v":0},{"$f":"+SUMIFS(Sheet4!$DM$2:$DM$8270,Sheet4!$C$2:$C$8270,Sheet3!$B24,Sheet4!$D$2:$D$8270,Sheet3!BM$3,Sheet4!$E$2:$E$8270,Sheet3!BM$4,Sheet4!$A$2:$A$8270,Sheet3!$B$1,Sheet4!$B$2:$B$8270,Sheet3!$A$3)","v":15},{"$f":"+SUMIFS(Sheet4!$DM$2:$DM$8270,Sheet4!$C$2:$C$8270,Sheet3!$B24,Sheet4!$D$2:$D$8270,Sheet3!BN$3,Sheet4!$E$2:$E$8270,Sheet3!BN$4,Sheet4!$A$2:$A$8270,Sheet3!$B$1,Sheet4!$B$2:$B$8270,Sheet3!$A$3)","v":14},{"$f":"+SUMIFS(Sheet4!$DM$2:$DM$8270,Sheet4!$C$2:$C$8270,Sheet3!$B24,Sheet4!$D$2:$D$8270,Sheet3!BO$3,Sheet4!$E$2:$E$8270,Sheet3!BO$4,Sheet4!$A$2:$A$8270,Sheet3!$B$1,Sheet4!$B$2:$B$8270,Sheet3!$A$3)","v":8},{"$f":"+SUMIFS(Sheet4!$DM$2:$DM$8270,Sheet4!$C$2:$C$8270,Sheet3!$B24,Sheet4!$D$2:$D$8270,Sheet3!BP$3,Sheet4!$E$2:$E$8270,Sheet3!BP$4,Sheet4!$A$2:$A$8270,Sheet3!$B$1,Sheet4!$B$2:$B$8270,Sheet3!$A$3)","v":0},{"$f":"+SUMIFS(Sheet4!$DM$2:$DM$8270,Sheet4!$C$2:$C$8270,Sheet3!$B24,Sheet4!$D$2:$D$8270,Sheet3!BQ$3,Sheet4!$E$2:$E$8270,Sheet3!BQ$4,Sheet4!$A$2:$A$8270,Sheet3!$B$1,Sheet4!$B$2:$B$8270,Sheet3!$A$3)","v":268},{"$f":"+SUMIFS(Sheet4!$DM$2:$DM$8270,Sheet4!$C$2:$C$8270,Sheet3!$B24,Sheet4!$D$2:$D$8270,Sheet3!BR$3,Sheet4!$E$2:$E$8270,Sheet3!BR$4,Sheet4!$A$2:$A$8270,Sheet3!$B$1,Sheet4!$B$2:$B$8270,Sheet3!$A$3)","v":71},{"$f":"+SUMIFS(Sheet4!$DM$2:$DM$8270,Sheet4!$C$2:$C$8270,Sheet3!$B24,Sheet4!$D$2:$D$8270,Sheet3!BS$3,Sheet4!$E$2:$E$8270,Sheet3!BS$4,Sheet4!$A$2:$A$8270,Sheet3!$B$1,Sheet4!$B$2:$B$8270,Sheet3!$A$3)","v":20},{"$f":"+SUMIFS(Sheet4!$DM$2:$DM$8270,Sheet4!$C$2:$C$8270,Sheet3!$B24,Sheet4!$D$2:$D$8270,Sheet3!BT$3,Sheet4!$E$2:$E$8270,Sheet3!BT$4,Sheet4!$A$2:$A$8270,Sheet3!$B$1,Sheet4!$B$2:$B$8270,Sheet3!$A$3)","v":3},{"$f":"+SUMIFS(Sheet4!$DM$2:$DM$8270,Sheet4!$C$2:$C$8270,Sheet3!$B24,Sheet4!$D$2:$D$8270,Sheet3!BU$3,Sheet4!$E$2:$E$8270,Sheet3!BU$4,Sheet4!$A$2:$A$8270,Sheet3!$B$1,Sheet4!$B$2:$B$8270,Sheet3!$A$3)","v":0},{"$f":"+SUMIFS(Sheet4!$DM$2:$DM$8270,Sheet4!$C$2:$C$8270,Sheet3!$B24,Sheet4!$D$2:$D$8270,Sheet3!BV$3,Sheet4!$E$2:$E$8270,Sheet3!BV$4,Sheet4!$A$2:$A$8270,Sheet3!$B$1,Sheet4!$B$2:$B$8270,Sheet3!$A$3)","v":31},{"$f":"+SUMIFS(Sheet4!$DM$2:$DM$8270,Sheet4!$C$2:$C$8270,Sheet3!$B24,Sheet4!$D$2:$D$8270,Sheet3!BW$3,Sheet4!$E$2:$E$8270,Sheet3!BW$4,Sheet4!$A$2:$A$8270,Sheet3!$B$1,Sheet4!$B$2:$B$8270,Sheet3!$A$3)","v":19},{"$f":"+SUMIFS(Sheet4!$DM$2:$DM$8270,Sheet4!$C$2:$C$8270,Sheet3!$B24,Sheet4!$D$2:$D$8270,Sheet3!BX$3,Sheet4!$E$2:$E$8270,Sheet3!BX$4,Sheet4!$A$2:$A$8270,Sheet3!$B$1,Sheet4!$B$2:$B$8270,Sheet3!$A$3)","v":15},{"$f":"+SUMIFS(Sheet4!$DM$2:$DM$8270,Sheet4!$C$2:$C$8270,Sheet3!$B24,Sheet4!$D$2:$D$8270,Sheet3!BY$3,Sheet4!$E$2:$E$8270,Sheet3!BY$4,Sheet4!$A$2:$A$8270,Sheet3!$B$1,Sheet4!$B$2:$B$8270,Sheet3!$A$3)","v":10},{"$f":"+SUMIFS(Sheet4!$DM$2:$DM$8270,Sheet4!$C$2:$C$8270,Sheet3!$B24,Sheet4!$D$2:$D$8270,Sheet3!BZ$3,Sheet4!$E$2:$E$8270,Sheet3!BZ$4,Sheet4!$A$2:$A$8270,Sheet3!$B$1,Sheet4!$B$2:$B$8270,Sheet3!$A$3)","v":0},{"$f":"+SUMIFS(Sheet4!$DM$2:$DM$8270,Sheet4!$C$2:$C$8270,Sheet3!$B24,Sheet4!$D$2:$D$8270,Sheet3!CA$3,Sheet4!$E$2:$E$8270,Sheet3!CA$4,Sheet4!$A$2:$A$8270,Sheet3!$B$1,Sheet4!$B$2:$B$8270,Sheet3!$A$3)","v":73},{"$f":"+SUMIFS(Sheet4!$DM$2:$DM$8270,Sheet4!$C$2:$C$8270,Sheet3!$B24,Sheet4!$D$2:$D$8270,Sheet3!CB$3,Sheet4!$E$2:$E$8270,Sheet3!CB$4,Sheet4!$A$2:$A$8270,Sheet3!$B$1,Sheet4!$B$2:$B$8270,Sheet3!$A$3)","v":77},{"$f":"+SUMIFS(Sheet4!$DM$2:$DM$8270,Sheet4!$C$2:$C$8270,Sheet3!$B24,Sheet4!$D$2:$D$8270,Sheet3!CC$3,Sheet4!$E$2:$E$8270,Sheet3!CC$4,Sheet4!$A$2:$A$8270,Sheet3!$B$1,Sheet4!$B$2:$B$8270,Sheet3!$A$3)","v":41},{"$f":"+SUMIFS(Sheet4!$DM$2:$DM$8270,Sheet4!$C$2:$C$8270,Sheet3!$B24,Sheet4!$D$2:$D$8270,Sheet3!CD$3,Sheet4!$E$2:$E$8270,Sheet3!CD$4,Sheet4!$A$2:$A$8270,Sheet3!$B$1,Sheet4!$B$2:$B$8270,Sheet3!$A$3)","v":3},{"$f":"+SUMIFS(Sheet4!$DM$2:$DM$8270,Sheet4!$C$2:$C$8270,Sheet3!$B24,Sheet4!$D$2:$D$8270,Sheet3!CE$3,Sheet4!$E$2:$E$8270,Sheet3!CE$4,Sheet4!$A$2:$A$8270,Sheet3!$B$1,Sheet4!$B$2:$B$8270,Sheet3!$A$3)","v":0},{"$f":"+SUMIFS(Sheet4!$DM$2:$DM$8270,Sheet4!$C$2:$C$8270,Sheet3!$B24,Sheet4!$D$2:$D$8270,Sheet3!CF$3,Sheet4!$E$2:$E$8270,Sheet3!CF$4,Sheet4!$A$2:$A$8270,Sheet3!$B$1,Sheet4!$B$2:$B$8270,Sheet3!$A$3)","v":0},{"$f":"+SUMIFS(Sheet4!$DM$2:$DM$8270,Sheet4!$C$2:$C$8270,Sheet3!$B24,Sheet4!$D$2:$D$8270,Sheet3!CG$3,Sheet4!$E$2:$E$8270,Sheet3!CG$4,Sheet4!$A$2:$A$8270,Sheet3!$B$1,Sheet4!$B$2:$B$8270,Sheet3!$A$3)","v":9},{"$f":"+SUMIFS(Sheet4!$DM$2:$DM$8270,Sheet4!$C$2:$C$8270,Sheet3!$B24,Sheet4!$D$2:$D$8270,Sheet3!CH$3,Sheet4!$E$2:$E$8270,Sheet3!CH$4,Sheet4!$A$2:$A$8270,Sheet3!$B$1,Sheet4!$B$2:$B$8270,Sheet3!$A$3)","v":16},{"$f":"+SUMIFS(Sheet4!$DM$2:$DM$8270,Sheet4!$C$2:$C$8270,Sheet3!$B24,Sheet4!$D$2:$D$8270,Sheet3!CI$3,Sheet4!$E$2:$E$8270,Sheet3!CI$4,Sheet4!$A$2:$A$8270,Sheet3!$B$1,Sheet4!$B$2:$B$8270,Sheet3!$A$3)","v":10},{"$f":"+SUMIFS(Sheet4!$DM$2:$DM$8270,Sheet4!$C$2:$C$8270,Sheet3!$B24,Sheet4!$D$2:$D$8270,Sheet3!CJ$3,Sheet4!$E$2:$E$8270,Sheet3!CJ$4,Sheet4!$A$2:$A$8270,Sheet3!$B$1,Sheet4!$B$2:$B$8270,Sheet3!$A$3)","v":0},{"$f":"+SUMIFS(Sheet4!$DM$2:$DM$8270,Sheet4!$C$2:$C$8270,Sheet3!$B24,Sheet4!$D$2:$D$8270,Sheet3!CK$3,Sheet4!$E$2:$E$8270,Sheet3!CK$4,Sheet4!$A$2:$A$8270,Sheet3!$B$1,Sheet4!$B$2:$B$8270,Sheet3!$A$3)","v":5},{"$f":"+SUMIFS(Sheet4!$DM$2:$DM$8270,Sheet4!$C$2:$C$8270,Sheet3!$B24,Sheet4!$D$2:$D$8270,Sheet3!CL$3,Sheet4!$E$2:$E$8270,Sheet3!CL$4,Sheet4!$A$2:$A$8270,Sheet3!$B$1,Sheet4!$B$2:$B$8270,Sheet3!$A$3)","v":7},{"$f":"+SUMIFS(Sheet4!$DM$2:$DM$8270,Sheet4!$C$2:$C$8270,Sheet3!$B24,Sheet4!$D$2:$D$8270,Sheet3!CM$3,Sheet4!$E$2:$E$8270,Sheet3!CM$4,Sheet4!$A$2:$A$8270,Sheet3!$B$1,Sheet4!$B$2:$B$8270,Sheet3!$A$3)","v":0},{"$f":"+SUMIFS(Sheet4!$DM$2:$DM$8270,Sheet4!$C$2:$C$8270,Sheet3!$B24,Sheet4!$D$2:$D$8270,Sheet3!CN$3,Sheet4!$E$2:$E$8270,Sheet3!CN$4,Sheet4!$A$2:$A$8270,Sheet3!$B$1,Sheet4!$B$2:$B$8270,Sheet3!$A$3)","v":0},{"$f":"+SUMIFS(Sheet4!$DM$2:$DM$8270,Sheet4!$C$2:$C$8270,Sheet3!$B24,Sheet4!$D$2:$D$8270,Sheet3!CO$3,Sheet4!$E$2:$E$8270,Sheet3!CO$4,Sheet4!$A$2:$A$8270,Sheet3!$B$1,Sheet4!$B$2:$B$8270,Sheet3!$A$3)","v":0},{"$f":"+IF(SUMIFS(Sheet4!$DN$2:$DN$8270,Sheet4!$C$2:$C$8270,Sheet3!$B24,Sheet4!$D$2:$D$8270,Sheet3!CP$3,Sheet4!$A$2:$A$8270,Sheet3!$B$1,Sheet4!$B$2:$B$8270,Sheet3!$A$3)<3,0,SUMIFS(Sheet4!$DN$2:$DN$8270,Sheet4!$C$2:$C$8270,Sheet3!$B24,Sheet4!$D$2:$D$8270,Sheet3!CP$3,Sheet4!$A$2:$A$8270,Sheet3!$B$1,Sheet4!$B$2:$B$8270,Sheet3!$A$3))","v":13},{"$f":"+IF(SUMIFS(Sheet4!$DN$2:$DN$8270,Sheet4!$C$2:$C$8270,Sheet3!$B24,Sheet4!$D$2:$D$8270,Sheet3!CQ$3,Sheet4!$A$2:$A$8270,Sheet3!$B$1,Sheet4!$B$2:$B$8270,Sheet3!$A$3)<3,0,SUMIFS(Sheet4!$DN$2:$DN$8270,Sheet4!$C$2:$C$8270,Sheet3!$B24,Sheet4!$D$2:$D$8270,Sheet3!CQ$3,Sheet4!$A$2:$A$8270,Sheet3!$B$1,Sheet4!$B$2:$B$8270,Sheet3!$A$3))","v":55},{"$f":"+IF(SUMIFS(Sheet4!$DN$2:$DN$8270,Sheet4!$C$2:$C$8270,Sheet3!$B24,Sheet4!$D$2:$D$8270,Sheet3!CR$3,Sheet4!$A$2:$A$8270,Sheet3!$B$1,Sheet4!$B$2:$B$8270,Sheet3!$A$3)<3,0,SUMIFS(Sheet4!$DN$2:$DN$8270,Sheet4!$C$2:$C$8270,Sheet3!$B24,Sheet4!$D$2:$D$8270,Sheet3!CR$3,Sheet4!$A$2:$A$8270,Sheet3!$B$1,Sheet4!$B$2:$B$8270,Sheet3!$A$3))","v":54},{"$f":"+IF(SUMIFS(Sheet4!$DN$2:$DN$8270,Sheet4!$C$2:$C$8270,Sheet3!$B24,Sheet4!$D$2:$D$8270,Sheet3!CS$3,Sheet4!$A$2:$A$8270,Sheet3!$B$1,Sheet4!$B$2:$B$8270,Sheet3!$A$3)<3,0,SUMIFS(Sheet4!$DN$2:$DN$8270,Sheet4!$C$2:$C$8270,Sheet3!$B24,Sheet4!$D$2:$D$8270,Sheet3!CS$3,Sheet4!$A$2:$A$8270,Sheet3!$B$1,Sheet4!$B$2:$B$8270,Sheet3!$A$3))","v":59},{"$f":"+IF(SUMIFS(Sheet4!$DN$2:$DN$8270,Sheet4!$C$2:$C$8270,Sheet3!$B24,Sheet4!$D$2:$D$8270,Sheet3!CT$3,Sheet4!$A$2:$A$8270,Sheet3!$B$1,Sheet4!$B$2:$B$8270,Sheet3!$A$3)<3,0,SUMIFS(Sheet4!$DN$2:$DN$8270,Sheet4!$C$2:$C$8270,Sheet3!$B24,Sheet4!$D$2:$D$8270,Sheet3!CT$3,Sheet4!$A$2:$A$8270,Sheet3!$B$1,Sheet4!$B$2:$B$8270,Sheet3!$A$3))","v":0},{"$f":"+IF(SUMIFS(Sheet4!$DN$2:$DN$8270,Sheet4!$C$2:$C$8270,Sheet3!$B24,Sheet4!$D$2:$D$8270,Sheet3!CU$3,Sheet4!$A$2:$A$8270,Sheet3!$B$1,Sheet4!$B$2:$B$8270,Sheet3!$A$3)<3,0,SUMIFS(Sheet4!$DN$2:$DN$8270,Sheet4!$C$2:$C$8270,Sheet3!$B24,Sheet4!$D$2:$D$8270,Sheet3!CU$3,Sheet4!$A$2:$A$8270,Sheet3!$B$1,Sheet4!$B$2:$B$8270,Sheet3!$A$3))","v":87},{"$f":"+IF(SUMIFS(Sheet4!$DN$2:$DN$8270,Sheet4!$C$2:$C$8270,Sheet3!$B24,Sheet4!$D$2:$D$8270,Sheet3!CV$3,Sheet4!$A$2:$A$8270,Sheet3!$B$1,Sheet4!$B$2:$B$8270,Sheet3!$A$3)<3,0,SUMIFS(Sheet4!$DN$2:$DN$8270,Sheet4!$C$2:$C$8270,Sheet3!$B24,Sheet4!$D$2:$D$8270,Sheet3!CV$3,Sheet4!$A$2:$A$8270,Sheet3!$B$1,Sheet4!$B$2:$B$8270,Sheet3!$A$3))","v":155},{"$f":"+IF(SUMIFS(Sheet4!$DN$2:$DN$8270,Sheet4!$C$2:$C$8270,Sheet3!$B24,Sheet4!$D$2:$D$8270,Sheet3!CW$3,Sheet4!$A$2:$A$8270,Sheet3!$B$1,Sheet4!$B$2:$B$8270,Sheet3!$A$3)<3,0,SUMIFS(Sheet4!$DN$2:$DN$8270,Sheet4!$C$2:$C$8270,Sheet3!$B24,Sheet4!$D$2:$D$8270,Sheet3!CW$3,Sheet4!$A$2:$A$8270,Sheet3!$B$1,Sheet4!$B$2:$B$8270,Sheet3!$A$3))","v":97},{"$f":"+IF(SUMIFS(Sheet4!$DN$2:$DN$8270,Sheet4!$C$2:$C$8270,Sheet3!$B24,Sheet4!$D$2:$D$8270,Sheet3!CX$3,Sheet4!$A$2:$A$8270,Sheet3!$B$1,Sheet4!$B$2:$B$8270,Sheet3!$A$3)<3,0,SUMIFS(Sheet4!$DN$2:$DN$8270,Sheet4!$C$2:$C$8270,Sheet3!$B24,Sheet4!$D$2:$D$8270,Sheet3!CX$3,Sheet4!$A$2:$A$8270,Sheet3!$B$1,Sheet4!$B$2:$B$8270,Sheet3!$A$3))","v":4},{"$f":"+IF(SUMIFS(Sheet4!$DN$2:$DN$8270,Sheet4!$C$2:$C$8270,Sheet3!$B24,Sheet4!$D$2:$D$8270,Sheet3!CY$3,Sheet4!$A$2:$A$8270,Sheet3!$B$1,Sheet4!$B$2:$B$8270,Sheet3!$A$3)<3,0,SUMIFS(Sheet4!$DN$2:$DN$8270,Sheet4!$C$2:$C$8270,Sheet3!$B24,Sheet4!$D$2:$D$8270,Sheet3!CY$3,Sheet4!$A$2:$A$8270,Sheet3!$B$1,Sheet4!$B$2:$B$8270,Sheet3!$A$3))","v":135},{"$f":"+IF(SUMIFS(Sheet4!$DN$2:$DN$8270,Sheet4!$C$2:$C$8270,Sheet3!$B24,Sheet4!$D$2:$D$8270,Sheet3!CZ$3,Sheet4!$A$2:$A$8270,Sheet3!$B$1,Sheet4!$B$2:$B$8270,Sheet3!$A$3)<3,0,SUMIFS(Sheet4!$DN$2:$DN$8270,Sheet4!$C$2:$C$8270,Sheet3!$B24,Sheet4!$D$2:$D$8270,Sheet3!CZ$3,Sheet4!$A$2:$A$8270,Sheet3!$B$1,Sheet4!$B$2:$B$8270,Sheet3!$A$3))","v":27},{"$f":"+IF(SUMIFS(Sheet4!$DN$2:$DN$8270,Sheet4!$C$2:$C$8270,Sheet3!$B24,Sheet4!$D$2:$D$8270,Sheet3!DA$3,Sheet4!$A$2:$A$8270,Sheet3!$B$1,Sheet4!$B$2:$B$8270,Sheet3!$A$3)<3,0,SUMIFS(Sheet4!$DN$2:$DN$8270,Sheet4!$C$2:$C$8270,Sheet3!$B24,Sheet4!$D$2:$D$8270,Sheet3!DA$3,Sheet4!$A$2:$A$8270,Sheet3!$B$1,Sheet4!$B$2:$B$8270,Sheet3!$A$3))","v":139},{"$f":"+IF(SUMIFS(Sheet4!$DN$2:$DN$8270,Sheet4!$C$2:$C$8270,Sheet3!$B24,Sheet4!$D$2:$D$8270,Sheet3!DB$3,Sheet4!$A$2:$A$8270,Sheet3!$B$1,Sheet4!$B$2:$B$8270,Sheet3!$A$3)<3,0,SUMIFS(Sheet4!$DN$2:$DN$8270,Sheet4!$C$2:$C$8270,Sheet3!$B24,Sheet4!$D$2:$D$8270,Sheet3!DB$3,Sheet4!$A$2:$A$8270,Sheet3!$B$1,Sheet4!$B$2:$B$8270,Sheet3!$A$3))","v":43},{"$f":"+IF(SUMIFS(Sheet4!$DN$2:$DN$8270,Sheet4!$C$2:$C$8270,Sheet3!$B24,Sheet4!$D$2:$D$8270,Sheet3!DC$3,Sheet4!$A$2:$A$8270,Sheet3!$B$1,Sheet4!$B$2:$B$8270,Sheet3!$A$3)<3,0,SUMIFS(Sheet4!$DN$2:$DN$8270,Sheet4!$C$2:$C$8270,Sheet3!$B24,Sheet4!$D$2:$D$8270,Sheet3!DC$3,Sheet4!$A$2:$A$8270,Sheet3!$B$1,Sheet4!$B$2:$B$8270,Sheet3!$A$3))","v":363},{"$f":"+IF(SUMIFS(Sheet4!$DN$2:$DN$8270,Sheet4!$C$2:$C$8270,Sheet3!$B24,Sheet4!$D$2:$D$8270,Sheet3!DD$3,Sheet4!$A$2:$A$8270,Sheet3!$B$1,Sheet4!$B$2:$B$8270,Sheet3!$A$3)<3,0,SUMIFS(Sheet4!$DN$2:$DN$8270,Sheet4!$C$2:$C$8270,Sheet3!$B24,Sheet4!$D$2:$D$8270,Sheet3!DD$3,Sheet4!$A$2:$A$8270,Sheet3!$B$1,Sheet4!$B$2:$B$8270,Sheet3!$A$3))","v":82},{"$f":"+IF(SUMIFS(Sheet4!$DN$2:$DN$8270,Sheet4!$C$2:$C$8270,Sheet3!$B24,Sheet4!$D$2:$D$8270,Sheet3!DE$3,Sheet4!$A$2:$A$8270,Sheet3!$B$1,Sheet4!$B$2:$B$8270,Sheet3!$A$3)<3,0,SUMIFS(Sheet4!$DN$2:$DN$8270,Sheet4!$C$2:$C$8270,Sheet3!$B24,Sheet4!$D$2:$D$8270,Sheet3!DE$3,Sheet4!$A$2:$A$8270,Sheet3!$B$1,Sheet4!$B$2:$B$8270,Sheet3!$A$3))","v":198},{"$f":"+IF(SUMIFS(Sheet4!$DN$2:$DN$8270,Sheet4!$C$2:$C$8270,Sheet3!$B24,Sheet4!$D$2:$D$8270,Sheet3!DF$3,Sheet4!$A$2:$A$8270,Sheet3!$B$1,Sheet4!$B$2:$B$8270,Sheet3!$A$3)<3,0,SUMIFS(Sheet4!$DN$2:$DN$8270,Sheet4!$C$2:$C$8270,Sheet3!$B24,Sheet4!$D$2:$D$8270,Sheet3!DF$3,Sheet4!$A$2:$A$8270,Sheet3!$B$1,Sheet4!$B$2:$B$8270,Sheet3!$A$3))","v":40},{"$f":"+IF(SUMIFS(Sheet4!$DN$2:$DN$8270,Sheet4!$C$2:$C$8270,Sheet3!$B24,Sheet4!$D$2:$D$8270,Sheet3!DG$3,Sheet4!$A$2:$A$8270,Sheet3!$B$1,Sheet4!$B$2:$B$8270,Sheet3!$A$3)<3,0,SUMIFS(Sheet4!$DN$2:$DN$8270,Sheet4!$C$2:$C$8270,Sheet3!$B24,Sheet4!$D$2:$D$8270,Sheet3!DG$3,Sheet4!$A$2:$A$8270,Sheet3!$B$1,Sheet4!$B$2:$B$8270,Sheet3!$A$3))","v":16},{"$f":"+IF(SUMIFS(Sheet4!$DN$2:$DN$8270,Sheet4!$C$2:$C$8270,Sheet3!$B24,Sheet4!$E$2:$E$8270,Sheet3!DH$4,Sheet4!$A$2:$A$8270,Sheet3!$B$1,Sheet4!$B$2:$B$8270,Sheet3!$A$3)<3,0,SUMIFS(Sheet4!$DN$2:$DN$8270,Sheet4!$C$2:$C$8270,Sheet3!$B24,Sheet4!$E$2:$E$8270,Sheet3!DH$4,Sheet4!$A$2:$A$8270,Sheet3!$B$1,Sheet4!$B$2:$B$8270,Sheet3!$A$3))","v":637},{"$f":"+IF(SUMIFS(Sheet4!$DN$2:$DN$8270,Sheet4!$C$2:$C$8270,Sheet3!$B24,Sheet4!$E$2:$E$8270,Sheet3!DI$4,Sheet4!$A$2:$A$8270,Sheet3!$B$1,Sheet4!$B$2:$B$8270,Sheet3!$A$3)<3,0,SUMIFS(Sheet4!$DN$2:$DN$8270,Sheet4!$C$2:$C$8270,Sheet3!$B24,Sheet4!$E$2:$E$8270,Sheet3!DI$4,Sheet4!$A$2:$A$8270,Sheet3!$B$1,Sheet4!$B$2:$B$8270,Sheet3!$A$3))","v":530},{"$f":"+IF(SUMIFS(Sheet4!$DN$2:$DN$8270,Sheet4!$C$2:$C$8270,Sheet3!$B24,Sheet4!$E$2:$E$8270,Sheet3!DJ$4,Sheet4!$A$2:$A$8270,Sheet3!$B$1,Sheet4!$B$2:$B$8270,Sheet3!$A$3)<3,0,SUMIFS(Sheet4!$DN$2:$DN$8270,Sheet4!$C$2:$C$8270,Sheet3!$B24,Sheet4!$E$2:$E$8270,Sheet3!DJ$4,Sheet4!$A$2:$A$8270,Sheet3!$B$1,Sheet4!$B$2:$B$8270,Sheet3!$A$3))","v":341},{"$f":"+IF(SUMIFS(Sheet4!$DN$2:$DN$8270,Sheet4!$C$2:$C$8270,Sheet3!$B24,Sheet4!$E$2:$E$8270,Sheet3!DK$4,Sheet4!$A$2:$A$8270,Sheet3!$B$1,Sheet4!$B$2:$B$8270,Sheet3!$A$3)<3,0,SUMIFS(Sheet4!$DN$2:$DN$8270,Sheet4!$C$2:$C$8270,Sheet3!$B24,Sheet4!$E$2:$E$8270,Sheet3!DK$4,Sheet4!$A$2:$A$8270,Sheet3!$B$1,Sheet4!$B$2:$B$8270,Sheet3!$A$3))","v":58},{"$f":"+IF(SUMIFS(Sheet4!$DN$2:$DN$8270,Sheet4!$C$2:$C$8270,Sheet3!$B24,Sheet4!$E$2:$E$8270,Sheet3!DL$4,Sheet4!$A$2:$A$8270,Sheet3!$B$1,Sheet4!$B$2:$B$8270,Sheet3!$A$3)<3,0,SUMIFS(Sheet4!$DN$2:$DN$8270,Sheet4!$C$2:$C$8270,Sheet3!$B24,Sheet4!$E$2:$E$8270,Sheet3!DL$4,Sheet4!$A$2:$A$8270,Sheet3!$B$1,Sheet4!$B$2:$B$8270,Sheet3!$A$3))","v":3}]
[4,"181","Alentejo Litoral",{"$f":"+SUMIFS(Sheet4!$DM$2:$DM$8270,Sheet4!$C$2:$C$8270,Sheet3!$B25,Sheet4!$D$2:$D$8270,Sheet3!D$3,Sheet4!$E$2:$E$8270,Sheet3!D$4,Sheet4!$A$2:$A$8270,Sheet3!$B$1,Sheet4!$B$2:$B$8270,Sheet3!$A$3)","v":0},{"$f":"+SUMIFS(Sheet4!$DM$2:$DM$8270,Sheet4!$C$2:$C$8270,Sheet3!$B25,Sheet4!$D$2:$D$8270,Sheet3!E$3,Sheet4!$E$2:$E$8270,Sheet3!E$4,Sheet4!$A$2:$A$8270,Sheet3!$B$1,Sheet4!$B$2:$B$8270,Sheet3!$A$3)","v":5},{"$f":"+SUMIFS(Sheet4!$DM$2:$DM$8270,Sheet4!$C$2:$C$8270,Sheet3!$B25,Sheet4!$D$2:$D$8270,Sheet3!F$3,Sheet4!$E$2:$E$8270,Sheet3!F$4,Sheet4!$A$2:$A$8270,Sheet3!$B$1,Sheet4!$B$2:$B$8270,Sheet3!$A$3)","v":8},{"$f":"+SUMIFS(Sheet4!$DM$2:$DM$8270,Sheet4!$C$2:$C$8270,Sheet3!$B25,Sheet4!$D$2:$D$8270,Sheet3!G$3,Sheet4!$E$2:$E$8270,Sheet3!G$4,Sheet4!$A$2:$A$8270,Sheet3!$B$1,Sheet4!$B$2:$B$8270,Sheet3!$A$3)","v":5},{"$f":"+SUMIFS(Sheet4!$DM$2:$DM$8270,Sheet4!$C$2:$C$8270,Sheet3!$B25,Sheet4!$D$2:$D$8270,Sheet3!H$3,Sheet4!$E$2:$E$8270,Sheet3!H$4,Sheet4!$A$2:$A$8270,Sheet3!$B$1,Sheet4!$B$2:$B$8270,Sheet3!$A$3)","v":0},{"$f":"+SUMIFS(Sheet4!$DM$2:$DM$8270,Sheet4!$C$2:$C$8270,Sheet3!$B25,Sheet4!$D$2:$D$8270,Sheet3!I$3,Sheet4!$E$2:$E$8270,Sheet3!I$4,Sheet4!$A$2:$A$8270,Sheet3!$B$1,Sheet4!$B$2:$B$8270,Sheet3!$A$3)","v":0},{"$f":"+SUMIFS(Sheet4!$DM$2:$DM$8270,Sheet4!$C$2:$C$8270,Sheet3!$B25,Sheet4!$D$2:$D$8270,Sheet3!J$3,Sheet4!$E$2:$E$8270,Sheet3!J$4,Sheet4!$A$2:$A$8270,Sheet3!$B$1,Sheet4!$B$2:$B$8270,Sheet3!$A$3)","v":4},{"$f":"+SUMIFS(Sheet4!$DM$2:$DM$8270,Sheet4!$C$2:$C$8270,Sheet3!$B25,Sheet4!$D$2:$D$8270,Sheet3!K$3,Sheet4!$E$2:$E$8270,Sheet3!K$4,Sheet4!$A$2:$A$8270,Sheet3!$B$1,Sheet4!$B$2:$B$8270,Sheet3!$A$3)","v":5},{"$f":"+SUMIFS(Sheet4!$DM$2:$DM$8270,Sheet4!$C$2:$C$8270,Sheet3!$B25,Sheet4!$D$2:$D$8270,Sheet3!L$3,Sheet4!$E$2:$E$8270,Sheet3!L$4,Sheet4!$A$2:$A$8270,Sheet3!$B$1,Sheet4!$B$2:$B$8270,Sheet3!$A$3)","v":0},{"$f":"+SUMIFS(Sheet4!$DM$2:$DM$8270,Sheet4!$C$2:$C$8270,Sheet3!$B25,Sheet4!$D$2:$D$8270,Sheet3!M$3,Sheet4!$E$2:$E$8270,Sheet3!M$4,Sheet4!$A$2:$A$8270,Sheet3!$B$1,Sheet4!$B$2:$B$8270,Sheet3!$A$3)","v":0},{"$f":"+SUMIFS(Sheet4!$DM$2:$DM$8270,Sheet4!$C$2:$C$8270,Sheet3!$B25,Sheet4!$D$2:$D$8270,Sheet3!N$3,Sheet4!$E$2:$E$8270,Sheet3!N$4,Sheet4!$A$2:$A$8270,Sheet3!$B$1,Sheet4!$B$2:$B$8270,Sheet3!$A$3)","v":7},{"$f":"+SUMIFS(Sheet4!$DM$2:$DM$8270,Sheet4!$C$2:$C$8270,Sheet3!$B25,Sheet4!$D$2:$D$8270,Sheet3!O$3,Sheet4!$E$2:$E$8270,Sheet3!O$4,Sheet4!$A$2:$A$8270,Sheet3!$B$1,Sheet4!$B$2:$B$8270,Sheet3!$A$3)","v":21},{"$f":"+SUMIFS(Sheet4!$DM$2:$DM$8270,Sheet4!$C$2:$C$8270,Sheet3!$B25,Sheet4!$D$2:$D$8270,Sheet3!P$3,Sheet4!$E$2:$E$8270,Sheet3!P$4,Sheet4!$A$2:$A$8270,Sheet3!$B$1,Sheet4!$B$2:$B$8270,Sheet3!$A$3)","v":36},{"$f":"+SUMIFS(Sheet4!$DM$2:$DM$8270,Sheet4!$C$2:$C$8270,Sheet3!$B25,Sheet4!$D$2:$D$8270,Sheet3!Q$3,Sheet4!$E$2:$E$8270,Sheet3!Q$4,Sheet4!$A$2:$A$8270,Sheet3!$B$1,Sheet4!$B$2:$B$8270,Sheet3!$A$3)","v":8},{"$f":"+SUMIFS(Sheet4!$DM$2:$DM$8270,Sheet4!$C$2:$C$8270,Sheet3!$B25,Sheet4!$D$2:$D$8270,Sheet3!R$3,Sheet4!$E$2:$E$8270,Sheet3!R$4,Sheet4!$A$2:$A$8270,Sheet3!$B$1,Sheet4!$B$2:$B$8270,Sheet3!$A$3)","v":0},{"$f":"+SUMIFS(Sheet4!$DM$2:$DM$8270,Sheet4!$C$2:$C$8270,Sheet3!$B25,Sheet4!$D$2:$D$8270,Sheet3!S$3,Sheet4!$E$2:$E$8270,Sheet3!S$4,Sheet4!$A$2:$A$8270,Sheet3!$B$1,Sheet4!$B$2:$B$8270,Sheet3!$A$3)","v":10},{"$f":"+SUMIFS(Sheet4!$DM$2:$DM$8270,Sheet4!$C$2:$C$8270,Sheet3!$B25,Sheet4!$D$2:$D$8270,Sheet3!T$3,Sheet4!$E$2:$E$8270,Sheet3!T$4,Sheet4!$A$2:$A$8270,Sheet3!$B$1,Sheet4!$B$2:$B$8270,Sheet3!$A$3)","v":36},{"$f":"+SUMIFS(Sheet4!$DM$2:$DM$8270,Sheet4!$C$2:$C$8270,Sheet3!$B25,Sheet4!$D$2:$D$8270,Sheet3!U$3,Sheet4!$E$2:$E$8270,Sheet3!U$4,Sheet4!$A$2:$A$8270,Sheet3!$B$1,Sheet4!$B$2:$B$8270,Sheet3!$A$3)","v":38},{"$f":"+SUMIFS(Sheet4!$DM$2:$DM$8270,Sheet4!$C$2:$C$8270,Sheet3!$B25,Sheet4!$D$2:$D$8270,Sheet3!V$3,Sheet4!$E$2:$E$8270,Sheet3!V$4,Sheet4!$A$2:$A$8270,Sheet3!$B$1,Sheet4!$B$2:$B$8270,Sheet3!$A$3)","v":0},{"$f":"+SUMIFS(Sheet4!$DM$2:$DM$8270,Sheet4!$C$2:$C$8270,Sheet3!$B25,Sheet4!$D$2:$D$8270,Sheet3!W$3,Sheet4!$E$2:$E$8270,Sheet3!W$4,Sheet4!$A$2:$A$8270,Sheet3!$B$1,Sheet4!$B$2:$B$8270,Sheet3!$A$3)","v":0},{"$f":"+SUMIFS(Sheet4!$DM$2:$DM$8270,Sheet4!$C$2:$C$8270,Sheet3!$B25,Sheet4!$D$2:$D$8270,Sheet3!X$3,Sheet4!$E$2:$E$8270,Sheet3!X$4,Sheet4!$A$2:$A$8270,Sheet3!$B$1,Sheet4!$B$2:$B$8270,Sheet3!$A$3)","v":0},{"$f":"+SUMIFS(Sheet4!$DM$2:$DM$8270,Sheet4!$C$2:$C$8270,Sheet3!$B25,Sheet4!$D$2:$D$8270,Sheet3!Y$3,Sheet4!$E$2:$E$8270,Sheet3!Y$4,Sheet4!$A$2:$A$8270,Sheet3!$B$1,Sheet4!$B$2:$B$8270,Sheet3!$A$3)","v":0},{"$f":"+SUMIFS(Sheet4!$DM$2:$DM$8270,Sheet4!$C$2:$C$8270,Sheet3!$B25,Sheet4!$D$2:$D$8270,Sheet3!Z$3,Sheet4!$E$2:$E$8270,Sheet3!Z$4,Sheet4!$A$2:$A$8270,Sheet3!$B$1,Sheet4!$B$2:$B$8270,Sheet3!$A$3)","v":0},{"$f":"+SUMIFS(Sheet4!$DM$2:$DM$8270,Sheet4!$C$2:$C$8270,Sheet3!$B25,Sheet4!$D$2:$D$8270,Sheet3!AA$3,Sheet4!$E$2:$E$8270,Sheet3!AA$4,Sheet4!$A$2:$A$8270,Sheet3!$B$1,Sheet4!$B$2:$B$8270,Sheet3!$A$3)","v":0},{"$f":"+SUMIFS(Sheet4!$DM$2:$DM$8270,Sheet4!$C$2:$C$8270,Sheet3!$B25,Sheet4!$D$2:$D$8270,Sheet3!AB$3,Sheet4!$E$2:$E$8270,Sheet3!AB$4,Sheet4!$A$2:$A$8270,Sheet3!$B$1,Sheet4!$B$2:$B$8270,Sheet3!$A$3)","v":0},{"$f":"+SUMIFS(Sheet4!$DM$2:$DM$8270,Sheet4!$C$2:$C$8270,Sheet3!$B25,Sheet4!$D$2:$D$8270,Sheet3!AC$3,Sheet4!$E$2:$E$8270,Sheet3!AC$4,Sheet4!$A$2:$A$8270,Sheet3!$B$1,Sheet4!$B$2:$B$8270,Sheet3!$A$3)","v":62},{"$f":"+SUMIFS(Sheet4!$DM$2:$DM$8270,Sheet4!$C$2:$C$8270,Sheet3!$B25,Sheet4!$D$2:$D$8270,Sheet3!AD$3,Sheet4!$E$2:$E$8270,Sheet3!AD$4,Sheet4!$A$2:$A$8270,Sheet3!$B$1,Sheet4!$B$2:$B$8270,Sheet3!$A$3)","v":32},{"$f":"+SUMIFS(Sheet4!$DM$2:$DM$8270,Sheet4!$C$2:$C$8270,Sheet3!$B25,Sheet4!$D$2:$D$8270,Sheet3!AE$3,Sheet4!$E$2:$E$8270,Sheet3!AE$4,Sheet4!$A$2:$A$8270,Sheet3!$B$1,Sheet4!$B$2:$B$8270,Sheet3!$A$3)","v":15},{"$f":"+SUMIFS(Sheet4!$DM$2:$DM$8270,Sheet4!$C$2:$C$8270,Sheet3!$B25,Sheet4!$D$2:$D$8270,Sheet3!AF$3,Sheet4!$E$2:$E$8270,Sheet3!AF$4,Sheet4!$A$2:$A$8270,Sheet3!$B$1,Sheet4!$B$2:$B$8270,Sheet3!$A$3)","v":0},{"$f":"+SUMIFS(Sheet4!$DM$2:$DM$8270,Sheet4!$C$2:$C$8270,Sheet3!$B25,Sheet4!$D$2:$D$8270,Sheet3!AG$3,Sheet4!$E$2:$E$8270,Sheet3!AG$4,Sheet4!$A$2:$A$8270,Sheet3!$B$1,Sheet4!$B$2:$B$8270,Sheet3!$A$3)","v":0},{"$f":"+SUMIFS(Sheet4!$DM$2:$DM$8270,Sheet4!$C$2:$C$8270,Sheet3!$B25,Sheet4!$D$2:$D$8270,Sheet3!AH$3,Sheet4!$E$2:$E$8270,Sheet3!AH$4,Sheet4!$A$2:$A$8270,Sheet3!$B$1,Sheet4!$B$2:$B$8270,Sheet3!$A$3)","v":0},{"$f":"+SUMIFS(Sheet4!$DM$2:$DM$8270,Sheet4!$C$2:$C$8270,Sheet3!$B25,Sheet4!$D$2:$D$8270,Sheet3!AI$3,Sheet4!$E$2:$E$8270,Sheet3!AI$4,Sheet4!$A$2:$A$8270,Sheet3!$B$1,Sheet4!$B$2:$B$8270,Sheet3!$A$3)","v":5},{"$f":"+SUMIFS(Sheet4!$DM$2:$DM$8270,Sheet4!$C$2:$C$8270,Sheet3!$B25,Sheet4!$D$2:$D$8270,Sheet3!AJ$3,Sheet4!$E$2:$E$8270,Sheet3!AJ$4,Sheet4!$A$2:$A$8270,Sheet3!$B$1,Sheet4!$B$2:$B$8270,Sheet3!$A$3)","v":6},{"$f":"+SUMIFS(Sheet4!$DM$2:$DM$8270,Sheet4!$C$2:$C$8270,Sheet3!$B25,Sheet4!$D$2:$D$8270,Sheet3!AK$3,Sheet4!$E$2:$E$8270,Sheet3!AK$4,Sheet4!$A$2:$A$8270,Sheet3!$B$1,Sheet4!$B$2:$B$8270,Sheet3!$A$3)","v":0},{"$f":"+SUMIFS(Sheet4!$DM$2:$DM$8270,Sheet4!$C$2:$C$8270,Sheet3!$B25,Sheet4!$D$2:$D$8270,Sheet3!AL$3,Sheet4!$E$2:$E$8270,Sheet3!AL$4,Sheet4!$A$2:$A$8270,Sheet3!$B$1,Sheet4!$B$2:$B$8270,Sheet3!$A$3)","v":0},{"$f":"+SUMIFS(Sheet4!$DM$2:$DM$8270,Sheet4!$C$2:$C$8270,Sheet3!$B25,Sheet4!$D$2:$D$8270,Sheet3!AM$3,Sheet4!$E$2:$E$8270,Sheet3!AM$4,Sheet4!$A$2:$A$8270,Sheet3!$B$1,Sheet4!$B$2:$B$8270,Sheet3!$A$3)","v":23},{"$f":"+SUMIFS(Sheet4!$DM$2:$DM$8270,Sheet4!$C$2:$C$8270,Sheet3!$B25,Sheet4!$D$2:$D$8270,Sheet3!AN$3,Sheet4!$E$2:$E$8270,Sheet3!AN$4,Sheet4!$A$2:$A$8270,Sheet3!$B$1,Sheet4!$B$2:$B$8270,Sheet3!$A$3)","v":78},{"$f":"+SUMIFS(Sheet4!$DM$2:$DM$8270,Sheet4!$C$2:$C$8270,Sheet3!$B25,Sheet4!$D$2:$D$8270,Sheet3!AO$3,Sheet4!$E$2:$E$8270,Sheet3!AO$4,Sheet4!$A$2:$A$8270,Sheet3!$B$1,Sheet4!$B$2:$B$8270,Sheet3!$A$3)","v":139},{"$f":"+SUMIFS(Sheet4!$DM$2:$DM$8270,Sheet4!$C$2:$C$8270,Sheet3!$B25,Sheet4!$D$2:$D$8270,Sheet3!AP$3,Sheet4!$E$2:$E$8270,Sheet3!AP$4,Sheet4!$A$2:$A$8270,Sheet3!$B$1,Sheet4!$B$2:$B$8270,Sheet3!$A$3)","v":25},{"$f":"+SUMIFS(Sheet4!$DM$2:$DM$8270,Sheet4!$C$2:$C$8270,Sheet3!$B25,Sheet4!$D$2:$D$8270,Sheet3!AQ$3,Sheet4!$E$2:$E$8270,Sheet3!AQ$4,Sheet4!$A$2:$A$8270,Sheet3!$B$1,Sheet4!$B$2:$B$8270,Sheet3!$A$3)","v":0},{"$f":"+SUMIFS(Sheet4!$DM$2:$DM$8270,Sheet4!$C$2:$C$8270,Sheet3!$B25,Sheet4!$D$2:$D$8270,Sheet3!AR$3,Sheet4!$E$2:$E$8270,Sheet3!AR$4,Sheet4!$A$2:$A$8270,Sheet3!$B$1,Sheet4!$B$2:$B$8270,Sheet3!$A$3)","v":36},{"$f":"+SUMIFS(Sheet4!$DM$2:$DM$8270,Sheet4!$C$2:$C$8270,Sheet3!$B25,Sheet4!$D$2:$D$8270,Sheet3!AS$3,Sheet4!$E$2:$E$8270,Sheet3!AS$4,Sheet4!$A$2:$A$8270,Sheet3!$B$1,Sheet4!$B$2:$B$8270,Sheet3!$A$3)","v":10},{"$f":"+SUMIFS(Sheet4!$DM$2:$DM$8270,Sheet4!$C$2:$C$8270,Sheet3!$B25,Sheet4!$D$2:$D$8270,Sheet3!AT$3,Sheet4!$E$2:$E$8270,Sheet3!AT$4,Sheet4!$A$2:$A$8270,Sheet3!$B$1,Sheet4!$B$2:$B$8270,Sheet3!$A$3)","v":20},{"$f":"+SUMIFS(Sheet4!$DM$2:$DM$8270,Sheet4!$C$2:$C$8270,Sheet3!$B25,Sheet4!$D$2:$D$8270,Sheet3!AU$3,Sheet4!$E$2:$E$8270,Sheet3!AU$4,Sheet4!$A$2:$A$8270,Sheet3!$B$1,Sheet4!$B$2:$B$8270,Sheet3!$A$3)","v":0},{"$f":"+SUMIFS(Sheet4!$DM$2:$DM$8270,Sheet4!$C$2:$C$8270,Sheet3!$B25,Sheet4!$D$2:$D$8270,Sheet3!AV$3,Sheet4!$E$2:$E$8270,Sheet3!AV$4,Sheet4!$A$2:$A$8270,Sheet3!$B$1,Sheet4!$B$2:$B$8270,Sheet3!$A$3)","v":0},{"$f":"+SUMIFS(Sheet4!$DM$2:$DM$8270,Sheet4!$C$2:$C$8270,Sheet3!$B25,Sheet4!$D$2:$D$8270,Sheet3!AW$3,Sheet4!$E$2:$E$8270,Sheet3!AW$4,Sheet4!$A$2:$A$8270,Sheet3!$B$1,Sheet4!$B$2:$B$8270,Sheet3!$A$3)","v":75},{"$f":"+SUMIFS(Sheet4!$DM$2:$DM$8270,Sheet4!$C$2:$C$8270,Sheet3!$B25,Sheet4!$D$2:$D$8270,Sheet3!AX$3,Sheet4!$E$2:$E$8270,Sheet3!AX$4,Sheet4!$A$2:$A$8270,Sheet3!$B$1,Sheet4!$B$2:$B$8270,Sheet3!$A$3)","v":127},{"$f":"+SUMIFS(Sheet4!$DM$2:$DM$8270,Sheet4!$C$2:$C$8270,Sheet3!$B25,Sheet4!$D$2:$D$8270,Sheet3!AY$3,Sheet4!$E$2:$E$8270,Sheet3!AY$4,Sheet4!$A$2:$A$8270,Sheet3!$B$1,Sheet4!$B$2:$B$8270,Sheet3!$A$3)","v":91},{"$f":"+SUMIFS(Sheet4!$DM$2:$DM$8270,Sheet4!$C$2:$C$8270,Sheet3!$B25,Sheet4!$D$2:$D$8270,Sheet3!AZ$3,Sheet4!$E$2:$E$8270,Sheet3!AZ$4,Sheet4!$A$2:$A$8270,Sheet3!$B$1,Sheet4!$B$2:$B$8270,Sheet3!$A$3)","v":23},{"$f":"+SUMIFS(Sheet4!$DM$2:$DM$8270,Sheet4!$C$2:$C$8270,Sheet3!$B25,Sheet4!$D$2:$D$8270,Sheet3!BA$3,Sheet4!$E$2:$E$8270,Sheet3!BA$4,Sheet4!$A$2:$A$8270,Sheet3!$B$1,Sheet4!$B$2:$B$8270,Sheet3!$A$3)","v":3},{"$f":"+SUMIFS(Sheet4!$DM$2:$DM$8270,Sheet4!$C$2:$C$8270,Sheet3!$B25,Sheet4!$D$2:$D$8270,Sheet3!BB$3,Sheet4!$E$2:$E$8270,Sheet3!BB$4,Sheet4!$A$2:$A$8270,Sheet3!$B$1,Sheet4!$B$2:$B$8270,Sheet3!$A$3)","v":0},{"$f":"+SUMIFS(Sheet4!$DM$2:$DM$8270,Sheet4!$C$2:$C$8270,Sheet3!$B25,Sheet4!$D$2:$D$8270,Sheet3!BC$3,Sheet4!$E$2:$E$8270,Sheet3!BC$4,Sheet4!$A$2:$A$8270,Sheet3!$B$1,Sheet4!$B$2:$B$8270,Sheet3!$A$3)","v":0},{"$f":"+SUMIFS(Sheet4!$DM$2:$DM$8270,Sheet4!$C$2:$C$8270,Sheet3!$B25,Sheet4!$D$2:$D$8270,Sheet3!BD$3,Sheet4!$E$2:$E$8270,Sheet3!BD$4,Sheet4!$A$2:$A$8270,Sheet3!$B$1,Sheet4!$B$2:$B$8270,Sheet3!$A$3)","v":11},{"$f":"+SUMIFS(Sheet4!$DM$2:$DM$8270,Sheet4!$C$2:$C$8270,Sheet3!$B25,Sheet4!$D$2:$D$8270,Sheet3!BE$3,Sheet4!$E$2:$E$8270,Sheet3!BE$4,Sheet4!$A$2:$A$8270,Sheet3!$B$1,Sheet4!$B$2:$B$8270,Sheet3!$A$3)","v":4},{"$f":"+SUMIFS(Sheet4!$DM$2:$DM$8270,Sheet4!$C$2:$C$8270,Sheet3!$B25,Sheet4!$D$2:$D$8270,Sheet3!BF$3,Sheet4!$E$2:$E$8270,Sheet3!BF$4,Sheet4!$A$2:$A$8270,Sheet3!$B$1,Sheet4!$B$2:$B$8270,Sheet3!$A$3)","v":0},{"$f":"+SUMIFS(Sheet4!$DM$2:$DM$8270,Sheet4!$C$2:$C$8270,Sheet3!$B25,Sheet4!$D$2:$D$8270,Sheet3!BG$3,Sheet4!$E$2:$E$8270,Sheet3!BG$4,Sheet4!$A$2:$A$8270,Sheet3!$B$1,Sheet4!$B$2:$B$8270,Sheet3!$A$3)","v":38},{"$f":"+SUMIFS(Sheet4!$DM$2:$DM$8270,Sheet4!$C$2:$C$8270,Sheet3!$B25,Sheet4!$D$2:$D$8270,Sheet3!BH$3,Sheet4!$E$2:$E$8270,Sheet3!BH$4,Sheet4!$A$2:$A$8270,Sheet3!$B$1,Sheet4!$B$2:$B$8270,Sheet3!$A$3)","v":69},{"$f":"+SUMIFS(Sheet4!$DM$2:$DM$8270,Sheet4!$C$2:$C$8270,Sheet3!$B25,Sheet4!$D$2:$D$8270,Sheet3!BI$3,Sheet4!$E$2:$E$8270,Sheet3!BI$4,Sheet4!$A$2:$A$8270,Sheet3!$B$1,Sheet4!$B$2:$B$8270,Sheet3!$A$3)","v":81},{"$f":"+SUMIFS(Sheet4!$DM$2:$DM$8270,Sheet4!$C$2:$C$8270,Sheet3!$B25,Sheet4!$D$2:$D$8270,Sheet3!BJ$3,Sheet4!$E$2:$E$8270,Sheet3!BJ$4,Sheet4!$A$2:$A$8270,Sheet3!$B$1,Sheet4!$B$2:$B$8270,Sheet3!$A$3)","v":11},{"$f":"+SUMIFS(Sheet4!$DM$2:$DM$8270,Sheet4!$C$2:$C$8270,Sheet3!$B25,Sheet4!$D$2:$D$8270,Sheet3!BK$3,Sheet4!$E$2:$E$8270,Sheet3!BK$4,Sheet4!$A$2:$A$8270,Sheet3!$B$1,Sheet4!$B$2:$B$8270,Sheet3!$A$3)","v":0},{"$f":"+SUMIFS(Sheet4!$DM$2:$DM$8270,Sheet4!$C$2:$C$8270,Sheet3!$B25,Sheet4!$D$2:$D$8270,Sheet3!BL$3,Sheet4!$E$2:$E$8270,Sheet3!BL$4,Sheet4!$A$2:$A$8270,Sheet3!$B$1,Sheet4!$B$2:$B$8270,Sheet3!$A$3)","v":0},{"$f":"+SUMIFS(Sheet4!$DM$2:$DM$8270,Sheet4!$C$2:$C$8270,Sheet3!$B25,Sheet4!$D$2:$D$8270,Sheet3!BM$3,Sheet4!$E$2:$E$8270,Sheet3!BM$4,Sheet4!$A$2:$A$8270,Sheet3!$B$1,Sheet4!$B$2:$B$8270,Sheet3!$A$3)","v":38},{"$f":"+SUMIFS(Sheet4!$DM$2:$DM$8270,Sheet4!$C$2:$C$8270,Sheet3!$B25,Sheet4!$D$2:$D$8270,Sheet3!BN$3,Sheet4!$E$2:$E$8270,Sheet3!BN$4,Sheet4!$A$2:$A$8270,Sheet3!$B$1,Sheet4!$B$2:$B$8270,Sheet3!$A$3)","v":202},{"$f":"+SUMIFS(Sheet4!$DM$2:$DM$8270,Sheet4!$C$2:$C$8270,Sheet3!$B25,Sheet4!$D$2:$D$8270,Sheet3!BO$3,Sheet4!$E$2:$E$8270,Sheet3!BO$4,Sheet4!$A$2:$A$8270,Sheet3!$B$1,Sheet4!$B$2:$B$8270,Sheet3!$A$3)","v":107},{"$f":"+SUMIFS(Sheet4!$DM$2:$DM$8270,Sheet4!$C$2:$C$8270,Sheet3!$B25,Sheet4!$D$2:$D$8270,Sheet3!BP$3,Sheet4!$E$2:$E$8270,Sheet3!BP$4,Sheet4!$A$2:$A$8270,Sheet3!$B$1,Sheet4!$B$2:$B$8270,Sheet3!$A$3)","v":9},{"$f":"+SUMIFS(Sheet4!$DM$2:$DM$8270,Sheet4!$C$2:$C$8270,Sheet3!$B25,Sheet4!$D$2:$D$8270,Sheet3!BQ$3,Sheet4!$E$2:$E$8270,Sheet3!BQ$4,Sheet4!$A$2:$A$8270,Sheet3!$B$1,Sheet4!$B$2:$B$8270,Sheet3!$A$3)","v":142},{"$f":"+SUMIFS(Sheet4!$DM$2:$DM$8270,Sheet4!$C$2:$C$8270,Sheet3!$B25,Sheet4!$D$2:$D$8270,Sheet3!BR$3,Sheet4!$E$2:$E$8270,Sheet3!BR$4,Sheet4!$A$2:$A$8270,Sheet3!$B$1,Sheet4!$B$2:$B$8270,Sheet3!$A$3)","v":183},{"$f":"+SUMIFS(Sheet4!$DM$2:$DM$8270,Sheet4!$C$2:$C$8270,Sheet3!$B25,Sheet4!$D$2:$D$8270,Sheet3!BS$3,Sheet4!$E$2:$E$8270,Sheet3!BS$4,Sheet4!$A$2:$A$8270,Sheet3!$B$1,Sheet4!$B$2:$B$8270,Sheet3!$A$3)","v":241},{"$f":"+SUMIFS(Sheet4!$DM$2:$DM$8270,Sheet4!$C$2:$C$8270,Sheet3!$B25,Sheet4!$D$2:$D$8270,Sheet3!BT$3,Sheet4!$E$2:$E$8270,Sheet3!BT$4,Sheet4!$A$2:$A$8270,Sheet3!$B$1,Sheet4!$B$2:$B$8270,Sheet3!$A$3)","v":53},{"$f":"+SUMIFS(Sheet4!$DM$2:$DM$8270,Sheet4!$C$2:$C$8270,Sheet3!$B25,Sheet4!$D$2:$D$8270,Sheet3!BU$3,Sheet4!$E$2:$E$8270,Sheet3!BU$4,Sheet4!$A$2:$A$8270,Sheet3!$B$1,Sheet4!$B$2:$B$8270,Sheet3!$A$3)","v":0},{"$f":"+SUMIFS(Sheet4!$DM$2:$DM$8270,Sheet4!$C$2:$C$8270,Sheet3!$B25,Sheet4!$D$2:$D$8270,Sheet3!BV$3,Sheet4!$E$2:$E$8270,Sheet3!BV$4,Sheet4!$A$2:$A$8270,Sheet3!$B$1,Sheet4!$B$2:$B$8270,Sheet3!$A$3)","v":17},{"$f":"+SUMIFS(Sheet4!$DM$2:$DM$8270,Sheet4!$C$2:$C$8270,Sheet3!$B25,Sheet4!$D$2:$D$8270,Sheet3!BW$3,Sheet4!$E$2:$E$8270,Sheet3!BW$4,Sheet4!$A$2:$A$8270,Sheet3!$B$1,Sheet4!$B$2:$B$8270,Sheet3!$A$3)","v":54},{"$f":"+SUMIFS(Sheet4!$DM$2:$DM$8270,Sheet4!$C$2:$C$8270,Sheet3!$B25,Sheet4!$D$2:$D$8270,Sheet3!BX$3,Sheet4!$E$2:$E$8270,Sheet3!BX$4,Sheet4!$A$2:$A$8270,Sheet3!$B$1,Sheet4!$B$2:$B$8270,Sheet3!$A$3)","v":60},{"$f":"+SUMIFS(Sheet4!$DM$2:$DM$8270,Sheet4!$C$2:$C$8270,Sheet3!$B25,Sheet4!$D$2:$D$8270,Sheet3!BY$3,Sheet4!$E$2:$E$8270,Sheet3!BY$4,Sheet4!$A$2:$A$8270,Sheet3!$B$1,Sheet4!$B$2:$B$8270,Sheet3!$A$3)","v":45},{"$f":"+SUMIFS(Sheet4!$DM$2:$DM$8270,Sheet4!$C$2:$C$8270,Sheet3!$B25,Sheet4!$D$2:$D$8270,Sheet3!BZ$3,Sheet4!$E$2:$E$8270,Sheet3!BZ$4,Sheet4!$A$2:$A$8270,Sheet3!$B$1,Sheet4!$B$2:$B$8270,Sheet3!$A$3)","v":6},{"$f":"+SUMIFS(Sheet4!$DM$2:$DM$8270,Sheet4!$C$2:$C$8270,Sheet3!$B25,Sheet4!$D$2:$D$8270,Sheet3!CA$3,Sheet4!$E$2:$E$8270,Sheet3!CA$4,Sheet4!$A$2:$A$8270,Sheet3!$B$1,Sheet4!$B$2:$B$8270,Sheet3!$A$3)","v":84},{"$f":"+SUMIFS(Sheet4!$DM$2:$DM$8270,Sheet4!$C$2:$C$8270,Sheet3!$B25,Sheet4!$D$2:$D$8270,Sheet3!CB$3,Sheet4!$E$2:$E$8270,Sheet3!CB$4,Sheet4!$A$2:$A$8270,Sheet3!$B$1,Sheet4!$B$2:$B$8270,Sheet3!$A$3)","v":314},{"$f":"+SUMIFS(Sheet4!$DM$2:$DM$8270,Sheet4!$C$2:$C$8270,Sheet3!$B25,Sheet4!$D$2:$D$8270,Sheet3!CC$3,Sheet4!$E$2:$E$8270,Sheet3!CC$4,Sheet4!$A$2:$A$8270,Sheet3!$B$1,Sheet4!$B$2:$B$8270,Sheet3!$A$3)","v":423},{"$f":"+SUMIFS(Sheet4!$DM$2:$DM$8270,Sheet4!$C$2:$C$8270,Sheet3!$B25,Sheet4!$D$2:$D$8270,Sheet3!CD$3,Sheet4!$E$2:$E$8270,Sheet3!CD$4,Sheet4!$A$2:$A$8270,Sheet3!$B$1,Sheet4!$B$2:$B$8270,Sheet3!$A$3)","v":26},{"$f":"+SUMIFS(Sheet4!$DM$2:$DM$8270,Sheet4!$C$2:$C$8270,Sheet3!$B25,Sheet4!$D$2:$D$8270,Sheet3!CE$3,Sheet4!$E$2:$E$8270,Sheet3!CE$4,Sheet4!$A$2:$A$8270,Sheet3!$B$1,Sheet4!$B$2:$B$8270,Sheet3!$A$3)","v":0},{"$f":"+SUMIFS(Sheet4!$DM$2:$DM$8270,Sheet4!$C$2:$C$8270,Sheet3!$B25,Sheet4!$D$2:$D$8270,Sheet3!CF$3,Sheet4!$E$2:$E$8270,Sheet3!CF$4,Sheet4!$A$2:$A$8270,Sheet3!$B$1,Sheet4!$B$2:$B$8270,Sheet3!$A$3)","v":0},{"$f":"+SUMIFS(Sheet4!$DM$2:$DM$8270,Sheet4!$C$2:$C$8270,Sheet3!$B25,Sheet4!$D$2:$D$8270,Sheet3!CG$3,Sheet4!$E$2:$E$8270,Sheet3!CG$4,Sheet4!$A$2:$A$8270,Sheet3!$B$1,Sheet4!$B$2:$B$8270,Sheet3!$A$3)","v":0},{"$f":"+SUMIFS(Sheet4!$DM$2:$DM$8270,Sheet4!$C$2:$C$8270,Sheet3!$B25,Sheet4!$D$2:$D$8270,Sheet3!CH$3,Sheet4!$E$2:$E$8270,Sheet3!CH$4,Sheet4!$A$2:$A$8270,Sheet3!$B$1,Sheet4!$B$2:$B$8270,Sheet3!$A$3)","v":8},{"$f":"+SUMIFS(Sheet4!$DM$2:$DM$8270,Sheet4!$C$2:$C$8270,Sheet3!$B25,Sheet4!$D$2:$D$8270,Sheet3!CI$3,Sheet4!$E$2:$E$8270,Sheet3!CI$4,Sheet4!$A$2:$A$8270,Sheet3!$B$1,Sheet4!$B$2:$B$8270,Sheet3!$A$3)","v":0},{"$f":"+SUMIFS(Sheet4!$DM$2:$DM$8270,Sheet4!$C$2:$C$8270,Sheet3!$B25,Sheet4!$D$2:$D$8270,Sheet3!CJ$3,Sheet4!$E$2:$E$8270,Sheet3!CJ$4,Sheet4!$A$2:$A$8270,Sheet3!$B$1,Sheet4!$B$2:$B$8270,Sheet3!$A$3)","v":0},{"$f":"+SUMIFS(Sheet4!$DM$2:$DM$8270,Sheet4!$C$2:$C$8270,Sheet3!$B25,Sheet4!$D$2:$D$8270,Sheet3!CK$3,Sheet4!$E$2:$E$8270,Sheet3!CK$4,Sheet4!$A$2:$A$8270,Sheet3!$B$1,Sheet4!$B$2:$B$8270,Sheet3!$A$3)","v":0},{"$f":"+SUMIFS(Sheet4!$DM$2:$DM$8270,Sheet4!$C$2:$C$8270,Sheet3!$B25,Sheet4!$D$2:$D$8270,Sheet3!CL$3,Sheet4!$E$2:$E$8270,Sheet3!CL$4,Sheet4!$A$2:$A$8270,Sheet3!$B$1,Sheet4!$B$2:$B$8270,Sheet3!$A$3)","v":0},{"$f":"+SUMIFS(Sheet4!$DM$2:$DM$8270,Sheet4!$C$2:$C$8270,Sheet3!$B25,Sheet4!$D$2:$D$8270,Sheet3!CM$3,Sheet4!$E$2:$E$8270,Sheet3!CM$4,Sheet4!$A$2:$A$8270,Sheet3!$B$1,Sheet4!$B$2:$B$8270,Sheet3!$A$3)","v":0},{"$f":"+SUMIFS(Sheet4!$DM$2:$DM$8270,Sheet4!$C$2:$C$8270,Sheet3!$B25,Sheet4!$D$2:$D$8270,Sheet3!CN$3,Sheet4!$E$2:$E$8270,Sheet3!CN$4,Sheet4!$A$2:$A$8270,Sheet3!$B$1,Sheet4!$B$2:$B$8270,Sheet3!$A$3)","v":0},{"$f":"+SUMIFS(Sheet4!$DM$2:$DM$8270,Sheet4!$C$2:$C$8270,Sheet3!$B25,Sheet4!$D$2:$D$8270,Sheet3!CO$3,Sheet4!$E$2:$E$8270,Sheet3!CO$4,Sheet4!$A$2:$A$8270,Sheet3!$B$1,Sheet4!$B$2:$B$8270,Sheet3!$A$3)","v":0},{"$f":"+IF(SUMIFS(Sheet4!$DN$2:$DN$8270,Sheet4!$C$2:$C$8270,Sheet3!$B25,Sheet4!$D$2:$D$8270,Sheet3!CP$3,Sheet4!$A$2:$A$8270,Sheet3!$B$1,Sheet4!$B$2:$B$8270,Sheet3!$A$3)<3,0,SUMIFS(Sheet4!$DN$2:$DN$8270,Sheet4!$C$2:$C$8270,Sheet3!$B25,Sheet4!$D$2:$D$8270,Sheet3!CP$3,Sheet4!$A$2:$A$8270,Sheet3!$B$1,Sheet4!$B$2:$B$8270,Sheet3!$A$3))","v":21},{"$f":"+IF(SUMIFS(Sheet4!$DN$2:$DN$8270,Sheet4!$C$2:$C$8270,Sheet3!$B25,Sheet4!$D$2:$D$8270,Sheet3!CQ$3,Sheet4!$A$2:$A$8270,Sheet3!$B$1,Sheet4!$B$2:$B$8270,Sheet3!$A$3)<3,0,SUMIFS(Sheet4!$DN$2:$DN$8270,Sheet4!$C$2:$C$8270,Sheet3!$B25,Sheet4!$D$2:$D$8270,Sheet3!CQ$3,Sheet4!$A$2:$A$8270,Sheet3!$B$1,Sheet4!$B$2:$B$8270,Sheet3!$A$3))","v":16},{"$f":"+IF(SUMIFS(Sheet4!$DN$2:$DN$8270,Sheet4!$C$2:$C$8270,Sheet3!$B25,Sheet4!$D$2:$D$8270,Sheet3!CR$3,Sheet4!$A$2:$A$8270,Sheet3!$B$1,Sheet4!$B$2:$B$8270,Sheet3!$A$3)<3,0,SUMIFS(Sheet4!$DN$2:$DN$8270,Sheet4!$C$2:$C$8270,Sheet3!$B25,Sheet4!$D$2:$D$8270,Sheet3!CR$3,Sheet4!$A$2:$A$8270,Sheet3!$B$1,Sheet4!$B$2:$B$8270,Sheet3!$A$3))","v":78},{"$f":"+IF(SUMIFS(Sheet4!$DN$2:$DN$8270,Sheet4!$C$2:$C$8270,Sheet3!$B25,Sheet4!$D$2:$D$8270,Sheet3!CS$3,Sheet4!$A$2:$A$8270,Sheet3!$B$1,Sheet4!$B$2:$B$8270,Sheet3!$A$3)<3,0,SUMIFS(Sheet4!$DN$2:$DN$8270,Sheet4!$C$2:$C$8270,Sheet3!$B25,Sheet4!$D$2:$D$8270,Sheet3!CS$3,Sheet4!$A$2:$A$8270,Sheet3!$B$1,Sheet4!$B$2:$B$8270,Sheet3!$A$3))","v":88},{"$f":"+IF(SUMIFS(Sheet4!$DN$2:$DN$8270,Sheet4!$C$2:$C$8270,Sheet3!$B25,Sheet4!$D$2:$D$8270,Sheet3!CT$3,Sheet4!$A$2:$A$8270,Sheet3!$B$1,Sheet4!$B$2:$B$8270,Sheet3!$A$3)<3,0,SUMIFS(Sheet4!$DN$2:$DN$8270,Sheet4!$C$2:$C$8270,Sheet3!$B25,Sheet4!$D$2:$D$8270,Sheet3!CT$3,Sheet4!$A$2:$A$8270,Sheet3!$B$1,Sheet4!$B$2:$B$8270,Sheet3!$A$3))","v":3},{"$f":"+IF(SUMIFS(Sheet4!$DN$2:$DN$8270,Sheet4!$C$2:$C$8270,Sheet3!$B25,Sheet4!$D$2:$D$8270,Sheet3!CU$3,Sheet4!$A$2:$A$8270,Sheet3!$B$1,Sheet4!$B$2:$B$8270,Sheet3!$A$3)<3,0,SUMIFS(Sheet4!$DN$2:$DN$8270,Sheet4!$C$2:$C$8270,Sheet3!$B25,Sheet4!$D$2:$D$8270,Sheet3!CU$3,Sheet4!$A$2:$A$8270,Sheet3!$B$1,Sheet4!$B$2:$B$8270,Sheet3!$A$3))","v":113},{"$f":"+IF(SUMIFS(Sheet4!$DN$2:$DN$8270,Sheet4!$C$2:$C$8270,Sheet3!$B25,Sheet4!$D$2:$D$8270,Sheet3!CV$3,Sheet4!$A$2:$A$8270,Sheet3!$B$1,Sheet4!$B$2:$B$8270,Sheet3!$A$3)<3,0,SUMIFS(Sheet4!$DN$2:$DN$8270,Sheet4!$C$2:$C$8270,Sheet3!$B25,Sheet4!$D$2:$D$8270,Sheet3!CV$3,Sheet4!$A$2:$A$8270,Sheet3!$B$1,Sheet4!$B$2:$B$8270,Sheet3!$A$3))","v":17},{"$f":"+IF(SUMIFS(Sheet4!$DN$2:$DN$8270,Sheet4!$C$2:$C$8270,Sheet3!$B25,Sheet4!$D$2:$D$8270,Sheet3!CW$3,Sheet4!$A$2:$A$8270,Sheet3!$B$1,Sheet4!$B$2:$B$8270,Sheet3!$A$3)<3,0,SUMIFS(Sheet4!$DN$2:$DN$8270,Sheet4!$C$2:$C$8270,Sheet3!$B25,Sheet4!$D$2:$D$8270,Sheet3!CW$3,Sheet4!$A$2:$A$8270,Sheet3!$B$1,Sheet4!$B$2:$B$8270,Sheet3!$A$3))","v":266},{"$f":"+IF(SUMIFS(Sheet4!$DN$2:$DN$8270,Sheet4!$C$2:$C$8270,Sheet3!$B25,Sheet4!$D$2:$D$8270,Sheet3!CX$3,Sheet4!$A$2:$A$8270,Sheet3!$B$1,Sheet4!$B$2:$B$8270,Sheet3!$A$3)<3,0,SUMIFS(Sheet4!$DN$2:$DN$8270,Sheet4!$C$2:$C$8270,Sheet3!$B25,Sheet4!$D$2:$D$8270,Sheet3!CX$3,Sheet4!$A$2:$A$8270,Sheet3!$B$1,Sheet4!$B$2:$B$8270,Sheet3!$A$3))","v":71},{"$f":"+IF(SUMIFS(Sheet4!$DN$2:$DN$8270,Sheet4!$C$2:$C$8270,Sheet3!$B25,Sheet4!$D$2:$D$8270,Sheet3!CY$3,Sheet4!$A$2:$A$8270,Sheet3!$B$1,Sheet4!$B$2:$B$8270,Sheet3!$A$3)<3,0,SUMIFS(Sheet4!$DN$2:$DN$8270,Sheet4!$C$2:$C$8270,Sheet3!$B25,Sheet4!$D$2:$D$8270,Sheet3!CY$3,Sheet4!$A$2:$A$8270,Sheet3!$B$1,Sheet4!$B$2:$B$8270,Sheet3!$A$3))","v":320},{"$f":"+IF(SUMIFS(Sheet4!$DN$2:$DN$8270,Sheet4!$C$2:$C$8270,Sheet3!$B25,Sheet4!$D$2:$D$8270,Sheet3!CZ$3,Sheet4!$A$2:$A$8270,Sheet3!$B$1,Sheet4!$B$2:$B$8270,Sheet3!$A$3)<3,0,SUMIFS(Sheet4!$DN$2:$DN$8270,Sheet4!$C$2:$C$8270,Sheet3!$B25,Sheet4!$D$2:$D$8270,Sheet3!CZ$3,Sheet4!$A$2:$A$8270,Sheet3!$B$1,Sheet4!$B$2:$B$8270,Sheet3!$A$3))","v":17},{"$f":"+IF(SUMIFS(Sheet4!$DN$2:$DN$8270,Sheet4!$C$2:$C$8270,Sheet3!$B25,Sheet4!$D$2:$D$8270,Sheet3!DA$3,Sheet4!$A$2:$A$8270,Sheet3!$B$1,Sheet4!$B$2:$B$8270,Sheet3!$A$3)<3,0,SUMIFS(Sheet4!$DN$2:$DN$8270,Sheet4!$C$2:$C$8270,Sheet3!$B25,Sheet4!$D$2:$D$8270,Sheet3!DA$3,Sheet4!$A$2:$A$8270,Sheet3!$B$1,Sheet4!$B$2:$B$8270,Sheet3!$A$3))","v":202},{"$f":"+IF(SUMIFS(Sheet4!$DN$2:$DN$8270,Sheet4!$C$2:$C$8270,Sheet3!$B25,Sheet4!$D$2:$D$8270,Sheet3!DB$3,Sheet4!$A$2:$A$8270,Sheet3!$B$1,Sheet4!$B$2:$B$8270,Sheet3!$A$3)<3,0,SUMIFS(Sheet4!$DN$2:$DN$8270,Sheet4!$C$2:$C$8270,Sheet3!$B25,Sheet4!$D$2:$D$8270,Sheet3!DB$3,Sheet4!$A$2:$A$8270,Sheet3!$B$1,Sheet4!$B$2:$B$8270,Sheet3!$A$3))","v":359},{"$f":"+IF(SUMIFS(Sheet4!$DN$2:$DN$8270,Sheet4!$C$2:$C$8270,Sheet3!$B25,Sheet4!$D$2:$D$8270,Sheet3!DC$3,Sheet4!$A$2:$A$8270,Sheet3!$B$1,Sheet4!$B$2:$B$8270,Sheet3!$A$3)<3,0,SUMIFS(Sheet4!$DN$2:$DN$8270,Sheet4!$C$2:$C$8270,Sheet3!$B25,Sheet4!$D$2:$D$8270,Sheet3!DC$3,Sheet4!$A$2:$A$8270,Sheet3!$B$1,Sheet4!$B$2:$B$8270,Sheet3!$A$3))","v":622},{"$f":"+IF(SUMIFS(Sheet4!$DN$2:$DN$8270,Sheet4!$C$2:$C$8270,Sheet3!$B25,Sheet4!$D$2:$D$8270,Sheet3!DD$3,Sheet4!$A$2:$A$8270,Sheet3!$B$1,Sheet4!$B$2:$B$8270,Sheet3!$A$3)<3,0,SUMIFS(Sheet4!$DN$2:$DN$8270,Sheet4!$C$2:$C$8270,Sheet3!$B25,Sheet4!$D$2:$D$8270,Sheet3!DD$3,Sheet4!$A$2:$A$8270,Sheet3!$B$1,Sheet4!$B$2:$B$8270,Sheet3!$A$3))","v":186},{"$f":"+IF(SUMIFS(Sheet4!$DN$2:$DN$8270,Sheet4!$C$2:$C$8270,Sheet3!$B25,Sheet4!$D$2:$D$8270,Sheet3!DE$3,Sheet4!$A$2:$A$8270,Sheet3!$B$1,Sheet4!$B$2:$B$8270,Sheet3!$A$3)<3,0,SUMIFS(Sheet4!$DN$2:$DN$8270,Sheet4!$C$2:$C$8270,Sheet3!$B25,Sheet4!$D$2:$D$8270,Sheet3!DE$3,Sheet4!$A$2:$A$8270,Sheet3!$B$1,Sheet4!$B$2:$B$8270,Sheet3!$A$3))","v":848},{"$f":"+IF(SUMIFS(Sheet4!$DN$2:$DN$8270,Sheet4!$C$2:$C$8270,Sheet3!$B25,Sheet4!$D$2:$D$8270,Sheet3!DF$3,Sheet4!$A$2:$A$8270,Sheet3!$B$1,Sheet4!$B$2:$B$8270,Sheet3!$A$3)<3,0,SUMIFS(Sheet4!$DN$2:$DN$8270,Sheet4!$C$2:$C$8270,Sheet3!$B25,Sheet4!$D$2:$D$8270,Sheet3!DF$3,Sheet4!$A$2:$A$8270,Sheet3!$B$1,Sheet4!$B$2:$B$8270,Sheet3!$A$3))","v":10},{"$f":"+IF(SUMIFS(Sheet4!$DN$2:$DN$8270,Sheet4!$C$2:$C$8270,Sheet3!$B25,Sheet4!$D$2:$D$8270,Sheet3!DG$3,Sheet4!$A$2:$A$8270,Sheet3!$B$1,Sheet4!$B$2:$B$8270,Sheet3!$A$3)<3,0,SUMIFS(Sheet4!$DN$2:$DN$8270,Sheet4!$C$2:$C$8270,Sheet3!$B25,Sheet4!$D$2:$D$8270,Sheet3!DG$3,Sheet4!$A$2:$A$8270,Sheet3!$B$1,Sheet4!$B$2:$B$8270,Sheet3!$A$3))","v":0},{"$f":"+IF(SUMIFS(Sheet4!$DN$2:$DN$8270,Sheet4!$C$2:$C$8270,Sheet3!$B25,Sheet4!$E$2:$E$8270,Sheet3!DH$4,Sheet4!$A$2:$A$8270,Sheet3!$B$1,Sheet4!$B$2:$B$8270,Sheet3!$A$3)<3,0,SUMIFS(Sheet4!$DN$2:$DN$8270,Sheet4!$C$2:$C$8270,Sheet3!$B25,Sheet4!$E$2:$E$8270,Sheet3!DH$4,Sheet4!$A$2:$A$8270,Sheet3!$B$1,Sheet4!$B$2:$B$8270,Sheet3!$A$3))","v":510},{"$f":"+IF(SUMIFS(Sheet4!$DN$2:$DN$8270,Sheet4!$C$2:$C$8270,Sheet3!$B25,Sheet4!$E$2:$E$8270,Sheet3!DI$4,Sheet4!$A$2:$A$8270,Sheet3!$B$1,Sheet4!$B$2:$B$8270,Sheet3!$A$3)<3,0,SUMIFS(Sheet4!$DN$2:$DN$8270,Sheet4!$C$2:$C$8270,Sheet3!$B25,Sheet4!$E$2:$E$8270,Sheet3!DI$4,Sheet4!$A$2:$A$8270,Sheet3!$B$1,Sheet4!$B$2:$B$8270,Sheet3!$A$3))","v":990},{"$f":"+IF(SUMIFS(Sheet4!$DN$2:$DN$8270,Sheet4!$C$2:$C$8270,Sheet3!$B25,Sheet4!$E$2:$E$8270,Sheet3!DJ$4,Sheet4!$A$2:$A$8270,Sheet3!$B$1,Sheet4!$B$2:$B$8270,Sheet3!$A$3)<3,0,SUMIFS(Sheet4!$DN$2:$DN$8270,Sheet4!$C$2:$C$8270,Sheet3!$B25,Sheet4!$E$2:$E$8270,Sheet3!DJ$4,Sheet4!$A$2:$A$8270,Sheet3!$B$1,Sheet4!$B$2:$B$8270,Sheet3!$A$3))","v":1401},{"$f":"+IF(SUMIFS(Sheet4!$DN$2:$DN$8270,Sheet4!$C$2:$C$8270,Sheet3!$B25,Sheet4!$E$2:$E$8270,Sheet3!DK$4,Sheet4!$A$2:$A$8270,Sheet3!$B$1,Sheet4!$B$2:$B$8270,Sheet3!$A$3)<3,0,SUMIFS(Sheet4!$DN$2:$DN$8270,Sheet4!$C$2:$C$8270,Sheet3!$B25,Sheet4!$E$2:$E$8270,Sheet3!DK$4,Sheet4!$A$2:$A$8270,Sheet3!$B$1,Sheet4!$B$2:$B$8270,Sheet3!$A$3))","v":316},{"$f":"+IF(SUMIFS(Sheet4!$DN$2:$DN$8270,Sheet4!$C$2:$C$8270,Sheet3!$B25,Sheet4!$E$2:$E$8270,Sheet3!DL$4,Sheet4!$A$2:$A$8270,Sheet3!$B$1,Sheet4!$B$2:$B$8270,Sheet3!$A$3)<3,0,SUMIFS(Sheet4!$DN$2:$DN$8270,Sheet4!$C$2:$C$8270,Sheet3!$B25,Sheet4!$E$2:$E$8270,Sheet3!DL$4,Sheet4!$A$2:$A$8270,Sheet3!$B$1,Sheet4!$B$2:$B$8270,Sheet3!$A$3))","v":21}]
[5,"184","Baixo Alentejo",{"$f":"+SUMIFS(Sheet4!$DM$2:$DM$8270,Sheet4!$C$2:$C$8270,Sheet3!$B26,Sheet4!$D$2:$D$8270,Sheet3!D$3,Sheet4!$E$2:$E$8270,Sheet3!D$4,Sheet4!$A$2:$A$8270,Sheet3!$B$1,Sheet4!$B$2:$B$8270,Sheet3!$A$3)","v":21},{"$f":"+SUMIFS(Sheet4!$DM$2:$DM$8270,Sheet4!$C$2:$C$8270,Sheet3!$B26,Sheet4!$D$2:$D$8270,Sheet3!E$3,Sheet4!$E$2:$E$8270,Sheet3!E$4,Sheet4!$A$2:$A$8270,Sheet3!$B$1,Sheet4!$B$2:$B$8270,Sheet3!$A$3)","v":4},{"$f":"+SUMIFS(Sheet4!$DM$2:$DM$8270,Sheet4!$C$2:$C$8270,Sheet3!$B26,Sheet4!$D$2:$D$8270,Sheet3!F$3,Sheet4!$E$2:$E$8270,Sheet3!F$4,Sheet4!$A$2:$A$8270,Sheet3!$B$1,Sheet4!$B$2:$B$8270,Sheet3!$A$3)","v":4},{"$f":"+SUMIFS(Sheet4!$DM$2:$DM$8270,Sheet4!$C$2:$C$8270,Sheet3!$B26,Sheet4!$D$2:$D$8270,Sheet3!G$3,Sheet4!$E$2:$E$8270,Sheet3!G$4,Sheet4!$A$2:$A$8270,Sheet3!$B$1,Sheet4!$B$2:$B$8270,Sheet3!$A$3)","v":0},{"$f":"+SUMIFS(Sheet4!$DM$2:$DM$8270,Sheet4!$C$2:$C$8270,Sheet3!$B26,Sheet4!$D$2:$D$8270,Sheet3!H$3,Sheet4!$E$2:$E$8270,Sheet3!H$4,Sheet4!$A$2:$A$8270,Sheet3!$B$1,Sheet4!$B$2:$B$8270,Sheet3!$A$3)","v":0},{"$f":"+SUMIFS(Sheet4!$DM$2:$DM$8270,Sheet4!$C$2:$C$8270,Sheet3!$B26,Sheet4!$D$2:$D$8270,Sheet3!I$3,Sheet4!$E$2:$E$8270,Sheet3!I$4,Sheet4!$A$2:$A$8270,Sheet3!$B$1,Sheet4!$B$2:$B$8270,Sheet3!$A$3)","v":5},{"$f":"+SUMIFS(Sheet4!$DM$2:$DM$8270,Sheet4!$C$2:$C$8270,Sheet3!$B26,Sheet4!$D$2:$D$8270,Sheet3!J$3,Sheet4!$E$2:$E$8270,Sheet3!J$4,Sheet4!$A$2:$A$8270,Sheet3!$B$1,Sheet4!$B$2:$B$8270,Sheet3!$A$3)","v":14},{"$f":"+SUMIFS(Sheet4!$DM$2:$DM$8270,Sheet4!$C$2:$C$8270,Sheet3!$B26,Sheet4!$D$2:$D$8270,Sheet3!K$3,Sheet4!$E$2:$E$8270,Sheet3!K$4,Sheet4!$A$2:$A$8270,Sheet3!$B$1,Sheet4!$B$2:$B$8270,Sheet3!$A$3)","v":38},{"$f":"+SUMIFS(Sheet4!$DM$2:$DM$8270,Sheet4!$C$2:$C$8270,Sheet3!$B26,Sheet4!$D$2:$D$8270,Sheet3!L$3,Sheet4!$E$2:$E$8270,Sheet3!L$4,Sheet4!$A$2:$A$8270,Sheet3!$B$1,Sheet4!$B$2:$B$8270,Sheet3!$A$3)","v":13},{"$f":"+SUMIFS(Sheet4!$DM$2:$DM$8270,Sheet4!$C$2:$C$8270,Sheet3!$B26,Sheet4!$D$2:$D$8270,Sheet3!M$3,Sheet4!$E$2:$E$8270,Sheet3!M$4,Sheet4!$A$2:$A$8270,Sheet3!$B$1,Sheet4!$B$2:$B$8270,Sheet3!$A$3)","v":0},{"$f":"+SUMIFS(Sheet4!$DM$2:$DM$8270,Sheet4!$C$2:$C$8270,Sheet3!$B26,Sheet4!$D$2:$D$8270,Sheet3!N$3,Sheet4!$E$2:$E$8270,Sheet3!N$4,Sheet4!$A$2:$A$8270,Sheet3!$B$1,Sheet4!$B$2:$B$8270,Sheet3!$A$3)","v":144},{"$f":"+SUMIFS(Sheet4!$DM$2:$DM$8270,Sheet4!$C$2:$C$8270,Sheet3!$B26,Sheet4!$D$2:$D$8270,Sheet3!O$3,Sheet4!$E$2:$E$8270,Sheet3!O$4,Sheet4!$A$2:$A$8270,Sheet3!$B$1,Sheet4!$B$2:$B$8270,Sheet3!$A$3)","v":245},{"$f":"+SUMIFS(Sheet4!$DM$2:$DM$8270,Sheet4!$C$2:$C$8270,Sheet3!$B26,Sheet4!$D$2:$D$8270,Sheet3!P$3,Sheet4!$E$2:$E$8270,Sheet3!P$4,Sheet4!$A$2:$A$8270,Sheet3!$B$1,Sheet4!$B$2:$B$8270,Sheet3!$A$3)","v":206},{"$f":"+SUMIFS(Sheet4!$DM$2:$DM$8270,Sheet4!$C$2:$C$8270,Sheet3!$B26,Sheet4!$D$2:$D$8270,Sheet3!Q$3,Sheet4!$E$2:$E$8270,Sheet3!Q$4,Sheet4!$A$2:$A$8270,Sheet3!$B$1,Sheet4!$B$2:$B$8270,Sheet3!$A$3)","v":42},{"$f":"+SUMIFS(Sheet4!$DM$2:$DM$8270,Sheet4!$C$2:$C$8270,Sheet3!$B26,Sheet4!$D$2:$D$8270,Sheet3!R$3,Sheet4!$E$2:$E$8270,Sheet3!R$4,Sheet4!$A$2:$A$8270,Sheet3!$B$1,Sheet4!$B$2:$B$8270,Sheet3!$A$3)","v":0},{"$f":"+SUMIFS(Sheet4!$DM$2:$DM$8270,Sheet4!$C$2:$C$8270,Sheet3!$B26,Sheet4!$D$2:$D$8270,Sheet3!S$3,Sheet4!$E$2:$E$8270,Sheet3!S$4,Sheet4!$A$2:$A$8270,Sheet3!$B$1,Sheet4!$B$2:$B$8270,Sheet3!$A$3)","v":0},{"$f":"+SUMIFS(Sheet4!$DM$2:$DM$8270,Sheet4!$C$2:$C$8270,Sheet3!$B26,Sheet4!$D$2:$D$8270,Sheet3!T$3,Sheet4!$E$2:$E$8270,Sheet3!T$4,Sheet4!$A$2:$A$8270,Sheet3!$B$1,Sheet4!$B$2:$B$8270,Sheet3!$A$3)","v":0},{"$f":"+SUMIFS(Sheet4!$DM$2:$DM$8270,Sheet4!$C$2:$C$8270,Sheet3!$B26,Sheet4!$D$2:$D$8270,Sheet3!U$3,Sheet4!$E$2:$E$8270,Sheet3!U$4,Sheet4!$A$2:$A$8270,Sheet3!$B$1,Sheet4!$B$2:$B$8270,Sheet3!$A$3)","v":0},{"$f":"+SUMIFS(Sheet4!$DM$2:$DM$8270,Sheet4!$C$2:$C$8270,Sheet3!$B26,Sheet4!$D$2:$D$8270,Sheet3!V$3,Sheet4!$E$2:$E$8270,Sheet3!V$4,Sheet4!$A$2:$A$8270,Sheet3!$B$1,Sheet4!$B$2:$B$8270,Sheet3!$A$3)","v":0},{"$f":"+SUMIFS(Sheet4!$DM$2:$DM$8270,Sheet4!$C$2:$C$8270,Sheet3!$B26,Sheet4!$D$2:$D$8270,Sheet3!W$3,Sheet4!$E$2:$E$8270,Sheet3!W$4,Sheet4!$A$2:$A$8270,Sheet3!$B$1,Sheet4!$B$2:$B$8270,Sheet3!$A$3)","v":0},{"$f":"+SUMIFS(Sheet4!$DM$2:$DM$8270,Sheet4!$C$2:$C$8270,Sheet3!$B26,Sheet4!$D$2:$D$8270,Sheet3!X$3,Sheet4!$E$2:$E$8270,Sheet3!X$4,Sheet4!$A$2:$A$8270,Sheet3!$B$1,Sheet4!$B$2:$B$8270,Sheet3!$A$3)","v":7},{"$f":"+SUMIFS(Sheet4!$DM$2:$DM$8270,Sheet4!$C$2:$C$8270,Sheet3!$B26,Sheet4!$D$2:$D$8270,Sheet3!Y$3,Sheet4!$E$2:$E$8270,Sheet3!Y$4,Sheet4!$A$2:$A$8270,Sheet3!$B$1,Sheet4!$B$2:$B$8270,Sheet3!$A$3)","v":24},{"$f":"+SUMIFS(Sheet4!$DM$2:$DM$8270,Sheet4!$C$2:$C$8270,Sheet3!$B26,Sheet4!$D$2:$D$8270,Sheet3!Z$3,Sheet4!$E$2:$E$8270,Sheet3!Z$4,Sheet4!$A$2:$A$8270,Sheet3!$B$1,Sheet4!$B$2:$B$8270,Sheet3!$A$3)","v":40},{"$f":"+SUMIFS(Sheet4!$DM$2:$DM$8270,Sheet4!$C$2:$C$8270,Sheet3!$B26,Sheet4!$D$2:$D$8270,Sheet3!AA$3,Sheet4!$E$2:$E$8270,Sheet3!AA$4,Sheet4!$A$2:$A$8270,Sheet3!$B$1,Sheet4!$B$2:$B$8270,Sheet3!$A$3)","v":4},{"$f":"+SUMIFS(Sheet4!$DM$2:$DM$8270,Sheet4!$C$2:$C$8270,Sheet3!$B26,Sheet4!$D$2:$D$8270,Sheet3!AB$3,Sheet4!$E$2:$E$8270,Sheet3!AB$4,Sheet4!$A$2:$A$8270,Sheet3!$B$1,Sheet4!$B$2:$B$8270,Sheet3!$A$3)","v":0},{"$f":"+SUMIFS(Sheet4!$DM$2:$DM$8270,Sheet4!$C$2:$C$8270,Sheet3!$B26,Sheet4!$D$2:$D$8270,Sheet3!AC$3,Sheet4!$E$2:$E$8270,Sheet3!AC$4,Sheet4!$A$2:$A$8270,Sheet3!$B$1,Sheet4!$B$2:$B$8270,Sheet3!$A$3)","v":48},{"$f":"+SUMIFS(Sheet4!$DM$2:$DM$8270,Sheet4!$C$2:$C$8270,Sheet3!$B26,Sheet4!$D$2:$D$8270,Sheet3!AD$3,Sheet4!$E$2:$E$8270,Sheet3!AD$4,Sheet4!$A$2:$A$8270,Sheet3!$B$1,Sheet4!$B$2:$B$8270,Sheet3!$A$3)","v":31},{"$f":"+SUMIFS(Sheet4!$DM$2:$DM$8270,Sheet4!$C$2:$C$8270,Sheet3!$B26,Sheet4!$D$2:$D$8270,Sheet3!AE$3,Sheet4!$E$2:$E$8270,Sheet3!AE$4,Sheet4!$A$2:$A$8270,Sheet3!$B$1,Sheet4!$B$2:$B$8270,Sheet3!$A$3)","v":20},{"$f":"+SUMIFS(Sheet4!$DM$2:$DM$8270,Sheet4!$C$2:$C$8270,Sheet3!$B26,Sheet4!$D$2:$D$8270,Sheet3!AF$3,Sheet4!$E$2:$E$8270,Sheet3!AF$4,Sheet4!$A$2:$A$8270,Sheet3!$B$1,Sheet4!$B$2:$B$8270,Sheet3!$A$3)","v":3},{"$f":"+SUMIFS(Sheet4!$DM$2:$DM$8270,Sheet4!$C$2:$C$8270,Sheet3!$B26,Sheet4!$D$2:$D$8270,Sheet3!AG$3,Sheet4!$E$2:$E$8270,Sheet3!AG$4,Sheet4!$A$2:$A$8270,Sheet3!$B$1,Sheet4!$B$2:$B$8270,Sheet3!$A$3)","v":0},{"$f":"+SUMIFS(Sheet4!$DM$2:$DM$8270,Sheet4!$C$2:$C$8270,Sheet3!$B26,Sheet4!$D$2:$D$8270,Sheet3!AH$3,Sheet4!$E$2:$E$8270,Sheet3!AH$4,Sheet4!$A$2:$A$8270,Sheet3!$B$1,Sheet4!$B$2:$B$8270,Sheet3!$A$3)","v":97},{"$f":"+SUMIFS(Sheet4!$DM$2:$DM$8270,Sheet4!$C$2:$C$8270,Sheet3!$B26,Sheet4!$D$2:$D$8270,Sheet3!AI$3,Sheet4!$E$2:$E$8270,Sheet3!AI$4,Sheet4!$A$2:$A$8270,Sheet3!$B$1,Sheet4!$B$2:$B$8270,Sheet3!$A$3)","v":98},{"$f":"+SUMIFS(Sheet4!$DM$2:$DM$8270,Sheet4!$C$2:$C$8270,Sheet3!$B26,Sheet4!$D$2:$D$8270,Sheet3!AJ$3,Sheet4!$E$2:$E$8270,Sheet3!AJ$4,Sheet4!$A$2:$A$8270,Sheet3!$B$1,Sheet4!$B$2:$B$8270,Sheet3!$A$3)","v":46},{"$f":"+SUMIFS(Sheet4!$DM$2:$DM$8270,Sheet4!$C$2:$C$8270,Sheet3!$B26,Sheet4!$D$2:$D$8270,Sheet3!AK$3,Sheet4!$E$2:$E$8270,Sheet3!AK$4,Sheet4!$A$2:$A$8270,Sheet3!$B$1,Sheet4!$B$2:$B$8270,Sheet3!$A$3)","v":4},{"$f":"+SUMIFS(Sheet4!$DM$2:$DM$8270,Sheet4!$C$2:$C$8270,Sheet3!$B26,Sheet4!$D$2:$D$8270,Sheet3!AL$3,Sheet4!$E$2:$E$8270,Sheet3!AL$4,Sheet4!$A$2:$A$8270,Sheet3!$B$1,Sheet4!$B$2:$B$8270,Sheet3!$A$3)","v":0},{"$f":"+SUMIFS(Sheet4!$DM$2:$DM$8270,Sheet4!$C$2:$C$8270,Sheet3!$B26,Sheet4!$D$2:$D$8270,Sheet3!AM$3,Sheet4!$E$2:$E$8270,Sheet3!AM$4,Sheet4!$A$2:$A$8270,Sheet3!$B$1,Sheet4!$B$2:$B$8270,Sheet3!$A$3)","v":48},{"$f":"+SUMIFS(Sheet4!$DM$2:$DM$8270,Sheet4!$C$2:$C$8270,Sheet3!$B26,Sheet4!$D$2:$D$8270,Sheet3!AN$3,Sheet4!$E$2:$E$8270,Sheet3!AN$4,Sheet4!$A$2:$A$8270,Sheet3!$B$1,Sheet4!$B$2:$B$8270,Sheet3!$A$3)","v":87},{"$f":"+SUMIFS(Sheet4!$DM$2:$DM$8270,Sheet4!$C$2:$C$8270,Sheet3!$B26,Sheet4!$D$2:$D$8270,Sheet3!AO$3,Sheet4!$E$2:$E$8270,Sheet3!AO$4,Sheet4!$A$2:$A$8270,Sheet3!$B$1,Sheet4!$B$2:$B$8270,Sheet3!$A$3)","v":238},{"$f":"+SUMIFS(Sheet4!$DM$2:$DM$8270,Sheet4!$C$2:$C$8270,Sheet3!$B26,Sheet4!$D$2:$D$8270,Sheet3!AP$3,Sheet4!$E$2:$E$8270,Sheet3!AP$4,Sheet4!$A$2:$A$8270,Sheet3!$B$1,Sheet4!$B$2:$B$8270,Sheet3!$A$3)","v":34},{"$f":"+SUMIFS(Sheet4!$DM$2:$DM$8270,Sheet4!$C$2:$C$8270,Sheet3!$B26,Sheet4!$D$2:$D$8270,Sheet3!AQ$3,Sheet4!$E$2:$E$8270,Sheet3!AQ$4,Sheet4!$A$2:$A$8270,Sheet3!$B$1,Sheet4!$B$2:$B$8270,Sheet3!$A$3)","v":0},{"$f":"+SUMIFS(Sheet4!$DM$2:$DM$8270,Sheet4!$C$2:$C$8270,Sheet3!$B26,Sheet4!$D$2:$D$8270,Sheet3!AR$3,Sheet4!$E$2:$E$8270,Sheet3!AR$4,Sheet4!$A$2:$A$8270,Sheet3!$B$1,Sheet4!$B$2:$B$8270,Sheet3!$A$3)","v":802},{"$f":"+SUMIFS(Sheet4!$DM$2:$DM$8270,Sheet4!$C$2:$C$8270,Sheet3!$B26,Sheet4!$D$2:$D$8270,Sheet3!AS$3,Sheet4!$E$2:$E$8270,Sheet3!AS$4,Sheet4!$A$2:$A$8270,Sheet3!$B$1,Sheet4!$B$2:$B$8270,Sheet3!$A$3)","v":563},{"$f":"+SUMIFS(Sheet4!$DM$2:$DM$8270,Sheet4!$C$2:$C$8270,Sheet3!$B26,Sheet4!$D$2:$D$8270,Sheet3!AT$3,Sheet4!$E$2:$E$8270,Sheet3!AT$4,Sheet4!$A$2:$A$8270,Sheet3!$B$1,Sheet4!$B$2:$B$8270,Sheet3!$A$3)","v":450},{"$f":"+SUMIFS(Sheet4!$DM$2:$DM$8270,Sheet4!$C$2:$C$8270,Sheet3!$B26,Sheet4!$D$2:$D$8270,Sheet3!AU$3,Sheet4!$E$2:$E$8270,Sheet3!AU$4,Sheet4!$A$2:$A$8270,Sheet3!$B$1,Sheet4!$B$2:$B$8270,Sheet3!$A$3)","v":75},{"$f":"+SUMIFS(Sheet4!$DM$2:$DM$8270,Sheet4!$C$2:$C$8270,Sheet3!$B26,Sheet4!$D$2:$D$8270,Sheet3!AV$3,Sheet4!$E$2:$E$8270,Sheet3!AV$4,Sheet4!$A$2:$A$8270,Sheet3!$B$1,Sheet4!$B$2:$B$8270,Sheet3!$A$3)","v":5},{"$f":"+SUMIFS(Sheet4!$DM$2:$DM$8270,Sheet4!$C$2:$C$8270,Sheet3!$B26,Sheet4!$D$2:$D$8270,Sheet3!AW$3,Sheet4!$E$2:$E$8270,Sheet3!AW$4,Sheet4!$A$2:$A$8270,Sheet3!$B$1,Sheet4!$B$2:$B$8270,Sheet3!$A$3)","v":328},{"$f":"+SUMIFS(Sheet4!$DM$2:$DM$8270,Sheet4!$C$2:$C$8270,Sheet3!$B26,Sheet4!$D$2:$D$8270,Sheet3!AX$3,Sheet4!$E$2:$E$8270,Sheet3!AX$4,Sheet4!$A$2:$A$8270,Sheet3!$B$1,Sheet4!$B$2:$B$8270,Sheet3!$A$3)","v":401},{"$f":"+SUMIFS(Sheet4!$DM$2:$DM$8270,Sheet4!$C$2:$C$8270,Sheet3!$B26,Sheet4!$D$2:$D$8270,Sheet3!AY$3,Sheet4!$E$2:$E$8270,Sheet3!AY$4,Sheet4!$A$2:$A$8270,Sheet3!$B$1,Sheet4!$B$2:$B$8270,Sheet3!$A$3)","v":252},{"$f":"+SUMIFS(Sheet4!$DM$2:$DM$8270,Sheet4!$C$2:$C$8270,Sheet3!$B26,Sheet4!$D$2:$D$8270,Sheet3!AZ$3,Sheet4!$E$2:$E$8270,Sheet3!AZ$4,Sheet4!$A$2:$A$8270,Sheet3!$B$1,Sheet4!$B$2:$B$8270,Sheet3!$A$3)","v":60},{"$f":"+SUMIFS(Sheet4!$DM$2:$DM$8270,Sheet4!$C$2:$C$8270,Sheet3!$B26,Sheet4!$D$2:$D$8270,Sheet3!BA$3,Sheet4!$E$2:$E$8270,Sheet3!BA$4,Sheet4!$A$2:$A$8270,Sheet3!$B$1,Sheet4!$B$2:$B$8270,Sheet3!$A$3)","v":5},{"$f":"+SUMIFS(Sheet4!$DM$2:$DM$8270,Sheet4!$C$2:$C$8270,Sheet3!$B26,Sheet4!$D$2:$D$8270,Sheet3!BB$3,Sheet4!$E$2:$E$8270,Sheet3!BB$4,Sheet4!$A$2:$A$8270,Sheet3!$B$1,Sheet4!$B$2:$B$8270,Sheet3!$A$3)","v":0},{"$f":"+SUMIFS(Sheet4!$DM$2:$DM$8270,Sheet4!$C$2:$C$8270,Sheet3!$B26,Sheet4!$D$2:$D$8270,Sheet3!BC$3,Sheet4!$E$2:$E$8270,Sheet3!BC$4,Sheet4!$A$2:$A$8270,Sheet3!$B$1,Sheet4!$B$2:$B$8270,Sheet3!$A$3)","v":0},{"$f":"+SUMIFS(Sheet4!$DM$2:$DM$8270,Sheet4!$C$2:$C$8270,Sheet3!$B26,Sheet4!$D$2:$D$8270,Sheet3!BD$3,Sheet4!$E$2:$E$8270,Sheet3!BD$4,Sheet4!$A$2:$A$8270,Sheet3!$B$1,Sheet4!$B$2:$B$8270,Sheet3!$A$3)","v":0},{"$f":"+SUMIFS(Sheet4!$DM$2:$DM$8270,Sheet4!$C$2:$C$8270,Sheet3!$B26,Sheet4!$D$2:$D$8270,Sheet3!BE$3,Sheet4!$E$2:$E$8270,Sheet3!BE$4,Sheet4!$A$2:$A$8270,Sheet3!$B$1,Sheet4!$B$2:$B$8270,Sheet3!$A$3)","v":0},{"$f":"+SUMIFS(Sheet4!$DM$2:$DM$8270,Sheet4!$C$2:$C$8270,Sheet3!$B26,Sheet4!$D$2:$D$8270,Sheet3!BF$3,Sheet4!$E$2:$E$8270,Sheet3!BF$4,Sheet4!$A$2:$A$8270,Sheet3!$B$1,Sheet4!$B$2:$B$8270,Sheet3!$A$3)","v":0},{"$f":"+SUMIFS(Sheet4!$DM$2:$DM$8270,Sheet4!$C$2:$C$8270,Sheet3!$B26,Sheet4!$D$2:$D$8270,Sheet3!BG$3,Sheet4!$E$2:$E$8270,Sheet3!BG$4,Sheet4!$A$2:$A$8270,Sheet3!$B$1,Sheet4!$B$2:$B$8270,Sheet3!$A$3)","v":35},{"$f":"+SUMIFS(Sheet4!$DM$2:$DM$8270,Sheet4!$C$2:$C$8270,Sheet3!$B26,Sheet4!$D$2:$D$8270,Sheet3!BH$3,Sheet4!$E$2:$E$8270,Sheet3!BH$4,Sheet4!$A$2:$A$8270,Sheet3!$B$1,Sheet4!$B$2:$B$8270,Sheet3!$A$3)","v":36},{"$f":"+SUMIFS(Sheet4!$DM$2:$DM$8270,Sheet4!$C$2:$C$8270,Sheet3!$B26,Sheet4!$D$2:$D$8270,Sheet3!BI$3,Sheet4!$E$2:$E$8270,Sheet3!BI$4,Sheet4!$A$2:$A$8270,Sheet3!$B$1,Sheet4!$B$2:$B$8270,Sheet3!$A$3)","v":82},{"$f":"+SUMIFS(Sheet4!$DM$2:$DM$8270,Sheet4!$C$2:$C$8270,Sheet3!$B26,Sheet4!$D$2:$D$8270,Sheet3!BJ$3,Sheet4!$E$2:$E$8270,Sheet3!BJ$4,Sheet4!$A$2:$A$8270,Sheet3!$B$1,Sheet4!$B$2:$B$8270,Sheet3!$A$3)","v":32},{"$f":"+SUMIFS(Sheet4!$DM$2:$DM$8270,Sheet4!$C$2:$C$8270,Sheet3!$B26,Sheet4!$D$2:$D$8270,Sheet3!BK$3,Sheet4!$E$2:$E$8270,Sheet3!BK$4,Sheet4!$A$2:$A$8270,Sheet3!$B$1,Sheet4!$B$2:$B$8270,Sheet3!$A$3)","v":0},{"$f":"+SUMIFS(Sheet4!$DM$2:$DM$8270,Sheet4!$C$2:$C$8270,Sheet3!$B26,Sheet4!$D$2:$D$8270,Sheet3!BL$3,Sheet4!$E$2:$E$8270,Sheet3!BL$4,Sheet4!$A$2:$A$8270,Sheet3!$B$1,Sheet4!$B$2:$B$8270,Sheet3!$A$3)","v":0},{"$f":"+SUMIFS(Sheet4!$DM$2:$DM$8270,Sheet4!$C$2:$C$8270,Sheet3!$B26,Sheet4!$D$2:$D$8270,Sheet3!BM$3,Sheet4!$E$2:$E$8270,Sheet3!BM$4,Sheet4!$A$2:$A$8270,Sheet3!$B$1,Sheet4!$B$2:$B$8270,Sheet3!$A$3)","v":13},{"$f":"+SUMIFS(Sheet4!$DM$2:$DM$8270,Sheet4!$C$2:$C$8270,Sheet3!$B26,Sheet4!$D$2:$D$8270,Sheet3!BN$3,Sheet4!$E$2:$E$8270,Sheet3!BN$4,Sheet4!$A$2:$A$8270,Sheet3!$B$1,Sheet4!$B$2:$B$8270,Sheet3!$A$3)","v":226},{"$f":"+SUMIFS(Sheet4!$DM$2:$DM$8270,Sheet4!$C$2:$C$8270,Sheet3!$B26,Sheet4!$D$2:$D$8270,Sheet3!BO$3,Sheet4!$E$2:$E$8270,Sheet3!BO$4,Sheet4!$A$2:$A$8270,Sheet3!$B$1,Sheet4!$B$2:$B$8270,Sheet3!$A$3)","v":220},{"$f":"+SUMIFS(Sheet4!$DM$2:$DM$8270,Sheet4!$C$2:$C$8270,Sheet3!$B26,Sheet4!$D$2:$D$8270,Sheet3!BP$3,Sheet4!$E$2:$E$8270,Sheet3!BP$4,Sheet4!$A$2:$A$8270,Sheet3!$B$1,Sheet4!$B$2:$B$8270,Sheet3!$A$3)","v":12},{"$f":"+SUMIFS(Sheet4!$DM$2:$DM$8270,Sheet4!$C$2:$C$8270,Sheet3!$B26,Sheet4!$D$2:$D$8270,Sheet3!BQ$3,Sheet4!$E$2:$E$8270,Sheet3!BQ$4,Sheet4!$A$2:$A$8270,Sheet3!$B$1,Sheet4!$B$2:$B$8270,Sheet3!$A$3)","v":421},{"$f":"+SUMIFS(Sheet4!$DM$2:$DM$8270,Sheet4!$C$2:$C$8270,Sheet3!$B26,Sheet4!$D$2:$D$8270,Sheet3!BR$3,Sheet4!$E$2:$E$8270,Sheet3!BR$4,Sheet4!$A$2:$A$8270,Sheet3!$B$1,Sheet4!$B$2:$B$8270,Sheet3!$A$3)","v":402},{"$f":"+SUMIFS(Sheet4!$DM$2:$DM$8270,Sheet4!$C$2:$C$8270,Sheet3!$B26,Sheet4!$D$2:$D$8270,Sheet3!BS$3,Sheet4!$E$2:$E$8270,Sheet3!BS$4,Sheet4!$A$2:$A$8270,Sheet3!$B$1,Sheet4!$B$2:$B$8270,Sheet3!$A$3)","v":536},{"$f":"+SUMIFS(Sheet4!$DM$2:$DM$8270,Sheet4!$C$2:$C$8270,Sheet3!$B26,Sheet4!$D$2:$D$8270,Sheet3!BT$3,Sheet4!$E$2:$E$8270,Sheet3!BT$4,Sheet4!$A$2:$A$8270,Sheet3!$B$1,Sheet4!$B$2:$B$8270,Sheet3!$A$3)","v":152},{"$f":"+SUMIFS(Sheet4!$DM$2:$DM$8270,Sheet4!$C$2:$C$8270,Sheet3!$B26,Sheet4!$D$2:$D$8270,Sheet3!BU$3,Sheet4!$E$2:$E$8270,Sheet3!BU$4,Sheet4!$A$2:$A$8270,Sheet3!$B$1,Sheet4!$B$2:$B$8270,Sheet3!$A$3)","v":3},{"$f":"+SUMIFS(Sheet4!$DM$2:$DM$8270,Sheet4!$C$2:$C$8270,Sheet3!$B26,Sheet4!$D$2:$D$8270,Sheet3!BV$3,Sheet4!$E$2:$E$8270,Sheet3!BV$4,Sheet4!$A$2:$A$8270,Sheet3!$B$1,Sheet4!$B$2:$B$8270,Sheet3!$A$3)","v":50},{"$f":"+SUMIFS(Sheet4!$DM$2:$DM$8270,Sheet4!$C$2:$C$8270,Sheet3!$B26,Sheet4!$D$2:$D$8270,Sheet3!BW$3,Sheet4!$E$2:$E$8270,Sheet3!BW$4,Sheet4!$A$2:$A$8270,Sheet3!$B$1,Sheet4!$B$2:$B$8270,Sheet3!$A$3)","v":119},{"$f":"+SUMIFS(Sheet4!$DM$2:$DM$8270,Sheet4!$C$2:$C$8270,Sheet3!$B26,Sheet4!$D$2:$D$8270,Sheet3!BX$3,Sheet4!$E$2:$E$8270,Sheet3!BX$4,Sheet4!$A$2:$A$8270,Sheet3!$B$1,Sheet4!$B$2:$B$8270,Sheet3!$A$3)","v":168},{"$f":"+SUMIFS(Sheet4!$DM$2:$DM$8270,Sheet4!$C$2:$C$8270,Sheet3!$B26,Sheet4!$D$2:$D$8270,Sheet3!BY$3,Sheet4!$E$2:$E$8270,Sheet3!BY$4,Sheet4!$A$2:$A$8270,Sheet3!$B$1,Sheet4!$B$2:$B$8270,Sheet3!$A$3)","v":125},{"$f":"+SUMIFS(Sheet4!$DM$2:$DM$8270,Sheet4!$C$2:$C$8270,Sheet3!$B26,Sheet4!$D$2:$D$8270,Sheet3!BZ$3,Sheet4!$E$2:$E$8270,Sheet3!BZ$4,Sheet4!$A$2:$A$8270,Sheet3!$B$1,Sheet4!$B$2:$B$8270,Sheet3!$A$3)","v":11},{"$f":"+SUMIFS(Sheet4!$DM$2:$DM$8270,Sheet4!$C$2:$C$8270,Sheet3!$B26,Sheet4!$D$2:$D$8270,Sheet3!CA$3,Sheet4!$E$2:$E$8270,Sheet3!CA$4,Sheet4!$A$2:$A$8270,Sheet3!$B$1,Sheet4!$B$2:$B$8270,Sheet3!$A$3)","v":161},{"$f":"+SUMIFS(Sheet4!$DM$2:$DM$8270,Sheet4!$C$2:$C$8270,Sheet3!$B26,Sheet4!$D$2:$D$8270,Sheet3!CB$3,Sheet4!$E$2:$E$8270,Sheet3!CB$4,Sheet4!$A$2:$A$8270,Sheet3!$B$1,Sheet4!$B$2:$B$8270,Sheet3!$A$3)","v":371},{"$f":"+SUMIFS(Sheet4!$DM$2:$DM$8270,Sheet4!$C$2:$C$8270,Sheet3!$B26,Sheet4!$D$2:$D$8270,Sheet3!CC$3,Sheet4!$E$2:$E$8270,Sheet3!CC$4,Sheet4!$A$2:$A$8270,Sheet3!$B$1,Sheet4!$B$2:$B$8270,Sheet3!$A$3)","v":521},{"$f":"+SUMIFS(Sheet4!$DM$2:$DM$8270,Sheet4!$C$2:$C$8270,Sheet3!$B26,Sheet4!$D$2:$D$8270,Sheet3!CD$3,Sheet4!$E$2:$E$8270,Sheet3!CD$4,Sheet4!$A$2:$A$8270,Sheet3!$B$1,Sheet4!$B$2:$B$8270,Sheet3!$A$3)","v":42},{"$f":"+SUMIFS(Sheet4!$DM$2:$DM$8270,Sheet4!$C$2:$C$8270,Sheet3!$B26,Sheet4!$D$2:$D$8270,Sheet3!CE$3,Sheet4!$E$2:$E$8270,Sheet3!CE$4,Sheet4!$A$2:$A$8270,Sheet3!$B$1,Sheet4!$B$2:$B$8270,Sheet3!$A$3)","v":0},{"$f":"+SUMIFS(Sheet4!$DM$2:$DM$8270,Sheet4!$C$2:$C$8270,Sheet3!$B26,Sheet4!$D$2:$D$8270,Sheet3!CF$3,Sheet4!$E$2:$E$8270,Sheet3!CF$4,Sheet4!$A$2:$A$8270,Sheet3!$B$1,Sheet4!$B$2:$B$8270,Sheet3!$A$3)","v":0},{"$f":"+SUMIFS(Sheet4!$DM$2:$DM$8270,Sheet4!$C$2:$C$8270,Sheet3!$B26,Sheet4!$D$2:$D$8270,Sheet3!CG$3,Sheet4!$E$2:$E$8270,Sheet3!CG$4,Sheet4!$A$2:$A$8270,Sheet3!$B$1,Sheet4!$B$2:$B$8270,Sheet3!$A$3)","v":0},{"$f":"+SUMIFS(Sheet4!$DM$2:$DM$8270,Sheet4!$C$2:$C$8270,Sheet3!$B26,Sheet4!$D$2:$D$8270,Sheet3!CH$3,Sheet4!$E$2:$E$8270,Sheet3!CH$4,Sheet4!$A$2:$A$8270,Sheet3!$B$1,Sheet4!$B$2:$B$8270,Sheet3!$A$3)","v":5},{"$f":"+SUMIFS(Sheet4!$DM$2:$DM$8270,Sheet4!$C$2:$C$8270,Sheet3!$B26,Sheet4!$D$2:$D$8270,Sheet3!CI$3,Sheet4!$E$2:$E$8270,Sheet3!CI$4,Sheet4!$A$2:$A$8270,Sheet3!$B$1,Sheet4!$B$2:$B$8270,Sheet3!$A$3)","v":0},{"$f":"+SUMIFS(Sheet4!$DM$2:$DM$8270,Sheet4!$C$2:$C$8270,Sheet3!$B26,Sheet4!$D$2:$D$8270,Sheet3!CJ$3,Sheet4!$E$2:$E$8270,Sheet3!CJ$4,Sheet4!$A$2:$A$8270,Sheet3!$B$1,Sheet4!$B$2:$B$8270,Sheet3!$A$3)","v":0},{"$f":"+SUMIFS(Sheet4!$DM$2:$DM$8270,Sheet4!$C$2:$C$8270,Sheet3!$B26,Sheet4!$D$2:$D$8270,Sheet3!CK$3,Sheet4!$E$2:$E$8270,Sheet3!CK$4,Sheet4!$A$2:$A$8270,Sheet3!$B$1,Sheet4!$B$2:$B$8270,Sheet3!$A$3)","v":0},{"$f":"+SUMIFS(Sheet4!$DM$2:$DM$8270,Sheet4!$C$2:$C$8270,Sheet3!$B26,Sheet4!$D$2:$D$8270,Sheet3!CL$3,Sheet4!$E$2:$E$8270,Sheet3!CL$4,Sheet4!$A$2:$A$8270,Sheet3!$B$1,Sheet4!$B$2:$B$8270,Sheet3!$A$3)","v":0},{"$f":"+SUMIFS(Sheet4!$DM$2:$DM$8270,Sheet4!$C$2:$C$8270,Sheet3!$B26,Sheet4!$D$2:$D$8270,Sheet3!CM$3,Sheet4!$E$2:$E$8270,Sheet3!CM$4,Sheet4!$A$2:$A$8270,Sheet3!$B$1,Sheet4!$B$2:$B$8270,Sheet3!$A$3)","v":0},{"$f":"+SUMIFS(Sheet4!$DM$2:$DM$8270,Sheet4!$C$2:$C$8270,Sheet3!$B26,Sheet4!$D$2:$D$8270,Sheet3!CN$3,Sheet4!$E$2:$E$8270,Sheet3!CN$4,Sheet4!$A$2:$A$8270,Sheet3!$B$1,Sheet4!$B$2:$B$8270,Sheet3!$A$3)","v":0},{"$f":"+SUMIFS(Sheet4!$DM$2:$DM$8270,Sheet4!$C$2:$C$8270,Sheet3!$B26,Sheet4!$D$2:$D$8270,Sheet3!CO$3,Sheet4!$E$2:$E$8270,Sheet3!CO$4,Sheet4!$A$2:$A$8270,Sheet3!$B$1,Sheet4!$B$2:$B$8270,Sheet3!$A$3)","v":0},{"$f":"+IF(SUMIFS(Sheet4!$DN$2:$DN$8270,Sheet4!$C$2:$C$8270,Sheet3!$B26,Sheet4!$D$2:$D$8270,Sheet3!CP$3,Sheet4!$A$2:$A$8270,Sheet3!$B$1,Sheet4!$B$2:$B$8270,Sheet3!$A$3)<3,0,SUMIFS(Sheet4!$DN$2:$DN$8270,Sheet4!$C$2:$C$8270,Sheet3!$B26,Sheet4!$D$2:$D$8270,Sheet3!CP$3,Sheet4!$A$2:$A$8270,Sheet3!$B$1,Sheet4!$B$2:$B$8270,Sheet3!$A$3))","v":30},{"$f":"+IF(SUMIFS(Sheet4!$DN$2:$DN$8270,Sheet4!$C$2:$C$8270,Sheet3!$B26,Sheet4!$D$2:$D$8270,Sheet3!CQ$3,Sheet4!$A$2:$A$8270,Sheet3!$B$1,Sheet4!$B$2:$B$8270,Sheet3!$A$3)<3,0,SUMIFS(Sheet4!$DN$2:$DN$8270,Sheet4!$C$2:$C$8270,Sheet3!$B26,Sheet4!$D$2:$D$8270,Sheet3!CQ$3,Sheet4!$A$2:$A$8270,Sheet3!$B$1,Sheet4!$B$2:$B$8270,Sheet3!$A$3))","v":72},{"$f":"+IF(SUMIFS(Sheet4!$DN$2:$DN$8270,Sheet4!$C$2:$C$8270,Sheet3!$B26,Sheet4!$D$2:$D$8270,Sheet3!CR$3,Sheet4!$A$2:$A$8270,Sheet3!$B$1,Sheet4!$B$2:$B$8270,Sheet3!$A$3)<3,0,SUMIFS(Sheet4!$DN$2:$DN$8270,Sheet4!$C$2:$C$8270,Sheet3!$B26,Sheet4!$D$2:$D$8270,Sheet3!CR$3,Sheet4!$A$2:$A$8270,Sheet3!$B$1,Sheet4!$B$2:$B$8270,Sheet3!$A$3))","v":638},{"$f":"+IF(SUMIFS(Sheet4!$DN$2:$DN$8270,Sheet4!$C$2:$C$8270,Sheet3!$B26,Sheet4!$D$2:$D$8270,Sheet3!CS$3,Sheet4!$A$2:$A$8270,Sheet3!$B$1,Sheet4!$B$2:$B$8270,Sheet3!$A$3)<3,0,SUMIFS(Sheet4!$DN$2:$DN$8270,Sheet4!$C$2:$C$8270,Sheet3!$B26,Sheet4!$D$2:$D$8270,Sheet3!CS$3,Sheet4!$A$2:$A$8270,Sheet3!$B$1,Sheet4!$B$2:$B$8270,Sheet3!$A$3))","v":0},{"$f":"+IF(SUMIFS(Sheet4!$DN$2:$DN$8270,Sheet4!$C$2:$C$8270,Sheet3!$B26,Sheet4!$D$2:$D$8270,Sheet3!CT$3,Sheet4!$A$2:$A$8270,Sheet3!$B$1,Sheet4!$B$2:$B$8270,Sheet3!$A$3)<3,0,SUMIFS(Sheet4!$DN$2:$DN$8270,Sheet4!$C$2:$C$8270,Sheet3!$B26,Sheet4!$D$2:$D$8270,Sheet3!CT$3,Sheet4!$A$2:$A$8270,Sheet3!$B$1,Sheet4!$B$2:$B$8270,Sheet3!$A$3))","v":79},{"$f":"+IF(SUMIFS(Sheet4!$DN$2:$DN$8270,Sheet4!$C$2:$C$8270,Sheet3!$B26,Sheet4!$D$2:$D$8270,Sheet3!CU$3,Sheet4!$A$2:$A$8270,Sheet3!$B$1,Sheet4!$B$2:$B$8270,Sheet3!$A$3)<3,0,SUMIFS(Sheet4!$DN$2:$DN$8270,Sheet4!$C$2:$C$8270,Sheet3!$B26,Sheet4!$D$2:$D$8270,Sheet3!CU$3,Sheet4!$A$2:$A$8270,Sheet3!$B$1,Sheet4!$B$2:$B$8270,Sheet3!$A$3))","v":102},{"$f":"+IF(SUMIFS(Sheet4!$DN$2:$DN$8270,Sheet4!$C$2:$C$8270,Sheet3!$B26,Sheet4!$D$2:$D$8270,Sheet3!CV$3,Sheet4!$A$2:$A$8270,Sheet3!$B$1,Sheet4!$B$2:$B$8270,Sheet3!$A$3)<3,0,SUMIFS(Sheet4!$DN$2:$DN$8270,Sheet4!$C$2:$C$8270,Sheet3!$B26,Sheet4!$D$2:$D$8270,Sheet3!CV$3,Sheet4!$A$2:$A$8270,Sheet3!$B$1,Sheet4!$B$2:$B$8270,Sheet3!$A$3))","v":249},{"$f":"+IF(SUMIFS(Sheet4!$DN$2:$DN$8270,Sheet4!$C$2:$C$8270,Sheet3!$B26,Sheet4!$D$2:$D$8270,Sheet3!CW$3,Sheet4!$A$2:$A$8270,Sheet3!$B$1,Sheet4!$B$2:$B$8270,Sheet3!$A$3)<3,0,SUMIFS(Sheet4!$DN$2:$DN$8270,Sheet4!$C$2:$C$8270,Sheet3!$B26,Sheet4!$D$2:$D$8270,Sheet3!CW$3,Sheet4!$A$2:$A$8270,Sheet3!$B$1,Sheet4!$B$2:$B$8270,Sheet3!$A$3))","v":413},{"$f":"+IF(SUMIFS(Sheet4!$DN$2:$DN$8270,Sheet4!$C$2:$C$8270,Sheet3!$B26,Sheet4!$D$2:$D$8270,Sheet3!CX$3,Sheet4!$A$2:$A$8270,Sheet3!$B$1,Sheet4!$B$2:$B$8270,Sheet3!$A$3)<3,0,SUMIFS(Sheet4!$DN$2:$DN$8270,Sheet4!$C$2:$C$8270,Sheet3!$B26,Sheet4!$D$2:$D$8270,Sheet3!CX$3,Sheet4!$A$2:$A$8270,Sheet3!$B$1,Sheet4!$B$2:$B$8270,Sheet3!$A$3))","v":1897},{"$f":"+IF(SUMIFS(Sheet4!$DN$2:$DN$8270,Sheet4!$C$2:$C$8270,Sheet3!$B26,Sheet4!$D$2:$D$8270,Sheet3!CY$3,Sheet4!$A$2:$A$8270,Sheet3!$B$1,Sheet4!$B$2:$B$8270,Sheet3!$A$3)<3,0,SUMIFS(Sheet4!$DN$2:$DN$8270,Sheet4!$C$2:$C$8270,Sheet3!$B26,Sheet4!$D$2:$D$8270,Sheet3!CY$3,Sheet4!$A$2:$A$8270,Sheet3!$B$1,Sheet4!$B$2:$B$8270,Sheet3!$A$3))","v":1049},{"$f":"+IF(SUMIFS(Sheet4!$DN$2:$DN$8270,Sheet4!$C$2:$C$8270,Sheet3!$B26,Sheet4!$D$2:$D$8270,Sheet3!CZ$3,Sheet4!$A$2:$A$8270,Sheet3!$B$1,Sheet4!$B$2:$B$8270,Sheet3!$A$3)<3,0,SUMIFS(Sheet4!$DN$2:$DN$8270,Sheet4!$C$2:$C$8270,Sheet3!$B26,Sheet4!$D$2:$D$8270,Sheet3!CZ$3,Sheet4!$A$2:$A$8270,Sheet3!$B$1,Sheet4!$B$2:$B$8270,Sheet3!$A$3))","v":5},{"$f":"+IF(SUMIFS(Sheet4!$DN$2:$DN$8270,Sheet4!$C$2:$C$8270,Sheet3!$B26,Sheet4!$D$2:$D$8270,Sheet3!DA$3,Sheet4!$A$2:$A$8270,Sheet3!$B$1,Sheet4!$B$2:$B$8270,Sheet3!$A$3)<3,0,SUMIFS(Sheet4!$DN$2:$DN$8270,Sheet4!$C$2:$C$8270,Sheet3!$B26,Sheet4!$D$2:$D$8270,Sheet3!DA$3,Sheet4!$A$2:$A$8270,Sheet3!$B$1,Sheet4!$B$2:$B$8270,Sheet3!$A$3))","v":188},{"$f":"+IF(SUMIFS(Sheet4!$DN$2:$DN$8270,Sheet4!$C$2:$C$8270,Sheet3!$B26,Sheet4!$D$2:$D$8270,Sheet3!DB$3,Sheet4!$A$2:$A$8270,Sheet3!$B$1,Sheet4!$B$2:$B$8270,Sheet3!$A$3)<3,0,SUMIFS(Sheet4!$DN$2:$DN$8270,Sheet4!$C$2:$C$8270,Sheet3!$B26,Sheet4!$D$2:$D$8270,Sheet3!DB$3,Sheet4!$A$2:$A$8270,Sheet3!$B$1,Sheet4!$B$2:$B$8270,Sheet3!$A$3))","v":474},{"$f":"+IF(SUMIFS(Sheet4!$DN$2:$DN$8270,Sheet4!$C$2:$C$8270,Sheet3!$B26,Sheet4!$D$2:$D$8270,Sheet3!DC$3,Sheet4!$A$2:$A$8270,Sheet3!$B$1,Sheet4!$B$2:$B$8270,Sheet3!$A$3)<3,0,SUMIFS(Sheet4!$DN$2:$DN$8270,Sheet4!$C$2:$C$8270,Sheet3!$B26,Sheet4!$D$2:$D$8270,Sheet3!DC$3,Sheet4!$A$2:$A$8270,Sheet3!$B$1,Sheet4!$B$2:$B$8270,Sheet3!$A$3))","v":1517},{"$f":"+IF(SUMIFS(Sheet4!$DN$2:$DN$8270,Sheet4!$C$2:$C$8270,Sheet3!$B26,Sheet4!$D$2:$D$8270,Sheet3!DD$3,Sheet4!$A$2:$A$8270,Sheet3!$B$1,Sheet4!$B$2:$B$8270,Sheet3!$A$3)<3,0,SUMIFS(Sheet4!$DN$2:$DN$8270,Sheet4!$C$2:$C$8270,Sheet3!$B26,Sheet4!$D$2:$D$8270,Sheet3!DD$3,Sheet4!$A$2:$A$8270,Sheet3!$B$1,Sheet4!$B$2:$B$8270,Sheet3!$A$3))","v":477},{"$f":"+IF(SUMIFS(Sheet4!$DN$2:$DN$8270,Sheet4!$C$2:$C$8270,Sheet3!$B26,Sheet4!$D$2:$D$8270,Sheet3!DE$3,Sheet4!$A$2:$A$8270,Sheet3!$B$1,Sheet4!$B$2:$B$8270,Sheet3!$A$3)<3,0,SUMIFS(Sheet4!$DN$2:$DN$8270,Sheet4!$C$2:$C$8270,Sheet3!$B26,Sheet4!$D$2:$D$8270,Sheet3!DE$3,Sheet4!$A$2:$A$8270,Sheet3!$B$1,Sheet4!$B$2:$B$8270,Sheet3!$A$3))","v":1097},{"$f":"+IF(SUMIFS(Sheet4!$DN$2:$DN$8270,Sheet4!$C$2:$C$8270,Sheet3!$B26,Sheet4!$D$2:$D$8270,Sheet3!DF$3,Sheet4!$A$2:$A$8270,Sheet3!$B$1,Sheet4!$B$2:$B$8270,Sheet3!$A$3)<3,0,SUMIFS(Sheet4!$DN$2:$DN$8270,Sheet4!$C$2:$C$8270,Sheet3!$B26,Sheet4!$D$2:$D$8270,Sheet3!DF$3,Sheet4!$A$2:$A$8270,Sheet3!$B$1,Sheet4!$B$2:$B$8270,Sheet3!$A$3))","v":9},{"$f":"+IF(SUMIFS(Sheet4!$DN$2:$DN$8270,Sheet4!$C$2:$C$8270,Sheet3!$B26,Sheet4!$D$2:$D$8270,Sheet3!DG$3,Sheet4!$A$2:$A$8270,Sheet3!$B$1,Sheet4!$B$2:$B$8270,Sheet3!$A$3)<3,0,SUMIFS(Sheet4!$DN$2:$DN$8270,Sheet4!$C$2:$C$8270,Sheet3!$B26,Sheet4!$D$2:$D$8270,Sheet3!DG$3,Sheet4!$A$2:$A$8270,Sheet3!$B$1,Sheet4!$B$2:$B$8270,Sheet3!$A$3))","v":0},{"$f":"+IF(SUMIFS(Sheet4!$DN$2:$DN$8270,Sheet4!$C$2:$C$8270,Sheet3!$B26,Sheet4!$E$2:$E$8270,Sheet3!DH$4,Sheet4!$A$2:$A$8270,Sheet3!$B$1,Sheet4!$B$2:$B$8270,Sheet3!$A$3)<3,0,SUMIFS(Sheet4!$DN$2:$DN$8270,Sheet4!$C$2:$C$8270,Sheet3!$B26,Sheet4!$E$2:$E$8270,Sheet3!DH$4,Sheet4!$A$2:$A$8270,Sheet3!$B$1,Sheet4!$B$2:$B$8270,Sheet3!$A$3))","v":2177},{"$f":"+IF(SUMIFS(Sheet4!$DN$2:$DN$8270,Sheet4!$C$2:$C$8270,Sheet3!$B26,Sheet4!$E$2:$E$8270,Sheet3!DI$4,Sheet4!$A$2:$A$8270,Sheet3!$B$1,Sheet4!$B$2:$B$8270,Sheet3!$A$3)<3,0,SUMIFS(Sheet4!$DN$2:$DN$8270,Sheet4!$C$2:$C$8270,Sheet3!$B26,Sheet4!$E$2:$E$8270,Sheet3!DI$4,Sheet4!$A$2:$A$8270,Sheet3!$B$1,Sheet4!$B$2:$B$8270,Sheet3!$A$3))","v":2420},{"$f":"+IF(SUMIFS(Sheet4!$DN$2:$DN$8270,Sheet4!$C$2:$C$8270,Sheet3!$B26,Sheet4!$E$2:$E$8270,Sheet3!DJ$4,Sheet4!$A$2:$A$8270,Sheet3!$B$1,Sheet4!$B$2:$B$8270,Sheet3!$A$3)<3,0,SUMIFS(Sheet4!$DN$2:$DN$8270,Sheet4!$C$2:$C$8270,Sheet3!$B26,Sheet4!$E$2:$E$8270,Sheet3!DJ$4,Sheet4!$A$2:$A$8270,Sheet3!$B$1,Sheet4!$B$2:$B$8270,Sheet3!$A$3))","v":2845},{"$f":"+IF(SUMIFS(Sheet4!$DN$2:$DN$8270,Sheet4!$C$2:$C$8270,Sheet3!$B26,Sheet4!$E$2:$E$8270,Sheet3!DK$4,Sheet4!$A$2:$A$8270,Sheet3!$B$1,Sheet4!$B$2:$B$8270,Sheet3!$A$3)<3,0,SUMIFS(Sheet4!$DN$2:$DN$8270,Sheet4!$C$2:$C$8270,Sheet3!$B26,Sheet4!$E$2:$E$8270,Sheet3!DK$4,Sheet4!$A$2:$A$8270,Sheet3!$B$1,Sheet4!$B$2:$B$8270,Sheet3!$A$3))","v":817},{"$f":"+IF(SUMIFS(Sheet4!$DN$2:$DN$8270,Sheet4!$C$2:$C$8270,Sheet3!$B26,Sheet4!$E$2:$E$8270,Sheet3!DL$4,Sheet4!$A$2:$A$8270,Sheet3!$B$1,Sheet4!$B$2:$B$8270,Sheet3!$A$3)<3,0,SUMIFS(Sheet4!$DN$2:$DN$8270,Sheet4!$C$2:$C$8270,Sheet3!$B26,Sheet4!$E$2:$E$8270,Sheet3!DL$4,Sheet4!$A$2:$A$8270,Sheet3!$B$1,Sheet4!$B$2:$B$8270,Sheet3!$A$3))","v":39}]
[5,"185","Lezíria do Tejo",{"$f":"+SUMIFS(Sheet4!$DM$2:$DM$8270,Sheet4!$C$2:$C$8270,Sheet3!$B27,Sheet4!$D$2:$D$8270,Sheet3!D$3,Sheet4!$E$2:$E$8270,Sheet3!D$4,Sheet4!$A$2:$A$8270,Sheet3!$B$1,Sheet4!$B$2:$B$8270,Sheet3!$A$3)","v":13},{"$f":"+SUMIFS(Sheet4!$DM$2:$DM$8270,Sheet4!$C$2:$C$8270,Sheet3!$B27,Sheet4!$D$2:$D$8270,Sheet3!E$3,Sheet4!$E$2:$E$8270,Sheet3!E$4,Sheet4!$A$2:$A$8270,Sheet3!$B$1,Sheet4!$B$2:$B$8270,Sheet3!$A$3)","v":8},{"$f":"+SUMIFS(Sheet4!$DM$2:$DM$8270,Sheet4!$C$2:$C$8270,Sheet3!$B27,Sheet4!$D$2:$D$8270,Sheet3!F$3,Sheet4!$E$2:$E$8270,Sheet3!F$4,Sheet4!$A$2:$A$8270,Sheet3!$B$1,Sheet4!$B$2:$B$8270,Sheet3!$A$3)","v":11},{"$f":"+SUMIFS(Sheet4!$DM$2:$DM$8270,Sheet4!$C$2:$C$8270,Sheet3!$B27,Sheet4!$D$2:$D$8270,Sheet3!G$3,Sheet4!$E$2:$E$8270,Sheet3!G$4,Sheet4!$A$2:$A$8270,Sheet3!$B$1,Sheet4!$B$2:$B$8270,Sheet3!$A$3)","v":3},{"$f":"+SUMIFS(Sheet4!$DM$2:$DM$8270,Sheet4!$C$2:$C$8270,Sheet3!$B27,Sheet4!$D$2:$D$8270,Sheet3!H$3,Sheet4!$E$2:$E$8270,Sheet3!H$4,Sheet4!$A$2:$A$8270,Sheet3!$B$1,Sheet4!$B$2:$B$8270,Sheet3!$A$3)","v":0},{"$f":"+SUMIFS(Sheet4!$DM$2:$DM$8270,Sheet4!$C$2:$C$8270,Sheet3!$B27,Sheet4!$D$2:$D$8270,Sheet3!I$3,Sheet4!$E$2:$E$8270,Sheet3!I$4,Sheet4!$A$2:$A$8270,Sheet3!$B$1,Sheet4!$B$2:$B$8270,Sheet3!$A$3)","v":58},{"$f":"+SUMIFS(Sheet4!$DM$2:$DM$8270,Sheet4!$C$2:$C$8270,Sheet3!$B27,Sheet4!$D$2:$D$8270,Sheet3!J$3,Sheet4!$E$2:$E$8270,Sheet3!J$4,Sheet4!$A$2:$A$8270,Sheet3!$B$1,Sheet4!$B$2:$B$8270,Sheet3!$A$3)","v":89},{"$f":"+SUMIFS(Sheet4!$DM$2:$DM$8270,Sheet4!$C$2:$C$8270,Sheet3!$B27,Sheet4!$D$2:$D$8270,Sheet3!K$3,Sheet4!$E$2:$E$8270,Sheet3!K$4,Sheet4!$A$2:$A$8270,Sheet3!$B$1,Sheet4!$B$2:$B$8270,Sheet3!$A$3)","v":162},{"$f":"+SUMIFS(Sheet4!$DM$2:$DM$8270,Sheet4!$C$2:$C$8270,Sheet3!$B27,Sheet4!$D$2:$D$8270,Sheet3!L$3,Sheet4!$E$2:$E$8270,Sheet3!L$4,Sheet4!$A$2:$A$8270,Sheet3!$B$1,Sheet4!$B$2:$B$8270,Sheet3!$A$3)","v":19},{"$f":"+SUMIFS(Sheet4!$DM$2:$DM$8270,Sheet4!$C$2:$C$8270,Sheet3!$B27,Sheet4!$D$2:$D$8270,Sheet3!M$3,Sheet4!$E$2:$E$8270,Sheet3!M$4,Sheet4!$A$2:$A$8270,Sheet3!$B$1,Sheet4!$B$2:$B$8270,Sheet3!$A$3)","v":0},{"$f":"+SUMIFS(Sheet4!$DM$2:$DM$8270,Sheet4!$C$2:$C$8270,Sheet3!$B27,Sheet4!$D$2:$D$8270,Sheet3!N$3,Sheet4!$E$2:$E$8270,Sheet3!N$4,Sheet4!$A$2:$A$8270,Sheet3!$B$1,Sheet4!$B$2:$B$8270,Sheet3!$A$3)","v":34},{"$f":"+SUMIFS(Sheet4!$DM$2:$DM$8270,Sheet4!$C$2:$C$8270,Sheet3!$B27,Sheet4!$D$2:$D$8270,Sheet3!O$3,Sheet4!$E$2:$E$8270,Sheet3!O$4,Sheet4!$A$2:$A$8270,Sheet3!$B$1,Sheet4!$B$2:$B$8270,Sheet3!$A$3)","v":57},{"$f":"+SUMIFS(Sheet4!$DM$2:$DM$8270,Sheet4!$C$2:$C$8270,Sheet3!$B27,Sheet4!$D$2:$D$8270,Sheet3!P$3,Sheet4!$E$2:$E$8270,Sheet3!P$4,Sheet4!$A$2:$A$8270,Sheet3!$B$1,Sheet4!$B$2:$B$8270,Sheet3!$A$3)","v":48},{"$f":"+SUMIFS(Sheet4!$DM$2:$DM$8270,Sheet4!$C$2:$C$8270,Sheet3!$B27,Sheet4!$D$2:$D$8270,Sheet3!Q$3,Sheet4!$E$2:$E$8270,Sheet3!Q$4,Sheet4!$A$2:$A$8270,Sheet3!$B$1,Sheet4!$B$2:$B$8270,Sheet3!$A$3)","v":6},{"$f":"+SUMIFS(Sheet4!$DM$2:$DM$8270,Sheet4!$C$2:$C$8270,Sheet3!$B27,Sheet4!$D$2:$D$8270,Sheet3!R$3,Sheet4!$E$2:$E$8270,Sheet3!R$4,Sheet4!$A$2:$A$8270,Sheet3!$B$1,Sheet4!$B$2:$B$8270,Sheet3!$A$3)","v":0},{"$f":"+SUMIFS(Sheet4!$DM$2:$DM$8270,Sheet4!$C$2:$C$8270,Sheet3!$B27,Sheet4!$D$2:$D$8270,Sheet3!S$3,Sheet4!$E$2:$E$8270,Sheet3!S$4,Sheet4!$A$2:$A$8270,Sheet3!$B$1,Sheet4!$B$2:$B$8270,Sheet3!$A$3)","v":0},{"$f":"+SUMIFS(Sheet4!$DM$2:$DM$8270,Sheet4!$C$2:$C$8270,Sheet3!$B27,Sheet4!$D$2:$D$8270,Sheet3!T$3,Sheet4!$E$2:$E$8270,Sheet3!T$4,Sheet4!$A$2:$A$8270,Sheet3!$B$1,Sheet4!$B$2:$B$8270,Sheet3!$A$3)","v":24},{"$f":"+SUMIFS(Sheet4!$DM$2:$DM$8270,Sheet4!$C$2:$C$8270,Sheet3!$B27,Sheet4!$D$2:$D$8270,Sheet3!U$3,Sheet4!$E$2:$E$8270,Sheet3!U$4,Sheet4!$A$2:$A$8270,Sheet3!$B$1,Sheet4!$B$2:$B$8270,Sheet3!$A$3)","v":85},{"$f":"+SUMIFS(Sheet4!$DM$2:$DM$8270,Sheet4!$C$2:$C$8270,Sheet3!$B27,Sheet4!$D$2:$D$8270,Sheet3!V$3,Sheet4!$E$2:$E$8270,Sheet3!V$4,Sheet4!$A$2:$A$8270,Sheet3!$B$1,Sheet4!$B$2:$B$8270,Sheet3!$A$3)","v":9},{"$f":"+SUMIFS(Sheet4!$DM$2:$DM$8270,Sheet4!$C$2:$C$8270,Sheet3!$B27,Sheet4!$D$2:$D$8270,Sheet3!W$3,Sheet4!$E$2:$E$8270,Sheet3!W$4,Sheet4!$A$2:$A$8270,Sheet3!$B$1,Sheet4!$B$2:$B$8270,Sheet3!$A$3)","v":0},{"$f":"+SUMIFS(Sheet4!$DM$2:$DM$8270,Sheet4!$C$2:$C$8270,Sheet3!$B27,Sheet4!$D$2:$D$8270,Sheet3!X$3,Sheet4!$E$2:$E$8270,Sheet3!X$4,Sheet4!$A$2:$A$8270,Sheet3!$B$1,Sheet4!$B$2:$B$8270,Sheet3!$A$3)","v":3},{"$f":"+SUMIFS(Sheet4!$DM$2:$DM$8270,Sheet4!$C$2:$C$8270,Sheet3!$B27,Sheet4!$D$2:$D$8270,Sheet3!Y$3,Sheet4!$E$2:$E$8270,Sheet3!Y$4,Sheet4!$A$2:$A$8270,Sheet3!$B$1,Sheet4!$B$2:$B$8270,Sheet3!$A$3)","v":14},{"$f":"+SUMIFS(Sheet4!$DM$2:$DM$8270,Sheet4!$C$2:$C$8270,Sheet3!$B27,Sheet4!$D$2:$D$8270,Sheet3!Z$3,Sheet4!$E$2:$E$8270,Sheet3!Z$4,Sheet4!$A$2:$A$8270,Sheet3!$B$1,Sheet4!$B$2:$B$8270,Sheet3!$A$3)","v":5},{"$f":"+SUMIFS(Sheet4!$DM$2:$DM$8270,Sheet4!$C$2:$C$8270,Sheet3!$B27,Sheet4!$D$2:$D$8270,Sheet3!AA$3,Sheet4!$E$2:$E$8270,Sheet3!AA$4,Sheet4!$A$2:$A$8270,Sheet3!$B$1,Sheet4!$B$2:$B$8270,Sheet3!$A$3)","v":0},{"$f":"+SUMIFS(Sheet4!$DM$2:$DM$8270,Sheet4!$C$2:$C$8270,Sheet3!$B27,Sheet4!$D$2:$D$8270,Sheet3!AB$3,Sheet4!$E$2:$E$8270,Sheet3!AB$4,Sheet4!$A$2:$A$8270,Sheet3!$B$1,Sheet4!$B$2:$B$8270,Sheet3!$A$3)","v":0},{"$f":"+SUMIFS(Sheet4!$DM$2:$DM$8270,Sheet4!$C$2:$C$8270,Sheet3!$B27,Sheet4!$D$2:$D$8270,Sheet3!AC$3,Sheet4!$E$2:$E$8270,Sheet3!AC$4,Sheet4!$A$2:$A$8270,Sheet3!$B$1,Sheet4!$B$2:$B$8270,Sheet3!$A$3)","v":42},{"$f":"+SUMIFS(Sheet4!$DM$2:$DM$8270,Sheet4!$C$2:$C$8270,Sheet3!$B27,Sheet4!$D$2:$D$8270,Sheet3!AD$3,Sheet4!$E$2:$E$8270,Sheet3!AD$4,Sheet4!$A$2:$A$8270,Sheet3!$B$1,Sheet4!$B$2:$B$8270,Sheet3!$A$3)","v":29},{"$f":"+SUMIFS(Sheet4!$DM$2:$DM$8270,Sheet4!$C$2:$C$8270,Sheet3!$B27,Sheet4!$D$2:$D$8270,Sheet3!AE$3,Sheet4!$E$2:$E$8270,Sheet3!AE$4,Sheet4!$A$2:$A$8270,Sheet3!$B$1,Sheet4!$B$2:$B$8270,Sheet3!$A$3)","v":17},{"$f":"+SUMIFS(Sheet4!$DM$2:$DM$8270,Sheet4!$C$2:$C$8270,Sheet3!$B27,Sheet4!$D$2:$D$8270,Sheet3!AF$3,Sheet4!$E$2:$E$8270,Sheet3!AF$4,Sheet4!$A$2:$A$8270,Sheet3!$B$1,Sheet4!$B$2:$B$8270,Sheet3!$A$3)","v":0},{"$f":"+SUMIFS(Sheet4!$DM$2:$DM$8270,Sheet4!$C$2:$C$8270,Sheet3!$B27,Sheet4!$D$2:$D$8270,Sheet3!AG$3,Sheet4!$E$2:$E$8270,Sheet3!AG$4,Sheet4!$A$2:$A$8270,Sheet3!$B$1,Sheet4!$B$2:$B$8270,Sheet3!$A$3)","v":0},{"$f":"+SUMIFS(Sheet4!$DM$2:$DM$8270,Sheet4!$C$2:$C$8270,Sheet3!$B27,Sheet4!$D$2:$D$8270,Sheet3!AH$3,Sheet4!$E$2:$E$8270,Sheet3!AH$4,Sheet4!$A$2:$A$8270,Sheet3!$B$1,Sheet4!$B$2:$B$8270,Sheet3!$A$3)","v":34},{"$f":"+SUMIFS(Sheet4!$DM$2:$DM$8270,Sheet4!$C$2:$C$8270,Sheet3!$B27,Sheet4!$D$2:$D$8270,Sheet3!AI$3,Sheet4!$E$2:$E$8270,Sheet3!AI$4,Sheet4!$A$2:$A$8270,Sheet3!$B$1,Sheet4!$B$2:$B$8270,Sheet3!$A$3)","v":77},{"$f":"+SUMIFS(Sheet4!$DM$2:$DM$8270,Sheet4!$C$2:$C$8270,Sheet3!$B27,Sheet4!$D$2:$D$8270,Sheet3!AJ$3,Sheet4!$E$2:$E$8270,Sheet3!AJ$4,Sheet4!$A$2:$A$8270,Sheet3!$B$1,Sheet4!$B$2:$B$8270,Sheet3!$A$3)","v":26},{"$f":"+SUMIFS(Sheet4!$DM$2:$DM$8270,Sheet4!$C$2:$C$8270,Sheet3!$B27,Sheet4!$D$2:$D$8270,Sheet3!AK$3,Sheet4!$E$2:$E$8270,Sheet3!AK$4,Sheet4!$A$2:$A$8270,Sheet3!$B$1,Sheet4!$B$2:$B$8270,Sheet3!$A$3)","v":0},{"$f":"+SUMIFS(Sheet4!$DM$2:$DM$8270,Sheet4!$C$2:$C$8270,Sheet3!$B27,Sheet4!$D$2:$D$8270,Sheet3!AL$3,Sheet4!$E$2:$E$8270,Sheet3!AL$4,Sheet4!$A$2:$A$8270,Sheet3!$B$1,Sheet4!$B$2:$B$8270,Sheet3!$A$3)","v":0},{"$f":"+SUMIFS(Sheet4!$DM$2:$DM$8270,Sheet4!$C$2:$C$8270,Sheet3!$B27,Sheet4!$D$2:$D$8270,Sheet3!AM$3,Sheet4!$E$2:$E$8270,Sheet3!AM$4,Sheet4!$A$2:$A$8270,Sheet3!$B$1,Sheet4!$B$2:$B$8270,Sheet3!$A$3)","v":57},{"$f":"+SUMIFS(Sheet4!$DM$2:$DM$8270,Sheet4!$C$2:$C$8270,Sheet3!$B27,Sheet4!$D$2:$D$8270,Sheet3!AN$3,Sheet4!$E$2:$E$8270,Sheet3!AN$4,Sheet4!$A$2:$A$8270,Sheet3!$B$1,Sheet4!$B$2:$B$8270,Sheet3!$A$3)","v":49},{"$f":"+SUMIFS(Sheet4!$DM$2:$DM$8270,Sheet4!$C$2:$C$8270,Sheet3!$B27,Sheet4!$D$2:$D$8270,Sheet3!AO$3,Sheet4!$E$2:$E$8270,Sheet3!AO$4,Sheet4!$A$2:$A$8270,Sheet3!$B$1,Sheet4!$B$2:$B$8270,Sheet3!$A$3)","v":56},{"$f":"+SUMIFS(Sheet4!$DM$2:$DM$8270,Sheet4!$C$2:$C$8270,Sheet3!$B27,Sheet4!$D$2:$D$8270,Sheet3!AP$3,Sheet4!$E$2:$E$8270,Sheet3!AP$4,Sheet4!$A$2:$A$8270,Sheet3!$B$1,Sheet4!$B$2:$B$8270,Sheet3!$A$3)","v":12},{"$f":"+SUMIFS(Sheet4!$DM$2:$DM$8270,Sheet4!$C$2:$C$8270,Sheet3!$B27,Sheet4!$D$2:$D$8270,Sheet3!AQ$3,Sheet4!$E$2:$E$8270,Sheet3!AQ$4,Sheet4!$A$2:$A$8270,Sheet3!$B$1,Sheet4!$B$2:$B$8270,Sheet3!$A$3)","v":0},{"$f":"+SUMIFS(Sheet4!$DM$2:$DM$8270,Sheet4!$C$2:$C$8270,Sheet3!$B27,Sheet4!$D$2:$D$8270,Sheet3!AR$3,Sheet4!$E$2:$E$8270,Sheet3!AR$4,Sheet4!$A$2:$A$8270,Sheet3!$B$1,Sheet4!$B$2:$B$8270,Sheet3!$A$3)","v":127},{"$f":"+SUMIFS(Sheet4!$DM$2:$DM$8270,Sheet4!$C$2:$C$8270,Sheet3!$B27,Sheet4!$D$2:$D$8270,Sheet3!AS$3,Sheet4!$E$2:$E$8270,Sheet3!AS$4,Sheet4!$A$2:$A$8270,Sheet3!$B$1,Sheet4!$B$2:$B$8270,Sheet3!$A$3)","v":31},{"$f":"+SUMIFS(Sheet4!$DM$2:$DM$8270,Sheet4!$C$2:$C$8270,Sheet3!$B27,Sheet4!$D$2:$D$8270,Sheet3!AT$3,Sheet4!$E$2:$E$8270,Sheet3!AT$4,Sheet4!$A$2:$A$8270,Sheet3!$B$1,Sheet4!$B$2:$B$8270,Sheet3!$A$3)","v":16},{"$f":"+SUMIFS(Sheet4!$DM$2:$DM$8270,Sheet4!$C$2:$C$8270,Sheet3!$B27,Sheet4!$D$2:$D$8270,Sheet3!AU$3,Sheet4!$E$2:$E$8270,Sheet3!AU$4,Sheet4!$A$2:$A$8270,Sheet3!$B$1,Sheet4!$B$2:$B$8270,Sheet3!$A$3)","v":0},{"$f":"+SUMIFS(Sheet4!$DM$2:$DM$8270,Sheet4!$C$2:$C$8270,Sheet3!$B27,Sheet4!$D$2:$D$8270,Sheet3!AV$3,Sheet4!$E$2:$E$8270,Sheet3!AV$4,Sheet4!$A$2:$A$8270,Sheet3!$B$1,Sheet4!$B$2:$B$8270,Sheet3!$A$3)","v":0},{"$f":"+SUMIFS(Sheet4!$DM$2:$DM$8270,Sheet4!$C$2:$C$8270,Sheet3!$B27,Sheet4!$D$2:$D$8270,Sheet3!AW$3,Sheet4!$E$2:$E$8270,Sheet3!AW$4,Sheet4!$A$2:$A$8270,Sheet3!$B$1,Sheet4!$B$2:$B$8270,Sheet3!$A$3)","v":248},{"$f":"+SUMIFS(Sheet4!$DM$2:$DM$8270,Sheet4!$C$2:$C$8270,Sheet3!$B27,Sheet4!$D$2:$D$8270,Sheet3!AX$3,Sheet4!$E$2:$E$8270,Sheet3!AX$4,Sheet4!$A$2:$A$8270,Sheet3!$B$1,Sheet4!$B$2:$B$8270,Sheet3!$A$3)","v":188},{"$f":"+SUMIFS(Sheet4!$DM$2:$DM$8270,Sheet4!$C$2:$C$8270,Sheet3!$B27,Sheet4!$D$2:$D$8270,Sheet3!AY$3,Sheet4!$E$2:$E$8270,Sheet3!AY$4,Sheet4!$A$2:$A$8270,Sheet3!$B$1,Sheet4!$B$2:$B$8270,Sheet3!$A$3)","v":111},{"$f":"+SUMIFS(Sheet4!$DM$2:$DM$8270,Sheet4!$C$2:$C$8270,Sheet3!$B27,Sheet4!$D$2:$D$8270,Sheet3!AZ$3,Sheet4!$E$2:$E$8270,Sheet3!AZ$4,Sheet4!$A$2:$A$8270,Sheet3!$B$1,Sheet4!$B$2:$B$8270,Sheet3!$A$3)","v":34},{"$f":"+SUMIFS(Sheet4!$DM$2:$DM$8270,Sheet4!$C$2:$C$8270,Sheet3!$B27,Sheet4!$D$2:$D$8270,Sheet3!BA$3,Sheet4!$E$2:$E$8270,Sheet3!BA$4,Sheet4!$A$2:$A$8270,Sheet3!$B$1,Sheet4!$B$2:$B$8270,Sheet3!$A$3)","v":6},{"$f":"+SUMIFS(Sheet4!$DM$2:$DM$8270,Sheet4!$C$2:$C$8270,Sheet3!$B27,Sheet4!$D$2:$D$8270,Sheet3!BB$3,Sheet4!$E$2:$E$8270,Sheet3!BB$4,Sheet4!$A$2:$A$8270,Sheet3!$B$1,Sheet4!$B$2:$B$8270,Sheet3!$A$3)","v":7},{"$f":"+SUMIFS(Sheet4!$DM$2:$DM$8270,Sheet4!$C$2:$C$8270,Sheet3!$B27,Sheet4!$D$2:$D$8270,Sheet3!BC$3,Sheet4!$E$2:$E$8270,Sheet3!BC$4,Sheet4!$A$2:$A$8270,Sheet3!$B$1,Sheet4!$B$2:$B$8270,Sheet3!$A$3)","v":4},{"$f":"+SUMIFS(Sheet4!$DM$2:$DM$8270,Sheet4!$C$2:$C$8270,Sheet3!$B27,Sheet4!$D$2:$D$8270,Sheet3!BD$3,Sheet4!$E$2:$E$8270,Sheet3!BD$4,Sheet4!$A$2:$A$8270,Sheet3!$B$1,Sheet4!$B$2:$B$8270,Sheet3!$A$3)","v":5},{"$f":"+SUMIFS(Sheet4!$DM$2:$DM$8270,Sheet4!$C$2:$C$8270,Sheet3!$B27,Sheet4!$D$2:$D$8270,Sheet3!BE$3,Sheet4!$E$2:$E$8270,Sheet3!BE$4,Sheet4!$A$2:$A$8270,Sheet3!$B$1,Sheet4!$B$2:$B$8270,Sheet3!$A$3)","v":5},{"$f":"+SUMIFS(Sheet4!$DM$2:$DM$8270,Sheet4!$C$2:$C$8270,Sheet3!$B27,Sheet4!$D$2:$D$8270,Sheet3!BF$3,Sheet4!$E$2:$E$8270,Sheet3!BF$4,Sheet4!$A$2:$A$8270,Sheet3!$B$1,Sheet4!$B$2:$B$8270,Sheet3!$A$3)","v":0},{"$f":"+SUMIFS(Sheet4!$DM$2:$DM$8270,Sheet4!$C$2:$C$8270,Sheet3!$B27,Sheet4!$D$2:$D$8270,Sheet3!BG$3,Sheet4!$E$2:$E$8270,Sheet3!BG$4,Sheet4!$A$2:$A$8270,Sheet3!$B$1,Sheet4!$B$2:$B$8270,Sheet3!$A$3)","v":59},{"$f":"+SUMIFS(Sheet4!$DM$2:$DM$8270,Sheet4!$C$2:$C$8270,Sheet3!$B27,Sheet4!$D$2:$D$8270,Sheet3!BH$3,Sheet4!$E$2:$E$8270,Sheet3!BH$4,Sheet4!$A$2:$A$8270,Sheet3!$B$1,Sheet4!$B$2:$B$8270,Sheet3!$A$3)","v":36},{"$f":"+SUMIFS(Sheet4!$DM$2:$DM$8270,Sheet4!$C$2:$C$8270,Sheet3!$B27,Sheet4!$D$2:$D$8270,Sheet3!BI$3,Sheet4!$E$2:$E$8270,Sheet3!BI$4,Sheet4!$A$2:$A$8270,Sheet3!$B$1,Sheet4!$B$2:$B$8270,Sheet3!$A$3)","v":24},{"$f":"+SUMIFS(Sheet4!$DM$2:$DM$8270,Sheet4!$C$2:$C$8270,Sheet3!$B27,Sheet4!$D$2:$D$8270,Sheet3!BJ$3,Sheet4!$E$2:$E$8270,Sheet3!BJ$4,Sheet4!$A$2:$A$8270,Sheet3!$B$1,Sheet4!$B$2:$B$8270,Sheet3!$A$3)","v":8},{"$f":"+SUMIFS(Sheet4!$DM$2:$DM$8270,Sheet4!$C$2:$C$8270,Sheet3!$B27,Sheet4!$D$2:$D$8270,Sheet3!BK$3,Sheet4!$E$2:$E$8270,Sheet3!BK$4,Sheet4!$A$2:$A$8270,Sheet3!$B$1,Sheet4!$B$2:$B$8270,Sheet3!$A$3)","v":0},{"$f":"+SUMIFS(Sheet4!$DM$2:$DM$8270,Sheet4!$C$2:$C$8270,Sheet3!$B27,Sheet4!$D$2:$D$8270,Sheet3!BL$3,Sheet4!$E$2:$E$8270,Sheet3!BL$4,Sheet4!$A$2:$A$8270,Sheet3!$B$1,Sheet4!$B$2:$B$8270,Sheet3!$A$3)","v":0},{"$f":"+SUMIFS(Sheet4!$DM$2:$DM$8270,Sheet4!$C$2:$C$8270,Sheet3!$B27,Sheet4!$D$2:$D$8270,Sheet3!BM$3,Sheet4!$E$2:$E$8270,Sheet3!BM$4,Sheet4!$A$2:$A$8270,Sheet3!$B$1,Sheet4!$B$2:$B$8270,Sheet3!$A$3)","v":5},{"$f":"+SUMIFS(Sheet4!$DM$2:$DM$8270,Sheet4!$C$2:$C$8270,Sheet3!$B27,Sheet4!$D$2:$D$8270,Sheet3!BN$3,Sheet4!$E$2:$E$8270,Sheet3!BN$4,Sheet4!$A$2:$A$8270,Sheet3!$B$1,Sheet4!$B$2:$B$8270,Sheet3!$A$3)","v":23},{"$f":"+SUMIFS(Sheet4!$DM$2:$DM$8270,Sheet4!$C$2:$C$8270,Sheet3!$B27,Sheet4!$D$2:$D$8270,Sheet3!BO$3,Sheet4!$E$2:$E$8270,Sheet3!BO$4,Sheet4!$A$2:$A$8270,Sheet3!$B$1,Sheet4!$B$2:$B$8270,Sheet3!$A$3)","v":25},{"$f":"+SUMIFS(Sheet4!$DM$2:$DM$8270,Sheet4!$C$2:$C$8270,Sheet3!$B27,Sheet4!$D$2:$D$8270,Sheet3!BP$3,Sheet4!$E$2:$E$8270,Sheet3!BP$4,Sheet4!$A$2:$A$8270,Sheet3!$B$1,Sheet4!$B$2:$B$8270,Sheet3!$A$3)","v":0},{"$f":"+SUMIFS(Sheet4!$DM$2:$DM$8270,Sheet4!$C$2:$C$8270,Sheet3!$B27,Sheet4!$D$2:$D$8270,Sheet3!BQ$3,Sheet4!$E$2:$E$8270,Sheet3!BQ$4,Sheet4!$A$2:$A$8270,Sheet3!$B$1,Sheet4!$B$2:$B$8270,Sheet3!$A$3)","v":170},{"$f":"+SUMIFS(Sheet4!$DM$2:$DM$8270,Sheet4!$C$2:$C$8270,Sheet3!$B27,Sheet4!$D$2:$D$8270,Sheet3!BR$3,Sheet4!$E$2:$E$8270,Sheet3!BR$4,Sheet4!$A$2:$A$8270,Sheet3!$B$1,Sheet4!$B$2:$B$8270,Sheet3!$A$3)","v":58},{"$f":"+SUMIFS(Sheet4!$DM$2:$DM$8270,Sheet4!$C$2:$C$8270,Sheet3!$B27,Sheet4!$D$2:$D$8270,Sheet3!BS$3,Sheet4!$E$2:$E$8270,Sheet3!BS$4,Sheet4!$A$2:$A$8270,Sheet3!$B$1,Sheet4!$B$2:$B$8270,Sheet3!$A$3)","v":38},{"$f":"+SUMIFS(Sheet4!$DM$2:$DM$8270,Sheet4!$C$2:$C$8270,Sheet3!$B27,Sheet4!$D$2:$D$8270,Sheet3!BT$3,Sheet4!$E$2:$E$8270,Sheet3!BT$4,Sheet4!$A$2:$A$8270,Sheet3!$B$1,Sheet4!$B$2:$B$8270,Sheet3!$A$3)","v":4},{"$f":"+SUMIFS(Sheet4!$DM$2:$DM$8270,Sheet4!$C$2:$C$8270,Sheet3!$B27,Sheet4!$D$2:$D$8270,Sheet3!BU$3,Sheet4!$E$2:$E$8270,Sheet3!BU$4,Sheet4!$A$2:$A$8270,Sheet3!$B$1,Sheet4!$B$2:$B$8270,Sheet3!$A$3)","v":0},{"$f":"+SUMIFS(Sheet4!$DM$2:$DM$8270,Sheet4!$C$2:$C$8270,Sheet3!$B27,Sheet4!$D$2:$D$8270,Sheet3!BV$3,Sheet4!$E$2:$E$8270,Sheet3!BV$4,Sheet4!$A$2:$A$8270,Sheet3!$B$1,Sheet4!$B$2:$B$8270,Sheet3!$A$3)","v":28},{"$f":"+SUMIFS(Sheet4!$DM$2:$DM$8270,Sheet4!$C$2:$C$8270,Sheet3!$B27,Sheet4!$D$2:$D$8270,Sheet3!BW$3,Sheet4!$E$2:$E$8270,Sheet3!BW$4,Sheet4!$A$2:$A$8270,Sheet3!$B$1,Sheet4!$B$2:$B$8270,Sheet3!$A$3)","v":31},{"$f":"+SUMIFS(Sheet4!$DM$2:$DM$8270,Sheet4!$C$2:$C$8270,Sheet3!$B27,Sheet4!$D$2:$D$8270,Sheet3!BX$3,Sheet4!$E$2:$E$8270,Sheet3!BX$4,Sheet4!$A$2:$A$8270,Sheet3!$B$1,Sheet4!$B$2:$B$8270,Sheet3!$A$3)","v":26},{"$f":"+SUMIFS(Sheet4!$DM$2:$DM$8270,Sheet4!$C$2:$C$8270,Sheet3!$B27,Sheet4!$D$2:$D$8270,Sheet3!BY$3,Sheet4!$E$2:$E$8270,Sheet3!BY$4,Sheet4!$A$2:$A$8270,Sheet3!$B$1,Sheet4!$B$2:$B$8270,Sheet3!$A$3)","v":26},{"$f":"+SUMIFS(Sheet4!$DM$2:$DM$8270,Sheet4!$C$2:$C$8270,Sheet3!$B27,Sheet4!$D$2:$D$8270,Sheet3!BZ$3,Sheet4!$E$2:$E$8270,Sheet3!BZ$4,Sheet4!$A$2:$A$8270,Sheet3!$B$1,Sheet4!$B$2:$B$8270,Sheet3!$A$3)","v":10},{"$f":"+SUMIFS(Sheet4!$DM$2:$DM$8270,Sheet4!$C$2:$C$8270,Sheet3!$B27,Sheet4!$D$2:$D$8270,Sheet3!CA$3,Sheet4!$E$2:$E$8270,Sheet3!CA$4,Sheet4!$A$2:$A$8270,Sheet3!$B$1,Sheet4!$B$2:$B$8270,Sheet3!$A$3)","v":174},{"$f":"+SUMIFS(Sheet4!$DM$2:$DM$8270,Sheet4!$C$2:$C$8270,Sheet3!$B27,Sheet4!$D$2:$D$8270,Sheet3!CB$3,Sheet4!$E$2:$E$8270,Sheet3!CB$4,Sheet4!$A$2:$A$8270,Sheet3!$B$1,Sheet4!$B$2:$B$8270,Sheet3!$A$3)","v":184},{"$f":"+SUMIFS(Sheet4!$DM$2:$DM$8270,Sheet4!$C$2:$C$8270,Sheet3!$B27,Sheet4!$D$2:$D$8270,Sheet3!CC$3,Sheet4!$E$2:$E$8270,Sheet3!CC$4,Sheet4!$A$2:$A$8270,Sheet3!$B$1,Sheet4!$B$2:$B$8270,Sheet3!$A$3)","v":123},{"$f":"+SUMIFS(Sheet4!$DM$2:$DM$8270,Sheet4!$C$2:$C$8270,Sheet3!$B27,Sheet4!$D$2:$D$8270,Sheet3!CD$3,Sheet4!$E$2:$E$8270,Sheet3!CD$4,Sheet4!$A$2:$A$8270,Sheet3!$B$1,Sheet4!$B$2:$B$8270,Sheet3!$A$3)","v":14},{"$f":"+SUMIFS(Sheet4!$DM$2:$DM$8270,Sheet4!$C$2:$C$8270,Sheet3!$B27,Sheet4!$D$2:$D$8270,Sheet3!CE$3,Sheet4!$E$2:$E$8270,Sheet3!CE$4,Sheet4!$A$2:$A$8270,Sheet3!$B$1,Sheet4!$B$2:$B$8270,Sheet3!$A$3)","v":0},{"$f":"+SUMIFS(Sheet4!$DM$2:$DM$8270,Sheet4!$C$2:$C$8270,Sheet3!$B27,Sheet4!$D$2:$D$8270,Sheet3!CF$3,Sheet4!$E$2:$E$8270,Sheet3!CF$4,Sheet4!$A$2:$A$8270,Sheet3!$B$1,Sheet4!$B$2:$B$8270,Sheet3!$A$3)","v":0},{"$f":"+SUMIFS(Sheet4!$DM$2:$DM$8270,Sheet4!$C$2:$C$8270,Sheet3!$B27,Sheet4!$D$2:$D$8270,Sheet3!CG$3,Sheet4!$E$2:$E$8270,Sheet3!CG$4,Sheet4!$A$2:$A$8270,Sheet3!$B$1,Sheet4!$B$2:$B$8270,Sheet3!$A$3)","v":43},{"$f":"+SUMIFS(Sheet4!$DM$2:$DM$8270,Sheet4!$C$2:$C$8270,Sheet3!$B27,Sheet4!$D$2:$D$8270,Sheet3!CH$3,Sheet4!$E$2:$E$8270,Sheet3!CH$4,Sheet4!$A$2:$A$8270,Sheet3!$B$1,Sheet4!$B$2:$B$8270,Sheet3!$A$3)","v":99},{"$f":"+SUMIFS(Sheet4!$DM$2:$DM$8270,Sheet4!$C$2:$C$8270,Sheet3!$B27,Sheet4!$D$2:$D$8270,Sheet3!CI$3,Sheet4!$E$2:$E$8270,Sheet3!CI$4,Sheet4!$A$2:$A$8270,Sheet3!$B$1,Sheet4!$B$2:$B$8270,Sheet3!$A$3)","v":17},{"$f":"+SUMIFS(Sheet4!$DM$2:$DM$8270,Sheet4!$C$2:$C$8270,Sheet3!$B27,Sheet4!$D$2:$D$8270,Sheet3!CJ$3,Sheet4!$E$2:$E$8270,Sheet3!CJ$4,Sheet4!$A$2:$A$8270,Sheet3!$B$1,Sheet4!$B$2:$B$8270,Sheet3!$A$3)","v":0},{"$f":"+SUMIFS(Sheet4!$DM$2:$DM$8270,Sheet4!$C$2:$C$8270,Sheet3!$B27,Sheet4!$D$2:$D$8270,Sheet3!CK$3,Sheet4!$E$2:$E$8270,Sheet3!CK$4,Sheet4!$A$2:$A$8270,Sheet3!$B$1,Sheet4!$B$2:$B$8270,Sheet3!$A$3)","v":0},{"$f":"+SUMIFS(Sheet4!$DM$2:$DM$8270,Sheet4!$C$2:$C$8270,Sheet3!$B27,Sheet4!$D$2:$D$8270,Sheet3!CL$3,Sheet4!$E$2:$E$8270,Sheet3!CL$4,Sheet4!$A$2:$A$8270,Sheet3!$B$1,Sheet4!$B$2:$B$8270,Sheet3!$A$3)","v":5},{"$f":"+SUMIFS(Sheet4!$DM$2:$DM$8270,Sheet4!$C$2:$C$8270,Sheet3!$B27,Sheet4!$D$2:$D$8270,Sheet3!CM$3,Sheet4!$E$2:$E$8270,Sheet3!CM$4,Sheet4!$A$2:$A$8270,Sheet3!$B$1,Sheet4!$B$2:$B$8270,Sheet3!$A$3)","v":4},{"$f":"+SUMIFS(Sheet4!$DM$2:$DM$8270,Sheet4!$C$2:$C$8270,Sheet3!$B27,Sheet4!$D$2:$D$8270,Sheet3!CN$3,Sheet4!$E$2:$E$8270,Sheet3!CN$4,Sheet4!$A$2:$A$8270,Sheet3!$B$1,Sheet4!$B$2:$B$8270,Sheet3!$A$3)","v":0},{"$f":"+SUMIFS(Sheet4!$DM$2:$DM$8270,Sheet4!$C$2:$C$8270,Sheet3!$B27,Sheet4!$D$2:$D$8270,Sheet3!CO$3,Sheet4!$E$2:$E$8270,Sheet3!CO$4,Sheet4!$A$2:$A$8270,Sheet3!$B$1,Sheet4!$B$2:$B$8270,Sheet3!$A$3)","v":0},{"$f":"+IF(SUMIFS(Sheet4!$DN$2:$DN$8270,Sheet4!$C$2:$C$8270,Sheet3!$B27,Sheet4!$D$2:$D$8270,Sheet3!CP$3,Sheet4!$A$2:$A$8270,Sheet3!$B$1,Sheet4!$B$2:$B$8270,Sheet3!$A$3)<3,0,SUMIFS(Sheet4!$DN$2:$DN$8270,Sheet4!$C$2:$C$8270,Sheet3!$B27,Sheet4!$D$2:$D$8270,Sheet3!CP$3,Sheet4!$A$2:$A$8270,Sheet3!$B$1,Sheet4!$B$2:$B$8270,Sheet3!$A$3))","v":41},{"$f":"+IF(SUMIFS(Sheet4!$DN$2:$DN$8270,Sheet4!$C$2:$C$8270,Sheet3!$B27,Sheet4!$D$2:$D$8270,Sheet3!CQ$3,Sheet4!$A$2:$A$8270,Sheet3!$B$1,Sheet4!$B$2:$B$8270,Sheet3!$A$3)<3,0,SUMIFS(Sheet4!$DN$2:$DN$8270,Sheet4!$C$2:$C$8270,Sheet3!$B27,Sheet4!$D$2:$D$8270,Sheet3!CQ$3,Sheet4!$A$2:$A$8270,Sheet3!$B$1,Sheet4!$B$2:$B$8270,Sheet3!$A$3))","v":334},{"$f":"+IF(SUMIFS(Sheet4!$DN$2:$DN$8270,Sheet4!$C$2:$C$8270,Sheet3!$B27,Sheet4!$D$2:$D$8270,Sheet3!CR$3,Sheet4!$A$2:$A$8270,Sheet3!$B$1,Sheet4!$B$2:$B$8270,Sheet3!$A$3)<3,0,SUMIFS(Sheet4!$DN$2:$DN$8270,Sheet4!$C$2:$C$8270,Sheet3!$B27,Sheet4!$D$2:$D$8270,Sheet3!CR$3,Sheet4!$A$2:$A$8270,Sheet3!$B$1,Sheet4!$B$2:$B$8270,Sheet3!$A$3))","v":151},{"$f":"+IF(SUMIFS(Sheet4!$DN$2:$DN$8270,Sheet4!$C$2:$C$8270,Sheet3!$B27,Sheet4!$D$2:$D$8270,Sheet3!CS$3,Sheet4!$A$2:$A$8270,Sheet3!$B$1,Sheet4!$B$2:$B$8270,Sheet3!$A$3)<3,0,SUMIFS(Sheet4!$DN$2:$DN$8270,Sheet4!$C$2:$C$8270,Sheet3!$B27,Sheet4!$D$2:$D$8270,Sheet3!CS$3,Sheet4!$A$2:$A$8270,Sheet3!$B$1,Sheet4!$B$2:$B$8270,Sheet3!$A$3))","v":122},{"$f":"+IF(SUMIFS(Sheet4!$DN$2:$DN$8270,Sheet4!$C$2:$C$8270,Sheet3!$B27,Sheet4!$D$2:$D$8270,Sheet3!CT$3,Sheet4!$A$2:$A$8270,Sheet3!$B$1,Sheet4!$B$2:$B$8270,Sheet3!$A$3)<3,0,SUMIFS(Sheet4!$DN$2:$DN$8270,Sheet4!$C$2:$C$8270,Sheet3!$B27,Sheet4!$D$2:$D$8270,Sheet3!CT$3,Sheet4!$A$2:$A$8270,Sheet3!$B$1,Sheet4!$B$2:$B$8270,Sheet3!$A$3))","v":26},{"$f":"+IF(SUMIFS(Sheet4!$DN$2:$DN$8270,Sheet4!$C$2:$C$8270,Sheet3!$B27,Sheet4!$D$2:$D$8270,Sheet3!CU$3,Sheet4!$A$2:$A$8270,Sheet3!$B$1,Sheet4!$B$2:$B$8270,Sheet3!$A$3)<3,0,SUMIFS(Sheet4!$DN$2:$DN$8270,Sheet4!$C$2:$C$8270,Sheet3!$B27,Sheet4!$D$2:$D$8270,Sheet3!CU$3,Sheet4!$A$2:$A$8270,Sheet3!$B$1,Sheet4!$B$2:$B$8270,Sheet3!$A$3))","v":93},{"$f":"+IF(SUMIFS(Sheet4!$DN$2:$DN$8270,Sheet4!$C$2:$C$8270,Sheet3!$B27,Sheet4!$D$2:$D$8270,Sheet3!CV$3,Sheet4!$A$2:$A$8270,Sheet3!$B$1,Sheet4!$B$2:$B$8270,Sheet3!$A$3)<3,0,SUMIFS(Sheet4!$DN$2:$DN$8270,Sheet4!$C$2:$C$8270,Sheet3!$B27,Sheet4!$D$2:$D$8270,Sheet3!CV$3,Sheet4!$A$2:$A$8270,Sheet3!$B$1,Sheet4!$B$2:$B$8270,Sheet3!$A$3))","v":140},{"$f":"+IF(SUMIFS(Sheet4!$DN$2:$DN$8270,Sheet4!$C$2:$C$8270,Sheet3!$B27,Sheet4!$D$2:$D$8270,Sheet3!CW$3,Sheet4!$A$2:$A$8270,Sheet3!$B$1,Sheet4!$B$2:$B$8270,Sheet3!$A$3)<3,0,SUMIFS(Sheet4!$DN$2:$DN$8270,Sheet4!$C$2:$C$8270,Sheet3!$B27,Sheet4!$D$2:$D$8270,Sheet3!CW$3,Sheet4!$A$2:$A$8270,Sheet3!$B$1,Sheet4!$B$2:$B$8270,Sheet3!$A$3))","v":180},{"$f":"+IF(SUMIFS(Sheet4!$DN$2:$DN$8270,Sheet4!$C$2:$C$8270,Sheet3!$B27,Sheet4!$D$2:$D$8270,Sheet3!CX$3,Sheet4!$A$2:$A$8270,Sheet3!$B$1,Sheet4!$B$2:$B$8270,Sheet3!$A$3)<3,0,SUMIFS(Sheet4!$DN$2:$DN$8270,Sheet4!$C$2:$C$8270,Sheet3!$B27,Sheet4!$D$2:$D$8270,Sheet3!CX$3,Sheet4!$A$2:$A$8270,Sheet3!$B$1,Sheet4!$B$2:$B$8270,Sheet3!$A$3))","v":177},{"$f":"+IF(SUMIFS(Sheet4!$DN$2:$DN$8270,Sheet4!$C$2:$C$8270,Sheet3!$B27,Sheet4!$D$2:$D$8270,Sheet3!CY$3,Sheet4!$A$2:$A$8270,Sheet3!$B$1,Sheet4!$B$2:$B$8270,Sheet3!$A$3)<3,0,SUMIFS(Sheet4!$DN$2:$DN$8270,Sheet4!$C$2:$C$8270,Sheet3!$B27,Sheet4!$D$2:$D$8270,Sheet3!CY$3,Sheet4!$A$2:$A$8270,Sheet3!$B$1,Sheet4!$B$2:$B$8270,Sheet3!$A$3))","v":589},{"$f":"+IF(SUMIFS(Sheet4!$DN$2:$DN$8270,Sheet4!$C$2:$C$8270,Sheet3!$B27,Sheet4!$D$2:$D$8270,Sheet3!CZ$3,Sheet4!$A$2:$A$8270,Sheet3!$B$1,Sheet4!$B$2:$B$8270,Sheet3!$A$3)<3,0,SUMIFS(Sheet4!$DN$2:$DN$8270,Sheet4!$C$2:$C$8270,Sheet3!$B27,Sheet4!$D$2:$D$8270,Sheet3!CZ$3,Sheet4!$A$2:$A$8270,Sheet3!$B$1,Sheet4!$B$2:$B$8270,Sheet3!$A$3))","v":21},{"$f":"+IF(SUMIFS(Sheet4!$DN$2:$DN$8270,Sheet4!$C$2:$C$8270,Sheet3!$B27,Sheet4!$D$2:$D$8270,Sheet3!DA$3,Sheet4!$A$2:$A$8270,Sheet3!$B$1,Sheet4!$B$2:$B$8270,Sheet3!$A$3)<3,0,SUMIFS(Sheet4!$DN$2:$DN$8270,Sheet4!$C$2:$C$8270,Sheet3!$B27,Sheet4!$D$2:$D$8270,Sheet3!DA$3,Sheet4!$A$2:$A$8270,Sheet3!$B$1,Sheet4!$B$2:$B$8270,Sheet3!$A$3))","v":129},{"$f":"+IF(SUMIFS(Sheet4!$DN$2:$DN$8270,Sheet4!$C$2:$C$8270,Sheet3!$B27,Sheet4!$D$2:$D$8270,Sheet3!DB$3,Sheet4!$A$2:$A$8270,Sheet3!$B$1,Sheet4!$B$2:$B$8270,Sheet3!$A$3)<3,0,SUMIFS(Sheet4!$DN$2:$DN$8270,Sheet4!$C$2:$C$8270,Sheet3!$B27,Sheet4!$D$2:$D$8270,Sheet3!DB$3,Sheet4!$A$2:$A$8270,Sheet3!$B$1,Sheet4!$B$2:$B$8270,Sheet3!$A$3))","v":61},{"$f":"+IF(SUMIFS(Sheet4!$DN$2:$DN$8270,Sheet4!$C$2:$C$8270,Sheet3!$B27,Sheet4!$D$2:$D$8270,Sheet3!DC$3,Sheet4!$A$2:$A$8270,Sheet3!$B$1,Sheet4!$B$2:$B$8270,Sheet3!$A$3)<3,0,SUMIFS(Sheet4!$DN$2:$DN$8270,Sheet4!$C$2:$C$8270,Sheet3!$B27,Sheet4!$D$2:$D$8270,Sheet3!DC$3,Sheet4!$A$2:$A$8270,Sheet3!$B$1,Sheet4!$B$2:$B$8270,Sheet3!$A$3))","v":278},{"$f":"+IF(SUMIFS(Sheet4!$DN$2:$DN$8270,Sheet4!$C$2:$C$8270,Sheet3!$B27,Sheet4!$D$2:$D$8270,Sheet3!DD$3,Sheet4!$A$2:$A$8270,Sheet3!$B$1,Sheet4!$B$2:$B$8270,Sheet3!$A$3)<3,0,SUMIFS(Sheet4!$DN$2:$DN$8270,Sheet4!$C$2:$C$8270,Sheet3!$B27,Sheet4!$D$2:$D$8270,Sheet3!DD$3,Sheet4!$A$2:$A$8270,Sheet3!$B$1,Sheet4!$B$2:$B$8270,Sheet3!$A$3))","v":126},{"$f":"+IF(SUMIFS(Sheet4!$DN$2:$DN$8270,Sheet4!$C$2:$C$8270,Sheet3!$B27,Sheet4!$D$2:$D$8270,Sheet3!DE$3,Sheet4!$A$2:$A$8270,Sheet3!$B$1,Sheet4!$B$2:$B$8270,Sheet3!$A$3)<3,0,SUMIFS(Sheet4!$DN$2:$DN$8270,Sheet4!$C$2:$C$8270,Sheet3!$B27,Sheet4!$D$2:$D$8270,Sheet3!DE$3,Sheet4!$A$2:$A$8270,Sheet3!$B$1,Sheet4!$B$2:$B$8270,Sheet3!$A$3))","v":495},{"$f":"+IF(SUMIFS(Sheet4!$DN$2:$DN$8270,Sheet4!$C$2:$C$8270,Sheet3!$B27,Sheet4!$D$2:$D$8270,Sheet3!DF$3,Sheet4!$A$2:$A$8270,Sheet3!$B$1,Sheet4!$B$2:$B$8270,Sheet3!$A$3)<3,0,SUMIFS(Sheet4!$DN$2:$DN$8270,Sheet4!$C$2:$C$8270,Sheet3!$B27,Sheet4!$D$2:$D$8270,Sheet3!DF$3,Sheet4!$A$2:$A$8270,Sheet3!$B$1,Sheet4!$B$2:$B$8270,Sheet3!$A$3))","v":160},{"$f":"+IF(SUMIFS(Sheet4!$DN$2:$DN$8270,Sheet4!$C$2:$C$8270,Sheet3!$B27,Sheet4!$D$2:$D$8270,Sheet3!DG$3,Sheet4!$A$2:$A$8270,Sheet3!$B$1,Sheet4!$B$2:$B$8270,Sheet3!$A$3)<3,0,SUMIFS(Sheet4!$DN$2:$DN$8270,Sheet4!$C$2:$C$8270,Sheet3!$B27,Sheet4!$D$2:$D$8270,Sheet3!DG$3,Sheet4!$A$2:$A$8270,Sheet3!$B$1,Sheet4!$B$2:$B$8270,Sheet3!$A$3))","v":13},{"$f":"+IF(SUMIFS(Sheet4!$DN$2:$DN$8270,Sheet4!$C$2:$C$8270,Sheet3!$B27,Sheet4!$E$2:$E$8270,Sheet3!DH$4,Sheet4!$A$2:$A$8270,Sheet3!$B$1,Sheet4!$B$2:$B$8270,Sheet3!$A$3)<3,0,SUMIFS(Sheet4!$DN$2:$DN$8270,Sheet4!$C$2:$C$8270,Sheet3!$B27,Sheet4!$E$2:$E$8270,Sheet3!DH$4,Sheet4!$A$2:$A$8270,Sheet3!$B$1,Sheet4!$B$2:$B$8270,Sheet3!$A$3))","v":1078},{"$f":"+IF(SUMIFS(Sheet4!$DN$2:$DN$8270,Sheet4!$C$2:$C$8270,Sheet3!$B27,Sheet4!$E$2:$E$8270,Sheet3!DI$4,Sheet4!$A$2:$A$8270,Sheet3!$B$1,Sheet4!$B$2:$B$8270,Sheet3!$A$3)<3,0,SUMIFS(Sheet4!$DN$2:$DN$8270,Sheet4!$C$2:$C$8270,Sheet3!$B27,Sheet4!$E$2:$E$8270,Sheet3!DI$4,Sheet4!$A$2:$A$8270,Sheet3!$B$1,Sheet4!$B$2:$B$8270,Sheet3!$A$3))","v":953},{"$f":"+IF(SUMIFS(Sheet4!$DN$2:$DN$8270,Sheet4!$C$2:$C$8270,Sheet3!$B27,Sheet4!$E$2:$E$8270,Sheet3!DJ$4,Sheet4!$A$2:$A$8270,Sheet3!$B$1,Sheet4!$B$2:$B$8270,Sheet3!$A$3)<3,0,SUMIFS(Sheet4!$DN$2:$DN$8270,Sheet4!$C$2:$C$8270,Sheet3!$B27,Sheet4!$E$2:$E$8270,Sheet3!DJ$4,Sheet4!$A$2:$A$8270,Sheet3!$B$1,Sheet4!$B$2:$B$8270,Sheet3!$A$3))","v":895},{"$f":"+IF(SUMIFS(Sheet4!$DN$2:$DN$8270,Sheet4!$C$2:$C$8270,Sheet3!$B27,Sheet4!$E$2:$E$8270,Sheet3!DK$4,Sheet4!$A$2:$A$8270,Sheet3!$B$1,Sheet4!$B$2:$B$8270,Sheet3!$A$3)<3,0,SUMIFS(Sheet4!$DN$2:$DN$8270,Sheet4!$C$2:$C$8270,Sheet3!$B27,Sheet4!$E$2:$E$8270,Sheet3!DK$4,Sheet4!$A$2:$A$8270,Sheet3!$B$1,Sheet4!$B$2:$B$8270,Sheet3!$A$3))","v":187},{"$f":"+IF(SUMIFS(Sheet4!$DN$2:$DN$8270,Sheet4!$C$2:$C$8270,Sheet3!$B27,Sheet4!$E$2:$E$8270,Sheet3!DL$4,Sheet4!$A$2:$A$8270,Sheet3!$B$1,Sheet4!$B$2:$B$8270,Sheet3!$A$3)<3,0,SUMIFS(Sheet4!$DN$2:$DN$8270,Sheet4!$C$2:$C$8270,Sheet3!$B27,Sheet4!$E$2:$E$8270,Sheet3!DL$4,Sheet4!$A$2:$A$8270,Sheet3!$B$1,Sheet4!$B$2:$B$8270,Sheet3!$A$3))","v":23}]
[5,"186","Alto Alentejo",{"$f":"+SUMIFS(Sheet4!$DM$2:$DM$8270,Sheet4!$C$2:$C$8270,Sheet3!$B28,Sheet4!$D$2:$D$8270,Sheet3!D$3,Sheet4!$E$2:$E$8270,Sheet3!D$4,Sheet4!$A$2:$A$8270,Sheet3!$B$1,Sheet4!$B$2:$B$8270,Sheet3!$A$3)","v":3},{"$f":"+SUMIFS(Sheet4!$DM$2:$DM$8270,Sheet4!$C$2:$C$8270,Sheet3!$B28,Sheet4!$D$2:$D$8270,Sheet3!E$3,Sheet4!$E$2:$E$8270,Sheet3!E$4,Sheet4!$A$2:$A$8270,Sheet3!$B$1,Sheet4!$B$2:$B$8270,Sheet3!$A$3)","v":0},{"$f":"+SUMIFS(Sheet4!$DM$2:$DM$8270,Sheet4!$C$2:$C$8270,Sheet3!$B28,Sheet4!$D$2:$D$8270,Sheet3!F$3,Sheet4!$E$2:$E$8270,Sheet3!F$4,Sheet4!$A$2:$A$8270,Sheet3!$B$1,Sheet4!$B$2:$B$8270,Sheet3!$A$3)","v":3},{"$f":"+SUMIFS(Sheet4!$DM$2:$DM$8270,Sheet4!$C$2:$C$8270,Sheet3!$B28,Sheet4!$D$2:$D$8270,Sheet3!G$3,Sheet4!$E$2:$E$8270,Sheet3!G$4,Sheet4!$A$2:$A$8270,Sheet3!$B$1,Sheet4!$B$2:$B$8270,Sheet3!$A$3)","v":0},{"$f":"+SUMIFS(Sheet4!$DM$2:$DM$8270,Sheet4!$C$2:$C$8270,Sheet3!$B28,Sheet4!$D$2:$D$8270,Sheet3!H$3,Sheet4!$E$2:$E$8270,Sheet3!H$4,Sheet4!$A$2:$A$8270,Sheet3!$B$1,Sheet4!$B$2:$B$8270,Sheet3!$A$3)","v":0},{"$f":"+SUMIFS(Sheet4!$DM$2:$DM$8270,Sheet4!$C$2:$C$8270,Sheet3!$B28,Sheet4!$D$2:$D$8270,Sheet3!I$3,Sheet4!$E$2:$E$8270,Sheet3!I$4,Sheet4!$A$2:$A$8270,Sheet3!$B$1,Sheet4!$B$2:$B$8270,Sheet3!$A$3)","v":0},{"$f":"+SUMIFS(Sheet4!$DM$2:$DM$8270,Sheet4!$C$2:$C$8270,Sheet3!$B28,Sheet4!$D$2:$D$8270,Sheet3!J$3,Sheet4!$E$2:$E$8270,Sheet3!J$4,Sheet4!$A$2:$A$8270,Sheet3!$B$1,Sheet4!$B$2:$B$8270,Sheet3!$A$3)","v":7},{"$f":"+SUMIFS(Sheet4!$DM$2:$DM$8270,Sheet4!$C$2:$C$8270,Sheet3!$B28,Sheet4!$D$2:$D$8270,Sheet3!K$3,Sheet4!$E$2:$E$8270,Sheet3!K$4,Sheet4!$A$2:$A$8270,Sheet3!$B$1,Sheet4!$B$2:$B$8270,Sheet3!$A$3)","v":19},{"$f":"+SUMIFS(Sheet4!$DM$2:$DM$8270,Sheet4!$C$2:$C$8270,Sheet3!$B28,Sheet4!$D$2:$D$8270,Sheet3!L$3,Sheet4!$E$2:$E$8270,Sheet3!L$4,Sheet4!$A$2:$A$8270,Sheet3!$B$1,Sheet4!$B$2:$B$8270,Sheet3!$A$3)","v":0},{"$f":"+SUMIFS(Sheet4!$DM$2:$DM$8270,Sheet4!$C$2:$C$8270,Sheet3!$B28,Sheet4!$D$2:$D$8270,Sheet3!M$3,Sheet4!$E$2:$E$8270,Sheet3!M$4,Sheet4!$A$2:$A$8270,Sheet3!$B$1,Sheet4!$B$2:$B$8270,Sheet3!$A$3)","v":0},{"$f":"+SUMIFS(Sheet4!$DM$2:$DM$8270,Sheet4!$C$2:$C$8270,Sheet3!$B28,Sheet4!$D$2:$D$8270,Sheet3!N$3,Sheet4!$E$2:$E$8270,Sheet3!N$4,Sheet4!$A$2:$A$8270,Sheet3!$B$1,Sheet4!$B$2:$B$8270,Sheet3!$A$3)","v":18},{"$f":"+SUMIFS(Sheet4!$DM$2:$DM$8270,Sheet4!$C$2:$C$8270,Sheet3!$B28,Sheet4!$D$2:$D$8270,Sheet3!O$3,Sheet4!$E$2:$E$8270,Sheet3!O$4,Sheet4!$A$2:$A$8270,Sheet3!$B$1,Sheet4!$B$2:$B$8270,Sheet3!$A$3)","v":36},{"$f":"+SUMIFS(Sheet4!$DM$2:$DM$8270,Sheet4!$C$2:$C$8270,Sheet3!$B28,Sheet4!$D$2:$D$8270,Sheet3!P$3,Sheet4!$E$2:$E$8270,Sheet3!P$4,Sheet4!$A$2:$A$8270,Sheet3!$B$1,Sheet4!$B$2:$B$8270,Sheet3!$A$3)","v":27},{"$f":"+SUMIFS(Sheet4!$DM$2:$DM$8270,Sheet4!$C$2:$C$8270,Sheet3!$B28,Sheet4!$D$2:$D$8270,Sheet3!Q$3,Sheet4!$E$2:$E$8270,Sheet3!Q$4,Sheet4!$A$2:$A$8270,Sheet3!$B$1,Sheet4!$B$2:$B$8270,Sheet3!$A$3)","v":8},{"$f":"+SUMIFS(Sheet4!$DM$2:$DM$8270,Sheet4!$C$2:$C$8270,Sheet3!$B28,Sheet4!$D$2:$D$8270,Sheet3!R$3,Sheet4!$E$2:$E$8270,Sheet3!R$4,Sheet4!$A$2:$A$8270,Sheet3!$B$1,Sheet4!$B$2:$B$8270,Sheet3!$A$3)","v":0},{"$f":"+SUMIFS(Sheet4!$DM$2:$DM$8270,Sheet4!$C$2:$C$8270,Sheet3!$B28,Sheet4!$D$2:$D$8270,Sheet3!S$3,Sheet4!$E$2:$E$8270,Sheet3!S$4,Sheet4!$A$2:$A$8270,Sheet3!$B$1,Sheet4!$B$2:$B$8270,Sheet3!$A$3)","v":0},{"$f":"+SUMIFS(Sheet4!$DM$2:$DM$8270,Sheet4!$C$2:$C$8270,Sheet3!$B28,Sheet4!$D$2:$D$8270,Sheet3!T$3,Sheet4!$E$2:$E$8270,Sheet3!T$4,Sheet4!$A$2:$A$8270,Sheet3!$B$1,Sheet4!$B$2:$B$8270,Sheet3!$A$3)","v":0},{"$f":"+SUMIFS(Sheet4!$DM$2:$DM$8270,Sheet4!$C$2:$C$8270,Sheet3!$B28,Sheet4!$D$2:$D$8270,Sheet3!U$3,Sheet4!$E$2:$E$8270,Sheet3!U$4,Sheet4!$A$2:$A$8270,Sheet3!$B$1,Sheet4!$B$2:$B$8270,Sheet3!$A$3)","v":3},{"$f":"+SUMIFS(Sheet4!$DM$2:$DM$8270,Sheet4!$C$2:$C$8270,Sheet3!$B28,Sheet4!$D$2:$D$8270,Sheet3!V$3,Sheet4!$E$2:$E$8270,Sheet3!V$4,Sheet4!$A$2:$A$8270,Sheet3!$B$1,Sheet4!$B$2:$B$8270,Sheet3!$A$3)","v":0},{"$f":"+SUMIFS(Sheet4!$DM$2:$DM$8270,Sheet4!$C$2:$C$8270,Sheet3!$B28,Sheet4!$D$2:$D$8270,Sheet3!W$3,Sheet4!$E$2:$E$8270,Sheet3!W$4,Sheet4!$A$2:$A$8270,Sheet3!$B$1,Sheet4!$B$2:$B$8270,Sheet3!$A$3)","v":0},{"$f":"+SUMIFS(Sheet4!$DM$2:$DM$8270,Sheet4!$C$2:$C$8270,Sheet3!$B28,Sheet4!$D$2:$D$8270,Sheet3!X$3,Sheet4!$E$2:$E$8270,Sheet3!X$4,Sheet4!$A$2:$A$8270,Sheet3!$B$1,Sheet4!$B$2:$B$8270,Sheet3!$A$3)","v":0},{"$f":"+SUMIFS(Sheet4!$DM$2:$DM$8270,Sheet4!$C$2:$C$8270,Sheet3!$B28,Sheet4!$D$2:$D$8270,Sheet3!Y$3,Sheet4!$E$2:$E$8270,Sheet3!Y$4,Sheet4!$A$2:$A$8270,Sheet3!$B$1,Sheet4!$B$2:$B$8270,Sheet3!$A$3)","v":0},{"$f":"+SUMIFS(Sheet4!$DM$2:$DM$8270,Sheet4!$C$2:$C$8270,Sheet3!$B28,Sheet4!$D$2:$D$8270,Sheet3!Z$3,Sheet4!$E$2:$E$8270,Sheet3!Z$4,Sheet4!$A$2:$A$8270,Sheet3!$B$1,Sheet4!$B$2:$B$8270,Sheet3!$A$3)","v":8},{"$f":"+SUMIFS(Sheet4!$DM$2:$DM$8270,Sheet4!$C$2:$C$8270,Sheet3!$B28,Sheet4!$D$2:$D$8270,Sheet3!AA$3,Sheet4!$E$2:$E$8270,Sheet3!AA$4,Sheet4!$A$2:$A$8270,Sheet3!$B$1,Sheet4!$B$2:$B$8270,Sheet3!$A$3)","v":0},{"$f":"+SUMIFS(Sheet4!$DM$2:$DM$8270,Sheet4!$C$2:$C$8270,Sheet3!$B28,Sheet4!$D$2:$D$8270,Sheet3!AB$3,Sheet4!$E$2:$E$8270,Sheet3!AB$4,Sheet4!$A$2:$A$8270,Sheet3!$B$1,Sheet4!$B$2:$B$8270,Sheet3!$A$3)","v":0},{"$f":"+SUMIFS(Sheet4!$DM$2:$DM$8270,Sheet4!$C$2:$C$8270,Sheet3!$B28,Sheet4!$D$2:$D$8270,Sheet3!AC$3,Sheet4!$E$2:$E$8270,Sheet3!AC$4,Sheet4!$A$2:$A$8270,Sheet3!$B$1,Sheet4!$B$2:$B$8270,Sheet3!$A$3)","v":70},{"$f":"+SUMIFS(Sheet4!$DM$2:$DM$8270,Sheet4!$C$2:$C$8270,Sheet3!$B28,Sheet4!$D$2:$D$8270,Sheet3!AD$3,Sheet4!$E$2:$E$8270,Sheet3!AD$4,Sheet4!$A$2:$A$8270,Sheet3!$B$1,Sheet4!$B$2:$B$8270,Sheet3!$A$3)","v":24},{"$f":"+SUMIFS(Sheet4!$DM$2:$DM$8270,Sheet4!$C$2:$C$8270,Sheet3!$B28,Sheet4!$D$2:$D$8270,Sheet3!AE$3,Sheet4!$E$2:$E$8270,Sheet3!AE$4,Sheet4!$A$2:$A$8270,Sheet3!$B$1,Sheet4!$B$2:$B$8270,Sheet3!$A$3)","v":32},{"$f":"+SUMIFS(Sheet4!$DM$2:$DM$8270,Sheet4!$C$2:$C$8270,Sheet3!$B28,Sheet4!$D$2:$D$8270,Sheet3!AF$3,Sheet4!$E$2:$E$8270,Sheet3!AF$4,Sheet4!$A$2:$A$8270,Sheet3!$B$1,Sheet4!$B$2:$B$8270,Sheet3!$A$3)","v":16},{"$f":"+SUMIFS(Sheet4!$DM$2:$DM$8270,Sheet4!$C$2:$C$8270,Sheet3!$B28,Sheet4!$D$2:$D$8270,Sheet3!AG$3,Sheet4!$E$2:$E$8270,Sheet3!AG$4,Sheet4!$A$2:$A$8270,Sheet3!$B$1,Sheet4!$B$2:$B$8270,Sheet3!$A$3)","v":0},{"$f":"+SUMIFS(Sheet4!$DM$2:$DM$8270,Sheet4!$C$2:$C$8270,Sheet3!$B28,Sheet4!$D$2:$D$8270,Sheet3!AH$3,Sheet4!$E$2:$E$8270,Sheet3!AH$4,Sheet4!$A$2:$A$8270,Sheet3!$B$1,Sheet4!$B$2:$B$8270,Sheet3!$A$3)","v":29},{"$f":"+SUMIFS(Sheet4!$DM$2:$DM$8270,Sheet4!$C$2:$C$8270,Sheet3!$B28,Sheet4!$D$2:$D$8270,Sheet3!AI$3,Sheet4!$E$2:$E$8270,Sheet3!AI$4,Sheet4!$A$2:$A$8270,Sheet3!$B$1,Sheet4!$B$2:$B$8270,Sheet3!$A$3)","v":27},{"$f":"+SUMIFS(Sheet4!$DM$2:$DM$8270,Sheet4!$C$2:$C$8270,Sheet3!$B28,Sheet4!$D$2:$D$8270,Sheet3!AJ$3,Sheet4!$E$2:$E$8270,Sheet3!AJ$4,Sheet4!$A$2:$A$8270,Sheet3!$B$1,Sheet4!$B$2:$B$8270,Sheet3!$A$3)","v":23},{"$f":"+SUMIFS(Sheet4!$DM$2:$DM$8270,Sheet4!$C$2:$C$8270,Sheet3!$B28,Sheet4!$D$2:$D$8270,Sheet3!AK$3,Sheet4!$E$2:$E$8270,Sheet3!AK$4,Sheet4!$A$2:$A$8270,Sheet3!$B$1,Sheet4!$B$2:$B$8270,Sheet3!$A$3)","v":0},{"$f":"+SUMIFS(Sheet4!$DM$2:$DM$8270,Sheet4!$C$2:$C$8270,Sheet3!$B28,Sheet4!$D$2:$D$8270,Sheet3!AL$3,Sheet4!$E$2:$E$8270,Sheet3!AL$4,Sheet4!$A$2:$A$8270,Sheet3!$B$1,Sheet4!$B$2:$B$8270,Sheet3!$A$3)","v":0},{"$f":"+SUMIFS(Sheet4!$DM$2:$DM$8270,Sheet4!$C$2:$C$8270,Sheet3!$B28,Sheet4!$D$2:$D$8270,Sheet3!AM$3,Sheet4!$E$2:$E$8270,Sheet3!AM$4,Sheet4!$A$2:$A$8270,Sheet3!$B$1,Sheet4!$B$2:$B$8270,Sheet3!$A$3)","v":50},{"$f":"+SUMIFS(Sheet4!$DM$2:$DM$8270,Sheet4!$C$2:$C$8270,Sheet3!$B28,Sheet4!$D$2:$D$8270,Sheet3!AN$3,Sheet4!$E$2:$E$8270,Sheet3!AN$4,Sheet4!$A$2:$A$8270,Sheet3!$B$1,Sheet4!$B$2:$B$8270,Sheet3!$A$3)","v":51},{"$f":"+SUMIFS(Sheet4!$DM$2:$DM$8270,Sheet4!$C$2:$C$8270,Sheet3!$B28,Sheet4!$D$2:$D$8270,Sheet3!AO$3,Sheet4!$E$2:$E$8270,Sheet3!AO$4,Sheet4!$A$2:$A$8270,Sheet3!$B$1,Sheet4!$B$2:$B$8270,Sheet3!$A$3)","v":42},{"$f":"+SUMIFS(Sheet4!$DM$2:$DM$8270,Sheet4!$C$2:$C$8270,Sheet3!$B28,Sheet4!$D$2:$D$8270,Sheet3!AP$3,Sheet4!$E$2:$E$8270,Sheet3!AP$4,Sheet4!$A$2:$A$8270,Sheet3!$B$1,Sheet4!$B$2:$B$8270,Sheet3!$A$3)","v":6},{"$f":"+SUMIFS(Sheet4!$DM$2:$DM$8270,Sheet4!$C$2:$C$8270,Sheet3!$B28,Sheet4!$D$2:$D$8270,Sheet3!AQ$3,Sheet4!$E$2:$E$8270,Sheet3!AQ$4,Sheet4!$A$2:$A$8270,Sheet3!$B$1,Sheet4!$B$2:$B$8270,Sheet3!$A$3)","v":0},{"$f":"+SUMIFS(Sheet4!$DM$2:$DM$8270,Sheet4!$C$2:$C$8270,Sheet3!$B28,Sheet4!$D$2:$D$8270,Sheet3!AR$3,Sheet4!$E$2:$E$8270,Sheet3!AR$4,Sheet4!$A$2:$A$8270,Sheet3!$B$1,Sheet4!$B$2:$B$8270,Sheet3!$A$3)","v":819},{"$f":"+SUMIFS(Sheet4!$DM$2:$DM$8270,Sheet4!$C$2:$C$8270,Sheet3!$B28,Sheet4!$D$2:$D$8270,Sheet3!AS$3,Sheet4!$E$2:$E$8270,Sheet3!AS$4,Sheet4!$A$2:$A$8270,Sheet3!$B$1,Sheet4!$B$2:$B$8270,Sheet3!$A$3)","v":328},{"$f":"+SUMIFS(Sheet4!$DM$2:$DM$8270,Sheet4!$C$2:$C$8270,Sheet3!$B28,Sheet4!$D$2:$D$8270,Sheet3!AT$3,Sheet4!$E$2:$E$8270,Sheet3!AT$4,Sheet4!$A$2:$A$8270,Sheet3!$B$1,Sheet4!$B$2:$B$8270,Sheet3!$A$3)","v":118},{"$f":"+SUMIFS(Sheet4!$DM$2:$DM$8270,Sheet4!$C$2:$C$8270,Sheet3!$B28,Sheet4!$D$2:$D$8270,Sheet3!AU$3,Sheet4!$E$2:$E$8270,Sheet3!AU$4,Sheet4!$A$2:$A$8270,Sheet3!$B$1,Sheet4!$B$2:$B$8270,Sheet3!$A$3)","v":17},{"$f":"+SUMIFS(Sheet4!$DM$2:$DM$8270,Sheet4!$C$2:$C$8270,Sheet3!$B28,Sheet4!$D$2:$D$8270,Sheet3!AV$3,Sheet4!$E$2:$E$8270,Sheet3!AV$4,Sheet4!$A$2:$A$8270,Sheet3!$B$1,Sheet4!$B$2:$B$8270,Sheet3!$A$3)","v":0},{"$f":"+SUMIFS(Sheet4!$DM$2:$DM$8270,Sheet4!$C$2:$C$8270,Sheet3!$B28,Sheet4!$D$2:$D$8270,Sheet3!AW$3,Sheet4!$E$2:$E$8270,Sheet3!AW$4,Sheet4!$A$2:$A$8270,Sheet3!$B$1,Sheet4!$B$2:$B$8270,Sheet3!$A$3)","v":420},{"$f":"+SUMIFS(Sheet4!$DM$2:$DM$8270,Sheet4!$C$2:$C$8270,Sheet3!$B28,Sheet4!$D$2:$D$8270,Sheet3!AX$3,Sheet4!$E$2:$E$8270,Sheet3!AX$4,Sheet4!$A$2:$A$8270,Sheet3!$B$1,Sheet4!$B$2:$B$8270,Sheet3!$A$3)","v":271},{"$f":"+SUMIFS(Sheet4!$DM$2:$DM$8270,Sheet4!$C$2:$C$8270,Sheet3!$B28,Sheet4!$D$2:$D$8270,Sheet3!AY$3,Sheet4!$E$2:$E$8270,Sheet3!AY$4,Sheet4!$A$2:$A$8270,Sheet3!$B$1,Sheet4!$B$2:$B$8270,Sheet3!$A$3)","v":124},{"$f":"+SUMIFS(Sheet4!$DM$2:$DM$8270,Sheet4!$C$2:$C$8270,Sheet3!$B28,Sheet4!$D$2:$D$8270,Sheet3!AZ$3,Sheet4!$E$2:$E$8270,Sheet3!AZ$4,Sheet4!$A$2:$A$8270,Sheet3!$B$1,Sheet4!$B$2:$B$8270,Sheet3!$A$3)","v":26},{"$f":"+SUMIFS(Sheet4!$DM$2:$DM$8270,Sheet4!$C$2:$C$8270,Sheet3!$B28,Sheet4!$D$2:$D$8270,Sheet3!BA$3,Sheet4!$E$2:$E$8270,Sheet3!BA$4,Sheet4!$A$2:$A$8270,Sheet3!$B$1,Sheet4!$B$2:$B$8270,Sheet3!$A$3)","v":0},{"$f":"+SUMIFS(Sheet4!$DM$2:$DM$8270,Sheet4!$C$2:$C$8270,Sheet3!$B28,Sheet4!$D$2:$D$8270,Sheet3!BB$3,Sheet4!$E$2:$E$8270,Sheet3!BB$4,Sheet4!$A$2:$A$8270,Sheet3!$B$1,Sheet4!$B$2:$B$8270,Sheet3!$A$3)","v":0},{"$f":"+SUMIFS(Sheet4!$DM$2:$DM$8270,Sheet4!$C$2:$C$8270,Sheet3!$B28,Sheet4!$D$2:$D$8270,Sheet3!BC$3,Sheet4!$E$2:$E$8270,Sheet3!BC$4,Sheet4!$A$2:$A$8270,Sheet3!$B$1,Sheet4!$B$2:$B$8270,Sheet3!$A$3)","v":0},{"$f":"+SUMIFS(Sheet4!$DM$2:$DM$8270,Sheet4!$C$2:$C$8270,Sheet3!$B28,Sheet4!$D$2:$D$8270,Sheet3!BD$3,Sheet4!$E$2:$E$8270,Sheet3!BD$4,Sheet4!$A$2:$A$8270,Sheet3!$B$1,Sheet4!$B$2:$B$8270,Sheet3!$A$3)","v":9},{"$f":"+SUMIFS(Sheet4!$DM$2:$DM$8270,Sheet4!$C$2:$C$8270,Sheet3!$B28,Sheet4!$D$2:$D$8270,Sheet3!BE$3,Sheet4!$E$2:$E$8270,Sheet3!BE$4,Sheet4!$A$2:$A$8270,Sheet3!$B$1,Sheet4!$B$2:$B$8270,Sheet3!$A$3)","v":3},{"$f":"+SUMIFS(Sheet4!$DM$2:$DM$8270,Sheet4!$C$2:$C$8270,Sheet3!$B28,Sheet4!$D$2:$D$8270,Sheet3!BF$3,Sheet4!$E$2:$E$8270,Sheet3!BF$4,Sheet4!$A$2:$A$8270,Sheet3!$B$1,Sheet4!$B$2:$B$8270,Sheet3!$A$3)","v":0},{"$f":"+SUMIFS(Sheet4!$DM$2:$DM$8270,Sheet4!$C$2:$C$8270,Sheet3!$B28,Sheet4!$D$2:$D$8270,Sheet3!BG$3,Sheet4!$E$2:$E$8270,Sheet3!BG$4,Sheet4!$A$2:$A$8270,Sheet3!$B$1,Sheet4!$B$2:$B$8270,Sheet3!$A$3)","v":11},{"$f":"+SUMIFS(Sheet4!$DM$2:$DM$8270,Sheet4!$C$2:$C$8270,Sheet3!$B28,Sheet4!$D$2:$D$8270,Sheet3!BH$3,Sheet4!$E$2:$E$8270,Sheet3!BH$4,Sheet4!$A$2:$A$8270,Sheet3!$B$1,Sheet4!$B$2:$B$8270,Sheet3!$A$3)","v":55},{"$f":"+SUMIFS(Sheet4!$DM$2:$DM$8270,Sheet4!$C$2:$C$8270,Sheet3!$B28,Sheet4!$D$2:$D$8270,Sheet3!BI$3,Sheet4!$E$2:$E$8270,Sheet3!BI$4,Sheet4!$A$2:$A$8270,Sheet3!$B$1,Sheet4!$B$2:$B$8270,Sheet3!$A$3)","v":91},{"$f":"+SUMIFS(Sheet4!$DM$2:$DM$8270,Sheet4!$C$2:$C$8270,Sheet3!$B28,Sheet4!$D$2:$D$8270,Sheet3!BJ$3,Sheet4!$E$2:$E$8270,Sheet3!BJ$4,Sheet4!$A$2:$A$8270,Sheet3!$B$1,Sheet4!$B$2:$B$8270,Sheet3!$A$3)","v":30},{"$f":"+SUMIFS(Sheet4!$DM$2:$DM$8270,Sheet4!$C$2:$C$8270,Sheet3!$B28,Sheet4!$D$2:$D$8270,Sheet3!BK$3,Sheet4!$E$2:$E$8270,Sheet3!BK$4,Sheet4!$A$2:$A$8270,Sheet3!$B$1,Sheet4!$B$2:$B$8270,Sheet3!$A$3)","v":0},{"$f":"+SUMIFS(Sheet4!$DM$2:$DM$8270,Sheet4!$C$2:$C$8270,Sheet3!$B28,Sheet4!$D$2:$D$8270,Sheet3!BL$3,Sheet4!$E$2:$E$8270,Sheet3!BL$4,Sheet4!$A$2:$A$8270,Sheet3!$B$1,Sheet4!$B$2:$B$8270,Sheet3!$A$3)","v":0},{"$f":"+SUMIFS(Sheet4!$DM$2:$DM$8270,Sheet4!$C$2:$C$8270,Sheet3!$B28,Sheet4!$D$2:$D$8270,Sheet3!BM$3,Sheet4!$E$2:$E$8270,Sheet3!BM$4,Sheet4!$A$2:$A$8270,Sheet3!$B$1,Sheet4!$B$2:$B$8270,Sheet3!$A$3)","v":23},{"$f":"+SUMIFS(Sheet4!$DM$2:$DM$8270,Sheet4!$C$2:$C$8270,Sheet3!$B28,Sheet4!$D$2:$D$8270,Sheet3!BN$3,Sheet4!$E$2:$E$8270,Sheet3!BN$4,Sheet4!$A$2:$A$8270,Sheet3!$B$1,Sheet4!$B$2:$B$8270,Sheet3!$A$3)","v":299},{"$f":"+SUMIFS(Sheet4!$DM$2:$DM$8270,Sheet4!$C$2:$C$8270,Sheet3!$B28,Sheet4!$D$2:$D$8270,Sheet3!BO$3,Sheet4!$E$2:$E$8270,Sheet3!BO$4,Sheet4!$A$2:$A$8270,Sheet3!$B$1,Sheet4!$B$2:$B$8270,Sheet3!$A$3)","v":272},{"$f":"+SUMIFS(Sheet4!$DM$2:$DM$8270,Sheet4!$C$2:$C$8270,Sheet3!$B28,Sheet4!$D$2:$D$8270,Sheet3!BP$3,Sheet4!$E$2:$E$8270,Sheet3!BP$4,Sheet4!$A$2:$A$8270,Sheet3!$B$1,Sheet4!$B$2:$B$8270,Sheet3!$A$3)","v":21},{"$f":"+SUMIFS(Sheet4!$DM$2:$DM$8270,Sheet4!$C$2:$C$8270,Sheet3!$B28,Sheet4!$D$2:$D$8270,Sheet3!BQ$3,Sheet4!$E$2:$E$8270,Sheet3!BQ$4,Sheet4!$A$2:$A$8270,Sheet3!$B$1,Sheet4!$B$2:$B$8270,Sheet3!$A$3)","v":465},{"$f":"+SUMIFS(Sheet4!$DM$2:$DM$8270,Sheet4!$C$2:$C$8270,Sheet3!$B28,Sheet4!$D$2:$D$8270,Sheet3!BR$3,Sheet4!$E$2:$E$8270,Sheet3!BR$4,Sheet4!$A$2:$A$8270,Sheet3!$B$1,Sheet4!$B$2:$B$8270,Sheet3!$A$3)","v":457},{"$f":"+SUMIFS(Sheet4!$DM$2:$DM$8270,Sheet4!$C$2:$C$8270,Sheet3!$B28,Sheet4!$D$2:$D$8270,Sheet3!BS$3,Sheet4!$E$2:$E$8270,Sheet3!BS$4,Sheet4!$A$2:$A$8270,Sheet3!$B$1,Sheet4!$B$2:$B$8270,Sheet3!$A$3)","v":297},{"$f":"+SUMIFS(Sheet4!$DM$2:$DM$8270,Sheet4!$C$2:$C$8270,Sheet3!$B28,Sheet4!$D$2:$D$8270,Sheet3!BT$3,Sheet4!$E$2:$E$8270,Sheet3!BT$4,Sheet4!$A$2:$A$8270,Sheet3!$B$1,Sheet4!$B$2:$B$8270,Sheet3!$A$3)","v":76},{"$f":"+SUMIFS(Sheet4!$DM$2:$DM$8270,Sheet4!$C$2:$C$8270,Sheet3!$B28,Sheet4!$D$2:$D$8270,Sheet3!BU$3,Sheet4!$E$2:$E$8270,Sheet3!BU$4,Sheet4!$A$2:$A$8270,Sheet3!$B$1,Sheet4!$B$2:$B$8270,Sheet3!$A$3)","v":3},{"$f":"+SUMIFS(Sheet4!$DM$2:$DM$8270,Sheet4!$C$2:$C$8270,Sheet3!$B28,Sheet4!$D$2:$D$8270,Sheet3!BV$3,Sheet4!$E$2:$E$8270,Sheet3!BV$4,Sheet4!$A$2:$A$8270,Sheet3!$B$1,Sheet4!$B$2:$B$8270,Sheet3!$A$3)","v":117},{"$f":"+SUMIFS(Sheet4!$DM$2:$DM$8270,Sheet4!$C$2:$C$8270,Sheet3!$B28,Sheet4!$D$2:$D$8270,Sheet3!BW$3,Sheet4!$E$2:$E$8270,Sheet3!BW$4,Sheet4!$A$2:$A$8270,Sheet3!$B$1,Sheet4!$B$2:$B$8270,Sheet3!$A$3)","v":131},{"$f":"+SUMIFS(Sheet4!$DM$2:$DM$8270,Sheet4!$C$2:$C$8270,Sheet3!$B28,Sheet4!$D$2:$D$8270,Sheet3!BX$3,Sheet4!$E$2:$E$8270,Sheet3!BX$4,Sheet4!$A$2:$A$8270,Sheet3!$B$1,Sheet4!$B$2:$B$8270,Sheet3!$A$3)","v":100},{"$f":"+SUMIFS(Sheet4!$DM$2:$DM$8270,Sheet4!$C$2:$C$8270,Sheet3!$B28,Sheet4!$D$2:$D$8270,Sheet3!BY$3,Sheet4!$E$2:$E$8270,Sheet3!BY$4,Sheet4!$A$2:$A$8270,Sheet3!$B$1,Sheet4!$B$2:$B$8270,Sheet3!$A$3)","v":61},{"$f":"+SUMIFS(Sheet4!$DM$2:$DM$8270,Sheet4!$C$2:$C$8270,Sheet3!$B28,Sheet4!$D$2:$D$8270,Sheet3!BZ$3,Sheet4!$E$2:$E$8270,Sheet3!BZ$4,Sheet4!$A$2:$A$8270,Sheet3!$B$1,Sheet4!$B$2:$B$8270,Sheet3!$A$3)","v":14},{"$f":"+SUMIFS(Sheet4!$DM$2:$DM$8270,Sheet4!$C$2:$C$8270,Sheet3!$B28,Sheet4!$D$2:$D$8270,Sheet3!CA$3,Sheet4!$E$2:$E$8270,Sheet3!CA$4,Sheet4!$A$2:$A$8270,Sheet3!$B$1,Sheet4!$B$2:$B$8270,Sheet3!$A$3)","v":92},{"$f":"+SUMIFS(Sheet4!$DM$2:$DM$8270,Sheet4!$C$2:$C$8270,Sheet3!$B28,Sheet4!$D$2:$D$8270,Sheet3!CB$3,Sheet4!$E$2:$E$8270,Sheet3!CB$4,Sheet4!$A$2:$A$8270,Sheet3!$B$1,Sheet4!$B$2:$B$8270,Sheet3!$A$3)","v":131},{"$f":"+SUMIFS(Sheet4!$DM$2:$DM$8270,Sheet4!$C$2:$C$8270,Sheet3!$B28,Sheet4!$D$2:$D$8270,Sheet3!CC$3,Sheet4!$E$2:$E$8270,Sheet3!CC$4,Sheet4!$A$2:$A$8270,Sheet3!$B$1,Sheet4!$B$2:$B$8270,Sheet3!$A$3)","v":193},{"$f":"+SUMIFS(Sheet4!$DM$2:$DM$8270,Sheet4!$C$2:$C$8270,Sheet3!$B28,Sheet4!$D$2:$D$8270,Sheet3!CD$3,Sheet4!$E$2:$E$8270,Sheet3!CD$4,Sheet4!$A$2:$A$8270,Sheet3!$B$1,Sheet4!$B$2:$B$8270,Sheet3!$A$3)","v":24},{"$f":"+SUMIFS(Sheet4!$DM$2:$DM$8270,Sheet4!$C$2:$C$8270,Sheet3!$B28,Sheet4!$D$2:$D$8270,Sheet3!CE$3,Sheet4!$E$2:$E$8270,Sheet3!CE$4,Sheet4!$A$2:$A$8270,Sheet3!$B$1,Sheet4!$B$2:$B$8270,Sheet3!$A$3)","v":0},{"$f":"+SUMIFS(Sheet4!$DM$2:$DM$8270,Sheet4!$C$2:$C$8270,Sheet3!$B28,Sheet4!$D$2:$D$8270,Sheet3!CF$3,Sheet4!$E$2:$E$8270,Sheet3!CF$4,Sheet4!$A$2:$A$8270,Sheet3!$B$1,Sheet4!$B$2:$B$8270,Sheet3!$A$3)","v":0},{"$f":"+SUMIFS(Sheet4!$DM$2:$DM$8270,Sheet4!$C$2:$C$8270,Sheet3!$B28,Sheet4!$D$2:$D$8270,Sheet3!CG$3,Sheet4!$E$2:$E$8270,Sheet3!CG$4,Sheet4!$A$2:$A$8270,Sheet3!$B$1,Sheet4!$B$2:$B$8270,Sheet3!$A$3)","v":0},{"$f":"+SUMIFS(Sheet4!$DM$2:$DM$8270,Sheet4!$C$2:$C$8270,Sheet3!$B28,Sheet4!$D$2:$D$8270,Sheet3!CH$3,Sheet4!$E$2:$E$8270,Sheet3!CH$4,Sheet4!$A$2:$A$8270,Sheet3!$B$1,Sheet4!$B$2:$B$8270,Sheet3!$A$3)","v":5},{"$f":"+SUMIFS(Sheet4!$DM$2:$DM$8270,Sheet4!$C$2:$C$8270,Sheet3!$B28,Sheet4!$D$2:$D$8270,Sheet3!CI$3,Sheet4!$E$2:$E$8270,Sheet3!CI$4,Sheet4!$A$2:$A$8270,Sheet3!$B$1,Sheet4!$B$2:$B$8270,Sheet3!$A$3)","v":0},{"$f":"+SUMIFS(Sheet4!$DM$2:$DM$8270,Sheet4!$C$2:$C$8270,Sheet3!$B28,Sheet4!$D$2:$D$8270,Sheet3!CJ$3,Sheet4!$E$2:$E$8270,Sheet3!CJ$4,Sheet4!$A$2:$A$8270,Sheet3!$B$1,Sheet4!$B$2:$B$8270,Sheet3!$A$3)","v":0},{"$f":"+SUMIFS(Sheet4!$DM$2:$DM$8270,Sheet4!$C$2:$C$8270,Sheet3!$B28,Sheet4!$D$2:$D$8270,Sheet3!CK$3,Sheet4!$E$2:$E$8270,Sheet3!CK$4,Sheet4!$A$2:$A$8270,Sheet3!$B$1,Sheet4!$B$2:$B$8270,Sheet3!$A$3)","v":0},{"$f":"+SUMIFS(Sheet4!$DM$2:$DM$8270,Sheet4!$C$2:$C$8270,Sheet3!$B28,Sheet4!$D$2:$D$8270,Sheet3!CL$3,Sheet4!$E$2:$E$8270,Sheet3!CL$4,Sheet4!$A$2:$A$8270,Sheet3!$B$1,Sheet4!$B$2:$B$8270,Sheet3!$A$3)","v":0},{"$f":"+SUMIFS(Sheet4!$DM$2:$DM$8270,Sheet4!$C$2:$C$8270,Sheet3!$B28,Sheet4!$D$2:$D$8270,Sheet3!CM$3,Sheet4!$E$2:$E$8270,Sheet3!CM$4,Sheet4!$A$2:$A$8270,Sheet3!$B$1,Sheet4!$B$2:$B$8270,Sheet3!$A$3)","v":0},{"$f":"+SUMIFS(Sheet4!$DM$2:$DM$8270,Sheet4!$C$2:$C$8270,Sheet3!$B28,Sheet4!$D$2:$D$8270,Sheet3!CN$3,Sheet4!$E$2:$E$8270,Sheet3!CN$4,Sheet4!$A$2:$A$8270,Sheet3!$B$1,Sheet4!$B$2:$B$8270,Sheet3!$A$3)","v":0},{"$f":"+SUMIFS(Sheet4!$DM$2:$DM$8270,Sheet4!$C$2:$C$8270,Sheet3!$B28,Sheet4!$D$2:$D$8270,Sheet3!CO$3,Sheet4!$E$2:$E$8270,Sheet3!CO$4,Sheet4!$A$2:$A$8270,Sheet3!$B$1,Sheet4!$B$2:$B$8270,Sheet3!$A$3)","v":0},{"$f":"+IF(SUMIFS(Sheet4!$DN$2:$DN$8270,Sheet4!$C$2:$C$8270,Sheet3!$B28,Sheet4!$D$2:$D$8270,Sheet3!CP$3,Sheet4!$A$2:$A$8270,Sheet3!$B$1,Sheet4!$B$2:$B$8270,Sheet3!$A$3)<3,0,SUMIFS(Sheet4!$DN$2:$DN$8270,Sheet4!$C$2:$C$8270,Sheet3!$B28,Sheet4!$D$2:$D$8270,Sheet3!CP$3,Sheet4!$A$2:$A$8270,Sheet3!$B$1,Sheet4!$B$2:$B$8270,Sheet3!$A$3))","v":8},{"$f":"+IF(SUMIFS(Sheet4!$DN$2:$DN$8270,Sheet4!$C$2:$C$8270,Sheet3!$B28,Sheet4!$D$2:$D$8270,Sheet3!CQ$3,Sheet4!$A$2:$A$8270,Sheet3!$B$1,Sheet4!$B$2:$B$8270,Sheet3!$A$3)<3,0,SUMIFS(Sheet4!$DN$2:$DN$8270,Sheet4!$C$2:$C$8270,Sheet3!$B28,Sheet4!$D$2:$D$8270,Sheet3!CQ$3,Sheet4!$A$2:$A$8270,Sheet3!$B$1,Sheet4!$B$2:$B$8270,Sheet3!$A$3))","v":29},{"$f":"+IF(SUMIFS(Sheet4!$DN$2:$DN$8270,Sheet4!$C$2:$C$8270,Sheet3!$B28,Sheet4!$D$2:$D$8270,Sheet3!CR$3,Sheet4!$A$2:$A$8270,Sheet3!$B$1,Sheet4!$B$2:$B$8270,Sheet3!$A$3)<3,0,SUMIFS(Sheet4!$DN$2:$DN$8270,Sheet4!$C$2:$C$8270,Sheet3!$B28,Sheet4!$D$2:$D$8270,Sheet3!CR$3,Sheet4!$A$2:$A$8270,Sheet3!$B$1,Sheet4!$B$2:$B$8270,Sheet3!$A$3))","v":90},{"$f":"+IF(SUMIFS(Sheet4!$DN$2:$DN$8270,Sheet4!$C$2:$C$8270,Sheet3!$B28,Sheet4!$D$2:$D$8270,Sheet3!CS$3,Sheet4!$A$2:$A$8270,Sheet3!$B$1,Sheet4!$B$2:$B$8270,Sheet3!$A$3)<3,0,SUMIFS(Sheet4!$DN$2:$DN$8270,Sheet4!$C$2:$C$8270,Sheet3!$B28,Sheet4!$D$2:$D$8270,Sheet3!CS$3,Sheet4!$A$2:$A$8270,Sheet3!$B$1,Sheet4!$B$2:$B$8270,Sheet3!$A$3))","v":5},{"$f":"+IF(SUMIFS(Sheet4!$DN$2:$DN$8270,Sheet4!$C$2:$C$8270,Sheet3!$B28,Sheet4!$D$2:$D$8270,Sheet3!CT$3,Sheet4!$A$2:$A$8270,Sheet3!$B$1,Sheet4!$B$2:$B$8270,Sheet3!$A$3)<3,0,SUMIFS(Sheet4!$DN$2:$DN$8270,Sheet4!$C$2:$C$8270,Sheet3!$B28,Sheet4!$D$2:$D$8270,Sheet3!CT$3,Sheet4!$A$2:$A$8270,Sheet3!$B$1,Sheet4!$B$2:$B$8270,Sheet3!$A$3))","v":14},{"$f":"+IF(SUMIFS(Sheet4!$DN$2:$DN$8270,Sheet4!$C$2:$C$8270,Sheet3!$B28,Sheet4!$D$2:$D$8270,Sheet3!CU$3,Sheet4!$A$2:$A$8270,Sheet3!$B$1,Sheet4!$B$2:$B$8270,Sheet3!$A$3)<3,0,SUMIFS(Sheet4!$DN$2:$DN$8270,Sheet4!$C$2:$C$8270,Sheet3!$B28,Sheet4!$D$2:$D$8270,Sheet3!CU$3,Sheet4!$A$2:$A$8270,Sheet3!$B$1,Sheet4!$B$2:$B$8270,Sheet3!$A$3))","v":143},{"$f":"+IF(SUMIFS(Sheet4!$DN$2:$DN$8270,Sheet4!$C$2:$C$8270,Sheet3!$B28,Sheet4!$D$2:$D$8270,Sheet3!CV$3,Sheet4!$A$2:$A$8270,Sheet3!$B$1,Sheet4!$B$2:$B$8270,Sheet3!$A$3)<3,0,SUMIFS(Sheet4!$DN$2:$DN$8270,Sheet4!$C$2:$C$8270,Sheet3!$B28,Sheet4!$D$2:$D$8270,Sheet3!CV$3,Sheet4!$A$2:$A$8270,Sheet3!$B$1,Sheet4!$B$2:$B$8270,Sheet3!$A$3))","v":82},{"$f":"+IF(SUMIFS(Sheet4!$DN$2:$DN$8270,Sheet4!$C$2:$C$8270,Sheet3!$B28,Sheet4!$D$2:$D$8270,Sheet3!CW$3,Sheet4!$A$2:$A$8270,Sheet3!$B$1,Sheet4!$B$2:$B$8270,Sheet3!$A$3)<3,0,SUMIFS(Sheet4!$DN$2:$DN$8270,Sheet4!$C$2:$C$8270,Sheet3!$B28,Sheet4!$D$2:$D$8270,Sheet3!CW$3,Sheet4!$A$2:$A$8270,Sheet3!$B$1,Sheet4!$B$2:$B$8270,Sheet3!$A$3))","v":152},{"$f":"+IF(SUMIFS(Sheet4!$DN$2:$DN$8270,Sheet4!$C$2:$C$8270,Sheet3!$B28,Sheet4!$D$2:$D$8270,Sheet3!CX$3,Sheet4!$A$2:$A$8270,Sheet3!$B$1,Sheet4!$B$2:$B$8270,Sheet3!$A$3)<3,0,SUMIFS(Sheet4!$DN$2:$DN$8270,Sheet4!$C$2:$C$8270,Sheet3!$B28,Sheet4!$D$2:$D$8270,Sheet3!CX$3,Sheet4!$A$2:$A$8270,Sheet3!$B$1,Sheet4!$B$2:$B$8270,Sheet3!$A$3))","v":1288},{"$f":"+IF(SUMIFS(Sheet4!$DN$2:$DN$8270,Sheet4!$C$2:$C$8270,Sheet3!$B28,Sheet4!$D$2:$D$8270,Sheet3!CY$3,Sheet4!$A$2:$A$8270,Sheet3!$B$1,Sheet4!$B$2:$B$8270,Sheet3!$A$3)<3,0,SUMIFS(Sheet4!$DN$2:$DN$8270,Sheet4!$C$2:$C$8270,Sheet3!$B28,Sheet4!$D$2:$D$8270,Sheet3!CY$3,Sheet4!$A$2:$A$8270,Sheet3!$B$1,Sheet4!$B$2:$B$8270,Sheet3!$A$3))","v":844},{"$f":"+IF(SUMIFS(Sheet4!$DN$2:$DN$8270,Sheet4!$C$2:$C$8270,Sheet3!$B28,Sheet4!$D$2:$D$8270,Sheet3!CZ$3,Sheet4!$A$2:$A$8270,Sheet3!$B$1,Sheet4!$B$2:$B$8270,Sheet3!$A$3)<3,0,SUMIFS(Sheet4!$DN$2:$DN$8270,Sheet4!$C$2:$C$8270,Sheet3!$B28,Sheet4!$D$2:$D$8270,Sheet3!CZ$3,Sheet4!$A$2:$A$8270,Sheet3!$B$1,Sheet4!$B$2:$B$8270,Sheet3!$A$3))","v":14},{"$f":"+IF(SUMIFS(Sheet4!$DN$2:$DN$8270,Sheet4!$C$2:$C$8270,Sheet3!$B28,Sheet4!$D$2:$D$8270,Sheet3!DA$3,Sheet4!$A$2:$A$8270,Sheet3!$B$1,Sheet4!$B$2:$B$8270,Sheet3!$A$3)<3,0,SUMIFS(Sheet4!$DN$2:$DN$8270,Sheet4!$C$2:$C$8270,Sheet3!$B28,Sheet4!$D$2:$D$8270,Sheet3!DA$3,Sheet4!$A$2:$A$8270,Sheet3!$B$1,Sheet4!$B$2:$B$8270,Sheet3!$A$3))","v":189},{"$f":"+IF(SUMIFS(Sheet4!$DN$2:$DN$8270,Sheet4!$C$2:$C$8270,Sheet3!$B28,Sheet4!$D$2:$D$8270,Sheet3!DB$3,Sheet4!$A$2:$A$8270,Sheet3!$B$1,Sheet4!$B$2:$B$8270,Sheet3!$A$3)<3,0,SUMIFS(Sheet4!$DN$2:$DN$8270,Sheet4!$C$2:$C$8270,Sheet3!$B28,Sheet4!$D$2:$D$8270,Sheet3!DB$3,Sheet4!$A$2:$A$8270,Sheet3!$B$1,Sheet4!$B$2:$B$8270,Sheet3!$A$3))","v":621},{"$f":"+IF(SUMIFS(Sheet4!$DN$2:$DN$8270,Sheet4!$C$2:$C$8270,Sheet3!$B28,Sheet4!$D$2:$D$8270,Sheet3!DC$3,Sheet4!$A$2:$A$8270,Sheet3!$B$1,Sheet4!$B$2:$B$8270,Sheet3!$A$3)<3,0,SUMIFS(Sheet4!$DN$2:$DN$8270,Sheet4!$C$2:$C$8270,Sheet3!$B28,Sheet4!$D$2:$D$8270,Sheet3!DC$3,Sheet4!$A$2:$A$8270,Sheet3!$B$1,Sheet4!$B$2:$B$8270,Sheet3!$A$3))","v":1299},{"$f":"+IF(SUMIFS(Sheet4!$DN$2:$DN$8270,Sheet4!$C$2:$C$8270,Sheet3!$B28,Sheet4!$D$2:$D$8270,Sheet3!DD$3,Sheet4!$A$2:$A$8270,Sheet3!$B$1,Sheet4!$B$2:$B$8270,Sheet3!$A$3)<3,0,SUMIFS(Sheet4!$DN$2:$DN$8270,Sheet4!$C$2:$C$8270,Sheet3!$B28,Sheet4!$D$2:$D$8270,Sheet3!DD$3,Sheet4!$A$2:$A$8270,Sheet3!$B$1,Sheet4!$B$2:$B$8270,Sheet3!$A$3))","v":425},{"$f":"+IF(SUMIFS(Sheet4!$DN$2:$DN$8270,Sheet4!$C$2:$C$8270,Sheet3!$B28,Sheet4!$D$2:$D$8270,Sheet3!DE$3,Sheet4!$A$2:$A$8270,Sheet3!$B$1,Sheet4!$B$2:$B$8270,Sheet3!$A$3)<3,0,SUMIFS(Sheet4!$DN$2:$DN$8270,Sheet4!$C$2:$C$8270,Sheet3!$B28,Sheet4!$D$2:$D$8270,Sheet3!DE$3,Sheet4!$A$2:$A$8270,Sheet3!$B$1,Sheet4!$B$2:$B$8270,Sheet3!$A$3))","v":443},{"$f":"+IF(SUMIFS(Sheet4!$DN$2:$DN$8270,Sheet4!$C$2:$C$8270,Sheet3!$B28,Sheet4!$D$2:$D$8270,Sheet3!DF$3,Sheet4!$A$2:$A$8270,Sheet3!$B$1,Sheet4!$B$2:$B$8270,Sheet3!$A$3)<3,0,SUMIFS(Sheet4!$DN$2:$DN$8270,Sheet4!$C$2:$C$8270,Sheet3!$B28,Sheet4!$D$2:$D$8270,Sheet3!DF$3,Sheet4!$A$2:$A$8270,Sheet3!$B$1,Sheet4!$B$2:$B$8270,Sheet3!$A$3))","v":7},{"$f":"+IF(SUMIFS(Sheet4!$DN$2:$DN$8270,Sheet4!$C$2:$C$8270,Sheet3!$B28,Sheet4!$D$2:$D$8270,Sheet3!DG$3,Sheet4!$A$2:$A$8270,Sheet3!$B$1,Sheet4!$B$2:$B$8270,Sheet3!$A$3)<3,0,SUMIFS(Sheet4!$DN$2:$DN$8270,Sheet4!$C$2:$C$8270,Sheet3!$B28,Sheet4!$D$2:$D$8270,Sheet3!DG$3,Sheet4!$A$2:$A$8270,Sheet3!$B$1,Sheet4!$B$2:$B$8270,Sheet3!$A$3))","v":0},{"$f":"+IF(SUMIFS(Sheet4!$DN$2:$DN$8270,Sheet4!$C$2:$C$8270,Sheet3!$B28,Sheet4!$E$2:$E$8270,Sheet3!DH$4,Sheet4!$A$2:$A$8270,Sheet3!$B$1,Sheet4!$B$2:$B$8270,Sheet3!$A$3)<3,0,SUMIFS(Sheet4!$DN$2:$DN$8270,Sheet4!$C$2:$C$8270,Sheet3!$B28,Sheet4!$E$2:$E$8270,Sheet3!DH$4,Sheet4!$A$2:$A$8270,Sheet3!$B$1,Sheet4!$B$2:$B$8270,Sheet3!$A$3))","v":2103},{"$f":"+IF(SUMIFS(Sheet4!$DN$2:$DN$8270,Sheet4!$C$2:$C$8270,Sheet3!$B28,Sheet4!$E$2:$E$8270,Sheet3!DI$4,Sheet4!$A$2:$A$8270,Sheet3!$B$1,Sheet4!$B$2:$B$8270,Sheet3!$A$3)<3,0,SUMIFS(Sheet4!$DN$2:$DN$8270,Sheet4!$C$2:$C$8270,Sheet3!$B28,Sheet4!$E$2:$E$8270,Sheet3!DI$4,Sheet4!$A$2:$A$8270,Sheet3!$B$1,Sheet4!$B$2:$B$8270,Sheet3!$A$3))","v":1558},{"$f":"+IF(SUMIFS(Sheet4!$DN$2:$DN$8270,Sheet4!$C$2:$C$8270,Sheet3!$B28,Sheet4!$E$2:$E$8270,Sheet3!DJ$4,Sheet4!$A$2:$A$8270,Sheet3!$B$1,Sheet4!$B$2:$B$8270,Sheet3!$A$3)<3,0,SUMIFS(Sheet4!$DN$2:$DN$8270,Sheet4!$C$2:$C$8270,Sheet3!$B28,Sheet4!$E$2:$E$8270,Sheet3!DJ$4,Sheet4!$A$2:$A$8270,Sheet3!$B$1,Sheet4!$B$2:$B$8270,Sheet3!$A$3))","v":1405},{"$f":"+IF(SUMIFS(Sheet4!$DN$2:$DN$8270,Sheet4!$C$2:$C$8270,Sheet3!$B28,Sheet4!$E$2:$E$8270,Sheet3!DK$4,Sheet4!$A$2:$A$8270,Sheet3!$B$1,Sheet4!$B$2:$B$8270,Sheet3!$A$3)<3,0,SUMIFS(Sheet4!$DN$2:$DN$8270,Sheet4!$C$2:$C$8270,Sheet3!$B28,Sheet4!$E$2:$E$8270,Sheet3!DK$4,Sheet4!$A$2:$A$8270,Sheet3!$B$1,Sheet4!$B$2:$B$8270,Sheet3!$A$3))","v":546},{"$f":"+IF(SUMIFS(Sheet4!$DN$2:$DN$8270,Sheet4!$C$2:$C$8270,Sheet3!$B28,Sheet4!$E$2:$E$8270,Sheet3!DL$4,Sheet4!$A$2:$A$8270,Sheet3!$B$1,Sheet4!$B$2:$B$8270,Sheet3!$A$3)<3,0,SUMIFS(Sheet4!$DN$2:$DN$8270,Sheet4!$C$2:$C$8270,Sheet3!$B28,Sheet4!$E$2:$E$8270,Sheet3!DL$4,Sheet4!$A$2:$A$8270,Sheet3!$B$1,Sheet4!$B$2:$B$8270,Sheet3!$A$3))","v":43}]
[5,"187","Alentejo Central",{"$f":"+SUMIFS(Sheet4!$DM$2:$DM$8270,Sheet4!$C$2:$C$8270,Sheet3!$B29,Sheet4!$D$2:$D$8270,Sheet3!D$3,Sheet4!$E$2:$E$8270,Sheet3!D$4,Sheet4!$A$2:$A$8270,Sheet3!$B$1,Sheet4!$B$2:$B$8270,Sheet3!$A$3)","v":6},{"$f":"+SUMIFS(Sheet4!$DM$2:$DM$8270,Sheet4!$C$2:$C$8270,Sheet3!$B29,Sheet4!$D$2:$D$8270,Sheet3!E$3,Sheet4!$E$2:$E$8270,Sheet3!E$4,Sheet4!$A$2:$A$8270,Sheet3!$B$1,Sheet4!$B$2:$B$8270,Sheet3!$A$3)","v":6},{"$f":"+SUMIFS(Sheet4!$DM$2:$DM$8270,Sheet4!$C$2:$C$8270,Sheet3!$B29,Sheet4!$D$2:$D$8270,Sheet3!F$3,Sheet4!$E$2:$E$8270,Sheet3!F$4,Sheet4!$A$2:$A$8270,Sheet3!$B$1,Sheet4!$B$2:$B$8270,Sheet3!$A$3)","v":5},{"$f":"+SUMIFS(Sheet4!$DM$2:$DM$8270,Sheet4!$C$2:$C$8270,Sheet3!$B29,Sheet4!$D$2:$D$8270,Sheet3!G$3,Sheet4!$E$2:$E$8270,Sheet3!G$4,Sheet4!$A$2:$A$8270,Sheet3!$B$1,Sheet4!$B$2:$B$8270,Sheet3!$A$3)","v":5},{"$f":"+SUMIFS(Sheet4!$DM$2:$DM$8270,Sheet4!$C$2:$C$8270,Sheet3!$B29,Sheet4!$D$2:$D$8270,Sheet3!H$3,Sheet4!$E$2:$E$8270,Sheet3!H$4,Sheet4!$A$2:$A$8270,Sheet3!$B$1,Sheet4!$B$2:$B$8270,Sheet3!$A$3)","v":0},{"$f":"+SUMIFS(Sheet4!$DM$2:$DM$8270,Sheet4!$C$2:$C$8270,Sheet3!$B29,Sheet4!$D$2:$D$8270,Sheet3!I$3,Sheet4!$E$2:$E$8270,Sheet3!I$4,Sheet4!$A$2:$A$8270,Sheet3!$B$1,Sheet4!$B$2:$B$8270,Sheet3!$A$3)","v":12},{"$f":"+SUMIFS(Sheet4!$DM$2:$DM$8270,Sheet4!$C$2:$C$8270,Sheet3!$B29,Sheet4!$D$2:$D$8270,Sheet3!J$3,Sheet4!$E$2:$E$8270,Sheet3!J$4,Sheet4!$A$2:$A$8270,Sheet3!$B$1,Sheet4!$B$2:$B$8270,Sheet3!$A$3)","v":7},{"$f":"+SUMIFS(Sheet4!$DM$2:$DM$8270,Sheet4!$C$2:$C$8270,Sheet3!$B29,Sheet4!$D$2:$D$8270,Sheet3!K$3,Sheet4!$E$2:$E$8270,Sheet3!K$4,Sheet4!$A$2:$A$8270,Sheet3!$B$1,Sheet4!$B$2:$B$8270,Sheet3!$A$3)","v":4},{"$f":"+SUMIFS(Sheet4!$DM$2:$DM$8270,Sheet4!$C$2:$C$8270,Sheet3!$B29,Sheet4!$D$2:$D$8270,Sheet3!L$3,Sheet4!$E$2:$E$8270,Sheet3!L$4,Sheet4!$A$2:$A$8270,Sheet3!$B$1,Sheet4!$B$2:$B$8270,Sheet3!$A$3)","v":0},{"$f":"+SUMIFS(Sheet4!$DM$2:$DM$8270,Sheet4!$C$2:$C$8270,Sheet3!$B29,Sheet4!$D$2:$D$8270,Sheet3!M$3,Sheet4!$E$2:$E$8270,Sheet3!M$4,Sheet4!$A$2:$A$8270,Sheet3!$B$1,Sheet4!$B$2:$B$8270,Sheet3!$A$3)","v":0},{"$f":"+SUMIFS(Sheet4!$DM$2:$DM$8270,Sheet4!$C$2:$C$8270,Sheet3!$B29,Sheet4!$D$2:$D$8270,Sheet3!N$3,Sheet4!$E$2:$E$8270,Sheet3!N$4,Sheet4!$A$2:$A$8270,Sheet3!$B$1,Sheet4!$B$2:$B$8270,Sheet3!$A$3)","v":84},{"$f":"+SUMIFS(Sheet4!$DM$2:$DM$8270,Sheet4!$C$2:$C$8270,Sheet3!$B29,Sheet4!$D$2:$D$8270,Sheet3!O$3,Sheet4!$E$2:$E$8270,Sheet3!O$4,Sheet4!$A$2:$A$8270,Sheet3!$B$1,Sheet4!$B$2:$B$8270,Sheet3!$A$3)","v":108},{"$f":"+SUMIFS(Sheet4!$DM$2:$DM$8270,Sheet4!$C$2:$C$8270,Sheet3!$B29,Sheet4!$D$2:$D$8270,Sheet3!P$3,Sheet4!$E$2:$E$8270,Sheet3!P$4,Sheet4!$A$2:$A$8270,Sheet3!$B$1,Sheet4!$B$2:$B$8270,Sheet3!$A$3)","v":42},{"$f":"+SUMIFS(Sheet4!$DM$2:$DM$8270,Sheet4!$C$2:$C$8270,Sheet3!$B29,Sheet4!$D$2:$D$8270,Sheet3!Q$3,Sheet4!$E$2:$E$8270,Sheet3!Q$4,Sheet4!$A$2:$A$8270,Sheet3!$B$1,Sheet4!$B$2:$B$8270,Sheet3!$A$3)","v":7},{"$f":"+SUMIFS(Sheet4!$DM$2:$DM$8270,Sheet4!$C$2:$C$8270,Sheet3!$B29,Sheet4!$D$2:$D$8270,Sheet3!R$3,Sheet4!$E$2:$E$8270,Sheet3!R$4,Sheet4!$A$2:$A$8270,Sheet3!$B$1,Sheet4!$B$2:$B$8270,Sheet3!$A$3)","v":0},{"$f":"+SUMIFS(Sheet4!$DM$2:$DM$8270,Sheet4!$C$2:$C$8270,Sheet3!$B29,Sheet4!$D$2:$D$8270,Sheet3!S$3,Sheet4!$E$2:$E$8270,Sheet3!S$4,Sheet4!$A$2:$A$8270,Sheet3!$B$1,Sheet4!$B$2:$B$8270,Sheet3!$A$3)","v":0},{"$f":"+SUMIFS(Sheet4!$DM$2:$DM$8270,Sheet4!$C$2:$C$8270,Sheet3!$B29,Sheet4!$D$2:$D$8270,Sheet3!T$3,Sheet4!$E$2:$E$8270,Sheet3!T$4,Sheet4!$A$2:$A$8270,Sheet3!$B$1,Sheet4!$B$2:$B$8270,Sheet3!$A$3)","v":0},{"$f":"+SUMIFS(Sheet4!$DM$2:$DM$8270,Sheet4!$C$2:$C$8270,Sheet3!$B29,Sheet4!$D$2:$D$8270,Sheet3!U$3,Sheet4!$E$2:$E$8270,Sheet3!U$4,Sheet4!$A$2:$A$8270,Sheet3!$B$1,Sheet4!$B$2:$B$8270,Sheet3!$A$3)","v":5},{"$f":"+SUMIFS(Sheet4!$DM$2:$DM$8270,Sheet4!$C$2:$C$8270,Sheet3!$B29,Sheet4!$D$2:$D$8270,Sheet3!V$3,Sheet4!$E$2:$E$8270,Sheet3!V$4,Sheet4!$A$2:$A$8270,Sheet3!$B$1,Sheet4!$B$2:$B$8270,Sheet3!$A$3)","v":0},{"$f":"+SUMIFS(Sheet4!$DM$2:$DM$8270,Sheet4!$C$2:$C$8270,Sheet3!$B29,Sheet4!$D$2:$D$8270,Sheet3!W$3,Sheet4!$E$2:$E$8270,Sheet3!W$4,Sheet4!$A$2:$A$8270,Sheet3!$B$1,Sheet4!$B$2:$B$8270,Sheet3!$A$3)","v":0},{"$f":"+SUMIFS(Sheet4!$DM$2:$DM$8270,Sheet4!$C$2:$C$8270,Sheet3!$B29,Sheet4!$D$2:$D$8270,Sheet3!X$3,Sheet4!$E$2:$E$8270,Sheet3!X$4,Sheet4!$A$2:$A$8270,Sheet3!$B$1,Sheet4!$B$2:$B$8270,Sheet3!$A$3)","v":0},{"$f":"+SUMIFS(Sheet4!$DM$2:$DM$8270,Sheet4!$C$2:$C$8270,Sheet3!$B29,Sheet4!$D$2:$D$8270,Sheet3!Y$3,Sheet4!$E$2:$E$8270,Sheet3!Y$4,Sheet4!$A$2:$A$8270,Sheet3!$B$1,Sheet4!$B$2:$B$8270,Sheet3!$A$3)","v":6},{"$f":"+SUMIFS(Sheet4!$DM$2:$DM$8270,Sheet4!$C$2:$C$8270,Sheet3!$B29,Sheet4!$D$2:$D$8270,Sheet3!Z$3,Sheet4!$E$2:$E$8270,Sheet3!Z$4,Sheet4!$A$2:$A$8270,Sheet3!$B$1,Sheet4!$B$2:$B$8270,Sheet3!$A$3)","v":9},{"$f":"+SUMIFS(Sheet4!$DM$2:$DM$8270,Sheet4!$C$2:$C$8270,Sheet3!$B29,Sheet4!$D$2:$D$8270,Sheet3!AA$3,Sheet4!$E$2:$E$8270,Sheet3!AA$4,Sheet4!$A$2:$A$8270,Sheet3!$B$1,Sheet4!$B$2:$B$8270,Sheet3!$A$3)","v":0},{"$f":"+SUMIFS(Sheet4!$DM$2:$DM$8270,Sheet4!$C$2:$C$8270,Sheet3!$B29,Sheet4!$D$2:$D$8270,Sheet3!AB$3,Sheet4!$E$2:$E$8270,Sheet3!AB$4,Sheet4!$A$2:$A$8270,Sheet3!$B$1,Sheet4!$B$2:$B$8270,Sheet3!$A$3)","v":0},{"$f":"+SUMIFS(Sheet4!$DM$2:$DM$8270,Sheet4!$C$2:$C$8270,Sheet3!$B29,Sheet4!$D$2:$D$8270,Sheet3!AC$3,Sheet4!$E$2:$E$8270,Sheet3!AC$4,Sheet4!$A$2:$A$8270,Sheet3!$B$1,Sheet4!$B$2:$B$8270,Sheet3!$A$3)","v":56},{"$f":"+SUMIFS(Sheet4!$DM$2:$DM$8270,Sheet4!$C$2:$C$8270,Sheet3!$B29,Sheet4!$D$2:$D$8270,Sheet3!AD$3,Sheet4!$E$2:$E$8270,Sheet3!AD$4,Sheet4!$A$2:$A$8270,Sheet3!$B$1,Sheet4!$B$2:$B$8270,Sheet3!$A$3)","v":18},{"$f":"+SUMIFS(Sheet4!$DM$2:$DM$8270,Sheet4!$C$2:$C$8270,Sheet3!$B29,Sheet4!$D$2:$D$8270,Sheet3!AE$3,Sheet4!$E$2:$E$8270,Sheet3!AE$4,Sheet4!$A$2:$A$8270,Sheet3!$B$1,Sheet4!$B$2:$B$8270,Sheet3!$A$3)","v":38},{"$f":"+SUMIFS(Sheet4!$DM$2:$DM$8270,Sheet4!$C$2:$C$8270,Sheet3!$B29,Sheet4!$D$2:$D$8270,Sheet3!AF$3,Sheet4!$E$2:$E$8270,Sheet3!AF$4,Sheet4!$A$2:$A$8270,Sheet3!$B$1,Sheet4!$B$2:$B$8270,Sheet3!$A$3)","v":20},{"$f":"+SUMIFS(Sheet4!$DM$2:$DM$8270,Sheet4!$C$2:$C$8270,Sheet3!$B29,Sheet4!$D$2:$D$8270,Sheet3!AG$3,Sheet4!$E$2:$E$8270,Sheet3!AG$4,Sheet4!$A$2:$A$8270,Sheet3!$B$1,Sheet4!$B$2:$B$8270,Sheet3!$A$3)","v":0},{"$f":"+SUMIFS(Sheet4!$DM$2:$DM$8270,Sheet4!$C$2:$C$8270,Sheet3!$B29,Sheet4!$D$2:$D$8270,Sheet3!AH$3,Sheet4!$E$2:$E$8270,Sheet3!AH$4,Sheet4!$A$2:$A$8270,Sheet3!$B$1,Sheet4!$B$2:$B$8270,Sheet3!$A$3)","v":144},{"$f":"+SUMIFS(Sheet4!$DM$2:$DM$8270,Sheet4!$C$2:$C$8270,Sheet3!$B29,Sheet4!$D$2:$D$8270,Sheet3!AI$3,Sheet4!$E$2:$E$8270,Sheet3!AI$4,Sheet4!$A$2:$A$8270,Sheet3!$B$1,Sheet4!$B$2:$B$8270,Sheet3!$A$3)","v":296},{"$f":"+SUMIFS(Sheet4!$DM$2:$DM$8270,Sheet4!$C$2:$C$8270,Sheet3!$B29,Sheet4!$D$2:$D$8270,Sheet3!AJ$3,Sheet4!$E$2:$E$8270,Sheet3!AJ$4,Sheet4!$A$2:$A$8270,Sheet3!$B$1,Sheet4!$B$2:$B$8270,Sheet3!$A$3)","v":141},{"$f":"+SUMIFS(Sheet4!$DM$2:$DM$8270,Sheet4!$C$2:$C$8270,Sheet3!$B29,Sheet4!$D$2:$D$8270,Sheet3!AK$3,Sheet4!$E$2:$E$8270,Sheet3!AK$4,Sheet4!$A$2:$A$8270,Sheet3!$B$1,Sheet4!$B$2:$B$8270,Sheet3!$A$3)","v":14},{"$f":"+SUMIFS(Sheet4!$DM$2:$DM$8270,Sheet4!$C$2:$C$8270,Sheet3!$B29,Sheet4!$D$2:$D$8270,Sheet3!AL$3,Sheet4!$E$2:$E$8270,Sheet3!AL$4,Sheet4!$A$2:$A$8270,Sheet3!$B$1,Sheet4!$B$2:$B$8270,Sheet3!$A$3)","v":0},{"$f":"+SUMIFS(Sheet4!$DM$2:$DM$8270,Sheet4!$C$2:$C$8270,Sheet3!$B29,Sheet4!$D$2:$D$8270,Sheet3!AM$3,Sheet4!$E$2:$E$8270,Sheet3!AM$4,Sheet4!$A$2:$A$8270,Sheet3!$B$1,Sheet4!$B$2:$B$8270,Sheet3!$A$3)","v":87},{"$f":"+SUMIFS(Sheet4!$DM$2:$DM$8270,Sheet4!$C$2:$C$8270,Sheet3!$B29,Sheet4!$D$2:$D$8270,Sheet3!AN$3,Sheet4!$E$2:$E$8270,Sheet3!AN$4,Sheet4!$A$2:$A$8270,Sheet3!$B$1,Sheet4!$B$2:$B$8270,Sheet3!$A$3)","v":52},{"$f":"+SUMIFS(Sheet4!$DM$2:$DM$8270,Sheet4!$C$2:$C$8270,Sheet3!$B29,Sheet4!$D$2:$D$8270,Sheet3!AO$3,Sheet4!$E$2:$E$8270,Sheet3!AO$4,Sheet4!$A$2:$A$8270,Sheet3!$B$1,Sheet4!$B$2:$B$8270,Sheet3!$A$3)","v":45},{"$f":"+SUMIFS(Sheet4!$DM$2:$DM$8270,Sheet4!$C$2:$C$8270,Sheet3!$B29,Sheet4!$D$2:$D$8270,Sheet3!AP$3,Sheet4!$E$2:$E$8270,Sheet3!AP$4,Sheet4!$A$2:$A$8270,Sheet3!$B$1,Sheet4!$B$2:$B$8270,Sheet3!$A$3)","v":15},{"$f":"+SUMIFS(Sheet4!$DM$2:$DM$8270,Sheet4!$C$2:$C$8270,Sheet3!$B29,Sheet4!$D$2:$D$8270,Sheet3!AQ$3,Sheet4!$E$2:$E$8270,Sheet3!AQ$4,Sheet4!$A$2:$A$8270,Sheet3!$B$1,Sheet4!$B$2:$B$8270,Sheet3!$A$3)","v":0},{"$f":"+SUMIFS(Sheet4!$DM$2:$DM$8270,Sheet4!$C$2:$C$8270,Sheet3!$B29,Sheet4!$D$2:$D$8270,Sheet3!AR$3,Sheet4!$E$2:$E$8270,Sheet3!AR$4,Sheet4!$A$2:$A$8270,Sheet3!$B$1,Sheet4!$B$2:$B$8270,Sheet3!$A$3)","v":644},{"$f":"+SUMIFS(Sheet4!$DM$2:$DM$8270,Sheet4!$C$2:$C$8270,Sheet3!$B29,Sheet4!$D$2:$D$8270,Sheet3!AS$3,Sheet4!$E$2:$E$8270,Sheet3!AS$4,Sheet4!$A$2:$A$8270,Sheet3!$B$1,Sheet4!$B$2:$B$8270,Sheet3!$A$3)","v":192},{"$f":"+SUMIFS(Sheet4!$DM$2:$DM$8270,Sheet4!$C$2:$C$8270,Sheet3!$B29,Sheet4!$D$2:$D$8270,Sheet3!AT$3,Sheet4!$E$2:$E$8270,Sheet3!AT$4,Sheet4!$A$2:$A$8270,Sheet3!$B$1,Sheet4!$B$2:$B$8270,Sheet3!$A$3)","v":65},{"$f":"+SUMIFS(Sheet4!$DM$2:$DM$8270,Sheet4!$C$2:$C$8270,Sheet3!$B29,Sheet4!$D$2:$D$8270,Sheet3!AU$3,Sheet4!$E$2:$E$8270,Sheet3!AU$4,Sheet4!$A$2:$A$8270,Sheet3!$B$1,Sheet4!$B$2:$B$8270,Sheet3!$A$3)","v":15},{"$f":"+SUMIFS(Sheet4!$DM$2:$DM$8270,Sheet4!$C$2:$C$8270,Sheet3!$B29,Sheet4!$D$2:$D$8270,Sheet3!AV$3,Sheet4!$E$2:$E$8270,Sheet3!AV$4,Sheet4!$A$2:$A$8270,Sheet3!$B$1,Sheet4!$B$2:$B$8270,Sheet3!$A$3)","v":0},{"$f":"+SUMIFS(Sheet4!$DM$2:$DM$8270,Sheet4!$C$2:$C$8270,Sheet3!$B29,Sheet4!$D$2:$D$8270,Sheet3!AW$3,Sheet4!$E$2:$E$8270,Sheet3!AW$4,Sheet4!$A$2:$A$8270,Sheet3!$B$1,Sheet4!$B$2:$B$8270,Sheet3!$A$3)","v":317},{"$f":"+SUMIFS(Sheet4!$DM$2:$DM$8270,Sheet4!$C$2:$C$8270,Sheet3!$B29,Sheet4!$D$2:$D$8270,Sheet3!AX$3,Sheet4!$E$2:$E$8270,Sheet3!AX$4,Sheet4!$A$2:$A$8270,Sheet3!$B$1,Sheet4!$B$2:$B$8270,Sheet3!$A$3)","v":283},{"$f":"+SUMIFS(Sheet4!$DM$2:$DM$8270,Sheet4!$C$2:$C$8270,Sheet3!$B29,Sheet4!$D$2:$D$8270,Sheet3!AY$3,Sheet4!$E$2:$E$8270,Sheet3!AY$4,Sheet4!$A$2:$A$8270,Sheet3!$B$1,Sheet4!$B$2:$B$8270,Sheet3!$A$3)","v":130},{"$f":"+SUMIFS(Sheet4!$DM$2:$DM$8270,Sheet4!$C$2:$C$8270,Sheet3!$B29,Sheet4!$D$2:$D$8270,Sheet3!AZ$3,Sheet4!$E$2:$E$8270,Sheet3!AZ$4,Sheet4!$A$2:$A$8270,Sheet3!$B$1,Sheet4!$B$2:$B$8270,Sheet3!$A$3)","v":37},{"$f":"+SUMIFS(Sheet4!$DM$2:$DM$8270,Sheet4!$C$2:$C$8270,Sheet3!$B29,Sheet4!$D$2:$D$8270,Sheet3!BA$3,Sheet4!$E$2:$E$8270,Sheet3!BA$4,Sheet4!$A$2:$A$8270,Sheet3!$B$1,Sheet4!$B$2:$B$8270,Sheet3!$A$3)","v":0},{"$f":"+SUMIFS(Sheet4!$DM$2:$DM$8270,Sheet4!$C$2:$C$8270,Sheet3!$B29,Sheet4!$D$2:$D$8270,Sheet3!BB$3,Sheet4!$E$2:$E$8270,Sheet3!BB$4,Sheet4!$A$2:$A$8270,Sheet3!$B$1,Sheet4!$B$2:$B$8270,Sheet3!$A$3)","v":0},{"$f":"+SUMIFS(Sheet4!$DM$2:$DM$8270,Sheet4!$C$2:$C$8270,Sheet3!$B29,Sheet4!$D$2:$D$8270,Sheet3!BC$3,Sheet4!$E$2:$E$8270,Sheet3!BC$4,Sheet4!$A$2:$A$8270,Sheet3!$B$1,Sheet4!$B$2:$B$8270,Sheet3!$A$3)","v":5},{"$f":"+SUMIFS(Sheet4!$DM$2:$DM$8270,Sheet4!$C$2:$C$8270,Sheet3!$B29,Sheet4!$D$2:$D$8270,Sheet3!BD$3,Sheet4!$E$2:$E$8270,Sheet3!BD$4,Sheet4!$A$2:$A$8270,Sheet3!$B$1,Sheet4!$B$2:$B$8270,Sheet3!$A$3)","v":15},{"$f":"+SUMIFS(Sheet4!$DM$2:$DM$8270,Sheet4!$C$2:$C$8270,Sheet3!$B29,Sheet4!$D$2:$D$8270,Sheet3!BE$3,Sheet4!$E$2:$E$8270,Sheet3!BE$4,Sheet4!$A$2:$A$8270,Sheet3!$B$1,Sheet4!$B$2:$B$8270,Sheet3!$A$3)","v":4},{"$f":"+SUMIFS(Sheet4!$DM$2:$DM$8270,Sheet4!$C$2:$C$8270,Sheet3!$B29,Sheet4!$D$2:$D$8270,Sheet3!BF$3,Sheet4!$E$2:$E$8270,Sheet3!BF$4,Sheet4!$A$2:$A$8270,Sheet3!$B$1,Sheet4!$B$2:$B$8270,Sheet3!$A$3)","v":0},{"$f":"+SUMIFS(Sheet4!$DM$2:$DM$8270,Sheet4!$C$2:$C$8270,Sheet3!$B29,Sheet4!$D$2:$D$8270,Sheet3!BG$3,Sheet4!$E$2:$E$8270,Sheet3!BG$4,Sheet4!$A$2:$A$8270,Sheet3!$B$1,Sheet4!$B$2:$B$8270,Sheet3!$A$3)","v":63},{"$f":"+SUMIFS(Sheet4!$DM$2:$DM$8270,Sheet4!$C$2:$C$8270,Sheet3!$B29,Sheet4!$D$2:$D$8270,Sheet3!BH$3,Sheet4!$E$2:$E$8270,Sheet3!BH$4,Sheet4!$A$2:$A$8270,Sheet3!$B$1,Sheet4!$B$2:$B$8270,Sheet3!$A$3)","v":32},{"$f":"+SUMIFS(Sheet4!$DM$2:$DM$8270,Sheet4!$C$2:$C$8270,Sheet3!$B29,Sheet4!$D$2:$D$8270,Sheet3!BI$3,Sheet4!$E$2:$E$8270,Sheet3!BI$4,Sheet4!$A$2:$A$8270,Sheet3!$B$1,Sheet4!$B$2:$B$8270,Sheet3!$A$3)","v":105},{"$f":"+SUMIFS(Sheet4!$DM$2:$DM$8270,Sheet4!$C$2:$C$8270,Sheet3!$B29,Sheet4!$D$2:$D$8270,Sheet3!BJ$3,Sheet4!$E$2:$E$8270,Sheet3!BJ$4,Sheet4!$A$2:$A$8270,Sheet3!$B$1,Sheet4!$B$2:$B$8270,Sheet3!$A$3)","v":38},{"$f":"+SUMIFS(Sheet4!$DM$2:$DM$8270,Sheet4!$C$2:$C$8270,Sheet3!$B29,Sheet4!$D$2:$D$8270,Sheet3!BK$3,Sheet4!$E$2:$E$8270,Sheet3!BK$4,Sheet4!$A$2:$A$8270,Sheet3!$B$1,Sheet4!$B$2:$B$8270,Sheet3!$A$3)","v":0},{"$f":"+SUMIFS(Sheet4!$DM$2:$DM$8270,Sheet4!$C$2:$C$8270,Sheet3!$B29,Sheet4!$D$2:$D$8270,Sheet3!BL$3,Sheet4!$E$2:$E$8270,Sheet3!BL$4,Sheet4!$A$2:$A$8270,Sheet3!$B$1,Sheet4!$B$2:$B$8270,Sheet3!$A$3)","v":0},{"$f":"+SUMIFS(Sheet4!$DM$2:$DM$8270,Sheet4!$C$2:$C$8270,Sheet3!$B29,Sheet4!$D$2:$D$8270,Sheet3!BM$3,Sheet4!$E$2:$E$8270,Sheet3!BM$4,Sheet4!$A$2:$A$8270,Sheet3!$B$1,Sheet4!$B$2:$B$8270,Sheet3!$A$3)","v":16},{"$f":"+SUMIFS(Sheet4!$DM$2:$DM$8270,Sheet4!$C$2:$C$8270,Sheet3!$B29,Sheet4!$D$2:$D$8270,Sheet3!BN$3,Sheet4!$E$2:$E$8270,Sheet3!BN$4,Sheet4!$A$2:$A$8270,Sheet3!$B$1,Sheet4!$B$2:$B$8270,Sheet3!$A$3)","v":239},{"$f":"+SUMIFS(Sheet4!$DM$2:$DM$8270,Sheet4!$C$2:$C$8270,Sheet3!$B29,Sheet4!$D$2:$D$8270,Sheet3!BO$3,Sheet4!$E$2:$E$8270,Sheet3!BO$4,Sheet4!$A$2:$A$8270,Sheet3!$B$1,Sheet4!$B$2:$B$8270,Sheet3!$A$3)","v":386},{"$f":"+SUMIFS(Sheet4!$DM$2:$DM$8270,Sheet4!$C$2:$C$8270,Sheet3!$B29,Sheet4!$D$2:$D$8270,Sheet3!BP$3,Sheet4!$E$2:$E$8270,Sheet3!BP$4,Sheet4!$A$2:$A$8270,Sheet3!$B$1,Sheet4!$B$2:$B$8270,Sheet3!$A$3)","v":31},{"$f":"+SUMIFS(Sheet4!$DM$2:$DM$8270,Sheet4!$C$2:$C$8270,Sheet3!$B29,Sheet4!$D$2:$D$8270,Sheet3!BQ$3,Sheet4!$E$2:$E$8270,Sheet3!BQ$4,Sheet4!$A$2:$A$8270,Sheet3!$B$1,Sheet4!$B$2:$B$8270,Sheet3!$A$3)","v":600},{"$f":"+SUMIFS(Sheet4!$DM$2:$DM$8270,Sheet4!$C$2:$C$8270,Sheet3!$B29,Sheet4!$D$2:$D$8270,Sheet3!BR$3,Sheet4!$E$2:$E$8270,Sheet3!BR$4,Sheet4!$A$2:$A$8270,Sheet3!$B$1,Sheet4!$B$2:$B$8270,Sheet3!$A$3)","v":387},{"$f":"+SUMIFS(Sheet4!$DM$2:$DM$8270,Sheet4!$C$2:$C$8270,Sheet3!$B29,Sheet4!$D$2:$D$8270,Sheet3!BS$3,Sheet4!$E$2:$E$8270,Sheet3!BS$4,Sheet4!$A$2:$A$8270,Sheet3!$B$1,Sheet4!$B$2:$B$8270,Sheet3!$A$3)","v":287},{"$f":"+SUMIFS(Sheet4!$DM$2:$DM$8270,Sheet4!$C$2:$C$8270,Sheet3!$B29,Sheet4!$D$2:$D$8270,Sheet3!BT$3,Sheet4!$E$2:$E$8270,Sheet3!BT$4,Sheet4!$A$2:$A$8270,Sheet3!$B$1,Sheet4!$B$2:$B$8270,Sheet3!$A$3)","v":78},{"$f":"+SUMIFS(Sheet4!$DM$2:$DM$8270,Sheet4!$C$2:$C$8270,Sheet3!$B29,Sheet4!$D$2:$D$8270,Sheet3!BU$3,Sheet4!$E$2:$E$8270,Sheet3!BU$4,Sheet4!$A$2:$A$8270,Sheet3!$B$1,Sheet4!$B$2:$B$8270,Sheet3!$A$3)","v":7},{"$f":"+SUMIFS(Sheet4!$DM$2:$DM$8270,Sheet4!$C$2:$C$8270,Sheet3!$B29,Sheet4!$D$2:$D$8270,Sheet3!BV$3,Sheet4!$E$2:$E$8270,Sheet3!BV$4,Sheet4!$A$2:$A$8270,Sheet3!$B$1,Sheet4!$B$2:$B$8270,Sheet3!$A$3)","v":111},{"$f":"+SUMIFS(Sheet4!$DM$2:$DM$8270,Sheet4!$C$2:$C$8270,Sheet3!$B29,Sheet4!$D$2:$D$8270,Sheet3!BW$3,Sheet4!$E$2:$E$8270,Sheet3!BW$4,Sheet4!$A$2:$A$8270,Sheet3!$B$1,Sheet4!$B$2:$B$8270,Sheet3!$A$3)","v":141},{"$f":"+SUMIFS(Sheet4!$DM$2:$DM$8270,Sheet4!$C$2:$C$8270,Sheet3!$B29,Sheet4!$D$2:$D$8270,Sheet3!BX$3,Sheet4!$E$2:$E$8270,Sheet3!BX$4,Sheet4!$A$2:$A$8270,Sheet3!$B$1,Sheet4!$B$2:$B$8270,Sheet3!$A$3)","v":113},{"$f":"+SUMIFS(Sheet4!$DM$2:$DM$8270,Sheet4!$C$2:$C$8270,Sheet3!$B29,Sheet4!$D$2:$D$8270,Sheet3!BY$3,Sheet4!$E$2:$E$8270,Sheet3!BY$4,Sheet4!$A$2:$A$8270,Sheet3!$B$1,Sheet4!$B$2:$B$8270,Sheet3!$A$3)","v":97},{"$f":"+SUMIFS(Sheet4!$DM$2:$DM$8270,Sheet4!$C$2:$C$8270,Sheet3!$B29,Sheet4!$D$2:$D$8270,Sheet3!BZ$3,Sheet4!$E$2:$E$8270,Sheet3!BZ$4,Sheet4!$A$2:$A$8270,Sheet3!$B$1,Sheet4!$B$2:$B$8270,Sheet3!$A$3)","v":14},{"$f":"+SUMIFS(Sheet4!$DM$2:$DM$8270,Sheet4!$C$2:$C$8270,Sheet3!$B29,Sheet4!$D$2:$D$8270,Sheet3!CA$3,Sheet4!$E$2:$E$8270,Sheet3!CA$4,Sheet4!$A$2:$A$8270,Sheet3!$B$1,Sheet4!$B$2:$B$8270,Sheet3!$A$3)","v":148},{"$f":"+SUMIFS(Sheet4!$DM$2:$DM$8270,Sheet4!$C$2:$C$8270,Sheet3!$B29,Sheet4!$D$2:$D$8270,Sheet3!CB$3,Sheet4!$E$2:$E$8270,Sheet3!CB$4,Sheet4!$A$2:$A$8270,Sheet3!$B$1,Sheet4!$B$2:$B$8270,Sheet3!$A$3)","v":220},{"$f":"+SUMIFS(Sheet4!$DM$2:$DM$8270,Sheet4!$C$2:$C$8270,Sheet3!$B29,Sheet4!$D$2:$D$8270,Sheet3!CC$3,Sheet4!$E$2:$E$8270,Sheet3!CC$4,Sheet4!$A$2:$A$8270,Sheet3!$B$1,Sheet4!$B$2:$B$8270,Sheet3!$A$3)","v":330},{"$f":"+SUMIFS(Sheet4!$DM$2:$DM$8270,Sheet4!$C$2:$C$8270,Sheet3!$B29,Sheet4!$D$2:$D$8270,Sheet3!CD$3,Sheet4!$E$2:$E$8270,Sheet3!CD$4,Sheet4!$A$2:$A$8270,Sheet3!$B$1,Sheet4!$B$2:$B$8270,Sheet3!$A$3)","v":53},{"$f":"+SUMIFS(Sheet4!$DM$2:$DM$8270,Sheet4!$C$2:$C$8270,Sheet3!$B29,Sheet4!$D$2:$D$8270,Sheet3!CE$3,Sheet4!$E$2:$E$8270,Sheet3!CE$4,Sheet4!$A$2:$A$8270,Sheet3!$B$1,Sheet4!$B$2:$B$8270,Sheet3!$A$3)","v":0},{"$f":"+SUMIFS(Sheet4!$DM$2:$DM$8270,Sheet4!$C$2:$C$8270,Sheet3!$B29,Sheet4!$D$2:$D$8270,Sheet3!CF$3,Sheet4!$E$2:$E$8270,Sheet3!CF$4,Sheet4!$A$2:$A$8270,Sheet3!$B$1,Sheet4!$B$2:$B$8270,Sheet3!$A$3)","v":0},{"$f":"+SUMIFS(Sheet4!$DM$2:$DM$8270,Sheet4!$C$2:$C$8270,Sheet3!$B29,Sheet4!$D$2:$D$8270,Sheet3!CG$3,Sheet4!$E$2:$E$8270,Sheet3!CG$4,Sheet4!$A$2:$A$8270,Sheet3!$B$1,Sheet4!$B$2:$B$8270,Sheet3!$A$3)","v":0},{"$f":"+SUMIFS(Sheet4!$DM$2:$DM$8270,Sheet4!$C$2:$C$8270,Sheet3!$B29,Sheet4!$D$2:$D$8270,Sheet3!CH$3,Sheet4!$E$2:$E$8270,Sheet3!CH$4,Sheet4!$A$2:$A$8270,Sheet3!$B$1,Sheet4!$B$2:$B$8270,Sheet3!$A$3)","v":7},{"$f":"+SUMIFS(Sheet4!$DM$2:$DM$8270,Sheet4!$C$2:$C$8270,Sheet3!$B29,Sheet4!$D$2:$D$8270,Sheet3!CI$3,Sheet4!$E$2:$E$8270,Sheet3!CI$4,Sheet4!$A$2:$A$8270,Sheet3!$B$1,Sheet4!$B$2:$B$8270,Sheet3!$A$3)","v":0},{"$f":"+SUMIFS(Sheet4!$DM$2:$DM$8270,Sheet4!$C$2:$C$8270,Sheet3!$B29,Sheet4!$D$2:$D$8270,Sheet3!CJ$3,Sheet4!$E$2:$E$8270,Sheet3!CJ$4,Sheet4!$A$2:$A$8270,Sheet3!$B$1,Sheet4!$B$2:$B$8270,Sheet3!$A$3)","v":0},{"$f":"+SUMIFS(Sheet4!$DM$2:$DM$8270,Sheet4!$C$2:$C$8270,Sheet3!$B29,Sheet4!$D$2:$D$8270,Sheet3!CK$3,Sheet4!$E$2:$E$8270,Sheet3!CK$4,Sheet4!$A$2:$A$8270,Sheet3!$B$1,Sheet4!$B$2:$B$8270,Sheet3!$A$3)","v":0},{"$f":"+SUMIFS(Sheet4!$DM$2:$DM$8270,Sheet4!$C$2:$C$8270,Sheet3!$B29,Sheet4!$D$2:$D$8270,Sheet3!CL$3,Sheet4!$E$2:$E$8270,Sheet3!CL$4,Sheet4!$A$2:$A$8270,Sheet3!$B$1,Sheet4!$B$2:$B$8270,Sheet3!$A$3)","v":0},{"$f":"+SUMIFS(Sheet4!$DM$2:$DM$8270,Sheet4!$C$2:$C$8270,Sheet3!$B29,Sheet4!$D$2:$D$8270,Sheet3!CM$3,Sheet4!$E$2:$E$8270,Sheet3!CM$4,Sheet4!$A$2:$A$8270,Sheet3!$B$1,Sheet4!$B$2:$B$8270,Sheet3!$A$3)","v":0},{"$f":"+SUMIFS(Sheet4!$DM$2:$DM$8270,Sheet4!$C$2:$C$8270,Sheet3!$B29,Sheet4!$D$2:$D$8270,Sheet3!CN$3,Sheet4!$E$2:$E$8270,Sheet3!CN$4,Sheet4!$A$2:$A$8270,Sheet3!$B$1,Sheet4!$B$2:$B$8270,Sheet3!$A$3)","v":0},{"$f":"+SUMIFS(Sheet4!$DM$2:$DM$8270,Sheet4!$C$2:$C$8270,Sheet3!$B29,Sheet4!$D$2:$D$8270,Sheet3!CO$3,Sheet4!$E$2:$E$8270,Sheet3!CO$4,Sheet4!$A$2:$A$8270,Sheet3!$B$1,Sheet4!$B$2:$B$8270,Sheet3!$A$3)","v":0},{"$f":"+IF(SUMIFS(Sheet4!$DN$2:$DN$8270,Sheet4!$C$2:$C$8270,Sheet3!$B29,Sheet4!$D$2:$D$8270,Sheet3!CP$3,Sheet4!$A$2:$A$8270,Sheet3!$B$1,Sheet4!$B$2:$B$8270,Sheet3!$A$3)<3,0,SUMIFS(Sheet4!$DN$2:$DN$8270,Sheet4!$C$2:$C$8270,Sheet3!$B29,Sheet4!$D$2:$D$8270,Sheet3!CP$3,Sheet4!$A$2:$A$8270,Sheet3!$B$1,Sheet4!$B$2:$B$8270,Sheet3!$A$3))","v":24},{"$f":"+IF(SUMIFS(Sheet4!$DN$2:$DN$8270,Sheet4!$C$2:$C$8270,Sheet3!$B29,Sheet4!$D$2:$D$8270,Sheet3!CQ$3,Sheet4!$A$2:$A$8270,Sheet3!$B$1,Sheet4!$B$2:$B$8270,Sheet3!$A$3)<3,0,SUMIFS(Sheet4!$DN$2:$DN$8270,Sheet4!$C$2:$C$8270,Sheet3!$B29,Sheet4!$D$2:$D$8270,Sheet3!CQ$3,Sheet4!$A$2:$A$8270,Sheet3!$B$1,Sheet4!$B$2:$B$8270,Sheet3!$A$3))","v":24},{"$f":"+IF(SUMIFS(Sheet4!$DN$2:$DN$8270,Sheet4!$C$2:$C$8270,Sheet3!$B29,Sheet4!$D$2:$D$8270,Sheet3!CR$3,Sheet4!$A$2:$A$8270,Sheet3!$B$1,Sheet4!$B$2:$B$8270,Sheet3!$A$3)<3,0,SUMIFS(Sheet4!$DN$2:$DN$8270,Sheet4!$C$2:$C$8270,Sheet3!$B29,Sheet4!$D$2:$D$8270,Sheet3!CR$3,Sheet4!$A$2:$A$8270,Sheet3!$B$1,Sheet4!$B$2:$B$8270,Sheet3!$A$3))","v":243},{"$f":"+IF(SUMIFS(Sheet4!$DN$2:$DN$8270,Sheet4!$C$2:$C$8270,Sheet3!$B29,Sheet4!$D$2:$D$8270,Sheet3!CS$3,Sheet4!$A$2:$A$8270,Sheet3!$B$1,Sheet4!$B$2:$B$8270,Sheet3!$A$3)<3,0,SUMIFS(Sheet4!$DN$2:$DN$8270,Sheet4!$C$2:$C$8270,Sheet3!$B29,Sheet4!$D$2:$D$8270,Sheet3!CS$3,Sheet4!$A$2:$A$8270,Sheet3!$B$1,Sheet4!$B$2:$B$8270,Sheet3!$A$3))","v":6},{"$f":"+IF(SUMIFS(Sheet4!$DN$2:$DN$8270,Sheet4!$C$2:$C$8270,Sheet3!$B29,Sheet4!$D$2:$D$8270,Sheet3!CT$3,Sheet4!$A$2:$A$8270,Sheet3!$B$1,Sheet4!$B$2:$B$8270,Sheet3!$A$3)<3,0,SUMIFS(Sheet4!$DN$2:$DN$8270,Sheet4!$C$2:$C$8270,Sheet3!$B29,Sheet4!$D$2:$D$8270,Sheet3!CT$3,Sheet4!$A$2:$A$8270,Sheet3!$B$1,Sheet4!$B$2:$B$8270,Sheet3!$A$3))","v":18},{"$f":"+IF(SUMIFS(Sheet4!$DN$2:$DN$8270,Sheet4!$C$2:$C$8270,Sheet3!$B29,Sheet4!$D$2:$D$8270,Sheet3!CU$3,Sheet4!$A$2:$A$8270,Sheet3!$B$1,Sheet4!$B$2:$B$8270,Sheet3!$A$3)<3,0,SUMIFS(Sheet4!$DN$2:$DN$8270,Sheet4!$C$2:$C$8270,Sheet3!$B29,Sheet4!$D$2:$D$8270,Sheet3!CU$3,Sheet4!$A$2:$A$8270,Sheet3!$B$1,Sheet4!$B$2:$B$8270,Sheet3!$A$3))","v":140},{"$f":"+IF(SUMIFS(Sheet4!$DN$2:$DN$8270,Sheet4!$C$2:$C$8270,Sheet3!$B29,Sheet4!$D$2:$D$8270,Sheet3!CV$3,Sheet4!$A$2:$A$8270,Sheet3!$B$1,Sheet4!$B$2:$B$8270,Sheet3!$A$3)<3,0,SUMIFS(Sheet4!$DN$2:$DN$8270,Sheet4!$C$2:$C$8270,Sheet3!$B29,Sheet4!$D$2:$D$8270,Sheet3!CV$3,Sheet4!$A$2:$A$8270,Sheet3!$B$1,Sheet4!$B$2:$B$8270,Sheet3!$A$3))","v":598},{"$f":"+IF(SUMIFS(Sheet4!$DN$2:$DN$8270,Sheet4!$C$2:$C$8270,Sheet3!$B29,Sheet4!$D$2:$D$8270,Sheet3!CW$3,Sheet4!$A$2:$A$8270,Sheet3!$B$1,Sheet4!$B$2:$B$8270,Sheet3!$A$3)<3,0,SUMIFS(Sheet4!$DN$2:$DN$8270,Sheet4!$C$2:$C$8270,Sheet3!$B29,Sheet4!$D$2:$D$8270,Sheet3!CW$3,Sheet4!$A$2:$A$8270,Sheet3!$B$1,Sheet4!$B$2:$B$8270,Sheet3!$A$3))","v":201},{"$f":"+IF(SUMIFS(Sheet4!$DN$2:$DN$8270,Sheet4!$C$2:$C$8270,Sheet3!$B29,Sheet4!$D$2:$D$8270,Sheet3!CX$3,Sheet4!$A$2:$A$8270,Sheet3!$B$1,Sheet4!$B$2:$B$8270,Sheet3!$A$3)<3,0,SUMIFS(Sheet4!$DN$2:$DN$8270,Sheet4!$C$2:$C$8270,Sheet3!$B29,Sheet4!$D$2:$D$8270,Sheet3!CX$3,Sheet4!$A$2:$A$8270,Sheet3!$B$1,Sheet4!$B$2:$B$8270,Sheet3!$A$3))","v":918},{"$f":"+IF(SUMIFS(Sheet4!$DN$2:$DN$8270,Sheet4!$C$2:$C$8270,Sheet3!$B29,Sheet4!$D$2:$D$8270,Sheet3!CY$3,Sheet4!$A$2:$A$8270,Sheet3!$B$1,Sheet4!$B$2:$B$8270,Sheet3!$A$3)<3,0,SUMIFS(Sheet4!$DN$2:$DN$8270,Sheet4!$C$2:$C$8270,Sheet3!$B29,Sheet4!$D$2:$D$8270,Sheet3!CY$3,Sheet4!$A$2:$A$8270,Sheet3!$B$1,Sheet4!$B$2:$B$8270,Sheet3!$A$3))","v":772},{"$f":"+IF(SUMIFS(Sheet4!$DN$2:$DN$8270,Sheet4!$C$2:$C$8270,Sheet3!$B29,Sheet4!$D$2:$D$8270,Sheet3!CZ$3,Sheet4!$A$2:$A$8270,Sheet3!$B$1,Sheet4!$B$2:$B$8270,Sheet3!$A$3)<3,0,SUMIFS(Sheet4!$DN$2:$DN$8270,Sheet4!$C$2:$C$8270,Sheet3!$B29,Sheet4!$D$2:$D$8270,Sheet3!CZ$3,Sheet4!$A$2:$A$8270,Sheet3!$B$1,Sheet4!$B$2:$B$8270,Sheet3!$A$3))","v":25},{"$f":"+IF(SUMIFS(Sheet4!$DN$2:$DN$8270,Sheet4!$C$2:$C$8270,Sheet3!$B29,Sheet4!$D$2:$D$8270,Sheet3!DA$3,Sheet4!$A$2:$A$8270,Sheet3!$B$1,Sheet4!$B$2:$B$8270,Sheet3!$A$3)<3,0,SUMIFS(Sheet4!$DN$2:$DN$8270,Sheet4!$C$2:$C$8270,Sheet3!$B29,Sheet4!$D$2:$D$8270,Sheet3!DA$3,Sheet4!$A$2:$A$8270,Sheet3!$B$1,Sheet4!$B$2:$B$8270,Sheet3!$A$3))","v":246},{"$f":"+IF(SUMIFS(Sheet4!$DN$2:$DN$8270,Sheet4!$C$2:$C$8270,Sheet3!$B29,Sheet4!$D$2:$D$8270,Sheet3!DB$3,Sheet4!$A$2:$A$8270,Sheet3!$B$1,Sheet4!$B$2:$B$8270,Sheet3!$A$3)<3,0,SUMIFS(Sheet4!$DN$2:$DN$8270,Sheet4!$C$2:$C$8270,Sheet3!$B29,Sheet4!$D$2:$D$8270,Sheet3!DB$3,Sheet4!$A$2:$A$8270,Sheet3!$B$1,Sheet4!$B$2:$B$8270,Sheet3!$A$3))","v":677},{"$f":"+IF(SUMIFS(Sheet4!$DN$2:$DN$8270,Sheet4!$C$2:$C$8270,Sheet3!$B29,Sheet4!$D$2:$D$8270,Sheet3!DC$3,Sheet4!$A$2:$A$8270,Sheet3!$B$1,Sheet4!$B$2:$B$8270,Sheet3!$A$3)<3,0,SUMIFS(Sheet4!$DN$2:$DN$8270,Sheet4!$C$2:$C$8270,Sheet3!$B29,Sheet4!$D$2:$D$8270,Sheet3!DC$3,Sheet4!$A$2:$A$8270,Sheet3!$B$1,Sheet4!$B$2:$B$8270,Sheet3!$A$3))","v":1361},{"$f":"+IF(SUMIFS(Sheet4!$DN$2:$DN$8270,Sheet4!$C$2:$C$8270,Sheet3!$B29,Sheet4!$D$2:$D$8270,Sheet3!DD$3,Sheet4!$A$2:$A$8270,Sheet3!$B$1,Sheet4!$B$2:$B$8270,Sheet3!$A$3)<3,0,SUMIFS(Sheet4!$DN$2:$DN$8270,Sheet4!$C$2:$C$8270,Sheet3!$B29,Sheet4!$D$2:$D$8270,Sheet3!DD$3,Sheet4!$A$2:$A$8270,Sheet3!$B$1,Sheet4!$B$2:$B$8270,Sheet3!$A$3))","v":478},{"$f":"+IF(SUMIFS(Sheet4!$DN$2:$DN$8270,Sheet4!$C$2:$C$8270,Sheet3!$B29,Sheet4!$D$2:$D$8270,Sheet3!DE$3,Sheet4!$A$2:$A$8270,Sheet3!$B$1,Sheet4!$B$2:$B$8270,Sheet3!$A$3)<3,0,SUMIFS(Sheet4!$DN$2:$DN$8270,Sheet4!$C$2:$C$8270,Sheet3!$B29,Sheet4!$D$2:$D$8270,Sheet3!DE$3,Sheet4!$A$2:$A$8270,Sheet3!$B$1,Sheet4!$B$2:$B$8270,Sheet3!$A$3))","v":755},{"$f":"+IF(SUMIFS(Sheet4!$DN$2:$DN$8270,Sheet4!$C$2:$C$8270,Sheet3!$B29,Sheet4!$D$2:$D$8270,Sheet3!DF$3,Sheet4!$A$2:$A$8270,Sheet3!$B$1,Sheet4!$B$2:$B$8270,Sheet3!$A$3)<3,0,SUMIFS(Sheet4!$DN$2:$DN$8270,Sheet4!$C$2:$C$8270,Sheet3!$B29,Sheet4!$D$2:$D$8270,Sheet3!DF$3,Sheet4!$A$2:$A$8270,Sheet3!$B$1,Sheet4!$B$2:$B$8270,Sheet3!$A$3))","v":7},{"$f":"+IF(SUMIFS(Sheet4!$DN$2:$DN$8270,Sheet4!$C$2:$C$8270,Sheet3!$B29,Sheet4!$D$2:$D$8270,Sheet3!DG$3,Sheet4!$A$2:$A$8270,Sheet3!$B$1,Sheet4!$B$2:$B$8270,Sheet3!$A$3)<3,0,SUMIFS(Sheet4!$DN$2:$DN$8270,Sheet4!$C$2:$C$8270,Sheet3!$B29,Sheet4!$D$2:$D$8270,Sheet3!DG$3,Sheet4!$A$2:$A$8270,Sheet3!$B$1,Sheet4!$B$2:$B$8270,Sheet3!$A$3))","v":0},{"$f":"+IF(SUMIFS(Sheet4!$DN$2:$DN$8270,Sheet4!$C$2:$C$8270,Sheet3!$B29,Sheet4!$E$2:$E$8270,Sheet3!DH$4,Sheet4!$A$2:$A$8270,Sheet3!$B$1,Sheet4!$B$2:$B$8270,Sheet3!$A$3)<3,0,SUMIFS(Sheet4!$DN$2:$DN$8270,Sheet4!$C$2:$C$8270,Sheet3!$B29,Sheet4!$E$2:$E$8270,Sheet3!DH$4,Sheet4!$A$2:$A$8270,Sheet3!$B$1,Sheet4!$B$2:$B$8270,Sheet3!$A$3))","v":2285},{"$f":"+IF(SUMIFS(Sheet4!$DN$2:$DN$8270,Sheet4!$C$2:$C$8270,Sheet3!$B29,Sheet4!$E$2:$E$8270,Sheet3!DI$4,Sheet4!$A$2:$A$8270,Sheet3!$B$1,Sheet4!$B$2:$B$8270,Sheet3!$A$3)<3,0,SUMIFS(Sheet4!$DN$2:$DN$8270,Sheet4!$C$2:$C$8270,Sheet3!$B29,Sheet4!$E$2:$E$8270,Sheet3!DI$4,Sheet4!$A$2:$A$8270,Sheet3!$B$1,Sheet4!$B$2:$B$8270,Sheet3!$A$3))","v":1777},{"$f":"+IF(SUMIFS(Sheet4!$DN$2:$DN$8270,Sheet4!$C$2:$C$8270,Sheet3!$B29,Sheet4!$E$2:$E$8270,Sheet3!DJ$4,Sheet4!$A$2:$A$8270,Sheet3!$B$1,Sheet4!$B$2:$B$8270,Sheet3!$A$3)<3,0,SUMIFS(Sheet4!$DN$2:$DN$8270,Sheet4!$C$2:$C$8270,Sheet3!$B29,Sheet4!$E$2:$E$8270,Sheet3!DJ$4,Sheet4!$A$2:$A$8270,Sheet3!$B$1,Sheet4!$B$2:$B$8270,Sheet3!$A$3))","v":1592},{"$f":"+IF(SUMIFS(Sheet4!$DN$2:$DN$8270,Sheet4!$C$2:$C$8270,Sheet3!$B29,Sheet4!$E$2:$E$8270,Sheet3!DK$4,Sheet4!$A$2:$A$8270,Sheet3!$B$1,Sheet4!$B$2:$B$8270,Sheet3!$A$3)<3,0,SUMIFS(Sheet4!$DN$2:$DN$8270,Sheet4!$C$2:$C$8270,Sheet3!$B29,Sheet4!$E$2:$E$8270,Sheet3!DK$4,Sheet4!$A$2:$A$8270,Sheet3!$B$1,Sheet4!$B$2:$B$8270,Sheet3!$A$3))","v":780},{"$f":"+IF(SUMIFS(Sheet4!$DN$2:$DN$8270,Sheet4!$C$2:$C$8270,Sheet3!$B29,Sheet4!$E$2:$E$8270,Sheet3!DL$4,Sheet4!$A$2:$A$8270,Sheet3!$B$1,Sheet4!$B$2:$B$8270,Sheet3!$A$3)<3,0,SUMIFS(Sheet4!$DN$2:$DN$8270,Sheet4!$C$2:$C$8270,Sheet3!$B29,Sheet4!$E$2:$E$8270,Sheet3!DL$4,Sheet4!$A$2:$A$8270,Sheet3!$B$1,Sheet4!$B$2:$B$8270,Sheet3!$A$3))","v":59}]
[5,"150","Algarve",{"$f":"+SUMIFS(Sheet4!$DM$2:$DM$8270,Sheet4!$C$2:$C$8270,Sheet3!$B30,Sheet4!$D$2:$D$8270,Sheet3!D$3,Sheet4!$E$2:$E$8270,Sheet3!D$4,Sheet4!$A$2:$A$8270,Sheet3!$B$1,Sheet4!$B$2:$B$8270,Sheet3!$A$3)","v":6},{"$f":"+SUMIFS(Sheet4!$DM$2:$DM$8270,Sheet4!$C$2:$C$8270,Sheet3!$B30,Sheet4!$D$2:$D$8270,Sheet3!E$3,Sheet4!$E$2:$E$8270,Sheet3!E$4,Sheet4!$A$2:$A$8270,Sheet3!$B$1,Sheet4!$B$2:$B$8270,Sheet3!$A$3)","v":0},{"$f":"+SUMIFS(Sheet4!$DM$2:$DM$8270,Sheet4!$C$2:$C$8270,Sheet3!$B30,Sheet4!$D$2:$D$8270,Sheet3!F$3,Sheet4!$E$2:$E$8270,Sheet3!F$4,Sheet4!$A$2:$A$8270,Sheet3!$B$1,Sheet4!$B$2:$B$8270,Sheet3!$A$3)","v":0},{"$f":"+SUMIFS(Sheet4!$DM$2:$DM$8270,Sheet4!$C$2:$C$8270,Sheet3!$B30,Sheet4!$D$2:$D$8270,Sheet3!G$3,Sheet4!$E$2:$E$8270,Sheet3!G$4,Sheet4!$A$2:$A$8270,Sheet3!$B$1,Sheet4!$B$2:$B$8270,Sheet3!$A$3)","v":0},{"$f":"+SUMIFS(Sheet4!$DM$2:$DM$8270,Sheet4!$C$2:$C$8270,Sheet3!$B30,Sheet4!$D$2:$D$8270,Sheet3!H$3,Sheet4!$E$2:$E$8270,Sheet3!H$4,Sheet4!$A$2:$A$8270,Sheet3!$B$1,Sheet4!$B$2:$B$8270,Sheet3!$A$3)","v":0},{"$f":"+SUMIFS(Sheet4!$DM$2:$DM$8270,Sheet4!$C$2:$C$8270,Sheet3!$B30,Sheet4!$D$2:$D$8270,Sheet3!I$3,Sheet4!$E$2:$E$8270,Sheet3!I$4,Sheet4!$A$2:$A$8270,Sheet3!$B$1,Sheet4!$B$2:$B$8270,Sheet3!$A$3)","v":0},{"$f":"+SUMIFS(Sheet4!$DM$2:$DM$8270,Sheet4!$C$2:$C$8270,Sheet3!$B30,Sheet4!$D$2:$D$8270,Sheet3!J$3,Sheet4!$E$2:$E$8270,Sheet3!J$4,Sheet4!$A$2:$A$8270,Sheet3!$B$1,Sheet4!$B$2:$B$8270,Sheet3!$A$3)","v":0},{"$f":"+SUMIFS(Sheet4!$DM$2:$DM$8270,Sheet4!$C$2:$C$8270,Sheet3!$B30,Sheet4!$D$2:$D$8270,Sheet3!K$3,Sheet4!$E$2:$E$8270,Sheet3!K$4,Sheet4!$A$2:$A$8270,Sheet3!$B$1,Sheet4!$B$2:$B$8270,Sheet3!$A$3)","v":0},{"$f":"+SUMIFS(Sheet4!$DM$2:$DM$8270,Sheet4!$C$2:$C$8270,Sheet3!$B30,Sheet4!$D$2:$D$8270,Sheet3!L$3,Sheet4!$E$2:$E$8270,Sheet3!L$4,Sheet4!$A$2:$A$8270,Sheet3!$B$1,Sheet4!$B$2:$B$8270,Sheet3!$A$3)","v":0},{"$f":"+SUMIFS(Sheet4!$DM$2:$DM$8270,Sheet4!$C$2:$C$8270,Sheet3!$B30,Sheet4!$D$2:$D$8270,Sheet3!M$3,Sheet4!$E$2:$E$8270,Sheet3!M$4,Sheet4!$A$2:$A$8270,Sheet3!$B$1,Sheet4!$B$2:$B$8270,Sheet3!$A$3)","v":0},{"$f":"+SUMIFS(Sheet4!$DM$2:$DM$8270,Sheet4!$C$2:$C$8270,Sheet3!$B30,Sheet4!$D$2:$D$8270,Sheet3!N$3,Sheet4!$E$2:$E$8270,Sheet3!N$4,Sheet4!$A$2:$A$8270,Sheet3!$B$1,Sheet4!$B$2:$B$8270,Sheet3!$A$3)","v":29},{"$f":"+SUMIFS(Sheet4!$DM$2:$DM$8270,Sheet4!$C$2:$C$8270,Sheet3!$B30,Sheet4!$D$2:$D$8270,Sheet3!O$3,Sheet4!$E$2:$E$8270,Sheet3!O$4,Sheet4!$A$2:$A$8270,Sheet3!$B$1,Sheet4!$B$2:$B$8270,Sheet3!$A$3)","v":27},{"$f":"+SUMIFS(Sheet4!$DM$2:$DM$8270,Sheet4!$C$2:$C$8270,Sheet3!$B30,Sheet4!$D$2:$D$8270,Sheet3!P$3,Sheet4!$E$2:$E$8270,Sheet3!P$4,Sheet4!$A$2:$A$8270,Sheet3!$B$1,Sheet4!$B$2:$B$8270,Sheet3!$A$3)","v":12},{"$f":"+SUMIFS(Sheet4!$DM$2:$DM$8270,Sheet4!$C$2:$C$8270,Sheet3!$B30,Sheet4!$D$2:$D$8270,Sheet3!Q$3,Sheet4!$E$2:$E$8270,Sheet3!Q$4,Sheet4!$A$2:$A$8270,Sheet3!$B$1,Sheet4!$B$2:$B$8270,Sheet3!$A$3)","v":0},{"$f":"+SUMIFS(Sheet4!$DM$2:$DM$8270,Sheet4!$C$2:$C$8270,Sheet3!$B30,Sheet4!$D$2:$D$8270,Sheet3!R$3,Sheet4!$E$2:$E$8270,Sheet3!R$4,Sheet4!$A$2:$A$8270,Sheet3!$B$1,Sheet4!$B$2:$B$8270,Sheet3!$A$3)","v":0},{"$f":"+SUMIFS(Sheet4!$DM$2:$DM$8270,Sheet4!$C$2:$C$8270,Sheet3!$B30,Sheet4!$D$2:$D$8270,Sheet3!S$3,Sheet4!$E$2:$E$8270,Sheet3!S$4,Sheet4!$A$2:$A$8270,Sheet3!$B$1,Sheet4!$B$2:$B$8270,Sheet3!$A$3)","v":0},{"$f":"+SUMIFS(Sheet4!$DM$2:$DM$8270,Sheet4!$C$2:$C$8270,Sheet3!$B30,Sheet4!$D$2:$D$8270,Sheet3!T$3,Sheet4!$E$2:$E$8270,Sheet3!T$4,Sheet4!$A$2:$A$8270,Sheet3!$B$1,Sheet4!$B$2:$B$8270,Sheet3!$A$3)","v":0},{"$f":"+SUMIFS(Sheet4!$DM$2:$DM$8270,Sheet4!$C$2:$C$8270,Sheet3!$B30,Sheet4!$D$2:$D$8270,Sheet3!U$3,Sheet4!$E$2:$E$8270,Sheet3!U$4,Sheet4!$A$2:$A$8270,Sheet3!$B$1,Sheet4!$B$2:$B$8270,Sheet3!$A$3)","v":0},{"$f":"+SUMIFS(Sheet4!$DM$2:$DM$8270,Sheet4!$C$2:$C$8270,Sheet3!$B30,Sheet4!$D$2:$D$8270,Sheet3!V$3,Sheet4!$E$2:$E$8270,Sheet3!V$4,Sheet4!$A$2:$A$8270,Sheet3!$B$1,Sheet4!$B$2:$B$8270,Sheet3!$A$3)","v":0},{"$f":"+SUMIFS(Sheet4!$DM$2:$DM$8270,Sheet4!$C$2:$C$8270,Sheet3!$B30,Sheet4!$D$2:$D$8270,Sheet3!W$3,Sheet4!$E$2:$E$8270,Sheet3!W$4,Sheet4!$A$2:$A$8270,Sheet3!$B$1,Sheet4!$B$2:$B$8270,Sheet3!$A$3)","v":0},{"$f":"+SUMIFS(Sheet4!$DM$2:$DM$8270,Sheet4!$C$2:$C$8270,Sheet3!$B30,Sheet4!$D$2:$D$8270,Sheet3!X$3,Sheet4!$E$2:$E$8270,Sheet3!X$4,Sheet4!$A$2:$A$8270,Sheet3!$B$1,Sheet4!$B$2:$B$8270,Sheet3!$A$3)","v":0},{"$f":"+SUMIFS(Sheet4!$DM$2:$DM$8270,Sheet4!$C$2:$C$8270,Sheet3!$B30,Sheet4!$D$2:$D$8270,Sheet3!Y$3,Sheet4!$E$2:$E$8270,Sheet3!Y$4,Sheet4!$A$2:$A$8270,Sheet3!$B$1,Sheet4!$B$2:$B$8270,Sheet3!$A$3)","v":0},{"$f":"+SUMIFS(Sheet4!$DM$2:$DM$8270,Sheet4!$C$2:$C$8270,Sheet3!$B30,Sheet4!$D$2:$D$8270,Sheet3!Z$3,Sheet4!$E$2:$E$8270,Sheet3!Z$4,Sheet4!$A$2:$A$8270,Sheet3!$B$1,Sheet4!$B$2:$B$8270,Sheet3!$A$3)","v":0},{"$f":"+SUMIFS(Sheet4!$DM$2:$DM$8270,Sheet4!$C$2:$C$8270,Sheet3!$B30,Sheet4!$D$2:$D$8270,Sheet3!AA$3,Sheet4!$E$2:$E$8270,Sheet3!AA$4,Sheet4!$A$2:$A$8270,Sheet3!$B$1,Sheet4!$B$2:$B$8270,Sheet3!$A$3)","v":0},{"$f":"+SUMIFS(Sheet4!$DM$2:$DM$8270,Sheet4!$C$2:$C$8270,Sheet3!$B30,Sheet4!$D$2:$D$8270,Sheet3!AB$3,Sheet4!$E$2:$E$8270,Sheet3!AB$4,Sheet4!$A$2:$A$8270,Sheet3!$B$1,Sheet4!$B$2:$B$8270,Sheet3!$A$3)","v":0},{"$f":"+SUMIFS(Sheet4!$DM$2:$DM$8270,Sheet4!$C$2:$C$8270,Sheet3!$B30,Sheet4!$D$2:$D$8270,Sheet3!AC$3,Sheet4!$E$2:$E$8270,Sheet3!AC$4,Sheet4!$A$2:$A$8270,Sheet3!$B$1,Sheet4!$B$2:$B$8270,Sheet3!$A$3)","v":165},{"$f":"+SUMIFS(Sheet4!$DM$2:$DM$8270,Sheet4!$C$2:$C$8270,Sheet3!$B30,Sheet4!$D$2:$D$8270,Sheet3!AD$3,Sheet4!$E$2:$E$8270,Sheet3!AD$4,Sheet4!$A$2:$A$8270,Sheet3!$B$1,Sheet4!$B$2:$B$8270,Sheet3!$A$3)","v":92},{"$f":"+SUMIFS(Sheet4!$DM$2:$DM$8270,Sheet4!$C$2:$C$8270,Sheet3!$B30,Sheet4!$D$2:$D$8270,Sheet3!AE$3,Sheet4!$E$2:$E$8270,Sheet3!AE$4,Sheet4!$A$2:$A$8270,Sheet3!$B$1,Sheet4!$B$2:$B$8270,Sheet3!$A$3)","v":4},{"$f":"+SUMIFS(Sheet4!$DM$2:$DM$8270,Sheet4!$C$2:$C$8270,Sheet3!$B30,Sheet4!$D$2:$D$8270,Sheet3!AF$3,Sheet4!$E$2:$E$8270,Sheet3!AF$4,Sheet4!$A$2:$A$8270,Sheet3!$B$1,Sheet4!$B$2:$B$8270,Sheet3!$A$3)","v":0},{"$f":"+SUMIFS(Sheet4!$DM$2:$DM$8270,Sheet4!$C$2:$C$8270,Sheet3!$B30,Sheet4!$D$2:$D$8270,Sheet3!AG$3,Sheet4!$E$2:$E$8270,Sheet3!AG$4,Sheet4!$A$2:$A$8270,Sheet3!$B$1,Sheet4!$B$2:$B$8270,Sheet3!$A$3)","v":0},{"$f":"+SUMIFS(Sheet4!$DM$2:$DM$8270,Sheet4!$C$2:$C$8270,Sheet3!$B30,Sheet4!$D$2:$D$8270,Sheet3!AH$3,Sheet4!$E$2:$E$8270,Sheet3!AH$4,Sheet4!$A$2:$A$8270,Sheet3!$B$1,Sheet4!$B$2:$B$8270,Sheet3!$A$3)","v":0},{"$f":"+SUMIFS(Sheet4!$DM$2:$DM$8270,Sheet4!$C$2:$C$8270,Sheet3!$B30,Sheet4!$D$2:$D$8270,Sheet3!AI$3,Sheet4!$E$2:$E$8270,Sheet3!AI$4,Sheet4!$A$2:$A$8270,Sheet3!$B$1,Sheet4!$B$2:$B$8270,Sheet3!$A$3)","v":0},{"$f":"+SUMIFS(Sheet4!$DM$2:$DM$8270,Sheet4!$C$2:$C$8270,Sheet3!$B30,Sheet4!$D$2:$D$8270,Sheet3!AJ$3,Sheet4!$E$2:$E$8270,Sheet3!AJ$4,Sheet4!$A$2:$A$8270,Sheet3!$B$1,Sheet4!$B$2:$B$8270,Sheet3!$A$3)","v":0},{"$f":"+SUMIFS(Sheet4!$DM$2:$DM$8270,Sheet4!$C$2:$C$8270,Sheet3!$B30,Sheet4!$D$2:$D$8270,Sheet3!AK$3,Sheet4!$E$2:$E$8270,Sheet3!AK$4,Sheet4!$A$2:$A$8270,Sheet3!$B$1,Sheet4!$B$2:$B$8270,Sheet3!$A$3)","v":0},{"$f":"+SUMIFS(Sheet4!$DM$2:$DM$8270,Sheet4!$C$2:$C$8270,Sheet3!$B30,Sheet4!$D$2:$D$8270,Sheet3!AL$3,Sheet4!$E$2:$E$8270,Sheet3!AL$4,Sheet4!$A$2:$A$8270,Sheet3!$B$1,Sheet4!$B$2:$B$8270,Sheet3!$A$3)","v":0},{"$f":"+SUMIFS(Sheet4!$DM$2:$DM$8270,Sheet4!$C$2:$C$8270,Sheet3!$B30,Sheet4!$D$2:$D$8270,Sheet3!AM$3,Sheet4!$E$2:$E$8270,Sheet3!AM$4,Sheet4!$A$2:$A$8270,Sheet3!$B$1,Sheet4!$B$2:$B$8270,Sheet3!$A$3)","v":370},{"$f":"+SUMIFS(Sheet4!$DM$2:$DM$8270,Sheet4!$C$2:$C$8270,Sheet3!$B30,Sheet4!$D$2:$D$8270,Sheet3!AN$3,Sheet4!$E$2:$E$8270,Sheet3!AN$4,Sheet4!$A$2:$A$8270,Sheet3!$B$1,Sheet4!$B$2:$B$8270,Sheet3!$A$3)","v":726},{"$f":"+SUMIFS(Sheet4!$DM$2:$DM$8270,Sheet4!$C$2:$C$8270,Sheet3!$B30,Sheet4!$D$2:$D$8270,Sheet3!AO$3,Sheet4!$E$2:$E$8270,Sheet3!AO$4,Sheet4!$A$2:$A$8270,Sheet3!$B$1,Sheet4!$B$2:$B$8270,Sheet3!$A$3)","v":205},{"$f":"+SUMIFS(Sheet4!$DM$2:$DM$8270,Sheet4!$C$2:$C$8270,Sheet3!$B30,Sheet4!$D$2:$D$8270,Sheet3!AP$3,Sheet4!$E$2:$E$8270,Sheet3!AP$4,Sheet4!$A$2:$A$8270,Sheet3!$B$1,Sheet4!$B$2:$B$8270,Sheet3!$A$3)","v":3},{"$f":"+SUMIFS(Sheet4!$DM$2:$DM$8270,Sheet4!$C$2:$C$8270,Sheet3!$B30,Sheet4!$D$2:$D$8270,Sheet3!AQ$3,Sheet4!$E$2:$E$8270,Sheet3!AQ$4,Sheet4!$A$2:$A$8270,Sheet3!$B$1,Sheet4!$B$2:$B$8270,Sheet3!$A$3)","v":0},{"$f":"+SUMIFS(Sheet4!$DM$2:$DM$8270,Sheet4!$C$2:$C$8270,Sheet3!$B30,Sheet4!$D$2:$D$8270,Sheet3!AR$3,Sheet4!$E$2:$E$8270,Sheet3!AR$4,Sheet4!$A$2:$A$8270,Sheet3!$B$1,Sheet4!$B$2:$B$8270,Sheet3!$A$3)","v":15},{"$f":"+SUMIFS(Sheet4!$DM$2:$DM$8270,Sheet4!$C$2:$C$8270,Sheet3!$B30,Sheet4!$D$2:$D$8270,Sheet3!AS$3,Sheet4!$E$2:$E$8270,Sheet3!AS$4,Sheet4!$A$2:$A$8270,Sheet3!$B$1,Sheet4!$B$2:$B$8270,Sheet3!$A$3)","v":0},{"$f":"+SUMIFS(Sheet4!$DM$2:$DM$8270,Sheet4!$C$2:$C$8270,Sheet3!$B30,Sheet4!$D$2:$D$8270,Sheet3!AT$3,Sheet4!$E$2:$E$8270,Sheet3!AT$4,Sheet4!$A$2:$A$8270,Sheet3!$B$1,Sheet4!$B$2:$B$8270,Sheet3!$A$3)","v":0},{"$f":"+SUMIFS(Sheet4!$DM$2:$DM$8270,Sheet4!$C$2:$C$8270,Sheet3!$B30,Sheet4!$D$2:$D$8270,Sheet3!AU$3,Sheet4!$E$2:$E$8270,Sheet3!AU$4,Sheet4!$A$2:$A$8270,Sheet3!$B$1,Sheet4!$B$2:$B$8270,Sheet3!$A$3)","v":0},{"$f":"+SUMIFS(Sheet4!$DM$2:$DM$8270,Sheet4!$C$2:$C$8270,Sheet3!$B30,Sheet4!$D$2:$D$8270,Sheet3!AV$3,Sheet4!$E$2:$E$8270,Sheet3!AV$4,Sheet4!$A$2:$A$8270,Sheet3!$B$1,Sheet4!$B$2:$B$8270,Sheet3!$A$3)","v":0},{"$f":"+SUMIFS(Sheet4!$DM$2:$DM$8270,Sheet4!$C$2:$C$8270,Sheet3!$B30,Sheet4!$D$2:$D$8270,Sheet3!AW$3,Sheet4!$E$2:$E$8270,Sheet3!AW$4,Sheet4!$A$2:$A$8270,Sheet3!$B$1,Sheet4!$B$2:$B$8270,Sheet3!$A$3)","v":893},{"$f":"+SUMIFS(Sheet4!$DM$2:$DM$8270,Sheet4!$C$2:$C$8270,Sheet3!$B30,Sheet4!$D$2:$D$8270,Sheet3!AX$3,Sheet4!$E$2:$E$8270,Sheet3!AX$4,Sheet4!$A$2:$A$8270,Sheet3!$B$1,Sheet4!$B$2:$B$8270,Sheet3!$A$3)","v":1071},{"$f":"+SUMIFS(Sheet4!$DM$2:$DM$8270,Sheet4!$C$2:$C$8270,Sheet3!$B30,Sheet4!$D$2:$D$8270,Sheet3!AY$3,Sheet4!$E$2:$E$8270,Sheet3!AY$4,Sheet4!$A$2:$A$8270,Sheet3!$B$1,Sheet4!$B$2:$B$8270,Sheet3!$A$3)","v":120},{"$f":"+SUMIFS(Sheet4!$DM$2:$DM$8270,Sheet4!$C$2:$C$8270,Sheet3!$B30,Sheet4!$D$2:$D$8270,Sheet3!AZ$3,Sheet4!$E$2:$E$8270,Sheet3!AZ$4,Sheet4!$A$2:$A$8270,Sheet3!$B$1,Sheet4!$B$2:$B$8270,Sheet3!$A$3)","v":3},{"$f":"+SUMIFS(Sheet4!$DM$2:$DM$8270,Sheet4!$C$2:$C$8270,Sheet3!$B30,Sheet4!$D$2:$D$8270,Sheet3!BA$3,Sheet4!$E$2:$E$8270,Sheet3!BA$4,Sheet4!$A$2:$A$8270,Sheet3!$B$1,Sheet4!$B$2:$B$8270,Sheet3!$A$3)","v":0},{"$f":"+SUMIFS(Sheet4!$DM$2:$DM$8270,Sheet4!$C$2:$C$8270,Sheet3!$B30,Sheet4!$D$2:$D$8270,Sheet3!BB$3,Sheet4!$E$2:$E$8270,Sheet3!BB$4,Sheet4!$A$2:$A$8270,Sheet3!$B$1,Sheet4!$B$2:$B$8270,Sheet3!$A$3)","v":0},{"$f":"+SUMIFS(Sheet4!$DM$2:$DM$8270,Sheet4!$C$2:$C$8270,Sheet3!$B30,Sheet4!$D$2:$D$8270,Sheet3!BC$3,Sheet4!$E$2:$E$8270,Sheet3!BC$4,Sheet4!$A$2:$A$8270,Sheet3!$B$1,Sheet4!$B$2:$B$8270,Sheet3!$A$3)","v":0},{"$f":"+SUMIFS(Sheet4!$DM$2:$DM$8270,Sheet4!$C$2:$C$8270,Sheet3!$B30,Sheet4!$D$2:$D$8270,Sheet3!BD$3,Sheet4!$E$2:$E$8270,Sheet3!BD$4,Sheet4!$A$2:$A$8270,Sheet3!$B$1,Sheet4!$B$2:$B$8270,Sheet3!$A$3)","v":0},{"$f":"+SUMIFS(Sheet4!$DM$2:$DM$8270,Sheet4!$C$2:$C$8270,Sheet3!$B30,Sheet4!$D$2:$D$8270,Sheet3!BE$3,Sheet4!$E$2:$E$8270,Sheet3!BE$4,Sheet4!$A$2:$A$8270,Sheet3!$B$1,Sheet4!$B$2:$B$8270,Sheet3!$A$3)","v":0},{"$f":"+SUMIFS(Sheet4!$DM$2:$DM$8270,Sheet4!$C$2:$C$8270,Sheet3!$B30,Sheet4!$D$2:$D$8270,Sheet3!BF$3,Sheet4!$E$2:$E$8270,Sheet3!BF$4,Sheet4!$A$2:$A$8270,Sheet3!$B$1,Sheet4!$B$2:$B$8270,Sheet3!$A$3)","v":0},{"$f":"+SUMIFS(Sheet4!$DM$2:$DM$8270,Sheet4!$C$2:$C$8270,Sheet3!$B30,Sheet4!$D$2:$D$8270,Sheet3!BG$3,Sheet4!$E$2:$E$8270,Sheet3!BG$4,Sheet4!$A$2:$A$8270,Sheet3!$B$1,Sheet4!$B$2:$B$8270,Sheet3!$A$3)","v":25},{"$f":"+SUMIFS(Sheet4!$DM$2:$DM$8270,Sheet4!$C$2:$C$8270,Sheet3!$B30,Sheet4!$D$2:$D$8270,Sheet3!BH$3,Sheet4!$E$2:$E$8270,Sheet3!BH$4,Sheet4!$A$2:$A$8270,Sheet3!$B$1,Sheet4!$B$2:$B$8270,Sheet3!$A$3)","v":37},{"$f":"+SUMIFS(Sheet4!$DM$2:$DM$8270,Sheet4!$C$2:$C$8270,Sheet3!$B30,Sheet4!$D$2:$D$8270,Sheet3!BI$3,Sheet4!$E$2:$E$8270,Sheet3!BI$4,Sheet4!$A$2:$A$8270,Sheet3!$B$1,Sheet4!$B$2:$B$8270,Sheet3!$A$3)","v":18},{"$f":"+SUMIFS(Sheet4!$DM$2:$DM$8270,Sheet4!$C$2:$C$8270,Sheet3!$B30,Sheet4!$D$2:$D$8270,Sheet3!BJ$3,Sheet4!$E$2:$E$8270,Sheet3!BJ$4,Sheet4!$A$2:$A$8270,Sheet3!$B$1,Sheet4!$B$2:$B$8270,Sheet3!$A$3)","v":0},{"$f":"+SUMIFS(Sheet4!$DM$2:$DM$8270,Sheet4!$C$2:$C$8270,Sheet3!$B30,Sheet4!$D$2:$D$8270,Sheet3!BK$3,Sheet4!$E$2:$E$8270,Sheet3!BK$4,Sheet4!$A$2:$A$8270,Sheet3!$B$1,Sheet4!$B$2:$B$8270,Sheet3!$A$3)","v":0},{"$f":"+SUMIFS(Sheet4!$DM$2:$DM$8270,Sheet4!$C$2:$C$8270,Sheet3!$B30,Sheet4!$D$2:$D$8270,Sheet3!BL$3,Sheet4!$E$2:$E$8270,Sheet3!BL$4,Sheet4!$A$2:$A$8270,Sheet3!$B$1,Sheet4!$B$2:$B$8270,Sheet3!$A$3)","v":4},{"$f":"+SUMIFS(Sheet4!$DM$2:$DM$8270,Sheet4!$C$2:$C$8270,Sheet3!$B30,Sheet4!$D$2:$D$8270,Sheet3!BM$3,Sheet4!$E$2:$E$8270,Sheet3!BM$4,Sheet4!$A$2:$A$8270,Sheet3!$B$1,Sheet4!$B$2:$B$8270,Sheet3!$A$3)","v":10},{"$f":"+SUMIFS(Sheet4!$DM$2:$DM$8270,Sheet4!$C$2:$C$8270,Sheet3!$B30,Sheet4!$D$2:$D$8270,Sheet3!BN$3,Sheet4!$E$2:$E$8270,Sheet3!BN$4,Sheet4!$A$2:$A$8270,Sheet3!$B$1,Sheet4!$B$2:$B$8270,Sheet3!$A$3)","v":28},{"$f":"+SUMIFS(Sheet4!$DM$2:$DM$8270,Sheet4!$C$2:$C$8270,Sheet3!$B30,Sheet4!$D$2:$D$8270,Sheet3!BO$3,Sheet4!$E$2:$E$8270,Sheet3!BO$4,Sheet4!$A$2:$A$8270,Sheet3!$B$1,Sheet4!$B$2:$B$8270,Sheet3!$A$3)","v":0},{"$f":"+SUMIFS(Sheet4!$DM$2:$DM$8270,Sheet4!$C$2:$C$8270,Sheet3!$B30,Sheet4!$D$2:$D$8270,Sheet3!BP$3,Sheet4!$E$2:$E$8270,Sheet3!BP$4,Sheet4!$A$2:$A$8270,Sheet3!$B$1,Sheet4!$B$2:$B$8270,Sheet3!$A$3)","v":0},{"$f":"+SUMIFS(Sheet4!$DM$2:$DM$8270,Sheet4!$C$2:$C$8270,Sheet3!$B30,Sheet4!$D$2:$D$8270,Sheet3!BQ$3,Sheet4!$E$2:$E$8270,Sheet3!BQ$4,Sheet4!$A$2:$A$8270,Sheet3!$B$1,Sheet4!$B$2:$B$8270,Sheet3!$A$3)","v":122},{"$f":"+SUMIFS(Sheet4!$DM$2:$DM$8270,Sheet4!$C$2:$C$8270,Sheet3!$B30,Sheet4!$D$2:$D$8270,Sheet3!BR$3,Sheet4!$E$2:$E$8270,Sheet3!BR$4,Sheet4!$A$2:$A$8270,Sheet3!$B$1,Sheet4!$B$2:$B$8270,Sheet3!$A$3)","v":90},{"$f":"+SUMIFS(Sheet4!$DM$2:$DM$8270,Sheet4!$C$2:$C$8270,Sheet3!$B30,Sheet4!$D$2:$D$8270,Sheet3!BS$3,Sheet4!$E$2:$E$8270,Sheet3!BS$4,Sheet4!$A$2:$A$8270,Sheet3!$B$1,Sheet4!$B$2:$B$8270,Sheet3!$A$3)","v":50},{"$f":"+SUMIFS(Sheet4!$DM$2:$DM$8270,Sheet4!$C$2:$C$8270,Sheet3!$B30,Sheet4!$D$2:$D$8270,Sheet3!BT$3,Sheet4!$E$2:$E$8270,Sheet3!BT$4,Sheet4!$A$2:$A$8270,Sheet3!$B$1,Sheet4!$B$2:$B$8270,Sheet3!$A$3)","v":3},{"$f":"+SUMIFS(Sheet4!$DM$2:$DM$8270,Sheet4!$C$2:$C$8270,Sheet3!$B30,Sheet4!$D$2:$D$8270,Sheet3!BU$3,Sheet4!$E$2:$E$8270,Sheet3!BU$4,Sheet4!$A$2:$A$8270,Sheet3!$B$1,Sheet4!$B$2:$B$8270,Sheet3!$A$3)","v":0},{"$f":"+SUMIFS(Sheet4!$DM$2:$DM$8270,Sheet4!$C$2:$C$8270,Sheet3!$B30,Sheet4!$D$2:$D$8270,Sheet3!BV$3,Sheet4!$E$2:$E$8270,Sheet3!BV$4,Sheet4!$A$2:$A$8270,Sheet3!$B$1,Sheet4!$B$2:$B$8270,Sheet3!$A$3)","v":34},{"$f":"+SUMIFS(Sheet4!$DM$2:$DM$8270,Sheet4!$C$2:$C$8270,Sheet3!$B30,Sheet4!$D$2:$D$8270,Sheet3!BW$3,Sheet4!$E$2:$E$8270,Sheet3!BW$4,Sheet4!$A$2:$A$8270,Sheet3!$B$1,Sheet4!$B$2:$B$8270,Sheet3!$A$3)","v":83},{"$f":"+SUMIFS(Sheet4!$DM$2:$DM$8270,Sheet4!$C$2:$C$8270,Sheet3!$B30,Sheet4!$D$2:$D$8270,Sheet3!BX$3,Sheet4!$E$2:$E$8270,Sheet3!BX$4,Sheet4!$A$2:$A$8270,Sheet3!$B$1,Sheet4!$B$2:$B$8270,Sheet3!$A$3)","v":44},{"$f":"+SUMIFS(Sheet4!$DM$2:$DM$8270,Sheet4!$C$2:$C$8270,Sheet3!$B30,Sheet4!$D$2:$D$8270,Sheet3!BY$3,Sheet4!$E$2:$E$8270,Sheet3!BY$4,Sheet4!$A$2:$A$8270,Sheet3!$B$1,Sheet4!$B$2:$B$8270,Sheet3!$A$3)","v":4},{"$f":"+SUMIFS(Sheet4!$DM$2:$DM$8270,Sheet4!$C$2:$C$8270,Sheet3!$B30,Sheet4!$D$2:$D$8270,Sheet3!BZ$3,Sheet4!$E$2:$E$8270,Sheet3!BZ$4,Sheet4!$A$2:$A$8270,Sheet3!$B$1,Sheet4!$B$2:$B$8270,Sheet3!$A$3)","v":0},{"$f":"+SUMIFS(Sheet4!$DM$2:$DM$8270,Sheet4!$C$2:$C$8270,Sheet3!$B30,Sheet4!$D$2:$D$8270,Sheet3!CA$3,Sheet4!$E$2:$E$8270,Sheet3!CA$4,Sheet4!$A$2:$A$8270,Sheet3!$B$1,Sheet4!$B$2:$B$8270,Sheet3!$A$3)","v":71},{"$f":"+SUMIFS(Sheet4!$DM$2:$DM$8270,Sheet4!$C$2:$C$8270,Sheet3!$B30,Sheet4!$D$2:$D$8270,Sheet3!CB$3,Sheet4!$E$2:$E$8270,Sheet3!CB$4,Sheet4!$A$2:$A$8270,Sheet3!$B$1,Sheet4!$B$2:$B$8270,Sheet3!$A$3)","v":102},{"$f":"+SUMIFS(Sheet4!$DM$2:$DM$8270,Sheet4!$C$2:$C$8270,Sheet3!$B30,Sheet4!$D$2:$D$8270,Sheet3!CC$3,Sheet4!$E$2:$E$8270,Sheet3!CC$4,Sheet4!$A$2:$A$8270,Sheet3!$B$1,Sheet4!$B$2:$B$8270,Sheet3!$A$3)","v":34},{"$f":"+SUMIFS(Sheet4!$DM$2:$DM$8270,Sheet4!$C$2:$C$8270,Sheet3!$B30,Sheet4!$D$2:$D$8270,Sheet3!CD$3,Sheet4!$E$2:$E$8270,Sheet3!CD$4,Sheet4!$A$2:$A$8270,Sheet3!$B$1,Sheet4!$B$2:$B$8270,Sheet3!$A$3)","v":0},{"$f":"+SUMIFS(Sheet4!$DM$2:$DM$8270,Sheet4!$C$2:$C$8270,Sheet3!$B30,Sheet4!$D$2:$D$8270,Sheet3!CE$3,Sheet4!$E$2:$E$8270,Sheet3!CE$4,Sheet4!$A$2:$A$8270,Sheet3!$B$1,Sheet4!$B$2:$B$8270,Sheet3!$A$3)","v":0},{"$f":"+SUMIFS(Sheet4!$DM$2:$DM$8270,Sheet4!$C$2:$C$8270,Sheet3!$B30,Sheet4!$D$2:$D$8270,Sheet3!CF$3,Sheet4!$E$2:$E$8270,Sheet3!CF$4,Sheet4!$A$2:$A$8270,Sheet3!$B$1,Sheet4!$B$2:$B$8270,Sheet3!$A$3)","v":0},{"$f":"+SUMIFS(Sheet4!$DM$2:$DM$8270,Sheet4!$C$2:$C$8270,Sheet3!$B30,Sheet4!$D$2:$D$8270,Sheet3!CG$3,Sheet4!$E$2:$E$8270,Sheet3!CG$4,Sheet4!$A$2:$A$8270,Sheet3!$B$1,Sheet4!$B$2:$B$8270,Sheet3!$A$3)","v":0},{"$f":"+SUMIFS(Sheet4!$DM$2:$DM$8270,Sheet4!$C$2:$C$8270,Sheet3!$B30,Sheet4!$D$2:$D$8270,Sheet3!CH$3,Sheet4!$E$2:$E$8270,Sheet3!CH$4,Sheet4!$A$2:$A$8270,Sheet3!$B$1,Sheet4!$B$2:$B$8270,Sheet3!$A$3)","v":0},{"$f":"+SUMIFS(Sheet4!$DM$2:$DM$8270,Sheet4!$C$2:$C$8270,Sheet3!$B30,Sheet4!$D$2:$D$8270,Sheet3!CI$3,Sheet4!$E$2:$E$8270,Sheet3!CI$4,Sheet4!$A$2:$A$8270,Sheet3!$B$1,Sheet4!$B$2:$B$8270,Sheet3!$A$3)","v":0},{"$f":"+SUMIFS(Sheet4!$DM$2:$DM$8270,Sheet4!$C$2:$C$8270,Sheet3!$B30,Sheet4!$D$2:$D$8270,Sheet3!CJ$3,Sheet4!$E$2:$E$8270,Sheet3!CJ$4,Sheet4!$A$2:$A$8270,Sheet3!$B$1,Sheet4!$B$2:$B$8270,Sheet3!$A$3)","v":0},{"$f":"+SUMIFS(Sheet4!$DM$2:$DM$8270,Sheet4!$C$2:$C$8270,Sheet3!$B30,Sheet4!$D$2:$D$8270,Sheet3!CK$3,Sheet4!$E$2:$E$8270,Sheet3!CK$4,Sheet4!$A$2:$A$8270,Sheet3!$B$1,Sheet4!$B$2:$B$8270,Sheet3!$A$3)","v":0},{"$f":"+SUMIFS(Sheet4!$DM$2:$DM$8270,Sheet4!$C$2:$C$8270,Sheet3!$B30,Sheet4!$D$2:$D$8270,Sheet3!CL$3,Sheet4!$E$2:$E$8270,Sheet3!CL$4,Sheet4!$A$2:$A$8270,Sheet3!$B$1,Sheet4!$B$2:$B$8270,Sheet3!$A$3)","v":0},{"$f":"+SUMIFS(Sheet4!$DM$2:$DM$8270,Sheet4!$C$2:$C$8270,Sheet3!$B30,Sheet4!$D$2:$D$8270,Sheet3!CM$3,Sheet4!$E$2:$E$8270,Sheet3!CM$4,Sheet4!$A$2:$A$8270,Sheet3!$B$1,Sheet4!$B$2:$B$8270,Sheet3!$A$3)","v":0},{"$f":"+SUMIFS(Sheet4!$DM$2:$DM$8270,Sheet4!$C$2:$C$8270,Sheet3!$B30,Sheet4!$D$2:$D$8270,Sheet3!CN$3,Sheet4!$E$2:$E$8270,Sheet3!CN$4,Sheet4!$A$2:$A$8270,Sheet3!$B$1,Sheet4!$B$2:$B$8270,Sheet3!$A$3)","v":0},{"$f":"+SUMIFS(Sheet4!$DM$2:$DM$8270,Sheet4!$C$2:$C$8270,Sheet3!$B30,Sheet4!$D$2:$D$8270,Sheet3!CO$3,Sheet4!$E$2:$E$8270,Sheet3!CO$4,Sheet4!$A$2:$A$8270,Sheet3!$B$1,Sheet4!$B$2:$B$8270,Sheet3!$A$3)","v":0},{"$f":"+IF(SUMIFS(Sheet4!$DN$2:$DN$8270,Sheet4!$C$2:$C$8270,Sheet3!$B30,Sheet4!$D$2:$D$8270,Sheet3!CP$3,Sheet4!$A$2:$A$8270,Sheet3!$B$1,Sheet4!$B$2:$B$8270,Sheet3!$A$3)<3,0,SUMIFS(Sheet4!$DN$2:$DN$8270,Sheet4!$C$2:$C$8270,Sheet3!$B30,Sheet4!$D$2:$D$8270,Sheet3!CP$3,Sheet4!$A$2:$A$8270,Sheet3!$B$1,Sheet4!$B$2:$B$8270,Sheet3!$A$3))","v":14},{"$f":"+IF(SUMIFS(Sheet4!$DN$2:$DN$8270,Sheet4!$C$2:$C$8270,Sheet3!$B30,Sheet4!$D$2:$D$8270,Sheet3!CQ$3,Sheet4!$A$2:$A$8270,Sheet3!$B$1,Sheet4!$B$2:$B$8270,Sheet3!$A$3)<3,0,SUMIFS(Sheet4!$DN$2:$DN$8270,Sheet4!$C$2:$C$8270,Sheet3!$B30,Sheet4!$D$2:$D$8270,Sheet3!CQ$3,Sheet4!$A$2:$A$8270,Sheet3!$B$1,Sheet4!$B$2:$B$8270,Sheet3!$A$3))","v":3},{"$f":"+IF(SUMIFS(Sheet4!$DN$2:$DN$8270,Sheet4!$C$2:$C$8270,Sheet3!$B30,Sheet4!$D$2:$D$8270,Sheet3!CR$3,Sheet4!$A$2:$A$8270,Sheet3!$B$1,Sheet4!$B$2:$B$8270,Sheet3!$A$3)<3,0,SUMIFS(Sheet4!$DN$2:$DN$8270,Sheet4!$C$2:$C$8270,Sheet3!$B30,Sheet4!$D$2:$D$8270,Sheet3!CR$3,Sheet4!$A$2:$A$8270,Sheet3!$B$1,Sheet4!$B$2:$B$8270,Sheet3!$A$3))","v":71},{"$f":"+IF(SUMIFS(Sheet4!$DN$2:$DN$8270,Sheet4!$C$2:$C$8270,Sheet3!$B30,Sheet4!$D$2:$D$8270,Sheet3!CS$3,Sheet4!$A$2:$A$8270,Sheet3!$B$1,Sheet4!$B$2:$B$8270,Sheet3!$A$3)<3,0,SUMIFS(Sheet4!$DN$2:$DN$8270,Sheet4!$C$2:$C$8270,Sheet3!$B30,Sheet4!$D$2:$D$8270,Sheet3!CS$3,Sheet4!$A$2:$A$8270,Sheet3!$B$1,Sheet4!$B$2:$B$8270,Sheet3!$A$3))","v":0},{"$f":"+IF(SUMIFS(Sheet4!$DN$2:$DN$8270,Sheet4!$C$2:$C$8270,Sheet3!$B30,Sheet4!$D$2:$D$8270,Sheet3!CT$3,Sheet4!$A$2:$A$8270,Sheet3!$B$1,Sheet4!$B$2:$B$8270,Sheet3!$A$3)<3,0,SUMIFS(Sheet4!$DN$2:$DN$8270,Sheet4!$C$2:$C$8270,Sheet3!$B30,Sheet4!$D$2:$D$8270,Sheet3!CT$3,Sheet4!$A$2:$A$8270,Sheet3!$B$1,Sheet4!$B$2:$B$8270,Sheet3!$A$3))","v":7},{"$f":"+IF(SUMIFS(Sheet4!$DN$2:$DN$8270,Sheet4!$C$2:$C$8270,Sheet3!$B30,Sheet4!$D$2:$D$8270,Sheet3!CU$3,Sheet4!$A$2:$A$8270,Sheet3!$B$1,Sheet4!$B$2:$B$8270,Sheet3!$A$3)<3,0,SUMIFS(Sheet4!$DN$2:$DN$8270,Sheet4!$C$2:$C$8270,Sheet3!$B30,Sheet4!$D$2:$D$8270,Sheet3!CU$3,Sheet4!$A$2:$A$8270,Sheet3!$B$1,Sheet4!$B$2:$B$8270,Sheet3!$A$3))","v":266},{"$f":"+IF(SUMIFS(Sheet4!$DN$2:$DN$8270,Sheet4!$C$2:$C$8270,Sheet3!$B30,Sheet4!$D$2:$D$8270,Sheet3!CV$3,Sheet4!$A$2:$A$8270,Sheet3!$B$1,Sheet4!$B$2:$B$8270,Sheet3!$A$3)<3,0,SUMIFS(Sheet4!$DN$2:$DN$8270,Sheet4!$C$2:$C$8270,Sheet3!$B30,Sheet4!$D$2:$D$8270,Sheet3!CV$3,Sheet4!$A$2:$A$8270,Sheet3!$B$1,Sheet4!$B$2:$B$8270,Sheet3!$A$3))","v":8},{"$f":"+IF(SUMIFS(Sheet4!$DN$2:$DN$8270,Sheet4!$C$2:$C$8270,Sheet3!$B30,Sheet4!$D$2:$D$8270,Sheet3!CW$3,Sheet4!$A$2:$A$8270,Sheet3!$B$1,Sheet4!$B$2:$B$8270,Sheet3!$A$3)<3,0,SUMIFS(Sheet4!$DN$2:$DN$8270,Sheet4!$C$2:$C$8270,Sheet3!$B30,Sheet4!$D$2:$D$8270,Sheet3!CW$3,Sheet4!$A$2:$A$8270,Sheet3!$B$1,Sheet4!$B$2:$B$8270,Sheet3!$A$3))","v":1307},{"$f":"+IF(SUMIFS(Sheet4!$DN$2:$DN$8270,Sheet4!$C$2:$C$8270,Sheet3!$B30,Sheet4!$D$2:$D$8270,Sheet3!CX$3,Sheet4!$A$2:$A$8270,Sheet3!$B$1,Sheet4!$B$2:$B$8270,Sheet3!$A$3)<3,0,SUMIFS(Sheet4!$DN$2:$DN$8270,Sheet4!$C$2:$C$8270,Sheet3!$B30,Sheet4!$D$2:$D$8270,Sheet3!CX$3,Sheet4!$A$2:$A$8270,Sheet3!$B$1,Sheet4!$B$2:$B$8270,Sheet3!$A$3))","v":18},{"$f":"+IF(SUMIFS(Sheet4!$DN$2:$DN$8270,Sheet4!$C$2:$C$8270,Sheet3!$B30,Sheet4!$D$2:$D$8270,Sheet3!CY$3,Sheet4!$A$2:$A$8270,Sheet3!$B$1,Sheet4!$B$2:$B$8270,Sheet3!$A$3)<3,0,SUMIFS(Sheet4!$DN$2:$DN$8270,Sheet4!$C$2:$C$8270,Sheet3!$B30,Sheet4!$D$2:$D$8270,Sheet3!CY$3,Sheet4!$A$2:$A$8270,Sheet3!$B$1,Sheet4!$B$2:$B$8270,Sheet3!$A$3))","v":2088},{"$f":"+IF(SUMIFS(Sheet4!$DN$2:$DN$8270,Sheet4!$C$2:$C$8270,Sheet3!$B30,Sheet4!$D$2:$D$8270,Sheet3!CZ$3,Sheet4!$A$2:$A$8270,Sheet3!$B$1,Sheet4!$B$2:$B$8270,Sheet3!$A$3)<3,0,SUMIFS(Sheet4!$DN$2:$DN$8270,Sheet4!$C$2:$C$8270,Sheet3!$B30,Sheet4!$D$2:$D$8270,Sheet3!CZ$3,Sheet4!$A$2:$A$8270,Sheet3!$B$1,Sheet4!$B$2:$B$8270,Sheet3!$A$3))","v":0},{"$f":"+IF(SUMIFS(Sheet4!$DN$2:$DN$8270,Sheet4!$C$2:$C$8270,Sheet3!$B30,Sheet4!$D$2:$D$8270,Sheet3!DA$3,Sheet4!$A$2:$A$8270,Sheet3!$B$1,Sheet4!$B$2:$B$8270,Sheet3!$A$3)<3,0,SUMIFS(Sheet4!$DN$2:$DN$8270,Sheet4!$C$2:$C$8270,Sheet3!$B30,Sheet4!$D$2:$D$8270,Sheet3!DA$3,Sheet4!$A$2:$A$8270,Sheet3!$B$1,Sheet4!$B$2:$B$8270,Sheet3!$A$3))","v":82},{"$f":"+IF(SUMIFS(Sheet4!$DN$2:$DN$8270,Sheet4!$C$2:$C$8270,Sheet3!$B30,Sheet4!$D$2:$D$8270,Sheet3!DB$3,Sheet4!$A$2:$A$8270,Sheet3!$B$1,Sheet4!$B$2:$B$8270,Sheet3!$A$3)<3,0,SUMIFS(Sheet4!$DN$2:$DN$8270,Sheet4!$C$2:$C$8270,Sheet3!$B30,Sheet4!$D$2:$D$8270,Sheet3!DB$3,Sheet4!$A$2:$A$8270,Sheet3!$B$1,Sheet4!$B$2:$B$8270,Sheet3!$A$3))","v":46},{"$f":"+IF(SUMIFS(Sheet4!$DN$2:$DN$8270,Sheet4!$C$2:$C$8270,Sheet3!$B30,Sheet4!$D$2:$D$8270,Sheet3!DC$3,Sheet4!$A$2:$A$8270,Sheet3!$B$1,Sheet4!$B$2:$B$8270,Sheet3!$A$3)<3,0,SUMIFS(Sheet4!$DN$2:$DN$8270,Sheet4!$C$2:$C$8270,Sheet3!$B30,Sheet4!$D$2:$D$8270,Sheet3!DC$3,Sheet4!$A$2:$A$8270,Sheet3!$B$1,Sheet4!$B$2:$B$8270,Sheet3!$A$3))","v":269},{"$f":"+IF(SUMIFS(Sheet4!$DN$2:$DN$8270,Sheet4!$C$2:$C$8270,Sheet3!$B30,Sheet4!$D$2:$D$8270,Sheet3!DD$3,Sheet4!$A$2:$A$8270,Sheet3!$B$1,Sheet4!$B$2:$B$8270,Sheet3!$A$3)<3,0,SUMIFS(Sheet4!$DN$2:$DN$8270,Sheet4!$C$2:$C$8270,Sheet3!$B30,Sheet4!$D$2:$D$8270,Sheet3!DD$3,Sheet4!$A$2:$A$8270,Sheet3!$B$1,Sheet4!$B$2:$B$8270,Sheet3!$A$3))","v":167},{"$f":"+IF(SUMIFS(Sheet4!$DN$2:$DN$8270,Sheet4!$C$2:$C$8270,Sheet3!$B30,Sheet4!$D$2:$D$8270,Sheet3!DE$3,Sheet4!$A$2:$A$8270,Sheet3!$B$1,Sheet4!$B$2:$B$8270,Sheet3!$A$3)<3,0,SUMIFS(Sheet4!$DN$2:$DN$8270,Sheet4!$C$2:$C$8270,Sheet3!$B30,Sheet4!$D$2:$D$8270,Sheet3!DE$3,Sheet4!$A$2:$A$8270,Sheet3!$B$1,Sheet4!$B$2:$B$8270,Sheet3!$A$3))","v":210},{"$f":"+IF(SUMIFS(Sheet4!$DN$2:$DN$8270,Sheet4!$C$2:$C$8270,Sheet3!$B30,Sheet4!$D$2:$D$8270,Sheet3!DF$3,Sheet4!$A$2:$A$8270,Sheet3!$B$1,Sheet4!$B$2:$B$8270,Sheet3!$A$3)<3,0,SUMIFS(Sheet4!$DN$2:$DN$8270,Sheet4!$C$2:$C$8270,Sheet3!$B30,Sheet4!$D$2:$D$8270,Sheet3!DF$3,Sheet4!$A$2:$A$8270,Sheet3!$B$1,Sheet4!$B$2:$B$8270,Sheet3!$A$3))","v":0},{"$f":"+IF(SUMIFS(Sheet4!$DN$2:$DN$8270,Sheet4!$C$2:$C$8270,Sheet3!$B30,Sheet4!$D$2:$D$8270,Sheet3!DG$3,Sheet4!$A$2:$A$8270,Sheet3!$B$1,Sheet4!$B$2:$B$8270,Sheet3!$A$3)<3,0,SUMIFS(Sheet4!$DN$2:$DN$8270,Sheet4!$C$2:$C$8270,Sheet3!$B30,Sheet4!$D$2:$D$8270,Sheet3!DG$3,Sheet4!$A$2:$A$8270,Sheet3!$B$1,Sheet4!$B$2:$B$8270,Sheet3!$A$3))","v":0},{"$f":"+IF(SUMIFS(Sheet4!$DN$2:$DN$8270,Sheet4!$C$2:$C$8270,Sheet3!$B30,Sheet4!$E$2:$E$8270,Sheet3!DH$4,Sheet4!$A$2:$A$8270,Sheet3!$B$1,Sheet4!$B$2:$B$8270,Sheet3!$A$3)<3,0,SUMIFS(Sheet4!$DN$2:$DN$8270,Sheet4!$C$2:$C$8270,Sheet3!$B30,Sheet4!$E$2:$E$8270,Sheet3!DH$4,Sheet4!$A$2:$A$8270,Sheet3!$B$1,Sheet4!$B$2:$B$8270,Sheet3!$A$3))","v":1747},{"$f":"+IF(SUMIFS(Sheet4!$DN$2:$DN$8270,Sheet4!$C$2:$C$8270,Sheet3!$B30,Sheet4!$E$2:$E$8270,Sheet3!DI$4,Sheet4!$A$2:$A$8270,Sheet3!$B$1,Sheet4!$B$2:$B$8270,Sheet3!$A$3)<3,0,SUMIFS(Sheet4!$DN$2:$DN$8270,Sheet4!$C$2:$C$8270,Sheet3!$B30,Sheet4!$E$2:$E$8270,Sheet3!DI$4,Sheet4!$A$2:$A$8270,Sheet3!$B$1,Sheet4!$B$2:$B$8270,Sheet3!$A$3))","v":2259},{"$f":"+IF(SUMIFS(Sheet4!$DN$2:$DN$8270,Sheet4!$C$2:$C$8270,Sheet3!$B30,Sheet4!$E$2:$E$8270,Sheet3!DJ$4,Sheet4!$A$2:$A$8270,Sheet3!$B$1,Sheet4!$B$2:$B$8270,Sheet3!$A$3)<3,0,SUMIFS(Sheet4!$DN$2:$DN$8270,Sheet4!$C$2:$C$8270,Sheet3!$B30,Sheet4!$E$2:$E$8270,Sheet3!DJ$4,Sheet4!$A$2:$A$8270,Sheet3!$B$1,Sheet4!$B$2:$B$8270,Sheet3!$A$3))","v":535},{"$f":"+IF(SUMIFS(Sheet4!$DN$2:$DN$8270,Sheet4!$C$2:$C$8270,Sheet3!$B30,Sheet4!$E$2:$E$8270,Sheet3!DK$4,Sheet4!$A$2:$A$8270,Sheet3!$B$1,Sheet4!$B$2:$B$8270,Sheet3!$A$3)<3,0,SUMIFS(Sheet4!$DN$2:$DN$8270,Sheet4!$C$2:$C$8270,Sheet3!$B30,Sheet4!$E$2:$E$8270,Sheet3!DK$4,Sheet4!$A$2:$A$8270,Sheet3!$B$1,Sheet4!$B$2:$B$8270,Sheet3!$A$3))","v":17},{"$f":"+IF(SUMIFS(Sheet4!$DN$2:$DN$8270,Sheet4!$C$2:$C$8270,Sheet3!$B30,Sheet4!$E$2:$E$8270,Sheet3!DL$4,Sheet4!$A$2:$A$8270,Sheet3!$B$1,Sheet4!$B$2:$B$8270,Sheet3!$A$3)<3,0,SUMIFS(Sheet4!$DN$2:$DN$8270,Sheet4!$C$2:$C$8270,Sheet3!$B30,Sheet4!$E$2:$E$8270,Sheet3!DL$4,Sheet4!$A$2:$A$8270,Sheet3!$B$1,Sheet4!$B$2:$B$8270,Sheet3!$A$3))","v":0}]
["Continente",">999",null,{"$f":"+SUMIFS(Sheet4!$DN$2:$DN$8270,Sheet4!$D$2:$D$8270,Sheet3!D$3,Sheet4!$E$2:$E$8270,Sheet3!D$4,Sheet4!$A$2:$A$8270,Sheet3!$B$1,Sheet4!$B$2:$B$8270,Sheet3!$A$3)","v":275},{"$f":"+SUMIFS(Sheet4!$DN$2:$DN$8270,Sheet4!$D$2:$D$8270,Sheet3!E$3,Sheet4!$E$2:$E$8270,Sheet3!E$4,Sheet4!$A$2:$A$8270,Sheet3!$B$1,Sheet4!$B$2:$B$8270,Sheet3!$A$3)","v":110},{"$f":"+SUMIFS(Sheet4!$DN$2:$DN$8270,Sheet4!$D$2:$D$8270,Sheet3!F$3,Sheet4!$E$2:$E$8270,Sheet3!F$4,Sheet4!$A$2:$A$8270,Sheet3!$B$1,Sheet4!$B$2:$B$8270,Sheet3!$A$3)","v":54},{"$f":"+SUMIFS(Sheet4!$DN$2:$DN$8270,Sheet4!$D$2:$D$8270,Sheet3!G$3,Sheet4!$E$2:$E$8270,Sheet3!G$4,Sheet4!$A$2:$A$8270,Sheet3!$B$1,Sheet4!$B$2:$B$8270,Sheet3!$A$3)","v":16},{"$f":"+SUMIFS(Sheet4!$DN$2:$DN$8270,Sheet4!$D$2:$D$8270,Sheet3!H$3,Sheet4!$E$2:$E$8270,Sheet3!H$4,Sheet4!$A$2:$A$8270,Sheet3!$B$1,Sheet4!$B$2:$B$8270,Sheet3!$A$3)","v":1},{"$f":"+SUMIFS(Sheet4!$DN$2:$DN$8270,Sheet4!$D$2:$D$8270,Sheet3!I$3,Sheet4!$E$2:$E$8270,Sheet3!I$4,Sheet4!$A$2:$A$8270,Sheet3!$B$1,Sheet4!$B$2:$B$8270,Sheet3!$A$3)","v":5805},{"$f":"+SUMIFS(Sheet4!$DN$2:$DN$8270,Sheet4!$D$2:$D$8270,Sheet3!J$3,Sheet4!$E$2:$E$8270,Sheet3!J$4,Sheet4!$A$2:$A$8270,Sheet3!$B$1,Sheet4!$B$2:$B$8270,Sheet3!$A$3)","v":611},{"$f":"+SUMIFS(Sheet4!$DN$2:$DN$8270,Sheet4!$D$2:$D$8270,Sheet3!K$3,Sheet4!$E$2:$E$8270,Sheet3!K$4,Sheet4!$A$2:$A$8270,Sheet3!$B$1,Sheet4!$B$2:$B$8270,Sheet3!$A$3)","v":349},{"$f":"+SUMIFS(Sheet4!$DN$2:$DN$8270,Sheet4!$D$2:$D$8270,Sheet3!L$3,Sheet4!$E$2:$E$8270,Sheet3!L$4,Sheet4!$A$2:$A$8270,Sheet3!$B$1,Sheet4!$B$2:$B$8270,Sheet3!$A$3)","v":38},{"$f":"+SUMIFS(Sheet4!$DN$2:$DN$8270,Sheet4!$D$2:$D$8270,Sheet3!M$3,Sheet4!$E$2:$E$8270,Sheet3!M$4,Sheet4!$A$2:$A$8270,Sheet3!$B$1,Sheet4!$B$2:$B$8270,Sheet3!$A$3)","v":1},{"$f":"+SUMIFS(Sheet4!$DN$2:$DN$8270,Sheet4!$D$2:$D$8270,Sheet3!N$3,Sheet4!$E$2:$E$8270,Sheet3!N$4,Sheet4!$A$2:$A$8270,Sheet3!$B$1,Sheet4!$B$2:$B$8270,Sheet3!$A$3)","v":3831},{"$f":"+SUMIFS(Sheet4!$DN$2:$DN$8270,Sheet4!$D$2:$D$8270,Sheet3!O$3,Sheet4!$E$2:$E$8270,Sheet3!O$4,Sheet4!$A$2:$A$8270,Sheet3!$B$1,Sheet4!$B$2:$B$8270,Sheet3!$A$3)","v":1520},{"$f":"+SUMIFS(Sheet4!$DN$2:$DN$8270,Sheet4!$D$2:$D$8270,Sheet3!P$3,Sheet4!$E$2:$E$8270,Sheet3!P$4,Sheet4!$A$2:$A$8270,Sheet3!$B$1,Sheet4!$B$2:$B$8270,Sheet3!$A$3)","v":531},{"$f":"+SUMIFS(Sheet4!$DN$2:$DN$8270,Sheet4!$D$2:$D$8270,Sheet3!Q$3,Sheet4!$E$2:$E$8270,Sheet3!Q$4,Sheet4!$A$2:$A$8270,Sheet3!$B$1,Sheet4!$B$2:$B$8270,Sheet3!$A$3)","v":75},{"$f":"+SUMIFS(Sheet4!$DN$2:$DN$8270,Sheet4!$D$2:$D$8270,Sheet3!R$3,Sheet4!$E$2:$E$8270,Sheet3!R$4,Sheet4!$A$2:$A$8270,Sheet3!$B$1,Sheet4!$B$2:$B$8270,Sheet3!$A$3)","v":2},{"$f":"+SUMIFS(Sheet4!$DN$2:$DN$8270,Sheet4!$D$2:$D$8270,Sheet3!S$3,Sheet4!$E$2:$E$8270,Sheet3!S$4,Sheet4!$A$2:$A$8270,Sheet3!$B$1,Sheet4!$B$2:$B$8270,Sheet3!$A$3)","v":154},{"$f":"+SUMIFS(Sheet4!$DN$2:$DN$8270,Sheet4!$D$2:$D$8270,Sheet3!T$3,Sheet4!$E$2:$E$8270,Sheet3!T$4,Sheet4!$A$2:$A$8270,Sheet3!$B$1,Sheet4!$B$2:$B$8270,Sheet3!$A$3)","v":201},{"$f":"+SUMIFS(Sheet4!$DN$2:$DN$8270,Sheet4!$D$2:$D$8270,Sheet3!U$3,Sheet4!$E$2:$E$8270,Sheet3!U$4,Sheet4!$A$2:$A$8270,Sheet3!$B$1,Sheet4!$B$2:$B$8270,Sheet3!$A$3)","v":238},{"$f":"+SUMIFS(Sheet4!$DN$2:$DN$8270,Sheet4!$D$2:$D$8270,Sheet3!V$3,Sheet4!$E$2:$E$8270,Sheet3!V$4,Sheet4!$A$2:$A$8270,Sheet3!$B$1,Sheet4!$B$2:$B$8270,Sheet3!$A$3)","v":18},{"$f":"+SUMIFS(Sheet4!$DN$2:$DN$8270,Sheet4!$D$2:$D$8270,Sheet3!W$3,Sheet4!$E$2:$E$8270,Sheet3!W$4,Sheet4!$A$2:$A$8270,Sheet3!$B$1,Sheet4!$B$2:$B$8270,Sheet3!$A$3)","v":0},{"$f":"+SUMIFS(Sheet4!$DN$2:$DN$8270,Sheet4!$D$2:$D$8270,Sheet3!X$3,Sheet4!$E$2:$E$8270,Sheet3!X$4,Sheet4!$A$2:$A$8270,Sheet3!$B$1,Sheet4!$B$2:$B$8270,Sheet3!$A$3)","v":40},{"$f":"+SUMIFS(Sheet4!$DN$2:$DN$8270,Sheet4!$D$2:$D$8270,Sheet3!Y$3,Sheet4!$E$2:$E$8270,Sheet3!Y$4,Sheet4!$A$2:$A$8270,Sheet3!$B$1,Sheet4!$B$2:$B$8270,Sheet3!$A$3)","v":67},{"$f":"+SUMIFS(Sheet4!$DN$2:$DN$8270,Sheet4!$D$2:$D$8270,Sheet3!Z$3,Sheet4!$E$2:$E$8270,Sheet3!Z$4,Sheet4!$A$2:$A$8270,Sheet3!$B$1,Sheet4!$B$2:$B$8270,Sheet3!$A$3)","v":69},{"$f":"+SUMIFS(Sheet4!$DN$2:$DN$8270,Sheet4!$D$2:$D$8270,Sheet3!AA$3,Sheet4!$E$2:$E$8270,Sheet3!AA$4,Sheet4!$A$2:$A$8270,Sheet3!$B$1,Sheet4!$B$2:$B$8270,Sheet3!$A$3)","v":7},{"$f":"+SUMIFS(Sheet4!$DN$2:$DN$8270,Sheet4!$D$2:$D$8270,Sheet3!AB$3,Sheet4!$E$2:$E$8270,Sheet3!AB$4,Sheet4!$A$2:$A$8270,Sheet3!$B$1,Sheet4!$B$2:$B$8270,Sheet3!$A$3)","v":0},{"$f":"+SUMIFS(Sheet4!$DN$2:$DN$8270,Sheet4!$D$2:$D$8270,Sheet3!AC$3,Sheet4!$E$2:$E$8270,Sheet3!AC$4,Sheet4!$A$2:$A$8270,Sheet3!$B$1,Sheet4!$B$2:$B$8270,Sheet3!$A$3)","v":11761},{"$f":"+SUMIFS(Sheet4!$DN$2:$DN$8270,Sheet4!$D$2:$D$8270,Sheet3!AD$3,Sheet4!$E$2:$E$8270,Sheet3!AD$4,Sheet4!$A$2:$A$8270,Sheet3!$B$1,Sheet4!$B$2:$B$8270,Sheet3!$A$3)","v":2575},{"$f":"+SUMIFS(Sheet4!$DN$2:$DN$8270,Sheet4!$D$2:$D$8270,Sheet3!AE$3,Sheet4!$E$2:$E$8270,Sheet3!AE$4,Sheet4!$A$2:$A$8270,Sheet3!$B$1,Sheet4!$B$2:$B$8270,Sheet3!$A$3)","v":309},{"$f":"+SUMIFS(Sheet4!$DN$2:$DN$8270,Sheet4!$D$2:$D$8270,Sheet3!AF$3,Sheet4!$E$2:$E$8270,Sheet3!AF$4,Sheet4!$A$2:$A$8270,Sheet3!$B$1,Sheet4!$B$2:$B$8270,Sheet3!$A$3)","v":46},{"$f":"+SUMIFS(Sheet4!$DN$2:$DN$8270,Sheet4!$D$2:$D$8270,Sheet3!AG$3,Sheet4!$E$2:$E$8270,Sheet3!AG$4,Sheet4!$A$2:$A$8270,Sheet3!$B$1,Sheet4!$B$2:$B$8270,Sheet3!$A$3)","v":0},{"$f":"+SUMIFS(Sheet4!$DN$2:$DN$8270,Sheet4!$D$2:$D$8270,Sheet3!AH$3,Sheet4!$E$2:$E$8270,Sheet3!AH$4,Sheet4!$A$2:$A$8270,Sheet3!$B$1,Sheet4!$B$2:$B$8270,Sheet3!$A$3)","v":6475},{"$f":"+SUMIFS(Sheet4!$DN$2:$DN$8270,Sheet4!$D$2:$D$8270,Sheet3!AI$3,Sheet4!$E$2:$E$8270,Sheet3!AI$4,Sheet4!$A$2:$A$8270,Sheet3!$B$1,Sheet4!$B$2:$B$8270,Sheet3!$A$3)","v":3300},{"$f":"+SUMIFS(Sheet4!$DN$2:$DN$8270,Sheet4!$D$2:$D$8270,Sheet3!AJ$3,Sheet4!$E$2:$E$8270,Sheet3!AJ$4,Sheet4!$A$2:$A$8270,Sheet3!$B$1,Sheet4!$B$2:$B$8270,Sheet3!$A$3)","v":720},{"$f":"+SUMIFS(Sheet4!$DN$2:$DN$8270,Sheet4!$D$2:$D$8270,Sheet3!AK$3,Sheet4!$E$2:$E$8270,Sheet3!AK$4,Sheet4!$A$2:$A$8270,Sheet3!$B$1,Sheet4!$B$2:$B$8270,Sheet3!$A$3)","v":37},{"$f":"+SUMIFS(Sheet4!$DN$2:$DN$8270,Sheet4!$D$2:$D$8270,Sheet3!AL$3,Sheet4!$E$2:$E$8270,Sheet3!AL$4,Sheet4!$A$2:$A$8270,Sheet3!$B$1,Sheet4!$B$2:$B$8270,Sheet3!$A$3)","v":1},{"$f":"+SUMIFS(Sheet4!$DN$2:$DN$8270,Sheet4!$D$2:$D$8270,Sheet3!AM$3,Sheet4!$E$2:$E$8270,Sheet3!AM$4,Sheet4!$A$2:$A$8270,Sheet3!$B$1,Sheet4!$B$2:$B$8270,Sheet3!$A$3)","v":6828},{"$f":"+SUMIFS(Sheet4!$DN$2:$DN$8270,Sheet4!$D$2:$D$8270,Sheet3!AN$3,Sheet4!$E$2:$E$8270,Sheet3!AN$4,Sheet4!$A$2:$A$8270,Sheet3!$B$1,Sheet4!$B$2:$B$8270,Sheet3!$A$3)","v":4487},{"$f":"+SUMIFS(Sheet4!$DN$2:$DN$8270,Sheet4!$D$2:$D$8270,Sheet3!AO$3,Sheet4!$E$2:$E$8270,Sheet3!AO$4,Sheet4!$A$2:$A$8270,Sheet3!$B$1,Sheet4!$B$2:$B$8270,Sheet3!$A$3)","v":1173},{"$f":"+SUMIFS(Sheet4!$DN$2:$DN$8270,Sheet4!$D$2:$D$8270,Sheet3!AP$3,Sheet4!$E$2:$E$8270,Sheet3!AP$4,Sheet4!$A$2:$A$8270,Sheet3!$B$1,Sheet4!$B$2:$B$8270,Sheet3!$A$3)","v":105},{"$f":"+SUMIFS(Sheet4!$DN$2:$DN$8270,Sheet4!$D$2:$D$8270,Sheet3!AQ$3,Sheet4!$E$2:$E$8270,Sheet3!AQ$4,Sheet4!$A$2:$A$8270,Sheet3!$B$1,Sheet4!$B$2:$B$8270,Sheet3!$A$3)","v":4},{"$f":"+SUMIFS(Sheet4!$DN$2:$DN$8270,Sheet4!$D$2:$D$8270,Sheet3!AR$3,Sheet4!$E$2:$E$8270,Sheet3!AR$4,Sheet4!$A$2:$A$8270,Sheet3!$B$1,Sheet4!$B$2:$B$8270,Sheet3!$A$3)","v":6802},{"$f":"+SUMIFS(Sheet4!$DN$2:$DN$8270,Sheet4!$D$2:$D$8270,Sheet3!AS$3,Sheet4!$E$2:$E$8270,Sheet3!AS$4,Sheet4!$A$2:$A$8270,Sheet3!$B$1,Sheet4!$B$2:$B$8270,Sheet3!$A$3)","v":1860},{"$f":"+SUMIFS(Sheet4!$DN$2:$DN$8270,Sheet4!$D$2:$D$8270,Sheet3!AT$3,Sheet4!$E$2:$E$8270,Sheet3!AT$4,Sheet4!$A$2:$A$8270,Sheet3!$B$1,Sheet4!$B$2:$B$8270,Sheet3!$A$3)","v":811},{"$f":"+SUMIFS(Sheet4!$DN$2:$DN$8270,Sheet4!$D$2:$D$8270,Sheet3!AU$3,Sheet4!$E$2:$E$8270,Sheet3!AU$4,Sheet4!$A$2:$A$8270,Sheet3!$B$1,Sheet4!$B$2:$B$8270,Sheet3!$A$3)","v":117},{"$f":"+SUMIFS(Sheet4!$DN$2:$DN$8270,Sheet4!$D$2:$D$8270,Sheet3!AV$3,Sheet4!$E$2:$E$8270,Sheet3!AV$4,Sheet4!$A$2:$A$8270,Sheet3!$B$1,Sheet4!$B$2:$B$8270,Sheet3!$A$3)","v":8},{"$f":"+SUMIFS(Sheet4!$DN$2:$DN$8270,Sheet4!$D$2:$D$8270,Sheet3!AW$3,Sheet4!$E$2:$E$8270,Sheet3!AW$4,Sheet4!$A$2:$A$8270,Sheet3!$B$1,Sheet4!$B$2:$B$8270,Sheet3!$A$3)","v":38312},{"$f":"+SUMIFS(Sheet4!$DN$2:$DN$8270,Sheet4!$D$2:$D$8270,Sheet3!AX$3,Sheet4!$E$2:$E$8270,Sheet3!AX$4,Sheet4!$A$2:$A$8270,Sheet3!$B$1,Sheet4!$B$2:$B$8270,Sheet3!$A$3)","v":12972},{"$f":"+SUMIFS(Sheet4!$DN$2:$DN$8270,Sheet4!$D$2:$D$8270,Sheet3!AY$3,Sheet4!$E$2:$E$8270,Sheet3!AY$4,Sheet4!$A$2:$A$8270,Sheet3!$B$1,Sheet4!$B$2:$B$8270,Sheet3!$A$3)","v":1783},{"$f":"+SUMIFS(Sheet4!$DN$2:$DN$8270,Sheet4!$D$2:$D$8270,Sheet3!AZ$3,Sheet4!$E$2:$E$8270,Sheet3!AZ$4,Sheet4!$A$2:$A$8270,Sheet3!$B$1,Sheet4!$B$2:$B$8270,Sheet3!$A$3)","v":201},{"$f":"+SUMIFS(Sheet4!$DN$2:$DN$8270,Sheet4!$D$2:$D$8270,Sheet3!BA$3,Sheet4!$E$2:$E$8270,Sheet3!BA$4,Sheet4!$A$2:$A$8270,Sheet3!$B$1,Sheet4!$B$2:$B$8270,Sheet3!$A$3)","v":18},{"$f":"+SUMIFS(Sheet4!$DN$2:$DN$8270,Sheet4!$D$2:$D$8270,Sheet3!BB$3,Sheet4!$E$2:$E$8270,Sheet3!BB$4,Sheet4!$A$2:$A$8270,Sheet3!$B$1,Sheet4!$B$2:$B$8270,Sheet3!$A$3)","v":581},{"$f":"+SUMIFS(Sheet4!$DN$2:$DN$8270,Sheet4!$D$2:$D$8270,Sheet3!BC$3,Sheet4!$E$2:$E$8270,Sheet3!BC$4,Sheet4!$A$2:$A$8270,Sheet3!$B$1,Sheet4!$B$2:$B$8270,Sheet3!$A$3)","v":1349},{"$f":"+SUMIFS(Sheet4!$DN$2:$DN$8270,Sheet4!$D$2:$D$8270,Sheet3!BD$3,Sheet4!$E$2:$E$8270,Sheet3!BD$4,Sheet4!$A$2:$A$8270,Sheet3!$B$1,Sheet4!$B$2:$B$8270,Sheet3!$A$3)","v":209},{"$f":"+SUMIFS(Sheet4!$DN$2:$DN$8270,Sheet4!$D$2:$D$8270,Sheet3!BE$3,Sheet4!$E$2:$E$8270,Sheet3!BE$4,Sheet4!$A$2:$A$8270,Sheet3!$B$1,Sheet4!$B$2:$B$8270,Sheet3!$A$3)","v":21},{"$f":"+SUMIFS(Sheet4!$DN$2:$DN$8270,Sheet4!$D$2:$D$8270,Sheet3!BF$3,Sheet4!$E$2:$E$8270,Sheet3!BF$4,Sheet4!$A$2:$A$8270,Sheet3!$B$1,Sheet4!$B$2:$B$8270,Sheet3!$A$3)","v":0},{"$f":"+SUMIFS(Sheet4!$DN$2:$DN$8270,Sheet4!$D$2:$D$8270,Sheet3!BG$3,Sheet4!$E$2:$E$8270,Sheet3!BG$4,Sheet4!$A$2:$A$8270,Sheet3!$B$1,Sheet4!$B$2:$B$8270,Sheet3!$A$3)","v":3161},{"$f":"+SUMIFS(Sheet4!$DN$2:$DN$8270,Sheet4!$D$2:$D$8270,Sheet3!BH$3,Sheet4!$E$2:$E$8270,Sheet3!BH$4,Sheet4!$A$2:$A$8270,Sheet3!$B$1,Sheet4!$B$2:$B$8270,Sheet3!$A$3)","v":1524},{"$f":"+SUMIFS(Sheet4!$DN$2:$DN$8270,Sheet4!$D$2:$D$8270,Sheet3!BI$3,Sheet4!$E$2:$E$8270,Sheet3!BI$4,Sheet4!$A$2:$A$8270,Sheet3!$B$1,Sheet4!$B$2:$B$8270,Sheet3!$A$3)","v":779},{"$f":"+SUMIFS(Sheet4!$DN$2:$DN$8270,Sheet4!$D$2:$D$8270,Sheet3!BJ$3,Sheet4!$E$2:$E$8270,Sheet3!BJ$4,Sheet4!$A$2:$A$8270,Sheet3!$B$1,Sheet4!$B$2:$B$8270,Sheet3!$A$3)","v":133},{"$f":"+SUMIFS(Sheet4!$DN$2:$DN$8270,Sheet4!$D$2:$D$8270,Sheet3!BK$3,Sheet4!$E$2:$E$8270,Sheet3!BK$4,Sheet4!$A$2:$A$8270,Sheet3!$B$1,Sheet4!$B$2:$B$8270,Sheet3!$A$3)","v":2},{"$f":"+SUMIFS(Sheet4!$DN$2:$DN$8270,Sheet4!$D$2:$D$8270,Sheet3!BL$3,Sheet4!$E$2:$E$8270,Sheet3!BL$4,Sheet4!$A$2:$A$8270,Sheet3!$B$1,Sheet4!$B$2:$B$8270,Sheet3!$A$3)","v":1292},{"$f":"+SUMIFS(Sheet4!$DN$2:$DN$8270,Sheet4!$D$2:$D$8270,Sheet3!BM$3,Sheet4!$E$2:$E$8270,Sheet3!BM$4,Sheet4!$A$2:$A$8270,Sheet3!$B$1,Sheet4!$B$2:$B$8270,Sheet3!$A$3)","v":2533},{"$f":"+SUMIFS(Sheet4!$DN$2:$DN$8270,Sheet4!$D$2:$D$8270,Sheet3!BN$3,Sheet4!$E$2:$E$8270,Sheet3!BN$4,Sheet4!$A$2:$A$8270,Sheet3!$B$1,Sheet4!$B$2:$B$8270,Sheet3!$A$3)","v":2111},{"$f":"+SUMIFS(Sheet4!$DN$2:$DN$8270,Sheet4!$D$2:$D$8270,Sheet3!BO$3,Sheet4!$E$2:$E$8270,Sheet3!BO$4,Sheet4!$A$2:$A$8270,Sheet3!$B$1,Sheet4!$B$2:$B$8270,Sheet3!$A$3)","v":1114},{"$f":"+SUMIFS(Sheet4!$DN$2:$DN$8270,Sheet4!$D$2:$D$8270,Sheet3!BP$3,Sheet4!$E$2:$E$8270,Sheet3!BP$4,Sheet4!$A$2:$A$8270,Sheet3!$B$1,Sheet4!$B$2:$B$8270,Sheet3!$A$3)","v":85},{"$f":"+SUMIFS(Sheet4!$DN$2:$DN$8270,Sheet4!$D$2:$D$8270,Sheet3!BQ$3,Sheet4!$E$2:$E$8270,Sheet3!BQ$4,Sheet4!$A$2:$A$8270,Sheet3!$B$1,Sheet4!$B$2:$B$8270,Sheet3!$A$3)","v":8349},{"$f":"+SUMIFS(Sheet4!$DN$2:$DN$8270,Sheet4!$D$2:$D$8270,Sheet3!BR$3,Sheet4!$E$2:$E$8270,Sheet3!BR$4,Sheet4!$A$2:$A$8270,Sheet3!$B$1,Sheet4!$B$2:$B$8270,Sheet3!$A$3)","v":5885},{"$f":"+SUMIFS(Sheet4!$DN$2:$DN$8270,Sheet4!$D$2:$D$8270,Sheet3!BS$3,Sheet4!$E$2:$E$8270,Sheet3!BS$4,Sheet4!$A$2:$A$8270,Sheet3!$B$1,Sheet4!$B$2:$B$8270,Sheet3!$A$3)","v":2709},{"$f":"+SUMIFS(Sheet4!$DN$2:$DN$8270,Sheet4!$D$2:$D$8270,Sheet3!BT$3,Sheet4!$E$2:$E$8270,Sheet3!BT$4,Sheet4!$A$2:$A$8270,Sheet3!$B$1,Sheet4!$B$2:$B$8270,Sheet3!$A$3)","v":434},{"$f":"+SUMIFS(Sheet4!$DN$2:$DN$8270,Sheet4!$D$2:$D$8270,Sheet3!BU$3,Sheet4!$E$2:$E$8270,Sheet3!BU$4,Sheet4!$A$2:$A$8270,Sheet3!$B$1,Sheet4!$B$2:$B$8270,Sheet3!$A$3)","v":21},{"$f":"+SUMIFS(Sheet4!$DN$2:$DN$8270,Sheet4!$D$2:$D$8270,Sheet3!BV$3,Sheet4!$E$2:$E$8270,Sheet3!BV$4,Sheet4!$A$2:$A$8270,Sheet3!$B$1,Sheet4!$B$2:$B$8270,Sheet3!$A$3)","v":7205},{"$f":"+SUMIFS(Sheet4!$DN$2:$DN$8270,Sheet4!$D$2:$D$8270,Sheet3!BW$3,Sheet4!$E$2:$E$8270,Sheet3!BW$4,Sheet4!$A$2:$A$8270,Sheet3!$B$1,Sheet4!$B$2:$B$8270,Sheet3!$A$3)","v":2935},{"$f":"+SUMIFS(Sheet4!$DN$2:$DN$8270,Sheet4!$D$2:$D$8270,Sheet3!BX$3,Sheet4!$E$2:$E$8270,Sheet3!BX$4,Sheet4!$A$2:$A$8270,Sheet3!$B$1,Sheet4!$B$2:$B$8270,Sheet3!$A$3)","v":1155},{"$f":"+SUMIFS(Sheet4!$DN$2:$DN$8270,Sheet4!$D$2:$D$8270,Sheet3!BY$3,Sheet4!$E$2:$E$8270,Sheet3!BY$4,Sheet4!$A$2:$A$8270,Sheet3!$B$1,Sheet4!$B$2:$B$8270,Sheet3!$A$3)","v":389},{"$f":"+SUMIFS(Sheet4!$DN$2:$DN$8270,Sheet4!$D$2:$D$8270,Sheet3!BZ$3,Sheet4!$E$2:$E$8270,Sheet3!BZ$4,Sheet4!$A$2:$A$8270,Sheet3!$B$1,Sheet4!$B$2:$B$8270,Sheet3!$A$3)","v":59},{"$f":"+SUMIFS(Sheet4!$DN$2:$DN$8270,Sheet4!$D$2:$D$8270,Sheet3!CA$3,Sheet4!$E$2:$E$8270,Sheet3!CA$4,Sheet4!$A$2:$A$8270,Sheet3!$B$1,Sheet4!$B$2:$B$8270,Sheet3!$A$3)","v":5480},{"$f":"+SUMIFS(Sheet4!$DN$2:$DN$8270,Sheet4!$D$2:$D$8270,Sheet3!CB$3,Sheet4!$E$2:$E$8270,Sheet3!CB$4,Sheet4!$A$2:$A$8270,Sheet3!$B$1,Sheet4!$B$2:$B$8270,Sheet3!$A$3)","v":2522},{"$f":"+SUMIFS(Sheet4!$DN$2:$DN$8270,Sheet4!$D$2:$D$8270,Sheet3!CC$3,Sheet4!$E$2:$E$8270,Sheet3!CC$4,Sheet4!$A$2:$A$8270,Sheet3!$B$1,Sheet4!$B$2:$B$8270,Sheet3!$A$3)","v":1945},{"$f":"+SUMIFS(Sheet4!$DN$2:$DN$8270,Sheet4!$D$2:$D$8270,Sheet3!CD$3,Sheet4!$E$2:$E$8270,Sheet3!CD$4,Sheet4!$A$2:$A$8270,Sheet3!$B$1,Sheet4!$B$2:$B$8270,Sheet3!$A$3)","v":194},{"$f":"+SUMIFS(Sheet4!$DN$2:$DN$8270,Sheet4!$D$2:$D$8270,Sheet3!CE$3,Sheet4!$E$2:$E$8270,Sheet3!CE$4,Sheet4!$A$2:$A$8270,Sheet3!$B$1,Sheet4!$B$2:$B$8270,Sheet3!$A$3)","v":5},{"$f":"+SUMIFS(Sheet4!$DN$2:$DN$8270,Sheet4!$D$2:$D$8270,Sheet3!CF$3,Sheet4!$E$2:$E$8270,Sheet3!CF$4,Sheet4!$A$2:$A$8270,Sheet3!$B$1,Sheet4!$B$2:$B$8270,Sheet3!$A$3)","v":3},{"$f":"+SUMIFS(Sheet4!$DN$2:$DN$8270,Sheet4!$D$2:$D$8270,Sheet3!CG$3,Sheet4!$E$2:$E$8270,Sheet3!CG$4,Sheet4!$A$2:$A$8270,Sheet3!$B$1,Sheet4!$B$2:$B$8270,Sheet3!$A$3)","v":59},{"$f":"+SUMIFS(Sheet4!$DN$2:$DN$8270,Sheet4!$D$2:$D$8270,Sheet3!CH$3,Sheet4!$E$2:$E$8270,Sheet3!CH$4,Sheet4!$A$2:$A$8270,Sheet3!$B$1,Sheet4!$B$2:$B$8270,Sheet3!$A$3)","v":144},{"$f":"+SUMIFS(Sheet4!$DN$2:$DN$8270,Sheet4!$D$2:$D$8270,Sheet3!CI$3,Sheet4!$E$2:$E$8270,Sheet3!CI$4,Sheet4!$A$2:$A$8270,Sheet3!$B$1,Sheet4!$B$2:$B$8270,Sheet3!$A$3)","v":30},{"$f":"+SUMIFS(Sheet4!$DN$2:$DN$8270,Sheet4!$D$2:$D$8270,Sheet3!CJ$3,Sheet4!$E$2:$E$8270,Sheet3!CJ$4,Sheet4!$A$2:$A$8270,Sheet3!$B$1,Sheet4!$B$2:$B$8270,Sheet3!$A$3)","v":0},{"$f":"+SUMIFS(Sheet4!$DN$2:$DN$8270,Sheet4!$D$2:$D$8270,Sheet3!CK$3,Sheet4!$E$2:$E$8270,Sheet3!CK$4,Sheet4!$A$2:$A$8270,Sheet3!$B$1,Sheet4!$B$2:$B$8270,Sheet3!$A$3)","v":264},{"$f":"+SUMIFS(Sheet4!$DN$2:$DN$8270,Sheet4!$D$2:$D$8270,Sheet3!CL$3,Sheet4!$E$2:$E$8270,Sheet3!CL$4,Sheet4!$A$2:$A$8270,Sheet3!$B$1,Sheet4!$B$2:$B$8270,Sheet3!$A$3)","v":31},{"$f":"+SUMIFS(Sheet4!$DN$2:$DN$8270,Sheet4!$D$2:$D$8270,Sheet3!CM$3,Sheet4!$E$2:$E$8270,Sheet3!CM$4,Sheet4!$A$2:$A$8270,Sheet3!$B$1,Sheet4!$B$2:$B$8270,Sheet3!$A$3)","v":11},{"$f":"+SUMIFS(Sheet4!$DN$2:$DN$8270,Sheet4!$D$2:$D$8270,Sheet3!CN$3,Sheet4!$E$2:$E$8270,Sheet3!CN$4,Sheet4!$A$2:$A$8270,Sheet3!$B$1,Sheet4!$B$2:$B$8270,Sheet3!$A$3)","v":0},{"$f":"+SUMIFS(Sheet4!$DN$2:$DN$8270,Sheet4!$D$2:$D$8270,Sheet3!CO$3,Sheet4!$E$2:$E$8270,Sheet3!CO$4,Sheet4!$A$2:$A$8270,Sheet3!$B$1,Sheet4!$B$2:$B$8270,Sheet3!$A$3)","v":0},{"$f":"+SUMIFS(Sheet4!$DN$2:$DN$8270,Sheet4!$D$2:$D$8270,Sheet3!CP$3,Sheet4!$A$2:$A$8270,Sheet3!$B$1,Sheet4!$B$2:$B$8270,Sheet3!$A$3)","v":456},{"$f":"+SUMIFS(Sheet4!$DN$2:$DN$8270,Sheet4!$D$2:$D$8270,Sheet3!CQ$3,Sheet4!$A$2:$A$8270,Sheet3!$B$1,Sheet4!$B$2:$B$8270,Sheet3!$A$3)","v":6804},{"$f":"+SUMIFS(Sheet4!$DN$2:$DN$8270,Sheet4!$D$2:$D$8270,Sheet3!CR$3,Sheet4!$A$2:$A$8270,Sheet3!$B$1,Sheet4!$B$2:$B$8270,Sheet3!$A$3)","v":5959},{"$f":"+SUMIFS(Sheet4!$DN$2:$DN$8270,Sheet4!$D$2:$D$8270,Sheet3!CS$3,Sheet4!$A$2:$A$8270,Sheet3!$B$1,Sheet4!$B$2:$B$8270,Sheet3!$A$3)","v":611},{"$f":"+SUMIFS(Sheet4!$DN$2:$DN$8270,Sheet4!$D$2:$D$8270,Sheet3!CT$3,Sheet4!$A$2:$A$8270,Sheet3!$B$1,Sheet4!$B$2:$B$8270,Sheet3!$A$3)","v":183},{"$f":"+SUMIFS(Sheet4!$DN$2:$DN$8270,Sheet4!$D$2:$D$8270,Sheet3!CU$3,Sheet4!$A$2:$A$8270,Sheet3!$B$1,Sheet4!$B$2:$B$8270,Sheet3!$A$3)","v":14691},{"$f":"+SUMIFS(Sheet4!$DN$2:$DN$8270,Sheet4!$D$2:$D$8270,Sheet3!CV$3,Sheet4!$A$2:$A$8270,Sheet3!$B$1,Sheet4!$B$2:$B$8270,Sheet3!$A$3)","v":10533},{"$f":"+SUMIFS(Sheet4!$DN$2:$DN$8270,Sheet4!$D$2:$D$8270,Sheet3!CW$3,Sheet4!$A$2:$A$8270,Sheet3!$B$1,Sheet4!$B$2:$B$8270,Sheet3!$A$3)","v":12597},{"$f":"+SUMIFS(Sheet4!$DN$2:$DN$8270,Sheet4!$D$2:$D$8270,Sheet3!CX$3,Sheet4!$A$2:$A$8270,Sheet3!$B$1,Sheet4!$B$2:$B$8270,Sheet3!$A$3)","v":9598},{"$f":"+SUMIFS(Sheet4!$DN$2:$DN$8270,Sheet4!$D$2:$D$8270,Sheet3!CY$3,Sheet4!$A$2:$A$8270,Sheet3!$B$1,Sheet4!$B$2:$B$8270,Sheet3!$A$3)","v":53286},{"$f":"+SUMIFS(Sheet4!$DN$2:$DN$8270,Sheet4!$D$2:$D$8270,Sheet3!CZ$3,Sheet4!$A$2:$A$8270,Sheet3!$B$1,Sheet4!$B$2:$B$8270,Sheet3!$A$3)","v":2160},{"$f":"+SUMIFS(Sheet4!$DN$2:$DN$8270,Sheet4!$D$2:$D$8270,Sheet3!DA$3,Sheet4!$A$2:$A$8270,Sheet3!$B$1,Sheet4!$B$2:$B$8270,Sheet3!$A$3)","v":5599},{"$f":"+SUMIFS(Sheet4!$DN$2:$DN$8270,Sheet4!$D$2:$D$8270,Sheet3!DB$3,Sheet4!$A$2:$A$8270,Sheet3!$B$1,Sheet4!$B$2:$B$8270,Sheet3!$A$3)","v":7135},{"$f":"+SUMIFS(Sheet4!$DN$2:$DN$8270,Sheet4!$D$2:$D$8270,Sheet3!DC$3,Sheet4!$A$2:$A$8270,Sheet3!$B$1,Sheet4!$B$2:$B$8270,Sheet3!$A$3)","v":17398},{"$f":"+SUMIFS(Sheet4!$DN$2:$DN$8270,Sheet4!$D$2:$D$8270,Sheet3!DD$3,Sheet4!$A$2:$A$8270,Sheet3!$B$1,Sheet4!$B$2:$B$8270,Sheet3!$A$3)","v":11743},{"$f":"+SUMIFS(Sheet4!$DN$2:$DN$8270,Sheet4!$D$2:$D$8270,Sheet3!DE$3,Sheet4!$A$2:$A$8270,Sheet3!$B$1,Sheet4!$B$2:$B$8270,Sheet3!$A$3)","v":10146},{"$f":"+SUMIFS(Sheet4!$DN$2:$DN$8270,Sheet4!$D$2:$D$8270,Sheet3!DF$3,Sheet4!$A$2:$A$8270,Sheet3!$B$1,Sheet4!$B$2:$B$8270,Sheet3!$A$3)","v":236},{"$f":"+SUMIFS(Sheet4!$DN$2:$DN$8270,Sheet4!$D$2:$D$8270,Sheet3!DG$3,Sheet4!$A$2:$A$8270,Sheet3!$B$1,Sheet4!$B$2:$B$8270,Sheet3!$A$3)","v":306},{"$f":"+SUMIFS(Sheet4!$DN$2:$DN$8270,Sheet4!$E$2:$E$8270,Sheet3!DH$4,Sheet4!$A$2:$A$8270,Sheet3!$B$1,Sheet4!$B$2:$B$8270,Sheet3!$A$3)","v":106618},{"$f":"+SUMIFS(Sheet4!$DN$2:$DN$8270,Sheet4!$E$2:$E$8270,Sheet3!DI$4,Sheet4!$A$2:$A$8270,Sheet3!$B$1,Sheet4!$B$2:$B$8270,Sheet3!$A$3)","v":44541},{"$f":"+SUMIFS(Sheet4!$DN$2:$DN$8270,Sheet4!$E$2:$E$8270,Sheet3!DJ$4,Sheet4!$A$2:$A$8270,Sheet3!$B$1,Sheet4!$B$2:$B$8270,Sheet3!$A$3)","v":15100},{"$f":"+SUMIFS(Sheet4!$DN$2:$DN$8270,Sheet4!$E$2:$E$8270,Sheet3!DK$4,Sheet4!$A$2:$A$8270,Sheet3!$B$1,Sheet4!$B$2:$B$8270,Sheet3!$A$3)","v":2975},{"$f":"+SUMIFS(Sheet4!$DN$2:$DN$8270,Sheet4!$E$2:$E$8270,Sheet3!DL$4,Sheet4!$A$2:$A$8270,Sheet3!$B$1,Sheet4!$B$2:$B$8270,Sheet3!$A$3)","v":207}]

{"sheet":"Sheet4","index":8,"n_rows":8270,"n_cols":119,"rows_kept":562,"cut":true,"hidden":true,"merged":[],"bounds":{"rows_first":250,"rows_last":62,"rows_between":250,"halvings":3}}
["tipo","REG_sinal","NUT3_2013","OTE_sub","cl_MG_excel","CountOfGPP_ID","SumOfVpp","SumOfSAU","SumD_RPB","SumMG_Direitos","SUmofSAU_est","SumOfSAU_IRRIG","SumOfCult_Temp","SumOf_ARV_Ind_SEQ","SumOf_ARV_Ind_Reg","SumOfSF","SumOfPousio","SumOfCP","SumOfPP","Sumpp_02cn","SumOfCNH","SumOfCNT","SumOfS_RPB","SumOfS_MAA","SumOfS_MZD","SumOfAD_Totais2015","ajudas_desligadas","SumOfRPA","RPB_total","SumOfRPBAJU","SumOfRPBJOV","SumOfGREEN","redistributivo","SumOfPag_lig","SumOfVACAS_ALEIT","SumOfPAG_OV_CAP","SumOfVACAS_leite","SumOfPAG_COMPL_Leite","SumOfPAG_TOMATE","SumOfPAG_ARROZ","2_pilar","SumOfMZD","SumOfMZD_ZCE","SumOfMZD_ZCN","SumOfMZD_ZM","MAA","SumOfMAAABC","SumOfMAAABM","SumOfMAAAPI","SumOfMAACPD","SumOfMAACPT","SumOfMAACSE","SumOfMAACSS","SumOfMAAMAF","SumOfMAAMNS","SumOfMAAPDI","SumOfMAAPGP","SumOfMAAPGS","SumOfMAAPLR","SumOfMAAPLS","SumOfMAAPMT","SumOfMAAPPL","SumOfMAARAE","SumOfMAARCV","SumOfMAARGN","SumOfMAAROA","SumOfMAAUEA","PAg_Natura","PAg_produtores","SumOfCereais_seq","SumOfMilho_grao","SumOfArroz","SumOfOleag_proteag","SumOfHorticolas","SumOfForrag_prados_temp","SumOfPousios","SumOfPomares","SumOfVinha","SumOfOlival","SumOfPast_prados_perm","SumOfVacas_leite1","SumOfVacas_aleit1","SumOfOutros_bov","SumOfOvelhas","SumOfOutros_ovinos","SumOfCabras","SumOfOutros_cap","PI_N","PI_SAU","PABC_N","PABC_SAU","PABM_N","PABM_SAU","PUEA_N","PUEA_SAU","PCPT_N","PCPT_SAU","PCSS_N","PCSS_SAU","PCSE_N","PCSE_SAU","PPLS_N","PPLS_SAU","PPLR_N","PPLR_SAU","PPMT_N","PPMT_SAU","PPPL_N","PPPL_SAU",null,null,null,null,null,"cod","Cod1"]
[2,1,"111",0,1,2,5433.1672156812556,1.57,1.98,118.16,0,0,0,0,0,1.39,0,0.04,0.14000000000000001,0.14000000000000001,1.05,5.05,1.57,0,1.57,1693.18,1693.18,1693.18,0,0,0,0,0,0,0,0,0,0,0,0,533,533,0,0,533,0,0,0,0,0,0,0,0,0,0,0,0,0,0,0,0,0,0,0,0,0,0,0,2226.1799999999998,null,null,null,null,null,1.96,null,null,0.19,null,2.14,null,null,null,6,1,null,null,0,0,0,0,0,0,0,0,0,0,0,0,0,0,0,0,0,0,0,0,0,0,null,null,null,null,null,null,null,{"$f":"+DN2*DO2","v":0},{"$f":"+INDEX($F2:$DJ2,1,Sheet3!$C$1)","v":2},{"$f":"+IF(Sheet3!$C$1=1,IF(DN2<3,0,1),1)","v":0}]
[2,1,"111","1_1",1,187,279417.71725889918,235.37499999999991,218.71999999999991,23937.529999999992,0,194.38,137.22,0,0,45.71,8.11,18.73,26.47,7.0000000000000007E-2,3.75,3.75,236.34999999999994,1.42,185.58999999999997,158274.75999999992,158274.75999999992,158274.75999999992,0,0,0,0,0,0,0,0,0,0,0,0,35246.199999999997,34676.19999999999,0,0,34676.19999999999,570,0,570,0,0,0,0,0,0,0,0,0,0,0,0,0,0,0,0,0,0,0,0,193520.95999999993,0.85,106.68,null,null,9.25,73.59,12.5,0.8,13.01,1.38,15.29,null,6,8,14,2,null,null,0,0,0,0,1,1.42,0,0,0,0,0,0,0,0,0,0,0,0,0,0,0,0,null,null,null,null,null,null,null,{"$f":"+DN3*DO3","v":187},{"$f":"+INDEX($F3:$DJ3,1,Sheet3!$C$1)","v":187},{"$f":"+IF(Sheet3!$C$1=1,IF(DN3<3,0,1),1)","v":1}]
[2,1,"111","1_2",1,84,96456.44817043122,92.680000000000035,86.45999999999998,10788.270000000004,0,14.42,40.36,0,0,25.45,6.8,7.35,12.72,0,1.7999999999999998,1.7999999999999998,92.680000000000035,0,57.989999999999995,70968.459999999977,70968.459999999977,70968.459999999977,0,0,0,0,0,0,0,0,0,0,0,0,8646.9,8646.9,0,0,8646.9,0,0,0,0,0,0,0,0,0,0,0,0,0,0,0,0,0,0,0,0,0,0,0,79615.359999999986,1.75,34.479999999999997,null,null,2.08,30.85,6.73,0.31,5.23,0.67,6.69,null,1,4,10,4,null,null,0,0,0,0,0,0,0,0,0,0,0,0,0,0,0,0,0,0,0,0,0,0,null,null,null,null,null,null,null,84,{"$f":"+INDEX($F4:$DJ4,1,Sheet3!$C$1)","v":84},{"$f":"+IF(Sheet3!$C$1=1,IF(DN4<3,0,1),1)","v":1}]
[3,1,"111",0,1,2,5433.1672156812556,1.57,1.98,118.16,0,0,0,0,0,1.39,0,0.04,0.14000000000000001,0.14000000000000001,1.05,5.05,1.57,0,1.57,1693.18,1693.18,1693.18,0,0,0,0,0,0,0,0,0,0,0,0,533,533,0,0,533,0,0,0,0,0,0,0,0,0,0,0,0,0,0,0,0,0,0,0,0,0,0,0,2226.1799999999998,null,null,null,null,null,1.96,null,null,0.19,null,2.14,null,null,null,6,1,null,null,0,0,0,0,0,0,0,0,0,0,0,0,0,0,0,0,0,0,0,0,0,0,null,null,null,null,null,null,null,0,{"$f":"+INDEX($F5:$DJ5,1,Sheet3!$C$1)","v":2},{"$f":"+IF(Sheet3!$C$1=1,IF(DN5<3,0,1),1)","v":0}]
[3,1,"111","1_1",1,187,279417.71725889918,235.37499999999991,218.71999999999991,23937.529999999992,0,194.38,137.22,0,0,45.71,8.11,18.73,26.47,7.0000000000000007E-2,3.75,3.75,236.34999999999994,1.42,185.58999999999997,158274.75999999992,158274.75999999992,158274.75999999992,0,0,0,0,0,0,0,0,0,0,0,0,35246.199999999997,34676.19999999999,0,0,34676.19999999999,570,0,570,0,0,0,0,0,0,0,0,0,0,0,0,0,0,0,0,0,0,0,0,193520.95999999993,0.85,106.68,null,null,9.25,73.59,12.5,0.8,13.01,1.38,15.29,null,6,8,14,2,null,null,0,0,0,0,1,1.42,0,0,0,0,0,0,0,0,0,0,0,0,0,0,0,0,null,null,null,null,null,null,null,187,{"$f":"+INDEX($F6:$DJ6,1,Sheet3!$C$1)","v":187},{"$f":"+IF(Sheet3!$C$1=1,IF(DN6<3,0,1),1)","v":1}]
[3,1,"111","1_2",1,85,102387.75507086761,99.47,93.109999999999985,11185.140000000003,0,14.42,46.34,0,0,25.89,6.8,7.39,13.05,0,1.7999999999999998,1.7999999999999998,99.47,0,64.78,71815.069999999978,71815.069999999978,71815.069999999978,0,0,0,0,0,0,0,0,0,0,0,0,10000.699999999999,10000.699999999999,0,0,10000.699999999999,0,0,0,0,0,0,0,0,0,0,0,0,0,0,0,0,0,0,0,0,0,0,0,81815.76999999999,4.01,39.159999999999997,null,null,2.08,31.07,6.73,0.31,5.26,0.67,6.97,null,1,4,10,4,null,null,0,0,0,0,0,0,0,0,0,0,0,0,0,0,0,0,0,0,0,0,0,0,null,null,null,null,null,null,null,85,{"$f":"+INDEX($F7:$DJ7,1,Sheet3!$C$1)","v":85},{"$f":"+IF(Sheet3!$C$1=1,IF(DN7<3,0,1),1)","v":1}]
[3,1,"111",4,1,82,757330.08366131724,113.05000000000003,98.679999999999978,9929.4900000000052,0,62.66,45.52,0,0,17.510000000000002,8.77,14.68,31.75,12.870000000000001,8.7000000000000011,8.7000000000000011,108.29,2.73,91.409999999999982,69319.739999999991,69319.739999999991,69319.739999999991,0,0,0,0,0,0,0,0,0,0,0,0,16666.16,16042.130000000001,0,0,16042.130000000001,624.03,0,0,0,0,0,0,0,0,0,438.15,0,127.2,58.68,0,0,0,0,0,0,0,0,0,85985.900000000038,0.96,19.53,null,null,22.42,29.27,7.24,1.71,9.2200000000000006,1.42,21.18,null,null,1,33,5,4,1,1,1.49,0,0,0,0,0,0,0,0,0,0,0,0,0,0,1,0.71,0,0,0,0,null,null,null,null,null,null,null,82,{"$f":"+INDEX($F8:$DJ8,1,Sheet3!$C$1)","v":82},{"$f":"+IF(Sheet3!$C$1=1,IF(DN8<3,0,1),1)","v":1}]
[3,1,"111",5,1,289,1461600.9273001337,726.70500000000072,617.74999999999989,43309.539999999994,0,364.07,28.63,0,0,58.1,10.66,593.30500000000006,36.01,9.93,49.350000000000023,50.350000000000023,728.13000000000079,162.96,714.92000000000064,243588.86999999962,243588.86999999962,243588.86999999962,0,0,0,0,0,0,0,0,0,0,0,0,207797.18000000011,157261.10000000003,0,0,157261.10000000003,50536.08,0,3218.45,0,0,0,5695.37,0,0,0,41622.26,0,0,0,0,0,0,0,0,0,0,0,0,451386.04999999981,2.4,22.07,null,null,8.5500000000000007,75.11,8.82,4.2699999999999996,537.11,3.01,30.84,null,3,3,260,42,3,null,40,156.41999999999999,0,0,2,6.54,0,0,0,0,0,0,13,54.81,0,0,0,0,0,0,0,0,null,null,null,null,null,null,null,289,{"$f":"+INDEX($F9:$DJ9,1,Sheet3!$C$1)","v":289},{"$f":"+IF(Sheet3!$C$1=1,IF(DN9<3,0,1),1)","v":1}]
[3,1,"111",6,1,68,1373730.0153748489,121.12,101.50999999999999,8686.1899999999969,0,84.72,8.7799999999999994,0,0,13.38,2.06,88.350000000000023,8.5500000000000007,3.63,8.5,13.5,122.08000000000001,6.9799999999999995,111.07,57326.739999999983,57326.739999999983,57326.739999999983,0,0,0,0,0,0,0,0,0,0,0,0,28362.28999999999,25080.89,0,0,25080.89,3281.4,0,612,0,0,0,0,0,0,0,2494.1999999999998,0,175.2,0,0,0,0,0,0,0,0,0,0,85689.029999999984,0.15,6.79,null,null,3.72,13.4,2.39,46.3,12.2,0.63,6.23,null,4,2,27,1,5,1,4,6.16,0,0,1,0.7,0,0,0,0,0,0,0,0,0,0,0,0,0,0,0,0,null,null,null,null,null,null,null,68,{"$f":"+INDEX($F10:$DJ10,1,Sheet3!$C$1)","v":68},{"$f":"+IF(Sheet3!$C$1=1,IF(DN10<3,0,1),1)","v":1}]
[3,1,"111",8,1,1256,3052044.7737378669,1739.1650000000004,1590.1900000000005,157626.42999999993,0,952.96,512.91,0,0,328.93,117.02,587.995,198.87,45.199999999999996,189.14999999999989,200.42999999999986,1750.7500000000005,14.89,1440.369999999999,1058834.4499999855,1058834.4499999855,1058834.4499999855,0,0,0,0,0,0,0,0,0,0,0,0,301731.96000000008,294590.90000000026,0,0,294590.90000000026,7141.06,0,3837,0,0,162,135.44999999999999,0,0,0,1836.54,0,434.4,0,0,0,0,0,0,735.67,0,0,0,1360566.4100000053,16.36,375.07,null,1.1000000000000001,108.99,425.49,128.27000000000001,35.74,336.7,36.78,139.18,1,56,88,516,84,110,22,3,4.8499999999999996,0,0,2,6.99,0,0,1,1.24,0,0,1,1.29,0,0,0,0,0,0,0,0,null,null,null,null,null,null,null,1256,{"$f":"+INDEX($F11:$DJ11,1,Sheet3!$C$1)","v":1256},{"$f":"+IF(Sheet3!$C$1=1,IF(DN11<3,0,1),1)","v":1}]
[3,1,"111","10_1",1,50,188266.2133846498,94.629999999999981,63.560000000000016,5460.3200000000006,0,68.260000000000005,6.33,0,0,39.090000000000003,0,6.8199999999999994,50.87,50.870000000000005,209.85000000000002,209.85000000000002,104.02999999999994,0.47,102.22999999999996,42226.379999999983,42226.379999999983,42226.379999999983,0,0,0,0,0,0,0,0,0,0,0,0,24819.659999999989,23894.94999999999,0,0,23894.94999999999,924.71,0,0,0,0,0,0,0,0,0,0,0,112.8,0,0,0,0,0,0,811.91,0,0,0,67046.040000000008,0.06,6.21,null,null,2.2000000000000002,56.62,null,0.62,5.54,0.89,37.700000000000003,null,89,136,25,2,5,2,0,0,0,0,0,0,0,0,0,0,0,0,0,0,0,0,0,0,0,0,0,0,null,null,null,null,null,null,null,50,{"$f":"+INDEX($F12:$DJ12,1,Sheet3!$C$1)","v":50},{"$f":"+IF(Sheet3!$C$1=1,IF(DN12<3,0,1),1)","v":1}]
[3,1,"111","10_2",1,102,426917.71308499086,329.6450000000001,135.29000000000002,11908.66,0,102.23,15.62,0,0,63.61,0.56000000000000005,2.13,439.15,373.34000000000009,222.5499999999999,225.54999999999993,426.74999999999994,4.07,524.79999999999984,86065.299999999974,86065.299999999974,86065.299999999974,0,0,0,0,0,0,0,0,0,0,0,0,78641.39999999998,75651.099999999977,0,0,75651.099999999977,2990.3,0,0,0,0,0,0,0,0,0,0,0,542.4,647.9,0,0,0,0,0,1800,0,0,0,164706.69999999998,0.24,16.850000000000001,null,null,2.71,82.76,0.03,0.62,7.08,0.67,397.31,4,128,140,47,11,7,null,0,0,0,0,0,0,0,0,0,0,0,0,0,0,0,0,3,3.41,0,0,0,0,null,null,null,null,null,null,null,102,{"$f":"+INDEX($F13:$DJ13,1,Sheet3!$C$1)","v":102},{"$f":"+IF(Sheet3!$C$1=1,IF(DN13<3,0,1),1)","v":1}]
[3,1,"111",11,1,333,1091502.1023378163,928.53999999999951,442.88999999999993,39362.960000000006,0,310.14999999999998,32.24,0,0,170.86,0,8.9599999999999973,1224.93,513.61000000000024,424.99999999999966,797.99999999999955,1304.1600000000001,9.8500000000000014,1444.5700000000008,281544.90999999957,281544.90999999957,281544.90999999957,0,0,0,0,0,0,0,0,0,0,0,0,235750.21000000005,207774.7900000001,0,0,207774.7900000001,27975.420000000002,0,0,0,0,0,0,0,0,0,0,0,1790.4,747.05,0,0,0,0,0,25437.97,0,0,0,517295.12000000005,2.17,33.67,null,null,8.6199999999999992,228.19,1.63,3.08,18.850000000000001,0.31,1177.3699999999999,null,43,52,1648,224,354,77,0,0,0,0,0,0,0,0,0,0,0,0,0,0,0,0,7,4.5199999999999996,0,0,0,0,null,null,null,null,null,null,null,333,{"$f":"+INDEX($F14:$DJ14,1,Sheet3!$C$1)","v":333},{"$f":"+IF(Sheet3!$C$1=1,IF(DN14<3,0,1),1)","v":1}]
[3,1,"111",12,1,441,1178867.3536127214,724.46999999999969,587.97,56706.509999999987,0,442.23,143.15,0,0,233.65,1.4,91.104999999999961,329.24,242.92999999999998,494.40000000000009,523.4000000000002,811.66999999999962,2.74,800.8199999999996,371633.31999999861,371633.31999999861,371633.31999999861,0,0,0,0,0,0,0,0,0,0,0,0,173365.99000000008,170470.3900000001,0,0,170470.3900000001,2895.5999999999995,0,0,0,0,0,0,0,0,0,0,0,0,520.6,0,0,0,0,0,2375,0,0,0,544999.31000000006,3.34,118.32,null,null,27.59,285.56,2.69,7.85,88.51,5.48,286.27,3,129,223,1267,197,170,27,0,0,0,0,0,0,0,0,0,0,0,0,0,0,0,0,4,2.74,0,0,0,0,null,null,null,null,null,null,null,441,{"$f":"+INDEX($F15:$DJ15,1,Sheet3!$C$1)","v":441},{"$f":"+IF(Sheet3!$C$1=1,IF(DN15<3,0,1),1)","v":1}]
[2,1,"111",6,1,67,1347592.8055133333,113.83999999999999,94.82,8286.94,0,80.099999999999994,7.85,0,0,13.35,2.06,82.03000000000003,8.5500000000000007,3.63,8.5,13.5,114.8,6.9799999999999995,103.78999999999999,56480.149999999987,56480.149999999987,56480.149999999987,0,0,0,0,0,0,0,0,0,0,0,0,26774.789999999994,23493.39,0,0,23493.39,3281.4,0,612,0,0,0,0,0,0,0,2494.1999999999998,0,175.2,0,0,0,0,0,0,0,0,0,0,83254.939999999988,0.15,6.26,null,null,3.53,13.38,2.39,42.36,9.94,0.63,6.23,null,4,2,27,1,5,1,4,6.16,0,0,1,0.7,0,0,0,0,0,0,0,0,0,0,0,0,0,0,0,0,null,null,null,null,null,null,null,67,{"$f":"+INDEX($F16:$DJ16,1,Sheet3!$C$1)","v":67},{"$f":"+IF(Sheet3!$C$1=1,IF(DN16<3,0,1),1)","v":1}]
[2,1,"111",6,2,1,26137.209861515719,7.28,6.69,399.25,0,4.62,0.93,0,0,0.03,0,6.32,0,0,0,0,7.28,0,7.28,846.59,846.59,846.59,0,0,0,0,0,0,0,0,0,0,0,0,1587.5,1587.5,0,0,1587.5,0,0,0,0,0,0,0,0,0,0,0,0,0,0,0,0,0,0,0,0,0,0,0,2434.09,null,0.53,null,null,0.19,0.02,null,3.94,2.2599999999999998,null,null,null,null,null,null,null,null,null,0,0,0,0,0,0,0,0,0,0,0,0,0,0,0,0,0,0,0,0,0,0,null,null,null,null,null,null,null,0,{"$f":"+INDEX($F17:$DJ17,1,Sheet3!$C$1)","v":1},{"$f":"+IF(Sheet3!$C$1=1,IF(DN17<3,0,1),1)","v":0}]
[2,1,"111",8,1,1253,3020260.2003597105,1715.7550000000001,1572.9300000000005,156596.35999999993,0,947.87,510.59,0,0,322.64,114.97,577.4549999999997,196.66,42.989999999999995,187.34999999999988,198.62999999999985,1727.3400000000004,10.870000000000001,1416.9599999999987,1056294.6399999852,1056294.6399999852,1056294.6399999852,0,0,0,0,0,0,0,0,0,0,0,0,295262.06000000017,290191.30000000016,0,0,290191.30000000016,5070.76,0,1766.7,0,0,162,135.44999999999999,0,0,0,1836.54,0,434.4,0,0,0,0,0,0,735.67,0,0,0,1351556.7000000048,16.36,374.88,null,1.1000000000000001,108.7,419.13,125.64,35.4,328.6,36.729999999999997,136.94999999999999,1,56,88,508,82,110,22,3,4.8499999999999996,0,0,1,2.97,0,0,1,1.24,0,0,1,1.29,0,0,0,0,0,0,0,0,null,null,null,null,null,null,null,1253,{"$f":"+INDEX($F18:$DJ18,1,Sheet3!$C$1)","v":1253},{"$f":"+IF(Sheet3!$C$1=1,IF(DN18<3,0,1),1)","v":1}]
[2,1,"111",8,2,3,31784.573378156601,23.41,17.259999999999998,1030.07,0,5.09,2.3199999999999998,0,0,6.29,2.0499999999999998,10.54,2.21,2.21,1.8,1.8,23.41,4.0199999999999996,23.41,2539.81,2539.81,2539.81,0,0,0,0,0,0,0,0,0,0,0,0,6469.9000000000005,4399.6000000000004,0,0,4399.6000000000004,2070.3000000000002,0,2070.3000000000002,0,0,0,0,0,0,0,0,0,0,0,0,0,0,0,0,0,0,0,0,9009.7100000000009,null,0.19,null,null,0.28999999999999998,6.36,2.63,0.34,8.1,0.05,2.23,null,null,null,8,2,null,null,0,0,0,0,1,4.0199999999999996,0,0,0,0,0,0,0,0,0,0,0,0,0,0,0,0,null,null,null,null,null,null,null,3,{"$f":"+INDEX($F19:$DJ19,1,Sheet3!$C$1)","v":3},{"$f":"+IF(Sheet3!$C$1=1,IF(DN19<3,0,1),1)","v":1}]
[2,1,"111","10_1",1,49,165873.03779816974,86.07,61.830000000000027,5357.0800000000008,0,60.1,6.19,0,0,34.6,0,6.120000000000001,47.64,47.639999999999993,195.65,195.65,95.46999999999997,0.47,93.669999999999959,41379.789999999979,41379.789999999979,41379.789999999979,0,0,0,0,0,0,0,0,0,0,0,0,22983.259999999991,22058.549999999988,0,0,22058.549999999988,924.71,0,0,0,0,0,0,0,0,0,0,0,112.8,0,0,0,0,0,0,811.91,0,0,0,64363.05,0.06,6.21,null,null,2.2000000000000002,49.38,null,0.62,5.3,0.61,36.92,null,84,123,25,2,5,2,0,0,0,0,0,0,0,0,0,0,0,0,0,0,0,0,0,0,0,0,0,0,null,null,null,null,null,null,null,49,{"$f":"+INDEX($F20:$DJ20,1,Sheet3!$C$1)","v":49},{"$f":"+IF(Sheet3!$C$1=1,IF(DN20<3,0,1),1)","v":1}]
[2,1,"111","10_1",2,1,22393.175586480116,8.56,1.73,103.24,0,8.16,0.14000000000000001,0,0,4.49,0,0.7,3.23,3.23,14.2,14.2,8.56,0,8.56,846.59,846.59,846.59,0,0,0,0,0,0,0,0,0,0,0,0,1836.4,1836.4,0,0,1836.4,0,0,0,0,0,0,0,0,0,0,0,0,0,0,0,0,0,0,0,0,0,0,0,2682.9900000000002,null,null,null,null,null,7.24,null,null,0.24,0.28000000000000003,0.78,null,5,13,null,null,null,null,0,0,0,0,0,0,0,0,0,0,0,0,0,0,0,0,0,0,0,0,0,0,null,null,null,null,null,null,null,0,{"$f":"+INDEX($F21:$DJ21,1,Sheet3!$C$1)","v":1},{"$f":"+IF(Sheet3!$C$1=1,IF(DN21<3,0,1),1)","v":0}]
[2,1,"111","10_2",1,88,275484.66133062413,216.33999999999997,118.7,10595.44,0,83.3,12.87,0,0,49.84,0.56000000000000005,2.13,252.28,202.17000000000002,147.49999999999994,149.49999999999994,278.43000000000006,3.5100000000000002,319.84000000000015,74211.179999999964,74211.179999999964,74211.179999999964,0,0,0,0,0,0,0,0,0,0,0,0,54453.299999999996,52303.799999999996,0,0,52303.799999999996,2149.5,0,0,0,0,0,0,0,0,0,0,0,408,541.5,0,0,0,0,0,1200,0,0,0,128664.48000000003,0.24,14.46,null,null,2.0699999999999998,67.31,0.03,0.5,5.82,0.48,220.36,1,82,105,34,7,1,null,0,0,0,0,0,0,0,0,0,0,0,0,0,0,0,0,2,2.85,0,0,0,0,null,null,null,null,null,null,null,88,{"$f":"+INDEX($F22:$DJ22,1,Sheet3!$C$1)","v":88},{"$f":"+IF(Sheet3!$C$1=1,IF(DN22<3,0,1),1)","v":1}]
[2,1,"111","10_2",2,14,151433.05175436681,113.30499999999999,16.59,1313.22,0,18.93,2.75,0,0,13.77,0,0,186.87,171.17,75.05,76.049999999999983,148.32000000000002,0.56000000000000005,204.96000000000004,11854.12,11854.12,11854.12,0,0,0,0,0,0,0,0,0,0,0,0,24188.100000000002,23347.300000000003,0,0,23347.300000000003,840.8,0,0,0,0,0,0,0,0,0,0,0,134.4,106.4,0,0,0,0,0,600,0,0,0,36042.22,null,2.39,null,null,0.64,15.45,null,0.12,1.26,0.19,176.95,3,46,35,13,4,6,null,0,0,0,0,0,0,0,0,0,0,0,0,0,0,0,0,1,0.56000000000000005,0,0,0,0,null,null,null,null,null,null,null,14,{"$f":"+INDEX($F23:$DJ23,1,Sheet3!$C$1)","v":14},{"$f":"+IF(Sheet3!$C$1=1,IF(DN23<3,0,1),1)","v":1}]
[2,1,"111",11,1,297,732927.50864516641,635.08500000000004,397.23999999999972,36133.49,0,278.76,27.3,0,0,150.71,0,8.9199999999999982,720.39,404.45000000000005,366.44999999999982,503.4499999999997,864.92999999999972,5.8099999999999987,908.53999999999951,251067.3499999998,251067.3499999998,251067.3499999998,0,0,0,0,0,0,0,0,0,0,0,0,153740.56000000003,149083.59000000003,0,0,149083.59000000003,4656.97,0,0,0,0,0,0,0,0,0,0,0,938.4,736.81,0,0,0,0,0,2981.76,0,0,0,404807.91000000003,2.06,28.86,null,null,7.44,207.64,1.63,2.4,14.89,0.13,640.98,null,21,35,1537,198,316,63,0,0,0,0,0,0,0,0,0,0,0,0,0,0,0,0,6,4.03,0,0,0,0,null,null,null,null,null,null,null,297,{"$f":"+INDEX($F24:$DJ24,1,Sheet3!$C$1)","v":297},{"$f":"+IF(Sheet3!$C$1=1,IF(DN24<3,0,1),1)","v":1}]
[2,1,"111",11,2,36,358574.5936926502,293.45499999999998,45.649999999999991,3229.47,0,31.39,4.9400000000000004,0,0,20.149999999999999,0,0.04,504.54,109.16,58.550000000000004,294.55,439.22999999999996,4.04,536.03,30477.559999999994,30477.559999999994,30477.559999999994,0,0,0,0,0,0,0,0,0,0,0,0,82009.650000000009,58691.199999999997,0,0,58691.199999999997,23318.450000000004,0,0,0,0,0,0,0,0,0,0,0,852,10.24,0,0,0,0,0,22456.21,0,0,0,112487.21,0.11,4.8099999999999996,null,null,1.18,20.55,null,0.68,3.96,0.18,536.39,null,22,17,111,26,38,14,0,0,0,0,0,0,0,0,0,0,0,0,0,0,0,0,1,0.49,0,0,0,0,null,null,null,null,null,null,null,36,{"$f":"+INDEX($F25:$DJ25,1,Sheet3!$C$1)","v":36},{"$f":"+IF(Sheet3!$C$1=1,IF(DN25<3,0,1),1)","v":1}]
[2,1,"111",12,1,437,1149455.4059642968,698.95999999999992,574.11999999999989,55846.839999999975,0,438.81,142.63999999999999,0,0,231.01,1.4,90.134999999999977,299.56,239.16,491.15000000000015,511.15000000000009,782.25999999999965,2.74,762.78999999999962,368246.90999999869,368246.90999999869,368246.90999999869,0,0,0,0,0,0,0,0,0,0,0,0,167887.49000000005,165291.89000000004,0,0,165291.89000000004,2595.5999999999995,0,0,0,0,0,0,0,0,0,0,0,0,520.6,0,0,0,0,0,2075,0,0,0,536134.39999999979,3.34,117.85,null,null,27.42,279.58999999999997,2.69,7.76,85.37,5.48,256.89999999999998,3,128,223,1253,195,170,27,0,0,0,0,0,0,0,0,0,0,0,0,0,0,0,0,4,2.74,0,0,0,0,null,null,null,null,null,null,null,437,{"$f":"+INDEX($F26:$DJ26,1,Sheet3!$C$1)","v":437},{"$f":"+IF(Sheet3!$C$1=1,IF(DN26<3,0,1),1)","v":1}]
[2,1,"111",12,2,4,29411.947648424226,25.509999999999998,13.85,859.67,0,3.42,0.51,0,0,2.64,0,0.97,29.68,3.77,3.25,12.25,29.409999999999997,0,38.03,3386.41,3386.41,3386.41,0,0,0,0,0,0,0,0,0,0,0,0,5478.5,5178.5,0,0,5178.5,300,0,0,0,0,0,0,0,0,0,0,0,0,0,0,0,0,0,0,300,0,0,0,8864.91,null,0.47,null,null,0.17,5.97,null,0.09,3.14,null,29.37,null,1,null,14,2,null,null,0,0,0,0,0,0,0,0,0,0,0,0,0,0,0,0,0,0,0,0,0,0,null,null,null,null,null,null,null,4,{"$f":"+INDEX($F27:$DJ27,1,Sheet3!$C$1)","v":4},{"$f":"+IF(Sheet3!$C$1=1,IF(DN27<3,0,1),1)","v":1}]
[2,1,"111",13,1,176,202175.44521403298,249.18500000000003,226.59999999999994,24914.559999999994,0,164.2,5.5,0,0,142.04,7.08,10.519999999999991,91.74,0,0,0,253.16000000000005,2.02,164.59,148214.97999999992,148214.97999999992,148214.97999999992,0,0,0,0,0,0,0,0,0,0,0,0,11287.89,10942.289999999999,0,0,10942.289999999999,345.6,0,0,0,0,0,0,0,0,0,0,0,345.6,0,0,0,0,0,0,0,0,0,0,159502.86999999997,0.55000000000000004,17.45,null,null,3.74,158.26,10.57,1.54,7.44,0.99,52.59,null,null,4,36,6,null,null,0,0,0,0,0,0,0,0,0,0,0,0,0,0,0,0,0,0,0,0,0,0,null,null,null,null,null,null,null,176,{"$f":"+INDEX($F28:$DJ28,1,Sheet3!$C$1)","v":176},{"$f":"+IF(Sheet3!$C$1=1,IF(DN28<3,0,1),1)","v":1}]
[2,1,"111",13,2,3,27241.389601985742,31.57,14.270000000000001,851.61999999999989,0,8.68,0,0,0,7.78,0,0,40.98,0,0,0,49.1,2.9,49.1,2378.96,2378.96,2378.96,0,0,0,0,0,0,0,0,0,0,0,0,218.46,26,0,0,26,192.46,0,0,0,0,0,0,0,0,0,0,0,192.46,0,0,0,0,0,0,0,0,0,0,2597.42,null,null,null,null,null,10.89,0.01,0.05,0.05,null,42.25,null,null,null,null,null,null,null,0,0,0,0,0,0,0,0,0,0,0,0,0,0,0,0,0,0,0,0,0,0,null,null,null,null,null,null,null,3,{"$f":"+INDEX($F29:$DJ29,1,Sheet3!$C$1)","v":3},{"$f":"+IF(Sheet3!$C$1=1,IF(DN29<3,0,1),1)","v":1}]
[2,1,"112",0,1,1,26455.50469899879,4.62,4.5599999999999996,272.14,0,4.62,4.1100000000000003,0,0,0,0,0,0.51,0,0,28.2,4.62,0,4.62,846.62,846.62,846.62,0,0,0,0,0,0,0,0,0,0,0,0,1087.8,1087.8,0,0,1087.8,0,0,0,0,0,0,0,0,0,0,0,0,0,0,0,0,0,0,0,0,0,0,0,1934.42,4.5599999999999996,null,null,null,null,null,null,null,null,null,null,null,null,null,null,null,null,null,0,0,0,0,0,0,0,0,0,0,0,0,0,0,0,0,0,0,0,0,0,0,null,null,null,null,null,null,null,0,{"$f":"+INDEX($F30:$DJ30,1,Sheet3!$C$1)","v":1},{"$f":"+IF(Sheet3!$C$1=1,IF(DN30<3,0,1),1)","v":0}]
[2,1,"112","1_1",1,497,798795.97723084898,553.16000000000008,508.33000000000021,65881.690000000017,0,520.85,435.99,0,0,59.65,4.6500000000000004,34.580000000000005,18.29,0.74,6.6999999999999993,6.6999999999999993,546.44000000000005,2.56,186.68,418682.65999999846,418682.65999999846,418682.65999999846,0,0,0,0,0,0,0,0,0,0,0,0,43807.190000000017,42757.790000000008,0,0,42757.790000000008,1049.3999999999999,0,624,0,0,0,0,0,0,0,0,0,364.8,0,0,0,0,0,0,60.6,0,0,0,462489.8499999987,64.63,320.89,null,null,20.11,78.22,6.93,3.56,21.72,0.93,28.7,null,9,18,14,1,null,null,0,0,0,0,1,1.04,0,0,0,0,0,0,0,0,0,0,0,0,0,0,0,0,null,null,null,null,null,null,null,497,{"$f":"+INDEX($F31:$DJ31,1,Sheet3!$C$1)","v":497},{"$f":"+IF(Sheet3!$C$1=1,IF(DN31<3,0,1),1)","v":1}]
[2,1,"112","1_1",2,1,8365.0806219068236,7.77,7.48,446.4,0,4.57,5.77,0,0,1.99,0,0.01,0,0,0,0,7.77,0,0,846.59,846.59,846.59,0,0,0,0,0,0,0,0,0,0,0,0,0,0,0,0,0,0,null,null,null,null,null,null,null,null,null,null,null,null,null,null,null,null,null,null,null,null,null,null,846.59,null,5.79,null,null,null,2.0099999999999998,null,null,0.05,null,null,null,null,null,null,null,null,null,0,0,0,0,0,0,0,0,0,0,0,0,0,0,0,0,0,0,0,0,0,0,null,null,null,null,null,null,null,0,{"$f":"+INDEX($F32:$DJ32,1,Sheet3!$C$1)","v":1},{"$f":"+IF(Sheet3!$C$1=1,IF(DN32<3,0,1),1)","v":0}]
[2,1,"112","1_2",1,124,146654.71510555423,116.96000000000001,109.90000000000003,15497.590000000002,0,7.03,81.28,0,0,25.22,2.62,6.33,1.51,0,0,0,116.93,0,7.23,104295.87000000001,104295.87000000001,104295.87000000001,0,0,0,0,0,0,0,0,0,0,0,0,1479.92,1479.92,0,0,1479.92,0,0,0,0,0,0,0,0,0,0,0,0,0,0,0,0,0,0,0,0,0,0,0,105775.79000000001,2.1800000000000002,69.53,null,null,6.01,23.7,3.85,0.65,4.82,0.38,3.03,null,null,1,null,null,null,null,0,0,0,0,0,0,0,0,0,0,0,0,0,0,0,0,0,0,0,0,0,0,null,null,null,null,null,null,null,124,{"$f":"+INDEX($F33:$DJ33,1,Sheet3!$C$1)","v":124},{"$f":"+IF(Sheet3!$C$1=1,IF(DN33<3,0,1),1)","v":1}]
[2,1,"112",4,1,237,1619160.5470576743,250.74000000000012,225.26999999999995,28111.39,0,153.71,156.93,0,0,40.43,19.64,20.749999999999993,12.99,1.29,9.5,9.5,249.84000000000009,4.8699999999999992,90.8,200215.00999999992,200215.00999999992,200215.00999999992,0,0,0,0,0,0,0,0,0,0,0,0,20727.509999999998,19558.71,0,0,19558.71,1168.8,0,0,0,0,0,0,0,0,0,0,0,1168.8,0,0,0,0,0,0,0,0,0,0,220942.52,14.93,73.569999999999993,null,null,62.15,35.909999999999997,23.86,3.35,8.33,0.79,11.19,null,1,9,25,1,1,null,0,0,0,0,0,0,0,0,0,0,0,0,0,0,0,0,0,0,0,0,0,0,null,null,null,null,null,null,null,237,{"$f":"+INDEX($F34:$DJ34,1,Sheet3!$C$1)","v":237},{"$f":"+IF(Sheet3!$C$1=1,IF(DN34<3,0,1),1)","v":1}]
[2,1,"112",5,1,33,129487.32220686553,66.690000000000012,58.759999999999991,4741.6099999999988,0,47.7,8,0,0,1.33,3.03,51.509999999999977,2.82,1.1599999999999999,0.3,0.3,66.690000000000012,14.379999999999999,31.51,27873.400000000005,27873.400000000005,27873.400000000005,0,0,0,0,0,0,0,0,0,0,0,0,12463.28,7647.78,0,0,7647.78,4815.5,0,0,0,0,0,316.05,0,0,0,4276.25,0,223.2,0,0,0,0,0,0,0,0,0,0,40336.679999999993,4,2.82,null,null,1.27,3.33,2.14,1.65,45.13,0.2,3.62,null,null,1,2,null,null,null,6,13.45,0,0,0,0,0,0,0,0,0,0,1,3.01,0,0,0,0,0,0,0,0,null,null,null,null,null,null,null,33,{"$f":"+INDEX($F35:$DJ35,1,Sheet3!$C$1)","v":33},{"$f":"+IF(Sheet3!$C$1=1,IF(DN35<3,0,1),1)","v":1}]
[2,1,"112",5,2,6,138246.31054083083,65.98,53.13000000000001,3170.78,0,24.59,2.0499999999999998,0,0,1.62,0.05,61.649999999999991,0.61,0,0.9,0.9,65.97,55.2,35.130000000000003,5079.630000000001,5079.630000000001,5079.630000000001,0,0,0,0,0,0,0,0,0,0,0,0,19570.77,6925.7,0,0,6925.7,12645.07,0,0,0,0,0,0,0,0,0,12645.07,0,0,0,0,0,0,0,0,0,0,0,0,24650.400000000001,null,1.1100000000000001,null,null,1.1200000000000001,0.15,3.29,0.55000000000000004,57.43,0.12,0.06,null,null,null,1,1,3,1,6,55.2,0,0,0,0,0,0,0,0,0,0,0,0,0,0,0,0,0,0,0,0,null,null,null,null,null,null,null,6,{"$f":"+INDEX($F36:$DJ36,1,Sheet3!$C$1)","v":6},{"$f":"+IF(Sheet3!$C$1=1,IF(DN36<3,0,1),1)","v":1}]
[2,1,"112",6,1,109,2802004.691468941,177.47999999999996,155.80000000000004,14968.760000000002,0,155.72999999999999,19.41,0,0,7,7.38,137.91999999999996,5.77,0,0,0,176.46999999999997,49.88,140.74,92003.630000000034,92003.630000000034,92003.630000000034,0,0,0,0,0,0,0,0,0,0,0,0,58232.289999999994,33520.97,0,0,33520.97,24711.320000000003,1908.33,3330,0,0,123.12,0,0,0,0,17141.87,0,2208,0,0,0,0,0,0,0,0,0,0,150235.92000000007,3.29,10.99,null,null,4.5199999999999996,6.12,13.65,115.96,7.95,0.87,7.21,null,1,null,null,null,null,null,19,32.31,2,3.52,3,3.7,0,0,1,1.1299999999999999,0,0,0,0,0,0,0,0,0,0,0,0,null,null,null,null,null,null,null,109,{"$f":"+INDEX($F37:$DJ37,1,Sheet3!$C$1)","v":109},{"$f":"+IF(Sheet3!$C$1=1,IF(DN37<3,0,1),1)","v":1}]
[2,1,"112",6,2,2,52091.099408254071,10.469999999999999,6.6199999999999992,451.64,0,9.7899999999999991,0.94,0,0,3.29,0.57999999999999996,5.66,0,0,0,0,10.469999999999999,1.2,10.469999999999999,1650.87,1650.87,1650.87,0,0,0,0,0,0,0,0,0,0,0,0,3212.41,2348.73,0,0,2348.73,863.68,0,0,0,0,0,0,0,0,0,863.68,0,0,0,0,0,0,0,0,0,0,0,0,4863.28,5.29,null,null,null,0.04,null,null,2.83,1.43,0.08,null,null,null,null,null,null,null,null,1,1.2,0,0,0,0,0,0,0,0,0,0,0,0,0,0,0,0,0,0,0,0,null,null,null,null,null,null,null,0,{"$f":"+INDEX($F38:$DJ38,1,Sheet3!$C$1)","v":2},{"$f":"+IF(Sheet3!$C$1=1,IF(DN38<3,0,1),1)","v":0}]
[2,1,"112",8,1,1149,2738542.9311923389,1395.099999999996,1284.1899999999969,149485.74,0,1102.5999999999999,753.37,0,0,234.95,54.22,303.62999999999982,48.93,9.2600000000000016,134.55000000000001,135.39000000000001,1386.2599999999964,21.51,754.36999999999989,968321.24999998626,968321.24999998626,968321.24999998626,0,0,0,0,0,0,0,0,0,0,0,0,185736.81999999995,176180.90999999992,0,0,176180.90999999992,9555.91,0,4386.38,0,0,0,164.85,0,0,0,1585.15,0,2881.13,0,0,0,0,0,0,538.4,0,0,0,1154058.0699999945,156.32,446.91,null,0.13,118.45,236.95,83.56,65.05,127.76,13.76,67.400000000000006,null,53,89,359,48,38,7,3,3.72,0,0,2,5.78,0,0,0,0,0,0,1,1.57,0,0,0,0,0,0,0,0,null,null,null,null,null,null,null,1149,{"$f":"+INDEX($F39:$DJ39,1,Sheet3!$C$1)","v":1149},{"$f":"+IF(Sheet3!$C$1=1,IF(DN39<3,0,1),1)","v":1}]
[2,1,"112",8,2,5,123028.8872839215,46.15,42.93,2833.59,0,24.7,9.11,0,0,4.57,0,32.14,0.33,0,3,3,46.15,28.17,14.399999999999999,4148.33,4148.33,4148.33,0,0,0,0,0,0,0,0,0,0,0,0,12982.3,3156,0,0,3156,9826.2999999999993,0,4051.68,0,0,0,445.2,0,0,0,5329.42,0,0,0,0,0,0,0,0,0,0,0,0,17130.63,0.63,5.93,null,null,1.86,5.68,0.34,8.26,21.13,0.74,0.1,null,null,null,19,3,null,null,2,21.48,0,0,1,6.69,0,0,0,0,0,0,1,4.24,0,0,0,0,0,0,0,0,null,null,null,null,null,null,null,5,{"$f":"+INDEX($F40:$DJ40,1,Sheet3!$C$1)","v":5},{"$f":"+IF(Sheet3!$C$1=1,IF(DN40<3,0,1),1)","v":1}]
[2,1,"112",9,1,10,62407.443114782785,10.27,9.39,1734.3799999999997,0,5,3.52,0,0,5.42,0,1.33,0,0,24.2,24.2,10.27,0,0,8415.1899999999987,8415.1899999999987,8415.1899999999987,0,0,0,0,0,0,0,0,0,0,0,0,0,0,0,0,0,0,null,null,null,null,null,null,null,null,null,null,null,null,null,null,null,null,null,null,null,null,null,null,8415.1899999999987,null,3.22,null,null,0.49,4.9400000000000004,null,0.01,1.0900000000000001,0.08,null,16,2,12,null,null,null,null,0,0,0,0,0,0,0,0,0,0,0,0,0,0,0,0,0,0,0,0,0,0,null,null,null,null,null,null,null,10,{"$f":"+INDEX($F41:$DJ41,1,Sheet3!$C$1)","v":10},{"$f":"+IF(Sheet3!$C$1=1,IF(DN41<3,0,1),1)","v":1}]
[2,1,"112","10_1",1,77,292000.09214583918,88.69,71.549999999999983,8836.6999999999971,0,62.9,15.08,0,0,55.4,0.31,7.3099999999999978,18.100000000000001,18.100000000000001,266.09999999999997,272.5,93.61999999999999,1.51,50.460000000000008,65171.189999999973,65171.189999999973,65171.189999999973,0,0,0,0,0,0,0,0,0,0,0,0,12996.439999999999,11038.039999999999,0,0,11038.039999999999,1958.4,0,0,0,0,0,0,0,0,0,0,0,362.4,0,0,0,0,0,0,1596,0,0,0,78167.63,0.88,17.07,null,null,3.26,51,0.36,0.74,5.0999999999999996,0.28999999999999998,23.59,4,95,223,50,3,1,1,0,0,0,0,0,0,0,0,0,0,0,0,0,0,0,0,0,0,0,0,0,0,null,null,null,null,null,null,null,77,{"$f":"+INDEX($F42:$DJ42,1,Sheet3!$C$1)","v":77},{"$f":"+IF(Sheet3!$C$1=1,IF(DN42<3,0,1),1)","v":1}]
[2,1,"112","10_1",2,1,34740.474176364551,6.1,1.62,197.93,0,2.89,0,0,0,5.94,0,0.16,0,0,41,41,6.1,0,2.8,846.61,846.61,846.61,0,0,0,0,0,0,0,0,0,0,0,0,262.60000000000002,262.60000000000002,0,0,262.60000000000002,0,0,0,0,0,0,0,0,0,0,0,0,0,0,0,0,0,0,0,0,0,0,0,1109.21,null,null,null,null,null,6.11,null,null,0.02,null,null,null,9,54,null,null,null,null,0,0,0,0,0,0,0,0,0,0,0,0,0,0,0,0,0,0,0,0,0,0,null,null,null,null,null,null,null,0,{"$f":"+INDEX($F43:$DJ43,1,Sheet3!$C$1)","v":1},{"$f":"+IF(Sheet3!$C$1=1,IF(DN43<3,0,1),1)","v":0}]
[2,1,"112","10_2",1,18,60383.201768811414,38.854999999999997,29.89,2943.4199999999996,0,30.39,2.62,0,0,23.54,0,1.29,17.989999999999998,17.990000000000002,25.799999999999997,25.799999999999997,39.61999999999999,0,35.42,15095.490000000005,15095.490000000005,15095.490000000005,0,0,0,0,0,0,0,0,0,0,0,0,7201.02,7001.02,0,0,7001.02,200,0,0,0,0,0,0,0,0,0,0,0,0,0,0,0,0,0,0,200,0,0,0,22296.510000000002,1.3,1.55,null,null,0.71,24.53,null,0.16,1.04,null,11.43,null,20,25,null,null,7,null,0,0,0,0,0,0,0,0,0,0,0,0,0,0,0,0,0,0,0,0,0,0,null,null,null,null,null,null,null,18,{"$f":"+INDEX($F44:$DJ44,1,Sheet3!$C$1)","v":18},{"$f":"+IF(Sheet3!$C$1=1,IF(DN44<3,0,1),1)","v":1}]
[2,1,"112","10_2",2,6,57207.253078654889,46.634999999999998,16.860000000000003,1012.6499999999999,0,14.51,1.26,0,0,5.21,0,0,70.8,70.8,31,31,49.15,7.23,77.59,5079.6500000000005,5079.6500000000005,5079.6500000000005,0,0,0,0,0,0,0,0,0,0,0,0,11605.8,9770.5999999999985,0,0,9770.5999999999985,1835.2,0,0,0,0,0,0,0,0,0,0,0,1735.2,0,0,0,0,0,0,100,0,0,0,16685.45,null,0.91,null,null,0.3,7.96,null,null,null,null,103.23,null,16,6,8,null,null,null,0,0,0,0,0,0,0,0,0,0,0,0,0,0,0,0,0,0,0,0,0,0,null,null,null,null,null,null,null,6,{"$f":"+INDEX($F45:$DJ45,1,Sheet3!$C$1)","v":6},{"$f":"+IF(Sheet3!$C$1=1,IF(DN45<3,0,1),1)","v":1}]
[2,1,"112",11,1,68,165335.24745253273,129.32500000000005,82.260000000000019,7657.449999999998,0,70.78,7.68,0,0,48.96,0.01,3.9299999999999997,118.41,60.11999999999999,78.600000000000009,125.60000000000004,156.37000000000003,1.1400000000000001,167.55000000000007,57441.899999999965,57441.899999999965,57441.899999999965,0,0,0,0,0,0,0,0,0,0,0,0,28703.069999999996,27429.469999999998,0,0,27429.469999999998,1273.5999999999999,0,0,0,0,0,0,0,0,0,0,0,273.60000000000002,0,0,0,0,0,0,1000,0,0,0,86144.970000000016,3.51,8,null,null,1.67,49.49,null,0.9,1.72,0.21,107.64,null,6,7,277,47,96,18,0,0,0,0,0,0,0,0,0,0,0,0,0,0,0,0,0,0,0,0,0,0,null,null,null,null,null,null,null,68,{"$f":"+INDEX($F46:$DJ46,1,Sheet3!$C$1)","v":68},{"$f":"+IF(Sheet3!$C$1=1,IF(DN46<3,0,1),1)","v":1}]
[2,1,"112",11,2,11,117662.86891249137,99.52,12.17,820.39999999999986,0,9,0.52,0,0,3.12,0,0,185.97,0,3.45,103.45,172.07999999999998,0,190.04,9312.630000000001,9312.630000000001,9312.630000000001,0,0,0,0,0,0,0,0,0,0,0,0,31018.100000000002,21018.100000000002,0,0,21018.100000000002,10000,0,0,0,0,0,0,0,0,0,0,0,0,0,0,0,0,0,0,10000,0,0,0,40330.729999999996,null,0.22,null,null,0.28999999999999998,4.6100000000000003,null,0.02,null,null,157.38,null,null,null,22,2,null,null,0,0,0,0,0,0,0,0,0,0,0,0,0,0,0,0,0,0,0,0,0,0,null,null,null,null,null,null,null,11,{"$f":"+INDEX($F47:$DJ47,1,Sheet3!$C$1)","v":11},{"$f":"+IF(Sheet3!$C$1=1,IF(DN47<3,0,1),1)","v":1}]
[2,1,"112",12,1,209,605516.19332534354,299.36999999999995,269.11999999999995,30909.41,0,255.13,99.56,0,0,120.09,0.28000000000000003,36.844999999999992,51.79,46.970000000000006,318.34999999999991,329.45,301.7399999999999,5.2700000000000005,212.8600000000001,176509.57,176509.57,176509.57,0,0,0,0,0,0,0,0,0,0,0,0,54003.799999999988,51292.999999999993,0,0,51292.999999999993,2710.8,0,0,0,0,0,0,0,0,0,0,0,1264.8,0,0,0,0,0,0,1446,0,0,0,230513.37,7.65,74.88,null,null,18.260000000000002,125.51,0.52,4.83,21.95,2.4300000000000002,47.33,2,121,181,449,66,67,12,0,0,0,0,0,0,0,0,0,0,0,0,0,0,0,0,0,0,0,0,0,0,null,null,null,null,null,null,null,209,{"$f":"+INDEX($F48:$DJ48,1,Sheet3!$C$1)","v":209},{"$f":"+IF(Sheet3!$C$1=1,IF(DN48<3,0,1),1)","v":1}]
[2,1,"112",12,2,4,30804.141213128198,21.155000000000001,11.4,1289.29,0,11.28,3.67,0,0,4.6100000000000003,0,0,20.76,20.76,8.6,10.6,27.12,0.9,31.029999999999998,3386.4,3386.4,3386.4,0,0,0,0,0,0,0,0,0,0,0,0,5475.2,4959.2,0,0,4959.2,516,0,0,0,0,0,0,0,0,0,0,0,216,0,0,0,0,0,0,300,0,0,0,8861.5999999999985,null,3.94,null,null,0.61,4.16,null,0.1,0.91,0.01,17.03,null,3,3,13,1,null,null,0,0,0,0,0,0,0,0,0,0,0,0,0,0,0,0,0,0,0,0,0,0,null,null,null,null,null,null,null,4,{"$f":"+INDEX($F49:$DJ49,1,Sheet3!$C$1)","v":4},{"$f":"+IF(Sheet3!$C$1=1,IF(DN49<3,0,1),1)","v":1}]
[2,1,"112",13,1,270,403410.1919279375,283.36999999999983,262.08999999999997,34112.389999999985,0,206.55,13.33,0,0,218.67,12.4,14.739999999999998,24.23,0,0,0,283.32999999999981,6.59,39.500000000000007,227789.93999999971,227789.93999999971,227789.93999999971,0,0,0,0,0,0,0,0,0,0,0,0,4621.9600000000009,3043.1899999999996,0,0,3043.1899999999996,1578.7699999999998,0,0,0,0,0,0,0,0,0,0,0,1578.77,0,0,0,0,0,0,0,0,0,0,232411.89999999967,1.94,35.07,null,null,3.99,191.05,16.46,3.12,9.43,0.15,74.14,null,1,13,null,null,null,null,0,0,0,0,0,0,0,0,0,0,0,0,0,0,0,0,0,0,0,0,0,0,null,null,null,null,null,null,null,270,{"$f":"+INDEX($F50:$DJ50,1,Sheet3!$C$1)","v":270},{"$f":"+IF(Sheet3!$C$1=1,IF(DN50<3,0,1),1)","v":1}]
[2,1,"112",13,2,2,2594.8166882520172,11.44,8.98,535.91,0,3.92,0,0,0,0,7.52,0,3.92,0,0,0,11.44,4.17,5.34,1441.62,1441.62,1441.62,0,0,0,0,0,0,0,0,0,0,0,0,0,0,0,0,0,0,null,null,null,null,null,null,null,null,null,null,null,null,null,null,null,null,null,null,null,null,null,null,1441.62,null,null,null,null,null,null,1.67,null,null,null,3.69,null,null,null,null,null,null,null,0,0,0,0,0,0,0,0,0,0,0,0,0,0,0,0,0,0,0,0,0,0,null,null,null,null,null,null,null,0,{"$f":"+INDEX($F51:$DJ51,1,Sheet3!$C$1)","v":2},{"$f":"+IF(Sheet3!$C$1=1,IF(DN51<3,0,1),1)","v":0}]
[2,1,"112",15,1,3,6018.4901478730926,4.3699999999999992,4.13,565.43000000000006,0,1.07,2.88,0,0,0,0.71,0.53,0.25,0,0,0,4.3699999999999992,0,2.0299999999999998,2472.0300000000002,2472.0300000000002,2472.0300000000002,0,0,0,0,0,0,0,0,0,0,0,0,462.8,462.8,0,0,462.8,0,0,0,0,0,0,0,0,0,0,0,0,0,0,0,0,0,0,0,0,0,0,0,2934.83,null,null,null,null,2.06,0.64,0.87,0.06,0.48,null,0.38,null,null,null,null,null,null,null,0,0,0,0,0,0,0,0,0,0,0,0,0,0,0,0,0,0,0,0,0,0,null,null,null,null,null,null,null,3,{"$f":"+INDEX($F52:$DJ52,1,Sheet3!$C$1)","v":3},{"$f":"+IF(Sheet3!$C$1=1,IF(DN52<3,0,1),1)","v":1}]
[2,1,"119",0,1,2,201306.86560852505,1.69,2.21,178.42000000000002,0,1.69,0,0,0,1.69,0,0,0,0,29,347.9,1.69,0,1.69,1693.17,1693.17,1693.17,0,0,0,0,0,0,0,0,0,0,0,0,439.4,439.4,0,0,439.4,0,0,0,0,0,0,0,0,0,0,0,0,0,0,0,0,0,0,0,0,0,0,0,2132.5700000000002,null,null,null,null,null,1.68,null,null,null,null,null,null,null,30,null,null,null,null,0,0,0,0,0,0,0,0,0,0,0,0,0,0,0,0,0,0,0,0,0,0,null,null,null,null,null,null,null,0,{"$f":"+INDEX($F53:$DJ53,1,Sheet3!$C$1)","v":2},{"$f":"+IF(Sheet3!$C$1=1,IF(DN53<3,0,1),1)","v":0}]
[2,1,"119","1_1",1,312,768031.81087936787,387.91999999999996,362.51,40223.979999999981,0,361.62,261.94,0,0,74.900000000000006,7.04,21.099999999999984,23.38,0,6.2999999999999989,6.2999999999999989,388.40999999999997,3.37,181.95000000000002,263410.22999999957,263410.22999999957,263410.22999999957,0,0,0,0,0,0,0,0,0,0,0,0,31735.37999999999,29722.319999999992,0,0,29722.319999999992,2013.06,0,2013.06,0,0,0,0,0,0,0,0,0,0,0,0,0,0,0,0,0,0,0,0,295145.60999999958,20.94,183.67,null,null,17.440000000000001,86.04,18.68,3.82,13.8,1.65,56.99,null,8,14,6,1,null,null,0,0,0,0,3,3.37,0,0,0,0,0,0,0,0,0,0,0,0,0,0,0,0,null,null,null,null,null,null,null,312,{"$f":"+INDEX($F54:$DJ54,1,Sheet3!$C$1)","v":312},{"$f":"+IF(Sheet3!$C$1=1,IF(DN54<3,0,1),1)","v":1}]
[2,1,"119","1_1",2,1,6246.1914231323744,5.91,0.64,93.77,0,3.07,1.88,0,0,2.09,0,0.91,1.03,0,0,0,5.91,0,0,846.61,846.61,846.61,0,0,0,0,0,0,0,0,0,0,0,0,0,0,0,0,0,0,null,null,null,null,null,null,null,null,null,null,null,null,null,null,null,null,null,null,null,null,null,null,846.61,null,1.08,null,null,null,1.5,null,null,0.7,null,0.43,null,null,null,null,null,null,null,0,0,0,0,0,0,0,0,0,0,0,0,0,0,0,0,0,0,0,0,0,0,null,null,null,null,null,null,null,0,{"$f":"+INDEX($F55:$DJ55,1,Sheet3!$C$1)","v":1},{"$f":"+IF(Sheet3!$C$1=1,IF(DN55<3,0,1),1)","v":0}]
[2,1,"119","1_2",1,41,90555.84978497673,50.53,41.77,5577.5700000000006,0,3.47,32.619999999999997,0,0,8.52,1.1000000000000001,5.0499999999999989,3.24,0,0.6,0.6,50.53,0,7.1899999999999995,34671.56,34671.56,34671.56,0,0,0,0,0,0,0,0,0,0,0,0,1071.2,1071.2,0,0,1071.2,0,0,0,0,0,0,0,0,0,0,0,0,0,0,0,0,0,0,0,0,0,0,0,35742.76,3.23,22.56,null,null,1.36,11.21,2.96,0.73,3.82,null,3.39,null,null,1,null,null,null,null,0,0,0,0,0,0,0,0,0,0,0,0,0,0,0,0,0,0,0,0,0,0,null,null,null,null,null,null,null,41,{"$f":"+INDEX($F56:$DJ56,1,Sheet3!$C$1)","v":41},{"$f":"+IF(Sheet3!$C$1=1,IF(DN56<3,0,1),1)","v":1}]
[2,1,"119",4,1,47,479806.02210937376,56.380000000000017,54.330000000000013,5638.3600000000006,0,52.14,37.79,0,0,9.76,0.52,4.2299999999999995,4.08,1.17,10.5,10.5,56.380000000000017,0,18.349999999999998,39773.439999999988,39773.439999999988,39773.439999999988,0,0,0,0,0,0,0,0,0,0,0,0,3960.4,3897.4,0,0,3897.4,63,0,0,0,0,0,0,0,0,0,0,0,0,0,0,0,0,0,0,63,0,0,0,43733.839999999982,2.09,14.76,null,null,19.68,11.64,1.1200000000000001,0.68,2.76,0.14000000000000001,4.09,null,6,9,11,1,4,1,0,0,0,0,0,0,0,0,0,0,0,0,0,0,0,0,0,0,0,0,0,0,null,null,null,null,null,null,null,47,{"$f":"+INDEX($F57:$DJ57,1,Sheet3!$C$1)","v":47},{"$f":"+IF(Sheet3!$C$1=1,IF(DN57<3,0,1),1)","v":1}]
[2,1,"119",5,1,51,205369.20588206564,102.39,88.149999999999977,6753.420000000001,0,64.790000000000006,5.05,0,0,8.14,0.18,85.27,3.75,0,2.7,2.7,102.29,5.8900000000000006,85.92,43022.339999999982,43022.339999999982,43022.339999999982,0,0,0,0,0,0,0,0,0,0,0,0,21868.43,19421.48,0,0,19421.48,2446.9499999999998,0,0,0,0,0,371.7,0,0,0,2075.25,0,0,0,0,0,0,0,0,0,0,0,0,64890.77,0.62,4.21,null,null,0.99,12.8,0.61,0.26,78.52,0.39,7.46,null,null,null,16,1,null,null,3,5.89,0,0,0,0,0,0,0,0,0,0,2,3.54,0,0,0,0,0,0,0,0,null,null,null,null,null,null,null,51,{"$f":"+INDEX($F58:$DJ58,1,Sheet3!$C$1)","v":51},{"$f":"+IF(Sheet3!$C$1=1,IF(DN58<3,0,1),1)","v":1}]
[2,1,"119",5,2,14,264986.22535906808,123.72000000000003,95.670000000000016,5796.57,0,22.84,2.21,0,0,7.01,0.15,113.45000000000002,0.9,0.49,6.6000000000000005,6.6000000000000005,123.72000000000003,62.809999999999995,58.690000000000005,11852.430000000002,11852.430000000002,11852.430000000002,0,0,0,0,0,0,0,0,0,0,0,0,27724.309999999998,10707.300000000001,0,0,10707.300000000001,17017.009999999998,0,0,0,0,0,3982.75,0,0,0,13034.26,0,0,0,0,0,0,0,0,0,0,0,0,39576.74,null,0.57999999999999996,null,null,0.55000000000000004,7.99,0.31,1.1299999999999999,99.12,1.42,2.78,null,1,null,null,null,null,1,9,58.02,0,0,0,0,0,0,0,0,0,0,4,38.840000000000003,0,0,0,0,0,0,0,0,null,null,null,null,null,null,null,14,{"$f":"+INDEX($F59:$DJ59,1,Sheet3!$C$1)","v":14},{"$f":"+IF(Sheet3!$C$1=1,IF(DN59<3,0,1),1)","v":1}]
[2,1,"119",6,1,41,1049356.2195483907,68.659999999999982,58.780000000000008,5992.4800000000014,0,55.88,12.37,0,0,6.12,0.33,48.319999999999993,1.52,0,1.4,1.4,68.659999999999982,8.7200000000000006,37.890000000000008,34578.329999999994,34578.329999999994,34578.329999999994,0,0,0,0,0,0,0,0,0,0,0,0,13499.429999999998,9020.7700000000023,0,0,9020.7700000000023,4478.66,952.06,1404,0,0,0,178.5,0,0,0,1944.1,0,0,0,0,0,0,0,0,0,0,0,0,48077.759999999995,8.77,4.12,null,null,0.59,7.02,2.0499999999999998,33.47,6.2,2.29,3,null,1,1,null,null,null,null,3,3.65,1,1.81,1,1.56,0,0,0,0,0,0,2,1.7,0,0,0,0,0,0,0,0,null,null,null,null,null,null,null,41,{"$f":"+INDEX($F60:$DJ60,1,Sheet3!$C$1)","v":41},{"$f":"+IF(Sheet3!$C$1=1,IF(DN60<3,0,1),1)","v":1}]
[2,1,"119",6,2,2,118115.36181999999,11.04,6.26,643.41999999999996,0,7.79,0,0,0,3.86,0,7.18,0,0,0,0,10.68,1.88,5.0199999999999996,1693.2,1693.2,1693.2,0,0,0,0,0,0,0,0,0,0,0,0,1538.56,1019.4,0,0,1019.4,519.16,0,0,0,0,0,0,0,0,0,519.16,0,0,0,0,0,0,0,0,0,0,0,0,3231.76,null,null,null,null,null,3.27,null,7.17,null,null,1.78,null,null,null,null,null,null,null,1,1.88,0,0,0,0,0,0,0,0,0,0,0,0,0,0,0,0,0,0,0,0,null,null,null,null,null,null,null,0,{"$f":"+INDEX($F61:$DJ61,1,Sheet3!$C$1)","v":2},{"$f":"+IF(Sheet3!$C$1=1,IF(DN61<3,0,1),1)","v":0}]
[2,1,"119",7,1,2,1812.55521456,2.21,2.1399999999999997,200.13,0,2.21,0,0,0,0.1,0,1.47,0.64,0,0,0,2.21,0,2.21,1693.17,1693.17,1693.17,0,0,0,0,0,0,0,0,0,0,0,0,382.2,382.2,0,0,382.2,0,0,0,0,0,0,0,0,0,0,0,0,0,0,0,0,0,0,0,0,0,0,0,2075.37,null,null,null,null,null,1.57,null,null,null,1,0.46,null,null,null,null,null,null,null,0,0,0,0,0,0,0,0,0,0,0,0,0,0,0,0,0,0,0,0,0,0,null,null,null,null,null,null,null,0,{"$f":"+INDEX($F62:$DJ62,1,Sheet3!$C$1)","v":2},{"$f":"+IF(Sheet3!$C$1=1,IF(DN62<3,0,1),1)","v":0}]
[2,1,"119",8,1,384,954617.85240832937,501.65500000000003,457.74000000000012,49796.340000000011,0,413,204.93,0,0,126.41,7.08,127.75999999999995,35.51,1.22,63.599999999999994,66.600000000000009,502.41,8.8699999999999992,274.97000000000008,324098.26999999885,324098.26999999885,324098.26999999885,0,0,0,0,0,0,0,0,0,0,0,0,57093.459999999977,51998.439999999973,0,0,51998.439999999973,5095.0199999999995,0,3882.72,0,0,0,242.55,0,0,0,769.75,0,0,0,0,0,0,0,0,200,0,0,0,381191.7299999994,13.62,160.49,null,null,30.66,140.62,8.5,14.07,74.64,12.36,64.83,null,33,38,100,19,18,2,1,2.31,0,0,2,6.56,0,0,0,0,0,0,1,2.31,0,0,0,0,0,0,0,0,null,null,null,null,null,null,null,384,{"$f":"+INDEX($F63:$DJ63,1,Sheet3!$C$1)","v":384},{"$f":"+IF(Sheet3!$C$1=1,IF(DN63<3,0,1),1)","v":1}]
[2,1,"119",8,2,4,51126.344168148957,24.6,19.05,1136.8900000000001,0,8.33,5.01,0,0,2.2200000000000002,3.86,13.219999999999999,0.28999999999999998,0,4.2,4.2,24.6,5.41,3.74,3386.4,3386.4,3386.4,0,0,0,0,0,0,0,0,0,0,0,0,2075.4,626.6,0,0,626.6,1448.8,0,0,0,0,0,0,0,0,0,1448.8,0,0,0,0,0,0,0,0,0,0,0,0,5461.8,null,3.41,null,null,1.51,2.2400000000000002,0.2,1.33,6.19,1.61,0.28999999999999998,null,3,1,null,null,null,null,1,5.41,0,0,0,0,0,0,0,0,0,0,0,0,0,0,0,0,0,0,0,0,null,null,null,null,null,null,null,4,{"$f":"+INDEX($F64:$DJ64,1,Sheet3!$C$1)","v":4},{"$f":"+IF(Sheet3!$C$1=1,IF(DN64<3,0,1),1)","v":1}]
[2,1,"119",9,1,4,18216.257511666081,3.8899999999999997,3.52,512.04,0,2.61,2.14,0,0,1.1200000000000001,0,0.32,0.31,0.31,11.850000000000001,11.850000000000001,3.8899999999999997,0,1.3,3386.36,3386.36,3386.36,0,0,0,0,0,0,0,0,0,0,0,0,338,338,0,0,338,0,0,0,0,0,0,0,0,0,0,0,0,0,0,0,0,0,0,0,0,0,0,0,3724.36,null,1.79,null,null,0.02,1.73,null,null,0.33,null,0.06,2,2,3,9,1,4,null,0,0,0,0,0,0,0,0,0,0,0,0,0,0,0,0,0,0,0,0,0,0,null,null,null,null,null,null,null,4,{"$f":"+INDEX($F65:$DJ65,1,Sheet3!$C$1)","v":4},{"$f":"+IF(Sheet3!$C$1=1,IF(DN65<3,0,1),1)","v":1}]
[2,1,"119",9,2,1,13387.080636260715,10.31,0.8,47.74,0,1.55,0.46,0,0,0.87,0,0,17.739999999999998,0,2.2999999999999998,2.2999999999999998,19.07,0,19.07,846.6,846.6,846.6,0,0,0,0,0,0,0,0,0,0,0,0,2143,2143,0,0,2143,0,0,0,0,0,0,0,0,0,0,0,0,0,0,0,0,0,0,0,0,0,0,0,2989.6,null,null,null,null,null,1.1499999999999999,null,null,null,null,17.71,1,1,null,null,null,2,null,0,0,0,0,0,0,0,0,0,0,0,0,0,0,0,0,0,0,0,0,0,0,null,null,null,null,null,null,null,0,{"$f":"+INDEX($F66:$DJ66,1,Sheet3!$C$1)","v":1},{"$f":"+IF(Sheet3!$C$1=1,IF(DN66<3,0,1),1)","v":0}]
[2,1,"119","10_1",1,40,102548.23604951841,45.679999999999993,39.39,4953.3999999999996,0,39.76,8.3800000000000008,0,0,26.4,0,1.9400000000000002,9.9,9.9,106.4,110.39999999999999,46.679999999999993,0,31.619999999999997,33865.21,33865.21,33865.21,0,0,0,0,0,0,0,0,0,0,0,0,9088.19,8328.19,0,0,8328.19,760,0,0,0,0,0,0,0,0,0,0,0,0,0,0,0,0,0,0,760,0,0,0,42953.399999999994,0.72,6.33,null,null,0.7,31.47,0.06,null,1.28,0.25,14.09,null,56,61,13,1,2,null,0,0,0,0,0,0,0,0,0,0,0,0,0,0,0,0,0,0,0,0,0,0,null,null,null,null,null,null,null,{"$f":"+DN67*DO67","v":40},{"$f":"+INDEX($F67:$DJ67,1,Sheet3!$C$1)","v":40},{"$f":"+IF(Sheet3!$C$1=1,IF(DN67<3,0,1),1)","v":1}]
[2,1,"119","10_2",1,26,78962.511880276972,70.765000000000001,36.299999999999997,3036.1599999999994,0,33.92,3.1,0,0,20.34,0,1.22,76.58,76.58,39.300000000000004,40.300000000000004,83.660000000000011,0,93.980000000000018,22012.17,22012.17,22012.17,0,0,0,0,0,0,0,0,0,0,0,0,16404.3,15824.3,0,0,15824.3,580,0,0,0,0,0,0,0,0,0,0,0,0,0,0,0,0,0,0,580,0,0,0,38416.47,0.17,4.37,null,null,0.78,28.72,null,0.03,0.62,0.52,75.17,null,27,19,6,1,1,null,0,0,0,0,0,0,0,0,0,0,0,0,0,0,0,0,0,0,0,0,0,0,null,null,null,null,null,null,null,26,{"$f":"+INDEX($F68:$DJ68,1,Sheet3!$C$1)","v":26},{"$f":"+IF(Sheet3!$C$1=1,IF(DN68<3,0,1),1)","v":1}]
[2,1,"119","10_2",2,16,131745.85357887606,120.31000000000002,19.200000000000003,1607.25,0,23.55,5.54,0,0,6.67,0,0,198.86,97.5,45.999999999999993,46.999999999999993,110.34,5.87,213.61,13545.620000000003,13545.620000000003,13545.620000000003,0,0,0,0,0,0,0,0,0,0,0,0,26511.300000000003,25714.100000000002,0,0,25714.100000000002,797.2,0,0,0,0,0,0,0,0,0,0,0,0,167.2,0,0,350,0,0,280,0,0,0,40056.92,0.53,1.07,null,null,0.21,15.05,null,0.25,1.04,0.22,203.66,1,19,39,null,null,2,null,0,0,0,0,0,0,0,0,0,0,0,0,0,0,0,0,1,0.88,0,0,1,4.99,null,null,null,null,null,null,null,16,{"$f":"+INDEX($F69:$DJ69,1,Sheet3!$C$1)","v":16},{"$f":"+IF(Sheet3!$C$1=1,IF(DN69<3,0,1),1)","v":1}]
[2,1,"119","10_2",3,1,52177.630360142386,36.32,5.53,330.03,0,4.63,0,0,0,0.71,0,0,63.26,0,10.8,10.8,67.95,0,67.95,846.6,846.6,846.6,0,0,0,0,0,0,0,0,0,0,0,0,3443.8,3443.8,0,0,3443.8,0,0,0,0,0,0,0,0,0,0,0,0,0,0,0,0,0,0,0,0,0,0,0,4290.4000000000005,null,null,null,null,null,0.75,null,null,3.84,0.06,58.17,null,null,19,null,null,null,null,0,0,0,0,0,0,0,0,0,0,0,0,0,0,0,0,0,0,0,0,0,0,null,null,null,null,null,null,null,0,{"$f":"+INDEX($F70:$DJ70,1,Sheet3!$C$1)","v":1},{"$f":"+IF(Sheet3!$C$1=1,IF(DN70<3,0,1),1)","v":0}]
[2,1,"119",11,1,120,344665.62086730741,304.99500000000006,140.45000000000005,11383.120000000006,0,141.1,9.1,0,0,80.150000000000006,0,3.4599999999999991,370.78,92.08,129.85000000000002,218.90600000000003,378.7799999999998,4.78,453.24999999999994,101490.43000000002,101490.43000000002,101490.43000000002,0,0,0,0,0,0,0,0,0,0,0,0,76130.319999999949,72393.689999999944,0,0,72393.689999999944,3736.6299999999997,0,0,0,0,0,0,0,0,0,0,0,0,704.9,0,0,0,0,0,3031.73,0,0,0,177620.74999999997,1.49,7.78,null,null,2.97,103.26,0.8,1.07,1.62,1.01,366.22,null,15,13,448,53,76,12,0,0,0,0,0,0,0,0,0,0,0,0,0,0,0,0,5,3.71,0,0,0,0,null,null,null,null,null,null,null,120,{"$f":"+INDEX($F71:$DJ71,1,Sheet3!$C$1)","v":120},{"$f":"+IF(Sheet3!$C$1=1,IF(DN71<3,0,1),1)","v":1}]
[2,1,"119",11,2,46,422218.90704804682,404.84500000000008,61.580000000000013,4393.8,0,55.61,7.82,0,0,14.77,0.33,0,713.25,78.31,49.699999999999996,195.70000000000002,495.23000000000008,1.5,743.66,38692.179999999986,38692.179999999986,38692.179999999986,0,0,0,0,0,0,0,0,0,0,0,0,95752.859999999986,83949.499999999985,0,0,83949.499999999985,11803.36,0,0,0,0,0,0,0,0,0,0,0,0,83.32,0,0,0,0,0,11720.04,0,0,0,134445.03999999998,1.46,4.12,null,null,0.76,26.75,0.21,0.36,3.11,0.62,683.8,null,20,18,159,16,22,1,0,0,0,0,0,0,0,0,0,0,0,0,0,0,0,0,1,0.49,0,0,0,0,null,null,null,null,null,null,null,46,{"$f":"+INDEX($F72:$DJ72,1,Sheet3!$C$1)","v":46},{"$f":"+IF(Sheet3!$C$1=1,IF(DN72<3,0,1),1)","v":1}]
[2,1,"119",11,3,2,67269.895140609777,63.64,1.64,118.07,0,13.68,0.57999999999999996,0,0,1.3,0,0,110.69,0,4.5999999999999996,42.6,113.6,0,113.6,1693.2,1693.2,1693.2,0,0,0,0,0,0,0,0,0,0,0,0,9893.6,6693.6,0,0,6693.6,3200,0,0,0,0,0,0,0,0,0,0,0,0,0,0,0,0,0,0,3200,0,0,0,11586.800000000001,null,null,null,null,null,4.07,null,null,0.72,0.31,112.05,null,2,5,null,null,null,null,0,0,0,0,0,0,0,0,0,0,0,0,0,0,0,0,0,0,0,0,0,0,null,null,null,null,null,null,null,0,{"$f":"+INDEX($F73:$DJ73,1,Sheet3!$C$1)","v":2},{"$f":"+IF(Sheet3!$C$1=1,IF(DN73<3,0,1),1)","v":0}]
[2,1,"119",12,1,124,366823.72769932944,193.19,155.70999999999998,15532.869999999992,0,152.26,58.6,0,0,68.27,0.38,21.869999999999997,62.6,40.500000000000007,178.79999999999998,202.90000000000003,191.46,1.63,160.05000000000004,104622.03000000001,104622.03000000001,104622.03000000001,0,0,0,0,0,0,0,0,0,0,0,0,35963.949999999997,35254.25,0,0,35254.25,709.7,0,0,0,0,0,0,0,0,0,0,0,0,309.7,0,0,0,0,0,400,0,0,0,140585.97999999995,2.4900000000000002,50.79,null,null,8.41,74.53,0.6,2.2999999999999998,14.74,0.78,70.400000000000006,3,54,79,330,47,78,10,0,0,0,0,0,0,0,0,0,0,0,0,0,0,0,0,1,1.63,0,0,0,0,null,null,null,null,null,null,null,124,{"$f":"+INDEX($F74:$DJ74,1,Sheet3!$C$1)","v":124},{"$f":"+IF(Sheet3!$C$1=1,IF(DN74<3,0,1),1)","v":1}]
[2,1,"119",12,2,5,44276.058819519436,32.379999999999995,12.89,818.44,0,13.87,0.94,0,0,5.07,0,0,38.04,8.4700000000000006,5,10,32.68,0,48.36,4233.01,4233.01,4233.01,0,0,0,0,0,0,0,0,0,0,0,0,7299.0999999999985,7299.0999999999985,0,0,7299.0999999999985,0,0,0,0,0,0,0,0,0,0,0,0,0,0,0,0,0,0,0,0,0,0,0,11532.11,0.3,0.35,null,null,0.53,8.02,null,0.47,2.2999999999999998,0.45,40.89,null,3,1,12,2,null,null,0,0,0,0,0,0,0,0,0,0,0,0,0,0,0,0,0,0,0,0,0,0,null,null,null,null,null,null,null,5,{"$f":"+INDEX($F75:$DJ75,1,Sheet3!$C$1)","v":5},{"$f":"+IF(Sheet3!$C$1=1,IF(DN75<3,0,1),1)","v":1}]
[2,1,"119",13,1,228,294915.18825330661,291.89499999999981,276.64999999999992,28719.049999999996,0,241.39,5.44,0,0,220.77,2.5,11.689999999999996,52.97,0,0,0,293.25999999999982,0,80.349999999999994,192411.2999999999,192411.2999999999,192411.2999999999,0,0,0,0,0,0,0,0,0,0,0,0,3017.1200000000003,3017.1200000000003,0,0,3017.1200000000003,0,0,0,0,0,0,0,0,0,0,0,0,0,0,0,0,0,0,0,0,0,0,0,195428.41999999995,0.28999999999999998,11.97,null,null,2.62,230.64,3.38,0.9,7.7,0.87,66.7,1,3,4,4,null,null,null,0,0,0,0,0,0,0,0,0,0,0,0,0,0,0,0,0,0,0,0,0,0,null,null,null,null,null,null,null,228,{"$f":"+INDEX($F76:$DJ76,1,Sheet3!$C$1)","v":228},{"$f":"+IF(Sheet3!$C$1=1,IF(DN76<3,0,1),1)","v":1}]
[2,1,"119",13,2,1,551.99049216000003,5.48,5.35,319.27999999999997,0,0,0,0,0,0,5.48,0,0,0,0,0,5.48,0,0,846.6,846.6,846.6,0,0,0,0,0,0,0,0,0,0,0,0,0,0,0,0,0,0,null,null,null,null,null,null,null,null,null,null,null,null,null,null,null,null,null,null,null,null,null,null,846.6,null,null,null,null,null,null,null,null,null,null,null,null,null,null,null,null,null,null,0,0,0,0,0,0,0,0,0,0,0,0,0,0,0,0,0,0,0,0,0,0,null,null,null,null,null,null,null,0,{"$f":"+INDEX($F77:$DJ77,1,Sheet3!$C$1)","v":1},{"$f":"+IF(Sheet3!$C$1=1,IF(DN77<3,0,1),1)","v":0}]
[2,1,"11A","1_1",1,444,725131.39109843911,415.93999999999971,385.88999999999993,58018.60999999995,0,378.89,318.3,0,0,57.29,1.79,19.679999999999989,18.88,0.42,7.6999999999999993,7.6999999999999993,415.89999999999975,3.64,109.77000000000002,374287.49999999849,374287.49999999849,374287.49999999849,0,0,0,0,0,0,0,0,0,0,0,0,24974.400000000001,22833.48,0,0,22833.48,2140.92,0,2140.92,0,0,0,0,0,0,0,0,0,0,0,0,0,0,0,0,0,0,0,0,399261.89999999863,24.59,241.56,null,null,20.73,74.5,2.95,2.2400000000000002,9.4,0.94,27.67,null,4,24,26,4,2,null,0,0,0,0,3,3.64,0,0,0,0,0,0,0,0,0,0,0,0,0,0,0,0,null,null,null,null,null,null,null,444,{"$f":"+INDEX($F78:$DJ78,1,Sheet3!$C$1)","v":444},{"$f":"+IF(Sheet3!$C$1=1,IF(DN78<3,0,1),1)","v":1}]
[2,1,"11A","1_2",1,62,221227.51683087702,63.78,56.120000000000005,7882.5499999999975,0,12.04,52.91,0,0,4.42,2.16,1.48,2.81,0,22.400000000000002,22.400000000000002,63.74,0,17.689999999999998,52065.989999999983,52065.989999999983,52065.989999999983,0,0,0,0,0,0,0,0,0,0,0,0,3830.4500000000003,3830.4500000000003,0,0,3830.4500000000003,0,0,0,0,0,0,0,0,0,0,0,0,0,0,0,0,0,0,0,0,0,0,0,55896.439999999988,15.72,25.69,null,null,3.76,6.9,0.78,0.41,0.33,null,5.98,2,4,21,null,null,null,null,0,0,0,0,0,0,0,0,0,0,0,0,0,0,0,0,0,0,0,0,0,0,null,null,null,null,null,null,null,62,{"$f":"+INDEX($F79:$DJ79,1,Sheet3!$C$1)","v":62},{"$f":"+IF(Sheet3!$C$1=1,IF(DN79<3,0,1),1)","v":1}]
[2,1,"11A",4,1,86,1159833.7446548746,99.539999999999978,87.469999999999985,10075.579999999998,0,81.900000000000006,73.400000000000006,0,0,12.54,0.79,7.83,4.9800000000000004,1.1000000000000001,4.2499999999999991,4.2499999999999991,99.32999999999997,0,21.12,72387.639999999956,72387.639999999956,72387.639999999956,0,0,0,0,0,0,0,0,0,0,0,0,4246.5499999999993,4246.5499999999993,0,0,4246.5499999999993,0,0,0,0,0,0,0,0,0,0,0,0,0,0,0,0,0,0,0,0,0,0,0,76634.189999999988,3.73,18.809999999999999,null,null,46.95,14.76,1.52,1.94,4.07,null,4.83,null,null,3,10,1,5,1,0,0,0,0,0,0,0,0,0,0,0,0,0,0,0,0,0,0,0,0,0,0,null,null,null,null,null,null,null,86,{"$f":"+INDEX($F80:$DJ80,1,Sheet3!$C$1)","v":86},{"$f":"+IF(Sheet3!$C$1=1,IF(DN80<3,0,1),1)","v":1}]
[2,1,"11A",5,1,25,104393.43975624986,53.949999999999996,49.030000000000008,4006.5499999999997,0,29,3.24,0,0,3.91,0.06,42.02000000000001,4.72,0,1.2,1.2,53.949999999999996,7.53,37.800000000000004,21156.670000000002,21156.670000000002,21156.670000000002,0,0,0,0,0,0,0,0,0,0,0,0,11042.14,8235.7300000000014,0,0,8235.7300000000014,2806.41,0,0,0,0,0,119.7,0,0,0,2686.71,0,0,0,0,0,0,0,0,0,0,0,0,32198.81,1.02,1.1299999999999999,null,null,1.27,5.23,0.19,0.77,39.07,0.48,3.28,null,null,null,19,2,null,null,4,7.53,0,0,0,0,0,0,0,0,0,0,1,1.1399999999999999,0,0,0,0,0,0,0,0,null,null,null,null,null,null,null,25,{"$f":"+INDEX($F81:$DJ81,1,Sheet3!$C$1)","v":25},{"$f":"+IF(Sheet3!$C$1=1,IF(DN81<3,0,1),1)","v":1}]
[2,1,"11A",5,2,6,117610.88868111868,57.34,45.370000000000005,2707.65,0,13.98,0,0,0,0.57999999999999996,1.06,55.7,0,0,0,0,57.34,37.630000000000003,45.010000000000005,5071.16,5071.16,5071.16,0,0,0,0,0,0,0,0,0,0,0,0,21613.619999999995,8853.1299999999992,0,0,8853.1299999999992,12760.49,0,3572.45,0,0,217.08,1650.61,0,0,0,7320.35,0,0,0,0,0,0,0,0,0,0,0,0,26684.78,null,null,null,null,null,0.87,0.11,0.81,48.75,2.9,0.42,null,null,null,null,null,null,null,4,30,0,0,1,6.29,0,0,1,1.34,0,0,2,15.99,0,0,0,0,0,0,0,0,null,null,null,null,null,null,null,6,{"$f":"+INDEX($F82:$DJ82,1,Sheet3!$C$1)","v":6},{"$f":"+IF(Sheet3!$C$1=1,IF(DN82<3,0,1),1)","v":1}]
[2,1,"11A",6,1,78,1116827.1075547086,108.38,88.530000000000015,8735.0300000000025,0,91.19,21.58,0,0,7.35,1.72,73.860000000000014,3.87,0.76,6.35,6.35,108.38,17.690000000000001,63.04999999999999,65956.699999999953,65956.699999999953,65956.699999999953,0,0,0,0,0,0,0,0,0,0,0,0,26301.51,15143.800000000003,0,0,15143.800000000003,11157.710000000001,0,684,0,0,0,0,0,0,0,10473.709999999999,0,0,0,0,0,0,0,0,0,0,0,0,92258.210000000021,6.75,9.59,null,null,3.78,9.76,1.02,55.04,1.49,0.32,4.4400000000000004,null,2,3,26,3,null,null,11,16.93,0,0,1,0.76,0,0,0,0,0,0,0,0,0,0,0,0,0,0,0,0,null,null,null,null,null,null,null,78,{"$f":"+INDEX($F83:$DJ83,1,Sheet3!$C$1)","v":78},{"$f":"+IF(Sheet3!$C$1=1,IF(DN83<3,0,1),1)","v":1}]
[2,1,"11A",6,2,6,571243.35123496584,59.57,46.14,2917.9900000000002,0,53.13,0.57999999999999996,0,0,0.22,1.83,56.94,0,0,0,0,59.57,47.510000000000005,13.28,5079.5600000000004,5079.5600000000004,5079.5600000000004,0,0,0,0,0,0,0,0,0,0,0,0,27180.16,3122.8,0,0,3122.8,24057.359999999997,0,0,0,0,0,0,0,0,0,24057.360000000001,0,0,0,0,0,0,0,0,0,0,0,0,32259.720000000005,2.21,null,null,null,null,0.2,0.36,48.21,null,null,0.61,null,null,null,null,null,null,null,6,47.51,0,0,0,0,0,0,0,0,0,0,0,0,0,0,0,0,0,0,0,0,null,null,null,null,null,null,null,6,{"$f":"+INDEX($F84:$DJ84,1,Sheet3!$C$1)","v":6},{"$f":"+IF(Sheet3!$C$1=1,IF(DN84<3,0,1),1)","v":1}]
[2,1,"11A",7,1,1,1463.0619723648767,1.34,1.33,79.37,0,1.34,0.16,0,0,0,0,1.18,0,0,0,0,1.34,0,1.34,846.61,846.61,846.61,0,0,0,0,0,0,0,0,0,0,0,0,348.4,348.4,0,0,348.4,0,0,0,0,0,0,0,0,0,0,0,0,0,0,0,0,0,0,0,0,0,0,0,1195.01,null,0.05,null,null,0.05,1.2,null,null,null,0.03,null,null,null,null,null,null,null,null,0,0,0,0,0,0,0,0,0,0,0,0,0,0,0,0,0,0,0,0,0,0,null,null,null,null,null,null,null,0,{"$f":"+INDEX($F85:$DJ85,1,Sheet3!$C$1)","v":1},{"$f":"+IF(Sheet3!$C$1=1,IF(DN85<3,0,1),1)","v":0}]
[2,1,"11A",8,1,416,907772.34951291163,434.02000000000004,400.47999999999962,55803.330000000016,0,361.72,220.73,0,0,86.03,2.79,92.039999999999964,32.43,2.8900000000000006,48.25,48.25,433.92,4.0999999999999996,171.79999999999995,351774.59999999934,351774.59999999934,351774.59999999934,0,0,0,0,0,0,0,0,0,0,0,0,37061.079999999994,34907.9,0,0,34907.9,2153.1800000000003,0,0,0,0,0,121.8,0,0,0,1831.38,0,0,0,0,0,0,0,0,200,0,0,0,388835.67999999924,16.16,164.87,null,null,40.58,90.98,2.84,17.12,47.99,6.05,39.659999999999997,1,13,72,68,7,23,7,3,4.0999999999999996,0,0,0,0,0,0,0,0,0,0,1,1.1599999999999999,0,0,0,0,0,0,0,0,null,null,null,null,null,null,null,416,{"$f":"+INDEX($F86:$DJ86,1,Sheet3!$C$1)","v":416},{"$f":"+IF(Sheet3!$C$1=1,IF(DN86<3,0,1),1)","v":1}]
[2,1,"11A",8,2,1,25700.859417944492,12.86,8.08,482.21,0,3.44,0,0,0,4.45,0,8.41,0,0,1.2,1.2,12.86,2.21,12.86,838.13,838.13,838.13,0,0,0,0,0,0,0,0,0,0,0,0,2980.79,2258.7800000000002,0,0,2258.7800000000002,722.01,0,0,0,0,0,229.73,0,0,0,492.28,0,0,0,0,0,0,0,0,0,0,0,0,3818.92,null,null,null,null,null,4.79,null,0.45,7.82,null,null,null,null,null,3,2,1,null,1,2.21,0,0,0,0,0,0,0,0,0,0,1,2.21,0,0,0,0,0,0,0,0,null,null,null,null,null,null,null,0,{"$f":"+INDEX($F87:$DJ87,1,Sheet3!$C$1)","v":1},{"$f":"+IF(Sheet3!$C$1=1,IF(DN87<3,0,1),1)","v":0}]
[2,1,"11A",9,1,16,72495.229357860517,18.349999999999998,16.14,2126.4400000000005,0,17.13,6.42,0,0,4.5599999999999996,0,0.55000000000000004,6.82,6.82,31.6,31.6,18.349999999999998,0,9.41,13546.320000000002,13546.320000000002,13546.320000000002,0,0,0,0,0,0,0,0,0,0,0,0,2061.8000000000002,2061.8000000000002,0,0,2061.8000000000002,0,0,0,0,0,0,0,0,0,0,0,0,0,0,0,0,0,0,0,0,0,0,0,15608.120000000003,1.41,3.78,null,null,0.42,4.8600000000000003,null,null,0.35,null,9.5399999999999991,21,2,16,null,null,null,null,0,0,0,0,0,0,0,0,0,0,0,0,0,0,0,0,0,0,0,0,0,0,null,null,null,null,null,null,null,16,{"$f":"+INDEX($F88:$DJ88,1,Sheet3!$C$1)","v":16},{"$f":"+IF(Sheet3!$C$1=1,IF(DN88<3,0,1),1)","v":1}]
[2,1,"11A","10_1",1,60,234845.30912478073,66.899999999999991,60.420000000000009,9923.1899999999987,0,57.36,19.61,0,0,37.26,0.5,3.81,5.72,5.7200000000000006,180.49999999999997,180.49999999999997,66.899999999999991,0,28.820000000000004,50781.04,50781.04,50781.04,0,0,0,0,0,0,0,0,0,0,0,0,6459.3,6039.3,0,0,6039.3,420,0,0,0,0,0,0,0,0,0,0,0,0,0,0,0,0,0,0,420,0,0,0,57240.339999999989,1.04,13.91,null,null,2.44,39.159999999999997,null,0.11,3.2,0.1,5.93,7,22,254,8,2,12,2,0,0,0,0,0,0,0,0,0,0,0,0,0,0,0,0,0,0,0,0,0,0,null,null,null,null,null,null,null,60,{"$f":"+INDEX($F89:$DJ89,1,Sheet3!$C$1)","v":60},{"$f":"+IF(Sheet3!$C$1=1,IF(DN89<3,0,1),1)","v":1}]
[2,1,"11A","10_1",2,3,57669.177264667218,22.7,10.879999999999999,649.29999999999995,0,14.32,2.39,0,0,19.23,0,1.08,0,0,28.25,28.25,22.7,0,22.7,2539.8200000000002,2539.8200000000002,2539.8200000000002,0,0,0,0,0,0,0,0,0,0,0,0,4943,4943,0,0,4943,0,0,0,0,0,0,0,0,0,0,0,0,0,0,0,0,0,0,0,0,0,0,0,7482.82,null,0.7,null,null,0.92,20.95,null,0.05,0.82,null,null,null,8,28,34,2,40,null,0,0,0,0,0,0,0,0,0,0,0,0,0,0,0,0,0,0,0,0,0,0,null,null,null,null,null,null,null,3,{"$f":"+INDEX($F90:$DJ90,1,Sheet3!$C$1)","v":3},{"$f":"+IF(Sheet3!$C$1=1,IF(DN90<3,0,1),1)","v":1}]
[2,1,"11A","10_2",1,15,31248.453601978032,27.29,19.41,2220.6,0,15.31,1.35,0,0,6.24,0,0.42000000000000004,29.66,23.05,13.4,13.4,37.67,0,32.54,12447.410000000002,12447.410000000002,12447.410000000002,0,0,0,0,0,0,0,0,0,0,0,0,1690.8999999999999,1690.8999999999999,0,0,1690.8999999999999,0,0,0,0,0,0,0,0,0,0,0,0,0,0,0,0,0,0,0,0,0,0,0,14138.310000000001,null,0.74,null,null,0.14000000000000001,6.45,null,0.02,0.08,0.3,30.26,null,9,15,null,null,null,null,0,0,0,0,0,0,0,0,0,0,0,0,0,0,0,0,0,0,0,0,0,0,null,null,null,null,null,null,null,15,{"$f":"+INDEX($F91:$DJ91,1,Sheet3!$C$1)","v":15},{"$f":"+IF(Sheet3!$C$1=1,IF(DN91<3,0,1),1)","v":1}]
[2,1,"11A","10_2",2,1,7530.5287038362585,6.4550000000000001,1.65,230.09,0,1.96,0.28000000000000003,0,0,0.48,0,0,10.11,10.11,3.2,3.2,10.95,0,10.95,846.62,846.62,846.62,0,0,0,0,0,0,0,0,0,0,0,0,1577.4,1437.4,0,0,1437.4,140,0,0,0,0,0,0,0,0,0,0,0,0,0,0,0,0,0,0,140,0,0,0,2424.02,null,null,null,null,null,0.39,null,0.08,null,null,10.45,null,1,2,null,null,null,null,0,0,0,0,0,0,0,0,0,0,0,0,0,0,0,0,0,0,0,0,0,0,null,null,null,null,null,null,null,0,{"$f":"+INDEX($F92:$DJ92,1,Sheet3!$C$1)","v":1},{"$f":"+IF(Sheet3!$C$1=1,IF(DN92<3,0,1),1)","v":0}]
[2,1,"11A",11,1,23,51932.669997368364,31.730000000000004,28.82,2670,0,23.81,2.35,0,0,17.23,0,2.2400000000000002,11.91,11.91,50.35,50.35,33.730000000000004,0,19.329999999999998,19223.560000000001,19223.560000000001,19223.560000000001,0,0,0,0,0,0,0,0,0,0,0,0,4238,4238,0,0,4238,0,0,0,0,0,0,0,0,0,0,0,0,0,0,0,0,0,0,0,0,0,0,0,23461.56,0.15,1.61,null,null,0.55000000000000004,24.25,null,0.83,0.97,0.22,5.78,null,3,9,212,24,39,8,0,0,0,0,0,0,0,0,0,0,0,0,0,0,0,0,0,0,0,0,0,0,null,null,null,null,null,null,null,23,{"$f":"+INDEX($F93:$DJ93,1,Sheet3!$C$1)","v":23},{"$f":"+IF(Sheet3!$C$1=1,IF(DN93<3,0,1),1)","v":1}]
[2,1,"11A",11,2,1,5015.7869524787766,5.085,2.06,421.51,0,1.05,0.12,0,0,7.0000000000000007E-2,0,0,8.86,0,1,1,9.08,0,9.08,846.61,846.61,846.61,0,0,0,0,0,0,0,0,0,0,0,0,1177.0999999999999,1177.0999999999999,0,0,1177.0999999999999,0,0,0,0,0,0,0,0,0,0,0,0,0,0,0,0,0,0,0,0,0,0,0,2023.71,null,0.19,null,null,null,null,null,null,null,null,9.1300000000000008,null,1,1,null,null,null,null,0,0,0,0,0,0,0,0,0,0,0,0,0,0,0,0,0,0,0,0,0,0,null,null,null,null,null,null,null,0,{"$f":"+INDEX($F94:$DJ94,1,Sheet3!$C$1)","v":1},{"$f":"+IF(Sheet3!$C$1=1,IF(DN94<3,0,1),1)","v":0}]
[2,1,"11A",12,1,145,377817.39009458316,163.26000000000002,144.36000000000007,20971.100000000006,0,136.32,80.58,0,0,40.65,0.06,19.590000000000007,22.38,22.38,211.89999999999981,217.19999999999979,163.24,0,91.29,122724.83000000006,122724.83000000006,122724.83000000006,0,0,0,0,0,0,0,0,0,0,0,0,20678.2,20198.199999999997,0,0,20198.199999999997,480,0,0,0,0,0,0,0,0,0,0,0,0,0,0,0,0,0,0,480,0,0,0,143403.03000000006,3.59,63.46,null,null,9.41,50.02,0.06,3.52,10.44,1.96,20.2,2,34,209,194,23,80,7,0,0,0,0,0,0,0,0,0,0,0,0,0,0,0,0,0,0,0,0,0,0,null,null,null,null,null,null,null,145,{"$f":"+INDEX($F95:$DJ95,1,Sheet3!$C$1)","v":145},{"$f":"+IF(Sheet3!$C$1=1,IF(DN95<3,0,1),1)","v":1}]
[2,1,"11A",12,2,1,11637.807580889823,5.14,5.12,305.56,0,5.14,0.63,0,0,2.12,0,0.18,2.21,2.21,3.2,3.2,5.14,0,0,846.61,846.61,846.61,0,0,0,0,0,0,0,0,0,0,0,0,0,0,0,0,0,0,null,null,null,null,null,null,null,null,null,null,null,null,null,null,null,null,null,null,null,null,null,null,846.61,null,null,null,null,1.23,1.57,null,0.02,0.14000000000000001,null,2.16,null,2,3,null,null,null,null,0,0,0,0,0,0,0,0,0,0,0,0,0,0,0,0,0,0,0,0,0,0,null,null,null,null,null,null,null,0,{"$f":"+INDEX($F96:$DJ96,1,Sheet3!$C$1)","v":1},{"$f":"+IF(Sheet3!$C$1=1,IF(DN96<3,0,1),1)","v":0}]
[2,1,"11A",13,1,218,312606.49001324241,246.66999999999996,227.04999999999998,32086.43,0,214.17,11.59,0,0,175.83,1.08,7.4799999999999969,53.57,0,0,0,249.72999999999996,0,52.38,184069.71000000002,184069.71000000002,184069.71000000002,0,0,0,0,0,0,0,0,0,0,0,0,3786.5899999999997,3786.5899999999997,0,0,3786.5899999999997,0,0,0,0,0,0,0,0,0,0,0,0,0,0,0,0,0,0,0,0,0,0,0,187856.3,1.3,19.79,null,null,3.52,165.39,0.54,1.23,4.09,0.18,66.239999999999995,1,3,8,11,null,2,null,0,0,0,0,0,0,0,0,0,0,0,0,0,0,0,0,0,0,0,0,0,0,null,null,null,null,null,null,null,218,{"$f":"+INDEX($F97:$DJ97,1,Sheet3!$C$1)","v":218},{"$f":"+IF(Sheet3!$C$1=1,IF(DN97<3,0,1),1)","v":1}]
[2,1,"11A",13,2,1,11902.454511628581,6.07,3.28,262.23,0,6.07,0,0,0,5.92,0,0.15,0,0,0,0,6.07,0,0,846.59,846.59,846.59,0,0,0,0,0,0,0,0,0,0,0,0,0,0,0,0,0,0,null,null,null,null,null,null,null,null,null,null,null,null,null,null,null,null,null,null,null,null,null,null,846.59,null,null,null,null,null,6.36,null,0.15,0.61,null,null,null,null,null,null,null,null,null,0,0,0,0,0,0,0,0,0,0,0,0,0,0,0,0,0,0,0,0,0,0,null,null,null,null,null,null,null,0,{"$f":"+INDEX($F98:$DJ98,1,Sheet3!$C$1)","v":1},{"$f":"+IF(Sheet3!$C$1=1,IF(DN98<3,0,1),1)","v":0}]
[2,1,"11A",15,1,2,3260.4028089337562,1.2000000000000002,1.01,164.75,0,1.2,1.18,0,0,0,0,0.02,0,0,0,0,1.2000000000000002,0,0,1693.2,1693.2,1693.2,0,0,0,0,0,0,0,0,0,0,0,0,0,0,0,0,0,0,null,null,null,null,null,null,null,null,null,null,null,null,null,null,null,null,null,null,null,null,null,null,1693.2,null,0.28999999999999998,null,null,0.92,null,null,null,null,null,null,null,null,null,null,null,null,null,0,0,0,0,0,0,0,0,0,0,0,0,0,0,0,0,0,0,0,0,0,0,null,null,null,null,null,null,null,0,{"$f":"+INDEX($F99:$DJ99,1,Sheet3!$C$1)","v":2},{"$f":"+IF(Sheet3!$C$1=1,IF(DN99<3,0,1),1)","v":0}]
[2,1,"11B",0,1,5,13477.700411785729,7.89,10.510000000000002,627.21999999999991,0,1.49,0.7,0,0,0.41,0,1.1299999999999999,1.53,0,0,9.8000000000000007,3.77,0.53,2.9,4233.0199999999995,4233.0199999999995,4233.0199999999995,0,0,0,0,0,0,0,0,0,0,0,0,3811.16,2724.5,0,0,2724.5,1086.6600000000001,0,0,0,0,0,0,0,0,0,959.46,0,127.2,0,0,0,0,0,0,0,0,0,0,8044.1799999999994,0.83,0.14000000000000001,null,null,0.28000000000000003,0.7,0.1,0.06,1.04,3.18,1.85,null,null,null,null,null,null,null,1,4.12,0,0,0,0,0,0,0,0,0,0,0,0,0,0,0,0,0,0,0,0,null,null,null,null,null,null,null,5,{"$f":"+INDEX($F100:$DJ100,1,Sheet3!$C$1)","v":5},{"$f":"+IF(Sheet3!$C$1=1,IF(DN100<3,0,1),1)","v":1}]
[2,1,"11B",0,2,2,47002.946623232318,21.97,2.99,198.72,0,7.0000000000000007E-2,0.5,0,0,1.08,0,0,38.200000000000003,0,0,33.900000000000006,31.96,0,40.769999999999996,1693.19,1693.19,1693.19,0,0,0,0,0,0,0,0,0,0,0,0,4089,4089,0,0,4089,0,0,0,0,0,0,0,0,0,0,0,0,0,0,0,0,0,0,0,0,0,0,0,5782.1900000000005,0.33,null,null,null,0.09,1.07,0.1,null,null,null,31.18,null,null,null,null,null,null,null,0,0,0,0,0,0,0,0,0,0,0,0,0,0,0,0,0,0,0,0,0,0,null,null,null,null,null,null,null,0,{"$f":"+INDEX($F101:$DJ101,1,Sheet3!$C$1)","v":2},{"$f":"+IF(Sheet3!$C$1=1,IF(DN101<3,0,1),1)","v":0}]
[2,1,"11B","1_1",1,57,123611.22809582115,101.59,93.009999999999962,7417.1100000000024,0,73.55,53.54,0,0,12.51,1.81,4.41,29.32,0.22,0.3,3.3,101.69000000000001,8.33,95.57,48217.080000000009,48217.080000000009,48217.080000000009,0,0,0,0,0,0,0,0,0,0,0,0,18030.399999999994,16728.399999999998,0,0,16728.399999999998,1302,0,582,0,0,0,0,0,348,0,0,0,372,0,0,0,0,0,0,0,0,0,0,66247.48,11.16,27.73,null,null,7.75,23.76,3.5,7.0000000000000007E-2,3.72,0.5,41.48,null,null,null,9,1,null,null,0,0,0,0,1,0.97,0,0,0,0,0,0,0,0,0,0,0,0,0,0,0,0,null,null,null,null,null,null,null,57,{"$f":"+INDEX($F102:$DJ102,1,Sheet3!$C$1)","v":57},{"$f":"+IF(Sheet3!$C$1=1,IF(DN102<3,0,1),1)","v":1}]
[2,1,"11B","1_1",2,5,12732.608359974514,33.19,20.63,1231.17,0,24.58,26.15,0,0,3.08,0.43,1.0499999999999998,2.48,0,0,0,33.19,0,33.19,4233.55,4233.55,4233.55,0,0,0,0,0,0,0,0,0,0,0,0,6214.2999999999993,6214.2999999999993,0,0,6214.2999999999993,0,0,0,0,0,0,0,0,0,0,0,0,0,0,0,0,0,0,0,0,0,0,0,10447.85,2.23,16.170000000000002,null,null,0.46,1.45,2.91,null,0.66,0.25,8.7100000000000009,null,null,null,null,null,null,null,0,0,0,0,0,0,0,0,0,0,0,0,0,0,0,0,0,0,0,0,0,0,null,null,null,null,null,null,null,5,{"$f":"+INDEX($F103:$DJ103,1,Sheet3!$C$1)","v":5},{"$f":"+IF(Sheet3!$C$1=1,IF(DN103<3,0,1),1)","v":1}]
[2,1,"11B","1_2",1,140,93130.683170646807,280.78999999999985,255.25999999999996,20427.570000000003,0,25.08,125.19,0,0,26.07,36.93,24.28,68.319999999999993,0,0,2,280.56999999999988,0.68,262.7199999999998,118060.44,118060.44,118060.44,0,0,0,0,0,0,0,0,0,0,0,0,49091.459999999992,48981.299999999988,0,0,48981.299999999988,110.16,0,0,0,0,110.16,0,0,0,0,0,0,0,0,0,0,0,0,0,0,0,0,0,167151.89999999985,72.77,33.36,null,null,16.12,32.380000000000003,33.520000000000003,0.39,12.81,4.0599999999999996,151,null,null,null,null,null,null,null,0,0,0,0,0,0,0,0,1,0.68,0,0,0,0,0,0,0,0,0,0,0,0,null,null,null,null,null,null,null,140,{"$f":"+INDEX($F104:$DJ104,1,Sheet3!$C$1)","v":140},{"$f":"+IF(Sheet3!$C$1=1,IF(DN104<3,0,1),1)","v":1}]
[2,1,"11B","1_2",2,6,15979.175707860095,37.53,31.340000000000003,1929.2199999999998,0,5.48,27.39,0,0,0.65,0.41,3.27,5.81,0,0,0,37.53,0,37.53,5079.58,5079.58,5079.58,0,0,0,0,0,0,0,0,0,0,0,0,7163.2999999999993,7163.2999999999993,0,0,7163.2999999999993,0,0,0,0,0,0,0,0,0,0,0,0,0,0,0,0,0,0,0,0,0,0,0,12242.880000000001,15.12,2.1800000000000002,null,null,3.26,4.72,0.64,null,0.23,null,17.55,null,null,null,null,null,null,null,0,0,0,0,0,0,0,0,0,0,0,0,0,0,0,0,0,0,0,0,0,0,null,null,null,null,null,null,null,6,{"$f":"+INDEX($F105:$DJ105,1,Sheet3!$C$1)","v":6},{"$f":"+IF(Sheet3!$C$1=1,IF(DN105<3,0,1),1)","v":1}]
[2,1,"11B",3,1,1,922.55719149365405,1.27,1.27,137.21,0,0.1,0.1,0,0,1.17,0,0,0,0,0,0,1.27,0,1.27,846.58,846.58,846.58,0,0,0,0,0,0,0,0,0,0,0,0,330.2,330.2,0,0,330.2,0,0,0,0,0,0,0,0,0,0,0,0,0,0,0,0,0,0,0,0,0,0,0,1176.78,null,null,null,null,0.1,1.17,null,null,null,null,0.15,null,null,null,null,null,null,null,0,0,0,0,0,0,0,0,0,0,0,0,0,0,0,0,0,0,0,0,0,0,null,null,null,null,null,null,null,0,{"$f":"+INDEX($F106:$DJ106,1,Sheet3!$C$1)","v":1},{"$f":"+IF(Sheet3!$C$1=1,IF(DN106<3,0,1),1)","v":0}]
[2,1,"11B",4,1,457,2073241.1717556708,883.3300000000005,775.6999999999997,58613.170000000027,0,199.88,301.52999999999997,0,0,23.72,74.41,381.47000000000054,102.2,5.1099999999999994,15.500000000000002,51.499999999999993,881.40000000000055,31.629999999999995,850.3000000000003,385434.95999999845,385434.95999999845,385434.95999999845,0,0,0,0,0,0,0,0,0,0,0,0,200061.73000000007,194607.69000000009,0,0,194607.69000000009,5454.0400000000018,0,0,0,0,4519.6000000000004,0,0,19.8,0,768.24,0,146.4,0,0,0,0,0,0,0,0,0,0,585496.68999999936,99.33,38.39,null,0.14000000000000001,133.91,30.76,86.27,7.79,78.12,138.87,280.58999999999997,null,null,7,75,13,null,null,1,3.16,0,0,0,0,0,0,35,27.53,0,0,0,0,0,0,0,0,0,0,0,0,null,null,null,null,null,null,null,457,{"$f":"+INDEX($F107:$DJ107,1,Sheet3!$C$1)","v":457},{"$f":"+IF(Sheet3!$C$1=1,IF(DN107<3,0,1),1)","v":1}]
[2,1,"11B",4,2,15,145027.42350156832,91.809999999999988,78.540000000000006,4791.4000000000005,0,16.87,22.39,0,0,7.05,14.71,26.08,24.5,11.43,7.35,15.350000000000001,88.879999999999981,5.18,94.739999999999981,12674.360000000002,12674.360000000002,12674.360000000002,0,0,0,0,0,0,0,0,0,0,0,0,19556.570000000003,18062.890000000003,0,0,18062.890000000003,1493.68,0,0,0,0,618.84,0,0,0,0,874.84,0,0,0,0,0,0,0,0,0,0,0,0,32230.93,8.07,5.89,null,null,6.29,10.81,14.78,0.47,5.83,2.88,37.24,null,null,null,33,6,null,null,1,3.81,0,0,0,0,0,0,2,3.82,0,0,0,0,0,0,0,0,0,0,0,0,null,null,null,null,null,null,null,15,{"$f":"+INDEX($F108:$DJ108,1,Sheet3!$C$1)","v":15},{"$f":"+IF(Sheet3!$C$1=1,IF(DN108<3,0,1),1)","v":1}]
[2,1,"11B",5,1,30,68038.976495210431,67.600000000000009,60.379999999999988,4085.94,0,2.11,2.63,0,0,0.13,3.02,60.1,1.72,0,0,0,67.600000000000009,16.59,65.92,25352.05,25352.05,25352.05,0,0,0,0,0,0,0,0,0,0,0,0,20883.93,15466.510000000002,0,0,15466.510000000002,5417.42,0,0,0,0,116.64,324.45,0,0,0,4976.33,0,0,0,0,0,0,0,0,0,0,0,0,46235.979999999989,1.79,0.09,null,null,0.21,0.26,3.48,0.06,45.95,8.65,3.07,null,null,null,null,null,null,null,6,15.87,0,0,0,0,0,0,1,0.72,0,0,1,3.09,0,0,0,0,0,0,0,0,null,null,null,null,null,null,null,30,{"$f":"+INDEX($F109:$DJ109,1,Sheet3!$C$1)","v":30},{"$f":"+IF(Sheet3!$C$1=1,IF(DN109<3,0,1),1)","v":1}]
[2,1,"11B",5,2,4,35876.765398245188,44.46,21.560000000000002,1286.6799999999998,0,0.12,0.83,0,0,0,2.82,39.539999999999992,1.27,0,0,0,44.44,12.06,44.44,3386.44,3386.44,3386.44,0,0,0,0,0,0,0,0,0,0,0,0,9927.880000000001,7145.5999999999995,0,0,7145.5999999999995,2782.28,0,0,0,0,131.22,0,0,0,0,2651.06,0,0,0,0,0,0,0,0,0,0,0,0,13314.32,null,null,null,null,0.5,null,3.85,0.03,33.880000000000003,3.56,0.22,null,null,null,null,null,null,null,1,12.06,0,0,0,0,0,0,1,0.81,0,0,0,0,0,0,0,0,0,0,0,0,null,null,null,null,null,null,null,4,{"$f":"+INDEX($F110:$DJ110,1,Sheet3!$C$1)","v":4},{"$f":"+IF(Sheet3!$C$1=1,IF(DN110<3,0,1),1)","v":1}]
[2,1,"11B",6,1,295,693572.60897575656,767.46000000000026,674.97999999999968,44408.799999999996,0,24.16,31.8,0,0,15.44,17.25,665.57999999999959,37.39,0.47,2.1,5.0999999999999996,752.72,170.56,749.34,249447.62999999951,249447.62999999951,249447.62999999951,0,0,0,0,0,0,0,0,0,0,0,0,219405.98999999996,177735.90999999977,0,0,177735.90999999977,41670.080000000002,0,1859.1,0,0,23026.06,618.89,0,0,0,16166.03,0,0,0,0,0,0,0,0,0,0,0,0,468853.61999999988,17.010000000000002,9.58,null,null,9.09,21.88,14.27,13.75,14.53,26.02,118.73,null,11,8,7,4,null,null,23,65.62,0,0,2,4.8099999999999996,0,0,77,143.85,0,0,2,5.95,0,0,0,0,0,0,0,0,null,null,null,null,null,null,null,295,{"$f":"+INDEX($F111:$DJ111,1,Sheet3!$C$1)","v":295},{"$f":"+IF(Sheet3!$C$1=1,IF(DN111<3,0,1),1)","v":1}]
[2,1,"11B",6,2,61,357912.36904528411,435.73000000000008,266.97000000000008,16337.150000000001,0,10.64,7.09,0,0,6.67,8.89,392.4199999999999,20.66,0,0,3,413.65000000000015,111.14999999999996,433.55000000000007,51643.040000000008,51643.040000000008,51643.040000000008,0,0,0,0,0,0,0,0,0,0,0,0,116259.36000000002,86821.550000000017,0,0,86821.550000000017,29437.810000000012,954.84,0,0,0,10333.31,0,0,0,0,18149.66,0,0,0,0,0,0,0,0,0,0,0,0,167902.4,5.89,1.95,null,null,2.86,5.24,11.31,4.9000000000000004,3.6,26.46,59.59,null,null,null,null,null,null,null,16,83.97,1,1.34,0,0,0,0,25,63.66,0,0,0,0,0,0,0,0,0,0,0,0,null,null,null,null,null,null,null,61,{"$f":"+INDEX($F112:$DJ112,1,Sheet3!$C$1)","v":61},{"$f":"+IF(Sheet3!$C$1=1,IF(DN112<3,0,1),1)","v":1}]
[2,1,"11B",7,1,72,32797.294576703462,119.19999999999999,108.51999999999998,9292.6,0,0.19,3.29,0,0,0.26,4.57,108.78999999999998,2.29,0,0,0,119.19999999999999,32.46,107.57999999999998,60955.269999999968,60955.269999999968,60955.269999999968,0,0,0,0,0,0,0,0,0,0,0,0,33753.089999999989,27039.69,0,0,27039.69,6713.4000000000005,0,0,0,0,3585.42,0,0,0,0,3127.98,0,0,0,0,0,0,0,0,0,0,0,0,94708.359999999986,2.5,0.5,null,null,1.69,0.42,3.82,0.39,2.2200000000000002,104.32,17.73,null,null,null,null,null,null,null,4,12.57,0,0,0,0,0,0,23,22.05,0,0,0,0,0,0,0,0,0,0,0,0,null,null,null,null,null,null,null,72,{"$f":"+INDEX($F113:$DJ113,1,Sheet3!$C$1)","v":72},{"$f":"+IF(Sheet3!$C$1=1,IF(DN113<3,0,1),1)","v":1}]
[2,1,"11B",8,1,1250,2450658.0289862882,2917.3049999999989,2507.1599999999989,182320.33999999985,0,359.47,565.04,0,0,142.61000000000001,149.84,1786.2300000000014,276.05,13.379999999999997,23.900000000000002,146.90000000000003,2902.7199999999993,199.15999999999985,2854.1,1055498.4599999855,1055498.4599999855,1055498.4599999855,0,0,0,0,0,0,0,0,0,0,0,0,697779.68000000052,654814.0700000003,0,140.4,654673.67000000027,42965.61,0,0,0,1503.75,22446.22,170.1,0,408.6,0,16272.21,0,1651.2,513.53,0,0,0,0,0,0,0,0,0,1753278.1400000022,218.65,143.75,null,null,176.19,149.04,165.85,30.91,311.77,549.12,829.73,null,7,18,69,9,9,4,22,62.96,0,0,0,0,0,0,150,138.03,0,0,1,1.62,0,0,3,2.73,0,0,0,0,null,null,null,null,null,null,null,1250,{"$f":"+INDEX($F114:$DJ114,1,Sheet3!$C$1)","v":1250},{"$f":"+IF(Sheet3!$C$1=1,IF(DN114<3,0,1),1)","v":1}]
[2,1,"11B",8,2,123,611866.19959852693,838.76500000000021,612.96,37527.55000000001,0,66.34,119.6,0,0,22.51,59.15,534.07999999999993,107.68,7.8599999999999994,15.849999999999998,41.850000000000009,838.71,131.97999999999999,835.01,103697.85000000008,103697.85000000008,103697.85000000008,0,0,0,0,0,0,0,0,0,0,0,0,197392.98000000007,164413.95000000001,0,0,164413.95000000001,32979.030000000006,0,3317.31,0,0,6526.02,811.65,0,0,0,20936.849999999999,0,1296,0,91.2,0,0,0,0,0,0,0,0,301090.83000000007,63.06,23.42,null,null,26.27,26.06,55.01,7.51,69.33,139.63999999999999,235,null,1,3,39,7,18,6,21,88.21,0,0,1,6.07,0,0,28,43.02,0,0,2,7.73,1,1.1399999999999999,0,0,0,0,0,0,null,null,null,null,null,null,null,123,{"$f":"+INDEX($F115:$DJ115,1,Sheet3!$C$1)","v":123},{"$f":"+IF(Sheet3!$C$1=1,IF(DN115<3,0,1),1)","v":1}]
[2,1,"11B",9,1,1,5006.427816680668,3.53,3.53,210.67,0,0.75,0.56999999999999995,0,0,0,0.1,0.77,2.09,2.09,2.2000000000000002,4.2,3.53,1.72,3.53,846.6,846.6,846.6,0,0,0,0,0,0,0,0,0,0,0,0,1076.6000000000001,880.7,0,0,880.7,195.9,0,0,0,0,0,0,0,0,0,0,0,0,100.7,95.2,0,0,0,0,0,0,0,0,1923.2000000000003,null,null,null,null,null,null,null,null,null,null,null,null,2,2,null,null,null,null,0,0,0,0,0,0,0,0,0,0,0,0,0,0,1,1.19,1,0.53,0,0,0,0,null,null,null,null,null,null,null,0,{"$f":"+INDEX($F116:$DJ116,1,Sheet3!$C$1)","v":1},{"$f":"+IF(Sheet3!$C$1=1,IF(DN116<3,0,1),1)","v":0}]
[2,1,"11B",9,2,1,5359.7291381943478,5.27,3.14,187.39,0,1.26,0.3,0,0,0.96,0,0,5.8,5.8,2.8,3.8,3.48,0,7.06,846.62,846.62,846.62,0,0,0,0,0,0,0,0,0,0,0,0,1251.2,1251.2,0,0,1251.2,0,0,0,0,0,0,0,0,0,0,0,0,0,0,0,0,0,0,0,0,0,0,0,2097.8200000000002,null,0.15,null,null,0.54,0.56999999999999995,null,null,null,null,6.08,1,1,2,null,null,null,null,0,0,0,0,0,0,0,0,0,0,0,0,0,0,0,0,0,0,0,0,0,0,null,null,null,null,null,null,null,0,{"$f":"+INDEX($F117:$DJ117,1,Sheet3!$C$1)","v":1},{"$f":"+IF(Sheet3!$C$1=1,IF(DN117<3,0,1),1)","v":0}]
[2,1,"11B","10_1",1,6,12944.922761094482,9.9699999999999989,7.52,649.45000000000005,0,2.0299999999999998,1.47,0,0,2.75,0.8,2.38,3.75,3.75,19.8,20.8,11.21,0.76,9.82,5079.6400000000003,5079.6400000000003,5079.6400000000003,0,0,0,0,0,0,0,0,0,0,0,0,1975.4,1929.8000000000002,0,0,1929.8000000000002,45.6,0,0,0,0,0,0,0,45.6,0,0,0,0,0,0,0,0,0,0,0,0,0,0,7055.04,0.48,0.73,null,null,null,3.11,1.1299999999999999,null,0.83,0.96,3.63,null,11,10,null,null,null,null,0,0,0,0,0,0,0,0,0,0,0,0,0,0,0,0,0,0,0,0,0,0,null,null,null,null,null,null,null,6,{"$f":"+INDEX($F118:$DJ118,1,Sheet3!$C$1)","v":6},{"$f":"+IF(Sheet3!$C$1=1,IF(DN118<3,0,1),1)","v":1}]
[2,1,"11B","10_1",2,2,14816.428630651269,11.219999999999999,5.83,441.81,0,4.24,0,0,0,0.57999999999999996,0,0,16.11,16.11,20,20,10.98,3.71,16.97,1693.23,1693.23,1693.23,0,0,0,0,0,0,0,0,0,0,0,0,3494.2,2789.3,0,0,2789.3,704.9,0,0,0,0,0,0,0,0,0,0,0,0,704.9,0,0,0,0,0,0,0,0,0,5187.43,null,null,null,null,null,1.1200000000000001,null,null,null,null,16.29,1,9,10,null,null,null,null,0,0,0,0,0,0,0,0,0,0,0,0,0,0,0,0,2,3.71,0,0,0,0,null,null,null,null,null,null,null,0,{"$f":"+INDEX($F119:$DJ119,1,Sheet3!$C$1)","v":2},{"$f":"+IF(Sheet3!$C$1=1,IF(DN119<3,0,1),1)","v":0}]
[2,1,"11B","10_2",1,17,46102.713023596756,53.744999999999997,19.730000000000004,1509.2599999999998,0,6.88,2.2000000000000002,0,0,1.46,0,0,85.54,66.84,31.500000000000004,34.5,61.14,2.09,89.86999999999999,14349.890000000003,14349.890000000003,14349.890000000003,0,0,0,0,0,0,0,0,0,0,0,0,13160.290000000003,12983.120000000003,0,0,12983.120000000003,177.17,0,0,0,0,64.8,0,0,18,0,0,0,0,72.849999999999994,21.52,0,0,0,0,0,0,0,0,27510.18,0.4,1.48,null,null,0.43,2.5499999999999998,null,null,null,null,86.66,1,15,33,3,1,null,null,0,0,0,0,0,0,0,0,1,0.4,0,0,0,0,1,0.68,1,0.71,0,0,0,0,null,null,null,null,null,null,null,17,{"$f":"+INDEX($F120:$DJ120,1,Sheet3!$C$1)","v":17},{"$f":"+IF(Sheet3!$C$1=1,IF(DN120<3,0,1),1)","v":1}]
[2,1,"11B","10_2",2,29,221345.11125025293,295.005,53.46,3533.55,0,35.19,17.96,0,0,17.77,1.36,0.04,467.4,177.6,118.19999999999997,123.19999999999997,301.54000000000002,30.55,507.61999999999989,24484.789999999994,24484.789999999994,24484.789999999994,0,0,0,0,0,0,0,0,0,0,0,0,58884.269999999982,55784.709999999985,0,0,55784.709999999985,3099.56,0,0,0,0,0,0,0,133.80000000000001,0,0,0,818.4,1157.3599999999999,0,0,350,0,0,640,0,0,0,83369.060000000012,7.26,9.6300000000000008,null,null,2.14,17,0.54,0.05,1.68,null,379.99,1,48,57,10,2,3,null,0,0,0,0,0,0,0,0,0,0,0,0,0,0,0,0,4,6.84,0,0,1,19.329999999999998,null,null,null,null,null,null,null,29,{"$f":"+INDEX($F121:$DJ121,1,Sheet3!$C$1)","v":29},{"$f":"+IF(Sheet3!$C$1=1,IF(DN121<3,0,1),1)","v":1}]
[2,1,"11B","10_2",3,1,21748.856138526615,29.49,3.5,208.88,0,0.15,0.15,0,0,3.21,0,0,51.99,51.99,12.6,12.6,3.63,0,55.35,846.6,846.6,846.6,0,0,0,0,0,0,0,0,0,0,0,0,3382.6,3382.6,0,0,3382.6,0,0,0,0,0,0,0,0,0,0,0,0,0,0,0,0,0,0,0,0,0,0,0,4229.2,null,0.15,null,null,null,3.23,null,null,null,null,56.85,null,5,2,null,null,null,null,0,0,0,0,0,0,0,0,0,0,0,0,0,0,0,0,0,0,0,0,0,0,null,null,null,null,null,null,null,0,{"$f":"+INDEX($F122:$DJ122,1,Sheet3!$C$1)","v":1},{"$f":"+IF(Sheet3!$C$1=1,IF(DN122<3,0,1),1)","v":0}]
[2,1,"11B",11,1,141,307515.64852634503,459.78999999999985,174.51000000000002,14206.720000000014,0,48.47,26.58,0,0,48.63,1.76,4.1300000000000008,654.86,68.56,49.5,211.8,590.93999999999994,5.4300000000000006,742.5899999999998,119306.16000000012,119306.16000000012,119306.16000000012,0,0,0,0,0,0,0,0,0,0,0,0,116643.69,115834.19,0,0,115834.19,809.5,0,0,0,0,72.900000000000006,0,0,115.2,0,0,0,184.8,102.6,140,0,0,0,0,194,0,0,0,235949.85,9.34,15.29,null,null,8.14,51.27,3.34,0.24,7.35,1.63,677.12,null,5,4,148,33,68,13,0,0,0,0,0,0,0,0,1,0.45,0,0,0,0,2,1.75,1,0.54,0,0,0,0,null,null,null,null,null,null,null,141,{"$f":"+INDEX($F123:$DJ123,1,Sheet3!$C$1)","v":141},{"$f":"+IF(Sheet3!$C$1=1,IF(DN123<3,0,1),1)","v":1}]
[2,1,"11B",11,2,107,594328.89938509418,912.61500000000012,197.65000000000006,13921.66,0,84.1,42.63,0,0,31.62,19.36,0,1482.86,90.3,54.699999999999996,255.7,1291.8399999999997,11.030000000000001,1599.4499999999994,90217.430000000051,90217.430000000051,90217.430000000051,0,0,0,0,0,0,0,0,0,0,0,0,185757.13999999996,183960.60999999996,0,0,183960.60999999996,1796.5299999999997,0,0,0,0,0,0,0,189.6,0,0,0,0,680.27,138.66,0,0,0,0,788,0,0,0,275974.57000000007,13.95,21.93,null,null,8.17,40.4,18.47,1.02,6.61,1.58,1381.26,null,8,7,176,26,69,10,0,0,0,0,0,0,0,0,0,0,0,0,0,0,3,2.7,4,5.17,0,0,0,0,null,null,null,null,null,null,null,107,{"$f":"+INDEX($F124:$DJ124,1,Sheet3!$C$1)","v":107},{"$f":"+IF(Sheet3!$C$1=1,IF(DN124<3,0,1),1)","v":1}]
[2,1,"11B",12,1,84,168866.68218698626,213.12999999999997,139.74,10505.770000000004,0,39.26,32.479999999999997,0,0,31.76,3.09,30.535,156.11000000000001,35.139999999999993,55.599999999999994,115.80000000000001,234.30999999999997,15.819999999999999,262.46000000000004,71077.77999999997,71077.77999999997,71077.77999999997,0,0,0,0,0,0,0,0,0,0,0,0,54908.639999999999,52826.999999999993,0,0,52826.999999999993,2081.6400000000003,0,0,0,0,1550.34,0,0,274.8,0,0,0,0,256.5,0,0,0,0,0,0,0,0,0,125986.42,9.64,11.56,null,null,7.95,39.04,3.4,1,6.73,3.36,174.63,1,8,15,107,17,41,6,0,0,0,0,0,0,0,0,6,9.57,0,0,0,0,0,0,2,1.35,0,0,0,0,null,null,null,null,null,null,null,84,{"$f":"+INDEX($F125:$DJ125,1,Sheet3!$C$1)","v":84},{"$f":"+IF(Sheet3!$C$1=1,IF(DN125<3,0,1),1)","v":1}]
[2,1,"11B",12,2,32,235637.461145451,267.21500000000009,89.18,5667.5699999999988,0,22.76,31.37,0,0,15.64,11.86,6.12,325.38,31.900000000000002,36,92.799999999999983,335.1,3.9699999999999998,414.05999999999995,27023.699999999997,27023.699999999997,27023.699999999997,0,0,0,0,0,0,0,0,0,0,0,0,48933.909999999989,48866.709999999992,0,0,48866.709999999992,67.2,0,0,0,0,48.6,0,0,0,0,0,0,0,0,0,0,0,0,0,0,0,0,18.600000000000001,75957.61,13.8,9.4700000000000006,null,null,6.64,9.7100000000000009,14.86,2.2999999999999998,4.6900000000000004,1.45,289.75,null,3,9,113,12,7,2,0,0,0,0,0,0,0,0,1,0.3,0,0,0,0,0,0,0,0,0,0,0,0,null,null,null,null,null,null,null,32,{"$f":"+INDEX($F126:$DJ126,1,Sheet3!$C$1)","v":32},{"$f":"+IF(Sheet3!$C$1=1,IF(DN126<3,0,1),1)","v":1}]
[2,1,"11B",13,1,117,60778.303665089326,229.03000000000003,207.86,15908.880000000001,0,67.930000000000007,10.07,0,0,76.48,10.42,3.890000000000001,134.47,0,0,0,234.98999999999998,6.870000000000001,188.28000000000006,98638.24,98638.24,98638.24,0,0,0,0,0,0,0,0,0,0,0,0,14697.589999999998,13523.39,0,0,13523.39,1174.2,0,0,0,0,0,0,0,65.400000000000006,0,0,0,1108.8,0,0,0,0,0,0,0,0,0,0,113335.83000000003,8.52,7.88,null,null,2.23,77.64,7.83,0.09,1.83,0.52,211.12,1,null,8,null,null,null,null,0,0,0,0,0,0,0,0,0,0,0,0,0,0,0,0,0,0,0,0,0,0,null,null,null,null,null,null,null,117,{"$f":"+INDEX($F127:$DJ127,1,Sheet3!$C$1)","v":117},{"$f":"+IF(Sheet3!$C$1=1,IF(DN127<3,0,1),1)","v":1}]
[2,1,"11B",13,2,3,6612.8349883276442,20.79,19.239999999999998,1148.23,0,4.09,1.42,0,0,1.92,0,9.9999999999999992E-2,17.350000000000001,0,0,0,20.79,5.6,20.79,2539.8000000000002,2539.8000000000002,2539.8000000000002,0,0,0,0,0,0,0,0,0,0,0,0,2079.8000000000002,735.8,0,0,735.8,1344,0,0,0,0,0,0,0,0,0,0,0,1344,0,0,0,0,0,0,0,0,0,0,4619.6000000000004,0.47,1.1299999999999999,null,null,0.16,2.5499999999999998,null,0.02,null,null,19.739999999999998,null,null,null,null,null,null,null,0,0,0,0,0,0,0,0,0,0,0,0,0,0,0,0,0,0,0,0,0,0,null,null,null,null,null,null,null,3,{"$f":"+INDEX($F128:$DJ128,1,Sheet3!$C$1)","v":3},{"$f":"+IF(Sheet3!$C$1=1,IF(DN128<3,0,1),1)","v":1}]
[2,1,"11B",15,1,21,27576.945717476217,31.729999999999993,27.629999999999995,2122.88,0,7.55,15.79,0,0,1.7,5.23,4.9799999999999995,4.03,0,0,1,31.669999999999995,0,30.369999999999994,17739.530000000006,17739.530000000006,17739.530000000006,0,0,0,0,0,0,0,0,0,0,0,0,6684.6,6684.6,0,0,6684.6,0,0,0,0,0,0,0,0,0,0,0,0,0,0,0,0,0,0,0,0,0,0,0,24424.129999999997,4.0599999999999996,6.63,null,null,4.75,1.63,4.68,0.13,1.1399999999999999,0.61,10.029999999999999,null,null,null,null,null,null,null,0,0,0,0,0,0,0,0,0,0,0,0,0,0,0,0,0,0,0,0,0,0,null,null,null,null,null,null,null,21,{"$f":"+INDEX($F129:$DJ129,1,Sheet3!$C$1)","v":21},{"$f":"+IF(Sheet3!$C$1=1,IF(DN129<3,0,1),1)","v":1}]
[2,1,"11C",0,1,1,14284.64118825978,0.53,0.5,74.930000000000007,0,0.53,0.02,0,0,0.44,0,7.0000000000000007E-2,0,0,0,16.8,0.53,0,0,846.6,846.6,846.6,0,0,0,0,0,0,0,0,0,0,0,0,476,0,0,0,0,476,0,0,0,0,0,0,0,0,0,0,0,0,0,0,0,0,0,0,476,0,0,0,1322.6,null,0.44,null,null,0.02,null,null,null,7.0000000000000007E-2,null,null,null,null,null,null,null,null,null,0,0,0,0,0,0,0,0,0,0,0,0,0,0,0,0,0,0,0,0,0,0,null,null,null,null,null,null,null,0,{"$f":"+INDEX($F130:$DJ130,1,Sheet3!$C$1)","v":1},{"$f":"+IF(Sheet3!$C$1=1,IF(DN130<3,0,1),1)","v":0}]
[2,1,"11C","1_1",1,263,860221.906155437,303.50999999999988,276.26,34229.730000000003,0,277.64,217.97,0,0,46.26,3.56,23.849999999999998,11.87,0,4.5999999999999996,4.5999999999999996,303.42999999999989,2.29,152.63,222076.49999999977,222076.49999999977,222076.49999999977,0,0,0,0,0,0,0,0,0,0,0,0,31856.25,30482.25,0,0,30482.25,1374,0,1374,0,0,0,0,0,0,0,0,0,0,0,0,0,0,0,0,0,0,0,0,253932.74999999971,13.41,169.25,null,null,22.62,50.94,5.18,1.21,15.97,3.06,30.9,null,3,8,18,3,6,1,0,0,0,0,2,2.29,0,0,0,0,0,0,0,0,0,0,0,0,0,0,0,0,null,null,null,null,null,null,null,{"$f":"+DN131*DO131","v":263},{"$f":"+INDEX($F131:$DJ131,1,Sheet3!$C$1)","v":263},{"$f":"+IF(Sheet3!$C$1=1,IF(DN131<3,0,1),1)","v":1}]
[2,1,"11C","1_2",1,20,31767.09207828802,27.43,24.55,2420.4300000000003,0,4.21,14.21,0,0,3.09,3.96,3.5000000000000004,2.67,0.27,1.5,1.5,27.43,0,13.440000000000001,16932.020000000004,16932.020000000004,16932.020000000004,0,0,0,0,0,0,0,0,0,0,0,0,3351.3999999999996,3351.3999999999996,0,0,3351.3999999999996,0,0,0,0,0,0,0,0,0,0,0,0,0,0,0,0,0,0,0,0,0,0,0,20283.420000000002,5.34,4.04,null,null,1.81,5.7,3.81,0.01,2.95,1.05,6.13,null,null,7,10,1,null,null,0,0,0,0,0,0,0,0,0,0,0,0,0,0,0,0,0,0,0,0,0,0,null,null,null,null,null,null,null,20,{"$f":"+INDEX($F132:$DJ132,1,Sheet3!$C$1)","v":20},{"$f":"+IF(Sheet3!$C$1=1,IF(DN132<3,0,1),1)","v":1}]
[2,1,"11C",3,1,1,2037.0343489420468,0.75,0.74,90.36,0,0.75,0.41,0,0,0.34,0,0,0,0,0,0,0.75,0,0,846.62,846.62,846.62,0,0,0,0,0,0,0,0,0,0,0,0,0,0,0,0,0,0,null,null,null,null,null,null,null,null,null,null,null,null,null,null,null,null,null,null,null,null,null,null,846.62,null,null,null,null,0.26,0.34,null,null,null,null,null,null,null,null,null,null,null,null,0,0,0,0,0,0,0,0,0,0,0,0,0,0,0,0,0,0,0,0,0,0,null,null,null,null,null,null,null,0,{"$f":"+INDEX($F133:$DJ133,1,Sheet3!$C$1)","v":1},{"$f":"+IF(Sheet3!$C$1=1,IF(DN133<3,0,1),1)","v":0}]
[2,1,"11C",4,1,212,1037260.0866265929,227.80999999999995,206.49000000000004,23005.30999999999,0,164.72,114.49,0,0,26.07,19.690000000000001,50.749999999999979,16.809999999999999,2.0699999999999998,14.950000000000001,15.75,227.54999999999993,1.8099999999999998,124.39999999999999,178203.37999999995,178203.37999999995,178203.37999999995,0,0,0,0,0,0,0,0,0,0,0,0,29018.609999999993,27799.579999999994,0,0,27799.579999999994,1219.03,0,0,0,660.54,0,0,0,0,0,558.49,0,0,0,0,0,0,0,0,0,0,0,0,207221.98999999996,9.73,37.31,null,null,64.430000000000007,26.79,24.38,4.97,27.17,7.92,15.02,null,1,4,47,9,9,3,1,1.35,0,0,0,0,0,0,0,0,0,0,0,0,0,0,0,0,0,0,0,0,null,null,null,null,null,null,null,212,{"$f":"+INDEX($F134:$DJ134,1,Sheet3!$C$1)","v":212},{"$f":"+IF(Sheet3!$C$1=1,IF(DN134<3,0,1),1)","v":1}]
[2,1,"11C",4,2,1,1022084.1585430392,23.22,14.5,865.36,0,21.79,17.989999999999998,0,0,4.1900000000000004,0,0,1.04,0,0,0,23.22,0,23.22,846.61,846.61,846.61,0,0,0,0,0,0,0,0,0,0,0,0,2589.4,2589.4,0,0,2589.4,0,0,0,0,0,0,0,0,0,0,0,0,0,0,0,0,0,0,0,0,0,0,0,3436.01,null,null,null,null,18.11,4.2699999999999996,null,null,null,null,2.0099999999999998,null,null,null,null,null,null,null,0,0,0,0,0,0,0,0,0,0,0,0,0,0,0,0,0,0,0,0,0,0,null,null,null,null,null,null,null,0,{"$f":"+INDEX($F135:$DJ135,1,Sheet3!$C$1)","v":1},{"$f":"+IF(Sheet3!$C$1=1,IF(DN135<3,0,1),1)","v":0}]
[2,1,"11C",5,1,221,934004.95690432552,460.09999999999985,412.47999999999973,33389.180000000022,0,184.29,28.4,0,0,21.52,10.77,384.85,14.56,1.78,7.6499999999999986,7.6499999999999986,456.55999999999989,72.529999999999987,381.75000000000017,186706.85999999978,186706.85999999978,186706.85999999978,0,0,0,0,0,0,0,0,0,0,0,0,122372.09,90123.890000000014,0,0,90123.890000000014,32248.200000000008,0,2969.2,0,10252.02,0,3203.55,0,0,0,15823.43,0,0,0,0,0,0,0,0,0,0,0,0,309078.94999999995,2.84,18.68,null,null,7.91,22.83,14.61,8.75,338.89,4.67,22.81,null,null,null,46,4,2,null,21,51.39,0,0,2,5.28,0,0,0,0,0,0,13,30.55,0,0,0,0,0,0,0,0,null,null,null,null,null,null,null,221,{"$f":"+INDEX($F136:$DJ136,1,Sheet3!$C$1)","v":221},{"$f":"+IF(Sheet3!$C$1=1,IF(DN136<3,0,1),1)","v":1}]
[2,1,"11C",5,2,37,641612.50527845882,303.44000000000005,229.50999999999996,14527.12,0,53.6,11.66,0,0,8.98,5.31,273.79000000000002,3.7,0,0,0,302.99000000000007,146.13000000000002,222.66000000000003,31324.259999999995,31324.259999999995,31324.259999999995,0,0,0,0,0,0,0,0,0,0,0,0,86825.97,43941.53,0,0,43941.53,42884.44,0,0,0,2936.75,0,8684.0300000000007,0,0,0,31263.66,0,0,0,0,0,0,0,0,0,0,0,0,118150.23,0.96,5.95,null,null,3.36,6.17,7.21,3.9,244.73,2.27,11.84,null,null,null,null,null,null,null,20,138.83000000000001,0,0,0,0,0,0,0,0,0,0,13,84.42,0,0,0,0,0,0,0,0,null,null,null,null,null,null,null,37,{"$f":"+INDEX($F137:$DJ137,1,Sheet3!$C$1)","v":37},{"$f":"+IF(Sheet3!$C$1=1,IF(DN137<3,0,1),1)","v":1}]
[2,1,"11C",5,3,1,156892.89813457831,73.69,23.42,1397.7,0,7.0000000000000007E-2,0,0,0,0.42,0,73.27,0,0,0,0,73.69,26.42,23.02,846.59,846.59,846.59,0,0,0,0,0,0,0,0,0,0,0,0,9148.2799999999988,2867.2,0,0,2867.2,6281.08,0,0,0,0,0,2497.1799999999998,0,0,0,3783.9,0,0,0,0,0,0,0,0,0,0,0,0,9994.869999999999,null,null,null,null,null,1.1200000000000001,null,0.06,69.25,null,0.61,null,null,null,null,null,null,null,1,26.42,0,0,0,0,0,0,0,0,0,0,1,26.42,0,0,0,0,0,0,0,0,null,null,null,null,null,null,null,0,{"$f":"+INDEX($F138:$DJ138,1,Sheet3!$C$1)","v":1},{"$f":"+IF(Sheet3!$C$1=1,IF(DN138<3,0,1),1)","v":0}]
[2,1,"11C",6,1,138,2866353.71527053,282.85000000000008,240.18,19376.170000000006,0,244.02,15.01,0,0,11.44,8.3699999999999992,239.61999999999998,8.41,0.62,4.3499999999999996,4.3499999999999996,280.32000000000005,115.13000000000001,252.57999999999993,116617.59000000003,116617.59000000003,116617.59000000003,0,0,0,0,0,0,0,0,0,0,0,0,133279.06000000003,61734.46,0,0,61734.46,71544.599999999991,3861.14,9472.0300000000007,0,1028.75,560.52,0,0,0,0,56622.16,0,0,0,0,0,0,0,0,0,0,0,0,249896.65,3.92,5.84,null,0.03,8.02,10.89,11.44,184.82,7.43,2.12,30.52,null,1,1,23,3,null,null,51,90.88,4,6.54,8,12.19,0,0,3,3.46,0,0,0,0,0,0,0,0,0,0,0,0,null,null,null,null,null,null,null,138,{"$f":"+INDEX($F139:$DJ139,1,Sheet3!$C$1)","v":138},{"$f":"+IF(Sheet3!$C$1=1,IF(DN139<3,0,1),1)","v":1}]
[2,1,"11C",6,2,21,511935.94916609884,142.40999999999997,114.39999999999999,6883.47,0,123.38,5.24,0,0,6.12,4.45,126.22,0.38,0,0,0,142.40999999999997,102.78999999999999,106.89000000000003,17778.650000000001,17778.650000000001,17778.650000000001,0,0,0,0,0,0,0,0,0,0,0,0,76677.12000000001,23033.899999999998,0,0,23033.899999999998,53643.22,0,898.56,0,0,0,0,0,0,0,52744.66,0,0,0,0,0,0,0,0,0,0,0,0,94455.77,1.75,3.1,null,null,1.1299999999999999,1.9,4.3499999999999996,105.68,11.54,0.35,8.77,null,null,null,null,null,null,null,18,101.58,0,0,1,1.21,0,0,0,0,0,0,0,0,0,0,0,0,0,0,0,0,null,null,null,null,null,null,null,21,{"$f":"+INDEX($F140:$DJ140,1,Sheet3!$C$1)","v":21},{"$f":"+IF(Sheet3!$C$1=1,IF(DN140<3,0,1),1)","v":1}]
[2,1,"11C",7,1,5,5012.653397410314,5.36,4.8499999999999996,442.05999999999995,0,3.81,0,0,0,0,0,4.9400000000000004,0.42,0,0.3,0.3,5.36,0.67,3.13,4233,4233,4233,0,0,0,0,0,0,0,0,0,0,0,0,813.1400000000001,704.6,0,0,704.6,108.54,0,0,0,0,108.54,0,0,0,0,0,0,0,0,0,0,0,0,0,0,0,0,0,5046.1399999999994,null,null,null,null,0.28000000000000003,0.42,null,null,null,4.4400000000000004,0.37,null,null,null,2,null,null,null,0,0,0,0,0,0,0,0,1,0.67,0,0,0,0,0,0,0,0,0,0,0,0,null,null,null,null,null,null,null,5,{"$f":"+INDEX($F141:$DJ141,1,Sheet3!$C$1)","v":5},{"$f":"+IF(Sheet3!$C$1=1,IF(DN141<3,0,1),1)","v":1}]
[2,1,"11C",8,1,1445,4011414.7155467146,1967.8499999999958,1792.1399999999999,183305.9899999997,0,1466.08,714.11,0,0,271.7,59.79,820.14999999999952,102.1,21.88,189.95000000000019,192.95000000000019,1966.6799999999953,60.820000000000014,1443.9599999999987,1219057.3700000024,1219057.3700000024,1219057.3700000024,0,0,0,0,0,0,0,0,0,0,0,0,364533.08000000031,331018.72000000015,0,0,331018.72000000015,33514.36,0,0,0,15170.1,882.9,732.9,0,42.6,0,15969.56,0,0,184.3,0,0,0,0,0,520,0,0,12,1583590.4500000072,72.63,460.8,null,1.31,188.72,276.16000000000003,93.45,117.26,392.25,58.07,200.15,1,42,87,750,97,60,12,17,31.75,0,0,0,0,0,0,7,5.45,0,0,2,6.98,0,0,1,0.97,0,0,0,0,null,null,null,null,null,null,null,1445,{"$f":"+INDEX($F142:$DJ142,1,Sheet3!$C$1)","v":1445},{"$f":"+IF(Sheet3!$C$1=1,IF(DN142<3,0,1),1)","v":1}]
[2,1,"11C",8,2,19,304800.35733304068,141.96,98.300000000000011,6202.01,0,67.78,13.28,0,0,3.7,14.14,107.36000000000001,3.48,0.51,6,6,141.96,49.75,111.2,15898.280000000002,15898.280000000002,15898.280000000002,0,0,0,0,0,0,0,0,0,0,0,0,48424.960000000014,23361.940000000002,0,0,23361.940000000002,25063.02,0,3364.16,0,6213.75,170.1,1903.22,0,0,0,13411.79,0,0,0,0,0,0,0,0,0,0,0,0,64323.240000000005,2.15,3.79,null,null,6.13,6.86,7.59,26.34,54.66,2.0499999999999998,10.130000000000001,null,null,5,16,1,null,null,7,37.28,0,0,2,4.37,0,0,1,1.05,0,0,3,18.73,0,0,0,0,0,0,0,0,null,null,null,null,null,null,null,19,{"$f":"+INDEX($F143:$DJ143,1,Sheet3!$C$1)","v":19},{"$f":"+IF(Sheet3!$C$1=1,IF(DN143<3,0,1),1)","v":1}]
[2,1,"11C","10_1",1,30,107801.32295728073,43.810000000000009,35.42,3747.9000000000005,0,40.94,10.78,0,0,19.23,0.05,1.4100000000000004,12.34,12.339999999999998,104.54999999999998,106.85,43.810000000000009,4.9000000000000004,35.29,25398.55,25398.55,25398.55,0,0,0,0,0,0,0,0,0,0,0,0,10115.580000000002,8336.6,0,0,8336.6,1778.98,0,0,0,0,0,0,0,0,0,0,0,0,938.98,0,0,0,0,0,840,0,0,0,35514.129999999997,0.19,8.7799999999999994,null,null,1.64,18.32,0.1,0.09,1.24,null,16.7,null,47,80,32,4,8,1,0,0,0,0,0,0,0,0,0,0,0,0,0,0,0,0,6,4.9000000000000004,0,0,0,0,null,null,null,null,null,null,null,30,{"$f":"+INDEX($F144:$DJ144,1,Sheet3!$C$1)","v":30},{"$f":"+IF(Sheet3!$C$1=1,IF(DN144<3,0,1),1)","v":1}]
[2,1,"11C","10_1",2,1,36369.594798867271,17.82,0.5,50.04,0,0.2,0,0,0,0.63,0,0,34.380000000000003,34.380000000000003,37,37,0.63,0,35.01,846.58,846.58,846.58,0,0,0,0,0,0,0,0,0,0,0,0,2581.6,2581.6,0,0,2581.6,0,0,0,0,0,0,0,0,0,0,0,0,0,0,0,0,0,0,0,0,0,0,0,3428.18,null,null,null,null,null,0.51,null,null,null,null,39.97,null,11,25,null,null,null,null,0,0,0,0,0,0,0,0,0,0,0,0,0,0,0,0,0,0,0,0,0,0,null,null,null,null,null,null,null,0,{"$f":"+INDEX($F145:$DJ145,1,Sheet3!$C$1)","v":1},{"$f":"+IF(Sheet3!$C$1=1,IF(DN145<3,0,1),1)","v":0}]
[2,1,"11C","10_2",1,13,21115.971284251831,19.829999999999995,14.41,1320.4500000000003,0,15.22,0.94,0,0,4.7300000000000004,0,0.38999999999999996,15.67,15.670000000000002,12.799999999999997,12.799999999999997,21.729999999999997,2.25,19.849999999999998,11005.800000000001,11005.800000000001,11005.800000000001,0,0,0,0,0,0,0,0,0,0,0,0,4893.5000000000009,4186,0,0,4186,707.5,0,0,0,0,0,0,0,0,0,0,0,0,427.5,0,0,0,0,0,280,0,0,0,15899.300000000003,null,1.1499999999999999,null,null,0.3,3.88,null,0.01,0.28999999999999998,null,21.93,null,10,12,null,null,null,null,0,0,0,0,0,0,0,0,0,0,0,0,0,0,0,0,3,2.25,0,0,0,0,null,null,null,null,null,null,null,13,{"$f":"+INDEX($F146:$DJ146,1,Sheet3!$C$1)","v":13},{"$f":"+IF(Sheet3!$C$1=1,IF(DN146<3,0,1),1)","v":1}]
[2,1,"11C","10_2",2,3,41580.85035883684,32.56,1.5,164.7,0,5.09,0.28000000000000003,0,0,0.87,0,0,58.45,58.45,24,26,24.51,2.97,59.6,2539.79,2539.79,2539.79,0,0,0,0,0,0,0,0,0,0,0,0,7349.7400000000007,6455.3,0,0,6455.3,894.44,0,0,0,0,0,0,0,0,0,0,0,0,530.44000000000005,0,0,0,0,0,364,0,0,0,9889.5300000000007,null,0.04,null,null,0.19,1.07,null,null,null,null,61.52,null,4,9,null,null,null,null,0,0,0,0,0,0,0,0,0,0,0,0,0,0,0,0,1,2.97,0,0,0,0,null,null,null,null,null,null,null,3,{"$f":"+INDEX($F147:$DJ147,1,Sheet3!$C$1)","v":3},{"$f":"+IF(Sheet3!$C$1=1,IF(DN147<3,0,1),1)","v":1}]
[2,1,"11C",11,1,75,170384.11239388952,146.44499999999999,100.19,8912.7300000000032,0,99.97,8.23,0,0,69.510000000000005,0,4.3100000000000005,86.61,42.279999999999994,100.44999999999996,114.44999999999999,153.95000000000002,6.1199999999999992,148.31999999999996,63194.179999999978,63194.179999999978,63194.179999999978,0,0,0,0,0,0,0,0,0,0,0,0,31884.149999999998,30283.02,0,0,30283.02,1601.1299999999999,0,0,0,0,0,0,0,0,0,0,0,0,1061.1300000000001,0,0,0,0,0,540,0,0,0,95078.330000000045,null,5.58,null,null,2.87,67.27,0.13,0.2,2.41,0.72,90.97,null,4,5,394,41,92,8,0,0,0,0,0,0,0,0,0,0,0,0,0,0,0,0,7,5.62,0,0,0,0,null,null,null,null,null,null,null,75,{"$f":"+INDEX($F148:$DJ148,1,Sheet3!$C$1)","v":75},{"$f":"+IF(Sheet3!$C$1=1,IF(DN148<3,0,1),1)","v":1}]
[2,1,"11C",11,2,11,129718.889159627,130.69999999999999,14.67,1053.77,0,8.36,1.07,0,0,5.46,0,0,239.83,0,13.1,33.099999999999994,62.29,0,249.05,9312.5400000000009,9312.5400000000009,9312.5400000000009,0,0,0,0,0,0,0,0,0,0,0,0,23475.600000000002,23475.600000000002,0,0,23475.600000000002,0,0,0,0,0,0,0,0,0,0,0,0,0,0,0,0,0,0,0,0,0,0,0,32788.14,0.65,0.4,null,null,0.63,5.27,null,0.38,1.0900000000000001,0.04,168.16,null,4,9,null,null,50,6,0,0,0,0,0,0,0,0,0,0,0,0,0,0,0,0,0,0,0,0,0,0,null,null,null,null,null,null,null,11,{"$f":"+INDEX($F149:$DJ149,1,Sheet3!$C$1)","v":11},{"$f":"+IF(Sheet3!$C$1=1,IF(DN149<3,0,1),1)","v":1}]
[2,1,"11C",12,1,250,636128.39698179404,371.04500000000024,314.30999999999972,31784.639999999996,0,303.68,104.26,0,0,121.32,1.47,53.79,97.18,82.979999999999976,338.95,345.94999999999993,375.74000000000024,13.279999999999998,316.95000000000016,211158.97999999978,211158.97999999978,211158.97999999978,0,0,0,0,0,0,0,0,0,0,0,0,80339.369999999966,76070.459999999977,0,0,76070.459999999977,4268.9099999999989,0,0,0,0,0,0,0,0,0,0,0,0,2165.91,0,0,0,0,0,2064,0,0,39,291498.35000000021,6.37,74.19,null,0.24,25.92,130.03,4.2300000000000004,3.09,28.43,4.96,138.97,null,78,139,967,139,58,12,0,0,0,0,0,0,0,0,0,0,0,0,0,0,0,0,13,11.33,0,0,0,0,null,null,null,null,null,null,null,250,{"$f":"+INDEX($F150:$DJ150,1,Sheet3!$C$1)","v":250},{"$f":"+IF(Sheet3!$C$1=1,IF(DN150<3,0,1),1)","v":1}]
[2,1,"11C",12,2,4,69372.827675301087,43.400000000000006,14.850000000000001,887.45,0,12.24,2.38,0,0,3.39,0,3.11,46.32,31.08,10.25,11.25,26.93,0,59.870000000000005,3386.43,3386.43,3386.43,0,0,0,0,0,0,0,0,0,0,0,0,8022.5,8022.5,0,0,8022.5,0,0,0,0,0,0,0,0,0,0,0,0,0,0,0,0,0,0,0,0,0,0,0,11408.93,0.08,0.32,null,null,1.92,3.37,null,0.64,2.37,1.86,39.04,null,null,4,36,1,6,1,0,0,0,0,0,0,0,0,0,0,0,0,0,0,0,0,0,0,0,0,0,0,null,null,null,null,null,null,null,4,{"$f":"+INDEX($F151:$DJ151,1,Sheet3!$C$1)","v":4},{"$f":"+IF(Sheet3!$C$1=1,IF(DN151<3,0,1),1)","v":1}]
[2,1,"11C",13,1,133,185282.07688464349,174.91000000000005,156.49000000000009,18490.129999999997,0,143.36000000000001,7.41,0,0,136.22,4.9400000000000004,7.7999999999999972,18.54,0,0,0,174.89000000000007,2.57,82.920000000000016,112443.68000000004,112443.68000000004,112443.68000000004,0,0,0,0,0,0,0,0,0,0,0,0,8962.1600000000017,8910.760000000002,0,0,8910.760000000002,51.4,0,0,0,0,0,0,0,0,0,0,0,0,0,0,0,0,0,0,0,0,0,51.4,121405.84000000003,3.78,17.239999999999998,null,null,3.98,114.69,9.8800000000000008,0.56999999999999995,5.12,0.67,36.31,null,1,null,3,1,null,null,0,0,0,0,0,0,0,0,0,0,0,0,0,0,0,0,0,0,0,0,0,0,null,null,null,null,null,null,null,133,{"$f":"+INDEX($F152:$DJ152,1,Sheet3!$C$1)","v":133},{"$f":"+IF(Sheet3!$C$1=1,IF(DN152<3,0,1),1)","v":1}]
[2,1,"11C",13,2,1,7651.8225131075869,5.49,5.31,329.11,0,2.54,0,0,0,5.29,0,0.06,0.14000000000000001,0,0,0,5.49,0,5.49,846.59,846.59,846.59,0,0,0,0,0,0,0,0,0,0,0,0,618.79999999999995,618.79999999999995,0,0,618.79999999999995,0,0,0,0,0,0,0,0,0,0,0,0,0,0,0,0,0,0,0,0,0,0,0,1465.3899999999999,null,null,null,7.0000000000000007E-2,null,5.81,null,null,0.12,null,null,null,null,null,null,null,null,null,0,0,0,0,0,0,0,0,0,0,0,0,0,0,0,0,0,0,0,0,0,0,null,null,null,null,null,null,null,0,{"$f":"+INDEX($F153:$DJ153,1,Sheet3!$C$1)","v":1},{"$f":"+IF(Sheet3!$C$1=1,IF(DN153<3,0,1),1)","v":0}]
[2,1,"11C",15,1,2,4870.8144523754718,2.09,2.06,245.87,0,2.0699999999999998,1.79,0,0,0,0,0.30000000000000004,0,0,0,0,2.09,0,1.56,1693.18,1693.18,1693.18,0,0,0,0,0,0,0,0,0,0,0,0,405.6,405.6,0,0,405.6,0,0,0,0,0,0,0,0,0,0,0,0,0,0,0,0,0,0,0,0,0,0,0,2098.7800000000002,null,0.39,null,null,1.31,0.11,null,null,0.25,null,null,null,null,null,null,null,null,null,0,0,0,0,0,0,0,0,0,0,0,0,0,0,0,0,0,0,0,0,0,0,null,null,null,null,null,null,null,0,{"$f":"+INDEX($F154:$DJ154,1,Sheet3!$C$1)","v":2},{"$f":"+IF(Sheet3!$C$1=1,IF(DN154<3,0,1),1)","v":0}]
[2,1,"11D",0,1,8,0,0.02,12.580000000000002,1307.92,0,0,0,0,0,0,0,0.02,0,0,0,0,0,0,0,6772.8,6772.8,6772.8,0,0,0,0,0,0,0,0,0,0,0,0,4286.5499999999993,3917.7999999999997,0,0,3917.7999999999997,368.75,0,0,0,368.75,0,0,0,0,0,0,0,0,0,0,0,0,0,0,0,0,0,0,11059.35,null,null,null,null,1.33,1.78,0.03,0.27,2.25,5.0199999999999996,1.87,null,null,null,null,null,null,null,0,0,0,0,0,0,0,0,0,0,0,0,0,0,0,0,0,0,0,0,0,0,null,null,null,null,null,null,null,8,{"$f":"+INDEX($F155:$DJ155,1,Sheet3!$C$1)","v":8},{"$f":"+IF(Sheet3!$C$1=1,IF(DN155<3,0,1),1)","v":1}]
[2,1,"11D","1_1",1,21,158969.59507466134,34.090000000000003,31.08,2636.32,0,22.13,18.55,0,0,1.82,1.0900000000000001,6.0699999999999994,6.56,0,0,0,34.020000000000003,2.4500000000000002,29.419999999999998,17778.640000000003,17778.640000000003,17778.640000000003,0,0,0,0,0,0,0,0,0,0,0,0,7483.2000000000007,5920.2000000000007,0,0,5920.2000000000007,1563,0,1284,0,279,0,0,0,0,0,0,0,0,0,0,0,0,0,0,0,0,0,0,25261.84,3.16,7.69,null,null,6.25,1.91,0.64,0.27,2.59,0.92,13.41,null,null,null,null,null,null,null,0,0,0,0,1,2.14,0,0,0,0,0,0,0,0,0,0,0,0,0,0,0,0,null,null,null,null,null,null,null,21,{"$f":"+INDEX($F156:$DJ156,1,Sheet3!$C$1)","v":21},{"$f":"+IF(Sheet3!$C$1=1,IF(DN156<3,0,1),1)","v":1}]
[2,1,"11D","1_2",1,41,49356.548013268941,79.970000000000013,62.64,4803.6599999999989,0,7.17,38.28,0,0,8.9,2.6,16.349999999999998,13.84,0,0,1,79.610000000000014,1.04,71.540000000000006,34710.689999999995,34710.689999999995,34710.689999999995,0,0,0,0,0,0,0,0,0,0,0,0,15531.199999999999,14595.199999999999,0,0,14595.199999999999,936,0,0,0,936,0,0,0,0,0,0,0,0,0,0,0,0,0,0,0,0,0,0,50241.889999999985,17.579999999999998,11.33,null,null,6,8.39,3.98,0.37,4.1100000000000003,4.88,47.24,null,null,null,null,null,null,null,0,0,0,0,0,0,0,0,0,0,0,0,0,0,0,0,0,0,0,0,0,0,null,null,null,null,null,null,null,41,{"$f":"+INDEX($F157:$DJ157,1,Sheet3!$C$1)","v":41},{"$f":"+IF(Sheet3!$C$1=1,IF(DN157<3,0,1),1)","v":1}]
[2,1,"11D","1_2",2,2,9743.8852303221156,10.52,10.15,605.75,0,0,2.42,0,0,0.86,0,4.55,2.69,0,0,0,10.52,0,9.27,1693.21,1693.21,1693.21,0,0,0,0,0,0,0,0,0,0,0,0,1743.6,1743.6,0,0,1743.6,0,0,0,0,0,0,0,0,0,0,0,0,0,0,0,0,0,0,0,0,0,0,0,3436.81,null,null,null,null,1.94,1.91,null,null,2.1800000000000002,1.33,15.3,null,2,null,null,null,null,null,0,0,0,0,0,0,0,0,0,0,0,0,0,0,0,0,0,0,0,0,0,0,null,null,null,null,null,null,null,0,{"$f":"+INDEX($F158:$DJ158,1,Sheet3!$C$1)","v":2},{"$f":"+IF(Sheet3!$C$1=1,IF(DN158<3,0,1),1)","v":0}]
[2,1,"11D",3,1,1,5223.937964175344,1.62,1.62,96.68,0,0.54,0.54,0,0,0,0.15,0.93,0,0,0,0,1.62,0,1.62,846.59,846.59,846.59,0,0,0,0,0,0,0,0,0,0,0,0,421.2,421.2,0,0,421.2,0,0,0,0,0,0,0,0,0,0,0,0,0,0,0,0,0,0,0,0,0,0,0,1267.79,null,null,null,null,null,null,null,null,null,null,null,null,null,null,null,null,null,null,0,0,0,0,0,0,0,0,0,0,0,0,0,0,0,0,0,0,0,0,0,0,null,null,null,null,null,null,null,0,{"$f":"+INDEX($F159:$DJ159,1,Sheet3!$C$1)","v":1},{"$f":"+IF(Sheet3!$C$1=1,IF(DN159<3,0,1),1)","v":0}]
[2,1,"11D",4,1,718,3752830.5214529731,1214.334999999998,1059.6300000000006,79304.310000000027,0,247.95,344.93,0,0,54.02,27.87,708.31,85.15,13.6,22.299999999999997,58.5,1210.0399999999981,84.36999999999999,1088.0599999999993,605510.48999999545,605510.48999999545,605510.48999999545,0,0,0,0,0,0,0,0,0,0,0,0,304990.37999999989,264332.08,0,0,264332.08,40658.299999999996,0,0,0,35489.72,4567.33,0,0,0,0,540.25,0,0,0,0,0,0,0,0,0,0,0,61,910500.86999999778,22.95,24.3,null,null,257.12,72.59,26.77,18.989999999999998,167.22,298.89999999999998,418.08,1,null,12,93,15,10,2,1,1.29,0,0,0,0,0,0,34,28.15,0,0,0,0,0,0,0,0,0,0,0,0,null,null,null,null,null,null,null,718,{"$f":"+INDEX($F160:$DJ160,1,Sheet3!$C$1)","v":718},{"$f":"+IF(Sheet3!$C$1=1,IF(DN160<3,0,1),1)","v":1}]
[2,1,"11D",4,2,15,271900.3685514328,95.64500000000001,66.56,4008.4700000000007,0,19.29,21.3,0,0,6.62,0.79,45.620000000000005,24.4,0.95,1.05,5.05,93.13000000000001,20.25,93.22999999999999,12699.140000000003,12699.140000000003,12699.140000000003,0,0,0,0,0,0,0,0,0,0,0,0,26294.300000000003,19127.8,0,0,19127.8,7166.5,0,0,0,605,467.69,0,0,0,0,6093.81,0,0,0,0,0,0,0,0,0,0,0,0,38993.440000000002,2.4,1.01,null,null,15.08,2.6,5.56,2.13,12.01,13.95,37.5,null,null,null,10,1,null,null,3,17.45,0,0,0,0,0,0,2,2.8,0,0,0,0,0,0,0,0,0,0,0,0,null,null,null,null,null,null,null,15,{"$f":"+INDEX($F161:$DJ161,1,Sheet3!$C$1)","v":15},{"$f":"+IF(Sheet3!$C$1=1,IF(DN161<3,0,1),1)","v":1}]
[2,1,"11D",5,1,1840,4450798.7384974724,3774.0150000000081,3309.4500000000003,225155.27000000022,0,27.82,48.89,0,0,18.93,12.18,3674.4350000000095,19.579999999999998,1.03,1.35,7.35,3768.3200000000079,1712.5999999999988,3528.2500000000073,1553410.7300000396,1553410.7300000396,1553410.7300000396,0,0,0,0,0,0,0,0,0,0,0,0,1862717.8199999977,886242.92,0,0,886242.92,976474.90000000072,0,0,0,851746.76,2975.78,4708.2,0,0,0,117044.16,0,0,0,0,0,0,0,0,0,0,0,0,3416128.5500000035,6.4,1.62,null,null,45.91,14.1,14.49,18.010000000000002,2947.94,501.92,232.93,null,null,null,4,1,null,null,157,437.5,0,0,0,0,0,0,27,18.61,0,0,22,44.85,0,0,0,0,0,0,0,0,null,null,null,null,null,null,null,1840,{"$f":"+INDEX($F162:$DJ162,1,Sheet3!$C$1)","v":1840},{"$f":"+IF(Sheet3!$C$1=1,IF(DN162<3,0,1),1)","v":1}]
[2,1,"11D",5,2,380,3641058.1419648081,3106.2799999999984,2462.5999999999985,149166.33999999982,0,19.41,37.619999999999997,0,0,29.16,25.74,2992.4899999999989,21.27,1.98,3.15,11.15,3104.2099999999982,1833.3500000000001,3082.2099999999982,320899.48999999888,320899.48999999888,320899.48999999888,0,0,0,0,0,0,0,0,0,0,0,0,1322177.4899999988,622283.59000000032,0,0,622283.59000000032,699893.90000000026,0,15899.86,0,337960.63,4092.93,15558.62,0,0,0,326381.86,0,0,0,0,0,0,0,0,0,0,0,0,1643076.9800000007,11.05,1.93,null,null,28.98,26.29,21.37,16.38,2429.73,318.99,256.70999999999998,null,null,null,13,5,3,1,206,1382.2,0,0,5,34.75,0,0,23,27.74,0,0,23,150.44,0,0,0,0,0,0,0,0,null,null,null,null,null,null,null,380,{"$f":"+INDEX($F163:$DJ163,1,Sheet3!$C$1)","v":380},{"$f":"+IF(Sheet3!$C$1=1,IF(DN163<3,0,1),1)","v":1}]
[2,1,"11D",6,1,252,1123027.7961241452,610.09999999999991,507.26000000000022,33610.210000000006,0,182.64,21.51,0,0,15.11,3.49,554.73999999999967,15.25,0.38,2.4,5.4,608.06999999999994,163.37999999999997,594.19999999999982,213046.18999999977,213046.18999999977,213046.18999999977,0,0,0,0,0,0,0,0,0,0,0,0,224301.12000000008,144184.17000000007,0,0,144184.17000000007,80116.950000000012,0,0,0,10716.99,7244.72,661.5,0,0,0,61493.74,0,0,0,0,0,0,0,0,0,0,0,0,437347.31000000006,8.6,1.66,null,null,10.66,16.190000000000001,5.4,198.55,17.8,45.68,120.6,null,2,4,21,5,null,null,49,109.2,0,0,0,0,0,0,31,46.26,0,0,6,6.3,0,0,0,0,0,0,0,0,null,null,null,null,null,null,null,252,{"$f":"+INDEX($F164:$DJ164,1,Sheet3!$C$1)","v":252},{"$f":"+IF(Sheet3!$C$1=1,IF(DN164<3,0,1),1)","v":1}]
[2,1,"11D",6,2,61,643470.22376944416,490.41999999999985,336.38000000000005,20237.7,0,205.15,8.66,0,0,6.59,12.9,457.81000000000006,4.46,0,0,1,483.99999999999994,240.71000000000004,482.34999999999991,51603.669999999976,51603.669999999976,51603.669999999976,0,0,0,0,0,0,0,0,0,0,0,0,205821.3,96666.700000000012,0,0,96666.700000000012,109154.60000000002,0,5925.5,0,4449.6499999999996,3500.9,845.25,0,0,0,94330.1,0,0,0,0,0,0,0,0,0,0,0,103.2,257424.96999999994,7.25,1.69,null,null,3.58,4.5599999999999996,5.91,218.03,18.07,22.83,72.900000000000006,null,null,null,null,null,null,null,29,201.17,0,0,2,21.92,0,0,8,21.93,0,0,3,8.0500000000000007,0,0,0,0,0,0,0,0,null,null,null,null,null,null,null,61,{"$f":"+INDEX($F165:$DJ165,1,Sheet3!$C$1)","v":61},{"$f":"+IF(Sheet3!$C$1=1,IF(DN165<3,0,1),1)","v":1}]
[2,1,"11D",7,1,216,86891.346769082083,300.17999999999984,269.29999999999995,24317.990000000005,0,3.05,1.39,0,0,4.8,2.17,278.83999999999992,12.98,0,0,0,299.68999999999983,55.160000000000004,235.48000000000002,182362.75999999978,182362.75999999978,182362.75999999978,0,0,0,0,0,0,0,0,0,0,0,0,76255.859999999971,58822.680000000008,0,0,58822.680000000008,17433.179999999997,0,0,0,11325.7,5912.68,138.6,0,0,0,0,0,0,0,0,0,0,0,0,0,0,0,56.2,258618.61999999994,0.05,null,null,null,1.57,7.53,1.07,0.64,1.82,267.08999999999997,59.29,null,null,null,null,null,null,null,0,0,0,0,0,0,0,0,32,38.15,0,0,1,1.32,0,0,0,0,0,0,0,0,null,null,null,null,null,null,null,216,{"$f":"+INDEX($F166:$DJ166,1,Sheet3!$C$1)","v":216},{"$f":"+IF(Sheet3!$C$1=1,IF(DN166<3,0,1),1)","v":1}]
[2,1,"11D",7,2,3,8056.0120083614183,25.35,11.39,755.08,0,0,0,0,0,0.35,0,24.84,0.16,0.16,1.65,1.65,25.35,1.31,25.35,2539.8000000000002,2539.8000000000002,2539.8000000000002,0,0,0,0,0,0,0,0,0,0,0,0,5449.72,5237.5,148.19999999999999,0,5089.3,212.22000000000003,0,0,0,0,212.22,0,0,0,0,0,0,0,0,0,0,0,0,0,0,0,0,0,7989.52,null,null,null,null,0.14000000000000001,null,0.21,null,null,25.5,9.4600000000000009,null,null,null,9,null,null,null,0,0,0,0,0,0,0,0,2,1.31,0,0,0,0,0,0,0,0,0,0,0,0,null,null,null,null,null,null,null,3,{"$f":"+INDEX($F167:$DJ167,1,Sheet3!$C$1)","v":3},{"$f":"+IF(Sheet3!$C$1=1,IF(DN167<3,0,1),1)","v":1}]
[2,1,"11D",8,1,3125,8095637.0776942298,6345.9850000000042,5455.9000000000151,398228.00999999896,0,543.22,576.72,0,0,199.98,58.95,5301.1000000000058,209.73,11.059999999999997,63.5,152.30000000000001,6321.9300000000057,1132.380000000001,5943.3300000000081,2635694.3200000892,2635694.3200000892,2635694.3200000892,0,0,0,0,0,0,0,0,0,0,0,0,2151988.3300000005,1464996.1299999971,0,139.1,1464857.029999997,686992.2,0,3406.49,0,621456.06000000006,22757.72,704.55,0,0,0,37672.71,0,0,281.2,0,0,0,0,0,0,0,0,713.47,4787682.6500000013,89.57,64.16,null,1.28,386.42,196.54,82.14,187.75,1906.5,1602.11,1600.48,null,5,19,201,38,83,17,56,126.56,0,0,4,8.73,0,0,174,143.94,0,0,5,6.71,0,0,1,1.48,0,0,0,0,null,null,null,null,null,null,null,3125,{"$f":"+INDEX($F168:$DJ168,1,Sheet3!$C$1)","v":3125},{"$f":"+IF(Sheet3!$C$1=1,IF(DN168<3,0,1),1)","v":1}]
[2,1,"11D",8,2,272,2184279.7771345633,2033.875,1479.5599999999993,92357.590000000069,0,127.66,146.74,0,0,76.39,36.79,1619.5299999999995,156.88,6.43,13.400000000000002,33.4,2021.0600000000002,526.4100000000002,1982.1400000000003,229209.27999999985,229209.27999999985,229209.27999999985,0,0,0,0,0,0,0,0,0,0,0,0,599990.61000000022,401327.8899999999,733.9,282.10000000000002,400311.8899999999,198662.71999999994,0,4695,0,87550.24,12769.17,2681.7,0,0,0,90352.41,0,0,0,0,0,0,0,0,0,0,0,614.20000000000005,829199.88999999966,50.27,21.18,null,null,73.319999999999993,71.14,45.17,82.26,544.58000000000004,427.76,548.92999999999995,null,1,4,52,5,3,2,65,347.94,0,0,3,16.420000000000002,0,0,39,81.56,0,0,7,25.54,0,0,0,0,0,0,0,0,null,null,null,null,null,null,null,272,{"$f":"+INDEX($F169:$DJ169,1,Sheet3!$C$1)","v":272},{"$f":"+IF(Sheet3!$C$1=1,IF(DN169<3,0,1),1)","v":1}]
[2,1,"11D",9,1,3,11243.724617629752,7.15,7.07,580.59,0,4.37,1.1599999999999999,0,0,1.6,0,0.04,6.85,6.85,4.5999999999999996,5.6,9.65,1.23,9.65,2539.81,2539.81,2539.81,0,0,0,0,0,0,0,0,0,0,0,0,2060.5,1826.8,0,0,1826.8,233.7,0,0,0,0,0,0,0,0,0,0,0,0,233.7,0,0,0,0,0,0,0,0,0,4600.3099999999995,0.03,0.84,null,null,0.11,1.66,null,null,null,null,7.07,5,null,1,null,null,null,null,0,0,0,0,0,0,0,0,0,0,0,0,0,0,0,0,2,1.23,0,0,0,0,null,null,null,null,null,null,null,3,{"$f":"+INDEX($F170:$DJ170,1,Sheet3!$C$1)","v":3},{"$f":"+IF(Sheet3!$C$1=1,IF(DN170<3,0,1),1)","v":1}]
[2,1,"11D",9,2,1,37589.309240827788,12.84,2.0099999999999998,119.95,0,0.59,0.15,0,0,1.19,0,0,19.07,19.07,13.2,13.2,21.24,0,21.24,847.74,847.74,847.74,0,0,0,0,0,0,0,0,0,0,0,0,369.2,369.2,0,0,369.2,0,0,0,0,0,0,0,0,0,0,0,0,0,0,0,0,0,0,0,0,0,0,0,1216.94,null,null,null,null,0.39,1.08,null,null,null,null,20.9,11,null,6,null,null,null,null,0,0,0,0,0,0,0,0,0,0,0,0,0,0,0,0,0,0,0,0,0,0,null,null,null,null,null,null,null,0,{"$f":"+INDEX($F171:$DJ171,1,Sheet3!$C$1)","v":1},{"$f":"+IF(Sheet3!$C$1=1,IF(DN171<3,0,1),1)","v":0}]
[2,1,"11D","10_1",1,7,19068.124139764619,13.63,9.4499999999999993,717.84,0,5.5,2.56,0,0,4.45,0.79,1.5,6.15,6.15,28.500000000000004,29.500000000000004,11.04,0,16.25,5926.18,5926.18,5926.18,0,0,0,0,0,0,0,0,0,0,0,0,5817.0000000000009,5817.0000000000009,0,0,5817.0000000000009,0,0,0,0,0,0,0,0,0,0,0,0,0,0,0,0,0,0,0,0,0,0,0,11743.18,0.88,0.56999999999999995,null,null,0.64,6.01,null,0.26,0.06,1.19,30.13,null,14,22,null,null,2,null,0,0,0,0,0,0,0,0,0,0,0,0,0,0,0,0,0,0,0,0,0,0,null,null,null,null,null,null,null,7,{"$f":"+INDEX($F172:$DJ172,1,Sheet3!$C$1)","v":7},{"$f":"+IF(Sheet3!$C$1=1,IF(DN172<3,0,1),1)","v":1}]
[2,1,"11D","10_2",1,31,75813.468701286271,91.41,31.35,3489.5199999999991,0,13.86,5.72,0,0,9.43,0,0.08,141.69999999999999,90.309999999999988,39.20000000000001,43.2,87.309999999999974,0.44,157.18999999999997,26244.709999999995,26244.709999999995,26244.709999999995,0,0,0,0,0,0,0,0,0,0,0,0,21908.180000000008,21412.100000000006,0,0,21412.100000000006,496.08,0,0,0,0,0,0,0,0,0,0,0,0,76.08,0,0,0,0,0,420,0,0,0,48152.890000000007,1.24,2.75,null,null,2.0099999999999998,9.7799999999999994,null,0.22,0.88,null,135.93,null,15,46,null,null,null,null,0,0,0,0,0,0,0,0,0,0,0,0,0,0,0,0,1,0.44,0,0,0,0,null,null,null,null,null,null,null,31,{"$f":"+INDEX($F173:$DJ173,1,Sheet3!$C$1)","v":31},{"$f":"+IF(Sheet3!$C$1=1,IF(DN173<3,0,1),1)","v":1}]
[2,1,"11D","10_2",2,19,117096.76400374468,152.01500000000001,30.620000000000005,2272.4799999999996,0,15.73,4.25,0,0,11.92,0,0,250.99,109.16999999999999,54.8,65.8,123.10000000000001,1.7999999999999998,270.09999999999997,16087.810000000003,16087.810000000003,16087.810000000003,0,0,0,0,0,0,0,0,0,0,0,0,33142.770000000004,32530.2,0,0,32530.2,612.57000000000005,0,0,0,0,0,0,0,0,0,0,0,0,96.97,11.6,0,0,0,0,504,0,0,0,49230.579999999987,2.46,1.47,null,null,1.29,11.86,null,0.99,1.43,0.02,305.58999999999997,1,24,35,null,null,null,null,0,0,0,0,0,0,0,0,0,0,0,0,0,0,1,0.57999999999999996,2,1.22,0,0,0,0,null,null,null,null,null,null,null,19,{"$f":"+INDEX($F174:$DJ174,1,Sheet3!$C$1)","v":19},{"$f":"+IF(Sheet3!$C$1=1,IF(DN174<3,0,1),1)","v":1}]
[2,1,"11D","10_2",3,1,21140.107162316755,28.38,3.31,197.54,0,3.4,0,0,0,0,0,0,53.36,53.36,12.2,13.2,3.4,0,53.36,846.6,846.6,846.6,0,0,0,0,0,0,0,0,0,0,0,0,3214,3214,0,0,3214,0,0,0,0,0,0,0,0,0,0,0,0,0,0,0,0,0,0,0,0,0,0,0,4060.6,null,null,null,null,null,null,null,null,null,null,57.73,null,4,3,null,null,null,null,0,0,0,0,0,0,0,0,0,0,0,0,0,0,0,0,0,0,0,0,0,0,null,null,null,null,null,null,null,0,{"$f":"+INDEX($F175:$DJ175,1,Sheet3!$C$1)","v":1},{"$f":"+IF(Sheet3!$C$1=1,IF(DN175<3,0,1),1)","v":0}]
[2,1,"11D",11,1,74,157224.27018555859,219.13499999999993,81.370000000000019,6661.25,0,26.96,5.46,0,0,37.92,1.1200000000000001,2.97,301.64999999999998,63.339999999999996,67.799999999999983,139.80000000000001,252.51000000000002,3.94,354.88000000000005,62648.379999999939,62648.379999999939,62648.379999999939,0,0,0,0,0,0,0,0,0,0,0,0,54644.410000000011,53329.330000000009,0,0,53329.330000000009,1315.08,0,0,0,823,55.08,0,0,0,0,0,0,0,437,0,0,0,0,0,0,0,0,0,117292.78999999998,4.29,1.87,null,null,2.42,38.130000000000003,0.26,0.46,2.68,4.5,313.19,null,null,1,270,37,90,5,0,0,0,0,0,0,0,0,1,0.34,0,0,0,0,0,0,3,2.2999999999999998,0,0,0,0,null,null,null,null,null,null,null,74,{"$f":"+INDEX($F176:$DJ176,1,Sheet3!$C$1)","v":74},{"$f":"+IF(Sheet3!$C$1=1,IF(DN176<3,0,1),1)","v":1}]
[2,1,"11D",11,2,40,312296.30371630122,439.90500000000009,45.32,3719.4099999999994,0,19.77,8.91,0,0,26.04,2.23,1.92,752.63,124.96000000000001,98.850000000000009,165.85000000000002,306.32,55.620000000000005,798.8900000000001,33614.339999999997,33614.339999999997,33614.339999999997,0,0,0,0,0,0,0,0,0,0,0,0,80649.169999999984,78541.94,0,0,78541.94,2107.23,0,0,0,459,409.86,0,0,0,0,0,0,0,381.17,0,0,350,0,0,330,0,0,177.2,114263.51000000002,4.8499999999999996,2.19,null,0.13,2.8,24.32,0.8,0.44,2,3.49,724.22,null,21,22,281,31,142,29,0,0,0,0,0,0,0,0,2,2.5299999999999998,0,0,0,0,0,0,4,3.09,0,0,1,40.33,null,null,null,null,null,null,null,40,{"$f":"+INDEX($F177:$DJ177,1,Sheet3!$C$1)","v":40},{"$f":"+IF(Sheet3!$C$1=1,IF(DN177<3,0,1),1)","v":1}]
[2,1,"11D",12,1,87,234365.67355512874,218.87500000000006,132.76999999999995,9919.0200000000041,0,49.56,26.97,0,0,36.26,0.85,30.78,181.36,66.639999999999958,88.75,143.64999999999998,229.47,10.66,292.69999999999987,72885.929999999993,72885.929999999993,72885.929999999993,0,0,0,0,0,0,0,0,0,0,0,0,59009.280000000013,53874.240000000013,0,0,53874.240000000013,5135.0399999999991,0,0,0,4232.18,0,0,0,0,0,0,0,0,362.9,0,0,0,0,0,539.96,0,0,0,131895.21000000002,4.34,6.73,null,null,15.03,39.03,0.72,1.86,13.25,14.88,228.54,2,7,46,197,26,93,18,0,0,0,0,0,0,0,0,0,0,0,0,0,0,0,0,1,1.91,0,0,0,0,null,null,null,null,null,null,null,87,{"$f":"+INDEX($F178:$DJ178,1,Sheet3!$C$1)","v":87},{"$f":"+IF(Sheet3!$C$1=1,IF(DN178<3,0,1),1)","v":1}]
[2,1,"11D",12,2,23,155504.88398607014,184.07499999999999,79.8,5300.8900000000012,0,23.78,18.96,0,0,19.149999999999999,5.18,18.739999999999998,191.5,49.69,33.699999999999996,59.6,159.22999999999999,9.2500000000000018,263.89999999999998,19471.88,19471.88,19471.88,0,0,0,0,0,0,0,0,0,0,0,0,38406.31,34643.799999999996,0,0,34643.799999999996,3762.51,0,0,0,1494,0,676.2,0,0,0,1306.1600000000001,0,0,78.09,8.06,0,0,0,0,200,0,0,0,57878.189999999995,10.83,3.34,null,null,6.01,22.29,7.96,1.37,7.24,13.34,226.22,null,6,5,95,11,25,9,1,6.44,0,0,0,0,0,0,0,0,0,0,1,6.44,1,0.31,2,0.84,0,0,0,0,null,null,null,null,null,null,null,23,{"$f":"+INDEX($F179:$DJ179,1,Sheet3!$C$1)","v":23},{"$f":"+IF(Sheet3!$C$1=1,IF(DN179<3,0,1),1)","v":1}]
[2,1,"11D",13,1,31,10278.502954497659,50.77500000000002,40.360000000000007,3359.2200000000003,0,9.0399999999999991,0.17,0,0,15.52,13.6,3.27,19.55,0,0,0,49.58000000000002,0,27.270000000000003,26127.340000000004,26127.340000000004,26127.340000000004,0,0,0,0,0,0,0,0,0,0,0,0,2555.7999999999997,2555.7999999999997,0,0,2555.7999999999997,0,0,0,0,0,0,0,0,0,0,0,0,0,0,0,0,0,0,0,0,0,0,0,28683.14,null,0.23,null,null,0.21,11.08,3.27,null,0.02,1.2,71.8,null,1,null,2,1,null,null,0,0,0,0,0,0,0,0,0,0,0,0,0,0,0,0,0,0,0,0,0,0,null,null,null,null,null,null,null,31,{"$f":"+INDEX($F180:$DJ180,1,Sheet3!$C$1)","v":31},{"$f":"+IF(Sheet3!$C$1=1,IF(DN180<3,0,1),1)","v":1}]
[2,1,"11D",15,1,22,54924.652338386957,35.78,33.590000000000003,2487.0499999999997,0,7.41,18.93,0,0,2.0499999999999998,0,10.23,4.57,0.69,1.05,5.05,35.78,1.27,29.79,18373.690000000002,18373.690000000002,18373.690000000002,0,0,0,0,0,0,0,0,0,0,0,0,7439.97,7116.1500000000005,0,0,7116.1500000000005,323.82000000000005,0,0,0,144,179.82,0,0,0,0,0,0,0,0,0,0,0,0,0,0,0,0,0,25813.659999999993,0.7,0.46,null,null,17.04,2.56,0.53,null,2.17,3.63,18.670000000000002,null,null,null,1,6,null,null,0,0,0,0,0,0,0,0,2,1.1100000000000001,0,0,0,0,0,0,0,0,0,0,0,0,null,null,null,null,null,null,null,22,{"$f":"+INDEX($F181:$DJ181,1,Sheet3!$C$1)","v":22},{"$f":"+IF(Sheet3!$C$1=1,IF(DN181<3,0,1),1)","v":1}]
[2,1,"11E",0,1,5,52176.307198027644,8.58,18.34,1185.2,0,0.15,0.84,0,0,1.86,0,2.15,0,0,0,36.799999999999997,4.8499999999999996,0,4.8499999999999996,4193.93,4193.93,4193.93,0,0,0,0,0,0,0,0,0,0,0,0,5947.5099999999993,5465.8,0,0,5465.8,481.71000000000004,0,0,0,0,481.71,0,0,0,0,0,0,0,0,0,0,0,0,0,0,0,0,0,10141.439999999999,3.39,null,null,null,0.39,2.42,4.21,0.22,0.66,4.67,19.2,null,null,null,null,null,null,null,0,0,0,0,0,0,0,0,3,3.73,0,0,0,0,0,0,0,0,0,0,0,0,null,null,null,null,null,null,null,5,{"$f":"+INDEX($F182:$DJ182,1,Sheet3!$C$1)","v":5},{"$f":"+IF(Sheet3!$C$1=1,IF(DN182<3,0,1),1)","v":1}]
[2,1,"11E",0,2,2,33160.923001698364,13.42,4.22,251.84,0,0.1,3.28,0,0,5.0599999999999996,0,4.01,1.07,0,0,17.899999999999999,13.42,2.92,13.42,1693.21,1693.21,1693.21,0,0,0,0,0,0,0,0,0,0,0,0,5842.84,2969.8,0,0,2969.8,2873.04,0,0,0,0,473.04,0,0,0,0,0,0,0,0,0,0,0,0,0,2400,0,0,0,7536.05,null,null,null,null,0.84,5.33,null,null,null,3.15,4.1500000000000004,null,null,null,null,null,null,null,0,0,0,0,0,0,0,0,1,2.92,0,0,0,0,0,0,0,0,0,0,0,0,null,null,null,null,null,null,null,0,{"$f":"+INDEX($F183:$DJ183,1,Sheet3!$C$1)","v":2},{"$f":"+IF(Sheet3!$C$1=1,IF(DN183<3,0,1),1)","v":0}]
[2,1,"11E","1_2",1,64,103924.38917537531,173.74000000000004,146.76999999999992,9980.1500000000051,0,0.81,90.56,0,0,3.13,31.06,34.459999999999994,14.53,0,0,0,173.74000000000004,12.600000000000001,165.29999999999998,54143.49,54143.49,54143.49,0,0,0,0,0,0,0,0,0,0,0,0,41053.569999999992,38804.9,0,0,38804.9,2248.6699999999996,0,0,0,446.25,1802.42,0,0,0,0,0,0,0,0,0,0,0,0,0,0,0,0,0,95197.060000000027,48.66,11.13,null,null,7.38,19.079999999999998,34.67,0.18,3.45,25.88,48.38,null,1,null,null,null,null,null,0,0,0,0,0,0,0,0,17,11.69,0,0,0,0,0,0,0,0,0,0,0,0,null,null,null,null,null,null,null,64,{"$f":"+INDEX($F184:$DJ184,1,Sheet3!$C$1)","v":64},{"$f":"+IF(Sheet3!$C$1=1,IF(DN184<3,0,1),1)","v":1}]
[2,1,"11E","1_2",2,21,57413.553893741599,190.01,139.88999999999999,8467.2799999999988,0,0,72.44,0,0,1.94,65.11,19.970000000000002,30.55,0.25,2.4,7.4,187.97,11.169999999999998,158.30999999999997,17778.570000000003,17778.570000000003,17778.570000000003,0,0,0,0,0,0,0,0,0,0,0,0,31388.739999999994,30516.399999999998,0,0,30516.399999999998,872.34,0,0,0,0,740.34,0,0,0,0,0,0,0,0,0,0,0,0,0,0,0,0,132,49167.31,32.33,15.79,null,null,4.4400000000000004,14.14,47.1,null,1.38,11.57,62.71,null,null,null,51,3,null,null,0,0,0,0,0,0,0,0,3,4.57,0,0,0,0,0,0,0,0,0,0,0,0,null,null,null,null,null,null,null,21,{"$f":"+INDEX($F185:$DJ185,1,Sheet3!$C$1)","v":21},{"$f":"+IF(Sheet3!$C$1=1,IF(DN185<3,0,1),1)","v":1}]
[2,1,"11E",3,2,1,11256.520883131958,5.87,5.69,339.57,0,0.36,2.02,0,0,0,0.56000000000000005,3.29,0,0,0,0,5.87,0.85,5.87,846.59,846.59,846.59,0,0,0,0,0,0,0,0,0,0,0,0,1463,1325.3,0,0,1325.3,137.69999999999999,0,0,0,0,137.69999999999999,0,0,0,0,0,0,0,0,0,0,0,0,0,0,0,0,0,2309.59,null,null,null,null,0.36,null,1.76,null,null,3.15,0.1,null,null,null,null,null,null,null,0,0,0,0,0,0,0,0,1,0.85,0,0,0,0,0,0,0,0,0,0,0,0,null,null,null,null,null,null,null,0,{"$f":"+INDEX($F186:$DJ186,1,Sheet3!$C$1)","v":1},{"$f":"+IF(Sheet3!$C$1=1,IF(DN186<3,0,1),1)","v":0}]
[2,1,"11E",4,1,1118,4523715.2058280697,2571.7299999999955,2177.1499999999987,157058.43999999989,0,147.94999999999999,553.21,0,0,36.97,271.3,1494.0899999999995,216.16,1.53,7.25,33.25,2562.4399999999951,400.34999999999985,2427.429999999998,945220.00999998732,945220.00999998732,945220.00999998732,0,0,0,0,0,0,0,0,0,0,0,0,642365.12000000058,581088.35000000033,0,0,581088.35000000033,61276.769999999931,0,332.1,0,1791,54995.23,0,0,0,546,2419.44,0,0,0,0,0,0,0,0,0,304.8,0,888.2,1587585.1299999987,142.58000000000001,26.42,null,null,307.32,50.31,315.02,26.16,131.1,967.32,749.86,null,7,8,23,4,2,null,4,8.06,0,0,1,1.22,0,0,410,346.1,0,0,0,0,0,0,0,0,0,0,0,0,null,null,null,null,null,null,null,1118,{"$f":"+INDEX($F187:$DJ187,1,Sheet3!$C$1)","v":1118},{"$f":"+IF(Sheet3!$C$1=1,IF(DN187<3,0,1),1)","v":1}]
[2,1,"11E",4,2,149,1548603.5621130373,1061.2099999999998,765.12999999999977,46872.430000000022,0,31.07,278.64,0,0,13.17,234.98,385.19,149.22999999999999,0.86,2.4,21.4,1053.6799999999998,83.750000000000014,991.11999999999989,126144.54000000011,126144.54000000011,126144.54000000011,0,0,0,0,0,0,0,0,0,0,0,0,217205.91999999998,204356.11000000002,0,0,204356.11000000002,12849.810000000001,0,1732.5,0,0,10088.31,0,0,0,0,754,0,0,0,0,0,0,0,0,0,0,0,275,343350.46000000014,114.23,19.41,null,1.39,97.75,19.579999999999998,226.91,7.87,54.33,173.46,300.64999999999998,null,null,null,60,9,null,null,1,2.2400000000000002,0,0,1,5.93,0,0,50,64,0,0,0,0,0,0,0,0,0,0,0,0,null,null,null,null,null,null,null,149,{"$f":"+INDEX($F188:$DJ188,1,Sheet3!$C$1)","v":149},{"$f":"+IF(Sheet3!$C$1=1,IF(DN188<3,0,1),1)","v":1}]
[2,1,"11E",5,1,32,52699.659928394518,70.709999999999994,62.849999999999994,4337.7099999999991,0,0.04,1.29,0,0,1.52,1.69,63,3.21,0,0,0,70.669999999999987,7.02,68.58,27015.1,27015.1,27015.1,0,0,0,0,0,0,0,0,0,0,0,0,18499.18,16666.780000000002,0,0,16666.780000000002,1832.4,0,0,0,517.5,458.46,0,0,0,0,818.04,0,0,0,0,0,0,0,0,0,0,0,38.4,45514.280000000006,1.72,0.35,null,null,0.37,0.28999999999999998,1.51,0.33,36.86,20.37,25.82,null,null,null,null,null,null,null,1,2.69,0,0,0,0,0,0,5,2.93,0,0,0,0,0,0,0,0,0,0,0,0,null,null,null,null,null,null,null,32,{"$f":"+INDEX($F189:$DJ189,1,Sheet3!$C$1)","v":32},{"$f":"+IF(Sheet3!$C$1=1,IF(DN189<3,0,1),1)","v":1}]
[2,1,"11E",5,2,9,76555.854463661424,85.44,70.38000000000001,4200.25,0,1.1599999999999999,1.83,0,0,0.37,1.44,76.830000000000013,4.97,0,0,1,85.44,44.809999999999995,85.44,7619.46,7619.46,7619.46,0,0,0,0,0,0,0,0,0,0,0,0,29110.04,16346.3,0,0,16346.3,12763.74,0,0,0,3962.5,59.94,0,0,0,0,8741.2999999999993,0,0,0,0,0,0,0,0,0,0,0,0,36729.5,0.67,1.43,null,null,0.26,0.28999999999999998,1.48,0.23,65.48,8.32,21.84,null,null,null,null,null,null,null,4,39.64,0,0,0,0,0,0,1,0.37,0,0,0,0,0,0,0,0,0,0,0,0,null,null,null,null,null,null,null,9,{"$f":"+INDEX($F190:$DJ190,1,Sheet3!$C$1)","v":9},{"$f":"+IF(Sheet3!$C$1=1,IF(DN190<3,0,1),1)","v":1}]
[2,1,"11E",6,1,226,399715.94485446613,643.20999999999992,526.3599999999999,33740.31,0,8.84,20.87,0,0,6.04,39.159999999999997,553.33000000000027,23.81,0,1.5,3.5,639.1,178.83999999999997,613.93999999999994,191147.81999999977,191147.81999999977,191147.81999999977,0,0,0,0,0,0,0,0,0,0,0,0,178501.74999999997,146344.5,0,0,146344.5,32157.250000000015,0,4646.04,0,0,23759.73,0,0,0,2382,769.88,0,0,0,0,0,0,0,0,0,0,0,599.6,369649.56999999977,14.08,4.74,null,null,5.77,7.62,34.159999999999997,16.88,6.75,71.45,95.22,null,null,null,4,1,null,null,1,3.17,0,0,4,11.99,0,0,93,150.07,0,0,0,0,0,0,0,0,0,0,0,0,null,null,null,null,null,null,null,226,{"$f":"+INDEX($F191:$DJ191,1,Sheet3!$C$1)","v":226},{"$f":"+IF(Sheet3!$C$1=1,IF(DN191<3,0,1),1)","v":1}]
[2,1,"11E",6,2,130,580431.27509794629,1082.9799999999998,734.33,44309.48,0,20.51,28.4,0,0,6.72,95.55,878.05,74.260000000000005,0,0,3,1066.2,305.72000000000003,992.2299999999999,109807.06000000006,109807.06000000006,109807.06000000006,0,0,0,0,0,0,0,0,0,0,0,0,253073.93999999994,196424.80999999997,0,0,196424.80999999997,56649.130000000005,0,2180,0,0,34372.14,0,0,0,1686,16810.189999999999,0,0,0,0,0,0,0,0,0,0,0,1600.8,362881.00000000006,22.73,2.13,null,null,9.44,15.32,55.28,22.02,8.3800000000000008,67.52,185.14,null,null,null,null,null,null,null,10,62.31,0,0,2,6.72,0,0,64,223.5,0,0,0,0,0,0,0,0,0,0,0,0,null,null,null,null,null,null,null,130,{"$f":"+INDEX($F192:$DJ192,1,Sheet3!$C$1)","v":130},{"$f":"+IF(Sheet3!$C$1=1,IF(DN192<3,0,1),1)","v":1}]
[2,1,"11E",6,3,2,40649.280956880051,77.81,23.81,1420.9699999999998,0,0.49,2.87,0,0,0,6.58,65.819999999999993,2.54,0,0,1,77.72999999999999,0,77.699999999999989,1693.22,1693.22,1693.22,0,0,0,0,0,0,0,0,0,0,0,0,6971.4,6971.4,0,0,6971.4,0,0,0,0,0,0,0,0,0,0,0,0,0,0,0,0,0,0,0,0,0,0,0,8664.619999999999,2.76,null,null,null,0.4,null,7.59,0.35,0.08,null,7.23,null,null,null,null,null,null,null,0,0,0,0,0,0,0,0,0,0,0,0,0,0,0,0,0,0,0,0,0,0,null,null,null,null,null,null,null,0,{"$f":"+INDEX($F193:$DJ193,1,Sheet3!$C$1)","v":2},{"$f":"+IF(Sheet3!$C$1=1,IF(DN193<3,0,1),1)","v":0}]
[2,1,"11E",7,1,642,287745.03808580473,1082.49,961.36999999999944,82404.179999999993,0,3.77,12.14,0,0,13.23,49.02,957.39000000000067,50.71,0,0.75,1.75,1078.0300000000002,339.44,972.09000000000026,542217.67999999656,542217.67999999656,542217.67999999656,0,0,0,0,0,0,0,0,0,0,0,0,288342.42,232558.40999999997,0,0,232558.40999999997,55784.009999999987,0,0,0,324,54272.99,0,0,0,0,1150.22,0,0,0,0,0,0,0,0,0,0,0,36.799999999999997,830560.09999999893,8.0299999999999994,0.92,null,null,7.3,13.19,50.62,1.34,12.39,912.04,179.62,null,null,null,null,null,3,null,2,4.01,0,0,0,0,0,0,333,337.27,0,0,0,0,0,0,0,0,0,0,0,0,null,null,null,null,null,null,null,642,{"$f":"+INDEX($F194:$DJ194,1,Sheet3!$C$1)","v":642},{"$f":"+IF(Sheet3!$C$1=1,IF(DN194<3,0,1),1)","v":1}]
[2,1,"11E",7,2,22,40313.895310923173,149.60999999999999,98.82,6189.369999999999,0,4.46,8.94,0,0,0.44,10.76,117.11000000000004,12.36,0,0,0,143.86999999999998,41.239999999999995,147.79999999999998,18416.890000000003,18416.890000000003,18416.890000000003,0,0,0,0,0,0,0,0,0,0,0,0,37866.850000000006,29598.999999999996,0,0,29598.999999999996,8267.8499999999985,0,0,0,0,5331.73,0,0,0,0,2936.12,0,0,0,0,0,0,0,0,0,0,0,0,56283.740000000005,3.06,0.22,null,null,2.0099999999999998,1.97,15.26,null,0.98,108.28,44.55,null,null,null,null,null,null,null,3,13.33,0,0,0,0,0,0,13,33.44,0,0,0,0,0,0,0,0,0,0,0,0,null,null,null,null,null,null,null,{"$f":"+DN195*DO195","v":22},{"$f":"+INDEX($F195:$DJ195,1,Sheet3!$C$1)","v":22},{"$f":"+IF(Sheet3!$C$1=1,IF(DN195<3,0,1),1)","v":1}]
[2,1,"11E",8,1,1899,3672847.924358251,4863.9600000000028,4084.8900000000026,293620.54999999946,0,110.67,457.01,0,0,116.02,314.83999999999997,3664.2099999999996,311.88,1.8200000000000003,17.7,67.7,4840.8600000000024,870.83000000000061,4633.8100000000004,1605442.0600000457,1605442.0600000457,1605442.0600000457,0,0,0,0,0,0,0,0,0,0,0,0,1238479.2899999989,1102415.7199999988,0,0,1102415.7199999988,136063.56999999992,0,2445,0,5112.51,116859.5,0,0,0,2064,7298.56,0,0,0,30.4,0,0,0,0,0,0,0,2253.6,2843921.3499999996,162.55000000000001,45.43,null,0.18,179.63,136.28,347.47,76.790000000000006,329.1,1986.12,1507.4,null,null,1,90,14,51,1,9,27.82,0,0,4,7.67,0,0,734,739.32,0,0,0,0,1,0.38,0,0,0,0,0,0,null,null,null,null,null,null,null,1899,{"$f":"+INDEX($F196:$DJ196,1,Sheet3!$C$1)","v":1899},{"$f":"+IF(Sheet3!$C$1=1,IF(DN196<3,0,1),1)","v":1}]
[2,1,"11E",8,2,537,2385147.520341469,4058.6000000000004,2818.4499999999962,173130.21000000005,0,73.19,467.5,0,0,87.95,608.33000000000004,2421.0799999999967,473.74,11.459999999999999,18.3,52.3,3973.9199999999996,636.95999999999992,3710.2299999999987,454028.62999999762,454028.62999999762,454028.62999999762,0,0,0,0,0,0,0,0,0,0,0,0,848731.47999999963,737822.04999999946,0,0,737822.04999999946,110909.42999999996,1284.92,12505.17,110.9,306.25,66339.47,177.45,0,0,1941,25554.67,0,0,0,0,0,0,0,0,0,606,0,2083.6,1302760.1099999994,219.3,66.08,null,0.21,117.02,92.74,499.23,45.08,175.42,969.4,1222.69,null,null,2,61,11,14,5,26,104.46,1,6.01,7,35.159999999999997,0,0,243,422.96,0,0,1,1.75,0,0,0,0,0,0,0,0,null,null,null,null,null,null,null,537,{"$f":"+INDEX($F197:$DJ197,1,Sheet3!$C$1)","v":537},{"$f":"+IF(Sheet3!$C$1=1,IF(DN197<3,0,1),1)","v":1}]
[2,1,"11E",9,2,1,9208.4578806682566,9.99,0.5,50.04,0,0,0,0,0,0,0,0,19.98,0,1,4,2,0,19.98,846.6,846.6,846.6,0,0,0,0,0,0,0,0,0,0,0,0,2110,2110,0,0,2110,0,0,0,0,0,0,0,0,0,0,0,0,0,0,0,0,0,0,0,0,0,0,0,2956.6,null,null,null,null,null,null,null,null,null,null,17.91,1,null,2,null,null,null,null,0,0,0,0,0,0,0,0,0,0,0,0,0,0,0,0,0,0,0,0,0,0,null,null,null,null,null,null,null,0,{"$f":"+INDEX($F198:$DJ198,1,Sheet3!$C$1)","v":1},{"$f":"+IF(Sheet3!$C$1=1,IF(DN198<3,0,1),1)","v":0}]
[2,1,"11E","10_2",1,1,2318.5279044386489,3,1,161.37,0,0,0,0,0,0,0,0,6,0,1,1,6,0,6,847.69,847.69,847.69,0,0,0,0,0,0,0,0,0,0,0,0,780,780,0,0,780,0,0,0,0,0,0,0,0,0,0,0,0,0,0,0,0,0,0,0,0,0,0,0,1627.69,null,null,null,null,null,null,null,null,null,null,5.98,null,null,1,null,null,null,null,0,0,0,0,0,0,0,0,0,0,0,0,0,0,0,0,0,0,0,0,0,0,null,null,null,null,null,null,null,0,{"$f":"+INDEX($F199:$DJ199,1,Sheet3!$C$1)","v":1},{"$f":"+IF(Sheet3!$C$1=1,IF(DN199<3,0,1),1)","v":0}]
[2,1,"11E","10_2",2,1,7838.7518281509547,10.050000000000001,0.75,86.16,0,0.3,0.3,0,0,0.71,0.05,0,16.59,0,1.2,2.2000000000000002,1.39,0,18.32,846.61,846.61,846.61,0,0,0,0,0,0,0,0,0,0,0,0,2120.8000000000002,2120.8000000000002,0,0,2120.8000000000002,0,0,0,0,0,0,0,0,0,0,0,0,0,0,0,0,0,0,0,0,0,0,0,2967.4100000000003,null,0.13,null,null,0.21,0.7,null,null,0.25,0.13,1.22,null,null,1,null,null,null,null,0,0,0,0,0,0,0,0,0,0,0,0,0,0,0,0,0,0,0,0,0,0,null,null,null,null,null,null,null,0,{"$f":"+INDEX($F200:$DJ200,1,Sheet3!$C$1)","v":1},{"$f":"+IF(Sheet3!$C$1=1,IF(DN200<3,0,1),1)","v":0}]
[2,1,"11E",11,1,14,22376.805415178973,26.844999999999999,18.16,1288.9700000000003,0,2.25,2.0499999999999998,0,0,7.93,0.79,5.5200000000000014,15.04,3.67,29.650000000000002,34.65,21.340000000000003,2,30.909999999999997,11852.440000000002,11852.440000000002,11852.440000000002,0,0,0,0,0,0,0,0,0,0,0,0,6586.2599999999993,6362.2999999999993,0,0,6362.2999999999993,223.96,0,0,0,0,126.36,0,0,0,0,0,0,0,0,97.6,0,0,0,0,0,0,0,0,18438.7,2,null,null,null,7.0000000000000007E-2,7.62,1.76,0.08,0.59,5.03,14.87,null,null,null,138,14,13,1,0,0,0,0,0,0,0,0,1,0.78,0,0,0,0,1,1.22,0,0,0,0,0,0,null,null,null,null,null,null,null,14,{"$f":"+INDEX($F201:$DJ201,1,Sheet3!$C$1)","v":14},{"$f":"+IF(Sheet3!$C$1=1,IF(DN201<3,0,1),1)","v":1}]
[2,1,"11E",11,2,6,33582.794418636026,58.464999999999996,11.110000000000001,801.07000000000016,0,1.8,4.0199999999999996,0,0,2.31,2.83,0.7,87.58,0,2.7,14.7,54.8,1.08,100.28,5079.5700000000006,5079.5700000000006,5079.5700000000006,0,0,0,0,0,0,0,0,0,0,0,0,12413.56,11838.6,0,0,11838.6,574.96,0,0,0,0,174.96,0,0,0,0,0,0,0,0,0,0,0,0,0,400,0,0,0,17493.13,3.7,null,null,null,7.0000000000000007E-2,1.42,2.56,null,0.28000000000000003,2.42,75.64,null,null,null,15,null,null,null,0,0,0,0,0,0,0,0,1,1.08,0,0,0,0,0,0,0,0,0,0,0,0,null,null,null,null,null,null,null,6,{"$f":"+INDEX($F202:$DJ202,1,Sheet3!$C$1)","v":6},{"$f":"+IF(Sheet3!$C$1=1,IF(DN202<3,0,1),1)","v":1}]
[2,1,"11E",12,1,19,55011.430944148313,50.38000000000001,41.139999999999993,2889.6900000000005,0,0.44,8.52,0,0,6.78,5.18,20.27,9.6300000000000008,2.48,14.95,49.15,50.38000000000001,3.17,49.650000000000006,15833.830000000004,15833.830000000004,15833.830000000004,0,0,0,0,0,0,0,0,0,0,0,0,12045.599999999999,11560.979999999998,0,0,11560.979999999998,484.62,0,0,0,0,484.62,0,0,0,0,0,0,0,0,0,0,0,0,0,0,0,0,0,27879.43,6,0.25,null,null,2.54,8.1199999999999992,5.51,0.12,1.18,14.71,24.52,null,1,6,48,4,28,4,0,0,0,0,0,0,0,0,5,3.17,0,0,0,0,0,0,0,0,0,0,0,0,null,null,null,null,null,null,null,19,{"$f":"+INDEX($F203:$DJ203,1,Sheet3!$C$1)","v":19},{"$f":"+IF(Sheet3!$C$1=1,IF(DN203<3,0,1),1)","v":1}]
[2,1,"11E",12,2,13,204026.86227396718,118.82499999999999,66.53,4138.2299999999996,0,2.85,18.95,0,0,7.87,13.55,42.720000000000006,38.24,21.7,28.500000000000004,91.5,123.77000000000001,16.54,123.19,11005.810000000001,11005.810000000001,11005.810000000001,0,0,0,0,0,0,0,0,0,0,0,0,27082.719999999998,22521.3,0,0,22521.3,4561.42,0,0,0,0,502.2,0,0,0,0,476.42,0,0,0,519.20000000000005,0,0,0,0,3000,0,0,63.6,38088.530000000006,17.97,1.33,null,null,3.17,5.07,11.32,0.8,9.4,16.559999999999999,69.180000000000007,null,6,7,69,9,22,2,1,4.4400000000000004,0,0,0,0,0,0,4,3.1,0,0,0,0,2,6.49,0,0,0,0,0,0,null,null,null,null,null,null,null,13,{"$f":"+INDEX($F204:$DJ204,1,Sheet3!$C$1)","v":13},{"$f":"+IF(Sheet3!$C$1=1,IF(DN204<3,0,1),1)","v":1}]
[2,1,"11E",12,3,1,14077.232258515296,30.65,10.63,634.39,0,0,4.9000000000000004,0,0,5.15,12.1,0.11,8.39,8.39,4.95,4.95,30.65,0.67,30.65,846.6,846.6,846.6,0,0,0,0,0,0,0,0,0,0,0,0,3353.84,3319.8,0,0,3319.8,34.04,0,0,0,0,0,0,0,0,0,0,0,0,0,34.04,0,0,0,0,0,0,0,0,4200.4400000000005,6.88,9.41,null,null,2.1800000000000002,1.86,11.3,null,null,0.11,13.23,null,null,null,null,null,null,null,0,0,0,0,0,0,0,0,0,0,0,0,0,0,1,0.67,0,0,0,0,0,0,null,null,null,null,null,null,null,0,{"$f":"+INDEX($F205:$DJ205,1,Sheet3!$C$1)","v":1},{"$f":"+IF(Sheet3!$C$1=1,IF(DN205<3,0,1),1)","v":0}]
[2,1,"11E",13,1,49,11177.5425287989,116.42999999999999,104.21999999999998,6518.73,0,0,4.21,0,0,10.74,76.69,4.78,20.010000000000002,0,0,0,113.67000000000002,0,36.690000000000005,41424.349999999977,41424.349999999977,41424.349999999977,0,0,0,0,0,0,0,0,0,0,0,0,5712.8899999999994,5712.8899999999994,0,0,5712.8899999999994,0,0,0,0,0,0,0,0,0,0,0,0,0,0,0,0,0,0,0,0,0,0,0,47137.239999999983,6.3,1.08,null,null,1.1000000000000001,5.99,11.61,null,0.83,4.04,60.64,null,null,null,null,null,null,null,0,0,0,0,0,0,0,0,0,0,0,0,0,0,0,0,0,0,0,0,0,0,null,null,null,null,null,null,null,49,{"$f":"+INDEX($F206:$DJ206,1,Sheet3!$C$1)","v":49},{"$f":"+IF(Sheet3!$C$1=1,IF(DN206<3,0,1),1)","v":1}]
[2,1,"11E",13,2,24,15383.944011515061,212.29,188.44000000000005,11245.99,0,0,3.23,0,0,6.51,166.85,5.8599999999999994,29.84,0,0,0,212.28,0,49.7,20279.310000000005,20279.310000000005,20279.310000000005,0,0,0,0,0,0,0,0,0,0,0,0,4594,4594,0,0,4594,0,0,0,0,0,0,0,0,0,0,0,0,0,0,0,0,0,0,0,0,0,0,0,24873.31,3.15,4.0599999999999996,null,null,0.09,8.56,19.190000000000001,null,1.69,3.46,53.65,null,null,null,null,null,null,null,0,0,0,0,0,0,0,0,0,0,0,0,0,0,0,0,0,0,0,0,0,0,null,null,null,null,null,null,null,24,{"$f":"+INDEX($F207:$DJ207,1,Sheet3!$C$1)","v":24},{"$f":"+IF(Sheet3!$C$1=1,IF(DN207<3,0,1),1)","v":1}]
[2,1,"11E",13,3,1,1268.4132497624591,26.79,20.190000000000001,1204.93,0,0,0,0,0,0,24.15,0.93,1.71,0,0,0,26.62,0,0,846.61,846.61,846.61,0,0,0,0,0,0,0,0,0,0,0,0,0,0,0,0,0,0,null,null,null,null,null,null,null,null,null,null,null,null,null,null,null,null,null,null,null,null,null,null,846.61,null,null,null,null,null,null,0.54,null,null,0.71,2.4500000000000002,null,null,null,null,null,null,null,0,0,0,0,0,0,0,0,0,0,0,0,0,0,0,0,0,0,0,0,0,0,null,null,null,null,null,null,null,0,{"$f":"+INDEX($F208:$DJ208,1,Sheet3!$C$1)","v":1},{"$f":"+IF(Sheet3!$C$1=1,IF(DN208<3,0,1),1)","v":0}]
[2,1,"11E",15,1,2,7893.3538555422874,5.0600000000000005,4.83,288.24,0,2.3199999999999998,2.5299999999999998,0,0,0,0,2.29,0.24,0,0,0,5.0600000000000005,0.54,5.0600000000000005,1693.21,1693.21,1693.21,0,0,0,0,0,0,0,0,0,0,0,0,1331.9299999999998,1253.1999999999998,0,0,1253.1999999999998,78.73,0,0,0,0,78.73,0,0,0,0,0,0,0,0,0,0,0,0,0,0,0,0,0,3025.1400000000003,null,null,null,null,2.5299999999999998,null,null,0.2,0.02,1.76,0.84,null,null,null,null,null,null,null,0,0,0,0,0,0,0,0,1,0.54,0,0,0,0,0,0,0,0,0,0,0,0,null,null,null,null,null,null,null,0,{"$f":"+INDEX($F209:$DJ209,1,Sheet3!$C$1)","v":2},{"$f":"+IF(Sheet3!$C$1=1,IF(DN209<3,0,1),1)","v":0}]
[2,1,"150",0,1,1,0,0,0.99,59.08,0,0,0,0,0,0,0,0,0,0,0,0,0,0,0,846.6,846.6,846.6,0,0,0,0,0,0,0,0,0,0,0,0,260,260,0,0,260,0,0,0,0,0,0,0,0,0,0,0,0,0,0,0,0,0,0,0,0,0,0,0,1106.5999999999999,null,null,null,null,null,null,null,null,null,7.0000000000000007E-2,2.5,null,null,null,null,null,null,null,0,0,0,0,0,0,0,0,0,0,0,0,0,0,0,0,0,0,0,0,0,0,null,null,null,null,null,null,null,0,{"$f":"+INDEX($F210:$DJ210,1,Sheet3!$C$1)","v":1},{"$f":"+IF(Sheet3!$C$1=1,IF(DN210<3,0,1),1)","v":0}]
[2,1,"150",0,2,1,44131.3,7.22,4.75,283.48,0,0.95,0.85,0,0,1.85,0,1.0900000000000001,3.43,0,0,36.1,7.22,0,7.22,807.5,807.5,807.5,0,0,0,0,0,0,0,0,0,0,0,0,1581.8,1581.8,0,0,1581.8,0,0,0,0,0,0,0,0,0,0,0,0,0,0,0,0,0,0,0,0,0,0,0,2389.3000000000002,null,null,null,null,1.02,0.03,0.11,0.16,0.06,0.41,15.81,null,null,null,null,null,null,null,0,0,0,0,0,0,0,0,0,0,0,0,0,0,0,0,0,0,0,0,0,0,null,null,null,null,null,null,null,0,{"$f":"+INDEX($F211:$DJ211,1,Sheet3!$C$1)","v":1},{"$f":"+IF(Sheet3!$C$1=1,IF(DN211<3,0,1),1)","v":0}]
[2,1,"150","1_2",1,5,32438.520026937887,7.7399999999999993,7.589999999999999,747.5,0,0.48,4.59,0,0,2.33,0,0.32000000000000006,0.5,0,0,0,7.7399999999999993,0,5.0199999999999996,4232.99,4232.99,4232.99,0,0,0,0,0,0,0,0,0,0,0,0,876.2,876.2,0,0,876.2,0,0,0,0,0,0,0,0,0,0,0,0,0,0,0,0,0,0,0,0,0,0,0,5109.1900000000005,3.41,0.88,null,null,1.22,0.37,0.21,null,null,null,0.6,null,null,null,null,null,null,null,0,0,0,0,0,0,0,0,0,0,0,0,0,0,0,0,0,0,0,0,0,0,null,null,null,null,null,null,null,5,{"$f":"+INDEX($F212:$DJ212,1,Sheet3!$C$1)","v":5},{"$f":"+IF(Sheet3!$C$1=1,IF(DN212<3,0,1),1)","v":1}]
[2,1,"150","1_2",2,2,3003.52,12.3,11.530000000000001,688.1,0,0,5.14,0,0,0.91,0,0,6.25,0,0,0,12.3,2.0699999999999998,9.379999999999999,1693.21,1693.21,1693.21,0,0,0,0,0,0,0,0,0,0,0,0,1419.1999999999998,1336.4,0,0,1336.4,82.8,0,0,0,0,0,0,0,0,0,0,0,0,0,0,0,0,0,0,0,0,0,82.8,3112.41,5.72,null,null,null,null,4.18,null,null,null,null,31.78,null,null,null,null,null,null,null,0,0,0,0,0,0,0,0,0,0,0,0,0,0,0,0,0,0,0,0,0,0,null,null,null,null,null,null,null,0,{"$f":"+INDEX($F213:$DJ213,1,Sheet3!$C$1)","v":2},{"$f":"+IF(Sheet3!$C$1=1,IF(DN213<3,0,1),1)","v":0}]
[2,1,"150",3,1,1,12953.66,4.04,3.98,237.52,0,2.63,2.75,0,0,0,0,1.17,0.12,0,0,0,4.04,0,4.04,846.62,846.62,846.62,0,0,0,0,0,0,0,0,0,0,0,0,954.8,954.8,0,0,954.8,0,0,0,0,0,0,0,0,0,0,0,0,0,0,0,0,0,0,0,0,0,0,0,1801.42,null,null,null,null,2.1,null,null,null,null,0.23,1.55,null,null,null,null,null,null,null,0,0,0,0,0,0,0,0,0,0,0,0,0,0,0,0,0,0,0,0,0,0,null,null,null,null,null,null,null,0,{"$f":"+INDEX($F214:$DJ214,1,Sheet3!$C$1)","v":1},{"$f":"+IF(Sheet3!$C$1=1,IF(DN214<3,0,1),1)","v":0}]
[2,1,"150",4,1,49,633283.92200000002,114.03000000000004,99.21,6571.5599999999977,0,39.21,52.24,0,0,5.03,0.31,32.760000000000012,23.69,0,1.35,1.35,114.08000000000004,5.57,101.53000000000002,40391.719999999987,40391.719999999987,40391.719999999987,0,0,0,0,0,0,0,0,0,0,0,0,22338.29,21435.95,0,226.2,21209.75,902.34,0,0,0,0,902.34,0,0,0,0,0,0,0,0,0,0,0,0,0,0,0,0,0,62730.00999999998,4.2300000000000004,2.74,null,null,39,11.63,2.0099999999999998,5.37,0.65,9.76,133.5,null,null,null,10,1,2,null,0,0,0,0,0,0,0,0,6,5.57,0,0,0,0,0,0,0,0,0,0,0,0,null,null,null,null,null,null,null,49,{"$f":"+INDEX($F215:$DJ215,1,Sheet3!$C$1)","v":49},{"$f":"+IF(Sheet3!$C$1=1,IF(DN215<3,0,1),1)","v":1}]
[2,1,"150",4,2,12,247305.16786797787,85.960000000000008,52.5,3142.03,0,6.03,16.350000000000001,0,0,0.14000000000000001,2.4500000000000002,28.550000000000004,38.47,0,0,0,85.960000000000008,40.840000000000003,81.680000000000007,10159.200000000003,10159.200000000003,10159.200000000003,0,0,0,0,0,0,0,0,0,0,0,0,16946.239999999998,15094.599999999999,0,0,15094.599999999999,1851.6400000000003,0,0,0,0,1760.94,0,0,0,0,0,0,0,0,0,0,0,0,0,0,0,0,90.7,27105.439999999999,null,0.7,null,null,9.26,3.6,2.89,1.94,2.06,2.71,62.05,null,null,null,null,null,null,null,0,0,0,0,0,0,0,0,4,11.36,0,0,0,0,0,0,0,0,0,0,0,0,null,null,null,null,null,null,null,12,{"$f":"+INDEX($F216:$DJ216,1,Sheet3!$C$1)","v":12},{"$f":"+IF(Sheet3!$C$1=1,IF(DN216<3,0,1),1)","v":1}]
[2,1,"150",4,3,1,24779.02,49.95,2.83,265.36,0,0.64,1.02,0,0,1.88,0,0.47,46.58,0,0,0,49.95,0,49.95,846.59,846.59,846.59,0,0,0,0,0,0,0,0,0,0,0,0,3669.4,3669.4,0,0,3669.4,0,0,0,0,0,0,0,0,0,0,0,0,0,0,0,0,0,0,0,0,0,0,0,4515.99,0.7,null,null,null,0.6,0.09,1.51,null,0.12,0.35,53.86,null,null,null,null,null,null,null,0,0,0,0,0,0,0,0,0,0,0,0,0,0,0,0,0,0,0,0,0,0,null,null,null,null,null,null,null,0,{"$f":"+INDEX($F217:$DJ217,1,Sheet3!$C$1)","v":1},{"$f":"+IF(Sheet3!$C$1=1,IF(DN217<3,0,1),1)","v":0}]
[2,1,"150",5,1,1,4810.84,1.81,1.7,181.98,0,0,0,0,0,0,0,1.81,0,0,0,0,1.81,1.68,0,846.59,846.59,846.59,0,0,0,0,0,0,0,0,0,0,0,0,628,0,0,0,0,628,0,0,0,0,0,0,0,0,0,628,0,0,0,0,0,0,0,0,0,0,0,0,1474.5900000000001,null,null,null,null,null,null,null,null,1.72,null,null,null,null,null,null,null,null,null,1,1.68,0,0,0,0,0,0,0,0,0,0,0,0,0,0,0,0,0,0,0,0,null,null,null,null,null,null,null,0,{"$f":"+INDEX($F218:$DJ218,1,Sheet3!$C$1)","v":1},{"$f":"+IF(Sheet3!$C$1=1,IF(DN218<3,0,1),1)","v":0}]
[2,1,"150",6,1,62,1206923.5968892775,162.07000000000008,138.57,9064.02,0,42.83,3.5,0,0,7.3,1.81,135.49,13.97,0.87,2.85,3.85,162.1700000000001,18.29,124.06,52337.070000000007,52337.070000000007,52337.070000000007,0,0,0,0,0,0,0,0,0,0,0,0,32681.239999999991,30034.039999999994,0,0,30034.039999999994,2647.2,0,0,0,0,1859.76,0,0,0,0,718.84,0,0,0,0,0,0,0,0,0,0,0,68.599999999999994,85018.309999999983,0.57999999999999996,null,null,null,2.12,5.38,3.37,47.6,1.98,5.92,57.68,null,null,null,5,1,7,1,1,2.76,0,0,0,0,0,0,6,11.76,0,0,0,0,0,0,0,0,0,0,0,0,null,null,null,null,null,null,null,62,{"$f":"+INDEX($F219:$DJ219,1,Sheet3!$C$1)","v":62},{"$f":"+IF(Sheet3!$C$1=1,IF(DN219<3,0,1),1)","v":1}]
[2,1,"150",6,2,46,9620380.7799201459,494.12,180.20999999999995,11117.519999999997,0,62.05,7.55,0,0,14.19,9.4700000000000006,358.93,103.98,3.1799999999999997,1.5,1.5,489.09,68.570000000000007,451.32,38449.939999999988,38449.939999999988,38449.939999999988,0,0,0,0,0,0,0,0,0,0,0,0,82252.329999999987,74795.589999999982,0,0,74795.589999999982,7456.7400000000007,0,0,0,0,1519.56,0,0,0,0,4970.78,0,0,0,0,0,0,0,0,0,0,0,966.4,120702.26999999999,2.38,null,null,null,6.72,12.61,2.52,137.25,2.95,12.29,234.53,null,null,null,6,1,7,null,1,9.02,0,0,0,0,0,0,5,9.3800000000000008,0,0,0,0,0,0,0,0,0,0,0,0,null,null,null,null,null,null,null,46,{"$f":"+INDEX($F220:$DJ220,1,Sheet3!$C$1)","v":46},{"$f":"+IF(Sheet3!$C$1=1,IF(DN220<3,0,1),1)","v":1}]
[2,1,"150",6,3,2,36062.050000000003,54.17,5.2299999999999995,312.12,0,0.68,0.33,0,0,0.49,0.34,51.6,1.41,0,0,0,53.41,0,51.64,1693.24,1693.24,1693.24,0,0,0,0,0,0,0,0,0,0,0,0,6118.4,6118.4,0,0,6118.4,0,0,0,0,0,0,0,0,0,0,0,0,0,0,0,0,0,0,0,0,0,0,0,7811.6399999999994,null,null,null,null,0.11,1.1200000000000001,null,0.54,null,null,0.23,null,null,null,null,null,null,null,0,0,0,0,0,0,0,0,0,0,0,0,0,0,0,0,0,0,0,0,0,0,null,null,null,null,null,null,null,0,{"$f":"+INDEX($F221:$DJ221,1,Sheet3!$C$1)","v":2},{"$f":"+IF(Sheet3!$C$1=1,IF(DN221<3,0,1),1)","v":0}]
[2,1,"150",7,1,6,1822.56,6.5699999999999994,6.3500000000000005,584.15,0,0,0,0,0,0.22,0,5.88,0.47,0,0,0,6.5699999999999994,0,5.3999999999999995,5079.6100000000006,5079.6100000000006,5079.6100000000006,0,0,0,0,0,0,0,0,0,0,0,0,1362.4,1362.4,0,0,1362.4,0,0,0,0,0,0,0,0,0,0,0,0,0,0,0,0,0,0,0,0,0,0,0,6442.01,null,null,null,null,0.06,0.43,null,null,null,5.8,0.2,null,null,null,null,null,null,null,0,0,0,0,0,0,0,0,0,0,0,0,0,0,0,0,0,0,0,0,0,0,null,null,null,null,null,null,null,6,{"$f":"+INDEX($F222:$DJ222,1,Sheet3!$C$1)","v":6},{"$f":"+IF(Sheet3!$C$1=1,IF(DN222<3,0,1),1)","v":1}]
[2,1,"150",8,1,241,1058998.4692600002,661.24999999999943,565.38999999999976,36405.84000000004,0,37.49,20.74,0,0,49.93,6.7,517.58999999999992,66.290000000000006,0.85,2.1,3.1,659.63999999999942,117.62,566.73,202759.52999999982,202759.52999999982,202759.52999999982,0,0,0,0,0,0,0,0,0,0,0,0,144563.53999999998,126288.93999999993,0,641.15,125647.78999999992,18274.600000000002,0,0,0,0,18238.2,0,0,0,0,0,0,0,0,0,0,0,0,0,0,0,0,36.4,347323.06999999989,6.25,null,null,null,12.17,53.31,14.48,20.079999999999998,6.83,54.99,162.5,null,null,null,7,3,3,null,0,0,0,0,0,0,0,0,65,114.45,0,0,0,0,0,0,0,0,0,0,0,0,null,null,null,null,null,null,null,241,{"$f":"+INDEX($F223:$DJ223,1,Sheet3!$C$1)","v":241},{"$f":"+IF(Sheet3!$C$1=1,IF(DN223<3,0,1),1)","v":1}]
[2,1,"150",8,2,97,1014460.537,825.46999999999957,541.53,32989.619999999988,0,26.48,25.07,0,0,56.61,19.18,528.94999999999993,195.66,0,0,0,802.65999999999951,105.89,746.51,82042.459999999977,82042.459999999977,82042.459999999977,0,0,0,0,0,0,0,0,0,0,0,0,149161.14000000001,133090.57999999999,0,0,133090.57999999999,16070.56,0,0,0,0,16070.56,0,0,0,0,0,0,0,0,0,0,0,0,0,0,0,0,0,231203.6,12.32,null,null,null,9.26,55.11,24.53,23.74,6.39,26.34,325.56,null,null,null,null,null,null,null,0,0,0,0,0,0,0,0,29,105.89,0,0,0,0,0,0,0,0,0,0,0,0,null,null,null,null,null,null,null,97,{"$f":"+INDEX($F224:$DJ224,1,Sheet3!$C$1)","v":97},{"$f":"+IF(Sheet3!$C$1=1,IF(DN224<3,0,1),1)","v":1}]
[2,1,"150",8,3,8,332500.26599999995,435.71999999999997,49.36,3020.4100000000003,0,0.43,1.89,0,0,1.3,6.5,203.04000000000002,222.99,0,0,0,370.43999999999994,77.759999999999991,413.17,6772.7800000000007,6772.7800000000007,6772.7800000000007,0,0,0,0,0,0,0,0,0,0,0,0,33197.33,29771.530000000002,0,433.7,29337.83,3425.8,0,0,0,0,1701,0,0,0,0,0,0,0,0,0,0,0,0,0,0,0,0,1724.8,39970.11,null,null,null,null,1.92,2,7.1,1.5,7.0000000000000007E-2,6.04,290.5,null,null,null,null,null,null,null,0,0,0,0,0,0,0,0,6,10.57,0,0,0,0,0,0,0,0,0,0,0,0,null,null,null,null,null,null,null,8,{"$f":"+INDEX($F225:$DJ225,1,Sheet3!$C$1)","v":8},{"$f":"+IF(Sheet3!$C$1=1,IF(DN225<3,0,1),1)","v":1}]
[2,1,"150",11,1,3,4137.51,4.0600000000000005,4.2700000000000005,310.08999999999997,0,0,0,0,0,0.53,0,0.51,3.02,0.88,3.75,8.75,3.72,0,3.99,2539.8000000000002,2539.8000000000002,2539.8000000000002,0,0,0,0,0,0,0,0,0,0,0,0,2133.6999999999998,2133.6999999999998,0,0,2133.6999999999998,0,0,0,0,0,0,0,0,0,0,0,0,0,0,0,0,0,0,0,0,0,0,0,4673.5,null,null,null,null,0.15,4.88,null,0.14000000000000001,0.04,0.3,5.43,null,null,null,26,1,null,null,0,0,0,0,0,0,0,0,0,0,0,0,0,0,0,0,0,0,0,0,0,0,null,null,null,null,null,null,null,3,{"$f":"+INDEX($F226:$DJ226,1,Sheet3!$C$1)","v":3},{"$f":"+IF(Sheet3!$C$1=1,IF(DN226<3,0,1),1)","v":1}]
[2,1,"150",11,2,2,7641.83,19.25,18.21,1086.76,0,0,1.59,0,0,6.85,0,1.24,9.57,0,0,6,19.25,0,19.25,1693.2,1693.2,1693.2,0,0,0,0,0,0,0,0,0,0,0,0,2569,2569,0,0,2569,0,0,0,0,0,0,0,0,0,0,0,0,0,0,0,0,0,0,0,0,0,0,0,4262.2,1.59,null,null,null,0.03,7.16,null,null,null,1.1299999999999999,19.829999999999998,null,null,null,null,null,null,null,0,0,0,0,0,0,0,0,0,0,0,0,0,0,0,0,0,0,0,0,0,0,null,null,null,null,null,null,null,0,{"$f":"+INDEX($F227:$DJ227,1,Sheet3!$C$1)","v":2},{"$f":"+IF(Sheet3!$C$1=1,IF(DN227<3,0,1),1)","v":0}]
[2,1,"150",12,1,5,12182.14,14.780000000000001,8.120000000000001,524.54999999999995,0,0.27,2.2599999999999998,0,0,3.96,0.04,3.1599999999999997,5.36,5.36,14.35,14.35,14.38,0,13.46,4233.04,4233.04,4233.04,0,0,0,0,0,0,0,0,0,0,0,0,3354.7,3354.7,0,0,3354.7,0,0,0,0,0,0,0,0,0,0,0,0,0,0,0,0,0,0,0,0,0,0,0,7587.74,1.03,0.61,null,null,0.1,3.92,0.56999999999999995,0.22,null,0.44,11.69,null,null,6,56,7,5,1,0,0,0,0,0,0,0,0,0,0,0,0,0,0,0,0,0,0,0,0,0,0,null,null,null,null,null,null,null,5,{"$f":"+INDEX($F228:$DJ228,1,Sheet3!$C$1)","v":5},{"$f":"+IF(Sheet3!$C$1=1,IF(DN228<3,0,1),1)","v":1}]
[2,1,"150",13,1,11,4559.53,22.25,18.29,1180.68,0,0,0.21,0,0,15.1,5.34,0.25,1.35,0,0,0,22.25,0,10.210000000000001,9312.630000000001,9312.630000000001,9312.630000000001,0,0,0,0,0,0,0,0,0,0,0,0,91,91,0,0,91,0,0,0,0,0,0,0,0,0,0,0,0,0,0,0,0,0,0,0,0,0,0,0,9403.630000000001,null,null,null,null,0.62,15.06,0.22,null,0.37,0.18,6.21,null,null,null,null,null,null,null,0,0,0,0,0,0,0,0,0,0,0,0,0,0,0,0,0,0,0,0,0,0,null,null,null,null,null,null,null,11,{"$f":"+INDEX($F229:$DJ229,1,Sheet3!$C$1)","v":11},{"$f":"+IF(Sheet3!$C$1=1,IF(DN229<3,0,1),1)","v":1}]
[2,1,"150",13,2,10,10492.5,104.66,87,5290.3499999999995,0,0,0,0,0,21.71,57.68,2.8100000000000005,22.46,0,0,0,102.03,0,43.07,8426.92,8426.92,8426.92,0,0,0,0,0,0,0,0,0,0,0,0,2115.1,2115.1,0,0,2115.1,0,0,0,0,0,0,0,0,0,0,0,0,0,0,0,0,0,0,0,0,0,0,0,10542.02,null,null,null,null,0.03,22.3,0.1,null,null,1.24,43.79,null,null,null,null,null,null,null,0,0,0,0,0,0,0,0,0,0,0,0,0,0,0,0,0,0,0,0,0,0,null,null,null,null,null,null,null,10,{"$f":"+INDEX($F230:$DJ230,1,Sheet3!$C$1)","v":10},{"$f":"+IF(Sheet3!$C$1=1,IF(DN230<3,0,1),1)","v":1}]
[2,1,"150",13,3,1,1247.44,37.96,0.72,72.69,0,0,0,0,0,1.51,0,0,36.450000000000003,0,0,0,37.96,0,37.96,846.58,846.58,846.58,0,0,0,0,0,0,0,0,0,0,0,0,0,0,0,0,0,0,null,null,null,null,null,null,null,null,null,null,null,null,null,null,null,null,null,null,null,null,null,null,846.58,null,null,null,null,null,1.51,null,null,null,null,42.44,null,null,null,null,null,null,null,0,0,0,0,0,0,0,0,0,0,0,0,0,0,0,0,0,0,0,0,0,0,null,null,null,null,null,null,null,0,{"$f":"+INDEX($F231:$DJ231,1,Sheet3!$C$1)","v":1},{"$f":"+IF(Sheet3!$C$1=1,IF(DN231<3,0,1),1)","v":0}]
[2,1,"16B",0,1,3,528346.03978522494,5.37,4.3099999999999996,357.71000000000004,0,0,0,0,0,4.8600000000000003,0,0.2,0.31,0.31,3.1500000000000004,614.35,5.33,0,0,2539.8000000000002,2539.8000000000002,2539.8000000000002,0,0,0,0,0,0,0,0,0,0,0,0,0,0,0,0,0,0,null,null,null,null,null,null,null,null,null,null,null,null,null,null,null,null,null,null,null,null,null,null,2539.8000000000002,null,null,null,null,null,4.41,null,null,null,0.2,1.51,null,null,null,13,1,null,null,0,0,0,0,0,0,0,0,0,0,0,0,0,0,0,0,0,0,0,0,0,0,null,null,null,null,null,null,null,3,{"$f":"+INDEX($F232:$DJ232,1,Sheet3!$C$1)","v":3},{"$f":"+IF(Sheet3!$C$1=1,IF(DN232<3,0,1),1)","v":1}]
[2,1,"16B","1_1",1,1,4914.0884588646832,1.4,1.19,287.02,0,0.65,0.65,0,0,0.75,0,0,0,0,0,0,1.4,0,0,846.61,846.61,846.61,0,0,0,0,0,0,0,0,0,0,0,0,0,0,0,0,0,0,null,null,null,null,null,null,null,null,null,null,null,null,null,null,null,null,null,null,null,null,null,null,846.61,null,null,null,null,null,null,null,null,null,null,null,null,null,null,null,null,null,null,0,0,0,0,0,0,0,0,0,0,0,0,0,0,0,0,0,0,0,0,0,0,null,null,null,null,null,null,null,0,{"$f":"+INDEX($F233:$DJ233,1,Sheet3!$C$1)","v":1},{"$f":"+IF(Sheet3!$C$1=1,IF(DN233<3,0,1),1)","v":0}]
[2,1,"16B","1_2",1,16,171896.93350559601,29.799999999999997,27.24,2213.61,0,0,16.899999999999999,0,0,6.96,0,0.67,5.27,0,0,0,29.68,0,2.0099999999999998,13545.570000000003,13545.570000000003,13545.570000000003,0,0,0,0,0,0,0,0,0,0,0,0,261.3,261.3,0,261.3,0,0,0,0,0,0,0,0,0,0,0,0,0,0,0,0,0,0,0,0,0,0,0,0,13806.870000000003,8.61,0.85,null,null,5.2,10.77,null,0.13,0.35,0.04,8.1,null,null,null,null,null,null,null,0,0,0,0,0,0,0,0,0,0,0,0,0,0,0,0,0,0,0,0,0,0,null,null,null,null,null,null,null,16,{"$f":"+INDEX($F234:$DJ234,1,Sheet3!$C$1)","v":16},{"$f":"+IF(Sheet3!$C$1=1,IF(DN234<3,0,1),1)","v":1}]
[2,1,"16B","1_2",2,1,2785.1319868121959,7.56,7.37,439.84,0,0,6.69,0,0,0.41,0,0.46,0,0,0,0,7.56,0,0,846.6,846.6,846.6,0,0,0,0,0,0,0,0,0,0,0,0,0,0,0,0,0,0,null,null,null,null,null,null,null,null,null,null,null,null,null,null,null,null,null,null,null,null,null,null,846.6,5.2,null,null,null,null,0.41,1.49,null,0.46,null,0.24,null,null,null,null,null,null,null,0,0,0,0,0,0,0,0,0,0,0,0,0,0,0,0,0,0,0,0,0,0,null,null,null,null,null,null,null,0,{"$f":"+INDEX($F235:$DJ235,1,Sheet3!$C$1)","v":1},{"$f":"+IF(Sheet3!$C$1=1,IF(DN235<3,0,1),1)","v":0}]
[2,1,"16B",3,1,1,27135.344627447441,3.59,3.1,185,0,0,2.99,0,0,0.6,0,0,0,0,0,0,3.59,0,0,846.62,846.62,846.62,0,0,0,0,0,0,0,0,0,0,0,0,0,0,0,0,0,0,null,null,null,null,null,null,null,null,null,null,null,null,null,null,null,null,null,null,null,null,null,null,846.62,null,null,null,null,2.99,0.6,null,null,null,null,0.05,null,null,null,null,null,null,null,0,0,0,0,0,0,0,0,0,0,0,0,0,0,0,0,0,0,0,0,0,0,null,null,null,null,null,null,null,0,{"$f":"+INDEX($F236:$DJ236,1,Sheet3!$C$1)","v":1},{"$f":"+IF(Sheet3!$C$1=1,IF(DN236<3,0,1),1)","v":0}]
[2,1,"16B",3,2,1,8302.644448415329,6.86,3.11,252.46,0,0,6.14,0,0,0,0.72,0,0,0,0,0,6.86,0,0,846.6,846.6,846.6,0,0,0,0,0,0,0,0,0,0,0,0,0,0,0,0,0,0,null,null,null,null,null,null,null,null,null,null,null,null,null,null,null,null,null,null,null,null,null,null,846.6,5.23,null,null,null,null,null,1.63,null,null,null,2.5099999999999998,null,null,null,null,null,null,null,0,0,0,0,0,0,0,0,0,0,0,0,0,0,0,0,0,0,0,0,0,0,null,null,null,null,null,null,null,0,{"$f":"+INDEX($F237:$DJ237,1,Sheet3!$C$1)","v":1},{"$f":"+IF(Sheet3!$C$1=1,IF(DN237<3,0,1),1)","v":0}]
[2,1,"16B",4,1,49,718019.00237969612,110.75999999999999,101.70999999999998,7143.7799999999979,0,19.43,80.53,0,0,12.55,6.01,3.8500000000000005,7.82,0.28000000000000003,3,3,110.75999999999999,1.03,0,41396.790000000008,41396.790000000008,41396.790000000008,0,0,0,0,0,0,0,0,0,0,0,0,618,0,0,0,0,618,0,0,0,0,0,0,0,0,0,618,0,0,0,0,0,0,0,0,0,0,0,0,42014.790000000008,14.31,4.87,null,null,53.25,16.899999999999999,8.06,1.38,1.54,0.22,12.79,null,null,null,16,1,8,1,1,1.03,0,0,0,0,0,0,0,0,0,0,0,0,0,0,0,0,0,0,0,0,null,null,null,null,null,null,null,49,{"$f":"+INDEX($F238:$DJ238,1,Sheet3!$C$1)","v":49},{"$f":"+IF(Sheet3!$C$1=1,IF(DN238<3,0,1),1)","v":1}]
[2,1,"16B",4,2,4,95368.185826019806,22.619999999999997,20.11,1208.33,0,1.34,14.21,0,0,6.31,0,0,2.1,0,0,0,22.379999999999995,0,0,3386.41,3386.41,3386.41,0,0,0,0,0,0,0,0,0,0,0,0,0,0,0,0,0,0,null,null,null,null,null,null,null,null,null,null,null,null,null,null,null,null,null,null,null,null,null,null,3386.41,4.8099999999999996,0.71,null,null,3.94,2.67,3.09,null,null,null,6.67,null,null,null,null,null,null,null,0,0,0,0,0,0,0,0,0,0,0,0,0,0,0,0,0,0,0,0,0,0,null,null,null,null,null,null,null,4,{"$f":"+INDEX($F239:$DJ239,1,Sheet3!$C$1)","v":4},{"$f":"+IF(Sheet3!$C$1=1,IF(DN239<3,0,1),1)","v":1}]
[2,1,"16B",5,1,12,77493.376542009442,35.809999999999995,30.25,2102.92,0,0,3.32,0,0,1.5,1.43,28.75,0.81,0.35,4.9499999999999993,4.9499999999999993,35.69,0,2.61,10159.26,10159.26,10159.26,0,0,0,0,0,0,0,0,0,0,0,0,339.3,339.3,0,339.3,0,0,0,0,0,0,0,0,0,0,0,0,0,0,0,0,0,0,0,0,0,0,0,0,10498.56,1.04,0.23,null,null,0.5,2.96,2.86,0.19,24.71,1.35,1.36,null,null,null,27,2,null,null,0,0,0,0,0,0,0,0,0,0,0,0,0,0,0,0,0,0,0,0,0,0,null,null,null,null,null,null,null,12,{"$f":"+INDEX($F240:$DJ240,1,Sheet3!$C$1)","v":12},{"$f":"+IF(Sheet3!$C$1=1,IF(DN240<3,0,1),1)","v":1}]
[2,1,"16B",5,2,8,211312.76041175396,91.580000000000013,69.75,4185.6500000000005,0,0,2.5,0,0,6.62,1.48,80.569999999999993,0.41,0,9.5500000000000007,9.5500000000000007,90.68,43.56,2.37,6772.7999999999993,6772.7999999999993,6772.7999999999993,0,0,0,0,0,0,0,0,0,0,0,0,9626.11,308.10000000000002,0,308.10000000000002,0,9318.01,0,0,0,0,0,0,0,0,0,9318.01,0,0,0,0,0,0,0,0,0,0,0,0,16398.91,0.8,null,null,null,0.5,10.039999999999999,1.62,0.25,74.150000000000006,0.26,2.31,1,2,3,13,null,null,null,5,43.56,0,0,0,0,0,0,0,0,0,0,0,0,0,0,0,0,0,0,0,0,null,null,null,null,null,null,null,8,{"$f":"+INDEX($F241:$DJ241,1,Sheet3!$C$1)","v":8},{"$f":"+IF(Sheet3!$C$1=1,IF(DN241<3,0,1),1)","v":1}]
[2,1,"16B",6,1,55,1149937.6808798204,149.42999999999992,128.75000000000003,8377.83,0,62.86,6.56,0,0,18.5,3.37,116.58999999999999,4.41,0.33,14.1,23.5,149.23999999999992,65.710000000000008,4.33,46433.21,46433.21,46433.21,0,0,0,0,0,0,0,0,0,0,0,0,38693.169999999991,562.9,562.9,0,0,38130.269999999997,0,0,0,0,0,67.2,0,0,0,38063.07,0,0,0,0,0,0,0,0,0,0,0,0,85126.38,3.69,0.08,null,null,0.88,24.9,0.44,98.24,6.8,1.82,3.78,null,null,null,80,8,8,null,26,65.709999999999994,0,0,0,0,0,0,0,0,0,0,1,0.64,0,0,0,0,0,0,0,0,null,null,null,null,null,null,null,55,{"$f":"+INDEX($F242:$DJ242,1,Sheet3!$C$1)","v":55},{"$f":"+IF(Sheet3!$C$1=1,IF(DN242<3,0,1),1)","v":1}]
[2,1,"16B",6,2,53,3785850.201589169,439.08000000000015,346.09000000000015,20690.929999999997,0,311.07,5.99,0,0,11.1,16.73,394.47,10.79,4.53,1.8,1.8,432.79000000000013,272.62,1.66,44830.960000000006,44830.960000000006,44830.960000000006,0,0,0,0,0,0,0,0,0,0,0,0,146664.73000000001,215.8,0,215.8,0,146448.93,0,0,0,0,0,863.1,0,0,0,145585.82999999999,0,0,0,0,0,0,0,0,0,0,0,0,191495.68999999997,3.58,null,null,null,0.62,22.29,12.17,354.18,22.29,1.1200000000000001,14.02,null,null,null,8,1,1,null,43,272.62,0,0,0,0,0,0,0,0,0,0,3,8.2200000000000006,0,0,0,0,0,0,0,0,null,null,null,null,null,null,null,53,{"$f":"+INDEX($F243:$DJ243,1,Sheet3!$C$1)","v":53},{"$f":"+IF(Sheet3!$C$1=1,IF(DN243<3,0,1),1)","v":1}]
[2,1,"16B",6,3,2,520231.05355321197,70.84,35.51,2119.23,0,29.98,0,0,0,0,5.09,65.33,0.42,0,0,0,70.84,44.89,0,1693.21,1693.21,1693.21,0,0,0,0,0,0,0,0,0,0,0,0,16212.669999999998,0,0,0,0,16212.669999999998,0,0,0,0,0,247.8,0,0,0,15964.87,0,0,0,0,0,0,0,0,0,0,0,0,17905.879999999997,null,null,null,null,null,null,5.38,47.89,19.57,0.77,0.13,null,null,null,null,null,null,null,2,44.89,0,0,0,0,0,0,0,0,0,0,1,2.36,0,0,0,0,0,0,0,0,null,null,null,null,null,null,null,0,{"$f":"+INDEX($F244:$DJ244,1,Sheet3!$C$1)","v":2},{"$f":"+IF(Sheet3!$C$1=1,IF(DN244<3,0,1),1)","v":0}]
[2,1,"16B",7,1,2,425,1.25,1.19,104.51,0,0,0,0,0,0,0,1.25,0,0,0,0,1.25,0,0,1693.19,1693.19,1693.19,0,0,0,0,0,0,0,0,0,0,0,0,0,0,0,0,0,0,null,null,null,null,null,null,null,null,null,null,null,null,null,null,null,null,null,null,null,null,null,null,1693.19,null,null,null,null,null,null,null,null,null,1.25,null,null,null,null,null,null,null,null,0,0,0,0,0,0,0,0,0,0,0,0,0,0,0,0,0,0,0,0,0,0,null,null,null,null,null,null,null,0,{"$f":"+INDEX($F245:$DJ245,1,Sheet3!$C$1)","v":2},{"$f":"+IF(Sheet3!$C$1=1,IF(DN245<3,0,1),1)","v":0}]
[2,1,"16B",8,1,69,449557.23505681334,171.33999999999997,144.75000000000003,10251.75,0,12.22,57.08,0,0,52.44,12.39,41.43,8,0,5.9999999999999991,5.9999999999999991,171.29999999999998,2.86,13.740000000000002,58164.049999999981,58164.049999999981,58164.049999999981,0,0,0,0,0,0,0,0,0,0,0,0,1775.4699999999998,1110.3699999999999,0,1110.3699999999999,0,665.1,0,0,0,0,0,0,0,0,0,665.1,0,0,0,0,0,0,0,0,0,0,0,0,59939.51999999999,23.09,5.59,null,null,18.09,51.51,11.96,13.76,17.260000000000002,4.7,13.44,null,null,2,39,7,null,null,1,2.86,0,0,0,0,0,0,0,0,0,0,0,0,0,0,0,0,0,0,0,0,null,null,null,null,null,null,null,69,{"$f":"+INDEX($F246:$DJ246,1,Sheet3!$C$1)","v":69},{"$f":"+IF(Sheet3!$C$1=1,IF(DN246<3,0,1),1)","v":1}]
[2,1,"16B",8,2,6,110097.2620890393,37.749999999999993,31.860000000000003,1933.6000000000001,0,6.52,18.18,0,0,14.93,0,4.6399999999999997,0,0,0,0,37.749999999999993,10.42,0,5079.6200000000008,5079.6200000000008,5079.6200000000008,0,0,0,0,0,0,0,0,0,0,0,0,2100,0,0,0,0,2100,0,2100,0,0,0,0,0,0,0,0,0,0,0,0,0,0,0,0,0,0,0,0,7179.6200000000008,6.71,0.8,null,null,7.37,16.670000000000002,null,0.37,1.44,null,0.51,null,null,null,null,null,null,null,0,0,0,0,1,10.42,0,0,0,0,0,0,0,0,0,0,0,0,0,0,0,0,null,null,null,null,null,null,null,6,{"$f":"+INDEX($F247:$DJ247,1,Sheet3!$C$1)","v":6},{"$f":"+IF(Sheet3!$C$1=1,IF(DN247<3,0,1),1)","v":1}]
[2,1,"16B","10_1",1,11,78896.677086091106,12.02,9.5,1336.71,0,0,0.1,0,0,8.75,0,2.13,1.04,1.04,73.95,73.95,12.02,0,0,9265.0300000000007,9265.0300000000007,9265.0300000000007,0,0,0,0,0,0,0,0,0,0,0,0,0,0,0,0,0,0,null,null,null,null,null,null,null,null,null,null,null,null,null,null,null,null,null,null,null,null,null,null,9265.0300000000007,0.98,null,null,null,0.27,7.5,null,null,1.27,null,1.54,null,10,136,8,null,2,null,0,0,0,0,0,0,0,0,0,0,0,0,0,0,0,0,0,0,0,0,0,0,null,null,null,null,null,null,null,11,{"$f":"+INDEX($F248:$DJ248,1,Sheet3!$C$1)","v":11},{"$f":"+IF(Sheet3!$C$1=1,IF(DN248<3,0,1),1)","v":1}]
[2,1,"16B","10_2",1,1,2010.3929015184963,2.0699999999999998,0.5,77.47,0,0,0,0,0,2.0699999999999998,0,0,0,0,1.6,1.6,2.0699999999999998,0,0,846.62,846.62,846.62,0,0,0,0,0,0,0,0,0,0,0,0,0,0,0,0,0,0,null,null,null,null,null,null,null,null,null,null,null,null,null,null,null,null,null,null,null,null,null,null,846.62,null,null,null,null,null,2.0699999999999998,null,null,null,null,0.69,null,null,2,null,null,null,null,0,0,0,0,0,0,0,0,0,0,0,0,0,0,0,0,0,0,0,0,0,0,null,null,null,null,null,null,null,0,{"$f":"+INDEX($F249:$DJ249,1,Sheet3!$C$1)","v":1},{"$f":"+IF(Sheet3!$C$1=1,IF(DN249<3,0,1),1)","v":0}]
[2,1,"16B",11,1,35,60024.152510098633,55.240000000000009,43.160000000000004,3697.0399999999995,0,0,3.9,0,0,39.22,0,1.27,10.85,10.530000000000003,81.399999999999991,81.7,55.20000000000001,0,0,29630.949999999997,29630.949999999997,29630.949999999997,0,0,0,0,0,0,0,0,0,0,0,0,0,0,0,0,0,0,null,null,null,null,null,null,null,null,null,null,null,null,null,null,null,null,null,null,null,null,null,null,29630.949999999997,0.95,0.66,null,null,null,41.21,null,0.03,0.59,0.39,13.7,null,null,8,375,46,64,21,0,0,0,0,0,0,0,0,0,0,0,0,0,0,0,0,0,0,0,0,0,0,null,null,null,null,null,null,null,35,{"$f":"+INDEX($F250:$DJ250,1,Sheet3!$C$1)","v":35},{"$f":"+IF(Sheet3!$C$1=1,IF(DN250<3,0,1),1)","v":1}]
[2,1,"16D",0,1,7,52488.064868018831,5.87,5.7,966.8,0,2.3199999999999998,4.03,0,0,1.51,0,0.29000000000000004,0.04,0.04,0.75,35.049999999999997,5.87,0,1.99,5887.0300000000007,5887.0300000000007,5887.0300000000007,0,0,0,0,0,0,0,0,0,0,0,0,517.4,517.4,0,0,517.4,0,0,0,0,0,0,0,0,0,0,0,0,0,0,0,0,0,0,0,0,0,0,0,6404.43,null,3.68,null,null,0.21,1.65,null,0.03,0.26,null,0.04,null,null,null,null,null,3,null,0,0,0,0,0,0,0,0,0,0,0,0,0,0,0,0,0,0,0,0,0,0,null,null,null,null,null,null,null,7,{"$f":"+INDEX($F258:$DJ258,1,Sheet3!$C$1)","v":7},{"$f":"+IF(Sheet3!$C$1=1,IF(DN258<3,0,1),1)","v":1}]
[2,1,"16E",8,1,1080,2419470.6197015066,1660.0399999999993,1497.6799999999985,143422.56000000014,0,366.32,437.91,0,0,323.91000000000003,61.39,779.85,56.98,7.1199999999999992,71.84999999999998,98.84999999999998,1655.0399999999995,52.11,634.76999999999975,910461.74999998778,910461.74999998778,910461.74999998778,0,0,0,0,0,0,0,0,0,0,0,0,110828.73999999996,101357.85999999996,25093.579999999998,16253.730000000007,60010.550000000025,9470.880000000001,0,0,0,0,6301.7,0,0,31.8,0,3137.38,0,0,0,0,0,0,0,0,0,0,0,0,1021290.4899999892,85.78,213.23,1,1.1599999999999999,99.3,306.19,111.01,39.200000000000003,214.73,447.87,68.61,null,1,23,262,44,166,20,4,10.86,0,0,0,0,0,0,51,40.72,0,0,0,0,0,0,0,0,0,0,0,0,null,null,null,null,null,null,null,1080,{"$f":"+INDEX($F292:$DJ292,1,Sheet3!$C$1)","v":1080},{"$f":"+IF(Sheet3!$C$1=1,IF(DN292<3,0,1),1)","v":1}]
[2,1,"16G",9,1,12,57479.092626829872,21.245000000000001,15.57,1563.0800000000002,0,11.7,5.14,0,0,10.3,0,0.56000000000000005,7.24,7.24,23.25,23.25,19.25,0,21.24,10159.780000000001,10159.780000000001,10159.780000000001,0,0,0,0,0,0,0,0,0,0,0,0,4493.8999999999996,4493.8999999999996,0,258.7,4235.2,0,0,0,0,0,0,0,0,0,0,0,0,0,0,0,0,0,0,0,0,0,0,0,14653.68,null,4.32,null,null,1.07,10.36,null,null,null,0.14000000000000001,7.28,13,4,12,null,null,6,1,0,0,0,0,0,0,0,0,0,0,0,0,0,0,0,0,0,0,0,0,0,0,null,null,null,null,null,null,null,12,{"$f":"+INDEX($F341:$DJ341,1,Sheet3!$C$1)","v":12},{"$f":"+IF(Sheet3!$C$1=1,IF(DN341<3,0,1),1)","v":1}]
[2,1,"16H",6,2,9,1145314.9608228833,78.959999999999994,61.52,3671.48,0,8.86,7.0000000000000007E-2,0,0,1.54,0.22,63.1,14.03,2.31,1.35,1.35,70.949999999999989,11.389999999999999,64.149999999999991,7619.43,7619.43,7619.43,0,0,0,0,0,0,0,0,0,0,0,0,13267.14,11587.199999999999,0,1745.9999999999998,9841.1999999999989,1679.9399999999998,0,0,0,0,1679.94,0,0,0,0,0,0,0,0,0,0,0,0,0,0,0,0,0,20886.57,null,null,null,null,7.0000000000000007E-2,1.69,0.3,31.18,2.9,20.010000000000002,23.46,null,null,null,null,null,9,null,0,0,0,0,0,0,0,0,4,10.37,0,0,0,0,0,0,0,0,0,0,0,0,null,null,null,null,null,null,null,9,{"$f":"+INDEX($F358:$DJ358,1,Sheet3!$C$1)","v":9},{"$f":"+IF(Sheet3!$C$1=1,IF(DN358<3,0,1),1)","v":1}]
[2,1,"16J",7,2,8,21979.676814116476,64.2,46.949999999999996,2919.36,0,12.57,0.31,0,0,0,0.26,54.359999999999992,9.27,0,0,0,64.2,29.46,61.019999999999996,6772.7800000000007,6772.7800000000007,6772.7800000000007,0,0,0,0,0,0,0,0,0,0,0,0,18612.179999999997,11595.1,0,0,11595.1,7017.08,0,1280,0,0,2183.7600000000002,432.6,0,0,0,3120.72,0,0,0,0,0,0,0,0,0,0,0,0,25384.959999999999,9.5500000000000007,null,null,null,0.13,2.65,0.6,0.59,null,37.21,3.78,null,null,null,null,null,null,null,2,15.98,0,0,1,4.12,0,0,4,13.48,0,0,1,4.12,0,0,0,0,0,0,0,0,null,null,null,null,null,null,null,8,{"$f":"+INDEX($F407:$DJ407,1,Sheet3!$C$1)","v":8},{"$f":"+IF(Sheet3!$C$1=1,IF(DN407<3,0,1),1)","v":1}]
[2,1,"16J",8,3,1,10416.803229656553,73.11,16.87,1006.8,0,0.64,8.91,0,0,0.88,19.579999999999998,0,43.74,0,0,0,28.41,0,8.91,846.61,846.61,846.61,0,0,0,0,0,0,0,0,0,0,0,0,1902.9,1902.9,0,0,1902.9,0,0,0,0,0,0,0,0,0,0,0,0,0,0,0,0,0,0,0,0,0,0,0,2749.51,3.73,null,null,null,0.64,5.5,null,null,null,null,43.74,null,null,null,null,null,null,null,0,0,0,0,0,0,0,0,0,0,0,0,0,0,0,0,0,0,0,0,0,0,null,null,null,null,null,null,null,0,{"$f":"+INDEX($F410:$DJ410,1,Sheet3!$C$1)","v":1},{"$f":"+IF(Sheet3!$C$1=1,IF(DN410<3,0,1),1)","v":0}]
[2,1,"184",11,2,4,13601.73138882783,28.080000000000002,21.35,1274.1500000000001,0,0,0,0,0,13.85,3.62,3.67,6.94,6.9399999999999995,12.3,12.3,28.080000000000002,5.37,16.560000000000002,3386.44,3386.44,3386.44,0,0,0,0,0,0,0,0,0,0,0,0,2227.3500000000004,2012.5500000000002,0,1651.15,361.4,214.8,0,0,0,0,0,0,0,0,0,0,0,0,0,0,0,0,0,0,0,0,0,214.8,5613.79,2.67,null,null,null,null,18.57,null,0.14000000000000001,null,3.53,1.59,null,null,null,66,6,1,null,0,0,0,0,0,0,0,0,0,0,0,0,0,0,0,0,0,0,0,0,0,0,null,null,null,null,null,null,null,4,{"$f":"+INDEX($F472:$DJ472,1,Sheet3!$C$1)","v":4},{"$f":"+IF(Sheet3!$C$1=1,IF(DN472<3,0,1),1)","v":1}]
[2,1,"185",6,1,29,152011.0823553676,48.970000000000013,45.45,3324.6299999999997,0,10.31,2.11,0,0,10.51,0.13,28,8.2200000000000006,2.2400000000000002,2.4,2.4,48.970000000000013,4.54,0,24512.390000000003,24512.390000000003,24512.390000000003,0,0,0,0,0,0,0,0,0,0,0,0,735.48,0,0,0,0,735.48,0,0,0,0,735.48,0,0,0,0,0,0,0,0,0,0,0,0,0,0,0,0,0,25247.870000000003,2.68,null,null,null,0.59,14.19,0.13,10.8,0.39,11.31,2.73,null,null,null,17,2,null,null,0,0,0,0,0,0,0,0,5,4.54,0,0,0,0,0,0,0,0,0,0,0,0,null,null,null,null,null,null,null,29,{"$f":"+INDEX($F489:$DJ489,1,Sheet3!$C$1)","v":29},{"$f":"+IF(Sheet3!$C$1=1,IF(DN489<3,0,1),1)","v":1}]
[2,1,"186","1_2",2,1,1349.3716505063703,7.48,6.76,403.43,0,0,2.46,0,0,0,4.28,0.74,0,0,0,0,7.48,0.68,7.48,846.58,846.58,846.58,0,0,0,0,0,0,0,0,0,0,0,0,931.27,815.6,0,815.6,0,115.67,0,0,0,0,115.67,0,0,0,0,0,0,0,0,0,0,0,0,0,0,0,0,0,1777.85,2.92,null,null,null,null,3.79,0.03,null,null,0.74,null,null,null,null,null,null,null,null,0,0,0,0,0,0,0,0,1,0.68,0,0,0,0,0,0,0,0,0,0,0,0,null,null,null,null,null,null,null,0,{"$f":"+INDEX($F506:$DJ506,1,Sheet3!$C$1)","v":1},{"$f":"+IF(Sheet3!$C$1=1,IF(DN506<3,0,1),1)","v":0}]
[2,2,"111",4,2,5,248584.64775299054,37.369999999999997,32.67,3390.67,0,18.91,9.5299999999999994,0,0,17.62,2.0699999999999998,5.54,2.61,0.78,27.1,27.1,37.369999999999997,6.55,36.090000000000003,11269.149999999998,5680.5099999999993,0,3263.7999999999997,3263.7999999999997,0,2416.71,3050.37,2538.27,1290.48,1247.79,0,0,0,0,9791.7999999999993,6711.2999999999993,0,0,6711.2999999999993,3080.5,0,2484,0,0,0,0,0,0,0,596.5,0,0,0,0,0,0,0,0,0,0,0,0,21060.95,null,0.71,null,null,5.9,20.079999999999998,2.0299999999999998,0.9,3.83,null,2.75,1,10,18,48,10,null,null,1,1.54,0,0,1,5.01,0,0,0,0,0,0,0,0,0,0,0,0,0,0,0,0,null,null,null,null,null,null,null,5,{"$f":"+INDEX($F555:$DJ555,1,Sheet3!$C$1)","v":5},{"$f":"+IF(Sheet3!$C$1=1,IF(DN555<3,0,1),1)","v":1}]
[2,2,"111","10_2",2,325,4369355.5034745969,3422.1799999999967,2281.3899999999976,389464.24999999994,0,606.54,68.59,0,0,354.22,0.51,4.54,5533.52,5259.3899999999958,3098.5499999999997,3237.55,5811.5899999999983,895.98000000000013,5992.9299999999976,1059852.2399999993,637070.24,0,367144.31000000029,367144.31000000029,0,269925.93,157891.80999999982,264890.18999999989,261002.89999999988,3887.29,0,0,0,0,868619.45999999961,624842.24999999988,0,0,624842.24999999988,243777.21,0,49558.91,0,0,0,0,0,0,0,1280.75,0,16144.8,9964.7800000000007,0,0,9846.2000000000007,0,0,156981.76999999999,0,0,0,1928471.7000000011,6.83,59.9,null,null,10.97,472.24,0.37,2.37,31.79,1.32,5403.39,20,2382,1359,377,50,146,18,2,20.28,0,0,10,281.29000000000002,0,0,0,0,0,0,0,0,0,0,37,52.94,0,0,21,426.24,null,null,null,null,null,null,null,325,{"$f":"+INDEX($F572:$DJ572,1,Sheet3!$C$1)","v":325},{"$f":"+IF(Sheet3!$C$1=1,IF(DN572<3,0,1),1)","v":1}]
[2,2,"119",5,3,7,668053.95749686367,312.54000000000002,231.71000000000004,20996.650000000005,0,10.86,4.8099999999999996,0,0,16.48,2.91,288.24,0.1,0,3.6,3.6,309.77,136.66,106.26,39564.69,34803.81,0,20061.86,20061.86,0,14741.949999999999,4239.08,521.79999999999995,0,521.79999999999995,0,0,0,0,38073.439999999995,10097.5,0,188.5,9909,27975.94,0,0,0,0,0,6410.02,0,0,0,21565.919999999998,0,0,0,0,0,0,0,0,0,0,0,0,77638.13,null,1.1100000000000001,null,null,0.39,21.32,2.88,0.87,221.89,1.41,4.25,null,null,null,23,1,null,null,6,136.66,0,0,0,0,0,0,0,0,0,0,4,65.06,0,0,0,0,0,0,0,0,null,null,null,null,null,null,null,7,{"$f":"+INDEX($F626:$DJ626,1,Sheet3!$C$1)","v":7},{"$f":"+IF(Sheet3!$C$1=1,IF(DN626<3,0,1),1)","v":1}]
[2,2,"119","10_1",1,238,1850613.5476793121,615.11500000000035,640.7399999999999,164708.56999999992,0,504.88,69.91,0,0,420.75,7.0000000000000007E-2,35.91999999999998,97.09,97.089999999999989,1900.599999999999,1900.599999999999,623.82000000000039,23.82,303.58999999999997,448941.39000000007,266343.71999999997,0,152693.33999999988,152693.33999999988,0,113650.37999999996,72124.86,110472.81000000004,109093.44000000003,729.74,649.63,0,0,0,106877.7,75311.190000000017,0,0,75311.190000000017,31566.510000000002,0,0,0,0,0,0,0,0,0,0,0,0,3480.16,0,0,532,0,0,27554.35,0,0,0,555819.0900000002,4.5999999999999996,78.709999999999994,null,null,12.57,449.79,3.61,3.21,28.18,2.88,222.58,77,897,1496,61,11,25,4,0,0,0,0,0,0,0,0,0,0,0,0,0,0,0,0,13,19.97,0,0,1,7.1,null,null,null,null,null,null,null,238,{"$f":"+INDEX($F637:$DJ637,1,Sheet3!$C$1)","v":238},{"$f":"+IF(Sheet3!$C$1=1,IF(DN637<3,0,1),1)","v":1}]
[2,2,"11B",0,1,8,119788.45052796845,18.689999999999998,23.67,1904.9699999999998,0,3.25,9.23,0,0,0.64,1.68,1.24,7.14,2.85,1.6,83.6,20.450000000000003,0,20.450000000000003,6008.38,3209.79,0,1868.14,1799.1899999999998,68.95,1341.65,2798.59,0,0,0,0,0,0,0,10245.9,7845.9000000000005,0,0,7845.9000000000005,2400,0,0,0,0,0,0,0,0,0,0,0,0,0,0,0,0,0,0,2400,0,0,0,16254.28,4.92,5.44,null,null,1.36,1.84,1.32,null,0.45,0.22,13.23,null,null,1,null,null,null,null,0,0,0,0,0,0,0,0,0,0,0,0,0,0,0,0,0,0,0,0,0,0,null,null,null,null,null,null,null,8,{"$f":"+INDEX($F686:$DJ686,1,Sheet3!$C$1)","v":8},{"$f":"+IF(Sheet3!$C$1=1,IF(DN686<3,0,1),1)","v":1}]
[2,2,"11B",7,1,72,44049.915027894713,154.07,146.02999999999997,15756.099999999999,0,4.96,5.12,0,0,1.01,7.71,137.23999999999998,2.99,0,0,1,153.91999999999999,33.03,146.66000000000003,41639.170000000006,24950.079999999991,0,14295.6,14295.6,0,10654.479999999996,16689.090000000007,0,0,0,0,0,0,0,42710.12999999999,35025.629999999997,0,0,35025.629999999997,7684.5,0,0,0,0,4173.5200000000004,0,0,0,0,3510.98,0,0,0,0,0,0,0,0,0,0,0,0,84349.299999999945,1.39,0.17,null,null,1.44,2.17,7.9,null,2.92,124.05,18.329999999999998,null,null,null,null,null,null,null,5,13.13,0,0,0,0,0,0,19,24.71,0,0,0,0,0,0,0,0,0,0,0,0,null,null,null,null,null,null,null,72,{"$f":"+INDEX($F703:$DJ703,1,Sheet3!$C$1)","v":72},{"$f":"+IF(Sheet3!$C$1=1,IF(DN703<3,0,1),1)","v":1}]
[2,2,"11C","10_1",2,74,1876719.6952962684,687.37000000000012,577.6400000000001,140578.66,0,519.57000000000005,64.03,0,0,298.52999999999997,0.1,45.790000000000006,352.52,352.52,2037.8999999999996,2040.8999999999996,724.2600000000001,196.61,587.17000000000007,390145.48000000004,228756.61999999997,0,131803.59,131567.27999999997,236.31,96953.030000000028,40673.240000000013,120715.62000000002,115554.37000000002,3492.74,1668.51,0,0,0,181086.97,95373.78,0,0,95373.78,85713.190000000017,0,0,0,0,0,0,0,0,0,1992.8,0,0,15226.54,0,0,4900,0,0,63500.45,0,0,93.4,571232.44999999995,25.22,31.96,null,null,6.12,320.47000000000003,11.19,5.48,30.94,2.8,495.19,44,907,1669,170,9,79,9,2,9.19,0,0,0,0,0,0,0,0,0,0,0,0,0,0,23,89.25,0,0,8,105.4,null,null,null,null,null,null,null,74,{"$f":"+INDEX($F752:$DJ752,1,Sheet3!$C$1)","v":74},{"$f":"+IF(Sheet3!$C$1=1,IF(DN752<3,0,1),1)","v":1}]
[2,2,"11D","1_1",1,17,313579.53159135312,34.335000000000001,34.53,5562.3,0,23.78,19.96,0,0,2.86,0.44,2.52,9.02,1.31,0.6,0.6,34.79,4.8600000000000003,33.469999999999992,13194.329999999998,9086.5799999999981,0,5205.07,5205.07,0,3881.5100000000007,4107.7499999999991,0,0,0,0,0,0,0,8765.8000000000011,6077.8,0,0,6077.8,2688,0,2688,0,0,0,0,0,0,0,0,0,0,0,0,0,0,0,0,0,0,0,0,21960.129999999997,4.54,6.28,null,null,7.15,5.38,0.02,0.05,0.55000000000000004,0.23,29.48,null,3,2,null,null,null,null,0,0,0,0,1,4.4800000000000004,0,0,0,0,0,0,0,0,0,0,0,0,0,0,0,0,null,null,null,null,null,null,null,17,{"$f":"+INDEX($F769:$DJ769,1,Sheet3!$C$1)","v":17},{"$f":"+IF(Sheet3!$C$1=1,IF(DN769<3,0,1),1)","v":1}]
[2,2,"11D",15,1,20,38306.141721215776,36.349999999999994,37.880000000000003,3019.9600000000005,0,9.56,15.99,0,0,2.82,0.6,9.9099999999999984,7.03,0.9,0.45,0.45,36.289999999999992,0,35.639999999999986,8901.66,4693.26,0,2689.6099999999997,2689.6099999999997,0,2003.6499999999999,4208.3999999999996,0,0,0,0,0,0,0,7012.2000000000007,7012.2000000000007,0,0,7012.2000000000007,0,0,0,0,0,0,0,0,0,0,0,0,0,0,0,0,0,0,0,0,0,0,0,15913.86,2.9,0.04,null,null,12.58,3.26,1.37,0.06,3.42,5.89,20.13,null,1,null,null,null,2,1,0,0,0,0,0,0,0,0,0,0,0,0,0,0,0,0,0,0,0,0,0,0,null,null,null,null,null,null,null,20,{"$f":"+INDEX($F807:$DJ807,1,Sheet3!$C$1)","v":20},{"$f":"+IF(Sheet3!$C$1=1,IF(DN807<3,0,1),1)","v":1}]
[2,2,"11E",8,2,3959,23857154.888448175,43193.274999999965,39654.790000000052,3466798.8899999992,0,1088.52,5343.62,0,0,1112.33,5976.04,25176.204999999991,5585.14,903.84000000000049,1522.1000000000001,1976.9000000000003,42787.149999999958,12166.050000000007,40916.309999999947,8231018.6100000078,5679635.9299999876,0,3267157.9300000011,3255669.870000001,11488.06,2412477.9999999986,2383806.1300001014,167576.5499999997,51084.890000000036,116491.65999999997,0,0,0,0,9655001.3400000073,7051302.3399999887,0,0,7051302.3399999887,2603699.0000000005,29301.05,486001.72,0,23259.13,903480.77,43397.55,0,0,9991.5,1014129.05,0,0,6222.98,12301.78,0,9135,0,0,13090.37,17671.439999999999,478.66,35238,17886019.949999996,3163.88,598.45000000000005,null,7.49,1039.3499999999999,1280.27,6198.07,465.21,1718.94,12666.49,13562.3,11,499,404,5928,546,841,93,589,4875.18,16,143.59,156,1443.91,1,5.53,2008,5738.25,0,0,51,423.74,71,160.85,19,33.65,0,0,23,84.15,null,null,null,null,null,null,null,3959,{"$f":"+INDEX($F834:$DJ834,1,Sheet3!$C$1)","v":3959},{"$f":"+IF(Sheet3!$C$1=1,IF(DN834<3,0,1),1)","v":1}]
[2,2,"150",8,3,80,3169984.5786791244,4035.619999999999,3250.3100000000013,249820.8300000001,0,187.56,193.05,0,0,382.16,269.64,1652.8500000000006,1537.92,166.67999999999998,269.3,269.3,3954.0699999999983,501.68,3001.639999999999,487674.32999999996,411120.74000000005,0,239594.09000000005,234270.81000000006,5323.28,171526.65,48078.710000000006,28474.880000000001,15191.28,13283.599999999999,0,0,0,0,229603.4,185241.86,0,8497.5300000000007,176744.33,44361.539999999994,0,0,0,0,26911.599999999999,0,0,0,0,8533.1200000000008,0,0,0,0,0,0,0,0,2220,0,0,6696.82,717277.73,80.5,0.5,null,null,10.85,594.16,74.489999999999995,130.09,89.07,77.239999999999995,2111.98,2,133,65,507,28,91,3,2,19.84,0,0,0,0,0,0,13,230.71,0,0,0,0,0,0,0,0,0,0,0,0,null,null,null,null,null,null,null,80,{"$f":"+INDEX($F883:$DJ883,1,Sheet3!$C$1)","v":80},{"$f":"+IF(Sheet3!$C$1=1,IF(DN883<3,0,1),1)","v":1}]
[2,2,"150",12,4,4,901376.84797966143,1443.9799999999998,1354,100894.44,0,55.82,85.81,0,0,309.95999999999998,108.2,227.35000000000002,712.66,678.75,919.5,919.5,1239.98,471.12,1244.3900000000001,237828.12999999998,139234.9,0,79798.94,79798.94,0,59435.96,2398,96195.23,71438.22,24757.010000000002,0,0,0,0,79434.509999999995,28059.58,0,7685.58,20374,51374.93,0,29975.14,0,0,926.64,750.75,0,0,0,0,0,0,0,0,0,0,0,0,13095,0,0,6627.4,317262.64,77.28,null,null,null,1.21,204.77,45.7,40.64,0.16,1.36,1209.25,1,568,298,1223,50,null,null,0,0,0,0,1,380.92,0,0,1,5.72,0,0,1,7.15,0,0,0,0,0,0,0,0,null,null,null,null,null,null,null,4,{"$f":"+INDEX($F900:$DJ900,1,Sheet3!$C$1)","v":4},{"$f":"+IF(Sheet3!$C$1=1,IF(DN900<3,0,1),1)","v":1}]
[2,2,"16B",14,3,2,358583.72009117005,101.72999999999999,98.43,53672.19,0,37.130000000000003,60.52,0,0,15.85,8.68,7.41,9.27,0,0,0,101.72999999999999,0,0,97547.670000000013,88119.540000000008,0,50502.69,50502.69,0,37616.85,1199,8229.1299999999992,0,0,0,0,8229.1299999999992,0,0,0,0,0,0,0,null,null,null,null,null,null,null,null,null,null,null,null,null,null,null,null,null,null,null,null,null,null,97547.670000000013,26.62,null,null,null,57.04,13.66,7.85,0.59,null,7.06,4.2699999999999996,null,null,null,null,null,null,null,0,0,0,0,0,0,0,0,0,0,0,0,0,0,0,0,0,0,0,0,0,0,null,null,null,null,null,null,null,0,{"$f":"+INDEX($F949:$DJ949,1,Sheet3!$C$1)","v":2},{"$f":"+IF(Sheet3!$C$1=1,IF(DN949<3,0,1),1)","v":0}]
[2,2,"16D",5,2,8,128200.90403081954,79.010000000000019,73.2,5156.5000000000009,0,1.48,3.36,0,0,3.4,0,72.25,0,0,0,0,79.010000000000019,48.6,0,13464.73,8573.39,0,4917.3599999999997,4917.3599999999997,0,3656.03,4891.34,0,0,0,0,0,0,0,11193.67,0,0,0,0,11193.67,0,0,0,0,0,1839.07,0,0,0,9354.6,0,0,0,0,0,0,0,0,0,0,0,0,24658.399999999998,2.4300000000000002,1.5,null,0.01,null,1.97,0.64,0.09,69.72,0.04,2.1,null,null,null,null,null,null,null,5,48.6,0,0,0,0,0,0,0,0,0,0,2,22.78,0,0,0,0,0,0,0,0,null,null,null,null,null,null,null,8,{"$f":"+INDEX($F966:$DJ966,1,Sheet3!$C$1)","v":8},{"$f":"+IF(Sheet3!$C$1=1,IF(DN966<3,0,1),1)","v":1}]
[2,2,"16D",13,3,3,123177.18840196877,96.12,89.24,22207.67,0,41.46,1.81,0,0,88.88,5.43,0,0,0,0,0,96.12,0,0,37685.410000000003,35886.910000000003,0,20574.77,20574.77,0,15312.140000000001,1798.5,0,0,0,0,0,0,0,0,0,0,0,0,0,null,null,null,null,null,null,null,null,null,null,null,null,null,null,null,null,null,null,null,null,null,null,37685.410000000003,null,null,null,null,3.02,88.62,3.47,null,null,null,0.16,null,null,10,null,null,null,null,0,0,0,0,0,0,0,0,0,0,0,0,0,0,0,0,0,0,0,0,0,0,null,null,null,null,null,null,null,3,{"$f":"+INDEX($F988:$DJ988,1,Sheet3!$C$1)","v":3},{"$f":"+IF(Sheet3!$C$1=1,IF(DN988<3,0,1),1)","v":1}]
[2,2,"16E",11,2,80,1278204.5729320163,828.30000000000052,744.15000000000009,87258.569999999978,0,246.81,11.07,0,0,411.63,1.71,84.81,327.02999999999997,311.45999999999998,1181.8499999999999,1182.1499999999999,814.68000000000029,26.460000000000004,732.37000000000023,328774.98999999993,139800.62999999995,0,80347.48000000001,79995.16,352.32,59453.149999999987,44999.73,143974.63000000003,1049.27,142925.36000000004,0,0,0,0,95065.729999999981,76291.170000000042,6097.56,44858.010000000009,25335.599999999999,18774.560000000005,0,0,0,0,972,0,0,0,0,0,0,0,0,0,0,0,0,0,17395.96,0,0,406.6,423840.72000000003,12.22,5.98,null,0.1,2.5099999999999998,528.29,0.05,1.88,3.81,81.790000000000006,393.55,null,15,40,5884,396,972,73,0,0,0,0,0,0,0,0,8,6.13,0,0,0,0,0,0,0,0,0,0,0,0,null,null,null,null,null,null,null,80,{"$f":"+INDEX($F1031:$DJ1031,1,Sheet3!$C$1)","v":80},{"$f":"+IF(Sheet3!$C$1=1,IF(DN1031<3,0,1),1)","v":1}]
[2,2,"16F","1_2",3,1,46852.26378808383,57.23,54.05,9950.06,0,14.91,12.22,0,0,34.450000000000003,7.8,1.37,1.39,0,0,0,57.23,0,0,16982.97,16383.470000000001,0,9409.84,9409.84,0,6973.63,599.5,0,0,0,0,0,0,0,0,0,0,0,0,0,null,null,null,null,null,null,null,null,null,null,null,null,null,null,null,null,null,null,null,null,null,null,16982.97,null,0.68,null,null,1.42,52.37,null,0.23,1.41,null,1.72,null,null,null,null,null,null,null,0,0,0,0,0,0,0,0,0,0,0,0,0,0,0,0,0,0,0,0,0,0,null,null,null,null,null,null,null,0,{"$f":"+INDEX($F1048:$DJ1048,1,Sheet3!$C$1)","v":1},{"$f":"+IF(Sheet3!$C$1=1,IF(DN1048<3,0,1),1)","v":0}]
[2,2,"16G",6,2,45,1698032.333267062,397.45,357.67000000000007,34963.25,0,206.89,19.63,0,0,24.49,4.74,265.45000000000005,83.14,30.44,37.900000000000006,43.900000000000006,393.77,120.17999999999999,392.01,86628.09,56585.759999999995,0,32454.790000000012,32317.430000000011,137.36000000000001,24130.96999999999,26912.510000000006,3129.82,2330.69,799.13000000000011,0,0,0,0,130726.91999999995,67811.330000000016,0,925.7,66885.630000000019,62915.589999999989,0,5799.22,0,0,832.68,570.15,0,0,0,54084.44,0,0,0,0,0,0,0,0,1629.1,0,0,0,217355.01,11.3,6.92,null,null,3.63,32.5,8,119.8,21.57,21.63,103.53,2,17,15,34,3,4,1,20,106.92,0,0,3,8.1199999999999992,0,0,1,5.14,0,0,2,5.43,0,0,0,0,0,0,0,0,null,null,null,null,null,null,null,45,{"$f":"+INDEX($F1097:$DJ1097,1,Sheet3!$C$1)","v":45},{"$f":"+IF(Sheet3!$C$1=1,IF(DN1097<3,0,1),1)","v":1}]
[2,2,"16G",11,2,163,2418484.3767298721,1526.2349999999999,1228.1700000000003,126605.73000000003,0,348.57,188.65,0,0,509.03,1.36,62.490000000000023,993.35,801.25000000000011,2017.2499999999991,2048.5499999999993,1650.9899999999991,260.58999999999997,1750.8099999999995,552108.51000000024,204145.43,0,117520.02999999998,117097.97999999998,422.05,86625.399999999965,89097.560000000012,258865.51999999993,8435.2899999999991,250430.23,0,0,0,0,266027.97999999992,241799.70999999988,0,30614.830000000009,211184.87999999995,24228.27,0,0,0,0,0,0,0,671.59,0,0,0,0,2651.24,0,0,6190.1,0,0,13378.21,0,0,1337.13,818136.49000000034,100.16,120.24,null,null,8.8000000000000007,553.23,2.46,5.21,10.52,27.38,1179.23,null,74,57,9877,615,2038,126,0,0,0,0,0,0,0,0,0,0,0,0,0,0,0,0,6,15.18,0,0,12,103.24,null,null,null,null,null,null,null,163,{"$f":"+INDEX($F1114:$DJ1114,1,Sheet3!$C$1)","v":163},{"$f":"+IF(Sheet3!$C$1=1,IF(DN1114<3,0,1),1)","v":1}]
[2,2,"16H",11,2,233,3586045.305819496,2956.4599999999987,2733.0299999999993,194128.76000000013,0,124.29,177.22,0,0,1159.1400000000001,17.14,673.75000000000045,929.21,802.45000000000027,2683.1999999999989,2707.6999999999989,2943.2799999999988,474.34,2899.7599999999998,758712.84000000055,301370.49000000022,0,173681.07000000004,172973.14,707.93000000000006,127689.41999999997,134873.05999999988,322469.28999999998,1518.7599999999998,320950.52999999991,0,0,0,0,358737.7099999999,275006.13,0,184565.92999999993,90440.200000000041,83731.579999999944,0,5744.66,0,0,61779.06,141.75,0,158.4,0,6843.51,0,0,0,0,147.05000000000001,0,0,0,8181.41,0,0,735.74,1117450.5499999996,79.900000000000006,57.93,null,null,5.92,1508.8,29.71,13.97,40.54,619.66999999999996,1402.94,null,32,66,11562,796,3586,235,4,39.15,0,0,2,28.01,0,0,147,392.65,0,0,1,1.35,0,0,0,0,1,6.71,0,0,null,null,null,null,null,null,null,233,{"$f":"+INDEX($F1163:$DJ1163,1,Sheet3!$C$1)","v":233},{"$f":"+IF(Sheet3!$C$1=1,IF(DN1163<3,0,1),1)","v":1}]
[2,2,"16I",8,4,5,1121690.0597133348,1284.46,1309.6999999999998,116946.19,0,346.5,213.43,0,0,73.33,156.47999999999999,298.38,542.84,13.39,69.3,90.3,1276.17,383.27,807.52,198385.68,187923.34,0,107748.16,107748.16,0,80175.179999999993,2997.5,7464.84,4026.3,3438.54,0,0,0,0,98179.74000000002,16470.18,0,15583.779999999999,886.4,81709.56,0,0,0,0,3597.8,0,0,0,0,54506.21,0,0,0,0,0,0,0,0,0,0,23605.55,0,296565.42000000004,32.25,124.18,null,null,0.16,250.91,13.86,4.1900000000000004,0.2,152.91,570.26,null,33,3,142,11,23,5,3,347.69,0,0,0,0,3,240.19,3,22.03,0,0,0,0,0,0,0,0,0,0,0,0,null,null,null,null,null,null,null,5,{"$f":"+INDEX($F1204:$DJ1204,1,Sheet3!$C$1)","v":5},{"$f":"+IF(Sheet3!$C$1=1,IF(DN1204<3,0,1),1)","v":1}]
[2,2,"16J",0,1,11,388734.45451570558,28.890000000000004,65.94,7771.2400000000016,0,2.2799999999999998,6.71,0,0,0.83,0,5.4,0.67,0,0,390,13.61,0,13.61,17292.05,12301.750000000004,0,7046.6900000000005,7046.6900000000005,0,5255.06,4990.2999999999993,0,0,0,0,0,0,0,15087.879999999997,13196.599999999999,0,0,13196.599999999999,1891.28,0,0,0,0,429.3,0,0,462.6,0,909.98,0,0,0,0,0,0,0,0,0,0,0,89.4,32379.93,4.43,3.69,null,null,1.06,11.27,4.66,2.93,1.1100000000000001,7.75,8.0500000000000007,null,null,null,null,null,1,null,1,1.73,0,0,0,0,0,0,1,2.65,0,0,0,0,0,0,0,0,0,0,0,0,null,null,null,null,null,null,null,11,{"$f":"+INDEX($F1228:$DJ1228,1,Sheet3!$C$1)","v":11},{"$f":"+IF(Sheet3!$C$1=1,IF(DN1228<3,0,1),1)","v":1}]
[2,2,"16J",6,2,322,11983201.675738482,3765.7000000000007,3507.8399999999997,298945.62999999977,0,1821.16,168.81,0,0,127.79,95.71,3168.4799999999973,204.91,24.700000000000003,52.249999999999993,63.54999999999999,3735.1299999999997,1865.1899999999994,3633.12,695428.33999999985,496278.89000000013,0,288664.58000000007,279765.75000000006,8898.8299999999981,207614.31000000008,194036.64999999927,5112.7999999999993,2227.35,2885.45,0,0,0,0,1463208.780000001,603995.73,0,16296.57,587699.16,859213.05000000016,5013.8900000000003,252183.81,0,231.63,34940.71,10620.08,0,0,0,552926.53,0,0,1060.2,0,0,0,0,0,0,0,0,2236.1999999999998,2158637.1199999996,98.13,52.12,null,null,19.170000000000002,132.61000000000001,152.97999999999999,1940.59,152.37,331.25,637.58000000000004,null,20,5,150,18,21,3,127,1230.81,3,9.7100000000000009,31,356.77,0,0,64,219.48,0,0,17,103.92,0,0,2,5.58,0,0,0,0,null,null,null,null,null,null,null,322,{"$f":"+INDEX($F1245:$DJ1245,1,Sheet3!$C$1)","v":322},{"$f":"+IF(Sheet3!$C$1=1,IF(DN1245<3,0,1),1)","v":1}]
[2,2,"170",3,3,2,200279.68899072593,97.81,73,45041.01,0,21.69,30.42,0,0,17.86,2.71,0,46.82,0,0,0,97.81,0,10.3,71445.899999999994,70246.899999999994,0,42448.659999999996,42448.659999999996,0,27798.240000000002,1199,0,0,0,0,0,0,0,0,0,0,0,0,0,null,null,null,null,null,null,null,null,null,null,null,null,null,null,null,null,null,null,null,null,null,null,71445.899999999994,10.3,1.85,null,null,32.28,13.27,20.9,null,null,1.54,29.06,null,null,null,null,null,null,null,0,0,0,0,0,0,0,0,0,0,0,0,0,0,0,0,0,0,0,0,0,0,null,null,null,null,null,null,null,0,{"$f":"+INDEX($F1294:$DJ1294,1,Sheet3!$C$1)","v":2},{"$f":"+IF(Sheet3!$C$1=1,IF(DN1294<3,0,1),1)","v":0}]
[2,2,"170",8,4,3,1213706.1105780913,956.11999999999989,835.26,79257.03,0,171.56,207.51,0,0,73.37,12.61,251.52,411.11,117.81,73.2,73.2,956.11999999999989,228.54,327.7,142123.41999999998,130035.8,0,74538.59,74538.59,0,55497.209999999992,1792.5,10295.120000000001,0,10295.120000000001,0,0,0,0,57466.36,6158.75,0,6158.75,0,51307.61,0,0,0,0,0,0,0,0,0,35470.019999999997,0,0,0,0,0,0,0,0,0,0,15837.59,0,199589.78,null,171.56,null,null,null,120.78,6.2,0.09,7.0000000000000007E-2,0.01,308.74,null,null,null,327,10,null,null,1,228.54,0,0,0,0,1,170.9,0,0,0,0,0,0,0,0,0,0,0,0,0,0,null,null,null,null,null,null,null,3,{"$f":"+INDEX($F1311:$DJ1311,1,Sheet3!$C$1)","v":3},{"$f":"+IF(Sheet3!$C$1=1,IF(DN1311<3,0,1),1)","v":1}]
[2,2,"181",2,4,1,191893.77274594075,228.46,225.67,56083.5,0,80.55,80.55,0,0,6.29,0,9.42,132.19999999999999,132.19999999999999,140.19999999999999,140.19999999999999,228.46,190.99,228.46,119642.85,91830.12,0,52603.4,52603.4,0,39226.720000000001,599.5,27213.230000000003,8282.69,0,0,0,0,18930.54,41906.92,3755,0,3755,0,38151.919999999998,0,0,0,0,0,0,0,0,0,36884.78,0,0,0,0,1267.1400000000001,0,0,0,0,0,0,0,161549.77000000002,null,null,86.84,null,null,null,null,null,null,null,132.19999999999999,null,71,61,null,null,null,null,1,173.11,0,0,0,0,0,0,0,0,0,0,0,0,0,0,0,0,1,99.04,0,0,null,null,null,null,null,null,null,0,{"$f":"+INDEX($F1360:$DJ1360,1,Sheet3!$C$1)","v":1},{"$f":"+IF(Sheet3!$C$1=1,IF(DN1360<3,0,1),1)","v":0}]
[2,2,"181",9,2,1,692089.32480106084,10.34,9.93,23936.86,0,0,0,0,0,0,0,4.53,5.81,5.81,470.6,470.6,10.34,0,10.25,69953.05,39331.96,0,22555.51,22555.51,0,16776.45,599.5,30021.59,11388.7,0,18632.89,0,0,0,1060.1300000000001,1060.1300000000001,0,1060.1300000000001,0,0,0,0,0,0,0,0,0,0,0,0,0,0,0,0,0,0,0,0,0,0,0,0,71013.180000000008,null,null,null,null,null,3.92,null,null,null,0.09,6.1,192,133,176,null,null,null,null,0,0,0,0,0,0,0,0,0,0,0,0,0,0,0,0,0,0,0,0,0,0,null,null,null,null,null,null,null,0,{"$f":"+INDEX($F1385:$DJ1385,1,Sheet3!$C$1)","v":1},{"$f":"+IF(Sheet3!$C$1=1,IF(DN1385<3,0,1),1)","v":0}]
[2,2,"184","1_2",4,42,9365078.7867205348,15270.27,14548.950000000004,1348674.1900000002,0,1462.42,7142.43,0,0,4196.4399999999996,1043.93,317.22999999999996,2570.2399999999998,698.72,1110.25,1172.25,15254.770000000002,6696.29,14598.79,2377011.8900000006,2218468.29,0,1274319.3800000004,1267910.4600000002,6408.92,944148.9099999998,25179,133364.59999999998,75694.61,41997.530000000006,0,0,0,15672.46,667091.07000000007,150950.42000000001,0,144776.62000000002,6173.8,516140.65000000014,0,0,0,0,9563.68,0,10791.64,0,0,116228.53,0,0,0,0,0,0,14932.2,242423.1,0,0,15285.12,106916.38,3044102.96,4279.41,624.5,55.85,1051.42,124.65,3990.9,1302.44,2.13,91.66,171.98,1730.9,null,1029,969,3347,180,null,null,7,1310.85,0,0,0,0,2,115.24,7,71.66,3,330.02,0,0,0,0,0,0,0,0,0,0,null,null,null,null,null,null,null,42,{"$f":"+INDEX($F1425:$DJ1425,1,Sheet3!$C$1)","v":42},{"$f":"+IF(Sheet3!$C$1=1,IF(DN1425<3,0,1),1)","v":1}]
[2,2,"184",6,2,62,2099932.7224860485,775.0899999999998,728.06999999999994,65385.849999999991,0,281.68,41.13,0,0,104.08,20.73,501.96,107.19,33.11,58.5,58.5,775.0899999999998,172.63,722.3499999999998,150270.39999999997,106488.02000000002,0,61868.42000000002,60544.620000000024,1323.8,44619.6,36726.250000000015,7056.13,0,7056.13,0,0,0,0,105088.78000000001,59292.579999999994,0,52699.98,6592.6,45796.200000000004,0,3252,0,0,14790.85,3404,0,0,0,21927.06,0,0,0,0,0,0,0,0,0,0,2310.29,112,255359.17999999993,31.38,null,null,null,0.63,232.62,22.48,81.06,27.54,161.97999999999999,126.09,null,null,2,481,44,3,2,9,91.29,0,0,1,8.58,2,17.89,18,90.85,0,0,5,45.04,0,0,0,0,0,0,0,0,null,null,null,null,null,null,null,62,{"$f":"+INDEX($F1442:$DJ1442,1,Sheet3!$C$1)","v":62},{"$f":"+IF(Sheet3!$C$1=1,IF(DN1442<3,0,1),1)","v":1}]
[2,2,"185","1_1",1,47,558820.42728781572,151.01,144.69,31112.33,0,129.38999999999999,128.97999999999999,0,0,8.68,4.92,5.18,3.25,0.19,0.3,0.3,151.01,4.05,45.870000000000005,68801.739999999991,51359.55000000001,0,29436.449999999993,29436.449999999993,0,21923.099999999995,17442.189999999999,0,0,0,0,0,0,0,6141.4800000000005,4061.88,0,4061.88,0,2079.6,0,1950,0,0,129.6,0,0,0,0,0,0,0,0,0,0,0,0,0,0,0,0,0,74943.219999999987,4.1900000000000004,108.22,null,null,12.54,12.26,8.19,1.9,0.57999999999999996,3.51,3.11,null,null,null,2,null,null,null,0,0,0,0,1,3.25,0,0,1,0.8,0,0,0,0,0,0,0,0,0,0,0,0,null,null,null,null,null,null,null,47,{"$f":"+INDEX($F1491:$DJ1491,1,Sheet3!$C$1)","v":47},{"$f":"+IF(Sheet3!$C$1=1,IF(DN1491<3,0,1),1)","v":1}]
[2,2,"185",4,2,29,2608987.3049768833,370.07,326.92000000000007,64781.189999999988,0,217.69,237.92,0,0,43.17,47.19,33.580000000000005,8.2100000000000009,0,10.45,10.45,357.8,41.68,50.379999999999995,118447.65999999999,100992.88999999998,0,58925.120000000003,58338.920000000006,586.20000000000005,42067.770000000004,16882.070000000003,572.70000000000005,0,572.70000000000005,0,0,0,0,14731.409999999998,3593.74,0,3593.74,0,11137.669999999998,0,0,0,0,860.22,0,0,0,0,7624.23,0,0,0,0,0,0,0,0,0,0,2653.22,0,133179.06999999998,7.47,39.18,null,null,201.42,89.04,37.69,4.42,9.75,14.85,26.09,1,2,1,26,20,null,null,2,17.12,0,0,0,0,1,19.25,4,5.31,0,0,0,0,0,0,0,0,0,0,0,0,null,null,null,null,null,null,null,29,{"$f":"+INDEX($F1508:$DJ1508,1,Sheet3!$C$1)","v":29},{"$f":"+IF(Sheet3!$C$1=1,IF(DN1508<3,0,1),1)","v":1}]
[2,2,"185",8,2,171,3572990.8527068915,1842.0400000000002,1699.4699999999998,207745.72999999998,0,470.82,492.44,0,0,447.6,73.83,595.96000000000038,232.21,4.9300000000000006,33.349999999999994,36.25,1835.8600000000006,180.89999999999995,302.81000000000006,453063.07,344699.82999999996,0,198480.16999999993,197814.74999999994,665.42000000000007,146219.66000000003,103016.22000000007,5347.02,1390.55,1270.48,0,0,2685.99,0,56344.330000000009,20146.040000000005,0,18630.140000000003,1515.8999999999999,36198.29,0,2844,0,0,20320.55,0,0,0,0,12926.94,0,0,0,0,0,0,0,0,0,0,0,106.8,509407.40000000008,164.86,154.65,null,3.76,232.26,566.98,59.26,36.56,148.84,324.62,141.25,null,38,16,92,15,16,2,5,46.83,0,0,1,3.16,0,0,44,125.56,0,0,0,0,0,0,0,0,0,0,0,0,null,null,null,null,null,null,null,171,{"$f":"+INDEX($F1525:$DJ1525,1,Sheet3!$C$1)","v":171},{"$f":"+IF(Sheet3!$C$1=1,IF(DN1525<3,0,1),1)","v":1}]
[2,2,"186","1_1",3,19,1976965.5148155543,1648.5699999999997,1554.3299999999997,323107.95,0,1170.44,1220.69,0,0,260.38,89.37,34.95000000000001,43.18,0,33.049999999999997,33.049999999999997,1653.6000000000001,1223.5,1604.43,536391.05999999994,522000.74999999994,0,304771.71000000002,304771.71000000002,0,217229.03999999998,11399.34,2990.97,2990.97,0,0,0,0,0,286421.30000000005,47123.21,0,47123.21,0,239298.09000000003,21550.080000000002,59149.4,0,0,1814.4,0,6384.65,0,0,79127.789999999994,0,0,0,0,0,0,0,0,2744,0,58020.97,10506.8,822812.3600000001,354.67,169.5,null,101.04,166.79,365.97,81.38,0.61,null,10.95,36.81,null,61,36,5,1,null,null,9,778.97,1,108.8,3,224.44,8,612.24,2,11.2,1,105.14,0,0,0,0,0,0,0,0,0,0,null,null,null,null,null,null,null,19,{"$f":"+INDEX($F1566:$DJ1566,1,Sheet3!$C$1)","v":19},{"$f":"+IF(Sheet3!$C$1=1,IF(DN1566<3,0,1),1)","v":1}]
[2,2,"186",6,4,6,1185073.1895974451,1699.4700000000003,1498.78,189518.11,0,512.69000000000005,2.9,0,0,77.5,17.3,871.40999999999985,730.36,0,0,0,1700.2700000000002,108.6,1234.9100000000001,314893.14,311296.14,0,178469.99,178469.99,0,132826.15,3597,0,0,0,0,0,0,0,33926.800000000003,17378.739999999998,0,17378.739999999998,0,16548.060000000001,0,0,0,0,0,0,0,0,0,12561.71,0,0,0,0,0,0,0,0,0,0,3986.35,0,348819.94,8.91,null,null,null,2.34,133.85,17.059999999999999,0.7,null,134.31,768.52,null,null,null,null,null,null,null,1,108.6,0,0,0,0,1,93.62,0,0,0,0,0,0,0,0,0,0,0,0,0,0,null,null,null,null,null,null,null,6,{"$f":"+INDEX($F1590:$DJ1590,1,Sheet3!$C$1)","v":6},{"$f":"+IF(Sheet3!$C$1=1,IF(DN1590<3,0,1),1)","v":1}]
[2,2,"187","1_1",4,1,302002.09314851154,604.92999999999995,469.27,59458.720000000001,0,303.61,212.03,0,0,186.5,28.84,17.079999999999998,160.47999999999999,0,0,0,604.92999999999995,312.20999999999998,604.92999999999995,98213.13,97613.63,0,55941.23,55941.23,0,41672.400000000001,599.5,0,0,0,0,0,0,0,53823.37,3755,0,3755,0,50068.37,0,0,0,0,0,0,0,0,0,31064.43,0,0,0,0,0,0,0,0,0,0,19003.939999999999,0,152036.5,null,171.9,null,97.5,null,125.83,22.59,null,null,null,100.18,null,null,null,null,null,null,null,1,312.20999999999998,0,0,0,0,1,294.60000000000002,0,0,0,0,0,0,0,0,0,0,0,0,0,0,null,null,null,null,null,null,null,0,{"$f":"+INDEX($F1639:$DJ1639,1,Sheet3!$C$1)","v":1},{"$f":"+IF(Sheet3!$C$1=1,IF(DN1639<3,0,1),1)","v":0}]
[2,2,"187",5,3,125,10823178.355737701,8457.2700000000023,7712.2400000000007,630244.60999999975,0,2615.38,427.16,0,0,1135.49,214.6,4793.1900000000005,1886.83,257.19000000000005,343.34999999999997,360.65,8428.4000000000015,1726.7199999999996,7552.9,1106581.6300000001,998287.9299999997,0,576093.32999999996,565625.61,10467.720000000001,422194.6,75444.08,32849.619999999995,13574.42,19275.2,0,0,0,0,488849.48999999993,239353.88999999998,0,236987.68999999997,2366.1999999999998,249495.59999999995,0,12731.33,0,0,34788.800000000003,2711.98,4406.28,0,0,161626.20000000001,0,0,0,0,0,0,0,0,0,0,26722.52,6508.49,1595431.1200000006,247.47,null,null,3.63,97.26,1511.09,203.85,9.99,3443.94,612.72,1766.25,null,248,136,1079,121,21,1,38,1334.96,0,0,2,31.25,9,378.75,42,237.78,2,107.94,2,32.97,0,0,0,0,0,0,0,0,null,null,null,null,null,null,null,125,{"$f":"+INDEX($F1656:$DJ1656,1,Sheet3!$C$1)","v":125},{"$f":"+IF(Sheet3!$C$1=1,IF(DN1656<3,0,1),1)","v":1}]
[2,3,"111","10_1",1,44,118099.74015155094,61.500000000000014,11.049999999999999,2972.6899999999996,0,32.76,1.9,0,0,26.36,0,1.1800000000000002,53.55,53.550000000000004,162.30000000000001,162.30000000000001,0,0,82.590000000000018,16341.359999999991,0,0,0,0,0,0,0,16341.359999999991,16341.359999999991,0,0,0,0,0,18733.060000000001,16161.460000000001,0,0,16161.460000000001,2571.6,0,0,0,0,0,0,0,0,0,0,0,0,0,0,0,0,0,0,2571.6,0,0,0,35074.420000000006,null,3.96,null,null,0.73,35,null,0.45,2.71,0.21,210.13,null,141,105,17,2,3,1,0,0,0,0,0,0,0,0,0,0,0,0,0,0,0,0,0,0,0,0,0,0,null,null,null,null,null,null,null,44,{"$f":"+INDEX($F1705:$DJ1705,1,Sheet3!$C$1)","v":44},{"$f":"+IF(Sheet3!$C$1=1,IF(DN1705<3,0,1),1)","v":1}]
[2,3,"112","10_1",1,31,87313.618681021166,14.924999999999999,2.97,836.05,0,8.85,0.39,0,0,8.01,0,0.51,11.91,11.91,185.15,185.15,0,0,15.33,15684.009999999997,0,0,0,0,0,0,0,15684.009999999997,15684.009999999997,0,0,0,0,0,2801.39,2441.39,0,0,2441.39,360,0,0,0,0,0,0,0,0,0,0,0,0,0,0,0,0,0,0,360,0,0,0,18485.399999999998,null,1.32,null,null,0.59,10.130000000000001,1.93,0.03,0.76,7.0000000000000007E-2,6.34,null,112,196,null,null,null,null,0,0,0,0,0,0,0,0,0,0,0,0,0,0,0,0,0,0,0,0,0,0,null,null,null,null,null,null,null,31,{"$f":"+INDEX($F1722:$DJ1722,1,Sheet3!$C$1)","v":31},{"$f":"+IF(Sheet3!$C$1=1,IF(DN1722<3,0,1),1)","v":1}]
[2,3,"119",12,2,6,63817.740347361694,43.234999999999999,0,0,0,12.92,1.82,0,0,5.07,0,1.5,56.15,17.2,14.100000000000001,18.899999999999999,0,0,69.960000000000008,1878.46,0,0,0,0,0,0,0,1878.46,0,1878.46,0,0,0,0,9270.9,9270.9,0,0,9270.9,0,0,0,0,0,0,0,0,0,0,0,0,0,0,0,0,0,0,0,0,0,0,0,11149.36,0.43,1.1100000000000001,null,null,0.22,6.41,0.09,0.11,6.93,0.12,42.26,null,null,null,63,6,5,null,0,0,0,0,0,0,0,0,0,0,0,0,0,0,0,0,0,0,0,0,0,0,null,null,null,null,null,null,null,6,{"$f":"+INDEX($F1747:$DJ1747,1,Sheet3!$C$1)","v":6},{"$f":"+IF(Sheet3!$C$1=1,IF(DN1747<3,0,1),1)","v":1}]
[2,3,"11C",12,1,28,110420.08393771022,52.149999999999991,1.04,62.06,0,46.06,12.73,0,0,16.88,0,8.9599999999999991,13.58,13.58,92.949999999999989,98.35,0,0,47.370000000000005,8415.5499999999975,0,0,0,0,0,0,0,8415.5499999999975,3307.05,5108.4999999999991,0,0,0,0,11766.170000000002,11626.170000000002,0,0,11626.170000000002,140,0,0,0,0,0,0,0,0,0,0,0,0,0,0,0,0,0,0,140,0,0,0,20181.72,2.8,9.6999999999999993,null,null,3.08,13.03,null,0.76,2.68,1.17,11.97,1,28,35,164,20,40,12,0,0,0,0,0,0,0,0,0,0,0,0,0,0,0,0,0,0,0,0,0,0,null,null,null,null,null,null,null,28,{"$f":"+INDEX($F1787:$DJ1787,1,Sheet3!$C$1)","v":28},{"$f":"+IF(Sheet3!$C$1=1,IF(DN1787<3,0,1),1)","v":1}]
[2,3,"150",11,3,3,36044.869999999995,116.56,0,0,0,0,21.44,0,0,36.68,0,3.85,54.59,54.59,40.799999999999997,40.799999999999997,0,0,115.32000000000001,4400.7,0,0,0,0,0,0,0,4400.7,710.96,3689.7400000000002,0,0,0,0,10380,10380,0,0,10380,0,0,0,0,0,0,0,0,0,0,0,0,0,0,0,0,0,0,0,0,0,0,0,14780.7,11.42,null,null,null,null,31.13,null,null,null,0.5,100.29,null,6,9,113,7,33,2,0,0,0,0,0,0,0,0,0,0,0,0,0,0,0,0,0,0,0,0,0,0,null,null,null,null,null,null,null,3,{"$f":"+INDEX($F1836:$DJ1836,1,Sheet3!$C$1)","v":3},{"$f":"+IF(Sheet3!$C$1=1,IF(DN1836<3,0,1),1)","v":1}]
[2,3,"16B",12,1,13,73239.336078066262,16.270000000000003,0,0,0,0.08,7.72,0,0,5.36,0,3.19,0,0,62.499999999999993,76.199999999999989,0,0,1.1299999999999999,6873.54,0,0,0,0,0,0,0,6873.54,1523.74,5349.8000000000011,0,0,0,0,73.45,73.45,73.45,0,0,0,0,0,0,0,0,0,0,0,0,0,0,0,0,0,0,0,0,0,0,0,0,0,6946.9900000000007,1.54,null,null,null,0.03,2.86,null,0.52,0.53,0.59,0.89,null,null,2,100,7,59,3,0,0,0,0,0,0,0,0,0,0,0,0,0,0,0,0,0,0,0,0,0,0,null,null,null,null,null,null,null,13,{"$f":"+INDEX($F1853:$DJ1853,1,Sheet3!$C$1)","v":13},{"$f":"+IF(Sheet3!$C$1=1,IF(DN1853<3,0,1),1)","v":1}]
[2,3,"16H",8,1,1,7554.1369771908776,4.1900000000000004,0,0,0,0.1,1.32,0,0,1.35,0,1.52,0,0,1.8,1.8,0,0,4.1900000000000004,251.99,0,0,0,0,0,0,0,251.99,0,251.99,0,0,0,0,503.05,503.05,0,503.05,0,0,0,0,0,0,0,0,0,0,0,0,0,0,0,0,0,0,0,0,0,0,0,0,755.04,0.22,0.49,null,null,0.18,1.49,null,null,0.68,0.78,0.05,null,null,null,null,null,12,4,0,0,0,0,0,0,0,0,0,0,0,0,0,0,0,0,0,0,0,0,0,0,null,null,null,null,null,null,null,0,{"$f":"+INDEX($F1902:$DJ1902,1,Sheet3!$C$1)","v":1},{"$f":"+IF(Sheet3!$C$1=1,IF(DN1902<3,0,1),1)","v":0}]
[2,3,"16I","10_1",1,17,95361.405985114499,17.329999999999998,0,0,0,2.1800000000000002,1.69,0,0,7.7,0,6.580000000000001,1.36,1.3599999999999999,161.35000000000002,161.35000000000002,0,6.85,10.809999999999999,11653.100000000002,0,0,0,0,0,0,0,11653.100000000002,10427.529999999999,1225.5700000000002,0,0,0,0,1432.25,1404.25,762.05,642.20000000000005,0,28,0,0,0,0,0,0,0,0,0,0,0,0,0,0,0,0,0,0,0,0,0,28,13085.349999999999,1.34,0.05,null,null,null,7.77,null,null,0.36,6.11,1.47,1,67,76,41,3,5,null,0,0,0,0,0,0,0,0,0,0,0,0,0,0,0,0,0,0,0,0,0,0,null,null,null,null,null,null,null,17,{"$f":"+INDEX($F1919:$DJ1919,1,Sheet3!$C$1)","v":17},{"$f":"+IF(Sheet3!$C$1=1,IF(DN1919<3,0,1),1)","v":1}]
[2,3,"170",12,1,10,58917.034424670426,14.869999999999997,0,0,0,3.11,5.5,0,0,2.5,0,1.6400000000000001,5.23,5.2299999999999995,52.849999999999987,53.649999999999991,0,0,0,7559.6299999999992,0,0,0,0,0,0,0,7559.6299999999992,0,7559.6299999999992,0,0,0,0,0,0,0,0,0,0,null,null,null,null,null,null,null,null,null,null,null,null,null,null,null,null,null,null,null,null,null,null,7559.6299999999992,4.45,null,null,null,0.64,2.57,null,1.27,0.03,null,5.83,null,null,1,201,14,39,6,0,0,0,0,0,0,0,0,0,0,0,0,0,0,0,0,0,0,0,0,0,0,null,null,null,null,null,null,null,10,{"$f":"+INDEX($F1963:$DJ1963,1,Sheet3!$C$1)","v":10},{"$f":"+IF(Sheet3!$C$1=1,IF(DN1963<3,0,1),1)","v":1}]
[2,3,"181",12,2,10,105799.23446606561,95.99,0,0,0,1.1299999999999999,8.98,0,0,45.79,0,13.75,27.47,27.47,55.349999999999994,55.349999999999994,0,20.5,95.99,7257.09,0,0,0,0,0,0,0,7257.09,0,7257.09,0,0,0,0,13071.99,12251.99,0,6518.89,5733.1,820,0,0,0,0,0,0,0,0,0,0,0,0,0,0,0,0,0,0,0,0,0,820,20329.079999999998,null,null,null,null,1.1100000000000001,50.61,null,3.02,null,3.01,27.48,null,null,null,216,20,60,9,0,0,0,0,0,0,0,0,0,0,0,0,0,0,0,0,0,0,0,0,0,0,null,null,null,null,null,null,null,10,{"$f":"+INDEX($F1984:$DJ1984,1,Sheet3!$C$1)","v":10},{"$f":"+IF(Sheet3!$C$1=1,IF(DN1984<3,0,1),1)","v":1}]
[2,3,"184",12,2,11,112244.12802508427,110.40999999999998,0,0,0,12.26,5.77,0,0,38.130000000000003,0,58.900000000000006,7.61,7.61,81.649999999999991,81.649999999999991,0,41.51,110.40999999999998,10927.1,0,0,0,0,0,0,0,10927.1,355.48,10571.619999999999,0,0,0,0,14914.970000000001,10187.99,0,10187.99,0,4726.9799999999996,0,0,0,0,2735.1,0,0,0,0,1417.08,0,0,0,0,0,0,0,0,0,0,0,574.79999999999995,25842.069999999996,5.0199999999999996,null,null,null,null,37.47,null,0.67,0.5,51.43,12.86,2,2,1,355,13,34,13,1,4.75,0,0,0,0,0,0,1,22.39,0,0,0,0,0,0,0,0,0,0,0,0,null,null,null,null,null,null,null,11,{"$f":"+INDEX($F2001:$DJ2001,1,Sheet3!$C$1)","v":11},{"$f":"+IF(Sheet3!$C$1=1,IF(DN2001<3,0,1),1)","v":1}]
[2,3,"187",7,2,1,3120.7321450018248,6.7,0,0,0,0,0,0,0,0,0,6.7,0,0,2.1,2.1,0,0,6.7,297.8,0,0,0,0,0,0,0,297.8,0,297.8,0,0,0,0,741.5,741.5,0,741.5,0,0,0,0,0,0,0,0,0,0,0,0,0,0,0,0,0,0,0,0,0,0,0,0,1039.3,null,null,null,null,null,null,null,null,null,null,null,null,null,null,null,null,null,null,0,0,0,0,0,0,0,0,0,0,0,0,0,0,0,0,0,0,0,0,0,0,null,null,null,null,null,null,null,0,{"$f":"+INDEX($F2050:$DJ2050,1,Sheet3!$C$1)","v":1},{"$f":"+IF(Sheet3!$C$1=1,IF(DN2050<3,0,1),1)","v":0}]
[2,4,"111","1_2",1,12,23234.157290795254,16.835000000000001,1.65,284.8,0,1.47,8.34,0,0,5.86,0.19,0.99,2.37,0,0,0,1.9,0,15.93,0,0,0,0,0,0,0,0,0,0,0,0,0,0,0,3504.8000000000006,3504.8000000000006,0,0,3504.8000000000006,0,0,0,0,0,0,0,0,0,0,0,0,0,0,0,0,0,0,0,0,0,0,0,3504.8000000000006,0.88,6.48,null,null,0.78,2.02,1.89,0.02,0.57999999999999996,null,2.2999999999999998,null,null,3,null,null,null,null,0,0,0,0,0,0,0,0,0,0,0,0,0,0,0,0,0,0,0,0,0,0,null,null,null,null,null,null,null,12,{"$f":"+INDEX($F2067:$DJ2067,1,Sheet3!$C$1)","v":12},{"$f":"+IF(Sheet3!$C$1=1,IF(DN2067<3,0,1),1)","v":1}]
[2,4,"119",0,1,1,14136.63521021855,3.13,3.04,465.05,0,0,0,0,0,0,0,0,3.13,0,0,30,3.13,0,0,0,0,0,0,0,0,0,0,0,0,0,0,0,0,0,0,0,0,0,0,0,null,null,null,null,null,null,null,null,null,null,null,null,null,null,null,null,null,null,null,null,null,null,0,null,null,null,null,null,2.75,null,null,null,null,0.37,null,null,null,null,null,null,null,0,0,0,0,0,0,0,0,0,0,0,0,0,0,0,0,0,0,0,0,0,0,null,null,null,null,null,null,null,0,{"$f":"+INDEX($F2116:$DJ2116,1,Sheet3!$C$1)","v":1},{"$f":"+IF(Sheet3!$C$1=1,IF(DN2116<3,0,1),1)","v":0}]
[2,4,"11A","1_2",1,4,2809.4444798954833,4.9899999999999993,3.6500000000000004,726.29,0,0,4.72,0,0,0.16,0,0.11,0,0,0,0,4.9899999999999993,0,1.3,0,0,0,0,0,0,0,0,0,0,0,0,0,0,0,338,338,0,0,338,0,0,0,0,0,0,0,0,0,0,0,0,0,0,0,0,0,0,0,0,0,0,0,338,2.83,null,null,null,null,null,null,null,null,null,null,null,null,null,null,null,null,null,0,0,0,0,0,0,0,0,0,0,0,0,0,0,0,0,0,0,0,0,0,0,null,null,null,null,null,null,null,4,{"$f":"+INDEX($F2144:$DJ2144,1,Sheet3!$C$1)","v":4},{"$f":"+IF(Sheet3!$C$1=1,IF(DN2144<3,0,1),1)","v":1}]
[2,4,"11B",8,1,585,1066698.6064614744,1290.7399999999975,70.320000000000007,5868.2500000000009,0,149.86000000000001,266.66000000000003,0,0,47.57,64.599999999999994,811.24499999999932,101.66,7.660000000000001,11.5,48.300000000000004,71.890000000000015,34.730000000000011,1279.3899999999978,0,0,0,0,0,0,0,0,0,0,0,0,0,0,0,297124.52000000031,291424.67000000039,0,0,291424.67000000039,5699.8499999999995,0,0,0,0,4809.54,0,0,40.200000000000003,0,802.71,0,0,0,0,0,0,0,0,0,0,0,47.4,297124.52000000031,108.08,44.46,null,null,64.849999999999994,39.94,72.86,11.94,115.41,182.39,360.82,null,null,5,26,8,12,3,1,2.98,0,0,0,0,0,0,28,29.63,0,0,0,0,0,0,0,0,0,0,0,0,null,null,null,null,null,null,null,585,{"$f":"+INDEX($F2181:$DJ2181,1,Sheet3!$C$1)","v":585},{"$f":"+IF(Sheet3!$C$1=1,IF(DN2181<3,0,1),1)","v":1}]
[2,4,"11B",13,3,2,46368.12040418516,164.88,0,0,0,0,0,0,0,0,0,0,225.4,0,0,0,0,0,100.27000000000001,0,0,0,0,0,0,0,0,0,0,0,0,0,0,0,5620.7000000000007,5620.7000000000007,0,0,5620.7000000000007,0,0,0,0,0,0,0,0,0,0,0,0,0,0,0,0,0,0,0,0,0,0,0,5620.7000000000007,null,null,null,null,null,null,null,null,null,null,137.08000000000001,null,null,null,null,null,null,null,0,0,0,0,0,0,0,0,0,0,0,0,0,0,0,0,0,0,0,0,0,0,null,null,null,null,null,null,null,0,{"$f":"+INDEX($F2198:$DJ2198,1,Sheet3!$C$1)","v":2},{"$f":"+IF(Sheet3!$C$1=1,IF(DN2198<3,0,1),1)","v":0}]
[2,4,"11D",11,2,52,301949.56920370355,441.84999999999997,2.1500000000000004,128.31,0,7.25,3.4,0,0,7.75,2.64,1.89,827.85,32.14,23.250000000000004,115.24999999999997,41.32,0.16,849.69999999999993,0,0,0,0,0,0,0,0,0,0,0,0,0,0,0,91915.489999999991,91771.489999999991,0,0,91771.489999999991,144,0,0,0,144,0,0,0,0,0,0,0,0,0,0,0,0,0,0,0,0,0,0,91915.489999999991,2.66,0.65,null,null,1.27,7.26,1.0900000000000001,0.45,1.55,2.0299999999999998,640.27,null,1,6,49,6,49,10,0,0,0,0,0,0,0,0,0,0,0,0,0,0,0,0,0,0,0,0,0,0,null,null,null,null,null,null,null,52,{"$f":"+INDEX($F2247:$DJ2247,1,Sheet3!$C$1)","v":52},{"$f":"+IF(Sheet3!$C$1=1,IF(DN2247<3,0,1),1)","v":1}]
[2,4,"11E",4,3,1,27275.466745702655,35.15,0,0,0,1.95,2.91,0,0,0,1.59,17.98,12.67,0,0,0,0,30.1,35.35,0,0,0,0,0,0,0,0,0,0,0,0,0,0,0,10588.86,2870.8,0,0,2870.8,7718.06,0,4792.63,0,0,2146.1,0,0,0,0,779.33,0,0,0,0,0,0,0,0,0,0,0,0,10588.86,null,null,null,null,3.44,null,1.06,7.0000000000000007E-2,null,17.39,96.95,null,null,null,null,null,null,null,1,13.43,0,0,1,16.670000000000002,0,0,1,16.100000000000001,0,0,0,0,0,0,0,0,0,0,0,0,null,null,null,null,null,null,null,0,{"$f":"+INDEX($F2264:$DJ2264,1,Sheet3!$C$1)","v":1},{"$f":"+IF(Sheet3!$C$1=1,IF(DN2264<3,0,1),1)","v":0}]
[2,4,"150","10_1",1,1,4270.24,3.97,0,0,0,0.05,0.05,0,0,3.92,0,0,0,0,5.4,5.4,0,0,3.97,0,0,0,0,0,0,0,0,0,0,0,0,0,0,0,964.3,964.3,0,0,964.3,0,0,0,0,0,0,0,0,0,0,0,0,0,0,0,0,0,0,0,0,0,0,0,964.3,null,null,null,null,null,null,null,null,null,null,null,null,null,null,null,null,null,null,0,0,0,0,0,0,0,0,0,0,0,0,0,0,0,0,0,0,0,0,0,0,null,null,null,null,null,null,null,0,{"$f":"+INDEX($F2313:$DJ2313,1,Sheet3!$C$1)","v":1},{"$f":"+IF(Sheet3!$C$1=1,IF(DN2313<3,0,1),1)","v":0}]
[2,4,"16B",4,2,5,528854.17185147316,50.21,0,0,0,39.49,47.17,0,0,0.64,1.41,0,0.99,0,0,0,0,36.78,0,0,0,0,0,0,0,0,0,0,0,0,0,0,0,0,18668.68,0,0,0,0,18668.68,0,0,0,0,0,0,0,0,0,18668.68,0,0,0,0,0,0,0,0,0,0,0,0,18668.68,null,null,null,null,46.05,null,1.6,null,null,null,2.13,null,null,null,null,null,null,null,5,36.78,0,0,0,0,0,0,0,0,0,0,0,0,0,0,0,0,0,0,0,0,null,null,null,null,null,null,null,5,{"$f":"+INDEX($F2325:$DJ2325,1,Sheet3!$C$1)","v":5},{"$f":"+IF(Sheet3!$C$1=1,IF(DN2325<3,0,1),1)","v":1}]
[2,4,"16E",12,1,19,50845.920322014717,37.5,3.88,672.06999999999994,0,4.3099999999999996,8.09,0,0,12.02,0,15.41,1.98,1.9800000000000002,24,27.799999999999997,4.08,0.42,36.5,0,0,0,0,0,0,0,0,0,0,0,0,0,0,0,5802.73,5734.69,728.79,1849.4999999999998,3156.4,68.040000000000006,0,0,0,0,68.040000000000006,0,0,0,0,0,0,0,0,0,0,0,0,0,0,0,0,0,5802.73,6.66,0.97,null,null,1.8,9.91,0.06,0.16,1.76,10.51,12.69,null,null,2,53,14,34,3,0,0,0,0,0,0,0,0,1,0.42,0,0,0,0,0,0,0,0,0,0,0,0,null,null,null,null,null,null,null,19,{"$f":"+INDEX($F2378:$DJ2378,1,Sheet3!$C$1)","v":19},{"$f":"+IF(Sheet3!$C$1=1,IF(DN2378<3,0,1),1)","v":1}]
[2,4,"16F",11,1,15,29070.511042083999,25.910000000000004,7.91,543.98,0,2.2400000000000002,0.2,0,0,8.6300000000000008,0,6.32,10.76,10.610000000000001,25.799999999999997,26.799999999999997,5.25,0.59,23.27,0,0,0,0,0,0,0,0,0,0,0,0,0,0,0,2683.1499999999996,2587.5699999999997,1008.87,0,1578.7,95.58,0,0,0,0,95.58,0,0,0,0,0,0,0,0,0,0,0,0,0,0,0,0,0,2683.1499999999996,0.19,null,null,null,2.5099999999999998,14.3,null,0.28999999999999998,0.9,3.59,6.87,null,null,null,91,13,9,1,0,0,0,0,0,0,0,0,1,0.59,0,0,0,0,0,0,0,0,0,0,0,0,null,null,null,null,null,null,null,15,{"$f":"+INDEX($F2395:$DJ2395,1,Sheet3!$C$1)","v":15},{"$f":"+IF(Sheet3!$C$1=1,IF(DN2395<3,0,1),1)","v":1}]
[2,4,"16H",7,3,5,208638.03244399998,286,0,0,0,211.67,0,0,0,0,45,238.64,2.36,0,0,0,33.4,98.95,241,0,0,0,0,0,0,0,0,0,0,0,0,0,0,0,21111.460000000003,9587.7099999999991,0,9587.7099999999991,0,11523.75,0,0,0,0,0,0,0,0,0,11523.75,0,0,0,0,0,0,0,0,0,0,0,0,21111.460000000003,null,null,null,null,null,null,null,null,null,110.55,0.04,null,null,null,null,null,null,null,1,98.95,0,0,0,0,0,0,0,0,0,0,0,0,0,0,0,0,0,0,0,0,null,null,null,null,null,null,null,5,{"$f":"+INDEX($F2444:$DJ2444,1,Sheet3!$C$1)","v":5},{"$f":"+IF(Sheet3!$C$1=1,IF(DN2444<3,0,1),1)","v":1}]
[2,4,"16I","1_1",1,3,6286.3494194952327,3.53,2.08,140.78,0,2.61,2.61,0,0,0.5,0,0.25,0.17,0,0,0,2.11,0,1.42,0,0,0,0,0,0,0,0,0,0,0,0,0,0,0,184.6,184.6,0,184.6,0,0,0,0,0,0,0,0,0,0,0,0,0,0,0,0,0,0,0,0,0,0,0,0,184.6,null,1.17,null,null,0.02,0.5,null,null,0.21,0.04,1.53,null,13,12,null,null,null,null,0,0,0,0,0,0,0,0,0,0,0,0,0,0,0,0,0,0,0,0,0,0,null,null,null,null,null,null,null,3,{"$f":"+INDEX($F2461:$DJ2461,1,Sheet3!$C$1)","v":3},{"$f":"+IF(Sheet3!$C$1=1,IF(DN2461<3,0,1),1)","v":1}]
[2,4,"16J",7,3,1,3908.5558959999998,28,0,0,0,0,0,0,0,0,2.77,23.15,2.08,0,0,0,0,22.51,28,0,0,0,0,0,0,0,0,0,0,0,0,0,0,0,9770.32,2898.4,0,0,2898.4,6871.92,0,0,0,0,2560.5,0,0,0,0,3868.42,0,0,0,0,0,0,0,0,0,0,0,443,9770.32,null,null,null,null,null,null,4.8499999999999996,null,null,23.12,7.13,null,null,null,null,null,null,null,1,21,0,0,0,0,0,0,1,20.45,0,0,0,0,0,0,0,0,0,0,0,0,null,null,null,null,null,null,null,0,{"$f":"+INDEX($F2510:$DJ2510,1,Sheet3!$C$1)","v":1},{"$f":"+IF(Sheet3!$C$1=1,IF(DN2510<3,0,1),1)","v":0}]
[2,4,"170",6,3,1,96123.479141874603,26.45,0,0,0,0,0,0,0,23.76,0,1.82,0.87,0,2.85,2.85,0,0,26.45,0,0,0,0,0,0,0,0,0,0,0,0,0,0,0,236.6,236.6,0,236.6,0,0,0,0,0,0,0,0,0,0,0,0,0,0,0,0,0,0,0,0,0,0,0,0,236.6,null,null,null,null,null,null,null,null,null,null,null,null,null,null,null,null,null,null,0,0,0,0,0,0,0,0,0,0,0,0,0,0,0,0,0,0,0,0,0,0,null,null,null,null,null,null,null,0,{"$f":"+INDEX($F2541:$DJ2541,1,Sheet3!$C$1)","v":1},{"$f":"+IF(Sheet3!$C$1=1,IF(DN2541<3,0,1),1)","v":0}]
[2,4,"170",7,1,1,741.2,2.1800000000000002,0,0,0,0,0,0,0,0,0,2.1800000000000002,0,0,0,0,0,0,2.1800000000000002,0,0,0,0,0,0,0,0,0,0,0,0,0,0,0,283.39999999999998,283.39999999999998,0,283.39999999999998,0,0,0,0,0,0,0,0,0,0,0,0,0,0,0,0,0,0,0,0,0,0,0,0,283.39999999999998,null,null,null,null,null,null,null,null,null,null,null,null,null,null,null,null,null,null,0,0,0,0,0,0,0,0,0,0,0,0,0,0,0,0,0,0,0,0,0,0,null,null,null,null,null,null,null,0,{"$f":"+INDEX($F2543:$DJ2543,1,Sheet3!$C$1)","v":1},{"$f":"+IF(Sheet3!$C$1=1,IF(DN2543<3,0,1),1)","v":0}]
[2,4,"184",4,1,9,102937.98250107971,17.259999999999998,0,0,0,6.31,5.24,0,0,0.59,0.15,8.870000000000001,2.41,2.39,1.05,1.05,0,1.8399999999999999,13.49,0,0,0,0,0,0,0,0,0,0,0,0,0,0,0,2044.6300000000003,1746.5500000000002,0,1746.5500000000002,0,298.08000000000004,0,0,0,0,298.08,0,0,0,0,0,0,0,0,0,0,0,0,0,0,0,0,0,2044.6300000000003,1.76,null,null,null,3.19,3.13,0.3,null,null,8.65,0.02,null,null,null,6,1,null,null,0,0,0,0,0,0,0,0,2,1.84,0,0,0,0,0,0,0,0,0,0,0,0,null,null,null,null,null,null,null,9,{"$f":"+INDEX($F2592:$DJ2592,1,Sheet3!$C$1)","v":9},{"$f":"+IF(Sheet3!$C$1=1,IF(DN2592<3,0,1),1)","v":1}]
[2,4,"184",11,1,13,29920.299706161695,31.87,0,0,0,0.91,1.74,0,0,17.96,0,2.04,10.130000000000001,7.419999999999999,37.5,42.5,0,6.77,31.87,0,0,0,0,0,0,0,0,0,0,0,0,0,0,0,4608.7699999999995,4245.07,0,3673.07,572,363.70000000000005,0,0,0,0,267.3,0,0,0,0,0,0,0,0,0,0,0,0,0,0,0,0,96.4,4608.7699999999995,null,null,null,null,0.14000000000000001,7.7,null,null,null,1.72,6.29,null,null,null,23,3,null,null,0,0,0,0,0,0,0,0,1,1.65,0,0,0,0,0,0,0,0,0,0,0,0,null,null,null,null,null,null,null,13,{"$f":"+INDEX($F2609:$DJ2609,1,Sheet3!$C$1)","v":13},{"$f":"+IF(Sheet3!$C$1=1,IF(DN2609<3,0,1),1)","v":1}]
[2,4,"186",4,3,1,1668098.7830102593,45.69,0,0,0,45.62,30.2,0,0,0,0,15.49,0,0,0,0,0,0,45.95,0,0,0,0,0,0,0,0,0,0,0,0,0,0,0,1882.1,1882.1,0,1882.1,0,0,0,0,0,0,0,0,0,0,0,0,0,0,0,0,0,0,0,0,0,0,0,0,1882.1,null,null,null,null,30.2,null,null,15.42,null,null,null,null,null,null,null,null,null,null,0,0,0,0,0,0,0,0,0,0,0,0,0,0,0,0,0,0,0,0,0,0,null,null,null,null,null,null,null,0,{"$f":"+INDEX($F2658:$DJ2658,1,Sheet3!$C$1)","v":1},{"$f":"+IF(Sheet3!$C$1=1,IF(DN2658<3,0,1),1)","v":0}]
[2,4,"186",11,2,8,73008.571201110812,97.050000000000011,0,0,0,0,0,0,0,41.45,0,9.73,45.87,25.01,25.049999999999997,95.049999999999983,15.03,70.739999999999995,97.050000000000011,0,0,0,0,0,0,0,0,0,0,0,0,0,0,0,9729.93,7650.57,0,7650.57,0,2079.3599999999997,0,0,0,0,563.76,0,0,0,0,0,0,0,0,0,0,0,0,0,280,0,0,1235.5999999999999,9729.93,null,null,null,null,null,13.94,null,null,null,7.01,50.12,null,null,null,33,3,19,2,0,0,0,0,0,0,0,0,1,3.48,0,0,0,0,0,0,0,0,0,0,0,0,null,null,null,null,null,null,null,8,{"$f":"+INDEX($F2675:$DJ2675,1,Sheet3!$C$1)","v":8},{"$f":"+IF(Sheet3!$C$1=1,IF(DN2675<3,0,1),1)","v":1}]
[3,1,"112","1_2",1,124,146654.71510555423,116.96000000000001,109.90000000000003,15497.590000000002,0,7.03,81.28,0,0,25.22,2.62,6.33,1.51,0,0,0,116.93,0,7.23,104295.87000000001,104295.87000000001,104295.87000000001,0,0,0,0,0,0,0,0,0,0,0,0,1479.92,1479.92,0,0,1479.92,0,0,0,0,0,0,0,0,0,0,0,0,0,0,0,0,0,0,0,0,0,0,0,105775.79000000001,2.1800000000000002,69.53,null,null,6.01,23.7,3.85,0.65,4.82,0.38,3.03,null,null,1,null,null,null,null,0,0,0,0,0,0,0,0,0,0,0,0,0,0,0,0,0,0,0,0,0,0,null,null,null,null,null,null,null,124,{"$f":"+INDEX($F2722:$DJ2722,1,Sheet3!$C$1)","v":124},{"$f":"+IF(Sheet3!$C$1=1,IF(DN2722<3,0,1),1)","v":1}]
[3,1,"119",7,1,2,1812.55521456,2.21,2.1399999999999997,200.13,0,2.21,0,0,0,0.1,0,1.47,0.64,0,0,0,2.21,0,2.21,1693.17,1693.17,1693.17,0,0,0,0,0,0,0,0,0,0,0,0,382.2,382.2,0,0,382.2,0,0,0,0,0,0,0,0,0,0,0,0,0,0,0,0,0,0,0,0,0,0,0,2075.37,null,null,null,null,null,1.57,null,null,null,1,0.46,null,null,null,null,null,null,null,0,0,0,0,0,0,0,0,0,0,0,0,0,0,0,0,0,0,0,0,0,0,null,null,null,null,null,null,null,0,{"$f":"+INDEX($F2740:$DJ2740,1,Sheet3!$C$1)","v":2},{"$f":"+IF(Sheet3!$C$1=1,IF(DN2740<3,0,1),1)","v":0}]
[3,1,"11C",11,1,86,300103.00155351631,277.14500000000004,114.85999999999997,9966.5,0,108.33,9.3000000000000007,0,0,74.97,0,4.3100000000000005,326.44,42.279999999999994,113.55,147.55000000000001,216.24,6.1199999999999992,397.37000000000006,72506.720000000016,72506.720000000016,72506.720000000016,0,0,0,0,0,0,0,0,0,0,0,0,55359.75,53758.619999999995,0,0,53758.619999999995,1601.1299999999999,0,0,0,0,0,0,0,0,0,0,0,0,1061.1300000000001,0,0,0,0,0,540,0,0,0,127866.47000000003,0.65,5.98,null,null,3.5,72.540000000000006,0.13,0.57999999999999996,3.5,0.76,259.13,null,8,14,394,41,142,14,0,0,0,0,0,0,0,0,0,0,0,0,0,0,0,0,7,5.62,0,0,0,0,null,null,null,null,null,null,null,86,{"$f":"+INDEX($F2789:$DJ2789,1,Sheet3!$C$1)","v":86},{"$f":"+IF(Sheet3!$C$1=1,IF(DN2789<3,0,1),1)","v":1}]
[3,1,"11D",12,1,110,389870.5575411988,402.9500000000001,212.57,15219.91,0,73.34,45.93,0,0,55.41,6.03,49.519999999999989,372.86,116.33,122.45000000000003,203.24999999999991,388.70000000000005,19.91,556.59999999999991,92357.810000000056,92357.810000000056,92357.810000000056,0,0,0,0,0,0,0,0,0,0,0,0,97415.590000000011,88518.040000000008,0,0,88518.040000000008,8897.5499999999993,0,0,0,5726.18,0,676.2,0,0,0,1306.1600000000001,0,0,440.99,8.06,0,0,0,0,739.96,0,0,0,189773.4,15.17,10.07,null,null,21.04,61.32,8.68,3.23,20.49,28.22,454.76,2,13,51,292,37,118,27,1,6.44,0,0,0,0,0,0,0,0,0,0,1,6.44,1,0.31,3,2.75,0,0,0,0,null,null,null,null,null,null,null,110,{"$f":"+INDEX($F2806:$DJ2806,1,Sheet3!$C$1)","v":110},{"$f":"+IF(Sheet3!$C$1=1,IF(DN2806<3,0,1),1)","v":1}]
[3,1,"16D",8,1,549,1647138.3119830403,726.0800000000005,681.18999999999994,78563.590000000011,0,268.37,335.18,0,0,182.91,3.1,184.08999999999997,20.8,2.4300000000000002,45.70000000000001,85.199999999999946,725.27000000000044,43.05,52.14,463380.69999999803,463380.69999999803,463380.69999999803,0,0,0,0,0,0,0,0,0,0,0,0,25014.280000000002,11393.199999999999,0,0,11393.199999999999,13621.080000000002,0,0,0,0,0,0,0,0,0,13621.08,0,0,0,0,0,0,0,0,0,0,0,0,488394.97999999783,54.94,204.24,null,0.22,78.459999999999994,158.41,16.02,40.98,115.51,14.07,21.77,1,11,41,70,13,53,5,7,43.05,0,0,0,0,0,0,0,0,0,0,0,0,0,0,0,0,0,0,0,0,null,null,null,null,null,null,null,549,{"$f":"+INDEX($F2855:$DJ2855,1,Sheet3!$C$1)","v":549},{"$f":"+IF(Sheet3!$C$1=1,IF(DN2855<3,0,1),1)","v":1}]
[3,1,"16E",9,1,4,18452.735726870393,5.2799999999999994,3.19,311.95000000000005,0,0.81,0.11,0,0,3.96,0,0,1.21,1.21,8.3000000000000007,8.3000000000000007,5.2799999999999994,0,0,3386.3700000000003,3386.3700000000003,3386.3700000000003,0,0,0,0,0,0,0,0,0,0,0,0,0,0,0,0,0,0,null,null,null,null,null,null,null,null,null,null,null,null,null,null,null,null,null,null,null,null,null,null,3386.3700000000003,null,0.1,null,null,0.01,5.17,null,null,null,null,0.08,5,1,7,null,null,1,1,0,0,0,0,0,0,0,0,0,0,0,0,0,0,0,0,0,0,0,0,0,0,null,null,null,null,null,null,null,4,{"$f":"+INDEX($F2872:$DJ2872,1,Sheet3!$C$1)","v":4},{"$f":"+IF(Sheet3!$C$1=1,IF(DN2872<3,0,1),1)","v":1}]
[3,1,"16G","10_1",1,15,56632.05779603518,24.86,19.55,2077.2599999999998,0,13.17,4.34,0,0,13.44,0,0.93,6.15,6.1500000000000012,48.800000000000004,48.800000000000004,24.53,0,21.96,12196.36,12196.36,12196.36,0,0,0,0,0,0,0,0,0,0,0,0,5221.1899999999996,5221.1899999999996,0,325,4896.1899999999996,0,0,0,0,0,0,0,0,0,0,0,0,0,0,0,0,0,0,0,0,0,0,0,17417.55,0.34,3.07,null,null,1.23,14.92,0.09,0.06,0.45,0.45,5.04,2,15,47,24,4,11,2,0,0,0,0,0,0,0,0,0,0,0,0,0,0,0,0,0,0,0,0,0,0,null,null,null,null,null,null,null,15,{"$f":"+INDEX($F2903:$DJ2903,1,Sheet3!$C$1)","v":15},{"$f":"+IF(Sheet3!$C$1=1,IF(DN2903<3,0,1),1)","v":1}]
[3,1,"16J",6,1,342,3175116.8398046182,1149.8599999999992,940.92999999999938,60406.96,0,335.09,65.17,0,0,37.79,52.73,942.08000000000038,52.09,0.36,1.05,2.0499999999999998,1147.3199999999993,381.59999999999997,1053.7700000000009,288983.39999999938,288983.39999999938,288983.39999999938,0,0,0,0,0,0,0,0,0,0,0,0,371096.41999999981,234006.43000000008,0,2517.8999999999996,231488.53000000009,137089.99,0,23852.27,0,0,22720.02,450.45,0,0,0,89267.25,0,0,0,0,0,0,0,0,0,0,0,800,660079.81999999948,31.56,17.850000000000001,null,0.08,17.8,45.29,42.35,385.87,34.65,160.13,206.68,null,null,null,null,null,2,null,39,193.92,0,0,11,41.29,0,0,84,140.72999999999999,0,0,3,4.29,0,0,0,0,0,0,0,0,null,null,null,null,null,null,null,342,{"$f":"+INDEX($F2937:$DJ2937,1,Sheet3!$C$1)","v":342},{"$f":"+IF(Sheet3!$C$1=1,IF(DN2937<3,0,1),1)","v":1}]
[3,1,"185",4,1,24,146031.50147180737,36.879999999999995,33.85,3117.7999999999997,0,12.24,12.22,0,0,6.51,0.81,14.129999999999999,3.21,0,3.45,3.45,36.86,5.56,2.6799999999999997,20318.349999999999,20318.349999999999,20318.349999999999,0,0,0,0,0,0,0,0,0,0,0,0,1164.6200000000001,263.89999999999998,0,263.89999999999998,0,900.72,0,0,0,0,900.72,0,0,0,0,0,0,0,0,0,0,0,0,0,0,0,0,0,21482.97,0.38,null,null,null,8.94,11.28,0.65,0.67,0.26,12.33,0.4,null,null,null,19,4,1,null,0,0,0,0,0,0,0,0,5,5.56,0,0,0,0,0,0,0,0,0,0,0,0,null,null,null,null,null,null,null,24,{"$f":"+INDEX($F2986:$DJ2986,1,Sheet3!$C$1)","v":24},{"$f":"+IF(Sheet3!$C$1=1,IF(DN2986<3,0,1),1)","v":1}]
[3,1,"186",7,1,520,379277.36316295882,1212.17,1070.4400000000005,75482.970000000059,0,47.9,0.03,0,0,36.72,9.58,1000.4300000000001,165.41,4.25,4.5,4.5,1212.4900000000002,787.22000000000048,992.53999999999985,438515.87999999814,438515.87999999814,438515.87999999814,0,0,0,0,0,0,0,0,0,0,0,0,243469.87000000005,113361.04000000004,0,113361.04000000004,0,130108.82999999996,0,2351.75,0,0,113834.56,0,0,0,0,4819.22,0,0,0,0,0,0,0,0,0,0,0,9103.2999999999993,681985.75000000023,0.89,null,null,null,0.86,120.88,16.95,0.64,0.89,945.62,102.71,null,null,null,193,12,null,null,3,22.93,0,0,1,8.18,0,0,400,704.92,0,0,0,0,0,0,0,0,0,0,0,0,null,null,null,null,null,null,null,520,{"$f":"+INDEX($F3003:$DJ3003,1,Sheet3!$C$1)","v":520},{"$f":"+IF(Sheet3!$C$1=1,IF(DN3003<3,0,1),1)","v":1}]
[3,2,"111",0,1,1,12866.239384065908,3.97,3.38,420.27,0,0.03,0,0,0,0.35,0,0,5.95,5.95,1.8,12.6,6.33,0,6.33,658.57,459.73,0,263.35000000000002,263.35000000000002,0,196.38,198.84,0,0,0,0,0,0,0,964.3,964.3,0,0,964.3,0,0,0,0,0,0,0,0,0,0,0,0,0,0,0,0,0,0,0,0,0,0,0,1622.87,null,null,null,null,null,0.17,null,null,null,null,7.78,null,null,null,null,null,7,null,0,0,0,0,0,0,0,0,0,0,0,0,0,0,0,0,0,0,0,0,0,0,null,null,null,null,null,null,null,0,{"$f":"+INDEX($F3020:$DJ3020,1,Sheet3!$C$1)","v":1},{"$f":"+IF(Sheet3!$C$1=1,IF(DN3020<3,0,1),1)","v":0}]
[3,2,"112",5,2,27,717543.70737617114,347.85999999999996,299.54999999999995,28979.820000000003,0,205.37,7.74,0,0,13.22,2.25,320.69,3.96,0,0,0,347.59999999999991,199.18000000000004,179.17999999999998,62775.689999999995,48408.25,0,27848.2,27705.530000000002,142.66999999999999,20560.050000000003,14367.440000000006,0,0,0,0,0,0,0,63009.170000000013,24565.4,0,0,24565.4,38443.76999999999,0,0,0,0,0,5633.39,0,0,0,32810.379999999997,0,0,0,0,0,0,0,0,0,0,0,0,125784.86000000002,2.66,3.15,null,null,0.56999999999999995,15.79,4.28,3.51,292.95,1.06,4.62,null,4,2,null,null,null,null,10,198.73,0,0,0,0,0,0,0,0,0,0,3,58.72,0,0,0,0,0,0,0,0,null,null,null,null,null,null,null,27,{"$f":"+INDEX($F3069:$DJ3069,1,Sheet3!$C$1)","v":27},{"$f":"+IF(Sheet3!$C$1=1,IF(DN3069<3,0,1),1)","v":1}]
[3,2,"112","10_2",1,43,181237.67840980054,128.05499999999995,81.34,15174.890000000001,0,67.959999999999994,8.49,0,0,62.51,0.28999999999999998,3.3999999999999995,95.77,95.77,69.95,69.95,158.60000000000002,2.57,133.9,39773.869999999988,25090.63,0,14372.799999999996,14372.799999999996,0,10717.829999999998,9824.9699999999993,4858.2699999999986,4858.2699999999986,0,0,0,0,0,22505.21,20637.400000000001,0,0,20637.400000000001,1867.8100000000002,0,0,0,0,0,0,0,0,0,0,0,501.6,91.2,0,0,0,0,0,1275.01,0,0,0,62279.08,0.63,10.01,null,null,1.77,61.49,0.28999999999999998,0.56000000000000005,2.19,0.02,105.26,null,44,46,13,1,3,2,0,0,0,0,0,0,0,0,0,0,0,0,0,0,0,0,1,0.48,0,0,0,0,null,null,null,null,null,null,null,43,{"$f":"+INDEX($F3084:$DJ3084,1,Sheet3!$C$1)","v":43},{"$f":"+IF(Sheet3!$C$1=1,IF(DN3084<3,0,1),1)","v":1}]
[3,2,"119",13,3,19,270241.01007501187,148.95999999999998,142.85,107448.87999999999,0,135.32,7.55,0,0,132.97,0,6.57,1.87,0,0,0,148.76,0,0,185862.48,174431.98,0,100453.22999999998,100453.22999999998,0,73978.75,10510.2,920.3,920.3,0,0,0,0,0,0,0,0,0,0,0,null,null,null,null,null,null,null,null,null,null,null,null,null,null,null,null,null,null,null,null,null,null,185862.48,0.05,3.91,null,null,0.53,113.44,1.4,1.28,4.43,0.27,13.48,null,8,11,null,null,null,null,0,0,0,0,0,0,0,0,0,0,0,0,0,0,0,0,0,0,0,0,0,0,null,null,null,null,null,null,null,19,{"$f":"+INDEX($F3134:$DJ3134,1,Sheet3!$C$1)","v":19},{"$f":"+IF(Sheet3!$C$1=1,IF(DN3134<3,0,1),1)","v":1}]
[3,2,"11A",6,3,3,100250.21832253139,33.67,32.090000000000003,14708.79,0,15.97,1.18,0,0,4.9400000000000004,0,19.61,7.94,0,0,0,33.67,13.54,14.58,25153.82,23726.07,0,13733.41,13733.41,0,9992.66,1427.75,0,0,0,0,0,0,0,7095.82,1471.6,0,0,1471.6,5624.22,0,0,0,0,0,0,0,0,0,5624.22,0,0,0,0,0,0,0,0,0,0,0,0,32249.64,null,null,null,null,null,5.05,null,16.8,0.75,null,8.5,null,null,null,null,null,null,null,1,13.54,0,0,0,0,0,0,0,0,0,0,0,0,0,0,0,0,0,0,0,0,null,null,null,null,null,null,null,3,{"$f":"+INDEX($F3151:$DJ3151,1,Sheet3!$C$1)","v":3},{"$f":"+IF(Sheet3!$C$1=1,IF(DN3151<3,0,1),1)","v":1}]
[3,2,"11B",9,2,40,692864.86433011398,438.03500000000008,380.9,48107.57,0,89.03,49.34,0,0,68.209999999999994,7.71,12.370000000000001,427.05,302.2000000000001,405.30000000000018,416.30000000000018,501.96000000000009,98.320000000000022,566.44999999999993,112567.73999999999,76691.679999999993,0,44107.729999999989,44107.729999999989,0,32583.949999999993,22570.410000000003,13305.649999999996,5047.7299999999996,0,8257.92,0,0,0,86016.760000000009,78095.599999999991,0,0,78095.599999999991,7921.16,0,0,0,0,252.72,0,0,0,0,0,0,0,4274.03,1613.61,0,1780.8,0,0,0,0,0,0,198584.5,31.84,8.16,null,null,8.4600000000000009,82.5,10.58,0.2,3.85,2.63,436.74,232,61,220,null,null,15,null,0,0,0,0,0,0,0,0,2,1.83,0,0,0,0,8,21.16,9,23.76,0,0,4,52.48,null,null,null,null,null,null,null,40,{"$f":"+INDEX($F3200:$DJ3200,1,Sheet3!$C$1)","v":40},{"$f":"+IF(Sheet3!$C$1=1,IF(DN3200<3,0,1),1)","v":1}]
[3,2,"11B",13,3,5,18276.570922773932,69.894999999999996,65.72,18392.05,0,16.05,1.59,0,0,17.239999999999998,8.26,0,47.02,0,0,0,74.11,0,70.36,32645.590000000004,30449.89,0,17518.55,17518.55,0,12931.34,2195.6999999999998,0,0,0,0,0,0,0,1138.3999999999999,1138.3999999999999,0,0,1138.3999999999999,0,0,0,0,0,0,0,0,0,0,0,0,0,0,0,0,0,0,0,0,0,0,0,33783.99,3.49,0.44,null,null,0.12,24.95,4.25,null,null,null,94.59,null,5,3,null,null,null,null,0,0,0,0,0,0,0,0,0,0,0,0,0,0,0,0,0,0,0,0,0,0,null,null,null,null,null,null,null,5,{"$f":"+INDEX($F3217:$DJ3217,1,Sheet3!$C$1)","v":5},{"$f":"+IF(Sheet3!$C$1=1,IF(DN3217<3,0,1),1)","v":1}]
[3,2,"11D","1_2",3,1,856.28325292438433,5.03,4.97,4474.78,0,0,5.03,0,0,0,0,0,0,0,0,0,5.03,0,5.03,7995.9499999999989,7400.0399999999991,0,4263.82,4263.82,0,3136.22,595.91,0,0,0,0,0,0,0,1165.7,1165.7,0,0,1165.7,0,0,0,0,0,0,0,0,0,0,0,0,0,0,0,0,0,0,0,0,0,0,0,9161.65,4.83,null,null,null,null,null,null,null,null,null,null,null,null,null,null,null,null,null,0,0,0,0,0,0,0,0,0,0,0,0,0,0,0,0,0,0,0,0,0,0,null,null,null,null,null,null,null,0,{"$f":"+INDEX($F3266:$DJ3266,1,Sheet3!$C$1)","v":1},{"$f":"+IF(Sheet3!$C$1=1,IF(DN3266<3,0,1),1)","v":0}]
[3,2,"11D",15,1,20,39602.736194006677,38.259999999999991,39.76,2897.9999999999995,0,6.08,15.57,0,0,4.33,0.6,10.73,7.03,0.9,0.45,0.45,38.199999999999989,1.32,37.549999999999997,8835.2200000000012,4500.84,0,2579.3900000000003,2579.3900000000003,0,1921.45,4334.38,0,0,0,0,0,0,0,8304.2000000000007,7116.2,0,0,7116.2,1188,0,0,0,1188,0,0,0,0,0,0,0,0,0,0,0,0,0,0,0,0,0,0,17139.420000000002,2.9,0.04,null,null,10.52,6.38,1.37,0.06,3.42,7.21,20.2,null,1,null,null,null,2,1,0,0,0,0,0,0,0,0,0,0,0,0,0,0,0,0,0,0,0,0,0,0,null,null,null,null,null,null,null,20,{"$f":"+INDEX($F3300:$DJ3300,1,Sheet3!$C$1)","v":20},{"$f":"+IF(Sheet3!$C$1=1,IF(DN3300<3,0,1),1)","v":1}]
[3,2,"11E","10_1",1,9,32294.247682270765,30.490000000000002,27.740000000000002,2038.4699999999998,0,0.04,6,0,0,4.84,0.46,6.78,12.41,12.41,59.4,59.4,28.96,6.62,30.18,9140.57,3151.9900000000002,0,1809.3899999999999,1809.3899999999999,0,1342.6000000000001,3061.7499999999995,2926.83,2926.83,0,0,0,0,0,7594.5099999999993,7269.7699999999995,0,0,7269.7699999999995,324.74,0,0,0,0,170.1,0,0,0,0,0,0,0,0,63.84,0,0,0,0,0,0,0,90.8,16735.079999999998,3.01,1.04,null,null,0.04,5.79,0.84,null,null,2.25,11.92,null,22,38,15,1,null,null,0,0,0,0,0,0,0,0,1,1.05,0,0,0,0,1,0.76,0,0,0,0,0,0,null,null,null,null,null,null,null,{"$f":"+DN3331*DO3331","v":9},{"$f":"+INDEX($F3331:$DJ3331,1,Sheet3!$C$1)","v":9},{"$f":"+IF(Sheet3!$C$1=1,IF(DN3331<3,0,1),1)","v":1}]
[3,2,"11E",15,2,1,2372.1071097537488,4.7,4.8099999999999996,504.13,0,0.65,0.65,0,0,0,0.88,2.4500000000000002,0.72,0,0,0,4.7,2.0099999999999998,4.7,1413.02,832.55,0,476.91,476.91,0,355.64,580.47,0,0,0,0,0,0,0,1291.8200000000002,966.2,0,0,966.2,325.62,0,0,0,0,325.62,0,0,0,0,0,0,0,0,0,0,0,0,0,0,0,0,0,2704.84,0.82,null,null,null,null,1.29,null,null,0.34,2.11,0.4,null,null,null,null,null,null,null,0,0,0,0,0,0,0,0,1,2.0099999999999998,0,0,0,0,0,0,0,0,0,0,0,0,null,null,null,null,null,null,null,0,{"$f":"+INDEX($F3348:$DJ3348,1,Sheet3!$C$1)","v":1},{"$f":"+IF(Sheet3!$C$1=1,IF(DN3348<3,0,1),1)","v":0}]
[3,2,"16B","1_1",3,1,48798.494483531598,122.77,103.29,15818.86,0,57.45,86.24,0,0,9.3000000000000007,19.829999999999998,0.31,7.09,0,0,0,122.77,0,0,26612.04,26012.54,0,14925.7,14925.7,0,11086.84,599.5,0,0,0,0,0,0,0,0,0,0,0,0,0,null,null,null,null,null,null,null,null,null,null,null,null,null,null,null,null,null,null,null,null,null,null,26612.04,43.25,null,null,46.21,null,4.97,10.24,0.31,null,null,23.38,null,null,null,null,null,null,null,0,0,0,0,0,0,0,0,0,0,0,0,0,0,0,0,0,0,0,0,0,0,null,null,null,null,null,null,null,0,{"$f":"+INDEX($F3397:$DJ3397,1,Sheet3!$C$1)","v":1},{"$f":"+IF(Sheet3!$C$1=1,IF(DN3397<3,0,1),1)","v":0}]
[3,2,"16B",8,1,42,480158.0748390365,190.37,149.16000000000003,13639.640000000003,0,14.37,54.31,0,0,36.49,6.18,70.710000000000008,22.68,0.31,8.9,8.9,184.26000000000002,4.54,3.3,36777.51,20469.210000000003,0,12146.099999999997,12146.099999999997,0,8323.11,15704.790000000003,603.51,236.98,366.53,0,0,0,0,1690,418.5,0,418.5,0,1271.5,0,0,0,0,0,0,0,0,0,1271.5,0,0,0,0,0,0,0,0,0,0,0,0,38467.51,24.18,4.08,null,null,17.600000000000001,57.5,1.38,9.99,35.229999999999997,3.59,16.8,null,3,13,12,3,15,2,1,4.54,0,0,0,0,0,0,0,0,0,0,0,0,0,0,0,0,0,0,0,0,null,null,null,null,null,null,null,42,{"$f":"+INDEX($F3414:$DJ3414,1,Sheet3!$C$1)","v":42},{"$f":"+IF(Sheet3!$C$1=1,IF(DN3414<3,0,1),1)","v":1}]
[3,2,"16D",8,3,17,1366973.6548437835,374.44,342.27000000000004,79052.47,0,270.83,320.86,0,0,27.48,11.26,13.839999999999998,1,0,23.6,29.700000000000003,352.56999999999994,0,4.22,140274.21,130332.65,0,75105.320000000022,75105.320000000022,0,55227.33,9941.56,0,0,0,0,0,0,0,1011.8,1011.8,0,0,1011.8,0,0,0,0,0,0,0,0,0,0,0,0,0,0,0,0,0,0,0,0,0,0,0,141286.00999999998,11.96,119.7,null,null,85.7,30.01,13.32,0.97,11.56,0.65,3.21,2,7,45,null,null,null,null,0,0,0,0,0,0,0,0,0,0,0,0,0,0,0,0,0,0,0,0,0,0,null,null,null,null,null,null,null,17,{"$f":"+INDEX($F3463:$DJ3463,1,Sheet3!$C$1)","v":17},{"$f":"+IF(Sheet3!$C$1=1,IF(DN3463<3,0,1),1)","v":1}]
[3,2,"16D",13,1,100,242861.08206775272,184.22999999999993,180.26999999999995,37663.500000000007,0,88.8,9,0,0,156.93,4.32,1.3900000000000001,12.59,0,0,0.3,184.19999999999993,0,0,83489.760000000024,61843.359999999986,0,35429.560000000012,35429.560000000012,0,26413.800000000017,21646.400000000005,0,0,0,0,0,0,0,0,0,0,0,0,0,null,null,null,null,null,null,null,null,null,null,null,null,null,null,null,null,null,null,null,null,null,null,83489.760000000024,3.78,12.56,null,null,3.45,148.79,2.92,0.89,0.08,null,9.7799999999999994,null,null,12,null,null,null,null,0,0,0,0,0,0,0,0,0,0,0,0,0,0,0,0,0,0,0,0,0,0,null,null,null,null,null,null,null,100,{"$f":"+INDEX($F3481:$DJ3481,1,Sheet3!$C$1)","v":100},{"$f":"+IF(Sheet3!$C$1=1,IF(DN3481<3,0,1),1)","v":1}]
[3,2,"16E",11,1,53,181374.81761721917,121.97000000000003,113.07000000000004,11892.12,0,20.440000000000001,6.23,0,0,66.680000000000007,0.53,18.089999999999996,30.44,27.9,163.49999999999997,170.49999999999997,117.37000000000003,1.1499999999999999,86.410000000000011,41250.160000000003,17772.63,0,9974.6299999999992,9944.409999999998,30.22,7798.0000000000018,12207.399999999998,11270.13,118.5,11151.63,0,0,0,0,14546.4,14085.030000000002,1002.3000000000001,4220.6500000000005,8862.08,461.37,0,0,0,0,186.3,0,0,0,0,0,0,0,0,0,0,0,0,0,275.07,0,0,0,55796.56,6.9,2.08,null,null,1.35,67.209999999999994,0.15,1.08,1.85,16.72,47.77,null,2,6,725,67,325,21,0,0,0,0,0,0,0,0,2,1.1499999999999999,0,0,0,0,0,0,0,0,0,0,0,0,null,null,null,null,null,null,null,53,{"$f":"+INDEX($F3528:$DJ3528,1,Sheet3!$C$1)","v":53},{"$f":"+IF(Sheet3!$C$1=1,IF(DN3528<3,0,1),1)","v":1}]
[3,2,"16F","1_1",2,33,279732.27732011763,171.62000000000006,167.87000000000003,38497.909999999996,0,131.69999999999999,123.12,0,0,30.17,2.06,6.66,9.61,0.08,1.5,1.5,170.97000000000006,0,5.6,79414.3,63751.819999999992,0,36634.459999999992,36634.459999999992,0,27117.360000000004,14636.26,1026.2199999999998,0,0,0,0,0,1026.2199999999998,637,637,637,0,0,0,0,0,0,0,0,0,0,0,0,0,0,0,0,0,0,0,0,0,0,0,0,0,80051.3,5.28,109.6,4.45,null,3.72,24.25,2.4,0.73,1.53,3.8,5.57,null,1,null,5,null,null,null,0,0,0,0,0,0,0,0,0,0,0,0,0,0,0,0,0,0,0,0,0,0,null,null,null,null,null,null,null,33,{"$f":"+INDEX($F3545:$DJ3545,1,Sheet3!$C$1)","v":33},{"$f":"+IF(Sheet3!$C$1=1,IF(DN3545<3,0,1),1)","v":1}]
[3,2,"16F",7,1,18,14548.034212851459,41.050000000000011,43.97,5380.82,0,0.1,4.4400000000000004,0,0,0.78,0,28.219999999999995,7.61,0.99,0.3,0.3,40.920000000000009,10.050000000000001,35,11303.25,7270.14,0,4468.8599999999997,4468.8599999999997,0,2801.2799999999997,4033.1099999999997,0,0,0,0,0,0,0,6423.72,4857.8100000000004,2549.3700000000003,0,2308.44,1565.9099999999999,0,0,0,0,1565.91,0,0,0,0,0,0,0,0,0,0,0,0,0,0,0,0,0,17726.97,0.93,0.21,null,null,0.14000000000000001,2.75,null,null,1.1000000000000001,20.65,4.97,null,null,null,7,1,5,2,0,0,0,0,0,0,0,0,7,10.050000000000001,0,0,0,0,0,0,0,0,0,0,0,0,null,null,null,null,null,null,null,18,{"$f":"+INDEX($F3562:$DJ3562,1,Sheet3!$C$1)","v":18},{"$f":"+IF(Sheet3!$C$1=1,IF(DN3562<3,0,1),1)","v":1}]
[3,2,"16G","10_1",3,26,866656.65242894914,476.6400000000001,434.18999999999994,94186.94,0,118.91,51.36,0,0,126.53,2.12,10.489999999999998,300.77,300.77000000000004,1140.95,1143.3499999999999,491.2700000000001,117.88,490.8900000000001,238433.34999999998,153075.78999999998,0,88803.390000000014,88803.390000000014,0,64272.4,14872.52,70485.039999999994,67162.37,2132.58,1190.0900000000001,0,0,0,64481.43,52942.679999999993,0,6957.77,45984.909999999996,11538.75,0,0,0,0,0,0,0,0,0,7854.62,0,0,87.4,0,0,350,0,0,3221.13,0,0,25.6,302914.77999999997,34.35,6.97,null,null,3.3,148.86000000000001,0.05,0.48,1.4,5.44,347.35,34,490,924,63,2,4,1,1,113.35,0,0,0,0,0,0,0,0,0,0,0,0,0,0,1,0.46,0,0,1,3.19,null,null,null,null,null,null,null,26,{"$f":"+INDEX($F3611:$DJ3611,1,Sheet3!$C$1)","v":26},{"$f":"+IF(Sheet3!$C$1=1,IF(DN3611<3,0,1),1)","v":1}]
[3,2,"16H","1_1",2,5,35949.370981820633,79.25,82.17,7861.2699999999995,0,54.42,53.95,0,0,3.15,8.56,4.3899999999999997,9.1999999999999993,0,0,2,79.160000000000011,21.559999999999995,79.160000000000011,15033.08,12070.16,0,6960.29,6960.29,0,5109.87,2962.9199999999996,0,0,0,0,0,0,0,8827.8700000000008,5249.1799999999994,0,5249.1799999999994,0,3578.69,0,0,0,0,596.16,0,0,0,0,2982.53,0,0,0,0,0,0,0,0,0,0,0,0,23860.95,8.85,43.14,null,null,null,3.15,14.79,0.03,0.11,4.24,3.63,null,null,null,null,null,null,null,1,17.88,0,0,0,0,0,0,4,3.68,0,0,0,0,0,0,0,0,0,0,0,0,null,null,null,null,null,null,null,5,{"$f":"+INDEX($F3628:$DJ3628,1,Sheet3!$C$1)","v":5},{"$f":"+IF(Sheet3!$C$1=1,IF(DN3628<3,0,1),1)","v":1}]
[3,2,"16H",11,4,36,8049271.185659254,19373.209999999992,18438.07,1623689.49,0,1351.07,606.21,0,0,3907.6,414.37,1022.7299999999997,13422.3,12635.74,7097.3499999999995,7316.2499999999991,19338.819999999992,9515.6200000000008,18213.53999999999,3484222.0300000012,2631936.0100000002,0,1507562.6500000001,1507562.6500000001,0,1124373.3599999999,21466.6,830819.41999999981,243646.23000000004,587173.19000000006,0,0,0,0,715169.78999999992,139813.46,0,118493.86,21319.599999999999,575356.32999999996,0,213857.7,0,0,65956.72,4199.2700000000004,0,0,0,191320.54,0,0,0,0,44327.45,0,0,0,44287.22,0,10162.23,1245.2,4199391.82,305.19,30.38,null,null,9.02,4836.8599999999997,235.94,8.9499999999999993,8.26,966.71,12644.14,null,1737,1167,27336,1428,351,18,9,4380.04,0,0,8,3554.75,3,73.3,21,728.81,0,0,3,44.75,0,0,0,0,13,2154.79,0,0,null,null,null,null,null,null,null,36,{"$f":"+INDEX($F3662:$DJ3662,1,Sheet3!$C$1)","v":36},{"$f":"+IF(Sheet3!$C$1=1,IF(DN3662<3,0,1),1)","v":1}]
[3,2,"16I",7,3,10,1029672.435787084,765.72,748.36999999999978,69014.179999999993,0,356.42,31.06,0,0,63.98,89.68,525.50999999999988,55.49,2.33,21.549999999999997,21.549999999999997,765.67000000000007,384.88,599.03000000000009,120753.76,112016.88,0,64346.380000000005,64346.380000000005,0,47670.500000000007,6012.12,2724.76,230.07,2494.69,0,0,0,0,87035.85,20322.149999999998,635.1,19687.05,0,66713.7,0,0,0,0,13854.24,213.15,0,0,0,52602.98,0,0,0,0,0,0,0,0,0,0,43.33,0,207789.61000000002,2.0499999999999998,19.05,null,null,3.34,72.91,3.07,1.83,9.5399999999999991,476.76,73.75,null,23,22,null,null,null,null,6,274.73,0,0,0,0,1,52.07,6,120,0,0,1,2.0299999999999998,0,0,0,0,0,0,0,0,null,null,null,null,null,null,null,10,{"$f":"+INDEX($F3693:$DJ3693,1,Sheet3!$C$1)","v":10},{"$f":"+IF(Sheet3!$C$1=1,IF(DN3693<3,0,1),1)","v":1}]
[3,2,"16J",8,1,1097,3091632.980254293,3684.599999999999,3449.2699999999991,278479.47999999963,0,292.62,734.72,0,0,260.8,233.72,2088.8500000000026,366.51,20.350000000000001,55.59999999999998,145.10000000000002,3597.7099999999982,481.0200000000001,3405.5299999999979,838998.24000000057,444708.33000000007,0,255134.99000000008,254950.40000000008,184.59000000000003,189573.33999999962,392012.08000000048,2277.83,924.26,1259.94,93.63,0,0,0,822191.2699999999,745286.07000000041,416.53,6344.37,738525.17000000027,76905.200000000012,0,7353.22,0,3974.38,48921.47,877.8,0,55.8,0,12829.24,0,0,238.64,0,0,0,0,0,0,0,0,2654.65,1661189.5099999993,319.27999999999997,222,null,null,127.42,332.93,281.83999999999997,79.56,499.86,927.18,1323,2,11,19,224,26,162,23,10,51.52,0,0,6,14.31,0,0,258,305.81,0,0,5,8.36,0,0,3,1.9,0,0,0,0,null,null,null,null,null,null,null,1097,{"$f":"+INDEX($F3742:$DJ3742,1,Sheet3!$C$1)","v":1097},{"$f":"+IF(Sheet3!$C$1=1,IF(DN3742<3,0,1),1)","v":1}]
[3,2,"16J",11,2,744,9219661.7085346431,7776.1750000000038,6489.8200000000033,574011.32999999938,0,637.91,1069.5899999999999,0,0,3034.29,120.22,588.51999999999987,3106.83,2622.7000000000025,6511.1500000000024,6766.5500000000029,7815.0900000000011,1547.5499999999979,7863.9500000000016,2148557.3400000017,923940.01999999932,0,532652.63000000024,531705.60000000009,947.03,391287.39000000019,404520.11999999976,820097.20000000077,10217.370000000001,809323.00000000093,556.83000000000004,0,0,0,1453041.5799999996,1293345.8199999989,0,24470.839999999997,1268874.9799999988,159695.76000000007,0,21264.18,0,0,22027.94,0,0,1789.6,0,6366.41,0,0,17144.61,410.4,510.11,37533.57,0,0,31836.57,0,0,20812.37,3601598.9200000009,711.77,262.93,null,null,54.8,3483.22,127.22,16.940000000000001,125.72,371.78,6301.07,27,102,130,32268,2039,6144,407,2,54.21,0,0,9,105.73,0,0,92,137.31,0,0,0,0,2,5.26,53,94.29,3,10.95,77,391.01,null,null,null,null,null,null,null,744,{"$f":"+INDEX($F3759:$DJ3759,1,Sheet3!$C$1)","v":744},{"$f":"+IF(Sheet3!$C$1=1,IF(DN3759<3,0,1),1)","v":1}]
[3,2,"170","10_1",3,54,5197965.2405465879,1385.87,1526.0500000000002,378077.13999999984,0,298.18,43.95,0,0,830.07,1.88,22.179999999999996,487.79,487.78999999999991,6793.9500000000007,6799.25,1386.33,66.55,158.19,897753.9600000002,600660.70000000019,0,346105.13,343739.36,2365.77,254555.56999999998,27412.98,269680.27999999997,261648.50999999998,7668.2099999999991,363.56,0,0,0,27273.57,9697.76,0,9697.76,0,17575.809999999998,0,8037.01,0,0,0,0,0,0,0,2451.6999999999998,0,0,0,0,272.5,0,0,0,6814.6,0,0,0,925027.53,57.4,null,null,null,13.98,947.94,7.48,5.63,12.01,3.16,634.52,62,2381,5315,216,25,327,15,1,10.16,0,0,1,50.22,0,0,0,0,0,0,0,0,0,0,0,0,1,6.17,0,0,null,null,null,null,null,null,null,54,{"$f":"+INDEX($F3808:$DJ3808,1,Sheet3!$C$1)","v":54},{"$f":"+IF(Sheet3!$C$1=1,IF(DN3808<3,0,1),1)","v":1}]
[3,2,"170",13,2,80,446342.05806646263,960.6,930.41,97096.91999999994,0,61.74,42.71,0,0,624.88,65.95,8.94,218.12,0,0,0,960.37,18.29,86.289999999999992,204392.86999999991,159177.9,0,92518.219999999987,91539.939999999988,978.28,66659.679999999993,45214.97,0,0,0,0,0,0,0,4573.83,3837.33,0,3837.33,0,736.5,0,0,0,0,0,0,736.5,0,0,0,0,0,0,0,0,0,0,0,0,0,0,0,208966.69999999995,57.75,3.51,null,null,6.82,568.5,37.04,1.18,0.87,4.67,275.41000000000003,4,2,15,4,1,null,null,0,0,0,0,0,0,0,0,0,0,1,18.29,0,0,0,0,0,0,0,0,0,0,null,null,null,null,null,null,null,80,{"$f":"+INDEX($F3825:$DJ3825,1,Sheet3!$C$1)","v":80},{"$f":"+IF(Sheet3!$C$1=1,IF(DN3825<3,0,1),1)","v":1}]
[3,2,"181","10_2",3,238,10915049.984813755,30743.145000000004,29176.610000000052,2186580.0699999989,0,487.93,588.94000000000005,0,0,10952.38,265.74,336.02000000000015,18620.04,16251.810000000003,13847.450000000003,13898.850000000002,30668.660000000007,10858.869999999999,29710.289999999997,4925546.5100000026,3582742.1500000041,0,2064564.1800000002,2049600.1600000001,14964.020000000002,1518177.97,142220.35999999999,1200583.9999999998,1174729.6100000001,25026.39,0,0,0,828,1308077.5099999998,756357.07000000041,0,555342.03000000026,201015.03999999998,551720.44000000006,0,44485.58,0,0,3140.82,0,2155.46,0,0,216488.77,0,0,0,0,26638.28,0,0,0,8536.61,0,0,250274.92,6233624.0200000033,510.11,5.07,56.06,0.92,49.81,12665.69,149.33000000000001,7.66,48.7,192.85,18154.330000000002,14,9518,6021,1074,75,233,20,28,3408.95,0,0,3,538.73,0,0,5,21.53,1,24.7,0,0,0,0,0,0,14,881.51,0,0,null,null,null,null,null,null,null,238,{"$f":"+INDEX($F3878:$DJ3878,1,Sheet3!$C$1)","v":238},{"$f":"+IF(Sheet3!$C$1=1,IF(DN3878<3,0,1),1)","v":1}]
[3,2,"181",13,2,324,988212.94105912501,7328.4800000000032,5637.8100000000031,426566,0,25.65,34.14,0,0,1515.87,2579.5300000000002,83.750000000000014,3115.19,0,0,0,7246.3900000000021,72.899999999999991,3548.9399999999987,879509.64999999991,688804.52000000037,0,398222.32000000007,395711.52000000008,2510.8000000000002,290582.19999999984,190315.68999999939,389.44,0,389.44,0,0,0,0,164655.77999999997,158644.85999999996,0,114973.12999999996,43671.729999999989,6010.920000000001,0,0,0,0,1973.16,0,0,0,0,3364.16,0,0,0,0,0,0,0,0,0,0,0,673.6,1044165.4300000004,64.34,null,39.159999999999997,1.87,22.61,1731.88,51.72,3.2,0.89,67.84,3031.97,null,32,54,579,23,52,2,1,5.92,0,0,0,0,0,0,11,12.18,0,0,0,0,0,0,0,0,0,0,0,0,null,null,null,null,null,null,null,324,{"$f":"+INDEX($F3890:$DJ3890,1,Sheet3!$C$1)","v":324},{"$f":"+IF(Sheet3!$C$1=1,IF(DN3890<3,0,1),1)","v":1}]
[3,2,"184","10_1",5,1,602376.67572792259,976.08,974.9,160458.79,0,0,74.69,0,0,152.09,0,0,749.3,749.3,1073.0999999999999,1073.0999999999999,976.08,974.9,976.08,352322.16000000003,263028.82,0,150569.24,150569.24,0,112459.58,599.5,88693.84,88693.84,0,0,0,0,0,63785.55,3755,0,3755,0,60030.55,0,0,0,0,0,0,0,0,0,33433.19,0,0,0,0,0,0,0,0,0,0,0,26597.360000000001,416107.71,62.69,null,null,null,null,195.22,null,null,null,null,692.76,null,653,619,9,1,null,null,1,974.9,0,0,0,0,0,0,0,0,0,0,0,0,0,0,0,0,0,0,0,0,null,null,null,null,null,null,null,0,{"$f":"+INDEX($F3939:$DJ3939,1,Sheet3!$C$1)","v":1},{"$f":"+IF(Sheet3!$C$1=1,IF(DN3939<3,0,1),1)","v":0}]
[3,2,"184",13,4,18,979386.55686560867,6065.95,5689.41,920861.48,0,114.67,60.68,0,0,2381.7199999999998,125.97,36.760000000000005,3460.82,0,0,0,6065.95,809.57999999999993,3831.95,1521480.4600000004,1510689.4600000004,0,865821.09999999986,865821.09999999986,0,644868.35999999987,10791,0,0,0,0,0,0,0,25120.39,18957.400000000001,0,18328.2,629.20000000000005,6162.99,0,6162.99,0,0,0,0,0,0,0,0,0,0,0,0,0,0,0,0,0,0,0,0,1546600.85,18.25,null,null,2.57,35.049999999999997,1162.3499999999999,435.92,0.63,null,30.42,2387.4699999999998,null,null,null,398,13,null,null,0,0,0,0,1,259.76,0,0,0,0,0,0,0,0,0,0,0,0,0,0,0,0,null,null,null,null,null,null,null,18,{"$f":"+INDEX($F3956:$DJ3956,1,Sheet3!$C$1)","v":18},{"$f":"+IF(Sheet3!$C$1=1,IF(DN3956<3,0,1),1)","v":1}]
[3,2,"185","10_1",2,26,688829.60250471579,165.72,152.13999999999999,22556.909999999993,0,10.07,9.9700000000000006,0,0,51.76,12.71,43.67,47.61,47.61,749.40000000000009,749.40000000000009,164.95000000000002,26.959999999999997,36.08,81499.160000000018,37319.44000000001,0,21490.890000000003,21490.890000000003,0,15828.550000000001,11985.95,32193.77,28125.270000000004,1851.7299999999998,2216.77,0,0,0,5091.41,3323.3900000000003,1628.85,1694.54,0,1768.02,0,0,0,0,1679.94,0,0,0,0,0,0,0,0,0,0,0,0,0,0,0,0,88.08,86590.57,8.36,0.49,null,null,0.02,51.42,null,0.09,0.68,39.32,44.71,30,228,296,464,20,56,4,0,0,0,0,0,0,0,0,2,10.37,0,0,0,0,0,0,0,0,0,0,0,0,null,null,null,null,null,null,null,26,{"$f":"+INDEX($F4005:$DJ4005,1,Sheet3!$C$1)","v":26},{"$f":"+IF(Sheet3!$C$1=1,IF(DN4005<3,0,1),1)","v":1}]
[3,2,"185",13,2,198,830166.49647098035,2568.23,2129.9700000000003,239686.05000000005,0,63.63,35.56,0,0,1177.0999999999999,198.59,117.09,1039.8900000000001,0,0,0,2567.25,37.800000000000004,972.88000000000022,505970.41999999987,396190.18000000011,0,228530.16,226894.21000000005,1635.95,167660.0199999999,109780.23999999995,0,0,0,0,0,0,0,30382.200000000012,25838.27,148.19999999999999,25450.870000000003,239.2,4543.9299999999994,0,0,0,0,3720.33,0,0,0,0,823.6,0,0,0,0,0,0,0,0,0,0,0,0,536352.61999999953,120.17,25.39,7,null,14.5,1159.8499999999999,70.16,1.51,2.42,101.75,1054.42,3,2,9,71,9,125,6,1,14.34,0,0,0,0,0,0,11,23.46,0,0,0,0,0,0,0,0,0,0,0,0,null,null,null,null,null,null,null,198,{"$f":"+INDEX($F4022:$DJ4022,1,Sheet3!$C$1)","v":198},{"$f":"+IF(Sheet3!$C$1=1,IF(DN4022<3,0,1),1)","v":1}]
[3,2,"186",6,4,1,64570.425462303509,247.53,246.73,103342.04,0,0,0,0,0,11.26,0,36.83,199.44,0,0,0,247.53,0,0,170213.65000000002,169614.15000000002,0,97185.57,97185.57,0,72428.58,599.5,0,0,0,0,0,0,0,0,0,0,0,0,0,null,null,null,null,null,null,null,null,null,null,null,null,null,null,null,null,null,null,null,null,null,null,170213.65000000002,null,null,null,null,null,98.8,null,null,null,null,150.94999999999999,null,null,null,null,null,null,null,0,0,0,0,0,0,0,0,0,0,0,0,0,0,0,0,0,0,0,0,0,0,null,null,null,null,null,null,null,0,{"$f":"+INDEX($F4059:$DJ4059,1,Sheet3!$C$1)","v":1},{"$f":"+IF(Sheet3!$C$1=1,IF(DN4059<3,0,1),1)","v":0}]
[3,2,"186",13,2,124,369117.55612238683,2140.46,2007.9200000000012,163655.47000000006,0,9.7799999999999994,28.16,0,0,646.42999999999995,212.44,99.19,1154.24,0,0,0,2105.5,164.81999999999994,1052.8900000000003,339694.27999999997,268065.72000000009,0,154272.80999999997,154094.33999999997,178.47,113792.91,71628.56,0,0,0,0,0,0,0,56714.83,46623.590000000004,0,46623.590000000004,0,10091.240000000003,0,0,0,0,6655.24,0,0,0,0,0,0,0,0,0,0,0,0,0,0,0,0,3436,396409.11000000004,44.54,0.06,null,null,0.11,855.5,9.1199999999999992,0.36,0.42,99.14,1135.21,null,26,13,125,3,2,null,0,0,0,0,0,0,0,0,25,40.75,0,0,0,0,0,0,0,0,0,0,0,0,null,null,null,null,null,null,null,124,{"$f":"+INDEX($F4087:$DJ4087,1,Sheet3!$C$1)","v":124},{"$f":"+IF(Sheet3!$C$1=1,IF(DN4087<3,0,1),1)","v":1}]
[3,2,"187","1_2",3,42,2120426.7134126592,3938.05,3736.5,366871.27999999997,0,349.65,1475.12,0,0,918,432.21,156.01,956.71,184.85999999999999,188.15,188.95000000000002,3938.05,1104.29,3480.7600000000007,649718.45999999985,604800.16,0,350127.95999999996,344390.52999999997,5737.43,254672.19999999995,25213.96,19704.34,18175.920000000002,748.68,0,0,0,779.74,184215.12999999998,79584.55,0,79584.55,0,104630.58,0,0,0,0,6937.74,645.75,6713.19,0,0,66727.399999999994,0,0,0,0,0,0,0,0,0,0,18298.900000000001,5307.6,833933.58999999973,907.68,291.31,2.89,null,27.49,943.31,388.69,1.76,28.37,104.79,787.33,null,123,74,29,3,null,null,9,852.27,0,0,0,0,3,147.97999999999999,12,46.68,1,131.25,1,6.15,0,0,0,0,0,0,0,0,null,null,null,null,null,null,null,42,{"$f":"+INDEX($F4104:$DJ4104,1,Sheet3!$C$1)","v":42},{"$f":"+IF(Sheet3!$C$1=1,IF(DN4104<3,0,1),1)","v":1}]
[3,2,"187",12,4,78,31640959.654477928,55283.930000000015,53869.210000000006,3959478.5399999996,0,4630.93,3707.21,0,0,10884.41,541.38,5166.37,34984.559999999998,31130.049999999988,22841.7,28119.8,55283.590000000011,34787.61,53379.140000000021,8603531.9700000007,6428918.8500000015,0,3686469.0700000003,3680108.9000000004,6360.17,2742449.7800000021,46461.2,2128151.919999999,1714841.4199999995,399124.18000000005,0,0,2109.4699999999998,12076.85,2499573.9800000004,296918.28000000003,0,290464.66000000003,6453.6200000000008,2202655.7000000002,9273.6,421975.53,0,0,52320.86,21449.57,20069.38,0,0,1114171.42,0,0,0,0,202511.51,0,0,0,61893.120000000003,0,152096.19,146894.51999999999,11103105.949999997,2297.5100000000002,359.09,45.93,306.58,427.44,11839.12,365.84,11.21,1086.8599999999999,1935.27,33980.36,14,14613,9364,17060,739,1249,281,48,23447.5,2,108.94,13,5792.63,15,2380.9299999999998,28,475.27,3,494.33,10,308.7,0,0,0,0,39,10734.41,0,0,null,null,null,null,null,null,null,78,{"$f":"+INDEX($F4153:$DJ4153,1,Sheet3!$C$1)","v":78},{"$f":"+IF(Sheet3!$C$1=1,IF(DN4153<3,0,1),1)","v":1}]
[3,3,"111",11,3,1,97439.220736716699,61.96,0,0,0,0.14000000000000001,0,0,0,0,0,0,123.58,123.58,57.15,57.15,123.75,0,123.75,8175.57,0,0,0,0,0,0,0,8175.57,0,8175.57,0,0,0,0,4023.4,4023.4,0,0,4023.4,0,0,0,0,0,0,0,0,0,0,0,0,0,0,0,0,0,0,0,0,0,0,0,12198.97,null,null,null,null,null,null,null,null,0.15,null,130.78,null,null,null,null,null,329,20,0,0,0,0,0,0,0,0,0,0,0,0,0,0,0,0,0,0,0,0,0,0,null,null,null,null,null,null,null,0,{"$f":"+INDEX($F4170:$DJ4170,1,Sheet3!$C$1)","v":1},{"$f":"+IF(Sheet3!$C$1=1,IF(DN4170<3,0,1),1)","v":0}]
[3,3,"11B","10_2",2,5,87322.964056004654,107.21000000000001,0,0,0,14.45,4.32,0,0,2.65,0.35,0,166.26,166.26,70.400000000000006,70.400000000000006,56.98,62.45,178.33999999999997,7346.6900000000005,0,0,0,0,0,0,0,7346.6900000000005,7346.6900000000005,0,0,0,0,0,18630.95,14064.400000000001,0,0,14064.400000000001,4566.55,0,0,0,0,0,0,0,0,0,0,0,2287.1999999999998,1396.95,182.4,0,700,0,0,0,0,0,0,25977.640000000003,2.0699999999999998,1.91,null,null,1.17,0.89,0.01,0.28999999999999998,null,null,143.71,null,44,25,null,null,null,null,0,0,0,0,0,0,0,0,0,0,0,0,0,0,2,2.2799999999999998,2,7.78,0,0,2,49.07,null,null,null,null,null,null,null,5,{"$f":"+INDEX($F4219:$DJ4219,1,Sheet3!$C$1)","v":5},{"$f":"+IF(Sheet3!$C$1=1,IF(DN4219<3,0,1),1)","v":1}]
[3,3,"11D","10_1",2,1,26527.188373405141,16.559999999999999,0,0,0,0,0,0,0,16.559999999999999,0,0,0,0,57,57,0,0,16.559999999999999,2358.87,0,0,0,0,0,0,0,2358.87,2358.87,0,0,0,0,0,2503.6,2503.6,0,0,2503.6,0,0,0,0,0,0,0,0,0,0,0,0,0,0,0,0,0,0,0,0,0,0,0,4862.4699999999993,null,null,null,null,null,16.559999999999999,null,null,null,null,20.52,null,4,15,null,null,null,null,0,0,0,0,0,0,0,0,0,0,0,0,0,0,0,0,0,0,0,0,0,0,null,null,null,null,null,null,null,0,{"$f":"+INDEX($F4240:$DJ4240,1,Sheet3!$C$1)","v":1},{"$f":"+IF(Sheet3!$C$1=1,IF(DN4240<3,0,1),1)","v":0}]
[3,3,"16B","10_1",1,16,81374.984877091993,7.5700000000000012,0,0,0,0,0,0,0,5.26,0.17,1.82,0.32,0.32,127.49999999999999,127.49999999999999,0,0,0,8942.6500000000015,0,0,0,0,0,0,0,8942.6500000000015,6260.11,2682.54,0,0,0,0,0,0,0,0,0,0,null,null,null,null,null,null,null,null,null,null,null,null,null,null,null,null,null,null,null,null,null,null,8942.6500000000015,1.93,null,null,null,null,2.71,0.11,0.05,1.6,null,1.47,7,44,65,142,13,14,2,0,0,0,0,0,0,0,0,0,0,0,0,0,0,0,0,0,0,0,0,0,0,null,null,null,null,null,null,null,16,{"$f":"+INDEX($F4284:$DJ4284,1,Sheet3!$C$1)","v":16},{"$f":"+IF(Sheet3!$C$1=1,IF(DN4284<3,0,1),1)","v":1}]
[3,3,"16E","1_1",1,2,11311.227953835691,7.1400000000000006,0,0,0,4.8,4.8,0,0,0.67,0,1.67,0,0,5,5,0,0,0,635.29,0,0,0,0,0,0,0,635.29,236.98,0,0,0,0,398.31,0,0,0,0,0,0,null,null,null,null,null,null,null,null,null,null,null,null,null,null,null,null,null,null,null,null,null,null,635.29,null,4.0999999999999996,1.35,null,0.02,null,null,7.0000000000000007E-2,0.87,0.53,0.09,null,3,3,null,null,null,null,0,0,0,0,0,0,0,0,0,0,0,0,0,0,0,0,0,0,0,0,0,0,null,null,null,null,null,null,null,0,{"$f":"+INDEX($F4301:$DJ4301,1,Sheet3!$C$1)","v":2},{"$f":"+IF(Sheet3!$C$1=1,IF(DN4301<3,0,1),1)","v":0}]
[3,3,"16H",11,3,6,273473.59437290177,91.79,0,0,0,2.82,19.93,0,0,46.76,0,1.07,24.03,24.03,219.45,219.45,0,0,90.97,43948.39,0,0,0,0,0,0,0,43948.39,2300.75,41647.64,0,0,0,0,4616.3500000000004,4616.3500000000004,0,4616.3500000000004,0,0,0,0,0,0,0,0,0,0,0,0,0,0,0,0,0,0,0,0,0,0,0,0,48564.740000000005,11.12,null,null,null,0.09,83.55,null,0.86,null,26.75,231.03,null,17,13,1288,89,581,13,0,0,0,0,0,0,0,0,0,0,0,0,0,0,0,0,0,0,0,0,0,0,null,null,null,null,null,null,null,6,{"$f":"+INDEX($F4350:$DJ4350,1,Sheet3!$C$1)","v":6},{"$f":"+IF(Sheet3!$C$1=1,IF(DN4350<3,0,1),1)","v":1}]
[3,3,"16J",8,1,5,36034.25237673684,26.22,0,0,0,3.84,3.87,0,0,10.26,0,9.34,2.75,2.75,10.45,10.45,0,1.78,24.07,1222.03,0,0,0,0,0,0,0,1222.03,236.99,985.04000000000008,0,0,0,0,5550.5599999999995,5262.2,0,0,5262.2,288.36,0,0,0,0,288.36,0,0,0,0,0,0,0,0,0,0,0,0,0,0,0,0,0,6772.59,2.86,1.44,null,null,1.55,8.61,null,0.04,null,0.08,17.32,null,3,2,14,7,10,2,0,0,0,0,0,0,0,0,1,1.78,0,0,0,0,0,0,0,0,0,0,0,0,null,null,null,null,null,null,null,5,{"$f":"+INDEX($F4367:$DJ4367,1,Sheet3!$C$1)","v":5},{"$f":"+IF(Sheet3!$C$1=1,IF(DN4367<3,0,1),1)","v":1}]
[3,3,"170","10_2",3,2,80864.252874842612,181.1,0,0,0,5.32,0,0,0,16.440000000000001,0,1.43,163.22999999999999,163.23000000000002,136.69999999999999,136.69999999999999,0,0,98.46,13148.43,0,0,0,0,0,0,0,13148.43,12762.75,385.68,0,0,0,0,2827.28,2827.28,0,2827.28,0,0,0,0,0,0,0,0,0,0,0,0,0,0,0,0,0,0,0,0,0,0,0,0,15975.71,null,null,null,null,null,10.24,null,null,1.43,null,147,null,86,45,null,null,null,null,0,0,0,0,0,0,0,0,0,0,0,0,0,0,0,0,0,0,0,0,0,0,null,null,null,null,null,null,null,0,{"$f":"+INDEX($F4392:$DJ4392,1,Sheet3!$C$1)","v":2},{"$f":"+IF(Sheet3!$C$1=1,IF(DN4392<3,0,1),1)","v":0}]
[3,3,"184",12,3,1,122548.87538235281,0.86,0,0,0,0,0,0,0,0,0,0,0.86,0.86,190.2,279,0,0,0,20356.419999999998,0,0,0,0,0,0,0,20356.419999999998,10468.4,9888.02,0,0,0,0,0,0,0,0,0,0,null,null,null,null,null,null,null,null,null,null,null,null,null,null,null,null,null,null,null,null,null,null,20356.419999999998,null,null,null,null,null,0.86,null,null,null,null,null,null,145,66,227,6,null,null,0,0,0,0,0,0,0,0,0,0,0,0,0,0,0,0,0,0,0,0,0,0,null,null,null,null,null,null,null,0,{"$f":"+INDEX($F4432:$DJ4432,1,Sheet3!$C$1)","v":1},{"$f":"+IF(Sheet3!$C$1=1,IF(DN4432<3,0,1),1)","v":0}]
[3,3,"187",8,1,8,77400.416654581481,65.319999999999993,0,0,0,5.24,1.54,0,0,24.93,3.16,23.76,11.93,8,26.249999999999996,26.249999999999996,0,3.03,65.319999999999993,3000.95,0,0,0,0,0,0,0,3000.95,0,3000.95,0,0,0,0,4498.6500000000005,4386.66,0,4386.66,0,111.99,0,0,0,0,0,0,0,0,0,0,0,0,0,0,0,0,0,0,0,0,0,111.99,7499.6,null,null,null,null,0.28000000000000003,6.5,0.02,0.79,4.03,4.7,8.0399999999999991,null,null,null,144,8,null,null,0,0,0,0,0,0,0,0,0,0,0,0,0,0,0,0,0,0,0,0,0,0,null,null,null,null,null,null,null,8,{"$f":"+INDEX($F4481:$DJ4481,1,Sheet3!$C$1)","v":8},{"$f":"+IF(Sheet3!$C$1=1,IF(DN4481<3,0,1),1)","v":1}]
[3,4,"111",6,1,32,793031.32896591863,108.58,0,0,0,54.75,1.06,0,0,8.2799999999999994,0.31,98.15000000000002,0.78,0,2.4,2.4,5.15,4.5299999999999994,108.49,0,0,0,0,0,0,0,0,0,0,0,0,0,0,0,23619.85,21426.190000000002,0,0,21426.190000000002,2193.66,0,0,0,0,0,0,0,0,0,2193.66,0,0,0,0,0,0,0,0,0,0,0,0,23619.85,0.21,null,null,null,0.24,2.31,0.83,22.46,2.02,0.28000000000000003,7.07,null,null,null,18,1,null,null,2,4.53,0,0,0,0,0,0,0,0,0,0,0,0,0,0,0,0,0,0,0,0,null,null,null,null,null,null,null,32,{"$f":"+INDEX($F4498:$DJ4498,1,Sheet3!$C$1)","v":32},{"$f":"+IF(Sheet3!$C$1=1,IF(DN4498<3,0,1),1)","v":1}]
[3,4,"11B",3,1,2,23716.287733153447,11.649999999999999,0,0,0,3.22,3.3,0,0,0,7.56,0.79,0,0,0,0,10.45,0,11.649999999999999,0,0,0,0,0,0,0,0,0,0,0,0,0,0,0,2449,2449,0,0,2449,0,0,0,0,0,0,0,0,0,0,0,0,0,0,0,0,0,0,0,0,0,0,0,2449,null,null,null,null,10.45,null,0.08,null,0.11,0.27,null,null,null,null,null,null,null,null,0,0,0,0,0,0,0,0,0,0,0,0,0,0,0,0,0,0,0,0,0,0,null,null,null,null,null,null,null,{"$f":"+DN4547*DO4547","v":0},{"$f":"+INDEX($F4547:$DJ4547,1,Sheet3!$C$1)","v":2},{"$f":"+IF(Sheet3!$C$1=1,IF(DN4547<3,0,1),1)","v":0}]
[3,4,"11C",5,1,204,1812783.1931188165,868.03999999999951,51.12,3400.8,0,271.31,29.65,0,0,36.24,25.27,769.64000000000021,7.24,0,6.45,13.450000000000001,67.999999999999986,113.30999999999997,743.78999999999962,0,0,0,0,0,0,0,0,0,0,0,0,0,0,0,181267.71999999994,151800.21,0,0,151800.21,29467.510000000002,0,0,0,967.5,0,2282.6999999999998,0,0,0,26217.31,0,0,0,0,0,0,0,0,0,0,0,0,181267.71999999994,2.2799999999999998,16.059999999999999,null,null,10.23,35.119999999999997,21.3,10.67,607.99,8.16,31.16,null,null,null,42,3,null,null,19,111.98,0,0,0,0,0,0,0,0,0,0,8,21.74,0,0,0,0,0,0,0,0,null,null,null,null,null,null,null,204,{"$f":"+INDEX($F4564:$DJ4564,1,Sheet3!$C$1)","v":204},{"$f":"+IF(Sheet3!$C$1=1,IF(DN4564<3,0,1),1)","v":1}]
[3,4,"150","1_1",1,1,40653.360000000001,0.66,0,0,0,0.66,0.66,0,0,0,0,0,0,0,0,0,0,0.61,0,0,0,0,0,0,0,0,0,0,0,0,0,0,0,0,311.10000000000002,0,0,0,0,311.10000000000002,0,311.10000000000002,0,0,0,0,0,0,0,0,0,0,0,0,0,0,0,0,0,0,0,0,311.10000000000002,null,null,null,null,0.66,null,null,null,null,null,null,null,null,null,null,null,null,null,0,0,0,0,1,0.61,0,0,0,0,0,0,0,0,0,0,0,0,0,0,0,0,null,null,null,null,null,null,null,0,{"$f":"+INDEX($F4604:$DJ4604,1,Sheet3!$C$1)","v":1},{"$f":"+IF(Sheet3!$C$1=1,IF(DN4604<3,0,1),1)","v":0}]
[3,4,"16D",4,1,6,849385.71127233678,78.160000000000011,0,0,0,66.31,58.86,0,0,1.54,0.1,17.329999999999998,0.33,0,0,0,0,62.48,2.1,0,0,0,0,0,0,0,0,0,0,0,0,0,0,0,20746.73,514.79999999999995,0,0,514.79999999999995,20231.93,0,0,0,0,0,0,0,0,0,19499.87,0,0,0,0,0,0,0,0,0,0,732.06,0,20746.73,7.0000000000000007E-2,2.93,null,null,54.36,0.37,3.11,12.38,4.17,0.11,null,null,null,null,null,null,null,null,4,61.39,0,0,0,0,1,9.23,0,0,0,0,0,0,0,0,0,0,0,0,0,0,null,null,null,null,null,null,null,6,{"$f":"+INDEX($F4629:$DJ4629,1,Sheet3!$C$1)","v":6},{"$f":"+IF(Sheet3!$C$1=1,IF(DN4629<3,0,1),1)","v":1}]
[3,4,"16E",11,1,18,97114.278341885132,46.530000000000008,10.57,991.40000000000009,0,6.32,3.33,0,0,24.61,0,9.4,9.19,5.58,86.7,103.81400000000001,9.620000000000001,2.31,45.360000000000007,0,0,0,0,0,0,0,0,0,0,0,0,0,0,0,4604.7900000000009,4604.7900000000009,169,2545.2800000000002,1890.5100000000002,0,0,0,0,0,0,0,0,0,0,0,0,0,0,0,0,0,0,0,0,0,0,0,4604.7900000000009,2.76,0.22,null,null,0.15,21.43,0.08,0.02,0.63,6.89,12.03,null,null,1,416,8,53,6,0,0,0,0,0,0,0,0,0,0,0,0,0,0,0,0,0,0,0,0,0,0,null,null,null,null,null,null,null,18,{"$f":"+INDEX($F4646:$DJ4646,1,Sheet3!$C$1)","v":18},{"$f":"+IF(Sheet3!$C$1=1,IF(DN4646<3,0,1),1)","v":1}]
[3,4,"16I","10_1",1,4,27524.959476815129,12.939999999999998,0,0,0,0.33,0.85,0,0,0.55000000000000004,0,10.040000000000001,1.5,1.5,57.2,57.2,0,7.69,9.92,0,0,0,0,0,0,0,0,0,0,0,0,0,0,0,1302.75,1156.9499999999998,1156.9499999999998,0,0,145.80000000000001,0,0,0,0,145.80000000000001,0,0,0,0,0,0,0,0,0,0,0,0,0,0,0,0,0,1302.75,0.72,null,null,0.13,null,1.3,null,null,null,3.63,1.17,null,null,20,5,1,null,null,0,0,0,0,0,0,0,0,1,0.9,0,0,0,0,0,0,0,0,0,0,0,0,null,null,null,null,null,null,null,4,{"$f":"+INDEX($F4695:$DJ4695,1,Sheet3!$C$1)","v":4},{"$f":"+IF(Sheet3!$C$1=1,IF(DN4695<3,0,1),1)","v":1}]
[3,4,"16J","10_2",1,5,42383.727144546458,105.185,79.38,5279.8,0,0.42,2.19,0,0,12.19,0.48,1.1099999999999999,95.61,95.61,80.600000000000009,81.600000000000009,101.13000000000001,7.8599999999999994,111.95,0,0,0,0,0,0,0,0,0,0,0,0,0,0,0,4779.13,4627.13,0,0,4627.13,152,0,0,0,0,0,0,0,0,0,0,0,0,0,0,0,0,0,0,0,0,0,152,4779.13,1.76,null,null,null,null,3.81,0.48,0.16,null,1.1399999999999999,137.12,null,43,32,null,null,null,null,0,0,0,0,0,0,0,0,0,0,0,0,0,0,0,0,0,0,0,0,0,0,null,null,null,null,null,null,null,5,{"$f":"+INDEX($F4712:$DJ4712,1,Sheet3!$C$1)","v":5},{"$f":"+IF(Sheet3!$C$1=1,IF(DN4712<3,0,1),1)","v":1}]
[3,4,"185","10_2",1,1,14168.785244658802,33.11,0,0,0,0,0,0,0,5.57,0,0,27.54,27.54,24.4,24.4,0,0,33.11,0,0,0,0,0,0,0,0,0,0,0,0,0,0,0,1650.98,1650.98,0,1650.98,0,0,0,0,0,0,0,0,0,0,0,0,0,0,0,0,0,0,0,0,0,0,0,0,1650.98,null,null,null,null,null,7.48,null,null,null,null,25.63,null,23,3,null,null,null,null,0,0,0,0,0,0,0,0,0,0,0,0,0,0,0,0,0,0,0,0,0,0,null,null,null,null,null,null,null,0,{"$f":"+INDEX($F4761:$DJ4761,1,Sheet3!$C$1)","v":1},{"$f":"+IF(Sheet3!$C$1=1,IF(DN4761<3,0,1),1)","v":0}]
[3,4,"187",11,1,33,159369.48163497384,182.49,0.53,31.63,0,0.23,3.63,0,0,45.73,4.9800000000000004,17.859999999999996,108.55,8.2700000000000014,126.6,213.6,0,10.08,180.29,0,0,0,0,0,0,0,0,0,0,0,0,0,0,0,16639.430000000004,15137.930000000002,0,15137.930000000002,0,1501.5,0,0,0,0,858.6,0,0,0,0,0,0,0,0,0,0,0,0,0,420,0,0,222.9,16639.430000000004,3.5,null,null,null,0.09,36.520000000000003,0.89,0.47,null,21.01,108.11,null,null,null,307,26,25,15,0,0,0,0,0,0,0,0,4,5.3,0,0,0,0,0,0,0,0,0,0,0,0,null,null,null,null,null,null,null,33,{"$f":"+INDEX($F4789:$DJ4789,1,Sheet3!$C$1)","v":33},{"$f":"+IF(Sheet3!$C$1=1,IF(DN4789<3,0,1),1)","v":1}]
[1,1,"119",0,1,1,0,0,0.53,54.81,0,0,0,0,0,0,0,0,0,0,0,0,0,0,0,846.58,846.58,846.58,0,0,0,0,0,0,0,0,0,0,0,0,0,0,0,0,0,0,null,null,null,null,null,null,null,null,null,null,null,null,null,null,null,null,null,null,null,null,null,null,846.58,null,null,null,null,null,null,null,null,null,null,null,null,null,null,null,null,null,null,0,0,0,0,0,0,0,0,0,0,0,0,0,0,0,0,0,0,0,0,0,0,null,null,null,null,null,null,null,0,{"$f":"+INDEX($F4826:$DJ4826,1,Sheet3!$C$1)","v":1},{"$f":"+IF(Sheet3!$C$1=1,IF(DN4826<3,0,1),1)","v":0}]
[1,1,"119",7,1,2,1812.55521456,2.21,2.1399999999999997,200.13,0,2.21,0,0,0,0.1,0,1.47,0.64,0,0,0,2.21,0,2.21,1693.17,1693.17,1693.17,0,0,0,0,0,0,0,0,0,0,0,0,382.2,382.2,0,0,382.2,0,0,0,0,0,0,0,0,0,0,0,0,0,0,0,0,0,0,0,0,0,0,0,2075.37,null,null,null,null,null,1.57,null,null,null,1,0.46,null,null,null,null,null,null,null,0,0,0,0,0,0,0,0,0,0,0,0,0,0,0,0,0,0,0,0,0,0,null,null,null,null,null,null,null,0,{"$f":"+INDEX($F4843:$DJ4843,1,Sheet3!$C$1)","v":2},{"$f":"+IF(Sheet3!$C$1=1,IF(DN4843<3,0,1),1)","v":0}]
[1,1,"11A",13,1,210,266044.1406905349,221.78000000000003,206.29000000000002,30255.31,0,189.64,11.17,0,0,152.35,1.08,6.7199999999999971,53.34,0,0,0,224.84000000000003,0,45.67,177305.38000000003,177305.38000000003,177305.38000000003,0,0,0,0,0,0,0,0,0,0,0,0,2643.32,2643.32,0,0,2643.32,0,0,0,0,0,0,0,0,0,0,0,0,0,0,0,0,0,0,0,0,0,0,0,179948.69999999998,1.3,19.34,null,null,3.41,142.46,0.54,1.02,3.86,0.18,65.400000000000006,1,3,8,11,null,2,null,0,0,0,0,0,0,0,0,0,0,0,0,0,0,0,0,0,0,0,0,0,0,null,null,null,null,null,null,null,210,{"$f":"+INDEX($F4892:$DJ4892,1,Sheet3!$C$1)","v":210},{"$f":"+IF(Sheet3!$C$1=1,IF(DN4892<3,0,1),1)","v":1}]
[1,1,"11B",5,3,1,26479.869118980441,23.83,12.41,740.62,0,0.1,0.1,0,0,0,0.17,23.56,0,0,0,0,23.83,12.06,23.83,846.59,846.59,846.59,0,0,0,0,0,0,0,0,0,0,0,0,5722.08,2939.8,0,0,2939.8,2782.28,0,0,0,0,131.22,0,0,0,0,2651.06,0,0,0,0,0,0,0,0,0,0,0,0,6568.67,null,null,null,null,0.23,null,null,null,19.21,3.15,0.22,null,null,null,null,null,null,null,1,12.06,0,0,0,0,0,0,1,0.81,0,0,0,0,0,0,0,0,0,0,0,0,null,null,null,null,null,null,null,0,{"$f":"+INDEX($F4909:$DJ4909,1,Sheet3!$C$1)","v":1},{"$f":"+IF(Sheet3!$C$1=1,IF(DN4909<3,0,1),1)","v":0}]
[1,1,"11C",12,1,219,479343.10468037706,292.93000000000006,258.11000000000007,27064.799999999985,0,251.27,83.2,0,0,98.72,0.67,39.389999999999979,71.95,67.53,256.59999999999991,262.59999999999991,293.87000000000012,12.569999999999999,239.04000000000008,185165.9499999999,185165.9499999999,185165.9499999999,0,0,0,0,0,0,0,0,0,0,0,0,62116.30000000001,58462.290000000008,0,0,58462.290000000008,3654.0099999999993,0,0,0,0,0,0,0,0,0,0,0,0,2031.01,0,0,0,0,0,1584,0,0,39,247282.25000000006,4.32,62.46,null,null,20.56,105.37,2.74,2.27,18.28,2.75,100.96,null,58,86,800,118,51,10,0,0,0,0,0,0,0,0,0,0,0,0,0,0,0,0,12,10.62,0,0,0,0,null,null,null,null,null,null,null,219,{"$f":"+INDEX($F4958:$DJ4958,1,Sheet3!$C$1)","v":219},{"$f":"+IF(Sheet3!$C$1=1,IF(DN4958<3,0,1),1)","v":1}]
[1,1,"11D",3,2,1,5223.937964175344,1.62,1.62,96.68,0,0.54,0.54,0,0,0,0.15,0.93,0,0,0,0,1.62,0,1.62,846.59,846.59,846.59,0,0,0,0,0,0,0,0,0,0,0,0,421.2,421.2,0,0,421.2,0,0,0,0,0,0,0,0,0,0,0,0,0,0,0,0,0,0,0,0,0,0,0,1267.79,null,null,null,null,null,null,null,null,null,null,null,null,null,null,null,null,null,null,0,0,0,0,0,0,0,0,0,0,0,0,0,0,0,0,0,0,0,0,0,0,null,null,null,null,null,null,null,0,{"$f":"+INDEX($F4970:$DJ4970,1,Sheet3!$C$1)","v":1},{"$f":"+IF(Sheet3!$C$1=1,IF(DN4970<3,0,1),1)","v":0}]
[1,1,"11E",12,2,11,118487.96581298353,94.825000000000003,45.4,2853.94,0,3.01,12.72,0,0,7.17,13,39.299999999999997,25.14,23.18,30.300000000000004,75.5,99.77,9.26,99.190000000000012,9312.67,9312.67,9312.67,0,0,0,0,0,0,0,0,0,0,0,0,18943.360000000004,16833.099999999999,0,0,16833.099999999999,2110.2600000000002,0,0,0,0,502.2,0,0,0,0,476.42,0,0,0,171.64,0,0,0,0,960,0,0,0,28256.030000000002,9.2899999999999991,9.8800000000000008,null,null,5.29,2.09,15.64,0.61,5.22,16.22,35.33,null,6,7,31,6,42,3,1,4.4400000000000004,0,0,0,0,0,0,4,3.1,0,0,0,0,2,2.39,0,0,0,0,0,0,null,null,null,null,null,null,null,11,{"$f":"+INDEX($F5023:$DJ5023,1,Sheet3!$C$1)","v":11},{"$f":"+IF(Sheet3!$C$1=1,IF(DN5023<3,0,1),1)","v":1}]
[1,1,"150",6,4,11,2732112.7199999997,83.919999999999987,37.04,2230.6999999999998,0,7.16,5.53,0,0,1.28,0,50.759999999999991,26.35,0,0,0,83.47999999999999,6.05,81.22,8925.6299999999992,8925.6299999999992,8925.6299999999992,0,0,0,0,0,0,0,0,0,0,0,0,12999,12879.6,0,0,12879.6,119.4,0,0,0,0,0,0,0,0,0,0,0,0,0,0,0,0,0,0,0,0,0,119.4,21924.63,null,null,null,null,4.83,1.1299999999999999,1.33,26.06,0.37,3.03,59.21,null,null,null,null,null,null,null,0,0,0,0,0,0,0,0,0,0,0,0,0,0,0,0,0,0,0,0,0,0,null,null,null,null,null,null,null,11,{"$f":"+INDEX($F5040:$DJ5040,1,Sheet3!$C$1)","v":11},{"$f":"+IF(Sheet3!$C$1=1,IF(DN5040<3,0,1),1)","v":1}]
[1,1,"16B",3,3,1,27135.344627447441,3.59,3.1,185,0,0,2.99,0,0,0.6,0,0,0,0,0,0,3.59,0,0,846.62,846.62,846.62,0,0,0,0,0,0,0,0,0,0,0,0,0,0,0,0,0,0,null,null,null,null,null,null,null,null,null,null,null,null,null,null,null,null,null,null,null,null,null,null,846.62,null,null,null,null,2.99,0.6,null,null,null,null,0.05,null,null,null,null,null,null,null,0,0,0,0,0,0,0,0,0,0,0,0,0,0,0,0,0,0,0,0,0,0,null,null,null,null,null,null,null,0,{"$f":"+INDEX($F5057:$DJ5057,1,Sheet3!$C$1)","v":1},{"$f":"+IF(Sheet3!$C$1=1,IF(DN5057<3,0,1),1)","v":0}]
[1,1,"16D","10_1",1,10,21386.479050430644,10.11,9.18,1315.53,0,5.01,1.57,0,0,7.35,0,0.16,1.03,1.03,26.400000000000002,26.400000000000002,10.11,0,2.15,8466.5500000000011,8466.5500000000011,8466.5500000000011,0,0,0,0,0,0,0,0,0,0,0,0,493.6,93.6,0,0,93.6,400,0,0,0,0,0,0,0,0,0,0,0,0,0,0,0,0,0,0,400,0,0,0,8960.15,0.27,1.36,null,null,null,7.58,null,0.1,0.11,null,0.64,null,15,14,null,null,null,null,0,0,0,0,0,0,0,0,0,0,0,0,0,0,0,0,0,0,0,0,0,0,null,null,null,null,null,null,null,10,{"$f":"+INDEX($F5106:$DJ5106,1,Sheet3!$C$1)","v":10},{"$f":"+IF(Sheet3!$C$1=1,IF(DN5106<3,0,1),1)","v":1}]
[1,1,"16E","1_2",1,178,185413.284737201,226.40999999999997,207.89000000000004,23741.879999999997,0,36.9,113.33,0,0,60.89,10.45,30.07,11.67,0.16,1.65,1.65,226.33999999999997,0,50.12,150142.39999999999,150142.39999999999,150142.39999999999,0,0,0,0,0,0,0,0,0,0,0,0,9546.3300000000017,9546.3300000000017,466.7,1832.9999999999998,7246.630000000001,0,0,0,0,0,0,0,0,0,0,0,0,0,0,0,0,0,0,0,0,0,0,0,159688.72999999998,42.91,51.87,0.22,0.11,8.93,73.75,12.92,1.34,5.59,20.43,7.38,null,null,6,10,2,1,null,0,0,0,0,0,0,0,0,0,0,0,0,0,0,0,0,0,0,0,0,0,0,null,null,null,null,null,null,null,{"$f":"+DN5123*DO5123","v":178},{"$f":"+INDEX($F5123:$DJ5123,1,Sheet3!$C$1)","v":178},{"$f":"+IF(Sheet3!$C$1=1,IF(DN5123<3,0,1),1)","v":1}]
[1,1,"16F",13,1,66,30627.192494570321,75.770000000000024,68.980000000000018,10198.91,0,3.52,0.91,0,0,53.37,0.5,5.2099999999999991,15.78,0,0,0,75.460000000000022,0,8.81,55503.169999999969,55503.169999999969,55503.169999999969,0,0,0,0,0,0,0,0,0,0,0,0,595.14,595.14,595.14,0,0,0,0,0,0,0,0,0,0,0,0,0,0,0,0,0,0,0,0,0,0,0,0,0,56098.309999999969,0.68,6.02,null,null,1.25,55.98,0.88,0.08,1.3,3.58,8.26,null,null,3,11,1,6,1,0,0,0,0,0,0,0,0,0,0,0,0,0,0,0,0,0,0,0,0,0,0,null,null,null,null,null,null,null,66,{"$f":"+INDEX($F5182:$DJ5182,1,Sheet3!$C$1)","v":66},{"$f":"+IF(Sheet3!$C$1=1,IF(DN5182<3,0,1),1)","v":1}]
[1,1,"16G","1_1",3,1,97349.704500000007,2.02,1.93,115.18,0,1.58,1.58,0,0,0,0.05,0,0.39,0,0,0,2.02,1.41,1.63,846.6,846.6,846.6,0,0,0,0,0,0,0,0,0,0,0,0,1256.8,410.8,0,0,410.8,846,0,846,0,0,0,0,0,0,0,0,0,0,0,0,0,0,0,0,0,0,0,0,2103.4,null,null,null,null,1.58,null,0.06,null,null,null,0.45,null,null,null,null,null,null,null,0,0,0,0,1,1.41,0,0,0,0,0,0,0,0,0,0,0,0,0,0,0,0,null,null,null,null,null,null,null,0,{"$f":"+INDEX($F5188:$DJ5188,1,Sheet3!$C$1)","v":1},{"$f":"+IF(Sheet3!$C$1=1,IF(DN5188<3,0,1),1)","v":0}]
[1,1,"16H",12,1,51,111760.20907628315,138.25000000000006,119.87,8449.34,0,6.53,16.62,0,0,22.96,3.3,73.699999999999989,21.67,19.109999999999996,47.400000000000006,47.400000000000006,138.23000000000005,27.460000000000004,124.92000000000003,43160.729999999996,43160.729999999996,43160.729999999996,0,0,0,0,0,0,0,0,0,0,0,0,29026.349999999988,24609.609999999993,0,6144.6500000000005,18464.96,4416.7400000000007,0,0,0,0,4416.74,0,0,0,0,0,0,0,0,0,0,0,0,0,0,0,0,0,72187.080000000016,4.34,4.8600000000000003,null,null,3.01,30.47,0.98,1.19,6.05,60.43,45.76,null,null,null,102,23,167,8,0,0,0,0,0,0,0,0,24,27.46,0,0,0,0,0,0,0,0,0,0,0,0,null,null,null,null,null,null,null,51,{"$f":"+INDEX($F5237:$DJ5237,1,Sheet3!$C$1)","v":51},{"$f":"+IF(Sheet3!$C$1=1,IF(DN5237<3,0,1),1)","v":1}]
[1,1,"16I",6,3,10,471837.31447312818,42.510000000000005,23.14,1453.3200000000002,0,3.44,1.64,0,0,2.5099999999999998,0.05,34.53,3.78,0.13,0.6,0.6,42.13,0.37,37.67,8466.02,8466.02,8466.02,0,0,0,0,0,0,0,0,0,0,0,0,4950.3900000000003,4890.45,0,1667.45,3223,59.94,0,0,0,0,59.94,0,0,0,0,0,0,0,0,0,0,0,0,0,0,0,0,0,13416.41,null,0.32,null,null,0.55000000000000004,5.67,0.05,7.99,null,10.14,1.65,null,null,null,null,null,10,1,0,0,0,0,0,0,0,0,1,0.37,0,0,0,0,0,0,0,0,0,0,0,0,null,null,null,null,null,null,null,10,{"$f":"+INDEX($F5254:$DJ5254,1,Sheet3!$C$1)","v":10},{"$f":"+IF(Sheet3!$C$1=1,IF(DN5254<3,0,1),1)","v":1}]
[1,1,"170","1_2",4,1,110912.82,1.82,1.77,177.15,0,0,1.8,0,0,0,0,0.02,0,0,0,0,1.82,1.7,0,846.59,846.59,846.59,0,0,0,0,0,0,0,0,0,0,0,0,1020,0,0,0,0,1020,0,1020,0,0,0,0,0,0,0,0,0,0,0,0,0,0,0,0,0,0,0,0,1866.5900000000001,null,null,null,null,1.8,null,null,null,null,null,null,null,null,null,null,null,null,null,0,0,0,0,1,1.7,0,0,0,0,0,0,0,0,0,0,0,0,0,0,0,0,null,null,null,null,null,null,null,0,{"$f":"+INDEX($F5303:$DJ5303,1,Sheet3!$C$1)","v":1},{"$f":"+IF(Sheet3!$C$1=1,IF(DN5303<3,0,1),1)","v":0}]
[1,1,"170",12,2,6,32980.41379844871,20.88,19.759999999999998,1318.27,0,1.1399999999999999,1.02,0,0,12.79,0,2.25,4.82,4.82,12.100000000000001,13.100000000000001,20.88,0,0,4774.4800000000005,4774.4800000000005,4774.4800000000005,0,0,0,0,0,0,0,0,0,0,0,0,0,0,0,0,0,0,null,null,null,null,null,null,null,null,null,null,null,null,null,null,null,null,null,null,null,null,null,null,4774.4800000000005,1.34,null,null,null,1.01,14.48,null,0.57999999999999996,0.67,0.42,3.12,null,null,null,49,3,19,1,0,0,0,0,0,0,0,0,0,0,0,0,0,0,0,0,0,0,0,0,0,0,null,null,null,null,null,null,null,6,{"$f":"+INDEX($F5320:$DJ5320,1,Sheet3!$C$1)","v":6},{"$f":"+IF(Sheet3!$C$1=1,IF(DN5320<3,0,1),1)","v":1}]
[1,1,"185",0,2,1,4202.6086037809719,0.9,0.77,209.87,0,0.34,0.34,0,0,0,0,0,0.56000000000000005,0,0,2.2999999999999998,0.9,0,0,846.6,846.6,846.6,0,0,0,0,0,0,0,0,0,0,0,0,0,0,0,0,0,0,null,null,null,null,null,null,null,null,null,null,null,null,null,null,null,null,null,null,null,null,null,null,846.6,null,0.23,null,null,0.11,null,null,null,null,null,0.46,null,null,null,null,null,null,null,0,0,0,0,0,0,0,0,0,0,0,0,0,0,0,0,0,0,0,0,0,0,null,null,null,null,null,null,null,0,{"$f":"+INDEX($F5367:$DJ5367,1,Sheet3!$C$1)","v":1},{"$f":"+IF(Sheet3!$C$1=1,IF(DN5367<3,0,1),1)","v":0}]
[1,1,"185",7,2,2,13059.031083118502,9.6999999999999993,6.47,626.43000000000006,0,3.26,0.04,0,0,1.59,0,8.07,0,0,0,0,9.6999999999999993,0,0,1693.22,1693.22,1693.22,0,0,0,0,0,0,0,0,0,0,0,0,0,0,0,0,0,0,null,null,null,null,null,null,null,null,null,null,null,null,null,null,null,null,null,null,null,null,null,null,1693.22,null,null,null,null,null,1.63,null,0.04,0.17,7.76,null,null,null,null,null,null,null,null,0,0,0,0,0,0,0,0,0,0,0,0,0,0,0,0,0,0,0,0,0,0,null,null,null,null,null,null,null,0,{"$f":"+INDEX($F5385:$DJ5385,1,Sheet3!$C$1)","v":2},{"$f":"+IF(Sheet3!$C$1=1,IF(DN5385<3,0,1),1)","v":0}]
[1,1,"187",8,1,137,149551.3251982824,384.31000000000029,333.78999999999985,22403.530000000006,0,6.96,37.26,0,0,84.04,26.84,165.57999999999993,70.59,1.3,4.2,4.2,381.2800000000002,92.219999999999942,296.77000000000004,115412.03000000004,115412.03000000004,115412.03000000004,0,0,0,0,0,0,0,0,0,0,0,0,41293.69999999999,26416.510000000006,0,26416.510000000006,0,14877.19,0,697.5,0,0,14076.09,0,0,0,0,0,0,0,0,0,0,0,0,0,0,0,0,103.6,156705.73000000001,31.52,0.21,null,null,2.69,102.2,28.45,3.87,2.68,146.87,34.479999999999997,null,null,null,54,4,4,1,0,0,0,0,1,4.4400000000000004,0,0,77,88.34,0,0,0,0,0,0,0,0,0,0,0,0,null,null,null,null,null,null,null,137,{"$f":"+INDEX($F5434:$DJ5434,1,Sheet3!$C$1)","v":137},{"$f":"+IF(Sheet3!$C$1=1,IF(DN5434<3,0,1),1)","v":1}]
[1,2,"111",4,1,19,42259.302595031411,20.59,23.380000000000003,6600.6500000000005,0,13.48,7.42,0,0,3.62,2.48,1.8,5.27,0,0,0,20.59,0,12.52,12002.220000000001,9681,0,5519.86,5519.86,0,4161.1400000000003,2321.2199999999998,0,0,0,0,0,0,0,2134.21,2134.21,0,0,2134.21,0,0,0,0,0,0,0,0,0,0,0,0,0,0,0,0,0,0,0,0,0,0,0,14136.43,0.1,1.95,null,null,1.93,7.99,1.87,0.23,0.91,0.56999999999999995,11.12,null,null,null,14,1,null,null,0,0,0,0,0,0,0,0,0,0,0,0,0,0,0,0,0,0,0,0,0,0,null,null,null,null,null,null,null,19,{"$f":"+INDEX($F5451:$DJ5451,1,Sheet3!$C$1)","v":19},{"$f":"+IF(Sheet3!$C$1=1,IF(DN5451<3,0,1),1)","v":1}]
[1,2,"112",4,3,29,1213697.6243999989,93.07999999999997,83.66,20271.500000000007,0,66.5,63.31,0,0,26.65,7.0000000000000007E-2,2.9600000000000004,0.09,0,81.799999999999983,81.799999999999983,93.029999999999959,0.54,13.690000000000001,47063.760000000009,33767.700000000004,0,19467.499999999989,19297.949999999993,169.55,14300.200000000003,9762.8700000000008,3533.1899999999996,3533.1899999999996,0,0,0,0,0,4313.18,3305.7,0,0,3305.7,1007.48,0,0,0,0,87.48,0,0,0,0,0,0,0,0,0,0,0,0,0,920,0,0,0,51376.94000000001,3.48,20.32,null,null,39.03,24.04,0.15,0.51,1.41,null,0.1,4,35,74,10,3,null,null,0,0,0,0,0,0,0,0,1,0.54,0,0,0,0,0,0,0,0,0,0,0,0,null,null,null,null,null,null,null,29,{"$f":"+INDEX($F5500:$DJ5500,1,Sheet3!$C$1)","v":29},{"$f":"+IF(Sheet3!$C$1=1,IF(DN5500<3,0,1),1)","v":1}]
[1,2,"112",9,5,16,11230995.122620275,504.24,447.79000000000008,318670.38999999996,0,441,10.8,0,0,449.42,22.32,20.75,0.95,0.95,5603.4,5603.4,504.19,118.63,13.32,904469.08,522930.78,0,300436.77999999997,300436.77999999997,0,222494.00000000006,9492.49,372045.81,115.04,0,371930.76999999996,0,0,0,26166.07,2309.1999999999998,0,0,2309.1999999999998,23856.87,0,0,0,0,0,0,0,0,0,23856.87,0,0,0,0,0,0,0,0,0,0,0,0,930635.15,0.08,0.74,null,null,2.34,437.17,21.43,10.53,6.67,null,0.95,3490,274,2936,null,null,null,null,6,118.63,0,0,0,0,0,0,0,0,0,0,0,0,0,0,0,0,0,0,0,0,null,null,null,null,null,null,null,16,{"$f":"+INDEX($F5517:$DJ5517,1,Sheet3!$C$1)","v":16},{"$f":"+IF(Sheet3!$C$1=1,IF(DN5517<3,0,1),1)","v":1}]
[1,2,"119",4,4,5,1061949.7430539688,42.280000000000008,37.01,4728.5200000000004,0,39.450000000000003,20.02,0,0,8.1,0,7.26,6.9,0,0,0,42.280000000000008,0,13.35,10233.32,7766.77,0,4465.32,4465.32,0,3301.45,2466.5500000000002,0,0,0,0,0,0,0,1541.9,1541.9,0,0,1541.9,0,0,0,0,0,0,0,0,0,0,0,0,0,0,0,0,0,0,0,0,0,0,0,11775.22,null,2.59,null,null,24.56,10.26,3.59,null,0.57999999999999996,null,1.45,null,null,null,null,null,null,null,0,0,0,0,0,0,0,0,0,0,0,0,0,0,0,0,0,0,0,0,0,0,null,null,null,null,null,null,null,5,{"$f":"+INDEX($F5548:$DJ5548,1,Sheet3!$C$1)","v":5},{"$f":"+IF(Sheet3!$C$1=1,IF(DN5548<3,0,1),1)","v":1}]
[1,2,"119",13,1,217,371659.94800220226,407.30000000000013,422.49,105261.35,0,305.45999999999998,14.51,0,0,270.58,20.03,11.39,91.76,0,0,0,407.90000000000015,1.22,132.06999999999996,217462.21999999994,170040.99999999997,0,97702.099999999948,97702.099999999948,0,72338.900000000009,46500.92,920.3,920.3,0,0,0,0,0,3662.9600000000009,3662.9600000000009,0,0,3662.9600000000009,0,0,0,0,0,0,0,0,0,0,0,0,0,0,0,0,0,0,0,0,0,0,0,221125.17999999996,0.43,13.34,null,null,4.58,295.89,2.8,0.93,8.27,1.63,159.35,null,26,28,21,3,null,null,0,0,0,0,0,0,0,0,0,0,0,0,0,0,0,0,0,0,0,0,0,0,null,null,null,null,null,null,null,217,{"$f":"+INDEX($F5582:$DJ5582,1,Sheet3!$C$1)","v":217},{"$f":"+IF(Sheet3!$C$1=1,IF(DN5582<3,0,1),1)","v":1}]
[1,2,"11A",5,4,1,142248.90681698744,66.55,53.74,4172.0600000000004,0,61.55,0,0,0,0,1.57,64.98,0,0,0,0,66.55,50.49,43.25,7502.82,6903.32,0,3979.29,3979.29,0,2924.03,599.5,0,0,0,0,0,0,0,9140.7099999999991,3543.6,0,0,3543.6,5597.11,0,0,0,0,0,0,0,0,0,5597.11,0,0,0,0,0,0,0,0,0,0,0,0,16643.53,null,null,null,null,null,null,4.3,null,61.92,null,0.44,null,null,null,null,null,null,null,1,50.49,0,0,0,0,0,0,0,0,0,0,0,0,0,0,0,0,0,0,0,0,null,null,null,null,null,null,null,0,{"$f":"+INDEX($F5599:$DJ5599,1,Sheet3!$C$1)","v":1},{"$f":"+IF(Sheet3!$C$1=1,IF(DN5599<3,0,1),1)","v":0}]
[1,2,"11B",6,3,25,1126789.3339892419,310.03000000000009,287.55,27211.989999999994,0,76.86,9.32,0,0,7.17,59.56,205.88,28.1,25.38,45.4,45.4,306.69000000000005,150,248.65,58118.540000000008,44574.559999999998,0,25852.21,25374.16,478.05,18722.350000000002,9550.6899999999987,3993.29,3403.43,589.86,0,0,0,0,80356.38,31994.75,0,0,31994.75,48361.630000000005,0,16121.4,0,0,2962.23,2191.86,0,0,0,22477.49,0,0,1808.65,0,0,0,0,0,2800,0,0,0,138474.92000000001,5.6,0.39,null,null,2.83,7.53,12.74,66.11,6.12,9.25,88.42,null,25,20,18,5,null,null,4,82.6,0,0,3,64.569999999999993,0,0,2,22.84,0,0,2,22.74,0,0,1,18.21,0,0,0,0,null,null,null,null,null,null,null,25,{"$f":"+INDEX($F5648:$DJ5648,1,Sheet3!$C$1)","v":25},{"$f":"+IF(Sheet3!$C$1=1,IF(DN5648<3,0,1),1)","v":1}]
[1,2,"11B","10_2",1,160,409463.52027796122,808.21499999999958,696.66000000000008,194286.15999999995,0,209.67,64.94,0,0,83.64,9.76,5.0400000000000009,910.27,602.66999999999985,309.59999999999991,334.59999999999985,1057.03,102.60999999999999,1074.77,406069.36999999982,316315.79000000015,0,182051.90999999992,181919.31999999992,132.59,134263.87999999992,67862.720000000016,21890.859999999997,21890.859999999997,0,0,0,0,0,192308.61,174556.06000000003,0,0,174556.06000000003,17752.55,0,0,0,0,0,0,0,121.2,0,0,0,1344,12969.25,1610.3,0,0,0,0,1680,0,0,27.8,598377.98000000033,40.68,20.91,null,null,7.3,96.52,9.31,0.11,1.35,0.72,996.02,2,199,181,null,null,10,1,0,0,0,0,0,0,0,0,0,0,0,0,0,0,15,20.69,34,75.75,0,0,0,0,null,null,null,null,null,null,null,160,{"$f":"+INDEX($F5665:$DJ5665,1,Sheet3!$C$1)","v":160},{"$f":"+IF(Sheet3!$C$1=1,IF(DN5665<3,0,1),1)","v":1}]
[1,2,"11C","10_1",2,200,1812819.4115216355,792.89999999999975,722.86999999999955,172710.46000000005,0,673.71,117.57,0,0,302.63,1.01,32.710000000000015,362.78,362.77999999999992,2066.5499999999997,2069.5499999999997,804.10999999999979,160.41999999999999,636.49999999999989,482906.80000000016,280100.86,0,160888.49000000002,160652.18000000002,236.31,119212.37000000007,74019.060000000027,128786.88000000005,123364.25000000004,5422.63,0,0,0,0,232741.42000000007,138034.68000000005,0,0,138034.68000000005,94706.740000000034,0,0,0,0,0,0,0,0,0,0,0,0,23645.96,0,0,3850,0,0,67117.38,0,0,93.4,715648.22000000032,20.71,94.04,null,null,12.04,323.04000000000002,7.35,2.12,26,4.49,600.01,38,1025,1388,291,20,133,14,0,0,0,0,0,0,0,0,0,0,0,0,0,0,0,0,46,132.29,0,0,8,40.799999999999997,null,null,null,null,null,null,null,200,{"$f":"+INDEX($F5714:$DJ5714,1,Sheet3!$C$1)","v":200},{"$f":"+IF(Sheet3!$C$1=1,IF(DN5714<3,0,1),1)","v":1}]
[1,2,"11C",13,2,47,478413.59791010874,345.86500000000001,323.12000000000006,74227.180000000008,0,250.54,10.57,0,0,238.27,5.25,16.019999999999996,93.59,0,0,0,364.87,0,148.65999999999997,150457.08000000002,117949.14,0,68286.63,67882.350000000006,404.28000000000003,49662.51,25272.609999999997,7235.33,236.65,0,6998.68,0,0,0,11392.95,11392.95,0,0,11392.95,0,0,0,0,0,0,0,0,0,0,0,0,0,0,0,0,0,0,0,0,0,0,0,161850.03,2.77,12.52,null,null,2.5099999999999998,229.22,11.41,0.89,11.67,2.37,113.25,116,38,109,null,null,32,1,0,0,0,0,0,0,0,0,0,0,0,0,0,0,0,0,0,0,0,0,0,0,null,null,null,null,null,null,null,47,{"$f":"+INDEX($F5729:$DJ5729,1,Sheet3!$C$1)","v":47},{"$f":"+IF(Sheet3!$C$1=1,IF(DN5729<3,0,1),1)","v":1}]
[1,2,"11E",0,1,19,0,49.199999999999996,130.04000000000002,11526.9,0,0,3.55,0,0,0,0,0,0,0,0,0,3.55,0,3.55,27058.039999999997,18754.86,0,10762.999999999996,10762.999999999996,0,7991.86,8303.18,0,0,0,0,0,0,0,35632.679999999993,23132.809999999998,0,0,23132.809999999998,12499.87,0,2732.69,0,0,4676.37,0,0,0,0,5090.8100000000004,0,0,0,0,0,0,0,0,0,0,0,0,62690.720000000001,0.46,0.21,null,null,3.85,2.69,3.22,11.48,3.61,69.97,87.29,null,null,null,null,null,null,null,3,22.33,0,0,1,9.24,0,0,8,29.06,0,0,0,0,0,0,0,0,0,0,0,0,null,null,null,null,null,null,null,19,{"$f":"+INDEX($F5779:$DJ5779,1,Sheet3!$C$1)","v":19},{"$f":"+IF(Sheet3!$C$1=1,IF(DN5779<3,0,1),1)","v":1}]
[1,2,"11E",4,4,6,883043.26532819984,193.36,204.62,21850.46,0,0.1,75.989999999999995,0,0,11.37,36.18,21.46,48.36,46.6,86,86,193.36,13.82,191.6,43782.659999999996,32739.32,0,18839.82,18839.82,0,13899.5,3648.3599999999997,7394.98,6442.11,952.87,0,0,0,0,24213.5,17588.099999999999,0,0,17588.099999999999,6625.4000000000005,0,0,0,0,813.24,0,0,0,0,0,0,0,0,688.16,0,0,0,0,5124,0,0,0,67996.160000000003,29.4,7.31,null,null,26.1,24.35,41.44,0.28000000000000003,2.34,12.26,70.23,8,58,36,30,14,null,null,0,0,0,0,0,0,0,0,3,5.0199999999999996,0,0,0,0,2,8.8000000000000007,0,0,0,0,0,0,null,null,null,null,null,null,null,6,{"$f":"+INDEX($F5796:$DJ5796,1,Sheet3!$C$1)","v":6},{"$f":"+IF(Sheet3!$C$1=1,IF(DN5796<3,0,1),1)","v":1}]
[1,2,"150",2,4,2,344209.01800000004,260.78999999999996,259.85000000000002,70890.58,0,202.08,232.95,0,0,0.18,0,5.81,21.85,0,0,0,260.61,205.48000000000002,170.66,169489.66999999998,116312.08,0,66627.5,66627.5,0,49684.58,1199,51978.59,0,0,0,0,0,51978.59,74281.56,5710,0,0,5710,68571.56,0,0,0,0,0,0,6039.4,0,0,62532.160000000003,0,0,0,0,0,0,0,0,0,0,0,0,243771.23,null,null,201.72,null,null,39.86,null,1.01,null,null,20.68,null,6,14,null,null,null,null,2,205.48,0,0,0,0,0,0,0,0,1,84.2,0,0,0,0,0,0,0,0,0,0,null,null,null,null,null,null,null,0,{"$f":"+INDEX($F5845:$DJ5845,1,Sheet3!$C$1)","v":2},{"$f":"+IF(Sheet3!$C$1=1,IF(DN5845<3,0,1),1)","v":0}]
[1,2,"150",8,3,98,4120686.3001484065,2511.0200000000004,2114.6400000000003,168672.57999999993,0,319.77999999999997,78.150000000000006,0,0,140.22999999999999,46.7,1891.8300000000004,354.11,81.28,117.4,117.4,2471.9400000000005,693.67,1856.6500000000008,350588.86000000004,280285.45,0,162109.24000000005,160138.82000000004,1970.42,118176.21000000005,58924.250000000029,11379.16,2655.6800000000003,8723.48,0,0,0,0,305950.93,204154.18999999994,0,2633.08,201521.10999999996,101796.74,0,0,0,0,61627.15,0,0,0,0,35451.19,0,0,0,0,0,0,0,0,0,0,0,4718.3999999999996,656539.78999999969,13.2,null,null,null,27.94,192.22,77.150000000000006,224.8,91.77,43.78,667.61,1,23,9,327,20,147,2,7,80.7,0,0,0,0,0,0,39,468.52,0,0,0,0,0,0,0,0,0,0,0,0,null,null,null,null,null,null,null,98,{"$f":"+INDEX($F5862:$DJ5862,1,Sheet3!$C$1)","v":98},{"$f":"+IF(Sheet3!$C$1=1,IF(DN5862<3,0,1),1)","v":1}]
[1,2,"16B",6,4,197,39449265.502793282,4679.5600000000013,4017.8299999999995,310118.15000000002,0,3259.43,77.180000000000007,0,0,279.51,125.99,4146.7300000000014,50.15,9.8899999999999988,117.24999999999999,117.24999999999999,4617.9100000000017,3272.6899999999982,80.33,643610.3000000004,521556.17999999988,0,304046.75000000006,296369.82000000007,7676.93,217509.43,119741.14999999986,2312.9699999999998,2312.9699999999998,0,0,0,0,0,1352052.1599999992,3803.99,561,3242.99,0,1348248.1699999992,7142.11,4799.59,0,0,0,4382.07,0,0,0,1325495.43,0,0,0,0,0,0,0,0,0,0,6428.97,0,1995662.4600000004,49.91,null,null,null,17.940000000000001,248.15,158.49,3654.47,287.67,14.55,110.69,null,22,184,8,2,3,1,181,3248.99,2,12.78,1,10.41,5,46.52,0,0,0,0,11,43.07,0,0,0,0,0,0,0,0,null,null,null,null,null,null,null,197,{"$f":"+INDEX($F5911:$DJ5911,1,Sheet3!$C$1)","v":197},{"$f":"+IF(Sheet3!$C$1=1,IF(DN5911<3,0,1),1)","v":1}]
[1,2,"16B",15,2,11,118148.5183020321,51.730000000000004,52.000000000000007,7962.18,0,6.55,22.8,0,0,14.09,6.79,2.0500000000000003,6,0,2.4,2.4,51.730000000000004,0,0,17406.61,13215.89,0,7594.3599999999988,7594.3599999999988,0,5621.53,4190.72,0,0,0,0,0,0,0,0,0,0,0,0,0,null,null,null,null,null,null,null,null,null,null,null,null,null,null,null,null,null,null,null,null,null,null,17406.61,3.75,0.49,null,null,15.48,9.07,11.63,0.3,null,null,10.27,null,null,3,null,null,null,null,0,0,0,0,0,0,0,0,0,0,0,0,0,0,0,0,0,0,0,0,0,0,null,null,null,null,null,null,null,11,{"$f":"+INDEX($F5941:$DJ5941,1,Sheet3!$C$1)","v":11},{"$f":"+IF(Sheet3!$C$1=1,IF(DN5941<3,0,1),1)","v":1}]
[1,2,"16D",9,2,22,256636.84568381199,83.19,79.63,27523.07,0,50.83,10.18,0,0,63.29,0.22,0.97000000000000008,8.5299999999999994,8.5299999999999994,123.79999999999997,125.39999999999998,83.19,0,3.52,55653.350000000006,45607.63,0,26259.250000000004,26259.250000000004,0,19348.38,8594.68,1451.04,706.99,0,744.05,0,0,0,915.2,915.2,0,0,915.2,0,0,0,0,0,0,0,0,0,0,0,0,0,0,0,0,0,0,0,0,0,0,0,56568.55000000001,1.89,9.98,null,null,0.2,62.55,0.95,0.45,0.28000000000000003,null,5.75,59,13,146,null,null,6,null,0,0,0,0,0,0,0,0,0,0,0,0,0,0,0,0,0,0,0,0,0,0,null,null,null,null,null,null,null,22,{"$f":"+INDEX($F5976:$DJ5976,1,Sheet3!$C$1)","v":22},{"$f":"+IF(Sheet3!$C$1=1,IF(DN5976<3,0,1),1)","v":1}]
[1,2,"16D",12,4,1,211372.90255132917,1.37,0.72,3747.55,0,1.1100000000000001,0.44,0,0,0.93,0,0,0,0,81.599999999999994,81.599999999999994,1.37,0,0,10383.31,6206.84,0,3580.32,3580.32,0,2626.52,86.32,4090.15,0,0,4090.15,0,0,0,0,0,0,0,0,0,null,null,null,null,null,null,null,null,null,null,null,null,null,null,null,null,null,null,null,null,null,null,10383.31,null,null,null,null,0.55000000000000004,0.82,null,null,null,null,null,41,23,38,null,null,null,null,0,0,0,0,0,0,0,0,0,0,0,0,0,0,0,0,0,0,0,0,0,0,null,null,null,null,null,null,null,0,{"$f":"+INDEX($F5993:$DJ5993,1,Sheet3!$C$1)","v":1},{"$f":"+IF(Sheet3!$C$1=1,IF(DN5993<3,0,1),1)","v":0}]
[1,2,"16E",9,5,4,3479180.309046505,167.37,128.49,80454.030000000013,0,131.41999999999999,29.03,0,0,120.31,9.18,7.0000000000000007E-2,8.7799999999999994,8.7799999999999994,1892.6,1892.6,166.79,70.45,0,257805.63999999998,132018.65999999997,0,75848.33,75848.33,0,56170.33,2398,123388.98,230.07,0,123158.91,0,0,0,0,0,0,0,0,0,null,null,null,null,null,null,null,null,null,null,null,null,null,null,null,null,null,null,null,null,null,null,257805.63999999998,2.06,10.29,null,3.82,null,135.72999999999999,7.6,7.0000000000000007E-2,null,null,17.84,1156,186,925,null,null,null,null,0,0,0,0,0,0,0,0,0,0,0,0,0,0,0,0,0,0,0,0,0,0,null,null,null,null,null,null,null,4,{"$f":"+INDEX($F6042:$DJ6042,1,Sheet3!$C$1)","v":4},{"$f":"+IF(Sheet3!$C$1=1,IF(DN6042<3,0,1),1)","v":1}]
[2,1,"111",5,2,28,415818.21194438543,204.97999999999996,165.57999999999998,9923.9599999999991,0,105.87,2.4,0,0,16.95,1.41,181.30999999999997,2.91,0.17,2.5499999999999998,2.5499999999999998,204.77999999999997,98.59999999999998,204.78999999999996,23704.920000000002,23704.920000000002,23704.920000000002,0,0,0,0,0,0,0,0,0,0,0,0,67397.17,40610.800000000003,0,0,40610.800000000003,26786.370000000006,0,0,0,0,0,3824.27,0,0,0,22962.1,0,0,0,0,0,0,0,0,0,0,0,0,91102.09,0.95,3.52,null,null,0.8,13.2,2.81,1.2,162.55000000000001,1.28,6.72,null,null,null,16,1,null,null,16,98.6,0,0,0,0,0,0,0,0,0,0,6,36.99,0,0,0,0,0,0,0,0,null,null,null,null,null,null,null,28,{"$f":"+INDEX($F6059:$DJ6059,1,Sheet3!$C$1)","v":28},{"$f":"+IF(Sheet3!$C$1=1,IF(DN6059<3,0,1),1)","v":1}]
[1,2,"16F","1_2",2,4,39557.841034708217,25.46,23.57,7153.94,0,5.31,7.82,0,0,10.15,1.21,6.0699999999999994,0.21,0,0,0,25.46,0,9.1300000000000008,13588.359999999999,11809.4,0,6789.24,6789.24,0,5020.16,1778.96,0,0,0,0,0,0,0,972.35,972.35,972.35,0,0,0,0,0,0,0,0,0,0,0,0,0,0,0,0,0,0,0,0,0,0,0,0,0,14560.71,1.41,3.22,null,null,0.54,9.3699999999999992,null,0.06,0.38,null,0.01,null,null,null,null,null,null,null,0,0,0,0,0,0,0,0,0,0,0,0,0,0,0,0,0,0,0,0,0,0,null,null,null,null,null,null,null,4,{"$f":"+INDEX($F6076:$DJ6076,1,Sheet3!$C$1)","v":4},{"$f":"+IF(Sheet3!$C$1=1,IF(DN6076<3,0,1),1)","v":1}]
[1,2,"16G","1_1",1,81,170479.71515306467,135.72999999999996,133.5,22543.670000000009,0,96.16,78.930000000000007,0,0,14.78,8.1,8.9999999999999947,24.92,3.34,5.4499999999999993,5.4499999999999993,135.67999999999995,0.45,127.63999999999996,52956.950000000019,37078.520000000011,0,21227.769999999993,21143.179999999993,84.59,15850.749999999998,15759.929999999995,118.5,118.5,0,0,0,0,0,24123.989999999991,24123.989999999991,0,252.2,23871.78999999999,0,0,0,0,0,0,0,0,0,0,0,0,0,0,0,0,0,0,0,0,0,0,0,77080.94,10.18,56.04,null,null,8.2899999999999991,22.49,8.1,0.15,1.25,5.37,35.869999999999997,2,5,12,18,1,14,null,0,0,0,0,0,0,0,0,0,0,0,0,0,0,0,0,0,0,0,0,0,0,null,null,null,null,null,null,null,81,{"$f":"+INDEX($F6126:$DJ6126,1,Sheet3!$C$1)","v":81},{"$f":"+IF(Sheet3!$C$1=1,IF(DN6126<3,0,1),1)","v":1}]
[1,2,"16G",6,3,94,5695088.3515962353,460.6699999999999,398.83000000000015,37382.94999999999,0,294.13,34.39,0,0,30.69,17.29,321.10999999999996,57.86,27.43,46.650000000000006,46.650000000000006,458.95999999999992,164.45,452.33,95139.569999999934,61525.329999999994,0,35454.749999999993,35136.550000000003,318.20000000000005,26070.579999999991,29416.100000000006,4198.1399999999994,1626.54,2571.6000000000004,0,0,0,0,164545.25,76859.42,0,2224.4,74635.02,87685.829999999987,786.52,14781.22,0,0,0,803.25,0,0,0,69435.64,0,0,530.1,0,0,0,0,0,1349.1,0,0,0,259684.81999999998,19.16,6.44,null,null,11.97,32.97,8.06,209.43,17.75,26.36,101.25,1,15,16,258,6,12,3,32,142.44,1,1.02,12,18.2,0,0,0,0,0,0,3,7.65,0,0,1,2.79,0,0,0,0,null,null,null,null,null,null,null,94,{"$f":"+INDEX($F6141:$DJ6141,1,Sheet3!$C$1)","v":94},{"$f":"+IF(Sheet3!$C$1=1,IF(DN6141<3,0,1),1)","v":1}]
[1,2,"16H",6,1,18,35917.795562169013,41.980000000000004,42.32,6086.58,0,1.17,0.97,0,0,1.76,0.2,30.74,8.31,0,0.6,0.6,41.980000000000004,11.46,37.020000000000003,14542.369999999999,9890.36,0,5676.29,5676.29,0,4214.0699999999988,4652.0099999999993,0,0,0,0,0,0,0,8054.0699999999979,6197.55,0,2419.75,3777.8,1856.52,0,0,0,0,1856.52,0,0,0,0,0,0,0,0,0,0,0,0,0,0,0,0,0,22596.440000000002,null,null,null,null,null,6.2,1.29,4.05,2.42,20.260000000000002,19.260000000000002,null,4,6,null,null,null,null,0,0,0,0,0,0,0,0,8,11.46,0,0,0,0,0,0,0,0,0,0,0,0,null,null,null,null,null,null,null,18,{"$f":"+INDEX($F6190:$DJ6190,1,Sheet3!$C$1)","v":18},{"$f":"+IF(Sheet3!$C$1=1,IF(DN6190<3,0,1),1)","v":1}]
[1,2,"16H","10_1",3,21,1088882.2825666112,1828.9300000000003,1726.1,244330.08999999997,0,247.48,60.73,0,0,256.92,2.2599999999999998,82.850000000000009,968.23,968.2299999999999,2113.5500000000002,2113.5500000000002,1370.77,430.69000000000005,1341.53,545605.37999999989,392975.81,0,225552.93,225552.93,0,167422.87999999998,12551.829999999998,140077.74,139215.62999999998,862.11,0,0,0,0,152115.10999999999,48576.85,0,40944.449999999997,7632.4,103538.26000000001,0,57606.85,0,0,6383.52,0,0,0,0,23798.959999999999,0,0,0,0,2554.25,0,0,0,9240,0,0,3954.68,697720.49,null,null,null,null,null,520.76,0.09,4.04,1.73,85.48,1533.07,2,1512,1200,34,5,3,1,2,191.34,0,0,3,664.25,0,0,6,44.93,0,0,0,0,0,0,0,0,1,118.97,0,0,null,null,null,null,null,null,null,21,{"$f":"+INDEX($F6207:$DJ6207,1,Sheet3!$C$1)","v":21},{"$f":"+IF(Sheet3!$C$1=1,IF(DN6207<3,0,1),1)","v":1}]
[1,2,"16I",7,1,137,142778.66270425118,432.34999999999997,489.31999999999994,40166.619999999981,0,2.4300000000000002,0.63,0,0,16.89,6.27,361.66999999999973,46.89,4.7799999999999994,3.45,3.45,432.33,167.89999999999995,220.18999999999994,104129.49000000002,60120.489999999991,0,34542.000000000007,34280.910000000003,261.08999999999997,25578.490000000009,44008.999999999993,0,0,0,0,0,0,0,55086.909999999989,29105.73,4644.1499999999987,15568.380000000001,8893.1999999999989,25981.18,0,0,0,0,25693.18,0,0,0,0,0,0,0,0,0,0,0,0,0,0,0,0,288,159216.40000000002,0.63,null,null,null,0.54,37.65,8.6199999999999992,0.03,2.0299999999999998,328.41,116.09,null,null,null,26,3,2,null,0,0,0,0,0,0,0,0,71,159.12,0,0,0,0,0,0,0,0,0,0,0,0,null,null,null,null,null,null,null,137,{"$f":"+INDEX($F6256:$DJ6256,1,Sheet3!$C$1)","v":137},{"$f":"+IF(Sheet3!$C$1=1,IF(DN6256<3,0,1),1)","v":1}]
[1,2,"16I","10_2",2,9,119017.36999872173,288.12,284.96000000000004,32764.680000000004,0,9.18,2.48,0,0,44.3,0,9.34,232,199.88,163.39999999999998,163.39999999999998,288.12,0,240.66,62907.81,54166.860000000008,0,31165.43,31165.43,0,23001.43,5275.91,3465.04,3465.04,0,0,0,0,0,10540.77,10540.77,2253.02,8287.75,0,0,0,0,0,0,0,0,0,0,0,0,0,0,0,0,0,0,0,0,0,0,0,0,73448.58,9.89,null,null,null,0.11,44.13,null,0.91,0.14000000000000001,2.97,236.11,null,140,45,null,null,null,null,0,0,0,0,0,0,0,0,0,0,0,0,0,0,0,0,0,0,0,0,0,0,null,null,null,null,null,null,null,9,{"$f":"+INDEX($F6273:$DJ6273,1,Sheet3!$C$1)","v":9},{"$f":"+IF(Sheet3!$C$1=1,IF(DN6273<3,0,1),1)","v":1}]
[1,2,"16J",5,3,24,1062995.7255972335,1486.4099999999999,1308.7199999999996,82397.449999999968,0,169.61,12.21,0,0,92.5,73.11,1259.68,48.91,0,0.6,1.6,1482.0699999999997,1149,1438.5299999999995,150974.88,136439.97,0,78667.34,78667.34,0,57772.630000000005,14534.91,0,0,0,0,0,0,0,264867.3,87797.329999999987,0,4780.93,83016.399999999994,177069.96999999997,0,31106.37,0,1558.2,6951.73,8164.79,0,0,0,126857.48,0,0,0,0,0,0,0,0,0,0,0,2431.4,415842.17999999993,30.01,2,null,null,1.05,60.56,105.14,2.87,991.56,176.35,158.88999999999999,null,null,1,null,null,null,null,21,952.44,0,0,5,115.96,0,0,7,50.16,0,0,3,89.31,0,0,0,0,0,0,0,0,null,null,null,null,null,null,null,24,{"$f":"+INDEX($F6307:$DJ6307,1,Sheet3!$C$1)","v":24},{"$f":"+IF(Sheet3!$C$1=1,IF(DN6307<3,0,1),1)","v":1}]
[1,2,"16J",12,1,132,325169.5355177109,735.54000000000019,705.67,67402.990000000005,0,49.85,135.44,0,0,121.12,69.260000000000005,107.59999999999997,302.12,58.17,91.900000000000034,187.20000000000007,734.98000000000025,102.58000000000001,719.61000000000024,167316.8299999999,106533.47999999998,0,61211.69,61172.180000000008,39.51,45321.789999999964,56658.53999999995,4124.8099999999995,2000.55,2124.2599999999998,0,0,0,0,135781.29999999996,128751.39999999998,0,54.6,128696.79999999997,7029.9000000000005,0,0,0,0,3644.71,0,0,87,0,347.68,0,0,668.8,0,0,0,0,0,1000,0,0,1281.71,303098.12999999995,78.489999999999995,34.28,null,null,10.31,174.79,64.56,2.3199999999999998,19.940000000000001,60.16,503.58,3,25,32,342,36,159,16,1,2.12,0,0,0,0,0,0,15,22.94,0,0,0,0,0,0,2,3.52,0,0,0,0,null,null,null,null,null,null,null,132,{"$f":"+INDEX($F6338:$DJ6338,1,Sheet3!$C$1)","v":132},{"$f":"+IF(Sheet3!$C$1=1,IF(DN6338<3,0,1),1)","v":1}]
[1,2,"170",9,2,2,31381.199788986749,3.0199999999999996,3.04,8597.18,0,0,0,0,0,2.0299999999999998,0,0,0.99,0.99,20.6,20.6,3.0199999999999996,0,0,14335.610000000002,13966.2,0,8025.1500000000005,8025.1500000000005,0,5941.0499999999993,369.41,0,0,0,0,0,0,0,0,0,0,0,0,0,null,null,null,null,null,null,null,null,null,null,null,null,null,null,null,null,null,null,null,null,null,null,14335.610000000002,null,null,null,null,null,3.04,null,null,null,null,0.06,13,7,9,null,null,null,null,0,0,0,0,0,0,0,0,0,0,0,0,0,0,0,0,0,0,0,0,0,0,null,null,null,null,null,null,null,0,{"$f":"+INDEX($F6387:$DJ6387,1,Sheet3!$C$1)","v":2},{"$f":"+IF(Sheet3!$C$1=1,IF(DN6387<3,0,1),1)","v":0}]
[1,2,"170",12,1,3,5580.3183814718077,9.4600000000000009,9.34,635.28000000000009,0,2.2200000000000002,1.62,0,0,0.34,0,0.47,7.03,0.08,4.2,4.2,9.4600000000000009,0,0,2809.81,1073.67,0,615.03,615.03,0,458.64000000000004,911.46,824.68000000000006,0,824.68000000000006,0,0,0,0,0,0,0,0,0,0,null,null,null,null,null,null,null,null,null,null,null,null,null,null,null,null,null,null,null,null,null,null,2809.81,1.51,null,null,null,0.11,0.42,null,0.18,0.27,null,6.95,null,null,null,35,4,null,null,0,0,0,0,0,0,0,0,0,0,0,0,0,0,0,0,0,0,0,0,0,0,null,null,null,null,null,null,null,3,{"$f":"+INDEX($F6404:$DJ6404,1,Sheet3!$C$1)","v":3},{"$f":"+IF(Sheet3!$C$1=1,IF(DN6404<3,0,1),1)","v":1}]
[1,2,"181",6,4,58,12601648.654176671,8324.65,7952.02,660642.0900000002,0,334.7,203.13,0,0,1178.32,87.25,4448.6899999999996,2407.2600000000002,1056,582.30000000000007,634.9,8287.2699999999986,1629.76,6952.7600000000011,1205780.7500000002,1097906.7199999995,0,637581.80000000005,618967.78000000014,18614.02,460324.92,34167.599999999999,73706.429999999978,42115.19,18512.93,0,0,1466.7,11611.61,299881.00999999995,135655.13,0,121546.12999999999,14108.999999999998,164225.88,0,38928.1,0,0,379.08,0,0,0,0,99249.76,0,0,0,0,13189.81,0,0,0,994,0,6992.73,4492.3999999999996,1505661.7599999993,61.13,null,108.16,null,27.28,1108.47,25.81,114.72,26.66,8.67,3040.7,null,340,156,1441,65,52,2,11,1089.0899999999999,0,0,1,394.89,1,142.35,1,2.34,0,0,0,0,0,0,0,0,6,404.72,0,0,null,null,null,null,null,null,null,58,{"$f":"+INDEX($F6453:$DJ6453,1,Sheet3!$C$1)","v":58},{"$f":"+IF(Sheet3!$C$1=1,IF(DN6453<3,0,1),1)","v":1}]
[1,2,"181","10_1",4,24,4519188.9760135887,5382.7100000000009,5016.9299999999994,582574.97000000009,0,647.54999999999995,509.73,0,0,2079.5500000000002,4.04,109.10000000000001,2680.29,2680.29,7582.6000000000013,7583.2000000000007,5332.04,2601.31,5373.8200000000006,1532256.76,941651.48,0,539856.84,539856.84,0,401794.64,14286.08,576319.19999999984,546332.17999999993,25712.849999999995,0,0,0,4274.17,257483.43,85032.07,0,78112.77,6919.3,172451.36,0,2777.25,0,0,0,0,0,0,0,108689.41,0,0,0,0,673.8,0,0,0,23900,0,0,36410.9,1789740.19,335.97,null,43.91,null,0.62,2383.9899999999998,2.88,1.54,25.42,65.22,2510.0300000000002,7,4651,4330,1133,62,214,21,7,1763.02,0,0,1,9.66,0,0,0,0,0,0,0,0,0,0,0,0,1,102.5,0,0,null,null,null,null,null,null,null,24,{"$f":"+INDEX($F6470:$DJ6470,1,Sheet3!$C$1)","v":24},{"$f":"+IF(Sheet3!$C$1=1,IF(DN6470<3,0,1),1)","v":1}]
[1,2,"184",5,2,91,1190301.4579046005,1048.78,1032.9199999999998,84984.73000000001,0,310.94,36.58,0,0,35.28,72.66,720.03999999999974,184.22,0.77,11.1,11.1,1045.6799999999998,187.29000000000008,978.68,192662.23999999996,138164.10000000003,0,80133.910000000033,78947.970000000016,1185.9399999999998,58030.190000000017,53199.44000000001,1298.7,0,1298.7,0,0,0,0,114378.33000000005,76808.709999999992,0,76808.709999999992,0,37569.619999999995,0,0,0,0,19002.29,0,0,0,0,15376.49,0,0,0,0,0,0,0,0,0,0,2640.44,550.4,307040.56999999989,30.28,null,null,2.33,0.24,32.93,93.74,6.54,376.83,249.2,154.72,null,null,null,68,4,null,null,8,65.16,0,0,0,0,2,20.14,42,117.69,0,0,0,0,0,0,0,0,0,0,0,0,null,null,null,null,null,null,null,91,{"$f":"+INDEX($F6519:$DJ6519,1,Sheet3!$C$1)","v":91},{"$f":"+IF(Sheet3!$C$1=1,IF(DN6519<3,0,1),1)","v":1}]
[1,2,"184",8,3,113,5322957.6808500625,8648.7400000000016,8127.5300000000025,786097.03000000038,0,1407.74,1807.83,0,0,1809.99,466.37,2821.2400000000007,1743.31,316.24000000000007,377.44999999999993,381.44999999999993,8637.3900000000012,3045.74,7696.1699999999992,1428500.0600000008,1306712.5500000005,0,765320.97,739674.97000000009,25646,541391.57999999984,67988.02,53799.490000000013,21535.589999999997,31754.46,0,0,509.44,0,717359.92999999982,230844.74,0,213422.94,17421.8,486515.19000000012,0,84348.77,0,0,95126.58,16933.990000000002,0,0,0,247555.08,0,0,0,0,1402.88,0,0,0,525,0,25482.560000000001,15140.33,2145859.9900000012,1072.8900000000001,47.32,null,245.23,137.28,1895.08,257.45,70.14,235.51,1712.58,1788.71,1,171,113,1462,84,18,5,36,1724.3,0,0,5,306.14,8,224.7,41,816.81,0,0,6,221.8,0,0,0,0,1,49.1,0,0,null,null,null,null,null,null,null,113,{"$f":"+INDEX($F6535:$DJ6535,1,Sheet3!$C$1)","v":113},{"$f":"+IF(Sheet3!$C$1=1,IF(DN6535<3,0,1),1)","v":1}]
[1,2,"185",2,3,51,2793357.86781384,1798.43,1754.3100000000002,609633.17000000016,0,1445.99,1443.78,0,0,89.24,27.84,63.480000000000004,174.09,0,11.5,11.5,1798.3700000000001,1104.4699999999998,1002.5199999999999,1385759.45,991613.55999999994,0,569823.48999999976,567446.74999999977,2376.7399999999998,421790.06999999989,30574.5,363571.39,0,1043.6099999999999,0,0,0,362527.78,521305.77000000008,48506.51999999999,0,48506.51999999999,0,472799.24999999994,0,0,0,0,0,0,0,0,0,472799.25,0,0,0,0,0,0,0,0,0,0,0,0,1907065.22,null,11.31,1345.73,null,0.23,130,34.83,0.54,2.96,null,187.34,null,1,null,55,3,null,null,36,1104.47,0,0,0,0,0,0,0,0,0,0,0,0,0,0,0,0,0,0,0,0,null,null,null,null,null,null,null,51,{"$f":"+INDEX($F6584:$DJ6584,1,Sheet3!$C$1)","v":51},{"$f":"+IF(Sheet3!$C$1=1,IF(DN6584<3,0,1),1)","v":1}]
[1,2,"185",6,3,38,2328144.765601215,1867.0300000000002,1726.3499999999997,177492.38,0,79.790000000000006,28.75,0,0,300.99,8.89,489.60000000000008,1038.8,1.95,18.900000000000002,18.900000000000002,1866.1499999999996,60.410000000000004,1478.9,318898.08,294995.90999999997,0,174108.66999999998,162978.15999999997,11130.51,120887.23999999999,22485.31,1416.8600000000001,345.11,1071.75,0,0,0,0,69049.66,41274.749999999993,0,41274.749999999993,0,27774.910000000003,0,8313.94,0,0,1306.3699999999999,1609.81,0,0,0,15290.61,0,0,0,0,0,0,0,0,0,0,1254.18,0,387947.74,23.18,2.99,null,null,9.43,267.32,14.67,69.88,9.23,27.41,1060.25,null,4,3,42,11,7,4,4,31.18,0,0,1,29.23,1,8.99,1,7.68,0,0,1,16.29,0,0,0,0,0,0,0,0,null,null,null,null,null,null,null,38,{"$f":"+INDEX($F6601:$DJ6601,1,Sheet3!$C$1)","v":38},{"$f":"+IF(Sheet3!$C$1=1,IF(DN6601<3,0,1),1)","v":1}]
[1,2,"185","10_1",2,35,447312.97794942127,270.80999999999995,249.29,51814.569999999992,0,12.67,9.67,0,0,95.3,12.71,39.190000000000005,113.94,113.93999999999998,676.95000000000027,677.45000000000027,267.58,24.39,40.06,145837.87999999998,85594.060000000027,0,49330.399999999994,49330.399999999994,0,36263.659999999989,15359.83,44883.99,43953.83,930.16,0,0,0,0,5292.79,3915.19,1312.9499999999998,2295.44,306.8,1377.6,0,0,0,0,1289.52,0,0,0,0,0,0,0,0,0,0,0,0,0,0,0,0,88.08,151130.66999999998,5.56,null,null,null,0.12,115.76,null,0.1,0.82,38.21,105.15,9,348,478,467,25,36,6,0,0,0,0,0,0,0,0,2,7.96,0,0,0,0,0,0,0,0,0,0,0,0,null,null,null,null,null,null,null,35,{"$f":"+INDEX($F6618:$DJ6618,1,Sheet3!$C$1)","v":35},{"$f":"+IF(Sheet3!$C$1=1,IF(DN6618<3,0,1),1)","v":1}]
[1,2,"186",4,2,19,203347.87680236861,83.049999999999983,77.929999999999993,6721.69,0,9.59,18.61,0,0,6.88,5.46,35.749999999999993,16.350000000000001,8,3.45,3.45,83.169999999999987,40.85,73.180000000000007,20028.93,11160.72,0,6441.4799999999987,6322.4,119.08,4719.24,8387.1400000000012,481.07,0,481.07,0,0,0,0,15509.880000000003,8347.4,0,8347.4,0,7162.48,0,837.09,0,0,3797.2,0,0,0,0,1700.99,0,0,0,0,0,0,0,0,0,0,0,827.2,35538.81,7.44,null,null,null,12.62,10.24,4.2699999999999996,0.36,0.4,33.5,14.82,null,null,null,34,2,null,null,1,9.8800000000000008,0,0,1,2.66,0,0,12,23.35,0,0,0,0,0,0,0,0,0,0,0,0,null,null,null,null,null,null,null,19,{"$f":"+INDEX($F6667:$DJ6667,1,Sheet3!$C$1)","v":19},{"$f":"+IF(Sheet3!$C$1=1,IF(DN6667<3,0,1),1)","v":1}]
[1,2,"186",11,2,505,5665821.788855724,10595.970000000005,9499.4100000000017,688756.51000000082,0,62.21,129.52000000000001,0,0,2331.4699999999998,103.23,1332.4700000000005,6670.24,5192.099999999994,7622.7499999999955,7681.3499999999958,10553.35,5523.7499999999991,10196.43,2419593.879999998,1131628.2699999996,0,656242.81000000075,643557.30000000051,12685.509999999998,475385.46000000014,275623.18999999965,1012342.4200000004,31844.579999999998,980497.84000000043,0,0,0,0,1067771.9899999998,556067.01999999909,0,554561.21999999916,1505.8,511704.97000000026,0,169551.2,0,0,133809.32999999999,2661.7,0,413.75,0,62582.35,0,0,0,0,19153.650000000001,0,0,0,6844,0,0,116688.99,3487365.8699999982,73.97,7.64,null,null,19.46,3311.05,1.9,6.39,14.86,1310.04,6342.54,7,276,223,42451,2647,2507,309,18,712.06,0,0,21,1102.51,0,0,260,841.13,0,0,10,25.38,0,0,0,0,24,516.86,0,0,null,null,null,null,null,null,null,505,{"$f":"+INDEX($F6704:$DJ6704,1,Sheet3!$C$1)","v":505},{"$f":"+IF(Sheet3!$C$1=1,IF(DN6704<3,0,1),1)","v":1}]
[1,2,"187","1_2",4,10,2086428.114055431,1683.56,1630.4,147829.47,0,309.27999999999997,606.72,0,0,276.27,56.69,66.5,677.38,362.78,239,245,1683.56,963.04,1683.56,272001.31,246018.47999999998,0,142515.89000000001,139135.21,3380.68,103502.59,5966.3099999999995,20016.52,20016.52,0,0,0,0,0,117782.86,22190.17,0,22190.17,0,95592.69,0,0,0,0,741.96,0,6900.5,0,0,53633.84,0,0,0,0,0,0,0,0,0,0,34316.39,0,389784.17,338.87,236.28,null,null,14.57,293.08,49.97,0.13,13.91,49.42,653.79999999999995,null,188,121,null,null,null,null,4,492.87,0,0,0,0,4,241.4,3,4.46,1,350.41,0,0,0,0,0,0,0,0,0,0,null,null,null,null,null,null,null,10,{"$f":"+INDEX($F6732:$DJ6732,1,Sheet3!$C$1)","v":10},{"$f":"+IF(Sheet3!$C$1=1,IF(DN6732<3,0,1),1)","v":1}]
[1,2,"187",5,5,6,4365746.1409365889,2436.0300000000002,2123.8599999999997,150081.56,0,1425.71,45.47,0,0,235.41,9.2799999999999994,1967.56,178.31,57.35,128.64999999999998,128.64999999999998,2435.44,1045.83,2118.3200000000002,262150.58,246589.69,0,141403.91000000003,141403.91000000003,0,105185.78,3597,11963.89,11963.89,0,0,0,0,0,150874.90000000002,26215.68,0,22349.279999999999,3866.4,124659.22,17506.740000000002,53066.23,0,0,793.8,554.4,0,0,0,36012.870000000003,0,0,0,0,0,0,0,0,0,0,16725.18,0,413025.48,43.39,null,null,null,null,253.33,10.92,0.78,1617.25,206.57,134.63999999999999,null,97,46,null,null,null,null,3,467.15,1,296.93,2,276.85000000000002,1,530.76,1,4.9000000000000004,0,0,1,5.52,0,0,0,0,0,0,0,0,null,null,null,null,null,null,null,6,{"$f":"+INDEX($F6749:$DJ6749,1,Sheet3!$C$1)","v":6},{"$f":"+IF(Sheet3!$C$1=1,IF(DN6749<3,0,1),1)","v":1}]
[1,3,"111","10_1",1,32,51302.069203731102,28.445,11.049999999999999,2972.6899999999996,0,20.83,1.1200000000000001,0,0,11.2,0,0.63000000000000012,22.96,22.960000000000004,73.850000000000009,73.850000000000009,0,0,35.230000000000004,9468.6399999999958,0,0,0,0,0,0,0,9468.6399999999958,9468.6399999999958,0,0,0,0,0,8730.9000000000015,7870.9000000000005,0,0,7870.9000000000005,860,0,0,0,0,0,0,0,0,0,0,0,0,0,0,0,0,0,0,860,0,0,0,18199.54,null,3.36,null,null,0.63,20.88,null,0.25,2.15,0.21,187.38,null,95,54,9,1,3,1,0,0,0,0,0,0,0,0,0,0,0,0,0,0,0,0,0,0,0,0,0,0,null,null,null,null,null,null,null,32,{"$f":"+INDEX($F6798:$DJ6798,1,Sheet3!$C$1)","v":32},{"$f":"+IF(Sheet3!$C$1=1,IF(DN6798<3,0,1),1)","v":1}]
[1,3,"112",9,1,1,3166.950808342468,0,0,0,0,0,0,0,0,0,0,0,0,0,3.4,3.4,0,0,0,203.81,0,0,0,0,0,0,0,203.81,203.81,0,0,0,0,0,0,0,0,0,0,0,null,null,null,null,null,null,null,null,null,null,null,null,null,null,null,null,null,null,null,null,null,null,203.81,null,null,null,null,null,null,null,null,null,null,null,null,null,null,null,null,null,null,0,0,0,0,0,0,0,0,0,0,0,0,0,0,0,0,0,0,0,0,0,0,null,null,null,null,null,null,null,0,{"$f":"+INDEX($F6815:$DJ6815,1,Sheet3!$C$1)","v":1},{"$f":"+IF(Sheet3!$C$1=1,IF(DN6815<3,0,1),1)","v":0}]
[1,3,"11B",8,2,4,32826.51620461962,31.049999999999997,0,0,0,2.08,14.14,0,0,2.0499999999999998,0.2,7.6,7.06,7.0600000000000005,9.75,11.75,0,0,30.989999999999995,1244.94,0,0,0,0,0,0,0,1244.94,236.98,1007.9599999999999,0,0,0,0,6105.9,6105.9,0,0,6105.9,0,0,0,0,0,0,0,0,0,0,0,0,0,0,0,0,0,0,0,0,0,0,0,7350.84,2.83,0.37,null,null,0.95,14.73,0.43,null,2.15,1.03,19.09,null,2,null,322,15,52,4,0,0,0,0,0,0,0,0,0,0,0,0,0,0,0,0,0,0,0,0,0,0,null,null,null,null,null,null,null,4,{"$f":"+INDEX($F6864:$DJ6864,1,Sheet3!$C$1)","v":4},{"$f":"+IF(Sheet3!$C$1=1,IF(DN6864<3,0,1),1)","v":1}]
[1,3,"11C","10_1",3,1,35110.794964868786,10.44,0,0,0,10.44,7.0000000000000007E-2,0,0,5.88,0,2.69,1.8,1.8,37.35,37.35,0,0,10.44,2473.9,0,0,0,0,0,0,0,2473.9,2473.9,0,0,0,0,0,2808.4,2136.4,0,0,2136.4,672,0,0,0,0,0,0,0,0,0,0,0,0,0,0,0,0,0,0,672,0,0,0,5282.3,null,null,null,null,0.16,6.65,null,2.1,null,null,5.38,2,15,41,null,null,5,null,0,0,0,0,0,0,0,0,0,0,0,0,0,0,0,0,0,0,0,0,0,0,null,null,null,null,null,null,null,0,{"$f":"+INDEX($F6885:$DJ6885,1,Sheet3!$C$1)","v":1},{"$f":"+IF(Sheet3!$C$1=1,IF(DN6885<3,0,1),1)","v":0}]
[1,3,"150",6,2,2,17857.04,5.73,0,0,0,0,0,0,0,0.02,0,5.71,0,0,6.4499999999999993,6.4499999999999993,0,0,5.61,962.14,0,0,0,0,0,0,0,962.14,0,962.14,0,0,0,0,1275.9000000000001,1275.9000000000001,0,0,1275.9000000000001,0,0,0,0,0,0,0,0,0,0,0,0,0,0,0,0,0,0,0,0,0,0,0,2238.04,null,null,null,null,null,0.02,null,null,null,0.14000000000000001,1.03,null,null,null,17,5,null,null,0,0,0,0,0,0,0,0,0,0,0,0,0,0,0,0,0,0,0,0,0,0,null,null,null,null,null,null,null,0,{"$f":"+INDEX($F6929:$DJ6929,1,Sheet3!$C$1)","v":2},{"$f":"+IF(Sheet3!$C$1=1,IF(DN6929<3,0,1),1)","v":0}]
[1,3,"16B",0,5,1,682699.13255985139,2.2999999999999998,0,0,0,0,0.99,0,0,0,0,1.31,0,0,7.5,689.6,2.2999999999999998,0,0,1076.68,0,0,0,0,0,0,0,1076.68,0,1076.68,0,0,0,0,0,0,0,0,0,0,null,null,null,null,null,null,null,null,null,null,null,null,null,null,null,null,null,null,null,null,null,null,1076.68,0.99,null,null,null,null,null,null,null,null,1.31,3.13,null,null,null,28,3,7,1,0,0,0,0,0,0,0,0,0,0,0,0,0,0,0,0,0,0,0,0,0,0,null,null,null,null,null,null,null,0,{"$f":"+INDEX($F6946:$DJ6946,1,Sheet3!$C$1)","v":1},{"$f":"+IF(Sheet3!$C$1=1,IF(DN6946<3,0,1),1)","v":0}]
[1,3,"16F","10_1",1,22,46706.984792481533,6.72,0,0,0,0.17,2.27,0,0,2.2200000000000002,0,1.69,0.54,0.54,88.899999999999991,89.199999999999989,0,0,3.39,7583.5699999999961,0,0,0,0,0,0,0,7583.5699999999961,7583.5699999999961,0,0,0,0,0,440.70000000000005,440.70000000000005,440.70000000000005,0,0,0,0,0,0,0,0,0,0,0,0,0,0,0,0,0,0,0,0,0,0,0,0,0,8024.2699999999968,0.39,0.95,null,null,0.14000000000000001,2.73,0.21,0.06,0.14000000000000001,1.49,0.65,null,63,63,1,1,null,1,0,0,0,0,0,0,0,0,0,0,0,0,0,0,0,0,0,0,0,0,0,0,null,null,null,null,null,null,null,22,{"$f":"+INDEX($F6995:$DJ6995,1,Sheet3!$C$1)","v":22},{"$f":"+IF(Sheet3!$C$1=1,IF(DN6995<3,0,1),1)","v":1}]
[1,3,"16G",9,2,1,4019.2332151697633,2.17,0,0,0,2.04,0.7,0,0,0.14000000000000001,0,0,1.33,1.33,2,2,0,0,2.0299999999999998,118.5,0,0,0,0,0,0,0,118.5,118.5,0,0,0,0,0,527.79999999999995,527.79999999999995,0,0,527.79999999999995,0,0,0,0,0,0,0,0,0,0,0,0,0,0,0,0,0,0,0,0,0,0,0,646.29999999999995,0.16,0.33,null,null,0.09,null,null,null,null,null,1.39,null,2,4,null,null,null,null,0,0,0,0,0,0,0,0,0,0,0,0,0,0,0,0,0,0,0,0,0,0,null,null,null,null,null,null,null,0,{"$f":"+INDEX($F7012:$DJ7012,1,Sheet3!$C$1)","v":1},{"$f":"+IF(Sheet3!$C$1=1,IF(DN7012<3,0,1),1)","v":0}]
[1,3,"16J","10_2",4,1,120742.16786133731,177.02500000000001,0,0,0,8.2899999999999991,2.0299999999999998,0,0,2.85,0,0,327.37,0,28.4,28.4,0,0,242.36,2243.84,0,0,0,0,0,0,0,2243.84,2243.84,0,0,0,0,0,1927.6,1927.6,0,0,1927.6,0,0,0,0,0,0,0,0,0,0,0,0,0,0,0,0,0,0,0,0,0,0,0,4171.4400000000005,null,null,null,null,null,null,null,null,null,null,null,6,15,23,null,null,null,null,0,0,0,0,0,0,0,0,0,0,0,0,0,0,0,0,0,0,0,0,0,0,null,null,null,null,null,null,null,0,{"$f":"+INDEX($F7061:$DJ7061,1,Sheet3!$C$1)","v":1},{"$f":"+IF(Sheet3!$C$1=1,IF(DN7061<3,0,1),1)","v":0}]
[1,3,"16J",12,1,7,23771.587739070772,17.02,0,0,0,1.99,6.42,0,0,0.89,0,4.0699999999999994,5.64,5.64,14.6,14.6,0,0,17.02,1680.19,0,0,0,0,0,0,0,1680.19,236.98,1443.21,0,0,0,0,4128.38,4128.38,0,0,4128.38,0,0,0,0,0,0,0,0,0,0,0,0,0,0,0,0,0,0,0,0,0,0,0,5808.57,2.96,1.23,null,null,0.64,1.1000000000000001,null,0.13,0.06,1.28,9.11,null,1,1,26,4,12,3,0,0,0,0,0,0,0,0,0,0,0,0,0,0,0,0,0,0,0,0,0,0,null,null,null,null,null,null,null,7,{"$f":"+INDEX($F7066:$DJ7066,1,Sheet3!$C$1)","v":7},{"$f":"+IF(Sheet3!$C$1=1,IF(DN7066<3,0,1),1)","v":1}]
[1,3,"181",0,4,1,383869.19770201418,62.77,0,0,0,0,0,0,0,50.57,0,0,12.2,12.2,22.6,725,0,0,62.77,2473.9,0,0,0,0,0,0,0,2473.9,2473.9,0,0,0,0,0,2184.86,2184.86,0,2184.86,0,0,0,0,0,0,0,0,0,0,0,0,0,0,0,0,0,0,0,0,0,0,0,0,4658.76,null,null,null,null,null,55.72,null,null,null,null,9.0399999999999991,null,15,7,null,null,null,null,0,0,0,0,0,0,0,0,0,0,0,0,0,0,0,0,0,0,0,0,0,0,null,null,null,null,null,null,null,0,{"$f":"+INDEX($F7094:$DJ7094,1,Sheet3!$C$1)","v":1},{"$f":"+IF(Sheet3!$C$1=1,IF(DN7094<3,0,1),1)","v":0}]
[1,3,"185",8,2,1,6118.9537384181858,3.46,0,0,0,0.26,0.11,0,0,0.19,0,1,2.16,2.16,3.45,3.45,0,0,3.46,481.07,0,0,0,0,0,0,0,481.07,0,481.07,0,0,0,0,384.81,384.81,0,384.81,0,0,0,0,0,0,0,0,0,0,0,0,0,0,0,0,0,0,0,0,0,0,0,0,865.88,null,null,null,null,null,null,null,null,null,null,null,null,null,null,null,null,null,null,0,0,0,0,0,0,0,0,0,0,0,0,0,0,0,0,0,0,0,0,0,0,null,null,null,null,null,null,null,0,{"$f":"+INDEX($F7143:$DJ7143,1,Sheet3!$C$1)","v":1},{"$f":"+IF(Sheet3!$C$1=1,IF(DN7143<3,0,1),1)","v":0}]
[1,3,"185",14,3,7,476095.79559078964,59.21,0,0,0,56.24,58.82,0,0,0,0,0.39,0,0,0,0,10.47,0,10.47,12374.77,0,0,0,0,0,0,0,12374.77,0,0,0,0,12374.77,0,427.08,427.08,0,427.08,0,0,0,0,0,0,0,0,0,0,0,0,0,0,0,0,0,0,0,0,0,0,0,0,12801.85,null,null,null,null,35.869999999999997,null,null,null,null,null,null,null,null,null,null,null,null,null,0,0,0,0,0,0,0,0,0,0,0,0,0,0,0,0,0,0,0,0,0,0,null,null,null,null,null,null,null,7,{"$f":"+INDEX($F7160:$DJ7160,1,Sheet3!$C$1)","v":7},{"$f":"+IF(Sheet3!$C$1=1,IF(DN7160<3,0,1),1)","v":1}]
[1,4,"111",5,4,1,101354.89007336953,46.98,0,0,0,0,0,0,0,1.23,0,44.06,1.69,0,0,0,0,37.840000000000003,43.37,0,0,0,0,0,0,0,0,0,0,0,0,0,0,0,8461.4700000000012,3519,0,0,3519,4942.47,0,0,0,0,0,0,0,0,0,4942.47,0,0,0,0,0,0,0,0,0,0,0,0,8461.4700000000012,null,null,null,null,null,null,null,null,41.83,null,3.72,null,null,null,null,null,null,null,1,37.840000000000003,0,0,0,0,0,0,0,0,0,0,0,0,0,0,0,0,0,0,0,0,null,null,null,null,null,null,null,0,{"$f":"+INDEX($F7209:$DJ7209,1,Sheet3!$C$1)","v":1},{"$f":"+IF(Sheet3!$C$1=1,IF(DN7209<3,0,1),1)","v":0}]
[1,4,"111",11,3,1,43757.962390663823,39.524999999999999,0,0,0,0,0,0,0,0,0,0,78.89,0,0,25,0,0,78.89,0,0,0,0,0,0,0,0,0,0,0,0,0,0,0,3513.2,3513.2,0,0,3513.2,0,0,0,0,0,0,0,0,0,0,0,0,0,0,0,0,0,0,0,0,0,0,0,3513.2,null,null,null,null,null,null,null,null,null,null,63.67,null,null,null,null,null,null,null,0,0,0,0,0,0,0,0,0,0,0,0,0,0,0,0,0,0,0,0,0,0,null,null,null,null,null,null,null,0,{"$f":"+INDEX($F7226:$DJ7226,1,Sheet3!$C$1)","v":1},{"$f":"+IF(Sheet3!$C$1=1,IF(DN7226<3,0,1),1)","v":0}]
[1,4,"119",8,2,24,193400.46225352443,101.11999999999999,6.6300000000000008,625.13,0,59.46,22.42,0,0,19.82,3.87,49.7,5.31,1.95,3.45,3.45,3.3,1.89,96.47,0,0,0,0,0,0,0,0,0,0,0,0,0,0,0,18868.470000000005,18181.850000000002,0,0,18181.850000000002,686.62,0,686.62,0,0,0,0,0,0,0,0,0,0,0,0,0,0,0,0,0,0,0,0,18868.470000000005,5.2,8.3000000000000007,null,null,2.78,9.5399999999999991,7.31,1.59,19,2.1800000000000002,28,null,null,null,2,null,null,null,0,0,0,0,1,1.89,0,0,0,0,0,0,0,0,0,0,0,0,0,0,0,0,null,null,null,null,null,null,null,24,{"$f":"+INDEX($F7282:$DJ7282,1,Sheet3!$C$1)","v":24},{"$f":"+IF(Sheet3!$C$1=1,IF(DN7282<3,0,1),1)","v":1}]
[1,4,"119",11,3,1,26531.746319922124,25.664999999999999,0,0,0,0.19,0,0,0,0,0,0,50.96,0,0,7,0,0,50.96,0,0,0,0,0,0,0,0,0,0,0,0,0,0,0,3659.2,3059.2,0,0,3059.2,600,0,0,0,0,0,0,0,0,0,0,0,0,0,0,0,0,0,0,600,0,0,0,3659.2,null,null,null,null,null,null,null,null,null,null,47.31,null,null,null,null,null,null,null,0,0,0,0,0,0,0,0,0,0,0,0,0,0,0,0,0,0,0,0,0,0,null,null,null,null,null,null,null,0,{"$f":"+INDEX($F7291:$DJ7291,1,Sheet3!$C$1)","v":1},{"$f":"+IF(Sheet3!$C$1=1,IF(DN7291<3,0,1),1)","v":0}]
[1,4,"11B",6,3,4,222956.39411422622,52.719999999999992,0,0,0,37.270000000000003,2.13,0,0,0,0.51,50.029999999999994,0.05,0,0,0,3.9,0,52.719999999999992,0,0,0,0,0,0,0,0,0,0,0,0,0,0,0,5954,5954,0,0,5954,0,0,0,0,0,0,0,0,0,0,0,0,0,0,0,0,0,0,0,0,0,0,0,5954,1.64,null,null,null,0.51,null,0.68,42.69,0.16,5.62,1.49,null,null,null,null,null,null,null,0,0,0,0,0,0,0,0,0,0,0,0,0,0,0,0,0,0,0,0,0,0,null,null,null,null,null,null,null,4,{"$f":"+INDEX($F7340:$DJ7340,1,Sheet3!$C$1)","v":4},{"$f":"+IF(Sheet3!$C$1=1,IF(DN7340<3,0,1),1)","v":1}]
[1,4,"11B",12,1,32,61015.245021051844,88.86999999999999,10.029999999999999,850.43000000000006,0,17.91,16.579999999999998,0,0,17.3,0.04,13.5,57.63,4.9399999999999995,15.899999999999999,50.900000000000006,30.42,0,107.27000000000001,0,0,0,0,0,0,0,0,0,0,0,0,0,0,0,21111.39,21111.39,0,0,21111.39,0,0,0,0,0,0,0,0,0,0,0,0,0,0,0,0,0,0,0,0,0,0,0,21111.39,11.2,3.42,null,null,2.96,16.45,2.06,0.55000000000000004,6.38,2.78,70.459999999999994,1,null,2,20,6,null,null,0,0,0,0,0,0,0,0,0,0,0,0,0,0,0,0,0,0,0,0,0,0,null,null,null,null,null,null,null,32,{"$f":"+INDEX($F7357:$DJ7357,1,Sheet3!$C$1)","v":32},{"$f":"+IF(Sheet3!$C$1=1,IF(DN7357<3,0,1),1)","v":1}]
[1,4,"11D",5,1,836,1326650.4999009001,1161.4900000000011,40.089999999999996,2814.3400000000006,0,6.39,11.05,0,0,9.65,4.54,1132.3300000000008,3.92,0,0,0,42.05,253.77999999999975,1055.3700000000001,0,0,0,0,0,0,0,0,0,0,0,0,0,0,0,399414.83000000007,261707.62000000011,0,0,261707.62000000011,137707.21000000002,0,0,0,125139.77,818.1,343.35,0,0,0,11360.99,0,0,0,0,0,0,0,0,0,0,0,45,399414.83000000007,1.69,0.53,null,3.27,10.78,6.95,4.0199999999999996,3.19,815.67,132.75,58.51,null,null,null,null,null,null,null,22,41.8,0,0,0,0,0,0,6,5.0599999999999996,0,0,3,3.27,0,0,0,0,0,0,0,0,null,null,null,null,null,null,null,836,{"$f":"+INDEX($F7406:$DJ7406,1,Sheet3!$C$1)","v":836},{"$f":"+IF(Sheet3!$C$1=1,IF(DN7406<3,0,1),1)","v":1}]
[1,4,"11D","10_2",3,1,28688.088665799634,26.135000000000002,3.33,1625.4,0,0,0,0,0,0,0,0,52.27,52.27,24.15,28.15,38.340000000000003,38.340000000000003,52.27,0,0,0,0,0,0,0,0,0,0,0,0,0,0,0,0,0,0,0,0,0,null,null,null,null,null,null,null,null,null,null,null,null,null,null,null,null,null,null,null,null,null,null,0,null,null,null,null,null,null,null,null,null,null,59.94,null,17,21,12,2,null,null,0,0,0,0,0,0,0,0,0,0,0,0,0,0,0,0,0,0,0,0,0,0,null,null,null,null,null,null,null,0,{"$f":"+INDEX($F7423:$DJ7423,1,Sheet3!$C$1)","v":1},{"$f":"+IF(Sheet3!$C$1=1,IF(DN7423<3,0,1),1)","v":0}]
[1,4,"11E",13,2,2,27266.166623943751,44.31,0,0,0,0,0,0,0,0,0,0,82.5,0,0,0,0,5.08,3.06,0,0,0,0,0,0,0,0,0,0,0,0,0,0,0,1799.4,791.4,0,0,791.4,1008,0,0,0,0,0,0,0,0,0,0,0,0,0,0,0,0,0,0,0,0,0,0,1799.4,null,null,null,null,null,null,null,null,null,null,222.97,null,null,null,null,null,null,null,0,0,0,0,0,0,0,0,0,0,0,0,0,0,0,0,0,0,0,0,0,0,null,null,null,null,null,null,null,0,{"$f":"+INDEX($F7463:$DJ7463,1,Sheet3!$C$1)","v":2},{"$f":"+IF(Sheet3!$C$1=1,IF(DN7463<3,0,1),1)","v":0}]
[1,4,"150",8,2,391,3621211.0010790373,3214.6099999999992,39.599999999999994,2632.4900000000002,0,99.79,109.08,0,0,281.98,78.44,1916.2900000000006,828.82,8.2200000000000006,16.899999999999999,21.799999999999997,46.64,292.3,2966.9399999999987,0,0,0,0,0,0,0,0,0,0,0,0,0,0,0,519416.48999999982,493817.41999999987,0,4501.5499999999993,489315.86999999988,25599.069999999992,0,0,0,0,22145.09,394.8,0,37.200000000000003,0,0,0,0,0,0,0,0,0,0,0,0,0,3021.98,519416.48999999982,73.13,0.76,null,null,26.08,245.06,82.8,62.33,16.02,93.25,1476.2,null,null,null,75,4,353,24,0,0,0,0,0,0,0,0,39,149.75,0,0,2,3.76,0,0,0,0,0,0,0,0,null,null,null,null,null,null,null,391,{"$f":"+INDEX($F7488:$DJ7488,1,Sheet3!$C$1)","v":391},{"$f":"+IF(Sheet3!$C$1=1,IF(DN7488<3,0,1),1)","v":1}]
[1,4,"16D","10_1",2,2,18879.847075556834,7.19,6.25,1023.05,0,2.4,0.38,0,0,3.78,0,0.06,2.97,2.97,23.2,23.2,7.19,0,0,0,0,0,0,0,0,0,0,0,0,0,0,0,0,0,0,0,0,0,0,0,null,null,null,null,null,null,null,null,null,null,null,null,null,null,null,null,null,null,null,null,null,null,0,null,0.42,null,null,null,3.74,null,0.06,null,null,2.97,null,1,25,null,null,null,null,0,0,0,0,0,0,0,0,0,0,0,0,0,0,0,0,0,0,0,0,0,0,null,null,null,null,null,null,null,0,{"$f":"+INDEX($F7537:$DJ7537,1,Sheet3!$C$1)","v":2},{"$f":"+IF(Sheet3!$C$1=1,IF(DN7537<3,0,1),1)","v":0}]
[1,4,"16E",6,1,7,17593.400273171221,10.91,0,0,0,1.25,0.06,0,0,0.96,0.04,8.8699999999999992,0.98,0,0,0,0,0.5,10.4,0,0,0,0,0,0,0,0,0,0,0,0,0,0,0,2301.1999999999998,1851.1999999999998,0,338,1513.2000000000003,450,0,0,0,0,0,0,0,0,0,450,0,0,0,0,0,0,0,0,0,0,0,0,2301.1999999999998,null,null,null,null,null,0.64,0.04,1.66,null,1.98,1.49,null,null,null,null,null,null,null,1,0.5,0,0,0,0,0,0,0,0,0,0,0,0,0,0,0,0,0,0,0,0,null,null,null,null,null,null,null,7,{"$f":"+INDEX($F7554:$DJ7554,1,Sheet3!$C$1)","v":7},{"$f":"+IF(Sheet3!$C$1=1,IF(DN7554<3,0,1),1)","v":1}]
[1,4,"16G","1_1",2,7,37397.000663708466,23.56,0,0,0,16.71,14.71,0,0,0,2.42,2.0699999999999998,4.3600000000000003,0,0,0,0,0,23.56,0,0,0,0,0,0,0,0,0,0,0,0,0,0,0,4793.1999999999989,4793.1999999999989,0,0,4793.1999999999989,0,0,0,0,0,0,0,0,0,0,0,0,0,0,0,0,0,0,0,0,0,0,0,4793.1999999999989,3.69,6.74,null,null,3.29,null,3.57,0.56999999999999995,0.39,0.42,4.41,null,null,null,null,null,null,null,0,0,0,0,0,0,0,0,0,0,0,0,0,0,0,0,0,0,0,0,0,0,null,null,null,null,null,null,null,7,{"$f":"+INDEX($F7603:$DJ7603,1,Sheet3!$C$1)","v":7},{"$f":"+IF(Sheet3!$C$1=1,IF(DN7603<3,0,1),1)","v":1}]
[1,4,"16G",8,2,123,832782.52430763212,374.39000000000004,18,1332.2599999999998,0,117.09,102.15,0,0,20.07,23.19,215.27000000000007,13.71,4.8100000000000005,8.85,11.05,26.21,6.7200000000000006,370.12000000000006,0,0,0,0,0,0,0,0,0,0,0,0,0,0,0,79480.669999999969,75983.099999999977,0,6713.7000000000007,69269.400000000009,3497.5699999999997,0,2365.04,0,0,0,0,0,0,0,1132.53,0,0,0,0,0,0,0,0,0,0,0,0,79480.669999999969,11.63,40.92,null,0.1,29.1,15.04,22.5,15.42,72.66,33.880000000000003,42.83,null,null,6,29,4,9,null,2,3.02,0,0,1,3.7,0,0,0,0,0,0,0,0,0,0,0,0,0,0,0,0,null,null,null,null,null,null,null,123,{"$f":"+INDEX($F7620:$DJ7620,1,Sheet3!$C$1)","v":123},{"$f":"+IF(Sheet3!$C$1=1,IF(DN7620<3,0,1),1)","v":1}]
[1,4,"16H",6,1,28,57235.716404213534,82.79,15.69,1017.54,0,1.99,4.0199999999999996,0,0,2.8,10.25,44.1,21.62,0,0,0,26.02,2.84,66.820000000000007,0,0,0,0,0,0,0,0,0,0,0,0,0,0,0,9795.7799999999988,9335.6999999999989,0,4469.3999999999996,4866.3,460.07999999999993,0,0,0,0,460.08,0,0,0,0,0,0,0,0,0,0,0,0,0,0,0,0,0,9795.7799999999988,0.37,0.26,null,null,0.76,6.44,5.99,7.18,3.73,23.72,19.170000000000002,null,null,null,58,1,null,null,0,0,0,0,0,0,0,0,4,2.84,0,0,0,0,0,0,0,0,0,0,0,0,null,null,null,null,null,null,null,28,{"$f":"+INDEX($F7644:$DJ7644,1,Sheet3!$C$1)","v":28},{"$f":"+IF(Sheet3!$C$1=1,IF(DN7644<3,0,1),1)","v":1}]
[1,4,"16I",7,3,1,31255.835872008258,13.76,0,0,0,12.23,0,0,0,1.53,0,12.23,0,0,0,0,0,0,13.76,0,0,0,0,0,0,0,0,0,0,0,0,0,0,0,1115.21,1115.21,0,1115.21,0,0,0,0,0,0,0,0,0,0,0,0,0,0,0,0,0,0,0,0,0,0,0,0,1115.21,null,null,null,null,null,1.53,null,null,null,12.23,0.11,null,null,null,null,null,null,null,0,0,0,0,0,0,0,0,0,0,0,0,0,0,0,0,0,0,0,0,0,0,null,null,null,null,null,null,null,0,{"$f":"+INDEX($F7685:$DJ7685,1,Sheet3!$C$1)","v":1},{"$f":"+IF(Sheet3!$C$1=1,IF(DN7685<3,0,1),1)","v":0}]
[1,4,"16J",0,4,2,386419.44248495251,14.34,0,0,0,0.2,0.2,0,0,6.33,0,4.5,3.31,0,0,403.20000000000005,0,0,14.28,0,0,0,0,0,0,0,0,0,0,0,0,0,0,0,3102.85,3102.85,0,0,3102.85,0,0,0,0,0,0,0,0,0,0,0,0,0,0,0,0,0,0,0,0,0,0,0,3102.85,null,null,null,null,null,4.32,null,null,null,null,null,null,null,null,null,null,null,null,0,0,0,0,0,0,0,0,0,0,0,0,0,0,0,0,0,0,0,0,0,0,null,null,null,null,null,null,null,0,{"$f":"+INDEX($F7702:$DJ7702,1,Sheet3!$C$1)","v":2},{"$f":"+IF(Sheet3!$C$1=1,IF(DN7702<3,0,1),1)","v":0}]
[1,4,"170",5,3,14,574444.91023480997,243.32,0,0,0,103.63,0,0,0,0,13.23,221.77999999999997,8.31,0,0,0,0,202.16,41.55,0,0,0,0,0,0,0,0,0,0,0,0,0,0,0,41398.249999999993,3878.27,0,3878.27,0,37519.980000000003,0,0,0,0,0,0,0,0,0,37519.980000000003,0,0,0,0,0,0,0,0,0,0,0,0,41398.249999999993,null,null,null,null,null,null,18.36,0.34,217.96,null,2.6,null,null,null,null,null,null,null,14,202.16,0,0,0,0,0,0,0,0,0,0,0,0,0,0,0,0,0,0,0,0,null,null,null,null,null,null,null,14,{"$f":"+INDEX($F7751:$DJ7751,1,Sheet3!$C$1)","v":14},{"$f":"+IF(Sheet3!$C$1=1,IF(DN7751<3,0,1),1)","v":1}]
[1,4,"170",13,3,1,29054.32693678439,76.989999999999995,78.430000000000007,15285.17,0,0,0,0,0,54.33,0.22,12.41,10.029999999999999,0,0,0,75.489999999999995,0,31.91,0,0,0,0,0,0,0,0,0,0,0,0,0,0,0,0,0,0,0,0,0,null,null,null,null,null,null,null,null,null,null,null,null,null,null,null,null,null,null,null,null,null,null,0,null,null,null,null,null,52.38,0.22,0.16,null,10.75,11.82,null,null,null,null,null,null,null,0,0,0,0,0,0,0,0,0,0,0,0,0,0,0,0,0,0,0,0,0,0,null,null,null,null,null,null,null,0,{"$f":"+INDEX($F7768:$DJ7768,1,Sheet3!$C$1)","v":1},{"$f":"+IF(Sheet3!$C$1=1,IF(DN7768<3,0,1),1)","v":0}]
[1,4,"184",6,5,3,1861645.9070711278,175.94,0,0,0,93.3,0,0,0,3.77,0.46,136.49,35.22,0,0,0,0,9.5399999999999991,164.3,0,0,0,0,0,0,0,0,0,0,0,0,0,0,0,9831.36,9640.5600000000013,0,4401.76,5238.8,190.8,0,0,0,0,0,0,0,0,0,0,0,0,0,0,0,0,0,0,0,0,0,190.8,9831.36,null,null,null,null,null,19.52,0.46,103.21,null,1.91,58.49,null,null,null,null,null,null,null,0,0,0,0,0,0,0,0,0,0,0,0,0,0,0,0,0,0,0,0,0,0,null,null,null,null,null,null,null,3,{"$f":"+INDEX($F7817:$DJ7817,1,Sheet3!$C$1)","v":3},{"$f":"+IF(Sheet3!$C$1=1,IF(DN7817<3,0,1),1)","v":1}]
[1,4,"185",8,2,4,21257.615644724254,28.76,5.41,381.4,0,1.83,0.61,0,0,12.37,0,13.69,2.09,0,0,0,5.49,4.84,13.770000000000001,0,0,0,0,0,0,0,0,0,0,0,0,0,0,0,1135.24,508.29999999999995,0,508.29999999999995,0,626.94000000000005,0,0,0,0,626.94000000000005,0,0,0,0,0,0,0,0,0,0,0,0,0,0,0,0,0,1135.24,0.64,null,null,null,null,9.85,0.03,1.83,2.02,8.08,53.38,null,null,null,null,null,null,null,0,0,0,0,0,0,0,0,1,3.87,0,0,0,0,0,0,0,0,0,0,0,0,null,null,null,null,null,null,null,4,{"$f":"+INDEX($F7856:$DJ7856,1,Sheet3!$C$1)","v":4},{"$f":"+IF(Sheet3!$C$1=1,IF(DN7856<3,0,1),1)","v":1}]
[1,4,"186",6,1,7,15288.168489940401,28.98,0,0,0,0.24,0,0,0,1.87,0,11.560000000000002,15.55,0,0,0,0,4.6899999999999995,20.810000000000002,0,0,0,0,0,0,0,0,0,0,0,0,0,0,0,2642.62,2372.06,0,2372.06,0,270.56,0,0,0,0,110.16,0,0,0,0,0,0,0,0,0,0,0,0,0,0,0,0,160.4,2642.62,null,null,null,null,null,1.76,null,0.72,null,3,19.73,null,null,null,3,1,null,null,0,0,0,0,0,0,0,0,1,0.68,0,0,0,0,0,0,0,0,0,0,0,0,null,null,null,null,null,null,null,7,{"$f":"+INDEX($F7882:$DJ7882,1,Sheet3!$C$1)","v":7},{"$f":"+IF(Sheet3!$C$1=1,IF(DN7882<3,0,1),1)","v":1}]
[1,4,"186",12,1,10,13030.501489281254,31.830000000000002,0,0,0,3.7,1.31,0,0,1.5,0,11.8,17.22,6.66,12.249999999999998,12.249999999999998,0,14.72,30.6,0,0,0,0,0,0,0,0,0,0,0,0,0,0,0,3409.43,2411.63,0,2411.63,0,997.8,0,0,0,0,868.73,0,0,0,0,0,0,0,0,0,0,0,0,0,0,0,0,129.07,3409.43,null,null,null,null,null,2.73,null,null,null,10.87,14.86,null,4,null,64,6,4,1,0,0,0,0,0,0,0,0,6,5.4,0,0,0,0,0,0,0,0,0,0,0,0,null,null,null,null,null,null,null,10,{"$f":"+INDEX($F7899:$DJ7899,1,Sheet3!$C$1)","v":10},{"$f":"+IF(Sheet3!$C$1=1,IF(DN7899<3,0,1),1)","v":1}]
[1,1,"111",4,3,8,433397.29826974217,25.78,18.98,1513.79,0,10.25,11.87,0,0,1.03,2.29,5.38,10.19,10.190000000000001,4.5,4.5,20.8,1.49,30.379999999999995,6772.7900000000009,6772.7900000000009,6772.7900000000009,0,0,0,0,0,0,0,0,0,0,0,0,6595.5499999999993,6157.3999999999987,0,0,6157.3999999999987,438.15,0,0,0,0,0,0,0,0,0,438.15,0,0,0,0,0,0,0,0,0,0,0,0,13368.34,null,3.53,null,null,6.95,1.3,2.75,0.62,3.12,0.6,10.18,null,null,null,19,4,null,null,1,1.49,0,0,0,0,0,0,0,0,0,0,0,0,0,0,0,0,0,0,0,0,null,null,null,null,null,null,null,8,{"$f":"+INDEX($F7948:$DJ7948,1,Sheet3!$C$1)","v":8},{"$f":"+IF(Sheet3!$C$1=1,IF(DN7948<3,0,1),1)","v":1}]
[1,1,"111",12,2,55,291338.35176199488,156.72999999999999,101.28999999999998,8232.8499999999985,0,80.2,31.72,0,0,42.44,0.01,17.419999999999998,90.63,39.389999999999993,109.95,122.95,183.62,0,197.24999999999997,46313.489999999983,46313.489999999983,46313.489999999983,0,0,0,0,0,0,0,0,0,0,0,0,38684.280000000006,37784.28,0,0,37784.28,900,0,0,0,0,0,0,0,0,0,0,0,0,0,0,0,0,0,0,900,0,0,0,84997.770000000019,0.9,23.73,null,null,6.54,45.86,0.37,1.96,23.12,1.1100000000000001,87.97,3,40,75,191,32,17,5,0,0,0,0,0,0,0,0,0,0,0,0,0,0,0,0,0,0,0,0,0,0,null,null,null,null,null,null,null,55,{"$f":"+INDEX($F7965:$DJ7965,1,Sheet3!$C$1)","v":55},{"$f":"+IF(Sheet3!$C$1=1,IF(DN7965<3,0,1),1)","v":1}]
[]
[null,null,null,null,null,null,null,null,null,null,null,null,null,null,null,null,null,null,null,null,null,null,null,null,null,null,null,null,null,null,null,null,null,null,null,null,null,null,null,null,null,null,null,null,null,null,null,null,null,null,null,null,null,null,null,null,null,null,null,null,null,null,null,null,null,null,null,null,null,null,null,null,null,null,null,null,null,null,null,null,null,null,null,null,null,null,null,null,null,null,null,null,null,null,null,null,null,null,null,null,null,null,null,null,null,null,null,null,null,null,null,null,null,null,null,null,0,{"$f":"+INDEX($F8041:$DJ8041,1,Sheet3!$C$1)","v":0},{"$f":"+IF(Sheet3!$C$1=1,IF(DN8041<3,0,1),1)","v":0}]
[null,null,null,null,null,null,null,null,null,null,null,null,null,null,null,null,null,null,null,null,null,null,null,null,null,null,null,null,null,null,null,null,null,null,null,null,null,null,null,null,null,null,null,null,null,null,null,null,null,null,null,null,null,null,null,null,null,null,null,null,null,null,null,null,null,null,null,null,null,null,null,null,null,null,null,null,null,null,null,null,null,null,null,null,null,null,null,null,null,null,null,null,null,null,null,null,null,null,null,null,null,null,null,null,null,null,null,null,null,null,null,null,null,null,null,null,0,{"$f":"+INDEX($F8079:$DJ8079,1,Sheet3!$C$1)","v":0},{"$f":"+IF(Sheet3!$C$1=1,IF(DN8079<3,0,1),1)","v":0}]
[null,null,null,null,null,null,null,null,null,null,null,null,null,null,null,null,null,null,null,null,null,null,null,null,null,null,null,null,null,null,null,null,null,null,null,null,null,null,null,null,null,null,null,null,null,null,null,null,null,null,null,null,null,null,null,null,null,null,null,null,null,null,null,null,null,null,null,null,null,null,null,null,null,null,null,null,null,null,null,null,null,null,null,null,null,null,null,null,null,null,null,null,null,null,null,null,null,null,null,null,null,null,null,null,null,null,null,null,null,null,null,null,null,null,null,null,0,{"$f":"+INDEX($F8096:$DJ8096,1,Sheet3!$C$1)","v":0},{"$f":"+IF(Sheet3!$C$1=1,IF(DN8096<3,0,1),1)","v":0}]
[null,null,null,null,null,null,null,null,null,null,null,null,null,null,null,null,null,null,null,null,null,null,null,null,null,null,null,null,null,null,null,null,null,null,null,null,null,null,null,null,null,null,null,null,null,null,null,null,null,null,null,null,null,null,null,null,null,null,null,null,null,null,null,null,null,null,null,null,null,null,null,null,null,null,null,null,null,null,null,null,null,null,null,null,null,null,null,null,null,null,null,null,null,null,null,null,null,null,null,null,null,null,null,null,null,null,null,null,null,null,null,null,null,null,null,null,0,{"$f":"+INDEX($F8113:$DJ8113,1,Sheet3!$C$1)","v":0},{"$f":"+IF(Sheet3!$C$1=1,IF(DN8113<3,0,1),1)","v":0}]
[null,null,null,null,null,null,null,null,null,null,null,null,null,null,null,null,null,null,null,null,null,null,null,null,null,null,null,null,null,null,null,null,null,null,null,null,null,null,null,null,null,null,null,null,null,null,null,null,null,null,null,null,null,null,null,null,null,null,null,null,null,null,null,null,null,null,null,null,null,null,null,null,null,null,null,null,null,null,null,null,null,null,null,null,null,null,null,null,null,null,null,null,null,null,null,null,null,null,null,null,null,null,null,null,null,null,null,null,null,null,null,null,null,null,null,null,0,{"$f":"+INDEX($F8162:$DJ8162,1,Sheet3!$C$1)","v":0},{"$f":"+IF(Sheet3!$C$1=1,IF(DN8162<3,0,1),1)","v":0}]
[null,null,null,null,null,null,null,null,null,null,null,null,null,null,null,null,null,null,null,null,null,null,null,null,null,null,null,null,null,null,null,null,null,null,null,null,null,null,null,null,null,null,null,null,null,null,null,null,null,null,null,null,null,null,null,null,null,null,null,null,null,null,null,null,null,null,null,null,null,null,null,null,null,null,null,null,null,null,null,null,null,null,null,null,null,null,null,null,null,null,null,null,null,null,null,null,null,null,null,null,null,null,null,null,null,null,null,null,null,null,null,null,null,null,null,null,0,{"$f":"+INDEX($F8179:$DJ8179,1,Sheet3!$C$1)","v":0},{"$f":"+IF(Sheet3!$C$1=1,IF(DN8179<3,0,1),1)","v":0}]
[null,null,null,null,null,null,null,null,null,null,null,null,null,null,null,null,null,null,null,null,null,null,null,null,null,null,null,null,null,null,null,null,null,null,null,null,null,null,null,null,null,null,null,null,null,null,null,null,null,null,null,null,null,null,null,null,null,null,null,null,null,null,null,null,null,null,null,null,null,null,null,null,null,null,null,null,null,null,null,null,null,null,null,null,null,null,null,null,null,null,null,null,null,null,null,null,null,null,null,null,null,null,null,null,null,null,null,null,null,null,null,null,null,null,null,null,0,{"$f":"+INDEX($F8209:$DJ8209,1,Sheet3!$C$1)","v":0},{"$f":"+IF(Sheet3!$C$1=1,IF(DN8209<3,0,1),1)","v":0}]
[null,null,null,null,null,null,null,null,null,null,null,null,null,null,null,null,null,null,null,null,null,null,null,null,null,null,null,null,null,null,null,null,null,null,null,null,null,null,null,null,null,null,null,null,null,null,null,null,null,null,null,null,null,null,null,null,null,null,null,null,null,null,null,null,null,null,null,null,null,null,null,null,null,null,null,null,null,null,null,null,null,null,null,null,null,null,null,null,null,null,null,null,null,null,null,null,null,null,null,null,null,null,null,null,null,null,null,null,null,null,null,null,null,null,null,null,0,{"$f":"+INDEX($F8210:$DJ8210,1,Sheet3!$C$1)","v":0},{"$f":"+IF(Sheet3!$C$1=1,IF(DN8210<3,0,1),1)","v":0}]
[null,null,null,null,null,null,null,null,null,null,null,null,null,null,null,null,null,null,null,null,null,null,null,null,null,null,null,null,null,null,null,null,null,null,null,null,null,null,null,null,null,null,null,null,null,null,null,null,null,null,null,null,null,null,null,null,null,null,null,null,null,null,null,null,null,null,null,null,null,null,null,null,null,null,null,null,null,null,null,null,null,null,null,null,null,null,null,null,null,null,null,null,null,null,null,null,null,null,null,null,null,null,null,null,null,null,null,null,null,null,null,null,null,null,null,null,0,{"$f":"+INDEX($F8211:$DJ8211,1,Sheet3!$C$1)","v":0},{"$f":"+IF(Sheet3!$C$1=1,IF(DN8211<3,0,1),1)","v":0}]
[null,null,null,null,null,null,null,null,null,null,null,null,null,null,null,null,null,null,null,null,null,null,null,null,null,null,null,null,null,null,null,null,null,null,null,null,null,null,null,null,null,null,null,null,null,null,null,null,null,null,null,null,null,null,null,null,null,null,null,null,null,null,null,null,null,null,null,null,null,null,null,null,null,null,null,null,null,null,null,null,null,null,null,null,null,null,null,null,null,null,null,null,null,null,null,null,null,null,null,null,null,null,null,null,null,null,null,null,null,null,null,null,null,null,null,null,0,{"$f":"+INDEX($F8212:$DJ8212,1,Sheet3!$C$1)","v":0},{"$f":"+IF(Sheet3!$C$1=1,IF(DN8212<3,0,1),1)","v":0}]
[null,null,null,null,null,null,null,null,null,null,null,null,null,null,null,null,null,null,null,null,null,null,null,null,null,null,null,null,null,null,null,null,null,null,null,null,null,null,null,null,null,null,null,null,null,null,null,null,null,null,null,null,null,null,null,null,null,null,null,null,null,null,null,null,null,null,null,null,null,null,null,null,null,null,null,null,null,null,null,null,null,null,null,null,null,null,null,null,null,null,null,null,null,null,null,null,null,null,null,null,null,null,null,null,null,null,null,null,null,null,null,null,null,null,null,null,0,{"$f":"+INDEX($F8213:$DJ8213,1,Sheet3!$C$1)","v":0},{"$f":"+IF(Sheet3!$C$1=1,IF(DN8213<3,0,1),1)","v":0}]
[null,null,null,null,null,null,null,null,null,null,null,null,null,null,null,null,null,null,null,null,null,null,null,null,null,null,null,null,null,null,null,null,null,null,null,null,null,null,null,null,null,null,null,null,null,null,null,null,null,null,null,null,null,null,null,null,null,null,null,null,null,null,null,null,null,null,null,null,null,null,null,null,null,null,null,null,null,null,null,null,null,null,null,null,null,null,null,null,null,null,null,null,null,null,null,null,null,null,null,null,null,null,null,null,null,null,null,null,null,null,null,null,null,null,null,null,0,{"$f":"+INDEX($F8214:$DJ8214,1,Sheet3!$C$1)","v":0},{"$f":"+IF(Sheet3!$C$1=1,IF(DN8214<3,0,1),1)","v":0}]
[null,null,null,null,null,null,null,null,null,null,null,null,null,null,null,null,null,null,null,null,null,null,null,null,null,null,null,null,null,null,null,null,null,null,null,null,null,null,null,null,null,null,null,null,null,null,null,null,null,null,null,null,null,null,null,null,null,null,null,null,null,null,null,null,null,null,null,null,null,null,null,null,null,null,null,null,null,null,null,null,null,null,null,null,null,null,null,null,null,null,null,null,null,null,null,null,null,null,null,null,null,null,null,null,null,null,null,null,null,null,null,null,null,null,null,null,0,{"$f":"+INDEX($F8215:$DJ8215,1,Sheet3!$C$1)","v":0},{"$f":"+IF(Sheet3!$C$1=1,IF(DN8215<3,0,1),1)","v":0}]
[null,null,null,null,null,null,null,null,null,null,null,null,null,null,null,null,null,null,null,null,null,null,null,null,null,null,null,null,null,null,null,null,null,null,null,null,null,null,null,null,null,null,null,null,null,null,null,null,null,null,null,null,null,null,null,null,null,null,null,null,null,null,null,null,null,null,null,null,null,null,null,null,null,null,null,null,null,null,null,null,null,null,null,null,null,null,null,null,null,null,null,null,null,null,null,null,null,null,null,null,null,null,null,null,null,null,null,null,null,null,null,null,null,null,null,null,0,{"$f":"+INDEX($F8216:$DJ8216,1,Sheet3!$C$1)","v":0},{"$f":"+IF(Sheet3!$C$1=1,IF(DN8216<3,0,1),1)","v":0}]
[null,null,null,null,null,null,null,null,null,null,null,null,null,null,null,null,null,null,null,null,null,null,null,null,null,null,null,null,null,null,null,null,null,null,null,null,null,null,null,null,null,null,null,null,null,null,null,null,null,null,null,null,null,null,null,null,null,null,null,null,null,null,null,null,null,null,null,null,null,null,null,null,null,null,null,null,null,null,null,null,null,null,null,null,null,null,null,null,null,null,null,null,null,null,null,null,null,null,null,null,null,null,null,null,null,null,null,null,null,null,null,null,null,null,null,null,0,{"$f":"+INDEX($F8217:$DJ8217,1,Sheet3!$C$1)","v":0},{"$f":"+IF(Sheet3!$C$1=1,IF(DN8217<3,0,1),1)","v":0}]
[null,null,null,null,null,null,null,null,null,null,null,null,null,null,null,null,null,null,null,null,null,null,null,null,null,null,null,null,null,null,null,null,null,null,null,null,null,null,null,null,null,null,null,null,null,null,null,null,null,null,null,null,null,null,null,null,null,null,null,null,null,null,null,null,null,null,null,null,null,null,null,null,null,null,null,null,null,null,null,null,null,null,null,null,null,null,null,null,null,null,null,null,null,null,null,null,null,null,null,null,null,null,null,null,null,null,null,null,null,null,null,null,null,null,null,null,0,{"$f":"+INDEX($F8218:$DJ8218,1,Sheet3!$C$1)","v":0},{"$f":"+IF(Sheet3!$C$1=1,IF(DN8218<3,0,1),1)","v":0}]
[null,null,null,null,null,null,null,null,null,null,null,null,null,null,null,null,null,null,null,null,null,null,null,null,null,null,null,null,null,null,null,null,null,null,null,null,null,null,null,null,null,null,null,null,null,null,null,null,null,null,null,null,null,null,null,null,null,null,null,null,null,null,null,null,null,null,null,null,null,null,null,null,null,null,null,null,null,null,null,null,null,null,null,null,null,null,null,null,null,null,null,null,null,null,null,null,null,null,null,null,null,null,null,null,null,null,null,null,null,null,null,null,null,null,null,null,0,{"$f":"+INDEX($F8219:$DJ8219,1,Sheet3!$C$1)","v":0},{"$f":"+IF(Sheet3!$C$1=1,IF(DN8219<3,0,1),1)","v":0}]
[null,null,null,null,null,null,null,null,null,null,null,null,null,null,null,null,null,null,null,null,null,null,null,null,null,null,null,null,null,null,null,null,null,null,null,null,null,null,null,null,null,null,null,null,null,null,null,null,null,null,null,null,null,null,null,null,null,null,null,null,null,null,null,null,null,null,null,null,null,null,null,null,null,null,null,null,null,null,null,null,null,null,null,null,null,null,null,null,null,null,null,null,null,null,null,null,null,null,null,null,null,null,null,null,null,null,null,null,null,null,null,null,null,null,null,null,0,{"$f":"+INDEX($F8220:$DJ8220,1,Sheet3!$C$1)","v":0},{"$f":"+IF(Sheet3!$C$1=1,IF(DN8220<3,0,1),1)","v":0}]
[null,null,null,null,null,null,null,null,null,null,null,null,null,null,null,null,null,null,null,null,null,null,null,null,null,null,null,null,null,null,null,null,null,null,null,null,null,null,null,null,null,null,null,null,null,null,null,null,null,null,null,null,null,null,null,null,null,null,null,null,null,null,null,null,null,null,null,null,null,null,null,null,null,null,null,null,null,null,null,null,null,null,null,null,null,null,null,null,null,null,null,null,null,null,null,null,null,null,null,null,null,null,null,null,null,null,null,null,null,null,null,null,null,null,null,null,0,{"$f":"+INDEX($F8221:$DJ8221,1,Sheet3!$C$1)","v":0},{"$f":"+IF(Sheet3!$C$1=1,IF(DN8221<3,0,1),1)","v":0}]
[null,null,null,null,null,null,null,null,null,null,null,null,null,null,null,null,null,null,null,null,null,null,null,null,null,null,null,null,null,null,null,null,null,null,null,null,null,null,null,null,null,null,null,null,null,null,null,null,null,null,null,null,null,null,null,null,null,null,null,null,null,null,null,null,null,null,null,null,null,null,null,null,null,null,null,null,null,null,null,null,null,null,null,null,null,null,null,null,null,null,null,null,null,null,null,null,null,null,null,null,null,null,null,null,null,null,null,null,null,null,null,null,null,null,null,null,0,{"$f":"+INDEX($F8222:$DJ8222,1,Sheet3!$C$1)","v":0},{"$f":"+IF(Sheet3!$C$1=1,IF(DN8222<3,0,1),1)","v":0}]
[null,null,null,null,null,null,null,null,null,null,null,null,null,null,null,null,null,null,null,null,null,null,null,null,null,null,null,null,null,null,null,null,null,null,null,null,null,null,null,null,null,null,null,null,null,null,null,null,null,null,null,null,null,null,null,null,null,null,null,null,null,null,null,null,null,null,null,null,null,null,null,null,null,null,null,null,null,null,null,null,null,null,null,null,null,null,null,null,null,null,null,null,null,null,null,null,null,null,null,null,null,null,null,null,null,null,null,null,null,null,null,null,null,null,null,null,0,{"$f":"+INDEX($F8223:$DJ8223,1,Sheet3!$C$1)","v":0},{"$f":"+IF(Sheet3!$C$1=1,IF(DN8223<3,0,1),1)","v":0}]
[null,null,null,null,null,null,null,null,null,null,null,null,null,null,null,null,null,null,null,null,null,null,null,null,null,null,null,null,null,null,null,null,null,null,null,null,null,null,null,null,null,null,null,null,null,null,null,null,null,null,null,null,null,null,null,null,null,null,null,null,null,null,null,null,null,null,null,null,null,null,null,null,null,null,null,null,null,null,null,null,null,null,null,null,null,null,null,null,null,null,null,null,null,null,null,null,null,null,null,null,null,null,null,null,null,null,null,null,null,null,null,null,null,null,null,null,0,{"$f":"+INDEX($F8224:$DJ8224,1,Sheet3!$C$1)","v":0},{"$f":"+IF(Sheet3!$C$1=1,IF(DN8224<3,0,1),1)","v":0}]
[null,null,null,null,null,null,null,null,null,null,null,null,null,null,null,null,null,null,null,null,null,null,null,null,null,null,null,null,null,null,null,null,null,null,null,null,null,null,null,null,null,null,null,null,null,null,null,null,null,null,null,null,null,null,null,null,null,null,null,null,null,null,null,null,null,null,null,null,null,null,null,null,null,null,null,null,null,null,null,null,null,null,null,null,null,null,null,null,null,null,null,null,null,null,null,null,null,null,null,null,null,null,null,null,null,null,null,null,null,null,null,null,null,null,null,null,0,{"$f":"+INDEX($F8225:$DJ8225,1,Sheet3!$C$1)","v":0},{"$f":"+IF(Sheet3!$C$1=1,IF(DN8225<3,0,1),1)","v":0}]
[null,null,null,null,null,null,null,null,null,null,null,null,null,null,null,null,null,null,null,null,null,null,null,null,null,null,null,null,null,null,null,null,null,null,null,null,null,null,null,null,null,null,null,null,null,null,null,null,null,null,null,null,null,null,null,null,null,null,null,null,null,null,null,null,null,null,null,null,null,null,null,null,null,null,null,null,null,null,null,null,null,null,null,null,null,null,null,null,null,null,null,null,null,null,null,null,null,null,null,null,null,null,null,null,null,null,null,null,null,null,null,null,null,null,null,null,0,{"$f":"+INDEX($F8226:$DJ8226,1,Sheet3!$C$1)","v":0},{"$f":"+IF(Sheet3!$C$1=1,IF(DN8226<3,0,1),1)","v":0}]
[null,null,null,null,null,null,null,null,null,null,null,null,null,null,null,null,null,null,null,null,null,null,null,null,null,null,null,null,null,null,null,null,null,null,null,null,null,null,null,null,null,null,null,null,null,null,null,null,null,null,null,null,null,null,null,null,null,null,null,null,null,null,null,null,null,null,null,null,null,null,null,null,null,null,null,null,null,null,null,null,null,null,null,null,null,null,null,null,null,null,null,null,null,null,null,null,null,null,null,null,null,null,null,null,null,null,null,null,null,null,null,null,null,null,null,null,0,{"$f":"+INDEX($F8227:$DJ8227,1,Sheet3!$C$1)","v":0},{"$f":"+IF(Sheet3!$C$1=1,IF(DN8227<3,0,1),1)","v":0}]
[null,null,null,null,null,null,null,null,null,null,null,null,null,null,null,null,null,null,null,null,null,null,null,null,null,null,null,null,null,null,null,null,null,null,null,null,null,null,null,null,null,null,null,null,null,null,null,null,null,null,null,null,null,null,null,null,null,null,null,null,null,null,null,null,null,null,null,null,null,null,null,null,null,null,null,null,null,null,null,null,null,null,null,null,null,null,null,null,null,null,null,null,null,null,null,null,null,null,null,null,null,null,null,null,null,null,null,null,null,null,null,null,null,null,null,null,0,{"$f":"+INDEX($F8228:$DJ8228,1,Sheet3!$C$1)","v":0},{"$f":"+IF(Sheet3!$C$1=1,IF(DN8228<3,0,1),1)","v":0}]
[null,null,null,null,null,null,null,null,null,null,null,null,null,null,null,null,null,null,null,null,null,null,null,null,null,null,null,null,null,null,null,null,null,null,null,null,null,null,null,null,null,null,null,null,null,null,null,null,null,null,null,null,null,null,null,null,null,null,null,null,null,null,null,null,null,null,null,null,null,null,null,null,null,null,null,null,null,null,null,null,null,null,null,null,null,null,null,null,null,null,null,null,null,null,null,null,null,null,null,null,null,null,null,null,null,null,null,null,null,null,null,null,null,null,null,null,0,{"$f":"+INDEX($F8229:$DJ8229,1,Sheet3!$C$1)","v":0},{"$f":"+IF(Sheet3!$C$1=1,IF(DN8229<3,0,1),1)","v":0}]
[null,null,null,null,null,null,null,null,null,null,null,null,null,null,null,null,null,null,null,null,null,null,null,null,null,null,null,null,null,null,null,null,null,null,null,null,null,null,null,null,null,null,null,null,null,null,null,null,null,null,null,null,null,null,null,null,null,null,null,null,null,null,null,null,null,null,null,null,null,null,null,null,null,null,null,null,null,null,null,null,null,null,null,null,null,null,null,null,null,null,null,null,null,null,null,null,null,null,null,null,null,null,null,null,null,null,null,null,null,null,null,null,null,null,null,null,0,{"$f":"+INDEX($F8230:$DJ8230,1,Sheet3!$C$1)","v":0},{"$f":"+IF(Sheet3!$C$1=1,IF(DN8230<3,0,1),1)","v":0}]
[null,null,null,null,null,null,null,null,null,null,null,null,null,null,null,null,null,null,null,null,null,null,null,null,null,null,null,null,null,null,null,null,null,null,null,null,null,null,null,null,null,null,null,null,null,null,null,null,null,null,null,null,null,null,null,null,null,null,null,null,null,null,null,null,null,null,null,null,null,null,null,null,null,null,null,null,null,null,null,null,null,null,null,null,null,null,null,null,null,null,null,null,null,null,null,null,null,null,null,null,null,null,null,null,null,null,null,null,null,null,null,null,null,null,null,null,0,{"$f":"+INDEX($F8231:$DJ8231,1,Sheet3!$C$1)","v":0},{"$f":"+IF(Sheet3!$C$1=1,IF(DN8231<3,0,1),1)","v":0}]
[null,null,null,null,null,null,null,null,null,null,null,null,null,null,null,null,null,null,null,null,null,null,null,null,null,null,null,null,null,null,null,null,null,null,null,null,null,null,null,null,null,null,null,null,null,null,null,null,null,null,null,null,null,null,null,null,null,null,null,null,null,null,null,null,null,null,null,null,null,null,null,null,null,null,null,null,null,null,null,null,null,null,null,null,null,null,null,null,null,null,null,null,null,null,null,null,null,null,null,null,null,null,null,null,null,null,null,null,null,null,null,null,null,null,null,null,0,{"$f":"+INDEX($F8232:$DJ8232,1,Sheet3!$C$1)","v":0},{"$f":"+IF(Sheet3!$C$1=1,IF(DN8232<3,0,1),1)","v":0}]
[null,null,null,null,null,null,null,null,null,null,null,null,null,null,null,null,null,null,null,null,null,null,null,null,null,null,null,null,null,null,null,null,null,null,null,null,null,null,null,null,null,null,null,null,null,null,null,null,null,null,null,null,null,null,null,null,null,null,null,null,null,null,null,null,null,null,null,null,null,null,null,null,null,null,null,null,null,null,null,null,null,null,null,null,null,null,null,null,null,null,null,null,null,null,null,null,null,null,null,null,null,null,null,null,null,null,null,null,null,null,null,null,null,null,null,null,0,{"$f":"+INDEX($F8233:$DJ8233,1,Sheet3!$C$1)","v":0},{"$f":"+IF(Sheet3!$C$1=1,IF(DN8233<3,0,1),1)","v":0}]
[null,null,null,null,null,null,null,null,null,null,null,null,null,null,null,null,null,null,null,null,null,null,null,null,null,null,null,null,null,null,null,null,null,null,null,null,null,null,null,null,null,null,null,null,null,null,null,null,null,null,null,null,null,null,null,null,null,null,null,null,null,null,null,null,null,null,null,null,null,null,null,null,null,null,null,null,null,null,null,null,null,null,null,null,null,null,null,null,null,null,null,null,null,null,null,null,null,null,null,null,null,null,null,null,null,null,null,null,null,null,null,null,null,null,null,null,0,{"$f":"+INDEX($F8234:$DJ8234,1,Sheet3!$C$1)","v":0},{"$f":"+IF(Sheet3!$C$1=1,IF(DN8234<3,0,1),1)","v":0}]
[null,null,null,null,null,null,null,null,null,null,null,null,null,null,null,null,null,null,null,null,null,null,null,null,null,null,null,null,null,null,null,null,null,null,null,null,null,null,null,null,null,null,null,null,null,null,null,null,null,null,null,null,null,null,null,null,null,null,null,null,null,null,null,null,null,null,null,null,null,null,null,null,null,null,null,null,null,null,null,null,null,null,null,null,null,null,null,null,null,null,null,null,null,null,null,null,null,null,null,null,null,null,null,null,null,null,null,null,null,null,null,null,null,null,null,null,0,{"$f":"+INDEX($F8235:$DJ8235,1,Sheet3!$C$1)","v":0},{"$f":"+IF(Sheet3!$C$1=1,IF(DN8235<3,0,1),1)","v":0}]
[null,null,null,null,null,null,null,null,null,null,null,null,null,null,null,null,null,null,null,null,null,null,null,null,null,null,null,null,null,null,null,null,null,null,null,null,null,null,null,null,null,null,null,null,null,null,null,null,null,null,null,null,null,null,null,null,null,null,null,null,null,null,null,null,null,null,null,null,null,null,null,null,null,null,null,null,null,null,null,null,null,null,null,null,null,null,null,null,null,null,null,null,null,null,null,null,null,null,null,null,null,null,null,null,null,null,null,null,null,null,null,null,null,null,null,null,0,{"$f":"+INDEX($F8236:$DJ8236,1,Sheet3!$C$1)","v":0},{"$f":"+IF(Sheet3!$C$1=1,IF(DN8236<3,0,1),1)","v":0}]
[null,null,null,null,null,null,null,null,null,null,null,null,null,null,null,null,null,null,null,null,null,null,null,null,null,null,null,null,null,null,null,null,null,null,null,null,null,null,null,null,null,null,null,null,null,null,null,null,null,null,null,null,null,null,null,null,null,null,null,null,null,null,null,null,null,null,null,null,null,null,null,null,null,null,null,null,null,null,null,null,null,null,null,null,null,null,null,null,null,null,null,null,null,null,null,null,null,null,null,null,null,null,null,null,null,null,null,null,null,null,null,null,null,null,null,null,0,{"$f":"+INDEX($F8237:$DJ8237,1,Sheet3!$C$1)","v":0},{"$f":"+IF(Sheet3!$C$1=1,IF(DN8237<3,0,1),1)","v":0}]
[null,null,null,null,null,null,null,null,null,null,null,null,null,null,null,null,null,null,null,null,null,null,null,null,null,null,null,null,null,null,null,null,null,null,null,null,null,null,null,null,null,null,null,null,null,null,null,null,null,null,null,null,null,null,null,null,null,null,null,null,null,null,null,null,null,null,null,null,null,null,null,null,null,null,null,null,null,null,null,null,null,null,null,null,null,null,null,null,null,null,null,null,null,null,null,null,null,null,null,null,null,null,null,null,null,null,null,null,null,null,null,null,null,null,null,null,0,{"$f":"+INDEX($F8238:$DJ8238,1,Sheet3!$C$1)","v":0},{"$f":"+IF(Sheet3!$C$1=1,IF(DN8238<3,0,1),1)","v":0}]
[null,null,null,null,null,null,null,null,null,null,null,null,null,null,null,null,null,null,null,null,null,null,null,null,null,null,null,null,null,null,null,null,null,null,null,null,null,null,null,null,null,null,null,null,null,null,null,null,null,null,null,null,null,null,null,null,null,null,null,null,null,null,null,null,null,null,null,null,null,null,null,null,null,null,null,null,null,null,null,null,null,null,null,null,null,null,null,null,null,null,null,null,null,null,null,null,null,null,null,null,null,null,null,null,null,null,null,null,null,null,null,null,null,null,null,null,0,{"$f":"+INDEX($F8239:$DJ8239,1,Sheet3!$C$1)","v":0},{"$f":"+IF(Sheet3!$C$1=1,IF(DN8239<3,0,1),1)","v":0}]
[null,null,null,null,null,null,null,null,null,null,null,null,null,null,null,null,null,null,null,null,null,null,null,null,null,null,null,null,null,null,null,null,null,null,null,null,null,null,null,null,null,null,null,null,null,null,null,null,null,null,null,null,null,null,null,null,null,null,null,null,null,null,null,null,null,null,null,null,null,null,null,null,null,null,null,null,null,null,null,null,null,null,null,null,null,null,null,null,null,null,null,null,null,null,null,null,null,null,null,null,null,null,null,null,null,null,null,null,null,null,null,null,null,null,null,null,0,{"$f":"+INDEX($F8240:$DJ8240,1,Sheet3!$C$1)","v":0},{"$f":"+IF(Sheet3!$C$1=1,IF(DN8240<3,0,1),1)","v":0}]
[null,null,null,null,null,null,null,null,null,null,null,null,null,null,null,null,null,null,null,null,null,null,null,null,null,null,null,null,null,null,null,null,null,null,null,null,null,null,null,null,null,null,null,null,null,null,null,null,null,null,null,null,null,null,null,null,null,null,null,null,null,null,null,null,null,null,null,null,null,null,null,null,null,null,null,null,null,null,null,null,null,null,null,null,null,null,null,null,null,null,null,null,null,null,null,null,null,null,null,null,null,null,null,null,null,null,null,null,null,null,null,null,null,null,null,null,0,{"$f":"+INDEX($F8241:$DJ8241,1,Sheet3!$C$1)","v":0},{"$f":"+IF(Sheet3!$C$1=1,IF(DN8241<3,0,1),1)","v":0}]
[null,null,null,null,null,null,null,null,null,null,null,null,null,null,null,null,null,null,null,null,null,null,null,null,null,null,null,null,null,null,null,null,null,null,null,null,null,null,null,null,null,null,null,null,null,null,null,null,null,null,null,null,null,null,null,null,null,null,null,null,null,null,null,null,null,null,null,null,null,null,null,null,null,null,null,null,null,null,null,null,null,null,null,null,null,null,null,null,null,null,null,null,null,null,null,null,null,null,null,null,null,null,null,null,null,null,null,null,null,null,null,null,null,null,null,null,0,{"$f":"+INDEX($F8242:$DJ8242,1,Sheet3!$C$1)","v":0},{"$f":"+IF(Sheet3!$C$1=1,IF(DN8242<3,0,1),1)","v":0}]
[null,null,null,null,null,null,null,null,null,null,null,null,null,null,null,null,null,null,null,null,null,null,null,null,null,null,null,null,null,null,null,null,null,null,null,null,null,null,null,null,null,null,null,null,null,null,null,null,null,null,null,null,null,null,null,null,null,null,null,null,null,null,null,null,null,null,null,null,null,null,null,null,null,null,null,null,null,null,null,null,null,null,null,null,null,null,null,null,null,null,null,null,null,null,null,null,null,null,null,null,null,null,null,null,null,null,null,null,null,null,null,null,null,null,null,null,0,{"$f":"+INDEX($F8243:$DJ8243,1,Sheet3!$C$1)","v":0},{"$f":"+IF(Sheet3!$C$1=1,IF(DN8243<3,0,1),1)","v":0}]
[null,null,null,null,null,null,null,null,null,null,null,null,null,null,null,null,null,null,null,null,null,null,null,null,null,null,null,null,null,null,null,null,null,null,null,null,null,null,null,null,null,null,null,null,null,null,null,null,null,null,null,null,null,null,null,null,null,null,null,null,null,null,null,null,null,null,null,null,null,null,null,null,null,null,null,null,null,null,null,null,null,null,null,null,null,null,null,null,null,null,null,null,null,null,null,null,null,null,null,null,null,null,null,null,null,null,null,null,null,null,null,null,null,null,null,null,0,{"$f":"+INDEX($F8244:$DJ8244,1,Sheet3!$C$1)","v":0},{"$f":"+IF(Sheet3!$C$1=1,IF(DN8244<3,0,1),1)","v":0}]
[null,null,null,null,null,null,null,null,null,null,null,null,null,null,null,null,null,null,null,null,null,null,null,null,null,null,null,null,null,null,null,null,null,null,null,null,null,null,null,null,null,null,null,null,null,null,null,null,null,null,null,null,null,null,null,null,null,null,null,null,null,null,null,null,null,null,null,null,null,null,null,null,null,null,null,null,null,null,null,null,null,null,null,null,null,null,null,null,null,null,null,null,null,null,null,null,null,null,null,null,null,null,null,null,null,null,null,null,null,null,null,null,null,null,null,null,0,{"$f":"+INDEX($F8245:$DJ8245,1,Sheet3!$C$1)","v":0},{"$f":"+IF(Sheet3!$C$1=1,IF(DN8245<3,0,1),1)","v":0}]
[null,null,null,null,null,null,null,null,null,null,null,null,null,null,null,null,null,null,null,null,null,null,null,null,null,null,null,null,null,null,null,null,null,null,null,null,null,null,null,null,null,null,null,null,null,null,null,null,null,null,null,null,null,null,null,null,null,null,null,null,null,null,null,null,null,null,null,null,null,null,null,null,null,null,null,null,null,null,null,null,null,null,null,null,null,null,null,null,null,null,null,null,null,null,null,null,null,null,null,null,null,null,null,null,null,null,null,null,null,null,null,null,null,null,null,null,0,{"$f":"+INDEX($F8246:$DJ8246,1,Sheet3!$C$1)","v":0},{"$f":"+IF(Sheet3!$C$1=1,IF(DN8246<3,0,1),1)","v":0}]
[null,null,null,null,null,null,null,null,null,null,null,null,null,null,null,null,null,null,null,null,null,null,null,null,null,null,null,null,null,null,null,null,null,null,null,null,null,null,null,null,null,null,null,null,null,null,null,null,null,null,null,null,null,null,null,null,null,null,null,null,null,null,null,null,null,null,null,null,null,null,null,null,null,null,null,null,null,null,null,null,null,null,null,null,null,null,null,null,null,null,null,null,null,null,null,null,null,null,null,null,null,null,null,null,null,null,null,null,null,null,null,null,null,null,null,null,0,{"$f":"+INDEX($F8247:$DJ8247,1,Sheet3!$C$1)","v":0},{"$f":"+IF(Sheet3!$C$1=1,IF(DN8247<3,0,1),1)","v":0}]
[null,null,null,null,null,null,null,null,null,null,null,null,null,null,null,null,null,null,null,null,null,null,null,null,null,null,null,null,null,null,null,null,null,null,null,null,null,null,null,null,null,null,null,null,null,null,null,null,null,null,null,null,null,null,null,null,null,null,null,null,null,null,null,null,null,null,null,null,null,null,null,null,null,null,null,null,null,null,null,null,null,null,null,null,null,null,null,null,null,null,null,null,null,null,null,null,null,null,null,null,null,null,null,null,null,null,null,null,null,null,null,null,null,null,null,null,0,{"$f":"+INDEX($F8248:$DJ8248,1,Sheet3!$C$1)","v":0},{"$f":"+IF(Sheet3!$C$1=1,IF(DN8248<3,0,1),1)","v":0}]
[null,null,null,null,null,null,null,null,null,null,null,null,null,null,null,null,null,null,null,null,null,null,null,null,null,null,null,null,null,null,null,null,null,null,null,null,null,null,null,null,null,null,null,null,null,null,null,null,null,null,null,null,null,null,null,null,null,null,null,null,null,null,null,null,null,null,null,null,null,null,null,null,null,null,null,null,null,null,null,null,null,null,null,null,null,null,null,null,null,null,null,null,null,null,null,null,null,null,null,null,null,null,null,null,null,null,null,null,null,null,null,null,null,null,null,null,0,{"$f":"+INDEX($F8249:$DJ8249,1,Sheet3!$C$1)","v":0},{"$f":"+IF(Sheet3!$C$1=1,IF(DN8249<3,0,1),1)","v":0}]
[null,null,null,null,null,null,null,null,null,null,null,null,null,null,null,null,null,null,null,null,null,null,null,null,null,null,null,null,null,null,null,null,null,null,null,null,null,null,null,null,null,null,null,null,null,null,null,null,null,null,null,null,null,null,null,null,null,null,null,null,null,null,null,null,null,null,null,null,null,null,null,null,null,null,null,null,null,null,null,null,null,null,null,null,null,null,null,null,null,null,null,null,null,null,null,null,null,null,null,null,null,null,null,null,null,null,null,null,null,null,null,null,null,null,null,null,0,{"$f":"+INDEX($F8250:$DJ8250,1,Sheet3!$C$1)","v":0},{"$f":"+IF(Sheet3!$C$1=1,IF(DN8250<3,0,1),1)","v":0}]
[null,null,null,null,null,null,null,null,null,null,null,null,null,null,null,null,null,null,null,null,null,null,null,null,null,null,null,null,null,null,null,null,null,null,null,null,null,null,null,null,null,null,null,null,null,null,null,null,null,null,null,null,null,null,null,null,null,null,null,null,null,null,null,null,null,null,null,null,null,null,null,null,null,null,null,null,null,null,null,null,null,null,null,null,null,null,null,null,null,null,null,null,null,null,null,null,null,null,null,null,null,null,null,null,null,null,null,null,null,null,null,null,null,null,null,null,0,{"$f":"+INDEX($F8251:$DJ8251,1,Sheet3!$C$1)","v":0},{"$f":"+IF(Sheet3!$C$1=1,IF(DN8251<3,0,1),1)","v":0}]
[null,null,null,null,null,null,null,null,null,null,null,null,null,null,null,null,null,null,null,null,null,null,null,null,null,null,null,null,null,null,null,null,null,null,null,null,null,null,null,null,null,null,null,null,null,null,null,null,null,null,null,null,null,null,null,null,null,null,null,null,null,null,null,null,null,null,null,null,null,null,null,null,null,null,null,null,null,null,null,null,null,null,null,null,null,null,null,null,null,null,null,null,null,null,null,null,null,null,null,null,null,null,null,null,null,null,null,null,null,null,null,null,null,null,null,null,0,{"$f":"+INDEX($F8252:$DJ8252,1,Sheet3!$C$1)","v":0},{"$f":"+IF(Sheet3!$C$1=1,IF(DN8252<3,0,1),1)","v":0}]
[null,null,null,null,null,null,null,null,null,null,null,null,null,null,null,null,null,null,null,null,null,null,null,null,null,null,null,null,null,null,null,null,null,null,null,null,null,null,null,null,null,null,null,null,null,null,null,null,null,null,null,null,null,null,null,null,null,null,null,null,null,null,null,null,null,null,null,null,null,null,null,null,null,null,null,null,null,null,null,null,null,null,null,null,null,null,null,null,null,null,null,null,null,null,null,null,null,null,null,null,null,null,null,null,null,null,null,null,null,null,null,null,null,null,null,null,0,{"$f":"+INDEX($F8253:$DJ8253,1,Sheet3!$C$1)","v":0},{"$f":"+IF(Sheet3!$C$1=1,IF(DN8253<3,0,1),1)","v":0}]
[null,null,null,null,null,null,null,null,null,null,null,null,null,null,null,null,null,null,null,null,null,null,null,null,null,null,null,null,null,null,null,null,null,null,null,null,null,null,null,null,null,null,null,null,null,null,null,null,null,null,null,null,null,null,null,null,null,null,null,null,null,null,null,null,null,null,null,null,null,null,null,null,null,null,null,null,null,null,null,null,null,null,null,null,null,null,null,null,null,null,null,null,null,null,null,null,null,null,null,null,null,null,null,null,null,null,null,null,null,null,null,null,null,null,null,null,0,{"$f":"+INDEX($F8254:$DJ8254,1,Sheet3!$C$1)","v":0},{"$f":"+IF(Sheet3!$C$1=1,IF(DN8254<3,0,1),1)","v":0}]
[null,null,null,null,null,null,null,null,null,null,null,null,null,null,null,null,null,null,null,null,null,null,null,null,null,null,null,null,null,null,null,null,null,null,null,null,null,null,null,null,null,null,null,null,null,null,null,null,null,null,null,null,null,null,null,null,null,null,null,null,null,null,null,null,null,null,null,null,null,null,null,null,null,null,null,null,null,null,null,null,null,null,null,null,null,null,null,null,null,null,null,null,null,null,null,null,null,null,null,null,null,null,null,null,null,null,null,null,null,null,null,null,null,null,null,null,0,{"$f":"+INDEX($F8255:$DJ8255,1,Sheet3!$C$1)","v":0},{"$f":"+IF(Sheet3!$C$1=1,IF(DN8255<3,0,1),1)","v":0}]
[null,null,null,null,null,null,null,null,null,null,null,null,null,null,null,null,null,null,null,null,null,null,null,null,null,null,null,null,null,null,null,null,null,null,null,null,null,null,null,null,null,null,null,null,null,null,null,null,null,null,null,null,null,null,null,null,null,null,null,null,null,null,null,null,null,null,null,null,null,null,null,null,null,null,null,null,null,null,null,null,null,null,null,null,null,null,null,null,null,null,null,null,null,null,null,null,null,null,null,null,null,null,null,null,null,null,null,null,null,null,null,null,null,null,null,null,0,{"$f":"+INDEX($F8256:$DJ8256,1,Sheet3!$C$1)","v":0},{"$f":"+IF(Sheet3!$C$1=1,IF(DN8256<3,0,1),1)","v":0}]
[null,null,null,null,null,null,null,null,null,null,null,null,null,null,null,null,null,null,null,null,null,null,null,null,null,null,null,null,null,null,null,null,null,null,null,null,null,null,null,null,null,null,null,null,null,null,null,null,null,null,null,null,null,null,null,null,null,null,null,null,null,null,null,null,null,null,null,null,null,null,null,null,null,null,null,null,null,null,null,null,null,null,null,null,null,null,null,null,null,null,null,null,null,null,null,null,null,null,null,null,null,null,null,null,null,null,null,null,null,null,null,null,null,null,null,null,0,{"$f":"+INDEX($F8257:$DJ8257,1,Sheet3!$C$1)","v":0},{"$f":"+IF(Sheet3!$C$1=1,IF(DN8257<3,0,1),1)","v":0}]
[null,null,null,null,null,null,null,null,null,null,null,null,null,null,null,null,null,null,null,null,null,null,null,null,null,null,null,null,null,null,null,null,null,null,null,null,null,null,null,null,null,null,null,null,null,null,null,null,null,null,null,null,null,null,null,null,null,null,null,null,null,null,null,null,null,null,null,null,null,null,null,null,null,null,null,null,null,null,null,null,null,null,null,null,null,null,null,null,null,null,null,null,null,null,null,null,null,null,null,null,null,null,null,null,null,null,null,null,null,null,null,null,null,null,null,null,0,{"$f":"+INDEX($F8258:$DJ8258,1,Sheet3!$C$1)","v":0},{"$f":"+IF(Sheet3!$C$1=1,IF(DN8258<3,0,1),1)","v":0}]
[null,null,null,null,null,null,null,null,null,null,null,null,null,null,null,null,null,null,null,null,null,null,null,null,null,null,null,null,null,null,null,null,null,null,null,null,null,null,null,null,null,null,null,null,null,null,null,null,null,null,null,null,null,null,null,null,null,null,null,null,null,null,null,null,null,null,null,null,null,null,null,null,null,null,null,null,null,null,null,null,null,null,null,null,null,null,null,null,null,null,null,null,null,null,null,null,null,null,null,null,null,null,null,null,null,null,null,null,null,null,null,null,null,null,null,null,{"$f":"+DN8259*DO8259","v":0},{"$f":"+INDEX($F8259:$DJ8259,1,Sheet3!$C$1)","v":0},{"$f":"+IF(Sheet3!$C$1=1,IF(DN8259<3,0,1),1)","v":0}]
[null,null,null,null,null,null,null,null,null,null,null,null,null,null,null,null,null,null,null,null,null,null,null,null,null,null,null,null,null,null,null,null,null,null,null,null,null,null,null,null,null,null,null,null,null,null,null,null,null,null,null,null,null,null,null,null,null,null,null,null,null,null,null,null,null,null,null,null,null,null,null,null,null,null,null,null,null,null,null,null,null,null,null,null,null,null,null,null,null,null,null,null,null,null,null,null,null,null,null,null,null,null,null,null,null,null,null,null,null,null,null,null,null,null,null,null,0,{"$f":"+INDEX($F8260:$DJ8260,1,Sheet3!$C$1)","v":0},{"$f":"+IF(Sheet3!$C$1=1,IF(DN8260<3,0,1),1)","v":0}]
[null,null,null,null,null,null,null,null,null,null,null,null,null,null,null,null,null,null,null,null,null,null,null,null,null,null,null,null,null,null,null,null,null,null,null,null,null,null,null,null,null,null,null,null,null,null,null,null,null,null,null,null,null,null,null,null,null,null,null,null,null,null,null,null,null,null,null,null,null,null,null,null,null,null,null,null,null,null,null,null,null,null,null,null,null,null,null,null,null,null,null,null,null,null,null,null,null,null,null,null,null,null,null,null,null,null,null,null,null,null,null,null,null,null,null,null,0,{"$f":"+INDEX($F8261:$DJ8261,1,Sheet3!$C$1)","v":0},{"$f":"+IF(Sheet3!$C$1=1,IF(DN8261<3,0,1),1)","v":0}]
[null,null,null,null,null,null,null,null,null,null,null,null,null,null,null,null,null,null,null,null,null,null,null,null,null,null,null,null,null,null,null,null,null,null,null,null,null,null,null,null,null,null,null,null,null,null,null,null,null,null,null,null,null,null,null,null,null,null,null,null,null,null,null,null,null,null,null,null,null,null,null,null,null,null,null,null,null,null,null,null,null,null,null,null,null,null,null,null,null,null,null,null,null,null,null,null,null,null,null,null,null,null,null,null,null,null,null,null,null,null,null,null,null,null,null,null,0,{"$f":"+INDEX($F8262:$DJ8262,1,Sheet3!$C$1)","v":0},{"$f":"+IF(Sheet3!$C$1=1,IF(DN8262<3,0,1),1)","v":0}]
[null,null,null,null,null,null,null,null,null,null,null,null,null,null,null,null,null,null,null,null,null,null,null,null,null,null,null,null,null,null,null,null,null,null,null,null,null,null,null,null,null,null,null,null,null,null,null,null,null,null,null,null,null,null,null,null,null,null,null,null,null,null,null,null,null,null,null,null,null,null,null,null,null,null,null,null,null,null,null,null,null,null,null,null,null,null,null,null,null,null,null,null,null,null,null,null,null,null,null,null,null,null,null,null,null,null,null,null,null,null,null,null,null,null,null,null,0,{"$f":"+INDEX($F8263:$DJ8263,1,Sheet3!$C$1)","v":0},{"$f":"+IF(Sheet3!$C$1=1,IF(DN8263<3,0,1),1)","v":0}]
[null,null,null,null,null,null,null,null,null,null,null,null,null,null,null,null,null,null,null,null,null,null,null,null,null,null,null,null,null,null,null,null,null,null,null,null,null,null,null,null,null,null,null,null,null,null,null,null,null,null,null,null,null,null,null,null,null,null,null,null,null,null,null,null,null,null,null,null,null,null,null,null,null,null,null,null,null,null,null,null,null,null,null,null,null,null,null,null,null,null,null,null,null,null,null,null,null,null,null,null,null,null,null,null,null,null,null,null,null,null,null,null,null,null,null,null,0,{"$f":"+INDEX($F8264:$DJ8264,1,Sheet3!$C$1)","v":0},{"$f":"+IF(Sheet3!$C$1=1,IF(DN8264<3,0,1),1)","v":0}]
[null,null,null,null,null,null,null,null,null,null,null,null,null,null,null,null,null,null,null,null,null,null,null,null,null,null,null,null,null,null,null,null,null,null,null,null,null,null,null,null,null,null,null,null,null,null,null,null,null,null,null,null,null,null,null,null,null,null,null,null,null,null,null,null,null,null,null,null,null,null,null,null,null,null,null,null,null,null,null,null,null,null,null,null,null,null,null,null,null,null,null,null,null,null,null,null,null,null,null,null,null,null,null,null,null,null,null,null,null,null,null,null,null,null,null,null,0,{"$f":"+INDEX($F8265:$DJ8265,1,Sheet3!$C$1)","v":0},{"$f":"+IF(Sheet3!$C$1=1,IF(DN8265<3,0,1),1)","v":0}]
[null,null,null,null,null,null,null,null,null,null,null,null,null,null,null,null,null,null,null,null,null,null,null,null,null,null,null,null,null,null,null,null,null,null,null,null,null,null,null,null,null,null,null,null,null,null,null,null,null,null,null,null,null,null,null,null,null,null,null,null,null,null,null,null,null,null,null,null,null,null,null,null,null,null,null,null,null,null,null,null,null,null,null,null,null,null,null,null,null,null,null,null,null,null,null,null,null,null,null,null,null,null,null,null,null,null,null,null,null,null,null,null,null,null,null,null,0,{"$f":"+INDEX($F8266:$DJ8266,1,Sheet3!$C$1)","v":0},{"$f":"+IF(Sheet3!$C$1=1,IF(DN8266<3,0,1),1)","v":0}]
[null,null,null,null,null,null,null,null,null,null,null,null,null,null,null,null,null,null,null,null,null,null,null,null,null,null,null,null,null,null,null,null,null,null,null,null,null,null,null,null,null,null,null,null,null,null,null,null,null,null,null,null,null,null,null,null,null,null,null,null,null,null,null,null,null,null,null,null,null,null,null,null,null,null,null,null,null,null,null,null,null,null,null,null,null,null,null,null,null,null,null,null,null,null,null,null,null,null,null,null,null,null,null,null,null,null,null,null,null,null,null,null,null,null,null,null,0,{"$f":"+INDEX($F8267:$DJ8267,1,Sheet3!$C$1)","v":0},{"$f":"+IF(Sheet3!$C$1=1,IF(DN8267<3,0,1),1)","v":0}]
[null,null,null,null,null,null,null,null,null,null,null,null,null,null,null,null,null,null,null,null,null,null,null,null,null,null,null,null,null,null,null,null,null,null,null,null,null,null,null,null,null,null,null,null,null,null,null,null,null,null,null,null,null,null,null,null,null,null,null,null,null,null,null,null,null,null,null,null,null,null,null,null,null,null,null,null,null,null,null,null,null,null,null,null,null,null,null,null,null,null,null,null,null,null,null,null,null,null,null,null,null,null,null,null,null,null,null,null,null,null,null,null,null,null,null,null,0,{"$f":"+INDEX($F8268:$DJ8268,1,Sheet3!$C$1)","v":0},{"$f":"+IF(Sheet3!$C$1=1,IF(DN8268<3,0,1),1)","v":0}]
[null,null,null,null,null,null,null,null,null,null,null,null,null,null,null,null,null,null,null,null,null,null,null,null,null,null,null,null,null,null,null,null,null,null,null,null,null,null,null,null,null,null,null,null,null,null,null,null,null,null,null,null,null,null,null,null,null,null,null,null,null,null,null,null,null,null,null,null,null,null,null,null,null,null,null,null,null,null,null,null,null,null,null,null,null,null,null,null,null,null,null,null,null,null,null,null,null,null,null,null,null,null,null,null,null,null,null,null,null,null,null,null,null,null,null,null,0,{"$f":"+INDEX($F8269:$DJ8269,1,Sheet3!$C$1)","v":0},{"$f":"+IF(Sheet3!$C$1=1,IF(DN8269<3,0,1),1)","v":0}]
[null,null,null,null,null,null,null,null,null,null,null,null,null,null,null,null,null,null,null,null,null,null,null,null,null,null,null,null,null,null,null,null,null,null,null,null,null,null,null,null,null,null,null,null,null,null,null,null,null,null,null,null,null,null,null,null,null,null,null,null,null,null,null,null,null,null,null,null,null,null,null,null,null,null,null,null,null,null,null,null,null,null,null,null,null,null,null,null,null,null,null,null,null,null,null,null,null,null,null,null,null,null,null,null,null,null,null,null,null,null,null,null,null,null,null,null,0,{"$f":"+INDEX($F8270:$DJ8270,1,Sheet3!$C$1)","v":0},{"$f":"+IF(Sheet3!$C$1=1,IF(DN8270<3,0,1),1)","v":0}]

{"sheet":"Ajuda","index":9,"n_rows":234,"n_cols":16,"rows_kept":234,"cut":false,"hidden":true,"merged":[[23,2,23,5],[208,5,208,6],[208,2,209,4],[199,2,199,3],[199,4,199,5],[200,2,200,3],[200,4,200,5],[204,2,204,3],[204,4,204,5],[202,2,202,3],[202,4,202,5],[203,2,203,3],[203,4,203,5],[201,2,201,3],[201,4,201,5],[137,4,137,6],[137,2,137,3],[134,2,134,3],[136,2,136,3],[134,4,134,6],[135,4,135,6],[136,4,136,6],[219,2,226,2],[228,2,232,2],[209,5,209,6],[138,2,138,3],[139,2,139,3],[140,2,140,3],[211,2,218,2],[138,4,138,6],[140,4,140,6],[139,4,139,6],[145,2,152,2],[153,2,160,2],[162,2,166,2]]}
[]
[null,null,null,null,null,null,null,null,null,null,null,null,null,null,null,"Fonte:"]
[]
[]
[null,"Classes de Dimensão"]
[null,"Variáveis disponíveis"]
[null,"Grandes Orientações Produtivas"]
[null,"Mapa das NUTS"]
[null,"Alguns conceitos"]
[null,"Estrutura da Base de Dados"]
[]
[null,"Intervalos considerados nas três classificações associadas à Dimensão "]
[]
[null,null,null,null,"Dimensão económica","Dimensão física","Dimensão - Valor global de \nAjudas Diretas recebidas"]
[null,null,"Classes","Descritivo","Classe de DE","Classe de Superfície Agrícola (elegível)","Classe de AD"]
[null,null,"MP","Muito Pequenas","< 4 000 € de VPP","< 4 ha","<  1250 €"]
[null,null,"P","Pequenas",">= 4 000 e < 25 000 € de VPP",">= 4  e < 25 ha",">= 1 250 e < 5 000 €"]
[null,null,"M","Médias",">= 25 000 e < 100 000 € de VPP",">= 25  e < 200 ha",">= 5 000 e < 50 000 €"]
[null,null,"G","Grandes",">= 100 000 e < 500 000 € de VPP","= 200  e < 1 000 ha",">= 50 000 e < 300 000 €"]
[null,null,"MG","Muito Grandes",">= 500 000  € de VPP",">= 1 000 ha",">= 300 000 €"]
[]
[null,"Variáveis disponíveis"]
[]
[null,null,"Listagem de variáveis ordenada por tipos afins",null,null,null,"Unidade"]
[null,null,"(1) - Nº de Beneficiários",null,null,null,"Nº "]
[null,null,"(2) - Valor de Produção Padrão",null,null,null,"1000 €"]
[null,null,"(3) - Superfície Elegível (inclui Superfície Agrícola e Agro-Florestal Elegível)",null,null,null,"ha"]
[null,null,"(3a) - Nº de Direitos de RPB",null,null,null,"Nº "]
[null,null,"(3b) - Montante Global dos Direitos de RPB",null,null,null,"1000 €"]
[null,null,"(3c) - Superfície Agrícola (inc. Pastagens arbustivas)",null,null,null,"ha"]
[null,null,"(4) - Superfície Agrícola de Regadio",null,null,null,"ha"]
[null,null,"(5) - Culturas Temporárias",null,null,null,"ha"]
[null,null,"(5a) - Culturas Arvenses e Indústriais de sequeiro",null,null,null,"ha"]
[null,null,"(5b) - Culturas Arvenses e Indústriais de regadio",null,null,null,"ha"]
[null,null,"(6) - Superfície Forrageira Temporária",null,null,null,"ha"]
[null,null,"(7) - Superfície de Pousio",null,null,null,"ha"]
[null,null,"(8) - Culturas Permanentes",null,null,null,"ha"]
[null,null,"(9) - Superfície de Pastagens Permanentes",null,null,null,"ha"]
[null,null,"(9a) - Superfície de Pastagens com encabeçamento inferior a 0,2CN/ha de PP",null,null,null,"ha"]
[null,null,"(10) - Nº de Cabeças Normais (Cn) de Herbívoros",null,null,null,"CN"]
[null,null,"(11) - Nº de Cabeças Normais (Cn) Totais",null,null,null,"CN"]
[null,null,"(12) - Superfície Agrícola Declarada para Activar Direitos de RPB",null,null,null,"ha"]
[null,null,"(13) - Superfície Agrícola Declarada para Medidas Agroambientais",null,null,null,"ha"]
[null,null,"(14) - Superfície Agrícola Declarada para MZDs",null,null,null,"ha"]
[null,null,"(15) - Montante Total das AD 1º Pilar (16+22)",null,null,null,"1000 €"]
[null,null,"    (16) - Total de pagamentos desligados (17+18+21+21a)",null,null,null,"1000 €"]
[null,null,"        (17) - Montante Regime Pequena Agricultura",null,null,null,"1000 €"]
[null,null,"        (18) - Regime Pagamento Base (RPB) [(19)+(20)]",null,null,null,"1000 €"]
[null,null,"            (19) - RPB normal",null,null,null,"1000 €"]
[null,null,"            (20) - RPB Jovens agricultores",null,null,null,"1000 €"]
[null,null,"        (21) - Pagamento por Práticas Agrícolas Benéficas para o Ambiente (Greening)",null,null,null,"1000 €"]
[null,null,"        (21a) - Pagamento Redistributivo",null,null,null,"1000 €"]
[null,null,"     (22) - Total de pagamentos ligados (23+…..+28)",null,null,null,"1000 €"]
[null,null,"        (23) - Prémio às vacas em aleitamento",null,null,null,"1000 €"]
[null,null,"        (24) - Prémio aos ovinos e caprinos",null,null,null,"1000 €"]
[null,null,"        (25) - Prémio à vaca leiteira",null,null,null,"1000 €"]
[null,null,"        (26) - Apoio Específico aos produtores de Leite (Medida 1 e 2) 2016",null,null,null,"1000 €"]
[null,null,"        (27) - Pagamento Específico por superfície ao tomate ",null,null,null,"1000 €"]
[null,null,"        (28) - Pagamento Específico por superfície ao arroz",null,null,null,"1000 €"]
[null,null,"(29) - Total de Pagamentos Superfície Desenvolvimento Rural ((30)+(34))",null,null,null,"1000 €"]
[null,null,"      (30) - Medida Zonas Desfavorecidas (MZD)",null,null,null,"1000 €"]
[null,null,"            (31) - Zona Condicionantes Específicas",null,null,null,"1000 €"]
[null,null,"            (32) - Zona Condicionantes Naturais",null,null,null,"1000 €"]
[null,null,"            (33) - Zona De Montanha",null,null,null,"1000 €"]
[null,null,"      (34) - Medidas Agroambientais",null,null,null,"1000 €"]
[null,null,"            (35) - Maa-Agric.Biológica - Conv",null,null,null,"1000 €"]
[null,null,"            (36) - Maa-Agric.Biológica - Manut",null,null,null,"1000 €"]
[null,null,"            (37) - Apoio Agroambiental À Apicultura",null,null,null,"1000 €"]
[null,null,"            (38) - Maa - Douro Vinhateiro",null,null,null,"1000 €"]
[null,null,"            (39) - Culturas Permanentes Tradicionais",null,null,null,"1000 €"]
[null,null,"            (40) - Maa-Conservação Solo-Enr.Entr",null,null,null,"1000 €"]
[null,null,"            (41) - Maa-Conservação Solo-Sem Dir",null,null,null,"1000 €"]
[null,null,"            (42) - Mosaico Agroflorestal",null,null,null,"1000 €"]
[null,null,"            (43) - Maa - Soutos Notáveis",null,null,null,"1000 €"]
[null,null,"            (44) - Maa - Produçao Integrada",null,null,null,"1000 €"]
[null,null,"            (45) - Maa - Az Peneda/Gerês",null,null,null,"1000 €"]
[null,null,"            (46) - Maa - Manut. Socalcos",null,null,null,"1000 €"]
[null,null,"            (47) - Maa - Lameiros De Regadio",null,null,null,"1000 €"]
[null,null,"            (48) - Maa - Lameiros De Sequeiro",null,null,null,"1000 €"]
[null,null,"            (49) - Maa - Pastoreio Extensivo Ii",null,null,null,"1000 €"]
[null,null,"            (50) - Maa - Pastoreio Extensivo Iii",null,null,null,"1000 €"]
[null,null,"            (51) - Maa - Rot. De Seq Iii",null,null,null,"1000 €"]
[null,null,"            (52) - Maa - Rot. De Seq Ii",null,null,null,"1000 €"]
[null,null,"            (53) - Raças",null,null,null,"1000 €"]
[null,null,"            (54) - Maa - Rot. De Seq I",null,null,null,"1000 €"]
[null,null,"            (55) - Uso Eficiente Da Água Na Agricultura",null,null,null,"1000 €"]
[null,null,"            (56) - Pagamentos Natura",null,null,null,"1000 €"]
[null,null,"(57) - Total de Pagamentos aos Produtores (15+29)",null,null,null,"1000 €"]
[null,null,"(58) - Superfície de Cereais De Outono-Inverno",null,null,null,"ha"]
[null,null,"(59) - Superfície de Milho Grão; ",null,null,null,"ha"]
[null,null,"(60) - Superfície de Arroz; ",null,null,null,"ha"]
[null,null,"(61) - Superfície de Oleaginosas E Proteaginosas; ",null,null,null,"ha"]
[null,null,"(62) - Superfície de Hortícolas, Batata, Plantas E Flores; ",null,null,null,"ha"]
[null,null,"(63) - Superfície de Forragens E Prados Temporários; ",null,null,null,"ha"]
[null,null,"(64) - Superfície de Pousios; ",null,null,null,"ha"]
[null,null,"(65) - Superfície de Pomares; ",null,null,null,"ha"]
[null,null,"(66) - Superfície de Vinha; ",null,null,null,"ha"]
[null,null,"(67) - Superfície de Olival; ",null,null,null,"ha"]
[null,null,"(68) - Superfície de Prados E Pastagens Permanentes; ",null,null,null,"ha"]
[null,null,"(69) - Cabeças de Vacas Leiteiras",null,null,null,"Cab."]
[null,null,"(70) - Cabeças de Vacas Aleitantes",null,null,null,"Cab."]
[null,null,"(71) - Cabeças de Outros Bovinos",null,null,null,"Cab."]
[null,null,"(72) - Cabeças de Ovelhas",null,null,null,"Cab."]
[null,null,"(73) - Cabeças de Outros Ovinos",null,null,null,"Cab."]
[null,null,"(74) - Cabeças de Cabras",null,null,null,"Cab."]
[null,null,"(75) - Cabeças de Outros Caprinos",null,null,null,"Cab."]
[null,null,"(76) - Número de Produtores Maa - Produçao Integrada",null,null,null,"Nº "]
[null,null,"(77) - SA Declarada para Maa - Produçao Integrada",null,null,null,"ha"]
[null,null,"(78) - Número de Produtores Maa-Agric.Biológica - Conv",null,null,null,"Nº "]
[null,null,"(79) - SA Declarada para Maa-Agric.Biológica - Conv",null,null,null,"ha"]
[null,null,"(80) - Número de Produtores Maa-Agric.Biológica - Manut",null,null,null,"Nº "]
[null,null,"(81) - SA Declarada para Maa-Agric.Biológica - Manut",null,null,null,"ha"]
[null,null,"(82) - Número de Produtores Uso Eficiente Da Água Na Agricultura",null,null,null,"Nº "]
[null,null,"(83) - SA Declarada para Uso Eficiente Da Água Na Agricultura",null,null,null,"ha"]
[null,null,"(84) - Número de Produtores Culturas Permanentes Tradicionais",null,null,null,"Nº "]
[null,null,"(85) - SA Declarada para Culturas Permanentes Tradicionais",null,null,null,"ha"]
[null,null,"(86) - Número de Produtores Maa-Conservação Solo-Sem Dir",null,null,null,"Nº "]
[null,null,"(87) - SA Declarada para Maa-Conservação Solo-Sem Dir",null,null,null,"ha"]
[null,null,"(88) - Número de Produtores Maa-Conservação Solo-Enr.Entr",null,null,null,"Nº "]
[null,null,"(89) - SA Declarada para Maa-Conservação Solo-Enr.Entr",null,null,null,"ha"]
[null,null,"(90) - Número de Produtores Maa - Lameiros De Sequeiro",null,null,null,"Nº "]
[null,null,"(91) - SA Declarada para Maa - Lameiros De Sequeiro",null,null,null,"ha"]
[null,null,"(92) - Número de Produtores Maa - Lameiros De Regadio",null,null,null,"Nº "]
[null,null,"(93) - SA Declarada para Maa - Lameiros De Regadio",null,null,null,"ha"]
[null,null,"(94) - Número de Produtores Maa - Pastoreio Extensivo Ii",null,null,null,"Nº "]
[null,null,"(95) - SA Declarada para Maa - Pastoreio Extensivo Ii",null,null,null,"ha"]
[null,null,"(96) - Número de Produtores Maa - Pastoreio Extensivo Iii",null,null,null,"Nº "]
[null,null,"(97) - SA Declarada para Maa - Pastoreio Extensivo Iii",null,null,null,"ha"]
[]
[]
[]
[]
[null,"Grandes Orientações Produtivas"]
[]
[null,null,"GOP",null,"OTE incluídas"]
[null,null,"Grandes Culturas (Arvenses e Industriais)",null,"Arvenses e Outras Culturas predominantemente de Regadio; Arvenses e Outras Culturas predominantemente de Sequeiro; Arroz; Horticultura e Industriais; Tomate Indústria; Plantas tuberosas"]
[null,null,"Horticultura Intensiva",null,"Horticultura e Floricultura"]
[null,null,"Culturas Permanentes",null,"Vinhos; Fruticultura; Olival"]
[null,null,"Leite",null,"Bovinos Leite"]
[null,null,"Outros herbívoros",null,"Bovinos Carne predominantemente Intensivos; Bovinos Carne predominantemente Extensivos; Outros Ruminantes"]
[null,null,"Mistas",null,"Não classificadas; Policultura; Mistas; Pousio e Pastagem"]
[]
[null,"Mapa das NUTS"]
[]
[null,null,"NUTS II","Código NUTS III","NUTS III"]
[null,null,"Norte ",111,"Alto Minho"]
[null,null,null,112,"Cávado"]
[null,null,null,119,"Ave"]
[null,null,null,"11A","Área Metropolitana do Porto"]
[null,null,null,"11B","Alto Tâmega"]
[null,null,null,"11C","Tâmega e Sousa"]
[null,null,null,"11D","Douro"]
[null,null,null,"11E","Terras de Trás-os-Montes"]
[null,null,"Centro","16B","Oeste"]
[null,null,null,"16D","Região de Aveiro"]
[null,null,null,"16E","Região de Coimbra"]
[null,null,null,"16F","Região de Leiria"]
[null,null,null,"16G","Viseu Dão Lafões"]
[null,null,null,"16H","Beira Baixa"]
[null,null,null,"16I","Médio Tejo"]
[null,null,null,"16J","Beiras e Serra da Estrela"]
[null,null,"AML",170,"Área Metropolitana de Lisboa"]
[null,null,"Alentejo",181,"Alentejo Litoral"]
[null,null,null,184,"Baixo Alentejo"]
[null,null,null,185,"Lezíria do Tejo"]
[null,null,null,186,"Alto Alentejo"]
[null,null,null,187,"Alentejo Central"]
[null,null,"Algarve",150,"Algarve"]
[]
[]
[]
[]
[]
[]
[]
[]
[]
[]
[]
[]
[]
[]
[]
[]
[]
[]
[]
[]
[]
[]
[]
[]
[]
[]
[]
[]
[]
[]
[null,"Alguns conceitos"]
[null,null,"Conceito",null,"Descritivo",null,"Observações"]
[null,null,"VPP - Valores de Produção Padrão",null,"Valores médios de produção, para cada região agrária (7 DRA) e cada atividade (87 rubricas), determinados a partir de recolha de informação realizada pelas DRAPs e GPP de acordo com a regulamentação comunitária. ",null,"Reg. (CE) n.º 1242/2008"]
[null,null,"DE - Dimensão Económica ",null,"VPP total da exploração, expresso em euros, corresponde à soma dos valores obtidos para cada atividade, multiplicando os VPP pelo número de unidades existentes das atividades."]
[null,null,"OTE - Orientação Técnico-Económica",null,"Sistema de produção de uma exploração que se caracteriza pela contribuição relativa dos VPP das atividades para o VPP total da exploração "]
[null,null,"CN - Cabeça Normal",null,"Medida pecuária que relaciona os efetivos, convertidos em cabeças normais, em função das espécies e das idades, através de uma tabela de conversão em que um animal adulto da espécie bovina corresponde a 1 CN.",null,"INE - Conceitos"]
[null,null,"Localização da exploração agrícola",null,"Freguesia onde se situa a maior área declarada da exploração."]
[]
[null,"Estrutura da Base de Dados"]
[]
[null,null,"Em linha",null,null,"Em coluna"]
[null,null,null,null,null,"OTE por Classes de Dimensão    |    OTE    |    Classes de Dimensão"]
[null,null,"NUTS II","Código NUTS III","NUTS III","OTE","Dimensão"]
[null,null,"Norte ",111,"Alto Minho","Explorações não Classificadas","MP – muito pequenas"]
[null,null,null,112,"Cávado","Arvenses e Outras Cult pred. Regadio","P – pequenas"]
[null,null,null,119,"Ave","Arvenses e Outras Cult pred. Sequeiro","M – médias"]
[null,null,null,"11A","Área Metropolitana do Porto","Arroz","G – grandes"]
[null,null,null,"11B","Alto Tâmega","Horticultura e Industriais","MG – muito grandes"]
[null,null,null,"11C","Tâmega e Sousa","Horticultura e Floricultura"]
[null,null,null,"11D","Douro","Vinhos"]
[null,null,null,"11E","Terras de Trás-os-Montes","Fruticultura"]
[null,null,"Centro","16B","Oeste","Olival"]
[null,null,null,"16D","Região de Aveiro","Policultura"]
[null,null,null,"16E","Região de Coimbra","Bovinos Leite"]
[null,null,null,"16F","Região de Leiria","Bovinos Carne predomin. Intensivos"]
[null,null,null,"16G","Viseu Dão Lafões","Bovinos Carne predomin. Extensivos"]
[null,null,null,"16H","Beira Baixa","Outros Ruminantes"]
[null,null,null,"16I","Médio Tejo","Mistas"]
[null,null,null,"16J","Beiras e Serra da Estrela","Pousio e Pastagem"]
[null,null,"AML",170,"Área Metropolitana de Lisboa","Tomate Indústria"]
[null,null,"Alentejo",181,"Alentejo Litoral","Plantas tuberosas"]
[null,null,null,184,"Baixo Alentejo"]
[null,null,null,185,"Lezíria do Tejo"]
[null,null,null,186,"Alto Alentejo"]
[null,null,null,187,"Alentejo Central"]
[null,null,"Algarve",150,"Algarve"]

{"sheet":"EspecificacoesOTE","index":10,"n_rows":71,"n_cols":6,"rows_kept":71,"cut":false,"hidden":true,"merged":[[56,1,67,1],[33,2,38,2],[40,2,46,2],[48,2,49,2],[50,2,51,2],[52,2,55,2],[56,3,68,3],[69,3,70,3],[2,2,9,2],[10,2,14,2],[15,2,19,2],[22,2,29,2],[30,2,32,2],[2,3,9,3],[10,3,21,3],[22,3,29,3],[30,3,39,3],[40,3,46,3],[56,2,67,2],[2,1,9,1],[22,1,29,1],[40,1,46,1],[0,0,0,3],[48,3,55,3],[10,1,19,1],[30,1,32,1],[33,1,38,1],[48,1,51,1],[52,1,55,1]]}
["Agregação de OTE - Orientação Técnico-económica"]
["Descritivo das OTE","Classes OTE","Grupos OTE","GOP - Grande Orientação Produtiva"]
["Explorações não classificadas","Não classificadas","Não Classificadas","Mistas",null,""]
["Expl. especializadas em suínos para criação"]
["Expl. especializadas em suínos de engorda"]
["Expl. combinando criação e engorda de suínos"]
["Expl. espec. de galinhas poedeiras"]
["Expl. espec. em aves de carne"]
["Expl. combinados de galinhas poedeiras e aves de carne"]
["Expl. com diversas combinações de granívoros"]
["Explorações especializadas em cerealiculrura (exceto arroz), plantas oleaginosas e plantas proteínicas","Arvenses e Outras Culturas Extensivas","Arvenses e Outras Cult pred. Regadio","Grandes Culturas (Arvenses e Industriais)"]
["Explorações que combinam cereais, arroz, plantas oleaginosas e proteínicas"]
["Explorações de culturas de cereais e de plantas tuberosas combinadas"]
["Explorações especializadas em cultura de tabaco"]
["Explorações com combinação de diversas culturas arvenses"]
["Explorações especializadas em cerealiculrura (excepto arroz), plantas oleaginosas e plantas proteínicas",null,"Arvenses e Outras Cult pred. Sequeiro"]
["Explorações que combinam cereais, arroz, plantas oleaginosas e proteínicas"]
["Explorações de culturas de cereais e de plantas tuberosas combinadas"]
["Explorações especializadas em cultura de tabaco"]
["Explorações com combinação de diversas culturas arvenses"]
["Explorações especializadas orizícolas","Arroz","Arroz"]
["Explorações especializadas em horticultura extensiva","Horticultura e Industriais","Horticultura e Indústria"]
["Expl. espec. em hortícola sob coberto","Horticultura e Floricultura","Horticultura e Floricultura","Horticultura Intensiva"]
["Expl. espec. em floricultura e plantas ornamentais sob coberto"]
["Expl. espec. em horticultura mistas sob coberto"]
["Expl. espec. em horticultura ao ar lvre"]
["Expl. espec. em floricultura e cultura de plantas ornamentais ao ar livre"]
["Expl. espec. em horticultura mistas ao ar livre"]
["Expl. com viveiros especializados"]
["Explorações com diversas culturas hortícolas"]
["Expl. espec. vinícolas produtoras de vinhos de qualidade","Vinhos","Vinhos","Culturas Permanentes"]
["Expl. espec. vinícolas produtoras de vinhos comuns"]
["Outras explorações vitivinícolas"]
["Expl. espec. na produção de uva de mesa","Fruticultura","Fruticultura"]
["Expl. espec.frutícolas (com excepção dos citrinos, frutos tropicais e frutos de casca rija)"]
["Expl. espec. em citrinos"]
["Expl. espec. na produção de frutos secos"]
["Expl. frutícolas especializadas em frutos tropicais"]
["Expl. esp. que combinam a produção de citrinos, frutos tropicais e frutos de casca rija"]
["Expl. olivícolas especializadas","Olival","Olival"]
["Expl. com diversas combinações de culturas permanentes","Policultura","Policultura","Mistas"]
["Expl. combinando horticultura e culturas permanentes"]
["Expl. combinando culturas arvenses e horticultura"]
["Expl. combinando culturas arvenses e vinhas"]
["Expl. combinando culturas arvenses e culturas permanentes"]
["Expl. de policultura orientadas para culturas arvenses"]
["Outras explorações de policultura"]
["Expl. bovinas especializadas - orientação leite","Bovinos Leite","Bovinos Leite","Leite"]
["Expl. bovinas especializadas - orientação criação e carne","Bovinos Carne","Bovinos Carne Pred.  Intensivos","Outros herbívoros"]
["Expl. bovinas - leite, criação e carne combinadas"]
["Expl. bovinas especializadas - orientação criação e carne",null,"Bovinos Carne Pred.  Extensivos"]
["Expl. bovinas - leite, criação e carne combinadas"]
["Expl. com ovinos especializadas","Outros Ruminantes","Outros Ruminantes"]
["Expl. com ovinos e bovinos combinados"]
["Expl. com caprinos especializadas"]
["Expl. com diversos herbívoros"]
["Expl. de polipecuária orientadas para o leite","Mistas","Mistas","Mistas"]
["Expl. de polipecuária orientadas para os herbívoros não leiteiros"]
["Expl. de polipecuária: granívoros e bovinos leiteiros"]
["Expl. de polipecuária: granívoros e herbívoros não leiteiros"]
["Expl. mistas de culturas arvenses com bovinos leiteiros"]
["Expl. mistas de bovinos leiteiros com culturas arvenses"]
["Expl. mistas de culturas arvenses com herbívoros não leiteiros"]
["Expl. mistas de herbívoros não leiteiros com culturas arvenses"]
["Expl. mistas de culturas arvenses e granívoros"]
["Expl. mistas de culturas permanentes e herbívoros"]
["Expl. Apícolas"]
["Expl. com diversas culturas e criações mistas"]
["Explorações Especializadas em Pousio e Pastagem","Pousio e Pastagem","Pousio e Pastagem"]
["Explorações especializadas em Tomate Indústria","Tomate Indústria","Tomate Indústria","Grandes Culturas (Arvenses e Industriais)"]
["Explorações especializadas em cultura de plantas tuberosas","Plantas tuberosas","Plantas Tuberosas"]

{"sheet":"ClassesAnimais","index":11,"n_rows":23,"n_cols":3,"rows_kept":23,"cut":false,"hidden":true,"merged":[[2,5,9,5],[0,0,0,2]]}
["Tabela de conversão em CN - Cabeças Normais"]
["Classe de animais","Coeficiente CN","Herbívoros"]
["Vacas Leiteiras",1,1]
["Bovinos Fêmeas com mais de 2 Anos não leiteiras",1,1]
["Bovinos Fêmeas com menos de 6 meses",0.4,1]
["Bovinos Fêmeas de 6 Meses a 2 Anos",0.6,1]
["Bovinos Machos com mais de 2 Anos",1,1]
["Bovinos Machos com menos de 6 meses",0.4,1]
["Bovinos Machos de 6 Meses a 2 Anos",0.6,1]
["Caprinos Fêmeas com mais de 12 meses",0.15,1]
["Caprinos Femeas de 6 Meses a 12 Meses",0.15,1]
["Caprinos machos com mais de 12 meses",0.15,1]
["Colónias de Abelhas",0,0]
["Equídeos Fêmeas com mais de 6 meses",1,0]
["Equídeos Machos com mais de 6 meses",1,0]
["Galináceos",1.4E-2,0]
["Galinhas Poedeiras",1.4E-2,0]
["Outras Aves de Capoeira",0.03,0]
["Ovinos Fêmeas com mais de 12 Meses",0.15,1]
["Ovinos Femeas de 6 Meses a 12 Meses",0.15,1]
["Ovinos Machos com mais de 12 Meses",0.15,1]
["Porcas Reprodutoras (mais de 50 Kgs)",0.5,0]
["Outros Suínos (+3 meses)",0.3,0]